{"text_format":"1","workbook":"xlsx","n_sheets":5,"sheets":["Instructions","(1) Project Reference Item List","(2) Project Bill of Materials","(3) Matl. Acceptance Definition","2019 SBOM"],"not_rendered":{"charts":0,"images":0,"macros":1,"external_links":0,"defined_names":1,"comments":0,"pivot_tables":0},"unopened":[],"bounds":{"document_bytes":16777216,"sheet_cells":100000,"rows_first":2000,"rows_last":500,"rows_between":2000,"halvings":0,"cell_chars":16384,"cell_head_chars":4096},"cells_cut":0,"cells_raw":0,"read":"whole","date_system":"1900"}

{"sheet":"Instructions","index":0,"n_rows":19,"n_cols":2,"rows_kept":19,"cut":false,"hidden":false,"merged":[[0,1,1,1],[3,1,4,1],[10,1,11,1],[18,1,19,1],[14,1,15,1],[16,1,17,1],[12,1,13,1],[6,1,7,1],[8,1,9,1]]}
[null,"ODOT LPA PROJECT BILL OF MATERIALS SET UP GUIDE"]
[]
[]
[null,"INSTRUCTIONS"]
[]
[null,"Ensure Macros are Enabled for this Spreadsheet"]
[null,"1) Enter the required project information into the \"(1) Project Reference Item List\" tab.  Begin with Column A and \"Bid Item Numbers.\"  Continue filling in project specific information for Columns C and D, \"Reference Numbers\" and \"Bid Quantity.\""]
[]
[null,"          1A) Do not fill in Column B as it will prepopulate once information for Column A has been entered."]
[]
[null,"2) Select the \"(2) Project Bill of Materials\" tab and click on the \"CLICK HERE TO RUN PBOM\" button at the top of the page to populate your specific Project Bill of Materials.  "]
[]
[null,"          2A) Manually input data into the grey  \"Accepted Material Quantity to date - use Material Units\"  and  \"Placed/Paid Item Quantity to date - use Item Units\"  Columns (M and N respectively) to maintain a current Project Bill of Materials."]
[]
[null,"4) Tab \"(3) Matl. Acceptance Definition\" is the acceptance definitions/ explanations on materials."]
[]
[null,"5) Tab \"2016 Standard Bill of Materials\" is For Reference Only.  No data input required."]
[]
[null,"6) IMPORTANT: Never enter data into any of the Green Highlighted cells.  Green Highlighted cells contain formulas required to make the PBOM functional."]

{"sheet":"(1) Project Reference Item List","index":1,"n_rows":1000,"n_cols":4,"rows_kept":1000,"cut":false,"hidden":false,"merged":[]}
["Copy & Paste Project Bid Item Codes in Column A                                           ê","Bid Item Code","Reference Number","Bid Quantity"]
[null,{"$f":"TRIM(A2)","v":""}]
[null,{"$f":"TRIM(A3)","v":""}]
[null,""]
[null,""]
[null,""]
[null,""]
[null,""]
[null,""]
[null,""]
[null,""]
[null,""]
[null,""]
[null,""]
[null,""]
[null,""]
[null,""]
[null,""]
[null,""]
[null,""]
[null,""]
[null,""]
[null,""]
[null,""]
[null,""]
[null,""]
[null,""]
[null,""]
[null,""]
[null,""]
[null,""]
[null,""]
[null,""]
[null,""]
[null,""]
[null,""]
[null,""]
[null,""]
[null,""]
[null,""]
[null,""]
[null,""]
[null,""]
[null,""]
[null,""]
[null,""]
[null,""]
[null,""]
[null,""]
[null,""]
[null,""]
[null,""]
[null,""]
[null,""]
[null,""]
[null,""]
[null,""]
[null,""]
[null,""]
[null,""]
[null,""]
[null,""]
[null,""]
[null,""]
[null,""]
[null,""]
[null,{"$f":"TRIM(A67)","v":""}]
[null,""]
[null,""]
[null,""]
[null,""]
[null,""]
[null,""]
[null,""]
[null,""]
[null,""]
[null,""]
[null,""]
[null,""]
[null,""]
[null,""]
[null,""]
[null,""]
[null,""]
[null,""]
[null,""]
[null,""]
[null,""]
[null,""]
[null,""]
[null,""]
[null,""]
[null,""]
[null,""]
[null,""]
[null,""]
[null,""]
[null,""]
[null,""]
[null,""]
[null,""]
[null,""]
[null,""]
[null,""]
[null,""]
[null,""]
[null,""]
[null,""]
[null,""]
[null,""]
[null,""]
[null,""]
[null,""]
[null,""]
[null,""]
[null,""]
[null,""]
[null,""]
[null,""]
[null,""]
[null,""]
[null,""]
[null,""]
[null,""]
[null,""]
[null,""]
[null,""]
[null,""]
[null,""]
[null,""]
[null,{"$f":"TRIM(A131)","v":""}]
[null,""]
[null,""]
[null,""]
[null,""]
[null,""]
[null,""]
[null,""]
[null,""]
[null,""]
[null,""]
[null,""]
[null,""]
[null,""]
[null,""]
[null,""]
[null,""]
[null,""]
[null,""]
[null,""]
[null,""]
[null,""]
[null,""]
[null,""]
[null,""]
[null,""]
[null,""]
[null,""]
[null,""]
[null,""]
[null,""]
[null,""]
[null,""]
[null,""]
[null,""]
[null,""]
[null,""]
[null,""]
[null,""]
[null,""]
[null,""]
[null,""]
[null,""]
[null,""]
[null,""]
[null,""]
[null,""]
[null,""]
[null,""]
[null,""]
[null,""]
[null,""]
[null,""]
[null,""]
[null,""]
[null,""]
[null,""]
[null,""]
[null,""]
[null,""]
[null,""]
[null,""]
[null,""]
[null,""]
[null,{"$f":"TRIM(A195)","v":""}]
[null,""]
[null,""]
[null,""]
[null,""]
[null,""]
[null,""]
[null,""]
[null,""]
[null,""]
[null,""]
[null,""]
[null,""]
[null,""]
[null,""]
[null,""]
[null,""]
[null,""]
[null,""]
[null,""]
[null,""]
[null,""]
[null,""]
[null,""]
[null,""]
[null,""]
[null,""]
[null,""]
[null,""]
[null,""]
[null,""]
[null,""]
[null,""]
[null,""]
[null,""]
[null,""]
[null,""]
[null,""]
[null,""]
[null,""]
[null,""]
[null,""]
[null,""]
[null,""]
[null,""]
[null,""]
[null,""]
[null,""]
[null,""]
[null,""]
[null,""]
[null,""]
[null,""]
[null,""]
[null,""]
[null,""]
[null,""]
[null,""]
[null,""]
[null,""]
[null,""]
[null,""]
[null,""]
[null,""]
[null,{"$f":"TRIM(A259)","v":""}]
[null,""]
[null,""]
[null,""]
[null,""]
[null,""]
[null,""]
[null,""]
[null,""]
[null,""]
[null,""]
[null,""]
[null,""]
[null,""]
[null,""]
[null,""]
[null,""]
[null,""]
[null,""]
[null,""]
[null,""]
[null,""]
[null,""]
[null,""]
[null,""]
[null,""]
[null,""]
[null,""]
[null,""]
[null,""]
[null,""]
[null,""]
[null,""]
[null,""]
[null,""]
[null,""]
[null,""]
[null,""]
[null,""]
[null,""]
[null,""]
[null,""]
[null,""]
[null,""]
[null,""]
[null,""]
[null,""]
[null,""]
[null,""]
[null,""]
[null,""]
[null,""]
[null,""]
[null,""]
[null,""]
[null,""]
[null,""]
[null,""]
[null,""]
[null,""]
[null,""]
[null,""]
[null,""]
[null,""]
[null,{"$f":"TRIM(A323)","v":""}]
[null,""]
[null,""]
[null,""]
[null,""]
[null,""]
[null,""]
[null,""]
[null,""]
[null,""]
[null,""]
[null,""]
[null,""]
[null,""]
[null,""]
[null,""]
[null,""]
[null,""]
[null,""]
[null,""]
[null,""]
[null,""]
[null,""]
[null,""]
[null,""]
[null,""]
[null,""]
[null,""]
[null,""]
[null,""]
[null,""]
[null,""]
[null,""]
[null,""]
[null,""]
[null,""]
[null,""]
[null,""]
[null,""]
[null,""]
[null,""]
[null,""]
[null,""]
[null,""]
[null,""]
[null,""]
[null,""]
[null,""]
[null,""]
[null,""]
[null,""]
[null,""]
[null,""]
[null,""]
[null,""]
[null,""]
[null,""]
[null,""]
[null,""]
[null,""]
[null,""]
[null,""]
[null,""]
[null,""]
[null,{"$f":"TRIM(A387)","v":""}]
[null,""]
[null,""]
[null,""]
[null,""]
[null,""]
[null,""]
[null,""]
[null,""]
[null,""]
[null,""]
[null,""]
[null,""]
[null,""]
[null,""]
[null,""]
[null,""]
[null,""]
[null,""]
[null,""]
[null,""]
[null,""]
[null,""]
[null,""]
[null,""]
[null,""]
[null,""]
[null,""]
[null,""]
[null,""]
[null,""]
[null,""]
[null,""]
[null,""]
[null,""]
[null,""]
[null,""]
[null,""]
[null,""]
[null,""]
[null,""]
[null,""]
[null,""]
[null,""]
[null,""]
[null,""]
[null,""]
[null,""]
[null,""]
[null,""]
[null,""]
[null,""]
[null,""]
[null,""]
[null,""]
[null,""]
[null,""]
[null,""]
[null,""]
[null,""]
[null,""]
[null,""]
[null,""]
[null,""]
[null,{"$f":"TRIM(A451)","v":""}]
[null,""]
[null,""]
[null,""]
[null,""]
[null,""]
[null,""]
[null,""]
[null,""]
[null,""]
[null,""]
[null,""]
[null,""]
[null,""]
[null,""]
[null,""]
[null,""]
[null,""]
[null,""]
[null,""]
[null,""]
[null,""]
[null,""]
[null,""]
[null,""]
[null,""]
[null,""]
[null,""]
[null,""]
[null,""]
[null,""]
[null,""]
[null,""]
[null,""]
[null,""]
[null,""]
[null,""]
[null,""]
[null,""]
[null,""]
[null,""]
[null,""]
[null,""]
[null,""]
[null,""]
[null,""]
[null,""]
[null,""]
[null,""]
[null,""]
[null,""]
[null,""]
[null,""]
[null,""]
[null,""]
[null,""]
[null,""]
[null,""]
[null,""]
[null,""]
[null,""]
[null,""]
[null,""]
[null,""]
[null,{"$f":"TRIM(A515)","v":""}]
[null,""]
[null,""]
[null,""]
[null,""]
[null,""]
[null,""]
[null,""]
[null,""]
[null,""]
[null,""]
[null,""]
[null,""]
[null,""]
[null,""]
[null,""]
[null,""]
[null,""]
[null,""]
[null,""]
[null,""]
[null,""]
[null,""]
[null,""]
[null,""]
[null,""]
[null,""]
[null,""]
[null,""]
[null,""]
[null,""]
[null,""]
[null,""]
[null,""]
[null,""]
[null,""]
[null,""]
[null,""]
[null,""]
[null,""]
[null,""]
[null,""]
[null,""]
[null,""]
[null,""]
[null,""]
[null,""]
[null,""]
[null,""]
[null,""]
[null,""]
[null,""]
[null,""]
[null,""]
[null,""]
[null,""]
[null,""]
[null,""]
[null,""]
[null,""]
[null,""]
[null,""]
[null,""]
[null,""]
[null,{"$f":"TRIM(A579)","v":""}]
[null,""]
[null,""]
[null,""]
[null,""]
[null,""]
[null,""]
[null,""]
[null,""]
[null,""]
[null,""]
[null,""]
[null,""]
[null,""]
[null,""]
[null,""]
[null,""]
[null,""]
[null,""]
[null,""]
[null,""]
[null,""]
[null,""]
[null,""]
[null,""]
[null,""]
[null,""]
[null,""]
[null,""]
[null,""]
[null,""]
[null,""]
[null,""]
[null,""]
[null,""]
[null,""]
[null,""]
[null,""]
[null,""]
[null,""]
[null,""]
[null,""]
[null,""]
[null,""]
[null,""]
[null,""]
[null,""]
[null,""]
[null,""]
[null,""]
[null,""]
[null,""]
[null,""]
[null,""]
[null,""]
[null,""]
[null,""]
[null,""]
[null,""]
[null,""]
[null,""]
[null,""]
[null,""]
[null,""]
[null,{"$f":"TRIM(A643)","v":""}]
[null,""]
[null,""]
[null,""]
[null,""]
[null,""]
[null,""]
[null,""]
[null,""]
[null,""]
[null,""]
[null,""]
[null,""]
[null,""]
[null,""]
[null,""]
[null,""]
[null,""]
[null,""]
[null,""]
[null,""]
[null,""]
[null,""]
[null,""]
[null,""]
[null,""]
[null,""]
[null,""]
[null,""]
[null,""]
[null,""]
[null,""]
[null,""]
[null,""]
[null,""]
[null,""]
[null,""]
[null,""]
[null,""]
[null,""]
[null,""]
[null,""]
[null,""]
[null,""]
[null,""]
[null,""]
[null,""]
[null,""]
[null,""]
[null,""]
[null,""]
[null,""]
[null,""]
[null,""]
[null,""]
[null,""]
[null,""]
[null,""]
[null,""]
[null,""]
[null,""]
[null,""]
[null,""]
[null,""]
[null,{"$f":"TRIM(A707)","v":""}]
[null,""]
[null,""]
[null,""]
[null,""]
[null,""]
[null,""]
[null,""]
[null,""]
[null,""]
[null,""]
[null,""]
[null,""]
[null,""]
[null,""]
[null,""]
[null,""]
[null,""]
[null,""]
[null,""]
[null,""]
[null,""]
[null,""]
[null,""]
[null,""]
[null,""]
[null,""]
[null,""]
[null,""]
[null,""]
[null,""]
[null,""]
[null,""]
[null,""]
[null,""]
[null,""]
[null,""]
[null,""]
[null,""]
[null,""]
[null,""]
[null,""]
[null,""]
[null,""]
[null,""]
[null,""]
[null,""]
[null,""]
[null,""]
[null,""]
[null,""]
[null,""]
[null,""]
[null,""]
[null,""]
[null,""]
[null,""]
[null,""]
[null,""]
[null,""]
[null,""]
[null,""]
[null,""]
[null,""]
[null,{"$f":"TRIM(A771)","v":""}]
[null,""]
[null,""]
[null,""]
[null,""]
[null,""]
[null,""]
[null,""]
[null,""]
[null,""]
[null,""]
[null,""]
[null,""]
[null,""]
[null,""]
[null,""]
[null,""]
[null,""]
[null,""]
[null,""]
[null,""]
[null,""]
[null,""]
[null,""]
[null,""]
[null,""]
[null,""]
[null,""]
[null,""]
[null,""]
[null,""]
[null,""]
[null,""]
[null,""]
[null,""]
[null,""]
[null,""]
[null,""]
[null,""]
[null,""]
[null,""]
[null,""]
[null,""]
[null,""]
[null,""]
[null,""]
[null,""]
[null,""]
[null,""]
[null,""]
[null,""]
[null,""]
[null,""]
[null,""]
[null,""]
[null,""]
[null,""]
[null,""]
[null,""]
[null,""]
[null,""]
[null,""]
[null,""]
[null,""]
[null,{"$f":"TRIM(A835)","v":""}]
[null,""]
[null,""]
[null,""]
[null,""]
[null,""]
[null,""]
[null,""]
[null,""]
[null,""]
[null,""]
[null,""]
[null,""]
[null,""]
[null,""]
[null,""]
[null,""]
[null,""]
[null,""]
[null,""]
[null,""]
[null,""]
[null,""]
[null,""]
[null,""]
[null,""]
[null,""]
[null,""]
[null,""]
[null,""]
[null,""]
[null,""]
[null,""]
[null,""]
[null,""]
[null,""]
[null,""]
[null,""]
[null,""]
[null,""]
[null,""]
[null,""]
[null,""]
[null,""]
[null,""]
[null,""]
[null,""]
[null,""]
[null,""]
[null,""]
[null,""]
[null,""]
[null,""]
[null,""]
[null,""]
[null,""]
[null,""]
[null,""]
[null,""]
[null,""]
[null,""]
[null,""]
[null,""]
[null,""]
[null,{"$f":"TRIM(A899)","v":""}]
[null,""]
[null,""]
[null,""]
[null,""]
[null,""]
[null,""]
[null,""]
[null,""]
[null,""]
[null,""]
[null,""]
[null,""]
[null,""]
[null,""]
[null,""]
[null,""]
[null,""]
[null,""]
[null,""]
[null,""]
[null,""]
[null,""]
[null,""]
[null,""]
[null,""]
[null,""]
[null,""]
[null,""]
[null,""]
[null,""]
[null,""]
[null,""]
[null,""]
[null,""]
[null,""]
[null,""]
[null,""]
[null,""]
[null,""]
[null,""]
[null,""]
[null,""]
[null,""]
[null,""]
[null,""]
[null,""]
[null,""]
[null,""]
[null,""]
[null,""]
[null,""]
[null,""]
[null,""]
[null,"","",""]
[null,""]
[null,""]
[null,""]
[null,""]
[null,""]
[null,""]
[null,""]
[null,""]
[null,""]
[null,{"$f":"TRIM(A963)","v":""}]
[null,""]
[null,""]
[null,""]
[null,""]
[null,""]
[null,""]
[null,""]
[null,""]
[null,""]
[null,""]
[null,""]
[null,""]
[null,""]
[null,""]
[null,""]
[null,""]
[null,""]
[null,""]
[null,""]
[null,""]
[null,""]
[null,""]
[null,""]
[null,""]
[null,""]
[null,""]
[null,""]
[null,""]
[null,""]
[null,""]
[null,""]
[null,""]
[null,""]
[null,""]
[null,""]
[null,""]
[null,""]

{"sheet":"(2) Project Bill of Materials","index":2,"n_rows":5003,"n_cols":16,"rows_kept":5003,"cut":false,"hidden":false,"merged":[]}
[]
[]
[]
[]
["Reference Number","ODOT Item Code","ODOT Item Code Description","Item Unit","Primary, Component, or Substitute Material","Material Code","Material Description","Material Unit","Spec Reference","Material Unit to Construction Unit Conversion Factor","Material Accpetance  Method","Bid Item Quantity","Accepted Material Quantity to date - use Material Units       (Enter Manually)","Placed/Paid Item Quantity to date - \nuse Item Units        \n(Enter Manually)","Required Material Quantity","Overage/Shortage"]
[{"$f":"VLOOKUP(B6,'(1) Project Reference Item List'!$B$2:$C$1000,2,FALSE)","v":{"$error":"#N/A"}},null,null,null,null,null,null,null,null,null,null,{"$f":"VLOOKUP(B6,'(1) Project Reference Item List'!$B$2:$D$1000,3,FALSE)","v":{"$error":"#N/A"}},null,null,{"$f":"IF(J6=0,J6,J6*N6)","v":0},{"$f":"(M6-O6)","v":0}]
[{"$f":"VLOOKUP(B7,'(1) Project Reference Item List'!$B$2:$C$1000,2,FALSE)","v":{"$error":"#N/A"}},null,null,null,null,null,null,null,null,null,null,{"$f":"VLOOKUP(B7,'(1) Project Reference Item List'!$B$2:$D$1000,3,FALSE)","v":{"$error":"#N/A"}},null,null,0,0]
[{"$f":"VLOOKUP(B8,'(1) Project Reference Item List'!$B$2:$C$1000,2,FALSE)","v":{"$error":"#N/A"}},null,null,null,null,null,null,null,null,null,null,{"$f":"VLOOKUP(B8,'(1) Project Reference Item List'!$B$2:$D$1000,3,FALSE)","v":{"$error":"#N/A"}},null,null,0,0]
[{"$f":"VLOOKUP(B9,'(1) Project Reference Item List'!$B$2:$C$1000,2,FALSE)","v":{"$error":"#N/A"}},null,null,null,null,null,null,null,null,null,null,{"$f":"VLOOKUP(B9,'(1) Project Reference Item List'!$B$2:$D$1000,3,FALSE)","v":{"$error":"#N/A"}},null,null,0,0]
[{"$f":"VLOOKUP(B10,'(1) Project Reference Item List'!$B$2:$C$1000,2,FALSE)","v":{"$error":"#N/A"}},null,null,null,null,null,null,null,null,null,null,{"$f":"VLOOKUP(B10,'(1) Project Reference Item List'!$B$2:$D$1000,3,FALSE)","v":{"$error":"#N/A"}},null,null,0,0]
[{"$f":"VLOOKUP(B11,'(1) Project Reference Item List'!$B$2:$C$1000,2,FALSE)","v":{"$error":"#N/A"}},null,null,null,null,null,null,null,null,null,null,{"$f":"VLOOKUP(B11,'(1) Project Reference Item List'!$B$2:$D$1000,3,FALSE)","v":{"$error":"#N/A"}},null,null,0,0]
[{"$f":"VLOOKUP(B12,'(1) Project Reference Item List'!$B$2:$C$1000,2,FALSE)","v":{"$error":"#N/A"}},null,null,null,null,null,null,null,null,null,null,{"$f":"VLOOKUP(B12,'(1) Project Reference Item List'!$B$2:$D$1000,3,FALSE)","v":{"$error":"#N/A"}},null,null,0,0]
[{"$f":"VLOOKUP(B13,'(1) Project Reference Item List'!$B$2:$C$1000,2,FALSE)","v":{"$error":"#N/A"}},null,null,null,null,null,null,null,null,null,null,{"$f":"VLOOKUP(B13,'(1) Project Reference Item List'!$B$2:$D$1000,3,FALSE)","v":{"$error":"#N/A"}},null,null,0,0]
[{"$f":"VLOOKUP(B14,'(1) Project Reference Item List'!$B$2:$C$1000,2,FALSE)","v":{"$error":"#N/A"}},null,null,null,null,null,null,null,null,null,null,{"$f":"VLOOKUP(B14,'(1) Project Reference Item List'!$B$2:$D$1000,3,FALSE)","v":{"$error":"#N/A"}},null,null,0,0]
[{"$f":"VLOOKUP(B15,'(1) Project Reference Item List'!$B$2:$C$1000,2,FALSE)","v":{"$error":"#N/A"}},null,null,null,null,null,null,null,null,null,null,{"$f":"VLOOKUP(B15,'(1) Project Reference Item List'!$B$2:$D$1000,3,FALSE)","v":{"$error":"#N/A"}},null,null,0,0]
[{"$f":"VLOOKUP(B16,'(1) Project Reference Item List'!$B$2:$C$1000,2,FALSE)","v":{"$error":"#N/A"}},null,null,null,null,null,null,null,null,null,null,{"$f":"VLOOKUP(B16,'(1) Project Reference Item List'!$B$2:$D$1000,3,FALSE)","v":{"$error":"#N/A"}},null,null,0,0]
[{"$f":"VLOOKUP(B17,'(1) Project Reference Item List'!$B$2:$C$1000,2,FALSE)","v":{"$error":"#N/A"}},null,null,null,null,null,null,null,null,null,null,{"$f":"VLOOKUP(B17,'(1) Project Reference Item List'!$B$2:$D$1000,3,FALSE)","v":{"$error":"#N/A"}},null,null,0,0]
[{"$f":"VLOOKUP(B18,'(1) Project Reference Item List'!$B$2:$C$1000,2,FALSE)","v":{"$error":"#N/A"}},null,null,null,null,null,null,null,null,null,null,{"$f":"VLOOKUP(B18,'(1) Project Reference Item List'!$B$2:$D$1000,3,FALSE)","v":{"$error":"#N/A"}},null,null,0,0]
[{"$f":"VLOOKUP(B19,'(1) Project Reference Item List'!$B$2:$C$1000,2,FALSE)","v":{"$error":"#N/A"}},null,null,null,null,null,null,null,null,null,null,{"$f":"VLOOKUP(B19,'(1) Project Reference Item List'!$B$2:$D$1000,3,FALSE)","v":{"$error":"#N/A"}},null,null,0,0]
[{"$f":"VLOOKUP(B20,'(1) Project Reference Item List'!$B$2:$C$1000,2,FALSE)","v":{"$error":"#N/A"}},null,null,null,null,null,null,null,null,null,null,{"$f":"VLOOKUP(B20,'(1) Project Reference Item List'!$B$2:$D$1000,3,FALSE)","v":{"$error":"#N/A"}},null,null,0,0]
[{"$f":"VLOOKUP(B21,'(1) Project Reference Item List'!$B$2:$C$1000,2,FALSE)","v":{"$error":"#N/A"}},null,null,null,null,null,null,null,null,null,null,{"$f":"VLOOKUP(B21,'(1) Project Reference Item List'!$B$2:$D$1000,3,FALSE)","v":{"$error":"#N/A"}},null,null,0,0]
[{"$f":"VLOOKUP(B22,'(1) Project Reference Item List'!$B$2:$C$1000,2,FALSE)","v":{"$error":"#N/A"}},null,null,null,null,null,null,null,null,null,null,{"$f":"VLOOKUP(B22,'(1) Project Reference Item List'!$B$2:$D$1000,3,FALSE)","v":{"$error":"#N/A"}},null,null,0,0]
[{"$f":"VLOOKUP(B23,'(1) Project Reference Item List'!$B$2:$C$1000,2,FALSE)","v":{"$error":"#N/A"}},null,null,null,null,null,null,null,null,null,null,{"$f":"VLOOKUP(B23,'(1) Project Reference Item List'!$B$2:$D$1000,3,FALSE)","v":{"$error":"#N/A"}},null,null,0,0]
[{"$f":"VLOOKUP(B24,'(1) Project Reference Item List'!$B$2:$C$1000,2,FALSE)","v":{"$error":"#N/A"}},null,null,null,null,null,null,null,null,null,null,{"$f":"VLOOKUP(B24,'(1) Project Reference Item List'!$B$2:$D$1000,3,FALSE)","v":{"$error":"#N/A"}},null,null,0,0]
[{"$f":"VLOOKUP(B25,'(1) Project Reference Item List'!$B$2:$C$1000,2,FALSE)","v":{"$error":"#N/A"}},null,null,null,null,null,null,null,null,null,null,{"$f":"VLOOKUP(B25,'(1) Project Reference Item List'!$B$2:$D$1000,3,FALSE)","v":{"$error":"#N/A"}},null,null,0,0]
[{"$f":"VLOOKUP(B26,'(1) Project Reference Item List'!$B$2:$C$1000,2,FALSE)","v":{"$error":"#N/A"}},null,null,null,null,null,null,null,null,null,null,{"$f":"VLOOKUP(B26,'(1) Project Reference Item List'!$B$2:$D$1000,3,FALSE)","v":{"$error":"#N/A"}},null,null,0,0]
[{"$f":"VLOOKUP(B27,'(1) Project Reference Item List'!$B$2:$C$1000,2,FALSE)","v":{"$error":"#N/A"}},null,null,null,null,null,null,null,null,null,null,{"$f":"VLOOKUP(B27,'(1) Project Reference Item List'!$B$2:$D$1000,3,FALSE)","v":{"$error":"#N/A"}},null,null,0,0]
[{"$f":"VLOOKUP(B28,'(1) Project Reference Item List'!$B$2:$C$1000,2,FALSE)","v":{"$error":"#N/A"}},null,null,null,null,null,null,null,null,null,null,{"$f":"VLOOKUP(B28,'(1) Project Reference Item List'!$B$2:$D$1000,3,FALSE)","v":{"$error":"#N/A"}},null,null,0,0]
[{"$f":"VLOOKUP(B29,'(1) Project Reference Item List'!$B$2:$C$1000,2,FALSE)","v":{"$error":"#N/A"}},null,null,null,null,null,null,null,null,null,null,{"$f":"VLOOKUP(B29,'(1) Project Reference Item List'!$B$2:$D$1000,3,FALSE)","v":{"$error":"#N/A"}},null,null,0,0]
[{"$f":"VLOOKUP(B30,'(1) Project Reference Item List'!$B$2:$C$1000,2,FALSE)","v":{"$error":"#N/A"}},null,null,null,null,null,null,null,null,null,null,{"$f":"VLOOKUP(B30,'(1) Project Reference Item List'!$B$2:$D$1000,3,FALSE)","v":{"$error":"#N/A"}},null,null,0,0]
[{"$f":"VLOOKUP(B31,'(1) Project Reference Item List'!$B$2:$C$1000,2,FALSE)","v":{"$error":"#N/A"}},null,null,null,null,null,null,null,null,null,null,{"$f":"VLOOKUP(B31,'(1) Project Reference Item List'!$B$2:$D$1000,3,FALSE)","v":{"$error":"#N/A"}},null,null,0,0]
[{"$f":"VLOOKUP(B32,'(1) Project Reference Item List'!$B$2:$C$1000,2,FALSE)","v":{"$error":"#N/A"}},null,null,null,null,null,null,null,null,null,null,{"$f":"VLOOKUP(B32,'(1) Project Reference Item List'!$B$2:$D$1000,3,FALSE)","v":{"$error":"#N/A"}},null,null,0,0]
[{"$f":"VLOOKUP(B33,'(1) Project Reference Item List'!$B$2:$C$1000,2,FALSE)","v":{"$error":"#N/A"}},null,null,null,null,null,null,null,null,null,null,{"$f":"VLOOKUP(B33,'(1) Project Reference Item List'!$B$2:$D$1000,3,FALSE)","v":{"$error":"#N/A"}},null,null,0,0]
[{"$f":"VLOOKUP(B34,'(1) Project Reference Item List'!$B$2:$C$1000,2,FALSE)","v":{"$error":"#N/A"}},null,null,null,null,null,null,null,null,null,null,{"$f":"VLOOKUP(B34,'(1) Project Reference Item List'!$B$2:$D$1000,3,FALSE)","v":{"$error":"#N/A"}},null,null,0,0]
[{"$f":"VLOOKUP(B35,'(1) Project Reference Item List'!$B$2:$C$1000,2,FALSE)","v":{"$error":"#N/A"}},null,null,null,null,null,null,null,null,null,null,{"$f":"VLOOKUP(B35,'(1) Project Reference Item List'!$B$2:$D$1000,3,FALSE)","v":{"$error":"#N/A"}},null,null,0,0]
[{"$f":"VLOOKUP(B36,'(1) Project Reference Item List'!$B$2:$C$1000,2,FALSE)","v":{"$error":"#N/A"}},null,null,null,null,null,null,null,null,null,null,{"$f":"VLOOKUP(B36,'(1) Project Reference Item List'!$B$2:$D$1000,3,FALSE)","v":{"$error":"#N/A"}},null,null,0,0]
[{"$f":"VLOOKUP(B37,'(1) Project Reference Item List'!$B$2:$C$1000,2,FALSE)","v":{"$error":"#N/A"}},null,null,null,null,null,null,null,null,null,null,{"$f":"VLOOKUP(B37,'(1) Project Reference Item List'!$B$2:$D$1000,3,FALSE)","v":{"$error":"#N/A"}},null,null,0,0]
[{"$f":"VLOOKUP(B38,'(1) Project Reference Item List'!$B$2:$C$1000,2,FALSE)","v":{"$error":"#N/A"}},null,null,null,null,null,null,null,null,null,null,{"$f":"VLOOKUP(B38,'(1) Project Reference Item List'!$B$2:$D$1000,3,FALSE)","v":{"$error":"#N/A"}},null,null,0,0]
[{"$f":"VLOOKUP(B39,'(1) Project Reference Item List'!$B$2:$C$1000,2,FALSE)","v":{"$error":"#N/A"}},null,null,null,null,null,null,null,null,null,null,{"$f":"VLOOKUP(B39,'(1) Project Reference Item List'!$B$2:$D$1000,3,FALSE)","v":{"$error":"#N/A"}},null,null,0,0]
[{"$f":"VLOOKUP(B40,'(1) Project Reference Item List'!$B$2:$C$1000,2,FALSE)","v":{"$error":"#N/A"}},null,null,null,null,null,null,null,null,null,null,{"$f":"VLOOKUP(B40,'(1) Project Reference Item List'!$B$2:$D$1000,3,FALSE)","v":{"$error":"#N/A"}},null,null,0,0]
[{"$f":"VLOOKUP(B41,'(1) Project Reference Item List'!$B$2:$C$1000,2,FALSE)","v":{"$error":"#N/A"}},null,null,null,null,null,null,null,null,null,null,{"$f":"VLOOKUP(B41,'(1) Project Reference Item List'!$B$2:$D$1000,3,FALSE)","v":{"$error":"#N/A"}},null,null,0,0]
[{"$f":"VLOOKUP(B42,'(1) Project Reference Item List'!$B$2:$C$1000,2,FALSE)","v":{"$error":"#N/A"}},null,null,null,null,null,null,null,null,null,null,{"$f":"VLOOKUP(B42,'(1) Project Reference Item List'!$B$2:$D$1000,3,FALSE)","v":{"$error":"#N/A"}},null,null,0,0]
[{"$f":"VLOOKUP(B43,'(1) Project Reference Item List'!$B$2:$C$1000,2,FALSE)","v":{"$error":"#N/A"}},null,null,null,null,null,null,null,null,null,null,{"$f":"VLOOKUP(B43,'(1) Project Reference Item List'!$B$2:$D$1000,3,FALSE)","v":{"$error":"#N/A"}},null,null,0,0]
[{"$f":"VLOOKUP(B44,'(1) Project Reference Item List'!$B$2:$C$1000,2,FALSE)","v":{"$error":"#N/A"}},null,null,null,null,null,null,null,null,null,null,{"$f":"VLOOKUP(B44,'(1) Project Reference Item List'!$B$2:$D$1000,3,FALSE)","v":{"$error":"#N/A"}},null,null,0,0]
[{"$f":"VLOOKUP(B45,'(1) Project Reference Item List'!$B$2:$C$1000,2,FALSE)","v":{"$error":"#N/A"}},null,null,null,null,null,null,null,null,null,null,{"$f":"VLOOKUP(B45,'(1) Project Reference Item List'!$B$2:$D$1000,3,FALSE)","v":{"$error":"#N/A"}},null,null,0,0]
[{"$f":"VLOOKUP(B46,'(1) Project Reference Item List'!$B$2:$C$1000,2,FALSE)","v":{"$error":"#N/A"}},null,null,null,null,null,null,null,null,null,null,{"$f":"VLOOKUP(B46,'(1) Project Reference Item List'!$B$2:$D$1000,3,FALSE)","v":{"$error":"#N/A"}},null,null,0,0]
[{"$f":"VLOOKUP(B47,'(1) Project Reference Item List'!$B$2:$C$1000,2,FALSE)","v":{"$error":"#N/A"}},null,null,null,null,null,null,null,null,null,null,{"$f":"VLOOKUP(B47,'(1) Project Reference Item List'!$B$2:$D$1000,3,FALSE)","v":{"$error":"#N/A"}},null,null,0,0]
[{"$f":"VLOOKUP(B48,'(1) Project Reference Item List'!$B$2:$C$1000,2,FALSE)","v":{"$error":"#N/A"}},null,null,null,null,null,null,null,null,null,null,{"$f":"VLOOKUP(B48,'(1) Project Reference Item List'!$B$2:$D$1000,3,FALSE)","v":{"$error":"#N/A"}},null,null,0,0]
[{"$f":"VLOOKUP(B49,'(1) Project Reference Item List'!$B$2:$C$1000,2,FALSE)","v":{"$error":"#N/A"}},null,null,null,null,null,null,null,null,null,null,{"$f":"VLOOKUP(B49,'(1) Project Reference Item List'!$B$2:$D$1000,3,FALSE)","v":{"$error":"#N/A"}},null,null,0,0]
[{"$f":"VLOOKUP(B50,'(1) Project Reference Item List'!$B$2:$C$1000,2,FALSE)","v":{"$error":"#N/A"}},null,null,null,null,null,null,null,null,null,null,{"$f":"VLOOKUP(B50,'(1) Project Reference Item List'!$B$2:$D$1000,3,FALSE)","v":{"$error":"#N/A"}},null,null,0,0]
[{"$f":"VLOOKUP(B51,'(1) Project Reference Item List'!$B$2:$C$1000,2,FALSE)","v":{"$error":"#N/A"}},null,null,null,null,null,null,null,null,null,null,{"$f":"VLOOKUP(B51,'(1) Project Reference Item List'!$B$2:$D$1000,3,FALSE)","v":{"$error":"#N/A"}},null,null,0,0]
[{"$f":"VLOOKUP(B52,'(1) Project Reference Item List'!$B$2:$C$1000,2,FALSE)","v":{"$error":"#N/A"}},null,null,null,null,null,null,null,null,null,null,{"$f":"VLOOKUP(B52,'(1) Project Reference Item List'!$B$2:$D$1000,3,FALSE)","v":{"$error":"#N/A"}},null,null,0,0]
[{"$f":"VLOOKUP(B53,'(1) Project Reference Item List'!$B$2:$C$1000,2,FALSE)","v":{"$error":"#N/A"}},null,null,null,null,null,null,null,null,null,null,{"$f":"VLOOKUP(B53,'(1) Project Reference Item List'!$B$2:$D$1000,3,FALSE)","v":{"$error":"#N/A"}},null,null,0,0]
[{"$f":"VLOOKUP(B54,'(1) Project Reference Item List'!$B$2:$C$1000,2,FALSE)","v":{"$error":"#N/A"}},null,null,null,null,null,null,null,null,null,null,{"$f":"VLOOKUP(B54,'(1) Project Reference Item List'!$B$2:$D$1000,3,FALSE)","v":{"$error":"#N/A"}},null,null,0,0]
[{"$f":"VLOOKUP(B55,'(1) Project Reference Item List'!$B$2:$C$1000,2,FALSE)","v":{"$error":"#N/A"}},null,null,null,null,null,null,null,null,null,null,{"$f":"VLOOKUP(B55,'(1) Project Reference Item List'!$B$2:$D$1000,3,FALSE)","v":{"$error":"#N/A"}},null,null,0,0]
[{"$f":"VLOOKUP(B56,'(1) Project Reference Item List'!$B$2:$C$1000,2,FALSE)","v":{"$error":"#N/A"}},null,null,null,null,null,null,null,null,null,null,{"$f":"VLOOKUP(B56,'(1) Project Reference Item List'!$B$2:$D$1000,3,FALSE)","v":{"$error":"#N/A"}},null,null,0,0]
[{"$f":"VLOOKUP(B57,'(1) Project Reference Item List'!$B$2:$C$1000,2,FALSE)","v":{"$error":"#N/A"}},null,null,null,null,null,null,null,null,null,null,{"$f":"VLOOKUP(B57,'(1) Project Reference Item List'!$B$2:$D$1000,3,FALSE)","v":{"$error":"#N/A"}},null,null,0,0]
[{"$f":"VLOOKUP(B58,'(1) Project Reference Item List'!$B$2:$C$1000,2,FALSE)","v":{"$error":"#N/A"}},null,null,null,null,null,null,null,null,null,null,{"$f":"VLOOKUP(B58,'(1) Project Reference Item List'!$B$2:$D$1000,3,FALSE)","v":{"$error":"#N/A"}},null,null,0,0]
[{"$f":"VLOOKUP(B59,'(1) Project Reference Item List'!$B$2:$C$1000,2,FALSE)","v":{"$error":"#N/A"}},null,null,null,null,null,null,null,null,null,null,{"$f":"VLOOKUP(B59,'(1) Project Reference Item List'!$B$2:$D$1000,3,FALSE)","v":{"$error":"#N/A"}},null,null,0,0]
[{"$f":"VLOOKUP(B60,'(1) Project Reference Item List'!$B$2:$C$1000,2,FALSE)","v":{"$error":"#N/A"}},null,null,null,null,null,null,null,null,null,null,{"$f":"VLOOKUP(B60,'(1) Project Reference Item List'!$B$2:$D$1000,3,FALSE)","v":{"$error":"#N/A"}},null,null,0,0]
[{"$f":"VLOOKUP(B61,'(1) Project Reference Item List'!$B$2:$C$1000,2,FALSE)","v":{"$error":"#N/A"}},null,null,null,null,null,null,null,null,null,null,{"$f":"VLOOKUP(B61,'(1) Project Reference Item List'!$B$2:$D$1000,3,FALSE)","v":{"$error":"#N/A"}},null,null,0,0]
[{"$f":"VLOOKUP(B62,'(1) Project Reference Item List'!$B$2:$C$1000,2,FALSE)","v":{"$error":"#N/A"}},null,null,null,null,null,null,null,null,null,null,{"$f":"VLOOKUP(B62,'(1) Project Reference Item List'!$B$2:$D$1000,3,FALSE)","v":{"$error":"#N/A"}},null,null,0,0]
[{"$f":"VLOOKUP(B63,'(1) Project Reference Item List'!$B$2:$C$1000,2,FALSE)","v":{"$error":"#N/A"}},null,null,null,null,null,null,null,null,null,null,{"$f":"VLOOKUP(B63,'(1) Project Reference Item List'!$B$2:$D$1000,3,FALSE)","v":{"$error":"#N/A"}},null,null,0,0]
[{"$f":"VLOOKUP(B64,'(1) Project Reference Item List'!$B$2:$C$1000,2,FALSE)","v":{"$error":"#N/A"}},null,null,null,null,null,null,null,null,null,null,{"$f":"VLOOKUP(B64,'(1) Project Reference Item List'!$B$2:$D$1000,3,FALSE)","v":{"$error":"#N/A"}},null,null,0,0]
[{"$f":"VLOOKUP(B65,'(1) Project Reference Item List'!$B$2:$C$1000,2,FALSE)","v":{"$error":"#N/A"}},null,null,null,null,null,null,null,null,null,null,{"$f":"VLOOKUP(B65,'(1) Project Reference Item List'!$B$2:$D$1000,3,FALSE)","v":{"$error":"#N/A"}},null,null,0,0]
[{"$f":"VLOOKUP(B66,'(1) Project Reference Item List'!$B$2:$C$1000,2,FALSE)","v":{"$error":"#N/A"}},null,null,null,null,null,null,null,null,null,null,{"$f":"VLOOKUP(B66,'(1) Project Reference Item List'!$B$2:$D$1000,3,FALSE)","v":{"$error":"#N/A"}},null,null,0,0]
[{"$f":"VLOOKUP(B67,'(1) Project Reference Item List'!$B$2:$C$1000,2,FALSE)","v":{"$error":"#N/A"}},null,null,null,null,null,null,null,null,null,null,{"$f":"VLOOKUP(B67,'(1) Project Reference Item List'!$B$2:$D$1000,3,FALSE)","v":{"$error":"#N/A"}},null,null,0,0]
[{"$f":"VLOOKUP(B68,'(1) Project Reference Item List'!$B$2:$C$1000,2,FALSE)","v":{"$error":"#N/A"}},null,null,null,null,null,null,null,null,null,null,{"$f":"VLOOKUP(B68,'(1) Project Reference Item List'!$B$2:$D$1000,3,FALSE)","v":{"$error":"#N/A"}},null,null,0,0]
[{"$f":"VLOOKUP(B69,'(1) Project Reference Item List'!$B$2:$C$1000,2,FALSE)","v":{"$error":"#N/A"}},null,null,null,null,null,null,null,null,null,null,{"$f":"VLOOKUP(B69,'(1) Project Reference Item List'!$B$2:$D$1000,3,FALSE)","v":{"$error":"#N/A"}},null,null,0,0]
[{"$f":"VLOOKUP(B70,'(1) Project Reference Item List'!$B$2:$C$1000,2,FALSE)","v":{"$error":"#N/A"}},null,null,null,null,null,null,null,null,null,null,{"$f":"VLOOKUP(B70,'(1) Project Reference Item List'!$B$2:$D$1000,3,FALSE)","v":{"$error":"#N/A"}},null,null,{"$f":"IF(J70=0,J70,J70*N70)","v":0},{"$f":"(M70-O70)","v":0}]
[{"$f":"VLOOKUP(B71,'(1) Project Reference Item List'!$B$2:$C$1000,2,FALSE)","v":{"$error":"#N/A"}},null,null,null,null,null,null,null,null,null,null,{"$f":"VLOOKUP(B71,'(1) Project Reference Item List'!$B$2:$D$1000,3,FALSE)","v":{"$error":"#N/A"}},null,null,0,0]
[{"$f":"VLOOKUP(B72,'(1) Project Reference Item List'!$B$2:$C$1000,2,FALSE)","v":{"$error":"#N/A"}},null,null,null,null,null,null,null,null,null,null,{"$f":"VLOOKUP(B72,'(1) Project Reference Item List'!$B$2:$D$1000,3,FALSE)","v":{"$error":"#N/A"}},null,null,0,0]
[{"$f":"VLOOKUP(B73,'(1) Project Reference Item List'!$B$2:$C$1000,2,FALSE)","v":{"$error":"#N/A"}},null,null,null,null,null,null,null,null,null,null,{"$f":"VLOOKUP(B73,'(1) Project Reference Item List'!$B$2:$D$1000,3,FALSE)","v":{"$error":"#N/A"}},null,null,0,0]
[{"$f":"VLOOKUP(B74,'(1) Project Reference Item List'!$B$2:$C$1000,2,FALSE)","v":{"$error":"#N/A"}},null,null,null,null,null,null,null,null,null,null,{"$f":"VLOOKUP(B74,'(1) Project Reference Item List'!$B$2:$D$1000,3,FALSE)","v":{"$error":"#N/A"}},null,null,0,0]
[{"$f":"VLOOKUP(B75,'(1) Project Reference Item List'!$B$2:$C$1000,2,FALSE)","v":{"$error":"#N/A"}},null,null,null,null,null,null,null,null,null,null,{"$f":"VLOOKUP(B75,'(1) Project Reference Item List'!$B$2:$D$1000,3,FALSE)","v":{"$error":"#N/A"}},null,null,0,0]
[{"$f":"VLOOKUP(B76,'(1) Project Reference Item List'!$B$2:$C$1000,2,FALSE)","v":{"$error":"#N/A"}},null,null,null,null,null,null,null,null,null,null,{"$f":"VLOOKUP(B76,'(1) Project Reference Item List'!$B$2:$D$1000,3,FALSE)","v":{"$error":"#N/A"}},null,null,0,0]
[{"$f":"VLOOKUP(B77,'(1) Project Reference Item List'!$B$2:$C$1000,2,FALSE)","v":{"$error":"#N/A"}},null,null,null,null,null,null,null,null,null,null,{"$f":"VLOOKUP(B77,'(1) Project Reference Item List'!$B$2:$D$1000,3,FALSE)","v":{"$error":"#N/A"}},null,null,0,0]
[{"$f":"VLOOKUP(B78,'(1) Project Reference Item List'!$B$2:$C$1000,2,FALSE)","v":{"$error":"#N/A"}},null,null,null,null,null,null,null,null,null,null,{"$f":"VLOOKUP(B78,'(1) Project Reference Item List'!$B$2:$D$1000,3,FALSE)","v":{"$error":"#N/A"}},null,null,0,0]
[{"$f":"VLOOKUP(B79,'(1) Project Reference Item List'!$B$2:$C$1000,2,FALSE)","v":{"$error":"#N/A"}},null,null,null,null,null,null,null,null,null,null,{"$f":"VLOOKUP(B79,'(1) Project Reference Item List'!$B$2:$D$1000,3,FALSE)","v":{"$error":"#N/A"}},null,null,0,0]
[{"$f":"VLOOKUP(B80,'(1) Project Reference Item List'!$B$2:$C$1000,2,FALSE)","v":{"$error":"#N/A"}},null,null,null,null,null,null,null,null,null,null,{"$f":"VLOOKUP(B80,'(1) Project Reference Item List'!$B$2:$D$1000,3,FALSE)","v":{"$error":"#N/A"}},null,null,0,0]
[{"$f":"VLOOKUP(B81,'(1) Project Reference Item List'!$B$2:$C$1000,2,FALSE)","v":{"$error":"#N/A"}},null,null,null,null,null,null,null,null,null,null,{"$f":"VLOOKUP(B81,'(1) Project Reference Item List'!$B$2:$D$1000,3,FALSE)","v":{"$error":"#N/A"}},null,null,0,0]
[{"$f":"VLOOKUP(B82,'(1) Project Reference Item List'!$B$2:$C$1000,2,FALSE)","v":{"$error":"#N/A"}},null,null,null,null,null,null,null,null,null,null,{"$f":"VLOOKUP(B82,'(1) Project Reference Item List'!$B$2:$D$1000,3,FALSE)","v":{"$error":"#N/A"}},null,null,0,0]
[{"$f":"VLOOKUP(B83,'(1) Project Reference Item List'!$B$2:$C$1000,2,FALSE)","v":{"$error":"#N/A"}},null,null,null,null,null,null,null,null,null,null,{"$f":"VLOOKUP(B83,'(1) Project Reference Item List'!$B$2:$D$1000,3,FALSE)","v":{"$error":"#N/A"}},null,null,0,0]
[{"$f":"VLOOKUP(B84,'(1) Project Reference Item List'!$B$2:$C$1000,2,FALSE)","v":{"$error":"#N/A"}},null,null,null,null,null,null,null,null,null,null,{"$f":"VLOOKUP(B84,'(1) Project Reference Item List'!$B$2:$D$1000,3,FALSE)","v":{"$error":"#N/A"}},null,null,0,0]
[{"$f":"VLOOKUP(B85,'(1) Project Reference Item List'!$B$2:$C$1000,2,FALSE)","v":{"$error":"#N/A"}},null,null,null,null,null,null,null,null,null,null,{"$f":"VLOOKUP(B85,'(1) Project Reference Item List'!$B$2:$D$1000,3,FALSE)","v":{"$error":"#N/A"}},null,null,0,0]
[{"$f":"VLOOKUP(B86,'(1) Project Reference Item List'!$B$2:$C$1000,2,FALSE)","v":{"$error":"#N/A"}},null,null,null,null,null,null,null,null,null,null,{"$f":"VLOOKUP(B86,'(1) Project Reference Item List'!$B$2:$D$1000,3,FALSE)","v":{"$error":"#N/A"}},null,null,0,0]
[{"$f":"VLOOKUP(B87,'(1) Project Reference Item List'!$B$2:$C$1000,2,FALSE)","v":{"$error":"#N/A"}},null,null,null,null,null,null,null,null,null,null,{"$f":"VLOOKUP(B87,'(1) Project Reference Item List'!$B$2:$D$1000,3,FALSE)","v":{"$error":"#N/A"}},null,null,0,0]
[{"$f":"VLOOKUP(B88,'(1) Project Reference Item List'!$B$2:$C$1000,2,FALSE)","v":{"$error":"#N/A"}},null,null,null,null,null,null,null,null,null,null,{"$f":"VLOOKUP(B88,'(1) Project Reference Item List'!$B$2:$D$1000,3,FALSE)","v":{"$error":"#N/A"}},null,null,0,0]
[{"$f":"VLOOKUP(B89,'(1) Project Reference Item List'!$B$2:$C$1000,2,FALSE)","v":{"$error":"#N/A"}},null,null,null,null,null,null,null,null,null,null,{"$f":"VLOOKUP(B89,'(1) Project Reference Item List'!$B$2:$D$1000,3,FALSE)","v":{"$error":"#N/A"}},null,null,0,0]
[{"$f":"VLOOKUP(B90,'(1) Project Reference Item List'!$B$2:$C$1000,2,FALSE)","v":{"$error":"#N/A"}},null,null,null,null,null,null,null,null,null,null,{"$f":"VLOOKUP(B90,'(1) Project Reference Item List'!$B$2:$D$1000,3,FALSE)","v":{"$error":"#N/A"}},null,null,0,0]
[{"$f":"VLOOKUP(B91,'(1) Project Reference Item List'!$B$2:$C$1000,2,FALSE)","v":{"$error":"#N/A"}},null,null,null,null,null,null,null,null,null,null,{"$f":"VLOOKUP(B91,'(1) Project Reference Item List'!$B$2:$D$1000,3,FALSE)","v":{"$error":"#N/A"}},null,null,0,0]
[{"$f":"VLOOKUP(B92,'(1) Project Reference Item List'!$B$2:$C$1000,2,FALSE)","v":{"$error":"#N/A"}},null,null,null,null,null,null,null,null,null,null,{"$f":"VLOOKUP(B92,'(1) Project Reference Item List'!$B$2:$D$1000,3,FALSE)","v":{"$error":"#N/A"}},null,null,0,0]
[{"$f":"VLOOKUP(B93,'(1) Project Reference Item List'!$B$2:$C$1000,2,FALSE)","v":{"$error":"#N/A"}},null,null,null,null,null,null,null,null,null,null,{"$f":"VLOOKUP(B93,'(1) Project Reference Item List'!$B$2:$D$1000,3,FALSE)","v":{"$error":"#N/A"}},null,null,0,0]
[{"$f":"VLOOKUP(B94,'(1) Project Reference Item List'!$B$2:$C$1000,2,FALSE)","v":{"$error":"#N/A"}},null,null,null,null,null,null,null,null,null,null,{"$f":"VLOOKUP(B94,'(1) Project Reference Item List'!$B$2:$D$1000,3,FALSE)","v":{"$error":"#N/A"}},null,null,0,0]
[{"$f":"VLOOKUP(B95,'(1) Project Reference Item List'!$B$2:$C$1000,2,FALSE)","v":{"$error":"#N/A"}},null,null,null,null,null,null,null,null,null,null,{"$f":"VLOOKUP(B95,'(1) Project Reference Item List'!$B$2:$D$1000,3,FALSE)","v":{"$error":"#N/A"}},null,null,0,0]
[{"$f":"VLOOKUP(B96,'(1) Project Reference Item List'!$B$2:$C$1000,2,FALSE)","v":{"$error":"#N/A"}},null,null,null,null,null,null,null,null,null,null,{"$f":"VLOOKUP(B96,'(1) Project Reference Item List'!$B$2:$D$1000,3,FALSE)","v":{"$error":"#N/A"}},null,null,0,0]
[{"$f":"VLOOKUP(B97,'(1) Project Reference Item List'!$B$2:$C$1000,2,FALSE)","v":{"$error":"#N/A"}},null,null,null,null,null,null,null,null,null,null,{"$f":"VLOOKUP(B97,'(1) Project Reference Item List'!$B$2:$D$1000,3,FALSE)","v":{"$error":"#N/A"}},null,null,0,0]
[{"$f":"VLOOKUP(B98,'(1) Project Reference Item List'!$B$2:$C$1000,2,FALSE)","v":{"$error":"#N/A"}},null,null,null,null,null,null,null,null,null,null,{"$f":"VLOOKUP(B98,'(1) Project Reference Item List'!$B$2:$D$1000,3,FALSE)","v":{"$error":"#N/A"}},null,null,0,0]
[{"$f":"VLOOKUP(B99,'(1) Project Reference Item List'!$B$2:$C$1000,2,FALSE)","v":{"$error":"#N/A"}},null,null,null,null,null,null,null,null,null,null,{"$f":"VLOOKUP(B99,'(1) Project Reference Item List'!$B$2:$D$1000,3,FALSE)","v":{"$error":"#N/A"}},null,null,0,0]
[{"$f":"VLOOKUP(B100,'(1) Project Reference Item List'!$B$2:$C$1000,2,FALSE)","v":{"$error":"#N/A"}},null,null,null,null,null,null,null,null,null,null,{"$f":"VLOOKUP(B100,'(1) Project Reference Item List'!$B$2:$D$1000,3,FALSE)","v":{"$error":"#N/A"}},null,null,0,0]
[{"$f":"VLOOKUP(B101,'(1) Project Reference Item List'!$B$2:$C$1000,2,FALSE)","v":{"$error":"#N/A"}},null,null,null,null,null,null,null,null,null,null,{"$f":"VLOOKUP(B101,'(1) Project Reference Item List'!$B$2:$D$1000,3,FALSE)","v":{"$error":"#N/A"}},null,null,0,0]
[{"$f":"VLOOKUP(B102,'(1) Project Reference Item List'!$B$2:$C$1000,2,FALSE)","v":{"$error":"#N/A"}},null,null,null,null,null,null,null,null,null,null,{"$f":"VLOOKUP(B102,'(1) Project Reference Item List'!$B$2:$D$1000,3,FALSE)","v":{"$error":"#N/A"}},null,null,0,0]
[{"$f":"VLOOKUP(B103,'(1) Project Reference Item List'!$B$2:$C$1000,2,FALSE)","v":{"$error":"#N/A"}},null,null,null,null,null,null,null,null,null,null,{"$f":"VLOOKUP(B103,'(1) Project Reference Item List'!$B$2:$D$1000,3,FALSE)","v":{"$error":"#N/A"}},null,null,0,0]
[{"$f":"VLOOKUP(B104,'(1) Project Reference Item List'!$B$2:$C$1000,2,FALSE)","v":{"$error":"#N/A"}},null,null,null,null,null,null,null,null,null,null,{"$f":"VLOOKUP(B104,'(1) Project Reference Item List'!$B$2:$D$1000,3,FALSE)","v":{"$error":"#N/A"}},null,null,0,0]
[{"$f":"VLOOKUP(B105,'(1) Project Reference Item List'!$B$2:$C$1000,2,FALSE)","v":{"$error":"#N/A"}},null,null,null,null,null,null,null,null,null,null,{"$f":"VLOOKUP(B105,'(1) Project Reference Item List'!$B$2:$D$1000,3,FALSE)","v":{"$error":"#N/A"}},null,null,0,0]
[{"$f":"VLOOKUP(B106,'(1) Project Reference Item List'!$B$2:$C$1000,2,FALSE)","v":{"$error":"#N/A"}},null,null,null,null,null,null,null,null,null,null,{"$f":"VLOOKUP(B106,'(1) Project Reference Item List'!$B$2:$D$1000,3,FALSE)","v":{"$error":"#N/A"}},null,null,0,0]
[{"$f":"VLOOKUP(B107,'(1) Project Reference Item List'!$B$2:$C$1000,2,FALSE)","v":{"$error":"#N/A"}},null,null,null,null,null,null,null,null,null,null,{"$f":"VLOOKUP(B107,'(1) Project Reference Item List'!$B$2:$D$1000,3,FALSE)","v":{"$error":"#N/A"}},null,null,0,0]
[{"$f":"VLOOKUP(B108,'(1) Project Reference Item List'!$B$2:$C$1000,2,FALSE)","v":{"$error":"#N/A"}},null,null,null,null,null,null,null,null,null,null,{"$f":"VLOOKUP(B108,'(1) Project Reference Item List'!$B$2:$D$1000,3,FALSE)","v":{"$error":"#N/A"}},null,null,0,0]
[{"$f":"VLOOKUP(B109,'(1) Project Reference Item List'!$B$2:$C$1000,2,FALSE)","v":{"$error":"#N/A"}},null,null,null,null,null,null,null,null,null,null,{"$f":"VLOOKUP(B109,'(1) Project Reference Item List'!$B$2:$D$1000,3,FALSE)","v":{"$error":"#N/A"}},null,null,0,0]
[{"$f":"VLOOKUP(B110,'(1) Project Reference Item List'!$B$2:$C$1000,2,FALSE)","v":{"$error":"#N/A"}},null,null,null,null,null,null,null,null,null,null,{"$f":"VLOOKUP(B110,'(1) Project Reference Item List'!$B$2:$D$1000,3,FALSE)","v":{"$error":"#N/A"}},null,null,0,0]
[{"$f":"VLOOKUP(B111,'(1) Project Reference Item List'!$B$2:$C$1000,2,FALSE)","v":{"$error":"#N/A"}},null,null,null,null,null,null,null,null,null,null,{"$f":"VLOOKUP(B111,'(1) Project Reference Item List'!$B$2:$D$1000,3,FALSE)","v":{"$error":"#N/A"}},null,null,0,0]
[{"$f":"VLOOKUP(B112,'(1) Project Reference Item List'!$B$2:$C$1000,2,FALSE)","v":{"$error":"#N/A"}},null,null,null,null,null,null,null,null,null,null,{"$f":"VLOOKUP(B112,'(1) Project Reference Item List'!$B$2:$D$1000,3,FALSE)","v":{"$error":"#N/A"}},null,null,0,0]
[{"$f":"VLOOKUP(B113,'(1) Project Reference Item List'!$B$2:$C$1000,2,FALSE)","v":{"$error":"#N/A"}},null,null,null,null,null,null,null,null,null,null,{"$f":"VLOOKUP(B113,'(1) Project Reference Item List'!$B$2:$D$1000,3,FALSE)","v":{"$error":"#N/A"}},null,null,0,0]
[{"$f":"VLOOKUP(B114,'(1) Project Reference Item List'!$B$2:$C$1000,2,FALSE)","v":{"$error":"#N/A"}},null,null,null,null,null,null,null,null,null,null,{"$f":"VLOOKUP(B114,'(1) Project Reference Item List'!$B$2:$D$1000,3,FALSE)","v":{"$error":"#N/A"}},null,null,0,0]
[{"$f":"VLOOKUP(B115,'(1) Project Reference Item List'!$B$2:$C$1000,2,FALSE)","v":{"$error":"#N/A"}},null,null,null,null,null,null,null,null,null,null,{"$f":"VLOOKUP(B115,'(1) Project Reference Item List'!$B$2:$D$1000,3,FALSE)","v":{"$error":"#N/A"}},null,null,0,0]
[{"$f":"VLOOKUP(B116,'(1) Project Reference Item List'!$B$2:$C$1000,2,FALSE)","v":{"$error":"#N/A"}},null,null,null,null,null,null,null,null,null,null,{"$f":"VLOOKUP(B116,'(1) Project Reference Item List'!$B$2:$D$1000,3,FALSE)","v":{"$error":"#N/A"}},null,null,0,0]
[{"$f":"VLOOKUP(B117,'(1) Project Reference Item List'!$B$2:$C$1000,2,FALSE)","v":{"$error":"#N/A"}},null,null,null,null,null,null,null,null,null,null,{"$f":"VLOOKUP(B117,'(1) Project Reference Item List'!$B$2:$D$1000,3,FALSE)","v":{"$error":"#N/A"}},null,null,0,0]
[{"$f":"VLOOKUP(B118,'(1) Project Reference Item List'!$B$2:$C$1000,2,FALSE)","v":{"$error":"#N/A"}},null,null,null,null,null,null,null,null,null,null,{"$f":"VLOOKUP(B118,'(1) Project Reference Item List'!$B$2:$D$1000,3,FALSE)","v":{"$error":"#N/A"}},null,null,0,0]
[{"$f":"VLOOKUP(B119,'(1) Project Reference Item List'!$B$2:$C$1000,2,FALSE)","v":{"$error":"#N/A"}},null,null,null,null,null,null,null,null,null,null,{"$f":"VLOOKUP(B119,'(1) Project Reference Item List'!$B$2:$D$1000,3,FALSE)","v":{"$error":"#N/A"}},null,null,0,0]
[{"$f":"VLOOKUP(B120,'(1) Project Reference Item List'!$B$2:$C$1000,2,FALSE)","v":{"$error":"#N/A"}},null,null,null,null,null,null,null,null,null,null,{"$f":"VLOOKUP(B120,'(1) Project Reference Item List'!$B$2:$D$1000,3,FALSE)","v":{"$error":"#N/A"}},null,null,0,0]
[{"$f":"VLOOKUP(B121,'(1) Project Reference Item List'!$B$2:$C$1000,2,FALSE)","v":{"$error":"#N/A"}},null,null,null,null,null,null,null,null,null,null,{"$f":"VLOOKUP(B121,'(1) Project Reference Item List'!$B$2:$D$1000,3,FALSE)","v":{"$error":"#N/A"}},null,null,0,0]
[{"$f":"VLOOKUP(B122,'(1) Project Reference Item List'!$B$2:$C$1000,2,FALSE)","v":{"$error":"#N/A"}},null,null,null,null,null,null,null,null,null,null,{"$f":"VLOOKUP(B122,'(1) Project Reference Item List'!$B$2:$D$1000,3,FALSE)","v":{"$error":"#N/A"}},null,null,0,0]
[{"$f":"VLOOKUP(B123,'(1) Project Reference Item List'!$B$2:$C$1000,2,FALSE)","v":{"$error":"#N/A"}},null,null,null,null,null,null,null,null,null,null,{"$f":"VLOOKUP(B123,'(1) Project Reference Item List'!$B$2:$D$1000,3,FALSE)","v":{"$error":"#N/A"}},null,null,0,0]
[{"$f":"VLOOKUP(B124,'(1) Project Reference Item List'!$B$2:$C$1000,2,FALSE)","v":{"$error":"#N/A"}},null,null,null,null,null,null,null,null,null,null,{"$f":"VLOOKUP(B124,'(1) Project Reference Item List'!$B$2:$D$1000,3,FALSE)","v":{"$error":"#N/A"}},null,null,0,0]
[{"$f":"VLOOKUP(B125,'(1) Project Reference Item List'!$B$2:$C$1000,2,FALSE)","v":{"$error":"#N/A"}},null,null,null,null,null,null,null,null,null,null,{"$f":"VLOOKUP(B125,'(1) Project Reference Item List'!$B$2:$D$1000,3,FALSE)","v":{"$error":"#N/A"}},null,null,0,0]
[{"$f":"VLOOKUP(B126,'(1) Project Reference Item List'!$B$2:$C$1000,2,FALSE)","v":{"$error":"#N/A"}},null,null,null,null,null,null,null,null,null,null,{"$f":"VLOOKUP(B126,'(1) Project Reference Item List'!$B$2:$D$1000,3,FALSE)","v":{"$error":"#N/A"}},null,null,0,0]
[{"$f":"VLOOKUP(B127,'(1) Project Reference Item List'!$B$2:$C$1000,2,FALSE)","v":{"$error":"#N/A"}},null,null,null,null,null,null,null,null,null,null,{"$f":"VLOOKUP(B127,'(1) Project Reference Item List'!$B$2:$D$1000,3,FALSE)","v":{"$error":"#N/A"}},null,null,0,0]
[{"$f":"VLOOKUP(B128,'(1) Project Reference Item List'!$B$2:$C$1000,2,FALSE)","v":{"$error":"#N/A"}},null,null,null,null,null,null,null,null,null,null,{"$f":"VLOOKUP(B128,'(1) Project Reference Item List'!$B$2:$D$1000,3,FALSE)","v":{"$error":"#N/A"}},null,null,0,0]
[{"$f":"VLOOKUP(B129,'(1) Project Reference Item List'!$B$2:$C$1000,2,FALSE)","v":{"$error":"#N/A"}},null,null,null,null,null,null,null,null,null,null,{"$f":"VLOOKUP(B129,'(1) Project Reference Item List'!$B$2:$D$1000,3,FALSE)","v":{"$error":"#N/A"}},null,null,0,0]
[{"$f":"VLOOKUP(B130,'(1) Project Reference Item List'!$B$2:$C$1000,2,FALSE)","v":{"$error":"#N/A"}},null,null,null,null,null,null,null,null,null,null,{"$f":"VLOOKUP(B130,'(1) Project Reference Item List'!$B$2:$D$1000,3,FALSE)","v":{"$error":"#N/A"}},null,null,0,0]
[{"$f":"VLOOKUP(B131,'(1) Project Reference Item List'!$B$2:$C$1000,2,FALSE)","v":{"$error":"#N/A"}},null,null,null,null,null,null,null,null,null,null,{"$f":"VLOOKUP(B131,'(1) Project Reference Item List'!$B$2:$D$1000,3,FALSE)","v":{"$error":"#N/A"}},null,null,0,0]
[{"$f":"VLOOKUP(B132,'(1) Project Reference Item List'!$B$2:$C$1000,2,FALSE)","v":{"$error":"#N/A"}},null,null,null,null,null,null,null,null,null,null,{"$f":"VLOOKUP(B132,'(1) Project Reference Item List'!$B$2:$D$1000,3,FALSE)","v":{"$error":"#N/A"}},null,null,0,0]
[{"$f":"VLOOKUP(B133,'(1) Project Reference Item List'!$B$2:$C$1000,2,FALSE)","v":{"$error":"#N/A"}},null,null,null,null,null,null,null,null,null,null,{"$f":"VLOOKUP(B133,'(1) Project Reference Item List'!$B$2:$D$1000,3,FALSE)","v":{"$error":"#N/A"}},null,null,0,0]
[{"$f":"VLOOKUP(B134,'(1) Project Reference Item List'!$B$2:$C$1000,2,FALSE)","v":{"$error":"#N/A"}},null,null,null,null,null,null,null,null,null,null,{"$f":"VLOOKUP(B134,'(1) Project Reference Item List'!$B$2:$D$1000,3,FALSE)","v":{"$error":"#N/A"}},null,null,{"$f":"IF(J134=0,J134,J134*N134)","v":0},{"$f":"(M134-O134)","v":0}]
[{"$f":"VLOOKUP(B135,'(1) Project Reference Item List'!$B$2:$C$1000,2,FALSE)","v":{"$error":"#N/A"}},null,null,null,null,null,null,null,null,null,null,{"$f":"VLOOKUP(B135,'(1) Project Reference Item List'!$B$2:$D$1000,3,FALSE)","v":{"$error":"#N/A"}},null,null,0,0]
[{"$f":"VLOOKUP(B136,'(1) Project Reference Item List'!$B$2:$C$1000,2,FALSE)","v":{"$error":"#N/A"}},null,null,null,null,null,null,null,null,null,null,{"$f":"VLOOKUP(B136,'(1) Project Reference Item List'!$B$2:$D$1000,3,FALSE)","v":{"$error":"#N/A"}},null,null,0,0]
[{"$f":"VLOOKUP(B137,'(1) Project Reference Item List'!$B$2:$C$1000,2,FALSE)","v":{"$error":"#N/A"}},null,null,null,null,null,null,null,null,null,null,{"$f":"VLOOKUP(B137,'(1) Project Reference Item List'!$B$2:$D$1000,3,FALSE)","v":{"$error":"#N/A"}},null,null,0,0]
[{"$f":"VLOOKUP(B138,'(1) Project Reference Item List'!$B$2:$C$1000,2,FALSE)","v":{"$error":"#N/A"}},null,null,null,null,null,null,null,null,null,null,{"$f":"VLOOKUP(B138,'(1) Project Reference Item List'!$B$2:$D$1000,3,FALSE)","v":{"$error":"#N/A"}},null,null,0,0]
[{"$f":"VLOOKUP(B139,'(1) Project Reference Item List'!$B$2:$C$1000,2,FALSE)","v":{"$error":"#N/A"}},null,null,null,null,null,null,null,null,null,null,{"$f":"VLOOKUP(B139,'(1) Project Reference Item List'!$B$2:$D$1000,3,FALSE)","v":{"$error":"#N/A"}},null,null,0,0]
[{"$f":"VLOOKUP(B140,'(1) Project Reference Item List'!$B$2:$C$1000,2,FALSE)","v":{"$error":"#N/A"}},null,null,null,null,null,null,null,null,null,null,{"$f":"VLOOKUP(B140,'(1) Project Reference Item List'!$B$2:$D$1000,3,FALSE)","v":{"$error":"#N/A"}},null,null,0,0]
[{"$f":"VLOOKUP(B141,'(1) Project Reference Item List'!$B$2:$C$1000,2,FALSE)","v":{"$error":"#N/A"}},null,null,null,null,null,null,null,null,null,null,{"$f":"VLOOKUP(B141,'(1) Project Reference Item List'!$B$2:$D$1000,3,FALSE)","v":{"$error":"#N/A"}},null,null,0,0]
[{"$f":"VLOOKUP(B142,'(1) Project Reference Item List'!$B$2:$C$1000,2,FALSE)","v":{"$error":"#N/A"}},null,null,null,null,null,null,null,null,null,null,{"$f":"VLOOKUP(B142,'(1) Project Reference Item List'!$B$2:$D$1000,3,FALSE)","v":{"$error":"#N/A"}},null,null,0,0]
[{"$f":"VLOOKUP(B143,'(1) Project Reference Item List'!$B$2:$C$1000,2,FALSE)","v":{"$error":"#N/A"}},null,null,null,null,null,null,null,null,null,null,{"$f":"VLOOKUP(B143,'(1) Project Reference Item List'!$B$2:$D$1000,3,FALSE)","v":{"$error":"#N/A"}},null,null,0,0]
[{"$f":"VLOOKUP(B144,'(1) Project Reference Item List'!$B$2:$C$1000,2,FALSE)","v":{"$error":"#N/A"}},null,null,null,null,null,null,null,null,null,null,{"$f":"VLOOKUP(B144,'(1) Project Reference Item List'!$B$2:$D$1000,3,FALSE)","v":{"$error":"#N/A"}},null,null,0,0]
[{"$f":"VLOOKUP(B145,'(1) Project Reference Item List'!$B$2:$C$1000,2,FALSE)","v":{"$error":"#N/A"}},null,null,null,null,null,null,null,null,null,null,{"$f":"VLOOKUP(B145,'(1) Project Reference Item List'!$B$2:$D$1000,3,FALSE)","v":{"$error":"#N/A"}},null,null,0,0]
[{"$f":"VLOOKUP(B146,'(1) Project Reference Item List'!$B$2:$C$1000,2,FALSE)","v":{"$error":"#N/A"}},null,null,null,null,null,null,null,null,null,null,{"$f":"VLOOKUP(B146,'(1) Project Reference Item List'!$B$2:$D$1000,3,FALSE)","v":{"$error":"#N/A"}},null,null,0,0]
[{"$f":"VLOOKUP(B147,'(1) Project Reference Item List'!$B$2:$C$1000,2,FALSE)","v":{"$error":"#N/A"}},null,null,null,null,null,null,null,null,null,null,{"$f":"VLOOKUP(B147,'(1) Project Reference Item List'!$B$2:$D$1000,3,FALSE)","v":{"$error":"#N/A"}},null,null,0,0]
[{"$f":"VLOOKUP(B148,'(1) Project Reference Item List'!$B$2:$C$1000,2,FALSE)","v":{"$error":"#N/A"}},null,null,null,null,null,null,null,null,null,null,{"$f":"VLOOKUP(B148,'(1) Project Reference Item List'!$B$2:$D$1000,3,FALSE)","v":{"$error":"#N/A"}},null,null,0,0]
[{"$f":"VLOOKUP(B149,'(1) Project Reference Item List'!$B$2:$C$1000,2,FALSE)","v":{"$error":"#N/A"}},null,null,null,null,null,null,null,null,null,null,{"$f":"VLOOKUP(B149,'(1) Project Reference Item List'!$B$2:$D$1000,3,FALSE)","v":{"$error":"#N/A"}},null,null,0,0]
[{"$f":"VLOOKUP(B150,'(1) Project Reference Item List'!$B$2:$C$1000,2,FALSE)","v":{"$error":"#N/A"}},null,null,null,null,null,null,null,null,null,null,{"$f":"VLOOKUP(B150,'(1) Project Reference Item List'!$B$2:$D$1000,3,FALSE)","v":{"$error":"#N/A"}},null,null,0,0]
[{"$f":"VLOOKUP(B151,'(1) Project Reference Item List'!$B$2:$C$1000,2,FALSE)","v":{"$error":"#N/A"}},null,null,null,null,null,null,null,null,null,null,{"$f":"VLOOKUP(B151,'(1) Project Reference Item List'!$B$2:$D$1000,3,FALSE)","v":{"$error":"#N/A"}},null,null,0,0]
[{"$f":"VLOOKUP(B152,'(1) Project Reference Item List'!$B$2:$C$1000,2,FALSE)","v":{"$error":"#N/A"}},null,null,null,null,null,null,null,null,null,null,{"$f":"VLOOKUP(B152,'(1) Project Reference Item List'!$B$2:$D$1000,3,FALSE)","v":{"$error":"#N/A"}},null,null,0,0]
[{"$f":"VLOOKUP(B153,'(1) Project Reference Item List'!$B$2:$C$1000,2,FALSE)","v":{"$error":"#N/A"}},null,null,null,null,null,null,null,null,null,null,{"$f":"VLOOKUP(B153,'(1) Project Reference Item List'!$B$2:$D$1000,3,FALSE)","v":{"$error":"#N/A"}},null,null,0,0]
[{"$f":"VLOOKUP(B154,'(1) Project Reference Item List'!$B$2:$C$1000,2,FALSE)","v":{"$error":"#N/A"}},null,null,null,null,null,null,null,null,null,null,{"$f":"VLOOKUP(B154,'(1) Project Reference Item List'!$B$2:$D$1000,3,FALSE)","v":{"$error":"#N/A"}},null,null,0,0]
[{"$f":"VLOOKUP(B155,'(1) Project Reference Item List'!$B$2:$C$1000,2,FALSE)","v":{"$error":"#N/A"}},null,null,null,null,null,null,null,null,null,null,{"$f":"VLOOKUP(B155,'(1) Project Reference Item List'!$B$2:$D$1000,3,FALSE)","v":{"$error":"#N/A"}},null,null,0,0]
[{"$f":"VLOOKUP(B156,'(1) Project Reference Item List'!$B$2:$C$1000,2,FALSE)","v":{"$error":"#N/A"}},null,null,null,null,null,null,null,null,null,null,{"$f":"VLOOKUP(B156,'(1) Project Reference Item List'!$B$2:$D$1000,3,FALSE)","v":{"$error":"#N/A"}},null,null,0,0]
[{"$f":"VLOOKUP(B157,'(1) Project Reference Item List'!$B$2:$C$1000,2,FALSE)","v":{"$error":"#N/A"}},null,null,null,null,null,null,null,null,null,null,{"$f":"VLOOKUP(B157,'(1) Project Reference Item List'!$B$2:$D$1000,3,FALSE)","v":{"$error":"#N/A"}},null,null,0,0]
[{"$f":"VLOOKUP(B158,'(1) Project Reference Item List'!$B$2:$C$1000,2,FALSE)","v":{"$error":"#N/A"}},null,null,null,null,null,null,null,null,null,null,{"$f":"VLOOKUP(B158,'(1) Project Reference Item List'!$B$2:$D$1000,3,FALSE)","v":{"$error":"#N/A"}},null,null,0,0]
[{"$f":"VLOOKUP(B159,'(1) Project Reference Item List'!$B$2:$C$1000,2,FALSE)","v":{"$error":"#N/A"}},null,null,null,null,null,null,null,null,null,null,{"$f":"VLOOKUP(B159,'(1) Project Reference Item List'!$B$2:$D$1000,3,FALSE)","v":{"$error":"#N/A"}},null,null,0,0]
[{"$f":"VLOOKUP(B160,'(1) Project Reference Item List'!$B$2:$C$1000,2,FALSE)","v":{"$error":"#N/A"}},null,null,null,null,null,null,null,null,null,null,{"$f":"VLOOKUP(B160,'(1) Project Reference Item List'!$B$2:$D$1000,3,FALSE)","v":{"$error":"#N/A"}},null,null,0,0]
[{"$f":"VLOOKUP(B161,'(1) Project Reference Item List'!$B$2:$C$1000,2,FALSE)","v":{"$error":"#N/A"}},null,null,null,null,null,null,null,null,null,null,{"$f":"VLOOKUP(B161,'(1) Project Reference Item List'!$B$2:$D$1000,3,FALSE)","v":{"$error":"#N/A"}},null,null,0,0]
[{"$f":"VLOOKUP(B162,'(1) Project Reference Item List'!$B$2:$C$1000,2,FALSE)","v":{"$error":"#N/A"}},null,null,null,null,null,null,null,null,null,null,{"$f":"VLOOKUP(B162,'(1) Project Reference Item List'!$B$2:$D$1000,3,FALSE)","v":{"$error":"#N/A"}},null,null,0,0]
[{"$f":"VLOOKUP(B163,'(1) Project Reference Item List'!$B$2:$C$1000,2,FALSE)","v":{"$error":"#N/A"}},null,null,null,null,null,null,null,null,null,null,{"$f":"VLOOKUP(B163,'(1) Project Reference Item List'!$B$2:$D$1000,3,FALSE)","v":{"$error":"#N/A"}},null,null,0,0]
[{"$f":"VLOOKUP(B164,'(1) Project Reference Item List'!$B$2:$C$1000,2,FALSE)","v":{"$error":"#N/A"}},null,null,null,null,null,null,null,null,null,null,{"$f":"VLOOKUP(B164,'(1) Project Reference Item List'!$B$2:$D$1000,3,FALSE)","v":{"$error":"#N/A"}},null,null,0,0]
[{"$f":"VLOOKUP(B165,'(1) Project Reference Item List'!$B$2:$C$1000,2,FALSE)","v":{"$error":"#N/A"}},null,null,null,null,null,null,null,null,null,null,{"$f":"VLOOKUP(B165,'(1) Project Reference Item List'!$B$2:$D$1000,3,FALSE)","v":{"$error":"#N/A"}},null,null,0,0]
[{"$f":"VLOOKUP(B166,'(1) Project Reference Item List'!$B$2:$C$1000,2,FALSE)","v":{"$error":"#N/A"}},null,null,null,null,null,null,null,null,null,null,{"$f":"VLOOKUP(B166,'(1) Project Reference Item List'!$B$2:$D$1000,3,FALSE)","v":{"$error":"#N/A"}},null,null,0,0]
[{"$f":"VLOOKUP(B167,'(1) Project Reference Item List'!$B$2:$C$1000,2,FALSE)","v":{"$error":"#N/A"}},null,null,null,null,null,null,null,null,null,null,{"$f":"VLOOKUP(B167,'(1) Project Reference Item List'!$B$2:$D$1000,3,FALSE)","v":{"$error":"#N/A"}},null,null,0,0]
[{"$f":"VLOOKUP(B168,'(1) Project Reference Item List'!$B$2:$C$1000,2,FALSE)","v":{"$error":"#N/A"}},null,null,null,null,null,null,null,null,null,null,{"$f":"VLOOKUP(B168,'(1) Project Reference Item List'!$B$2:$D$1000,3,FALSE)","v":{"$error":"#N/A"}},null,null,0,0]
[{"$f":"VLOOKUP(B169,'(1) Project Reference Item List'!$B$2:$C$1000,2,FALSE)","v":{"$error":"#N/A"}},null,null,null,null,null,null,null,null,null,null,{"$f":"VLOOKUP(B169,'(1) Project Reference Item List'!$B$2:$D$1000,3,FALSE)","v":{"$error":"#N/A"}},null,null,0,0]
[{"$f":"VLOOKUP(B170,'(1) Project Reference Item List'!$B$2:$C$1000,2,FALSE)","v":{"$error":"#N/A"}},null,null,null,null,null,null,null,null,null,null,{"$f":"VLOOKUP(B170,'(1) Project Reference Item List'!$B$2:$D$1000,3,FALSE)","v":{"$error":"#N/A"}},null,null,0,0]
[{"$f":"VLOOKUP(B171,'(1) Project Reference Item List'!$B$2:$C$1000,2,FALSE)","v":{"$error":"#N/A"}},null,null,null,null,null,null,null,null,null,null,{"$f":"VLOOKUP(B171,'(1) Project Reference Item List'!$B$2:$D$1000,3,FALSE)","v":{"$error":"#N/A"}},null,null,0,0]
[{"$f":"VLOOKUP(B172,'(1) Project Reference Item List'!$B$2:$C$1000,2,FALSE)","v":{"$error":"#N/A"}},null,null,null,null,null,null,null,null,null,null,{"$f":"VLOOKUP(B172,'(1) Project Reference Item List'!$B$2:$D$1000,3,FALSE)","v":{"$error":"#N/A"}},null,null,0,0]
[{"$f":"VLOOKUP(B173,'(1) Project Reference Item List'!$B$2:$C$1000,2,FALSE)","v":{"$error":"#N/A"}},null,null,null,null,null,null,null,null,null,null,{"$f":"VLOOKUP(B173,'(1) Project Reference Item List'!$B$2:$D$1000,3,FALSE)","v":{"$error":"#N/A"}},null,null,0,0]
[{"$f":"VLOOKUP(B174,'(1) Project Reference Item List'!$B$2:$C$1000,2,FALSE)","v":{"$error":"#N/A"}},null,null,null,null,null,null,null,null,null,null,{"$f":"VLOOKUP(B174,'(1) Project Reference Item List'!$B$2:$D$1000,3,FALSE)","v":{"$error":"#N/A"}},null,null,0,0]
[{"$f":"VLOOKUP(B175,'(1) Project Reference Item List'!$B$2:$C$1000,2,FALSE)","v":{"$error":"#N/A"}},null,null,null,null,null,null,null,null,null,null,{"$f":"VLOOKUP(B175,'(1) Project Reference Item List'!$B$2:$D$1000,3,FALSE)","v":{"$error":"#N/A"}},null,null,0,0]
[{"$f":"VLOOKUP(B176,'(1) Project Reference Item List'!$B$2:$C$1000,2,FALSE)","v":{"$error":"#N/A"}},null,null,null,null,null,null,null,null,null,null,{"$f":"VLOOKUP(B176,'(1) Project Reference Item List'!$B$2:$D$1000,3,FALSE)","v":{"$error":"#N/A"}},null,null,0,0]
[{"$f":"VLOOKUP(B177,'(1) Project Reference Item List'!$B$2:$C$1000,2,FALSE)","v":{"$error":"#N/A"}},null,null,null,null,null,null,null,null,null,null,{"$f":"VLOOKUP(B177,'(1) Project Reference Item List'!$B$2:$D$1000,3,FALSE)","v":{"$error":"#N/A"}},null,null,0,0]
[{"$f":"VLOOKUP(B178,'(1) Project Reference Item List'!$B$2:$C$1000,2,FALSE)","v":{"$error":"#N/A"}},null,null,null,null,null,null,null,null,null,null,{"$f":"VLOOKUP(B178,'(1) Project Reference Item List'!$B$2:$D$1000,3,FALSE)","v":{"$error":"#N/A"}},null,null,0,0]
[{"$f":"VLOOKUP(B179,'(1) Project Reference Item List'!$B$2:$C$1000,2,FALSE)","v":{"$error":"#N/A"}},null,null,null,null,null,null,null,null,null,null,{"$f":"VLOOKUP(B179,'(1) Project Reference Item List'!$B$2:$D$1000,3,FALSE)","v":{"$error":"#N/A"}},null,null,0,0]
[{"$f":"VLOOKUP(B180,'(1) Project Reference Item List'!$B$2:$C$1000,2,FALSE)","v":{"$error":"#N/A"}},null,null,null,null,null,null,null,null,null,null,{"$f":"VLOOKUP(B180,'(1) Project Reference Item List'!$B$2:$D$1000,3,FALSE)","v":{"$error":"#N/A"}},null,null,0,0]
[{"$f":"VLOOKUP(B181,'(1) Project Reference Item List'!$B$2:$C$1000,2,FALSE)","v":{"$error":"#N/A"}},null,null,null,null,null,null,null,null,null,null,{"$f":"VLOOKUP(B181,'(1) Project Reference Item List'!$B$2:$D$1000,3,FALSE)","v":{"$error":"#N/A"}},null,null,0,0]
[{"$f":"VLOOKUP(B182,'(1) Project Reference Item List'!$B$2:$C$1000,2,FALSE)","v":{"$error":"#N/A"}},null,null,null,null,null,null,null,null,null,null,{"$f":"VLOOKUP(B182,'(1) Project Reference Item List'!$B$2:$D$1000,3,FALSE)","v":{"$error":"#N/A"}},null,null,0,0]
[{"$f":"VLOOKUP(B183,'(1) Project Reference Item List'!$B$2:$C$1000,2,FALSE)","v":{"$error":"#N/A"}},null,null,null,null,null,null,null,null,null,null,{"$f":"VLOOKUP(B183,'(1) Project Reference Item List'!$B$2:$D$1000,3,FALSE)","v":{"$error":"#N/A"}},null,null,0,0]
[{"$f":"VLOOKUP(B184,'(1) Project Reference Item List'!$B$2:$C$1000,2,FALSE)","v":{"$error":"#N/A"}},null,null,null,null,null,null,null,null,null,null,{"$f":"VLOOKUP(B184,'(1) Project Reference Item List'!$B$2:$D$1000,3,FALSE)","v":{"$error":"#N/A"}},null,null,0,0]
[{"$f":"VLOOKUP(B185,'(1) Project Reference Item List'!$B$2:$C$1000,2,FALSE)","v":{"$error":"#N/A"}},null,null,null,null,null,null,null,null,null,null,{"$f":"VLOOKUP(B185,'(1) Project Reference Item List'!$B$2:$D$1000,3,FALSE)","v":{"$error":"#N/A"}},null,null,0,0]
[{"$f":"VLOOKUP(B186,'(1) Project Reference Item List'!$B$2:$C$1000,2,FALSE)","v":{"$error":"#N/A"}},null,null,null,null,null,null,null,null,null,null,{"$f":"VLOOKUP(B186,'(1) Project Reference Item List'!$B$2:$D$1000,3,FALSE)","v":{"$error":"#N/A"}},null,null,0,0]
[{"$f":"VLOOKUP(B187,'(1) Project Reference Item List'!$B$2:$C$1000,2,FALSE)","v":{"$error":"#N/A"}},null,null,null,null,null,null,null,null,null,null,{"$f":"VLOOKUP(B187,'(1) Project Reference Item List'!$B$2:$D$1000,3,FALSE)","v":{"$error":"#N/A"}},null,null,0,0]
[{"$f":"VLOOKUP(B188,'(1) Project Reference Item List'!$B$2:$C$1000,2,FALSE)","v":{"$error":"#N/A"}},null,null,null,null,null,null,null,null,null,null,{"$f":"VLOOKUP(B188,'(1) Project Reference Item List'!$B$2:$D$1000,3,FALSE)","v":{"$error":"#N/A"}},null,null,0,0]
[{"$f":"VLOOKUP(B189,'(1) Project Reference Item List'!$B$2:$C$1000,2,FALSE)","v":{"$error":"#N/A"}},null,null,null,null,null,null,null,null,null,null,{"$f":"VLOOKUP(B189,'(1) Project Reference Item List'!$B$2:$D$1000,3,FALSE)","v":{"$error":"#N/A"}},null,null,0,0]
[{"$f":"VLOOKUP(B190,'(1) Project Reference Item List'!$B$2:$C$1000,2,FALSE)","v":{"$error":"#N/A"}},null,null,null,null,null,null,null,null,null,null,{"$f":"VLOOKUP(B190,'(1) Project Reference Item List'!$B$2:$D$1000,3,FALSE)","v":{"$error":"#N/A"}},null,null,0,0]
[{"$f":"VLOOKUP(B191,'(1) Project Reference Item List'!$B$2:$C$1000,2,FALSE)","v":{"$error":"#N/A"}},null,null,null,null,null,null,null,null,null,null,{"$f":"VLOOKUP(B191,'(1) Project Reference Item List'!$B$2:$D$1000,3,FALSE)","v":{"$error":"#N/A"}},null,null,0,0]
[{"$f":"VLOOKUP(B192,'(1) Project Reference Item List'!$B$2:$C$1000,2,FALSE)","v":{"$error":"#N/A"}},null,null,null,null,null,null,null,null,null,null,{"$f":"VLOOKUP(B192,'(1) Project Reference Item List'!$B$2:$D$1000,3,FALSE)","v":{"$error":"#N/A"}},null,null,0,0]
[{"$f":"VLOOKUP(B193,'(1) Project Reference Item List'!$B$2:$C$1000,2,FALSE)","v":{"$error":"#N/A"}},null,null,null,null,null,null,null,null,null,null,{"$f":"VLOOKUP(B193,'(1) Project Reference Item List'!$B$2:$D$1000,3,FALSE)","v":{"$error":"#N/A"}},null,null,0,0]
[{"$f":"VLOOKUP(B194,'(1) Project Reference Item List'!$B$2:$C$1000,2,FALSE)","v":{"$error":"#N/A"}},null,null,null,null,null,null,null,null,null,null,{"$f":"VLOOKUP(B194,'(1) Project Reference Item List'!$B$2:$D$1000,3,FALSE)","v":{"$error":"#N/A"}},null,null,0,0]
[{"$f":"VLOOKUP(B195,'(1) Project Reference Item List'!$B$2:$C$1000,2,FALSE)","v":{"$error":"#N/A"}},null,null,null,null,null,null,null,null,null,null,{"$f":"VLOOKUP(B195,'(1) Project Reference Item List'!$B$2:$D$1000,3,FALSE)","v":{"$error":"#N/A"}},null,null,0,0]
[{"$f":"VLOOKUP(B196,'(1) Project Reference Item List'!$B$2:$C$1000,2,FALSE)","v":{"$error":"#N/A"}},null,null,null,null,null,null,null,null,null,null,{"$f":"VLOOKUP(B196,'(1) Project Reference Item List'!$B$2:$D$1000,3,FALSE)","v":{"$error":"#N/A"}},null,null,0,0]
[{"$f":"VLOOKUP(B197,'(1) Project Reference Item List'!$B$2:$C$1000,2,FALSE)","v":{"$error":"#N/A"}},null,null,null,null,null,null,null,null,null,null,{"$f":"VLOOKUP(B197,'(1) Project Reference Item List'!$B$2:$D$1000,3,FALSE)","v":{"$error":"#N/A"}},null,null,0,0]
[{"$f":"VLOOKUP(B198,'(1) Project Reference Item List'!$B$2:$C$1000,2,FALSE)","v":{"$error":"#N/A"}},null,null,null,null,null,null,null,null,null,null,{"$f":"VLOOKUP(B198,'(1) Project Reference Item List'!$B$2:$D$1000,3,FALSE)","v":{"$error":"#N/A"}},null,null,{"$f":"IF(J198=0,J198,J198*N198)","v":0},{"$f":"(M198-O198)","v":0}]
[{"$f":"VLOOKUP(B199,'(1) Project Reference Item List'!$B$2:$C$1000,2,FALSE)","v":{"$error":"#N/A"}},null,null,null,null,null,null,null,null,null,null,{"$f":"VLOOKUP(B199,'(1) Project Reference Item List'!$B$2:$D$1000,3,FALSE)","v":{"$error":"#N/A"}},null,null,0,0]
[{"$f":"VLOOKUP(B200,'(1) Project Reference Item List'!$B$2:$C$1000,2,FALSE)","v":{"$error":"#N/A"}},null,null,null,null,null,null,null,null,null,null,{"$f":"VLOOKUP(B200,'(1) Project Reference Item List'!$B$2:$D$1000,3,FALSE)","v":{"$error":"#N/A"}},null,null,0,0]
[{"$f":"VLOOKUP(B201,'(1) Project Reference Item List'!$B$2:$C$1000,2,FALSE)","v":{"$error":"#N/A"}},null,null,null,null,null,null,null,null,null,null,{"$f":"VLOOKUP(B201,'(1) Project Reference Item List'!$B$2:$D$1000,3,FALSE)","v":{"$error":"#N/A"}},null,null,0,0]
[{"$f":"VLOOKUP(B202,'(1) Project Reference Item List'!$B$2:$C$1000,2,FALSE)","v":{"$error":"#N/A"}},null,null,null,null,null,null,null,null,null,null,{"$f":"VLOOKUP(B202,'(1) Project Reference Item List'!$B$2:$D$1000,3,FALSE)","v":{"$error":"#N/A"}},null,null,0,0]
[{"$f":"VLOOKUP(B203,'(1) Project Reference Item List'!$B$2:$C$1000,2,FALSE)","v":{"$error":"#N/A"}},null,null,null,null,null,null,null,null,null,null,{"$f":"VLOOKUP(B203,'(1) Project Reference Item List'!$B$2:$D$1000,3,FALSE)","v":{"$error":"#N/A"}},null,null,0,0]
[{"$f":"VLOOKUP(B204,'(1) Project Reference Item List'!$B$2:$C$1000,2,FALSE)","v":{"$error":"#N/A"}},null,null,null,null,null,null,null,null,null,null,{"$f":"VLOOKUP(B204,'(1) Project Reference Item List'!$B$2:$D$1000,3,FALSE)","v":{"$error":"#N/A"}},null,null,0,0]
[{"$f":"VLOOKUP(B205,'(1) Project Reference Item List'!$B$2:$C$1000,2,FALSE)","v":{"$error":"#N/A"}},null,null,null,null,null,null,null,null,null,null,{"$f":"VLOOKUP(B205,'(1) Project Reference Item List'!$B$2:$D$1000,3,FALSE)","v":{"$error":"#N/A"}},null,null,0,0]
[{"$f":"VLOOKUP(B206,'(1) Project Reference Item List'!$B$2:$C$1000,2,FALSE)","v":{"$error":"#N/A"}},null,null,null,null,null,null,null,null,null,null,{"$f":"VLOOKUP(B206,'(1) Project Reference Item List'!$B$2:$D$1000,3,FALSE)","v":{"$error":"#N/A"}},null,null,0,0]
[{"$f":"VLOOKUP(B207,'(1) Project Reference Item List'!$B$2:$C$1000,2,FALSE)","v":{"$error":"#N/A"}},null,null,null,null,null,null,null,null,null,null,{"$f":"VLOOKUP(B207,'(1) Project Reference Item List'!$B$2:$D$1000,3,FALSE)","v":{"$error":"#N/A"}},null,null,0,0]
[{"$f":"VLOOKUP(B208,'(1) Project Reference Item List'!$B$2:$C$1000,2,FALSE)","v":{"$error":"#N/A"}},null,null,null,null,null,null,null,null,null,null,{"$f":"VLOOKUP(B208,'(1) Project Reference Item List'!$B$2:$D$1000,3,FALSE)","v":{"$error":"#N/A"}},null,null,0,0]
[{"$f":"VLOOKUP(B209,'(1) Project Reference Item List'!$B$2:$C$1000,2,FALSE)","v":{"$error":"#N/A"}},null,null,null,null,null,null,null,null,null,null,{"$f":"VLOOKUP(B209,'(1) Project Reference Item List'!$B$2:$D$1000,3,FALSE)","v":{"$error":"#N/A"}},null,null,0,0]
[{"$f":"VLOOKUP(B210,'(1) Project Reference Item List'!$B$2:$C$1000,2,FALSE)","v":{"$error":"#N/A"}},null,null,null,null,null,null,null,null,null,null,{"$f":"VLOOKUP(B210,'(1) Project Reference Item List'!$B$2:$D$1000,3,FALSE)","v":{"$error":"#N/A"}},null,null,0,0]
[{"$f":"VLOOKUP(B211,'(1) Project Reference Item List'!$B$2:$C$1000,2,FALSE)","v":{"$error":"#N/A"}},null,null,null,null,null,null,null,null,null,null,{"$f":"VLOOKUP(B211,'(1) Project Reference Item List'!$B$2:$D$1000,3,FALSE)","v":{"$error":"#N/A"}},null,null,0,0]
[{"$f":"VLOOKUP(B212,'(1) Project Reference Item List'!$B$2:$C$1000,2,FALSE)","v":{"$error":"#N/A"}},null,null,null,null,null,null,null,null,null,null,{"$f":"VLOOKUP(B212,'(1) Project Reference Item List'!$B$2:$D$1000,3,FALSE)","v":{"$error":"#N/A"}},null,null,0,0]
[{"$f":"VLOOKUP(B213,'(1) Project Reference Item List'!$B$2:$C$1000,2,FALSE)","v":{"$error":"#N/A"}},null,null,null,null,null,null,null,null,null,null,{"$f":"VLOOKUP(B213,'(1) Project Reference Item List'!$B$2:$D$1000,3,FALSE)","v":{"$error":"#N/A"}},null,null,0,0]
[{"$f":"VLOOKUP(B214,'(1) Project Reference Item List'!$B$2:$C$1000,2,FALSE)","v":{"$error":"#N/A"}},null,null,null,null,null,null,null,null,null,null,{"$f":"VLOOKUP(B214,'(1) Project Reference Item List'!$B$2:$D$1000,3,FALSE)","v":{"$error":"#N/A"}},null,null,0,0]
[{"$f":"VLOOKUP(B215,'(1) Project Reference Item List'!$B$2:$C$1000,2,FALSE)","v":{"$error":"#N/A"}},null,null,null,null,null,null,null,null,null,null,{"$f":"VLOOKUP(B215,'(1) Project Reference Item List'!$B$2:$D$1000,3,FALSE)","v":{"$error":"#N/A"}},null,null,0,0]
[{"$f":"VLOOKUP(B216,'(1) Project Reference Item List'!$B$2:$C$1000,2,FALSE)","v":{"$error":"#N/A"}},null,null,null,null,null,null,null,null,null,null,{"$f":"VLOOKUP(B216,'(1) Project Reference Item List'!$B$2:$D$1000,3,FALSE)","v":{"$error":"#N/A"}},null,null,0,0]
[{"$f":"VLOOKUP(B217,'(1) Project Reference Item List'!$B$2:$C$1000,2,FALSE)","v":{"$error":"#N/A"}},null,null,null,null,null,null,null,null,null,null,{"$f":"VLOOKUP(B217,'(1) Project Reference Item List'!$B$2:$D$1000,3,FALSE)","v":{"$error":"#N/A"}},null,null,0,0]
[{"$f":"VLOOKUP(B218,'(1) Project Reference Item List'!$B$2:$C$1000,2,FALSE)","v":{"$error":"#N/A"}},null,null,null,null,null,null,null,null,null,null,{"$f":"VLOOKUP(B218,'(1) Project Reference Item List'!$B$2:$D$1000,3,FALSE)","v":{"$error":"#N/A"}},null,null,0,0]
[{"$f":"VLOOKUP(B219,'(1) Project Reference Item List'!$B$2:$C$1000,2,FALSE)","v":{"$error":"#N/A"}},null,null,null,null,null,null,null,null,null,null,{"$f":"VLOOKUP(B219,'(1) Project Reference Item List'!$B$2:$D$1000,3,FALSE)","v":{"$error":"#N/A"}},null,null,0,0]
[{"$f":"VLOOKUP(B220,'(1) Project Reference Item List'!$B$2:$C$1000,2,FALSE)","v":{"$error":"#N/A"}},null,null,null,null,null,null,null,null,null,null,{"$f":"VLOOKUP(B220,'(1) Project Reference Item List'!$B$2:$D$1000,3,FALSE)","v":{"$error":"#N/A"}},null,null,0,0]
[{"$f":"VLOOKUP(B221,'(1) Project Reference Item List'!$B$2:$C$1000,2,FALSE)","v":{"$error":"#N/A"}},null,null,null,null,null,null,null,null,null,null,{"$f":"VLOOKUP(B221,'(1) Project Reference Item List'!$B$2:$D$1000,3,FALSE)","v":{"$error":"#N/A"}},null,null,0,0]
[{"$f":"VLOOKUP(B222,'(1) Project Reference Item List'!$B$2:$C$1000,2,FALSE)","v":{"$error":"#N/A"}},null,null,null,null,null,null,null,null,null,null,{"$f":"VLOOKUP(B222,'(1) Project Reference Item List'!$B$2:$D$1000,3,FALSE)","v":{"$error":"#N/A"}},null,null,0,0]
[{"$f":"VLOOKUP(B223,'(1) Project Reference Item List'!$B$2:$C$1000,2,FALSE)","v":{"$error":"#N/A"}},null,null,null,null,null,null,null,null,null,null,{"$f":"VLOOKUP(B223,'(1) Project Reference Item List'!$B$2:$D$1000,3,FALSE)","v":{"$error":"#N/A"}},null,null,0,0]
[{"$f":"VLOOKUP(B224,'(1) Project Reference Item List'!$B$2:$C$1000,2,FALSE)","v":{"$error":"#N/A"}},null,null,null,null,null,null,null,null,null,null,{"$f":"VLOOKUP(B224,'(1) Project Reference Item List'!$B$2:$D$1000,3,FALSE)","v":{"$error":"#N/A"}},null,null,0,0]
[{"$f":"VLOOKUP(B225,'(1) Project Reference Item List'!$B$2:$C$1000,2,FALSE)","v":{"$error":"#N/A"}},null,null,null,null,null,null,null,null,null,null,{"$f":"VLOOKUP(B225,'(1) Project Reference Item List'!$B$2:$D$1000,3,FALSE)","v":{"$error":"#N/A"}},null,null,0,0]
[{"$f":"VLOOKUP(B226,'(1) Project Reference Item List'!$B$2:$C$1000,2,FALSE)","v":{"$error":"#N/A"}},null,null,null,null,null,null,null,null,null,null,{"$f":"VLOOKUP(B226,'(1) Project Reference Item List'!$B$2:$D$1000,3,FALSE)","v":{"$error":"#N/A"}},null,null,0,0]
[{"$f":"VLOOKUP(B227,'(1) Project Reference Item List'!$B$2:$C$1000,2,FALSE)","v":{"$error":"#N/A"}},null,null,null,null,null,null,null,null,null,null,{"$f":"VLOOKUP(B227,'(1) Project Reference Item List'!$B$2:$D$1000,3,FALSE)","v":{"$error":"#N/A"}},null,null,0,0]
[{"$f":"VLOOKUP(B228,'(1) Project Reference Item List'!$B$2:$C$1000,2,FALSE)","v":{"$error":"#N/A"}},null,null,null,null,null,null,null,null,null,null,{"$f":"VLOOKUP(B228,'(1) Project Reference Item List'!$B$2:$D$1000,3,FALSE)","v":{"$error":"#N/A"}},null,null,0,0]
[{"$f":"VLOOKUP(B229,'(1) Project Reference Item List'!$B$2:$C$1000,2,FALSE)","v":{"$error":"#N/A"}},null,null,null,null,null,null,null,null,null,null,{"$f":"VLOOKUP(B229,'(1) Project Reference Item List'!$B$2:$D$1000,3,FALSE)","v":{"$error":"#N/A"}},null,null,0,0]
[{"$f":"VLOOKUP(B230,'(1) Project Reference Item List'!$B$2:$C$1000,2,FALSE)","v":{"$error":"#N/A"}},null,null,null,null,null,null,null,null,null,null,{"$f":"VLOOKUP(B230,'(1) Project Reference Item List'!$B$2:$D$1000,3,FALSE)","v":{"$error":"#N/A"}},null,null,0,0]
[{"$f":"VLOOKUP(B231,'(1) Project Reference Item List'!$B$2:$C$1000,2,FALSE)","v":{"$error":"#N/A"}},null,null,null,null,null,null,null,null,null,null,{"$f":"VLOOKUP(B231,'(1) Project Reference Item List'!$B$2:$D$1000,3,FALSE)","v":{"$error":"#N/A"}},null,null,0,0]
[{"$f":"VLOOKUP(B232,'(1) Project Reference Item List'!$B$2:$C$1000,2,FALSE)","v":{"$error":"#N/A"}},null,null,null,null,null,null,null,null,null,null,{"$f":"VLOOKUP(B232,'(1) Project Reference Item List'!$B$2:$D$1000,3,FALSE)","v":{"$error":"#N/A"}},null,null,0,0]
[{"$f":"VLOOKUP(B233,'(1) Project Reference Item List'!$B$2:$C$1000,2,FALSE)","v":{"$error":"#N/A"}},null,null,null,null,null,null,null,null,null,null,{"$f":"VLOOKUP(B233,'(1) Project Reference Item List'!$B$2:$D$1000,3,FALSE)","v":{"$error":"#N/A"}},null,null,0,0]
[{"$f":"VLOOKUP(B234,'(1) Project Reference Item List'!$B$2:$C$1000,2,FALSE)","v":{"$error":"#N/A"}},null,null,null,null,null,null,null,null,null,null,{"$f":"VLOOKUP(B234,'(1) Project Reference Item List'!$B$2:$D$1000,3,FALSE)","v":{"$error":"#N/A"}},null,null,0,0]
[{"$f":"VLOOKUP(B235,'(1) Project Reference Item List'!$B$2:$C$1000,2,FALSE)","v":{"$error":"#N/A"}},null,null,null,null,null,null,null,null,null,null,{"$f":"VLOOKUP(B235,'(1) Project Reference Item List'!$B$2:$D$1000,3,FALSE)","v":{"$error":"#N/A"}},null,null,0,0]
[{"$f":"VLOOKUP(B236,'(1) Project Reference Item List'!$B$2:$C$1000,2,FALSE)","v":{"$error":"#N/A"}},null,null,null,null,null,null,null,null,null,null,{"$f":"VLOOKUP(B236,'(1) Project Reference Item List'!$B$2:$D$1000,3,FALSE)","v":{"$error":"#N/A"}},null,null,0,0]
[{"$f":"VLOOKUP(B237,'(1) Project Reference Item List'!$B$2:$C$1000,2,FALSE)","v":{"$error":"#N/A"}},null,null,null,null,null,null,null,null,null,null,{"$f":"VLOOKUP(B237,'(1) Project Reference Item List'!$B$2:$D$1000,3,FALSE)","v":{"$error":"#N/A"}},null,null,0,0]
[{"$f":"VLOOKUP(B238,'(1) Project Reference Item List'!$B$2:$C$1000,2,FALSE)","v":{"$error":"#N/A"}},null,null,null,null,null,null,null,null,null,null,{"$f":"VLOOKUP(B238,'(1) Project Reference Item List'!$B$2:$D$1000,3,FALSE)","v":{"$error":"#N/A"}},null,null,0,0]
[{"$f":"VLOOKUP(B239,'(1) Project Reference Item List'!$B$2:$C$1000,2,FALSE)","v":{"$error":"#N/A"}},null,null,null,null,null,null,null,null,null,null,{"$f":"VLOOKUP(B239,'(1) Project Reference Item List'!$B$2:$D$1000,3,FALSE)","v":{"$error":"#N/A"}},null,null,0,0]
[{"$f":"VLOOKUP(B240,'(1) Project Reference Item List'!$B$2:$C$1000,2,FALSE)","v":{"$error":"#N/A"}},null,null,null,null,null,null,null,null,null,null,{"$f":"VLOOKUP(B240,'(1) Project Reference Item List'!$B$2:$D$1000,3,FALSE)","v":{"$error":"#N/A"}},null,null,0,0]
[{"$f":"VLOOKUP(B241,'(1) Project Reference Item List'!$B$2:$C$1000,2,FALSE)","v":{"$error":"#N/A"}},null,null,null,null,null,null,null,null,null,null,{"$f":"VLOOKUP(B241,'(1) Project Reference Item List'!$B$2:$D$1000,3,FALSE)","v":{"$error":"#N/A"}},null,null,0,0]
[{"$f":"VLOOKUP(B242,'(1) Project Reference Item List'!$B$2:$C$1000,2,FALSE)","v":{"$error":"#N/A"}},null,null,null,null,null,null,null,null,null,null,{"$f":"VLOOKUP(B242,'(1) Project Reference Item List'!$B$2:$D$1000,3,FALSE)","v":{"$error":"#N/A"}},null,null,0,0]
[{"$f":"VLOOKUP(B243,'(1) Project Reference Item List'!$B$2:$C$1000,2,FALSE)","v":{"$error":"#N/A"}},null,null,null,null,null,null,null,null,null,null,{"$f":"VLOOKUP(B243,'(1) Project Reference Item List'!$B$2:$D$1000,3,FALSE)","v":{"$error":"#N/A"}},null,null,0,0]
[{"$f":"VLOOKUP(B244,'(1) Project Reference Item List'!$B$2:$C$1000,2,FALSE)","v":{"$error":"#N/A"}},null,null,null,null,null,null,null,null,null,null,{"$f":"VLOOKUP(B244,'(1) Project Reference Item List'!$B$2:$D$1000,3,FALSE)","v":{"$error":"#N/A"}},null,null,0,0]
[{"$f":"VLOOKUP(B245,'(1) Project Reference Item List'!$B$2:$C$1000,2,FALSE)","v":{"$error":"#N/A"}},null,null,null,null,null,null,null,null,null,null,{"$f":"VLOOKUP(B245,'(1) Project Reference Item List'!$B$2:$D$1000,3,FALSE)","v":{"$error":"#N/A"}},null,null,0,0]
[{"$f":"VLOOKUP(B246,'(1) Project Reference Item List'!$B$2:$C$1000,2,FALSE)","v":{"$error":"#N/A"}},null,null,null,null,null,null,null,null,null,null,{"$f":"VLOOKUP(B246,'(1) Project Reference Item List'!$B$2:$D$1000,3,FALSE)","v":{"$error":"#N/A"}},null,null,0,0]
[{"$f":"VLOOKUP(B247,'(1) Project Reference Item List'!$B$2:$C$1000,2,FALSE)","v":{"$error":"#N/A"}},null,null,null,null,null,null,null,null,null,null,{"$f":"VLOOKUP(B247,'(1) Project Reference Item List'!$B$2:$D$1000,3,FALSE)","v":{"$error":"#N/A"}},null,null,0,0]
[{"$f":"VLOOKUP(B248,'(1) Project Reference Item List'!$B$2:$C$1000,2,FALSE)","v":{"$error":"#N/A"}},null,null,null,null,null,null,null,null,null,null,{"$f":"VLOOKUP(B248,'(1) Project Reference Item List'!$B$2:$D$1000,3,FALSE)","v":{"$error":"#N/A"}},null,null,0,0]
[{"$f":"VLOOKUP(B249,'(1) Project Reference Item List'!$B$2:$C$1000,2,FALSE)","v":{"$error":"#N/A"}},null,null,null,null,null,null,null,null,null,null,{"$f":"VLOOKUP(B249,'(1) Project Reference Item List'!$B$2:$D$1000,3,FALSE)","v":{"$error":"#N/A"}},null,null,0,0]
[{"$f":"VLOOKUP(B250,'(1) Project Reference Item List'!$B$2:$C$1000,2,FALSE)","v":{"$error":"#N/A"}},null,null,null,null,null,null,null,null,null,null,{"$f":"VLOOKUP(B250,'(1) Project Reference Item List'!$B$2:$D$1000,3,FALSE)","v":{"$error":"#N/A"}},null,null,0,0]
[{"$f":"VLOOKUP(B251,'(1) Project Reference Item List'!$B$2:$C$1000,2,FALSE)","v":{"$error":"#N/A"}},null,null,null,null,null,null,null,null,null,null,{"$f":"VLOOKUP(B251,'(1) Project Reference Item List'!$B$2:$D$1000,3,FALSE)","v":{"$error":"#N/A"}},null,null,0,0]
[{"$f":"VLOOKUP(B252,'(1) Project Reference Item List'!$B$2:$C$1000,2,FALSE)","v":{"$error":"#N/A"}},null,null,null,null,null,null,null,null,null,null,{"$f":"VLOOKUP(B252,'(1) Project Reference Item List'!$B$2:$D$1000,3,FALSE)","v":{"$error":"#N/A"}},null,null,0,0]
[{"$f":"VLOOKUP(B253,'(1) Project Reference Item List'!$B$2:$C$1000,2,FALSE)","v":{"$error":"#N/A"}},null,null,null,null,null,null,null,null,null,null,{"$f":"VLOOKUP(B253,'(1) Project Reference Item List'!$B$2:$D$1000,3,FALSE)","v":{"$error":"#N/A"}},null,null,0,0]
[{"$f":"VLOOKUP(B254,'(1) Project Reference Item List'!$B$2:$C$1000,2,FALSE)","v":{"$error":"#N/A"}},null,null,null,null,null,null,null,null,null,null,{"$f":"VLOOKUP(B254,'(1) Project Reference Item List'!$B$2:$D$1000,3,FALSE)","v":{"$error":"#N/A"}},null,null,0,0]
[{"$f":"VLOOKUP(B255,'(1) Project Reference Item List'!$B$2:$C$1000,2,FALSE)","v":{"$error":"#N/A"}},null,null,null,null,null,null,null,null,null,null,{"$f":"VLOOKUP(B255,'(1) Project Reference Item List'!$B$2:$D$1000,3,FALSE)","v":{"$error":"#N/A"}},null,null,0,0]
[{"$f":"VLOOKUP(B256,'(1) Project Reference Item List'!$B$2:$C$1000,2,FALSE)","v":{"$error":"#N/A"}},null,null,null,null,null,null,null,null,null,null,{"$f":"VLOOKUP(B256,'(1) Project Reference Item List'!$B$2:$D$1000,3,FALSE)","v":{"$error":"#N/A"}},null,null,0,0]
[{"$f":"VLOOKUP(B257,'(1) Project Reference Item List'!$B$2:$C$1000,2,FALSE)","v":{"$error":"#N/A"}},null,null,null,null,null,null,null,null,null,null,{"$f":"VLOOKUP(B257,'(1) Project Reference Item List'!$B$2:$D$1000,3,FALSE)","v":{"$error":"#N/A"}},null,null,0,0]
[{"$f":"VLOOKUP(B258,'(1) Project Reference Item List'!$B$2:$C$1000,2,FALSE)","v":{"$error":"#N/A"}},null,null,null,null,null,null,null,null,null,null,{"$f":"VLOOKUP(B258,'(1) Project Reference Item List'!$B$2:$D$1000,3,FALSE)","v":{"$error":"#N/A"}},null,null,0,0]
[{"$f":"VLOOKUP(B259,'(1) Project Reference Item List'!$B$2:$C$1000,2,FALSE)","v":{"$error":"#N/A"}},null,null,null,null,null,null,null,null,null,null,{"$f":"VLOOKUP(B259,'(1) Project Reference Item List'!$B$2:$D$1000,3,FALSE)","v":{"$error":"#N/A"}},null,null,0,0]
[{"$f":"VLOOKUP(B260,'(1) Project Reference Item List'!$B$2:$C$1000,2,FALSE)","v":{"$error":"#N/A"}},null,null,null,null,null,null,null,null,null,null,{"$f":"VLOOKUP(B260,'(1) Project Reference Item List'!$B$2:$D$1000,3,FALSE)","v":{"$error":"#N/A"}},null,null,0,0]
[{"$f":"VLOOKUP(B261,'(1) Project Reference Item List'!$B$2:$C$1000,2,FALSE)","v":{"$error":"#N/A"}},null,null,null,null,null,null,null,null,null,null,{"$f":"VLOOKUP(B261,'(1) Project Reference Item List'!$B$2:$D$1000,3,FALSE)","v":{"$error":"#N/A"}},null,null,0,0]
[{"$f":"VLOOKUP(B262,'(1) Project Reference Item List'!$B$2:$C$1000,2,FALSE)","v":{"$error":"#N/A"}},null,null,null,null,null,null,null,null,null,null,{"$f":"VLOOKUP(B262,'(1) Project Reference Item List'!$B$2:$D$1000,3,FALSE)","v":{"$error":"#N/A"}},null,null,{"$f":"IF(J262=0,J262,J262*N262)","v":0},{"$f":"(M262-O262)","v":0}]
[{"$f":"VLOOKUP(B263,'(1) Project Reference Item List'!$B$2:$C$1000,2,FALSE)","v":{"$error":"#N/A"}},null,null,null,null,null,null,null,null,null,null,{"$f":"VLOOKUP(B263,'(1) Project Reference Item List'!$B$2:$D$1000,3,FALSE)","v":{"$error":"#N/A"}},null,null,0,0]
[{"$f":"VLOOKUP(B264,'(1) Project Reference Item List'!$B$2:$C$1000,2,FALSE)","v":{"$error":"#N/A"}},null,null,null,null,null,null,null,null,null,null,{"$f":"VLOOKUP(B264,'(1) Project Reference Item List'!$B$2:$D$1000,3,FALSE)","v":{"$error":"#N/A"}},null,null,0,0]
[{"$f":"VLOOKUP(B265,'(1) Project Reference Item List'!$B$2:$C$1000,2,FALSE)","v":{"$error":"#N/A"}},null,null,null,null,null,null,null,null,null,null,{"$f":"VLOOKUP(B265,'(1) Project Reference Item List'!$B$2:$D$1000,3,FALSE)","v":{"$error":"#N/A"}},null,null,0,0]
[{"$f":"VLOOKUP(B266,'(1) Project Reference Item List'!$B$2:$C$1000,2,FALSE)","v":{"$error":"#N/A"}},null,null,null,null,null,null,null,null,null,null,{"$f":"VLOOKUP(B266,'(1) Project Reference Item List'!$B$2:$D$1000,3,FALSE)","v":{"$error":"#N/A"}},null,null,0,0]
[{"$f":"VLOOKUP(B267,'(1) Project Reference Item List'!$B$2:$C$1000,2,FALSE)","v":{"$error":"#N/A"}},null,null,null,null,null,null,null,null,null,null,{"$f":"VLOOKUP(B267,'(1) Project Reference Item List'!$B$2:$D$1000,3,FALSE)","v":{"$error":"#N/A"}},null,null,0,0]
[{"$f":"VLOOKUP(B268,'(1) Project Reference Item List'!$B$2:$C$1000,2,FALSE)","v":{"$error":"#N/A"}},null,null,null,null,null,null,null,null,null,null,{"$f":"VLOOKUP(B268,'(1) Project Reference Item List'!$B$2:$D$1000,3,FALSE)","v":{"$error":"#N/A"}},null,null,0,0]
[{"$f":"VLOOKUP(B269,'(1) Project Reference Item List'!$B$2:$C$1000,2,FALSE)","v":{"$error":"#N/A"}},null,null,null,null,null,null,null,null,null,null,{"$f":"VLOOKUP(B269,'(1) Project Reference Item List'!$B$2:$D$1000,3,FALSE)","v":{"$error":"#N/A"}},null,null,0,0]
[{"$f":"VLOOKUP(B270,'(1) Project Reference Item List'!$B$2:$C$1000,2,FALSE)","v":{"$error":"#N/A"}},null,null,null,null,null,null,null,null,null,null,{"$f":"VLOOKUP(B270,'(1) Project Reference Item List'!$B$2:$D$1000,3,FALSE)","v":{"$error":"#N/A"}},null,null,0,0]
[{"$f":"VLOOKUP(B271,'(1) Project Reference Item List'!$B$2:$C$1000,2,FALSE)","v":{"$error":"#N/A"}},null,null,null,null,null,null,null,null,null,null,{"$f":"VLOOKUP(B271,'(1) Project Reference Item List'!$B$2:$D$1000,3,FALSE)","v":{"$error":"#N/A"}},null,null,0,0]
[{"$f":"VLOOKUP(B272,'(1) Project Reference Item List'!$B$2:$C$1000,2,FALSE)","v":{"$error":"#N/A"}},null,null,null,null,null,null,null,null,null,null,{"$f":"VLOOKUP(B272,'(1) Project Reference Item List'!$B$2:$D$1000,3,FALSE)","v":{"$error":"#N/A"}},null,null,0,0]
[{"$f":"VLOOKUP(B273,'(1) Project Reference Item List'!$B$2:$C$1000,2,FALSE)","v":{"$error":"#N/A"}},null,null,null,null,null,null,null,null,null,null,{"$f":"VLOOKUP(B273,'(1) Project Reference Item List'!$B$2:$D$1000,3,FALSE)","v":{"$error":"#N/A"}},null,null,0,0]
[{"$f":"VLOOKUP(B274,'(1) Project Reference Item List'!$B$2:$C$1000,2,FALSE)","v":{"$error":"#N/A"}},null,null,null,null,null,null,null,null,null,null,{"$f":"VLOOKUP(B274,'(1) Project Reference Item List'!$B$2:$D$1000,3,FALSE)","v":{"$error":"#N/A"}},null,null,0,0]
[{"$f":"VLOOKUP(B275,'(1) Project Reference Item List'!$B$2:$C$1000,2,FALSE)","v":{"$error":"#N/A"}},null,null,null,null,null,null,null,null,null,null,{"$f":"VLOOKUP(B275,'(1) Project Reference Item List'!$B$2:$D$1000,3,FALSE)","v":{"$error":"#N/A"}},null,null,0,0]
[{"$f":"VLOOKUP(B276,'(1) Project Reference Item List'!$B$2:$C$1000,2,FALSE)","v":{"$error":"#N/A"}},null,null,null,null,null,null,null,null,null,null,{"$f":"VLOOKUP(B276,'(1) Project Reference Item List'!$B$2:$D$1000,3,FALSE)","v":{"$error":"#N/A"}},null,null,0,0]
[{"$f":"VLOOKUP(B277,'(1) Project Reference Item List'!$B$2:$C$1000,2,FALSE)","v":{"$error":"#N/A"}},null,null,null,null,null,null,null,null,null,null,{"$f":"VLOOKUP(B277,'(1) Project Reference Item List'!$B$2:$D$1000,3,FALSE)","v":{"$error":"#N/A"}},null,null,0,0]
[{"$f":"VLOOKUP(B278,'(1) Project Reference Item List'!$B$2:$C$1000,2,FALSE)","v":{"$error":"#N/A"}},null,null,null,null,null,null,null,null,null,null,{"$f":"VLOOKUP(B278,'(1) Project Reference Item List'!$B$2:$D$1000,3,FALSE)","v":{"$error":"#N/A"}},null,null,0,0]
[{"$f":"VLOOKUP(B279,'(1) Project Reference Item List'!$B$2:$C$1000,2,FALSE)","v":{"$error":"#N/A"}},null,null,null,null,null,null,null,null,null,null,{"$f":"VLOOKUP(B279,'(1) Project Reference Item List'!$B$2:$D$1000,3,FALSE)","v":{"$error":"#N/A"}},null,null,0,0]
[{"$f":"VLOOKUP(B280,'(1) Project Reference Item List'!$B$2:$C$1000,2,FALSE)","v":{"$error":"#N/A"}},null,null,null,null,null,null,null,null,null,null,{"$f":"VLOOKUP(B280,'(1) Project Reference Item List'!$B$2:$D$1000,3,FALSE)","v":{"$error":"#N/A"}},null,null,0,0]
[{"$f":"VLOOKUP(B281,'(1) Project Reference Item List'!$B$2:$C$1000,2,FALSE)","v":{"$error":"#N/A"}},null,null,null,null,null,null,null,null,null,null,{"$f":"VLOOKUP(B281,'(1) Project Reference Item List'!$B$2:$D$1000,3,FALSE)","v":{"$error":"#N/A"}},null,null,0,0]
[{"$f":"VLOOKUP(B282,'(1) Project Reference Item List'!$B$2:$C$1000,2,FALSE)","v":{"$error":"#N/A"}},null,null,null,null,null,null,null,null,null,null,{"$f":"VLOOKUP(B282,'(1) Project Reference Item List'!$B$2:$D$1000,3,FALSE)","v":{"$error":"#N/A"}},null,null,0,0]
[{"$f":"VLOOKUP(B283,'(1) Project Reference Item List'!$B$2:$C$1000,2,FALSE)","v":{"$error":"#N/A"}},null,null,null,null,null,null,null,null,null,null,{"$f":"VLOOKUP(B283,'(1) Project Reference Item List'!$B$2:$D$1000,3,FALSE)","v":{"$error":"#N/A"}},null,null,0,0]
[{"$f":"VLOOKUP(B284,'(1) Project Reference Item List'!$B$2:$C$1000,2,FALSE)","v":{"$error":"#N/A"}},null,null,null,null,null,null,null,null,null,null,{"$f":"VLOOKUP(B284,'(1) Project Reference Item List'!$B$2:$D$1000,3,FALSE)","v":{"$error":"#N/A"}},null,null,0,0]
[{"$f":"VLOOKUP(B285,'(1) Project Reference Item List'!$B$2:$C$1000,2,FALSE)","v":{"$error":"#N/A"}},null,null,null,null,null,null,null,null,null,null,{"$f":"VLOOKUP(B285,'(1) Project Reference Item List'!$B$2:$D$1000,3,FALSE)","v":{"$error":"#N/A"}},null,null,0,0]
[{"$f":"VLOOKUP(B286,'(1) Project Reference Item List'!$B$2:$C$1000,2,FALSE)","v":{"$error":"#N/A"}},null,null,null,null,null,null,null,null,null,null,{"$f":"VLOOKUP(B286,'(1) Project Reference Item List'!$B$2:$D$1000,3,FALSE)","v":{"$error":"#N/A"}},null,null,0,0]
[{"$f":"VLOOKUP(B287,'(1) Project Reference Item List'!$B$2:$C$1000,2,FALSE)","v":{"$error":"#N/A"}},null,null,null,null,null,null,null,null,null,null,{"$f":"VLOOKUP(B287,'(1) Project Reference Item List'!$B$2:$D$1000,3,FALSE)","v":{"$error":"#N/A"}},null,null,0,0]
[{"$f":"VLOOKUP(B288,'(1) Project Reference Item List'!$B$2:$C$1000,2,FALSE)","v":{"$error":"#N/A"}},null,null,null,null,null,null,null,null,null,null,{"$f":"VLOOKUP(B288,'(1) Project Reference Item List'!$B$2:$D$1000,3,FALSE)","v":{"$error":"#N/A"}},null,null,0,0]
[{"$f":"VLOOKUP(B289,'(1) Project Reference Item List'!$B$2:$C$1000,2,FALSE)","v":{"$error":"#N/A"}},null,null,null,null,null,null,null,null,null,null,{"$f":"VLOOKUP(B289,'(1) Project Reference Item List'!$B$2:$D$1000,3,FALSE)","v":{"$error":"#N/A"}},null,null,0,0]
[{"$f":"VLOOKUP(B290,'(1) Project Reference Item List'!$B$2:$C$1000,2,FALSE)","v":{"$error":"#N/A"}},null,null,null,null,null,null,null,null,null,null,{"$f":"VLOOKUP(B290,'(1) Project Reference Item List'!$B$2:$D$1000,3,FALSE)","v":{"$error":"#N/A"}},null,null,0,0]
[{"$f":"VLOOKUP(B291,'(1) Project Reference Item List'!$B$2:$C$1000,2,FALSE)","v":{"$error":"#N/A"}},null,null,null,null,null,null,null,null,null,null,{"$f":"VLOOKUP(B291,'(1) Project Reference Item List'!$B$2:$D$1000,3,FALSE)","v":{"$error":"#N/A"}},null,null,0,0]
[{"$f":"VLOOKUP(B292,'(1) Project Reference Item List'!$B$2:$C$1000,2,FALSE)","v":{"$error":"#N/A"}},null,null,null,null,null,null,null,null,null,null,{"$f":"VLOOKUP(B292,'(1) Project Reference Item List'!$B$2:$D$1000,3,FALSE)","v":{"$error":"#N/A"}},null,null,0,0]
[{"$f":"VLOOKUP(B293,'(1) Project Reference Item List'!$B$2:$C$1000,2,FALSE)","v":{"$error":"#N/A"}},null,null,null,null,null,null,null,null,null,null,{"$f":"VLOOKUP(B293,'(1) Project Reference Item List'!$B$2:$D$1000,3,FALSE)","v":{"$error":"#N/A"}},null,null,0,0]
[{"$f":"VLOOKUP(B294,'(1) Project Reference Item List'!$B$2:$C$1000,2,FALSE)","v":{"$error":"#N/A"}},null,null,null,null,null,null,null,null,null,null,{"$f":"VLOOKUP(B294,'(1) Project Reference Item List'!$B$2:$D$1000,3,FALSE)","v":{"$error":"#N/A"}},null,null,0,0]
[{"$f":"VLOOKUP(B295,'(1) Project Reference Item List'!$B$2:$C$1000,2,FALSE)","v":{"$error":"#N/A"}},null,null,null,null,null,null,null,null,null,null,{"$f":"VLOOKUP(B295,'(1) Project Reference Item List'!$B$2:$D$1000,3,FALSE)","v":{"$error":"#N/A"}},null,null,0,0]
[{"$f":"VLOOKUP(B296,'(1) Project Reference Item List'!$B$2:$C$1000,2,FALSE)","v":{"$error":"#N/A"}},null,null,null,null,null,null,null,null,null,null,{"$f":"VLOOKUP(B296,'(1) Project Reference Item List'!$B$2:$D$1000,3,FALSE)","v":{"$error":"#N/A"}},null,null,0,0]
[{"$f":"VLOOKUP(B297,'(1) Project Reference Item List'!$B$2:$C$1000,2,FALSE)","v":{"$error":"#N/A"}},null,null,null,null,null,null,null,null,null,null,{"$f":"VLOOKUP(B297,'(1) Project Reference Item List'!$B$2:$D$1000,3,FALSE)","v":{"$error":"#N/A"}},null,null,0,0]
[{"$f":"VLOOKUP(B298,'(1) Project Reference Item List'!$B$2:$C$1000,2,FALSE)","v":{"$error":"#N/A"}},null,null,null,null,null,null,null,null,null,null,{"$f":"VLOOKUP(B298,'(1) Project Reference Item List'!$B$2:$D$1000,3,FALSE)","v":{"$error":"#N/A"}},null,null,0,0]
[{"$f":"VLOOKUP(B299,'(1) Project Reference Item List'!$B$2:$C$1000,2,FALSE)","v":{"$error":"#N/A"}},null,null,null,null,null,null,null,null,null,null,{"$f":"VLOOKUP(B299,'(1) Project Reference Item List'!$B$2:$D$1000,3,FALSE)","v":{"$error":"#N/A"}},null,null,0,0]
[{"$f":"VLOOKUP(B300,'(1) Project Reference Item List'!$B$2:$C$1000,2,FALSE)","v":{"$error":"#N/A"}},null,null,null,null,null,null,null,null,null,null,{"$f":"VLOOKUP(B300,'(1) Project Reference Item List'!$B$2:$D$1000,3,FALSE)","v":{"$error":"#N/A"}},null,null,0,0]
[{"$f":"VLOOKUP(B301,'(1) Project Reference Item List'!$B$2:$C$1000,2,FALSE)","v":{"$error":"#N/A"}},null,null,null,null,null,null,null,null,null,null,{"$f":"VLOOKUP(B301,'(1) Project Reference Item List'!$B$2:$D$1000,3,FALSE)","v":{"$error":"#N/A"}},null,null,0,0]
[{"$f":"VLOOKUP(B302,'(1) Project Reference Item List'!$B$2:$C$1000,2,FALSE)","v":{"$error":"#N/A"}},null,null,null,null,null,null,null,null,null,null,{"$f":"VLOOKUP(B302,'(1) Project Reference Item List'!$B$2:$D$1000,3,FALSE)","v":{"$error":"#N/A"}},null,null,0,0]
[{"$f":"VLOOKUP(B303,'(1) Project Reference Item List'!$B$2:$C$1000,2,FALSE)","v":{"$error":"#N/A"}},null,null,null,null,null,null,null,null,null,null,{"$f":"VLOOKUP(B303,'(1) Project Reference Item List'!$B$2:$D$1000,3,FALSE)","v":{"$error":"#N/A"}},null,null,0,0]
[{"$f":"VLOOKUP(B304,'(1) Project Reference Item List'!$B$2:$C$1000,2,FALSE)","v":{"$error":"#N/A"}},null,null,null,null,null,null,null,null,null,null,{"$f":"VLOOKUP(B304,'(1) Project Reference Item List'!$B$2:$D$1000,3,FALSE)","v":{"$error":"#N/A"}},null,null,0,0]
[{"$f":"VLOOKUP(B305,'(1) Project Reference Item List'!$B$2:$C$1000,2,FALSE)","v":{"$error":"#N/A"}},null,null,null,null,null,null,null,null,null,null,{"$f":"VLOOKUP(B305,'(1) Project Reference Item List'!$B$2:$D$1000,3,FALSE)","v":{"$error":"#N/A"}},null,null,0,0]
[{"$f":"VLOOKUP(B306,'(1) Project Reference Item List'!$B$2:$C$1000,2,FALSE)","v":{"$error":"#N/A"}},null,null,null,null,null,null,null,null,null,null,{"$f":"VLOOKUP(B306,'(1) Project Reference Item List'!$B$2:$D$1000,3,FALSE)","v":{"$error":"#N/A"}},null,null,0,0]
[{"$f":"VLOOKUP(B307,'(1) Project Reference Item List'!$B$2:$C$1000,2,FALSE)","v":{"$error":"#N/A"}},null,null,null,null,null,null,null,null,null,null,{"$f":"VLOOKUP(B307,'(1) Project Reference Item List'!$B$2:$D$1000,3,FALSE)","v":{"$error":"#N/A"}},null,null,0,0]
[{"$f":"VLOOKUP(B308,'(1) Project Reference Item List'!$B$2:$C$1000,2,FALSE)","v":{"$error":"#N/A"}},null,null,null,null,null,null,null,null,null,null,{"$f":"VLOOKUP(B308,'(1) Project Reference Item List'!$B$2:$D$1000,3,FALSE)","v":{"$error":"#N/A"}},null,null,0,0]
[{"$f":"VLOOKUP(B309,'(1) Project Reference Item List'!$B$2:$C$1000,2,FALSE)","v":{"$error":"#N/A"}},null,null,null,null,null,null,null,null,null,null,{"$f":"VLOOKUP(B309,'(1) Project Reference Item List'!$B$2:$D$1000,3,FALSE)","v":{"$error":"#N/A"}},null,null,0,0]
[{"$f":"VLOOKUP(B310,'(1) Project Reference Item List'!$B$2:$C$1000,2,FALSE)","v":{"$error":"#N/A"}},null,null,null,null,null,null,null,null,null,null,{"$f":"VLOOKUP(B310,'(1) Project Reference Item List'!$B$2:$D$1000,3,FALSE)","v":{"$error":"#N/A"}},null,null,0,0]
[{"$f":"VLOOKUP(B311,'(1) Project Reference Item List'!$B$2:$C$1000,2,FALSE)","v":{"$error":"#N/A"}},null,null,null,null,null,null,null,null,null,null,{"$f":"VLOOKUP(B311,'(1) Project Reference Item List'!$B$2:$D$1000,3,FALSE)","v":{"$error":"#N/A"}},null,null,0,0]
[{"$f":"VLOOKUP(B312,'(1) Project Reference Item List'!$B$2:$C$1000,2,FALSE)","v":{"$error":"#N/A"}},null,null,null,null,null,null,null,null,null,null,{"$f":"VLOOKUP(B312,'(1) Project Reference Item List'!$B$2:$D$1000,3,FALSE)","v":{"$error":"#N/A"}},null,null,0,0]
[{"$f":"VLOOKUP(B313,'(1) Project Reference Item List'!$B$2:$C$1000,2,FALSE)","v":{"$error":"#N/A"}},null,null,null,null,null,null,null,null,null,null,{"$f":"VLOOKUP(B313,'(1) Project Reference Item List'!$B$2:$D$1000,3,FALSE)","v":{"$error":"#N/A"}},null,null,0,0]
[{"$f":"VLOOKUP(B314,'(1) Project Reference Item List'!$B$2:$C$1000,2,FALSE)","v":{"$error":"#N/A"}},null,null,null,null,null,null,null,null,null,null,{"$f":"VLOOKUP(B314,'(1) Project Reference Item List'!$B$2:$D$1000,3,FALSE)","v":{"$error":"#N/A"}},null,null,0,0]
[{"$f":"VLOOKUP(B315,'(1) Project Reference Item List'!$B$2:$C$1000,2,FALSE)","v":{"$error":"#N/A"}},null,null,null,null,null,null,null,null,null,null,{"$f":"VLOOKUP(B315,'(1) Project Reference Item List'!$B$2:$D$1000,3,FALSE)","v":{"$error":"#N/A"}},null,null,0,0]
[{"$f":"VLOOKUP(B316,'(1) Project Reference Item List'!$B$2:$C$1000,2,FALSE)","v":{"$error":"#N/A"}},null,null,null,null,null,null,null,null,null,null,{"$f":"VLOOKUP(B316,'(1) Project Reference Item List'!$B$2:$D$1000,3,FALSE)","v":{"$error":"#N/A"}},null,null,0,0]
[{"$f":"VLOOKUP(B317,'(1) Project Reference Item List'!$B$2:$C$1000,2,FALSE)","v":{"$error":"#N/A"}},null,null,null,null,null,null,null,null,null,null,{"$f":"VLOOKUP(B317,'(1) Project Reference Item List'!$B$2:$D$1000,3,FALSE)","v":{"$error":"#N/A"}},null,null,0,0]
[{"$f":"VLOOKUP(B318,'(1) Project Reference Item List'!$B$2:$C$1000,2,FALSE)","v":{"$error":"#N/A"}},null,null,null,null,null,null,null,null,null,null,{"$f":"VLOOKUP(B318,'(1) Project Reference Item List'!$B$2:$D$1000,3,FALSE)","v":{"$error":"#N/A"}},null,null,0,0]
[{"$f":"VLOOKUP(B319,'(1) Project Reference Item List'!$B$2:$C$1000,2,FALSE)","v":{"$error":"#N/A"}},null,null,null,null,null,null,null,null,null,null,{"$f":"VLOOKUP(B319,'(1) Project Reference Item List'!$B$2:$D$1000,3,FALSE)","v":{"$error":"#N/A"}},null,null,0,0]
[{"$f":"VLOOKUP(B320,'(1) Project Reference Item List'!$B$2:$C$1000,2,FALSE)","v":{"$error":"#N/A"}},null,null,null,null,null,null,null,null,null,null,{"$f":"VLOOKUP(B320,'(1) Project Reference Item List'!$B$2:$D$1000,3,FALSE)","v":{"$error":"#N/A"}},null,null,0,0]
[{"$f":"VLOOKUP(B321,'(1) Project Reference Item List'!$B$2:$C$1000,2,FALSE)","v":{"$error":"#N/A"}},null,null,null,null,null,null,null,null,null,null,{"$f":"VLOOKUP(B321,'(1) Project Reference Item List'!$B$2:$D$1000,3,FALSE)","v":{"$error":"#N/A"}},null,null,0,0]
[{"$f":"VLOOKUP(B322,'(1) Project Reference Item List'!$B$2:$C$1000,2,FALSE)","v":{"$error":"#N/A"}},null,null,null,null,null,null,null,null,null,null,{"$f":"VLOOKUP(B322,'(1) Project Reference Item List'!$B$2:$D$1000,3,FALSE)","v":{"$error":"#N/A"}},null,null,0,0]
[{"$f":"VLOOKUP(B323,'(1) Project Reference Item List'!$B$2:$C$1000,2,FALSE)","v":{"$error":"#N/A"}},null,null,null,null,null,null,null,null,null,null,{"$f":"VLOOKUP(B323,'(1) Project Reference Item List'!$B$2:$D$1000,3,FALSE)","v":{"$error":"#N/A"}},null,null,0,0]
[{"$f":"VLOOKUP(B324,'(1) Project Reference Item List'!$B$2:$C$1000,2,FALSE)","v":{"$error":"#N/A"}},null,null,null,null,null,null,null,null,null,null,{"$f":"VLOOKUP(B324,'(1) Project Reference Item List'!$B$2:$D$1000,3,FALSE)","v":{"$error":"#N/A"}},null,null,0,0]
[{"$f":"VLOOKUP(B325,'(1) Project Reference Item List'!$B$2:$C$1000,2,FALSE)","v":{"$error":"#N/A"}},null,null,null,null,null,null,null,null,null,null,{"$f":"VLOOKUP(B325,'(1) Project Reference Item List'!$B$2:$D$1000,3,FALSE)","v":{"$error":"#N/A"}},null,null,0,0]
[{"$f":"VLOOKUP(B326,'(1) Project Reference Item List'!$B$2:$C$1000,2,FALSE)","v":{"$error":"#N/A"}},null,null,null,null,null,null,null,null,null,null,{"$f":"VLOOKUP(B326,'(1) Project Reference Item List'!$B$2:$D$1000,3,FALSE)","v":{"$error":"#N/A"}},null,null,{"$f":"IF(J326=0,J326,J326*N326)","v":0},{"$f":"(M326-O326)","v":0}]
[{"$f":"VLOOKUP(B327,'(1) Project Reference Item List'!$B$2:$C$1000,2,FALSE)","v":{"$error":"#N/A"}},null,null,null,null,null,null,null,null,null,null,{"$f":"VLOOKUP(B327,'(1) Project Reference Item List'!$B$2:$D$1000,3,FALSE)","v":{"$error":"#N/A"}},null,null,0,0]
[{"$f":"VLOOKUP(B328,'(1) Project Reference Item List'!$B$2:$C$1000,2,FALSE)","v":{"$error":"#N/A"}},null,null,null,null,null,null,null,null,null,null,{"$f":"VLOOKUP(B328,'(1) Project Reference Item List'!$B$2:$D$1000,3,FALSE)","v":{"$error":"#N/A"}},null,null,0,0]
[{"$f":"VLOOKUP(B329,'(1) Project Reference Item List'!$B$2:$C$1000,2,FALSE)","v":{"$error":"#N/A"}},null,null,null,null,null,null,null,null,null,null,{"$f":"VLOOKUP(B329,'(1) Project Reference Item List'!$B$2:$D$1000,3,FALSE)","v":{"$error":"#N/A"}},null,null,0,0]
[{"$f":"VLOOKUP(B330,'(1) Project Reference Item List'!$B$2:$C$1000,2,FALSE)","v":{"$error":"#N/A"}},null,null,null,null,null,null,null,null,null,null,{"$f":"VLOOKUP(B330,'(1) Project Reference Item List'!$B$2:$D$1000,3,FALSE)","v":{"$error":"#N/A"}},null,null,0,0]
[{"$f":"VLOOKUP(B331,'(1) Project Reference Item List'!$B$2:$C$1000,2,FALSE)","v":{"$error":"#N/A"}},null,null,null,null,null,null,null,null,null,null,{"$f":"VLOOKUP(B331,'(1) Project Reference Item List'!$B$2:$D$1000,3,FALSE)","v":{"$error":"#N/A"}},null,null,0,0]
[{"$f":"VLOOKUP(B332,'(1) Project Reference Item List'!$B$2:$C$1000,2,FALSE)","v":{"$error":"#N/A"}},null,null,null,null,null,null,null,null,null,null,{"$f":"VLOOKUP(B332,'(1) Project Reference Item List'!$B$2:$D$1000,3,FALSE)","v":{"$error":"#N/A"}},null,null,0,0]
[{"$f":"VLOOKUP(B333,'(1) Project Reference Item List'!$B$2:$C$1000,2,FALSE)","v":{"$error":"#N/A"}},null,null,null,null,null,null,null,null,null,null,{"$f":"VLOOKUP(B333,'(1) Project Reference Item List'!$B$2:$D$1000,3,FALSE)","v":{"$error":"#N/A"}},null,null,0,0]
[{"$f":"VLOOKUP(B334,'(1) Project Reference Item List'!$B$2:$C$1000,2,FALSE)","v":{"$error":"#N/A"}},null,null,null,null,null,null,null,null,null,null,{"$f":"VLOOKUP(B334,'(1) Project Reference Item List'!$B$2:$D$1000,3,FALSE)","v":{"$error":"#N/A"}},null,null,0,0]
[{"$f":"VLOOKUP(B335,'(1) Project Reference Item List'!$B$2:$C$1000,2,FALSE)","v":{"$error":"#N/A"}},null,null,null,null,null,null,null,null,null,null,{"$f":"VLOOKUP(B335,'(1) Project Reference Item List'!$B$2:$D$1000,3,FALSE)","v":{"$error":"#N/A"}},null,null,0,0]
[{"$f":"VLOOKUP(B336,'(1) Project Reference Item List'!$B$2:$C$1000,2,FALSE)","v":{"$error":"#N/A"}},null,null,null,null,null,null,null,null,null,null,{"$f":"VLOOKUP(B336,'(1) Project Reference Item List'!$B$2:$D$1000,3,FALSE)","v":{"$error":"#N/A"}},null,null,0,0]
[{"$f":"VLOOKUP(B337,'(1) Project Reference Item List'!$B$2:$C$1000,2,FALSE)","v":{"$error":"#N/A"}},null,null,null,null,null,null,null,null,null,null,{"$f":"VLOOKUP(B337,'(1) Project Reference Item List'!$B$2:$D$1000,3,FALSE)","v":{"$error":"#N/A"}},null,null,0,0]
[{"$f":"VLOOKUP(B338,'(1) Project Reference Item List'!$B$2:$C$1000,2,FALSE)","v":{"$error":"#N/A"}},null,null,null,null,null,null,null,null,null,null,{"$f":"VLOOKUP(B338,'(1) Project Reference Item List'!$B$2:$D$1000,3,FALSE)","v":{"$error":"#N/A"}},null,null,0,0]
[{"$f":"VLOOKUP(B339,'(1) Project Reference Item List'!$B$2:$C$1000,2,FALSE)","v":{"$error":"#N/A"}},null,null,null,null,null,null,null,null,null,null,{"$f":"VLOOKUP(B339,'(1) Project Reference Item List'!$B$2:$D$1000,3,FALSE)","v":{"$error":"#N/A"}},null,null,0,0]
[{"$f":"VLOOKUP(B340,'(1) Project Reference Item List'!$B$2:$C$1000,2,FALSE)","v":{"$error":"#N/A"}},null,null,null,null,null,null,null,null,null,null,{"$f":"VLOOKUP(B340,'(1) Project Reference Item List'!$B$2:$D$1000,3,FALSE)","v":{"$error":"#N/A"}},null,null,0,0]
[{"$f":"VLOOKUP(B341,'(1) Project Reference Item List'!$B$2:$C$1000,2,FALSE)","v":{"$error":"#N/A"}},null,null,null,null,null,null,null,null,null,null,{"$f":"VLOOKUP(B341,'(1) Project Reference Item List'!$B$2:$D$1000,3,FALSE)","v":{"$error":"#N/A"}},null,null,0,0]
[{"$f":"VLOOKUP(B342,'(1) Project Reference Item List'!$B$2:$C$1000,2,FALSE)","v":{"$error":"#N/A"}},null,null,null,null,null,null,null,null,null,null,{"$f":"VLOOKUP(B342,'(1) Project Reference Item List'!$B$2:$D$1000,3,FALSE)","v":{"$error":"#N/A"}},null,null,0,0]
[{"$f":"VLOOKUP(B343,'(1) Project Reference Item List'!$B$2:$C$1000,2,FALSE)","v":{"$error":"#N/A"}},null,null,null,null,null,null,null,null,null,null,{"$f":"VLOOKUP(B343,'(1) Project Reference Item List'!$B$2:$D$1000,3,FALSE)","v":{"$error":"#N/A"}},null,null,0,0]
[{"$f":"VLOOKUP(B344,'(1) Project Reference Item List'!$B$2:$C$1000,2,FALSE)","v":{"$error":"#N/A"}},null,null,null,null,null,null,null,null,null,null,{"$f":"VLOOKUP(B344,'(1) Project Reference Item List'!$B$2:$D$1000,3,FALSE)","v":{"$error":"#N/A"}},null,null,0,0]
[{"$f":"VLOOKUP(B345,'(1) Project Reference Item List'!$B$2:$C$1000,2,FALSE)","v":{"$error":"#N/A"}},null,null,null,null,null,null,null,null,null,null,{"$f":"VLOOKUP(B345,'(1) Project Reference Item List'!$B$2:$D$1000,3,FALSE)","v":{"$error":"#N/A"}},null,null,0,0]
[{"$f":"VLOOKUP(B346,'(1) Project Reference Item List'!$B$2:$C$1000,2,FALSE)","v":{"$error":"#N/A"}},null,null,null,null,null,null,null,null,null,null,{"$f":"VLOOKUP(B346,'(1) Project Reference Item List'!$B$2:$D$1000,3,FALSE)","v":{"$error":"#N/A"}},null,null,0,0]
[{"$f":"VLOOKUP(B347,'(1) Project Reference Item List'!$B$2:$C$1000,2,FALSE)","v":{"$error":"#N/A"}},null,null,null,null,null,null,null,null,null,null,{"$f":"VLOOKUP(B347,'(1) Project Reference Item List'!$B$2:$D$1000,3,FALSE)","v":{"$error":"#N/A"}},null,null,0,0]
[{"$f":"VLOOKUP(B348,'(1) Project Reference Item List'!$B$2:$C$1000,2,FALSE)","v":{"$error":"#N/A"}},null,null,null,null,null,null,null,null,null,null,{"$f":"VLOOKUP(B348,'(1) Project Reference Item List'!$B$2:$D$1000,3,FALSE)","v":{"$error":"#N/A"}},null,null,0,0]
[{"$f":"VLOOKUP(B349,'(1) Project Reference Item List'!$B$2:$C$1000,2,FALSE)","v":{"$error":"#N/A"}},null,null,null,null,null,null,null,null,null,null,{"$f":"VLOOKUP(B349,'(1) Project Reference Item List'!$B$2:$D$1000,3,FALSE)","v":{"$error":"#N/A"}},null,null,0,0]
[{"$f":"VLOOKUP(B350,'(1) Project Reference Item List'!$B$2:$C$1000,2,FALSE)","v":{"$error":"#N/A"}},null,null,null,null,null,null,null,null,null,null,{"$f":"VLOOKUP(B350,'(1) Project Reference Item List'!$B$2:$D$1000,3,FALSE)","v":{"$error":"#N/A"}},null,null,0,0]
[{"$f":"VLOOKUP(B351,'(1) Project Reference Item List'!$B$2:$C$1000,2,FALSE)","v":{"$error":"#N/A"}},null,null,null,null,null,null,null,null,null,null,{"$f":"VLOOKUP(B351,'(1) Project Reference Item List'!$B$2:$D$1000,3,FALSE)","v":{"$error":"#N/A"}},null,null,0,0]
[{"$f":"VLOOKUP(B352,'(1) Project Reference Item List'!$B$2:$C$1000,2,FALSE)","v":{"$error":"#N/A"}},null,null,null,null,null,null,null,null,null,null,{"$f":"VLOOKUP(B352,'(1) Project Reference Item List'!$B$2:$D$1000,3,FALSE)","v":{"$error":"#N/A"}},null,null,0,0]
[{"$f":"VLOOKUP(B353,'(1) Project Reference Item List'!$B$2:$C$1000,2,FALSE)","v":{"$error":"#N/A"}},null,null,null,null,null,null,null,null,null,null,{"$f":"VLOOKUP(B353,'(1) Project Reference Item List'!$B$2:$D$1000,3,FALSE)","v":{"$error":"#N/A"}},null,null,0,0]
[{"$f":"VLOOKUP(B354,'(1) Project Reference Item List'!$B$2:$C$1000,2,FALSE)","v":{"$error":"#N/A"}},null,null,null,null,null,null,null,null,null,null,{"$f":"VLOOKUP(B354,'(1) Project Reference Item List'!$B$2:$D$1000,3,FALSE)","v":{"$error":"#N/A"}},null,null,0,0]
[{"$f":"VLOOKUP(B355,'(1) Project Reference Item List'!$B$2:$C$1000,2,FALSE)","v":{"$error":"#N/A"}},null,null,null,null,null,null,null,null,null,null,{"$f":"VLOOKUP(B355,'(1) Project Reference Item List'!$B$2:$D$1000,3,FALSE)","v":{"$error":"#N/A"}},null,null,0,0]
[{"$f":"VLOOKUP(B356,'(1) Project Reference Item List'!$B$2:$C$1000,2,FALSE)","v":{"$error":"#N/A"}},null,null,null,null,null,null,null,null,null,null,{"$f":"VLOOKUP(B356,'(1) Project Reference Item List'!$B$2:$D$1000,3,FALSE)","v":{"$error":"#N/A"}},null,null,0,0]
[{"$f":"VLOOKUP(B357,'(1) Project Reference Item List'!$B$2:$C$1000,2,FALSE)","v":{"$error":"#N/A"}},null,null,null,null,null,null,null,null,null,null,{"$f":"VLOOKUP(B357,'(1) Project Reference Item List'!$B$2:$D$1000,3,FALSE)","v":{"$error":"#N/A"}},null,null,0,0]
[{"$f":"VLOOKUP(B358,'(1) Project Reference Item List'!$B$2:$C$1000,2,FALSE)","v":{"$error":"#N/A"}},null,null,null,null,null,null,null,null,null,null,{"$f":"VLOOKUP(B358,'(1) Project Reference Item List'!$B$2:$D$1000,3,FALSE)","v":{"$error":"#N/A"}},null,null,0,0]
[{"$f":"VLOOKUP(B359,'(1) Project Reference Item List'!$B$2:$C$1000,2,FALSE)","v":{"$error":"#N/A"}},null,null,null,null,null,null,null,null,null,null,{"$f":"VLOOKUP(B359,'(1) Project Reference Item List'!$B$2:$D$1000,3,FALSE)","v":{"$error":"#N/A"}},null,null,0,0]
[{"$f":"VLOOKUP(B360,'(1) Project Reference Item List'!$B$2:$C$1000,2,FALSE)","v":{"$error":"#N/A"}},null,null,null,null,null,null,null,null,null,null,{"$f":"VLOOKUP(B360,'(1) Project Reference Item List'!$B$2:$D$1000,3,FALSE)","v":{"$error":"#N/A"}},null,null,0,0]
[{"$f":"VLOOKUP(B361,'(1) Project Reference Item List'!$B$2:$C$1000,2,FALSE)","v":{"$error":"#N/A"}},null,null,null,null,null,null,null,null,null,null,{"$f":"VLOOKUP(B361,'(1) Project Reference Item List'!$B$2:$D$1000,3,FALSE)","v":{"$error":"#N/A"}},null,null,0,0]
[{"$f":"VLOOKUP(B362,'(1) Project Reference Item List'!$B$2:$C$1000,2,FALSE)","v":{"$error":"#N/A"}},null,null,null,null,null,null,null,null,null,null,{"$f":"VLOOKUP(B362,'(1) Project Reference Item List'!$B$2:$D$1000,3,FALSE)","v":{"$error":"#N/A"}},null,null,0,0]
[{"$f":"VLOOKUP(B363,'(1) Project Reference Item List'!$B$2:$C$1000,2,FALSE)","v":{"$error":"#N/A"}},null,null,null,null,null,null,null,null,null,null,{"$f":"VLOOKUP(B363,'(1) Project Reference Item List'!$B$2:$D$1000,3,FALSE)","v":{"$error":"#N/A"}},null,null,0,0]
[{"$f":"VLOOKUP(B364,'(1) Project Reference Item List'!$B$2:$C$1000,2,FALSE)","v":{"$error":"#N/A"}},null,null,null,null,null,null,null,null,null,null,{"$f":"VLOOKUP(B364,'(1) Project Reference Item List'!$B$2:$D$1000,3,FALSE)","v":{"$error":"#N/A"}},null,null,0,0]
[{"$f":"VLOOKUP(B365,'(1) Project Reference Item List'!$B$2:$C$1000,2,FALSE)","v":{"$error":"#N/A"}},null,null,null,null,null,null,null,null,null,null,{"$f":"VLOOKUP(B365,'(1) Project Reference Item List'!$B$2:$D$1000,3,FALSE)","v":{"$error":"#N/A"}},null,null,0,0]
[{"$f":"VLOOKUP(B366,'(1) Project Reference Item List'!$B$2:$C$1000,2,FALSE)","v":{"$error":"#N/A"}},null,null,null,null,null,null,null,null,null,null,{"$f":"VLOOKUP(B366,'(1) Project Reference Item List'!$B$2:$D$1000,3,FALSE)","v":{"$error":"#N/A"}},null,null,0,0]
[{"$f":"VLOOKUP(B367,'(1) Project Reference Item List'!$B$2:$C$1000,2,FALSE)","v":{"$error":"#N/A"}},null,null,null,null,null,null,null,null,null,null,{"$f":"VLOOKUP(B367,'(1) Project Reference Item List'!$B$2:$D$1000,3,FALSE)","v":{"$error":"#N/A"}},null,null,0,0]
[{"$f":"VLOOKUP(B368,'(1) Project Reference Item List'!$B$2:$C$1000,2,FALSE)","v":{"$error":"#N/A"}},null,null,null,null,null,null,null,null,null,null,{"$f":"VLOOKUP(B368,'(1) Project Reference Item List'!$B$2:$D$1000,3,FALSE)","v":{"$error":"#N/A"}},null,null,0,0]
[{"$f":"VLOOKUP(B369,'(1) Project Reference Item List'!$B$2:$C$1000,2,FALSE)","v":{"$error":"#N/A"}},null,null,null,null,null,null,null,null,null,null,{"$f":"VLOOKUP(B369,'(1) Project Reference Item List'!$B$2:$D$1000,3,FALSE)","v":{"$error":"#N/A"}},null,null,0,0]
[{"$f":"VLOOKUP(B370,'(1) Project Reference Item List'!$B$2:$C$1000,2,FALSE)","v":{"$error":"#N/A"}},null,null,null,null,null,null,null,null,null,null,{"$f":"VLOOKUP(B370,'(1) Project Reference Item List'!$B$2:$D$1000,3,FALSE)","v":{"$error":"#N/A"}},null,null,0,0]
[{"$f":"VLOOKUP(B371,'(1) Project Reference Item List'!$B$2:$C$1000,2,FALSE)","v":{"$error":"#N/A"}},null,null,null,null,null,null,null,null,null,null,{"$f":"VLOOKUP(B371,'(1) Project Reference Item List'!$B$2:$D$1000,3,FALSE)","v":{"$error":"#N/A"}},null,null,0,0]
[{"$f":"VLOOKUP(B372,'(1) Project Reference Item List'!$B$2:$C$1000,2,FALSE)","v":{"$error":"#N/A"}},null,null,null,null,null,null,null,null,null,null,{"$f":"VLOOKUP(B372,'(1) Project Reference Item List'!$B$2:$D$1000,3,FALSE)","v":{"$error":"#N/A"}},null,null,0,0]
[{"$f":"VLOOKUP(B373,'(1) Project Reference Item List'!$B$2:$C$1000,2,FALSE)","v":{"$error":"#N/A"}},null,null,null,null,null,null,null,null,null,null,{"$f":"VLOOKUP(B373,'(1) Project Reference Item List'!$B$2:$D$1000,3,FALSE)","v":{"$error":"#N/A"}},null,null,0,0]
[{"$f":"VLOOKUP(B374,'(1) Project Reference Item List'!$B$2:$C$1000,2,FALSE)","v":{"$error":"#N/A"}},null,null,null,null,null,null,null,null,null,null,{"$f":"VLOOKUP(B374,'(1) Project Reference Item List'!$B$2:$D$1000,3,FALSE)","v":{"$error":"#N/A"}},null,null,0,0]
[{"$f":"VLOOKUP(B375,'(1) Project Reference Item List'!$B$2:$C$1000,2,FALSE)","v":{"$error":"#N/A"}},null,null,null,null,null,null,null,null,null,null,{"$f":"VLOOKUP(B375,'(1) Project Reference Item List'!$B$2:$D$1000,3,FALSE)","v":{"$error":"#N/A"}},null,null,0,0]
[{"$f":"VLOOKUP(B376,'(1) Project Reference Item List'!$B$2:$C$1000,2,FALSE)","v":{"$error":"#N/A"}},null,null,null,null,null,null,null,null,null,null,{"$f":"VLOOKUP(B376,'(1) Project Reference Item List'!$B$2:$D$1000,3,FALSE)","v":{"$error":"#N/A"}},null,null,0,0]
[{"$f":"VLOOKUP(B377,'(1) Project Reference Item List'!$B$2:$C$1000,2,FALSE)","v":{"$error":"#N/A"}},null,null,null,null,null,null,null,null,null,null,{"$f":"VLOOKUP(B377,'(1) Project Reference Item List'!$B$2:$D$1000,3,FALSE)","v":{"$error":"#N/A"}},null,null,0,0]
[{"$f":"VLOOKUP(B378,'(1) Project Reference Item List'!$B$2:$C$1000,2,FALSE)","v":{"$error":"#N/A"}},null,null,null,null,null,null,null,null,null,null,{"$f":"VLOOKUP(B378,'(1) Project Reference Item List'!$B$2:$D$1000,3,FALSE)","v":{"$error":"#N/A"}},null,null,0,0]
[{"$f":"VLOOKUP(B379,'(1) Project Reference Item List'!$B$2:$C$1000,2,FALSE)","v":{"$error":"#N/A"}},null,null,null,null,null,null,null,null,null,null,{"$f":"VLOOKUP(B379,'(1) Project Reference Item List'!$B$2:$D$1000,3,FALSE)","v":{"$error":"#N/A"}},null,null,0,0]
[{"$f":"VLOOKUP(B380,'(1) Project Reference Item List'!$B$2:$C$1000,2,FALSE)","v":{"$error":"#N/A"}},null,null,null,null,null,null,null,null,null,null,{"$f":"VLOOKUP(B380,'(1) Project Reference Item List'!$B$2:$D$1000,3,FALSE)","v":{"$error":"#N/A"}},null,null,0,0]
[{"$f":"VLOOKUP(B381,'(1) Project Reference Item List'!$B$2:$C$1000,2,FALSE)","v":{"$error":"#N/A"}},null,null,null,null,null,null,null,null,null,null,{"$f":"VLOOKUP(B381,'(1) Project Reference Item List'!$B$2:$D$1000,3,FALSE)","v":{"$error":"#N/A"}},null,null,0,0]
[{"$f":"VLOOKUP(B382,'(1) Project Reference Item List'!$B$2:$C$1000,2,FALSE)","v":{"$error":"#N/A"}},null,null,null,null,null,null,null,null,null,null,{"$f":"VLOOKUP(B382,'(1) Project Reference Item List'!$B$2:$D$1000,3,FALSE)","v":{"$error":"#N/A"}},null,null,0,0]
[{"$f":"VLOOKUP(B383,'(1) Project Reference Item List'!$B$2:$C$1000,2,FALSE)","v":{"$error":"#N/A"}},null,null,null,null,null,null,null,null,null,null,{"$f":"VLOOKUP(B383,'(1) Project Reference Item List'!$B$2:$D$1000,3,FALSE)","v":{"$error":"#N/A"}},null,null,0,0]
[{"$f":"VLOOKUP(B384,'(1) Project Reference Item List'!$B$2:$C$1000,2,FALSE)","v":{"$error":"#N/A"}},null,null,null,null,null,null,null,null,null,null,{"$f":"VLOOKUP(B384,'(1) Project Reference Item List'!$B$2:$D$1000,3,FALSE)","v":{"$error":"#N/A"}},null,null,0,0]
[{"$f":"VLOOKUP(B385,'(1) Project Reference Item List'!$B$2:$C$1000,2,FALSE)","v":{"$error":"#N/A"}},null,null,null,null,null,null,null,null,null,null,{"$f":"VLOOKUP(B385,'(1) Project Reference Item List'!$B$2:$D$1000,3,FALSE)","v":{"$error":"#N/A"}},null,null,0,0]
[{"$f":"VLOOKUP(B386,'(1) Project Reference Item List'!$B$2:$C$1000,2,FALSE)","v":{"$error":"#N/A"}},null,null,null,null,null,null,null,null,null,null,{"$f":"VLOOKUP(B386,'(1) Project Reference Item List'!$B$2:$D$1000,3,FALSE)","v":{"$error":"#N/A"}},null,null,0,0]
[{"$f":"VLOOKUP(B387,'(1) Project Reference Item List'!$B$2:$C$1000,2,FALSE)","v":{"$error":"#N/A"}},null,null,null,null,null,null,null,null,null,null,{"$f":"VLOOKUP(B387,'(1) Project Reference Item List'!$B$2:$D$1000,3,FALSE)","v":{"$error":"#N/A"}},null,null,0,0]
[{"$f":"VLOOKUP(B388,'(1) Project Reference Item List'!$B$2:$C$1000,2,FALSE)","v":{"$error":"#N/A"}},null,null,null,null,null,null,null,null,null,null,{"$f":"VLOOKUP(B388,'(1) Project Reference Item List'!$B$2:$D$1000,3,FALSE)","v":{"$error":"#N/A"}},null,null,0,0]
[{"$f":"VLOOKUP(B389,'(1) Project Reference Item List'!$B$2:$C$1000,2,FALSE)","v":{"$error":"#N/A"}},null,null,null,null,null,null,null,null,null,null,{"$f":"VLOOKUP(B389,'(1) Project Reference Item List'!$B$2:$D$1000,3,FALSE)","v":{"$error":"#N/A"}},null,null,0,0]
[{"$f":"VLOOKUP(B390,'(1) Project Reference Item List'!$B$2:$C$1000,2,FALSE)","v":{"$error":"#N/A"}},null,null,null,null,null,null,null,null,null,null,{"$f":"VLOOKUP(B390,'(1) Project Reference Item List'!$B$2:$D$1000,3,FALSE)","v":{"$error":"#N/A"}},null,null,{"$f":"IF(J390=0,J390,J390*N390)","v":0},{"$f":"(M390-O390)","v":0}]
[{"$f":"VLOOKUP(B391,'(1) Project Reference Item List'!$B$2:$C$1000,2,FALSE)","v":{"$error":"#N/A"}},null,null,null,null,null,null,null,null,null,null,{"$f":"VLOOKUP(B391,'(1) Project Reference Item List'!$B$2:$D$1000,3,FALSE)","v":{"$error":"#N/A"}},null,null,0,0]
[{"$f":"VLOOKUP(B392,'(1) Project Reference Item List'!$B$2:$C$1000,2,FALSE)","v":{"$error":"#N/A"}},null,null,null,null,null,null,null,null,null,null,{"$f":"VLOOKUP(B392,'(1) Project Reference Item List'!$B$2:$D$1000,3,FALSE)","v":{"$error":"#N/A"}},null,null,0,0]
[{"$f":"VLOOKUP(B393,'(1) Project Reference Item List'!$B$2:$C$1000,2,FALSE)","v":{"$error":"#N/A"}},null,null,null,null,null,null,null,null,null,null,{"$f":"VLOOKUP(B393,'(1) Project Reference Item List'!$B$2:$D$1000,3,FALSE)","v":{"$error":"#N/A"}},null,null,0,0]
[{"$f":"VLOOKUP(B394,'(1) Project Reference Item List'!$B$2:$C$1000,2,FALSE)","v":{"$error":"#N/A"}},null,null,null,null,null,null,null,null,null,null,{"$f":"VLOOKUP(B394,'(1) Project Reference Item List'!$B$2:$D$1000,3,FALSE)","v":{"$error":"#N/A"}},null,null,0,0]
[{"$f":"VLOOKUP(B395,'(1) Project Reference Item List'!$B$2:$C$1000,2,FALSE)","v":{"$error":"#N/A"}},null,null,null,null,null,null,null,null,null,null,{"$f":"VLOOKUP(B395,'(1) Project Reference Item List'!$B$2:$D$1000,3,FALSE)","v":{"$error":"#N/A"}},null,null,0,0]
[{"$f":"VLOOKUP(B396,'(1) Project Reference Item List'!$B$2:$C$1000,2,FALSE)","v":{"$error":"#N/A"}},null,null,null,null,null,null,null,null,null,null,{"$f":"VLOOKUP(B396,'(1) Project Reference Item List'!$B$2:$D$1000,3,FALSE)","v":{"$error":"#N/A"}},null,null,0,0]
[{"$f":"VLOOKUP(B397,'(1) Project Reference Item List'!$B$2:$C$1000,2,FALSE)","v":{"$error":"#N/A"}},null,null,null,null,null,null,null,null,null,null,{"$f":"VLOOKUP(B397,'(1) Project Reference Item List'!$B$2:$D$1000,3,FALSE)","v":{"$error":"#N/A"}},null,null,0,0]
[{"$f":"VLOOKUP(B398,'(1) Project Reference Item List'!$B$2:$C$1000,2,FALSE)","v":{"$error":"#N/A"}},null,null,null,null,null,null,null,null,null,null,{"$f":"VLOOKUP(B398,'(1) Project Reference Item List'!$B$2:$D$1000,3,FALSE)","v":{"$error":"#N/A"}},null,null,0,0]
[{"$f":"VLOOKUP(B399,'(1) Project Reference Item List'!$B$2:$C$1000,2,FALSE)","v":{"$error":"#N/A"}},null,null,null,null,null,null,null,null,null,null,{"$f":"VLOOKUP(B399,'(1) Project Reference Item List'!$B$2:$D$1000,3,FALSE)","v":{"$error":"#N/A"}},null,null,0,0]
[{"$f":"VLOOKUP(B400,'(1) Project Reference Item List'!$B$2:$C$1000,2,FALSE)","v":{"$error":"#N/A"}},null,null,null,null,null,null,null,null,null,null,{"$f":"VLOOKUP(B400,'(1) Project Reference Item List'!$B$2:$D$1000,3,FALSE)","v":{"$error":"#N/A"}},null,null,0,0]
[{"$f":"VLOOKUP(B401,'(1) Project Reference Item List'!$B$2:$C$1000,2,FALSE)","v":{"$error":"#N/A"}},null,null,null,null,null,null,null,null,null,null,{"$f":"VLOOKUP(B401,'(1) Project Reference Item List'!$B$2:$D$1000,3,FALSE)","v":{"$error":"#N/A"}},null,null,0,0]
[{"$f":"VLOOKUP(B402,'(1) Project Reference Item List'!$B$2:$C$1000,2,FALSE)","v":{"$error":"#N/A"}},null,null,null,null,null,null,null,null,null,null,{"$f":"VLOOKUP(B402,'(1) Project Reference Item List'!$B$2:$D$1000,3,FALSE)","v":{"$error":"#N/A"}},null,null,0,0]
[{"$f":"VLOOKUP(B403,'(1) Project Reference Item List'!$B$2:$C$1000,2,FALSE)","v":{"$error":"#N/A"}},null,null,null,null,null,null,null,null,null,null,{"$f":"VLOOKUP(B403,'(1) Project Reference Item List'!$B$2:$D$1000,3,FALSE)","v":{"$error":"#N/A"}},null,null,0,0]
[{"$f":"VLOOKUP(B404,'(1) Project Reference Item List'!$B$2:$C$1000,2,FALSE)","v":{"$error":"#N/A"}},null,null,null,null,null,null,null,null,null,null,{"$f":"VLOOKUP(B404,'(1) Project Reference Item List'!$B$2:$D$1000,3,FALSE)","v":{"$error":"#N/A"}},null,null,0,0]
[{"$f":"VLOOKUP(B405,'(1) Project Reference Item List'!$B$2:$C$1000,2,FALSE)","v":{"$error":"#N/A"}},null,null,null,null,null,null,null,null,null,null,{"$f":"VLOOKUP(B405,'(1) Project Reference Item List'!$B$2:$D$1000,3,FALSE)","v":{"$error":"#N/A"}},null,null,0,0]
[{"$f":"VLOOKUP(B406,'(1) Project Reference Item List'!$B$2:$C$1000,2,FALSE)","v":{"$error":"#N/A"}},null,null,null,null,null,null,null,null,null,null,{"$f":"VLOOKUP(B406,'(1) Project Reference Item List'!$B$2:$D$1000,3,FALSE)","v":{"$error":"#N/A"}},null,null,0,0]
[{"$f":"VLOOKUP(B407,'(1) Project Reference Item List'!$B$2:$C$1000,2,FALSE)","v":{"$error":"#N/A"}},null,null,null,null,null,null,null,null,null,null,{"$f":"VLOOKUP(B407,'(1) Project Reference Item List'!$B$2:$D$1000,3,FALSE)","v":{"$error":"#N/A"}},null,null,0,0]
[{"$f":"VLOOKUP(B408,'(1) Project Reference Item List'!$B$2:$C$1000,2,FALSE)","v":{"$error":"#N/A"}},null,null,null,null,null,null,null,null,null,null,{"$f":"VLOOKUP(B408,'(1) Project Reference Item List'!$B$2:$D$1000,3,FALSE)","v":{"$error":"#N/A"}},null,null,0,0]
[{"$f":"VLOOKUP(B409,'(1) Project Reference Item List'!$B$2:$C$1000,2,FALSE)","v":{"$error":"#N/A"}},null,null,null,null,null,null,null,null,null,null,{"$f":"VLOOKUP(B409,'(1) Project Reference Item List'!$B$2:$D$1000,3,FALSE)","v":{"$error":"#N/A"}},null,null,0,0]
[{"$f":"VLOOKUP(B410,'(1) Project Reference Item List'!$B$2:$C$1000,2,FALSE)","v":{"$error":"#N/A"}},null,null,null,null,null,null,null,null,null,null,{"$f":"VLOOKUP(B410,'(1) Project Reference Item List'!$B$2:$D$1000,3,FALSE)","v":{"$error":"#N/A"}},null,null,0,0]
[{"$f":"VLOOKUP(B411,'(1) Project Reference Item List'!$B$2:$C$1000,2,FALSE)","v":{"$error":"#N/A"}},null,null,null,null,null,null,null,null,null,null,{"$f":"VLOOKUP(B411,'(1) Project Reference Item List'!$B$2:$D$1000,3,FALSE)","v":{"$error":"#N/A"}},null,null,0,0]
[{"$f":"VLOOKUP(B412,'(1) Project Reference Item List'!$B$2:$C$1000,2,FALSE)","v":{"$error":"#N/A"}},null,null,null,null,null,null,null,null,null,null,{"$f":"VLOOKUP(B412,'(1) Project Reference Item List'!$B$2:$D$1000,3,FALSE)","v":{"$error":"#N/A"}},null,null,0,0]
[{"$f":"VLOOKUP(B413,'(1) Project Reference Item List'!$B$2:$C$1000,2,FALSE)","v":{"$error":"#N/A"}},null,null,null,null,null,null,null,null,null,null,{"$f":"VLOOKUP(B413,'(1) Project Reference Item List'!$B$2:$D$1000,3,FALSE)","v":{"$error":"#N/A"}},null,null,0,0]
[{"$f":"VLOOKUP(B414,'(1) Project Reference Item List'!$B$2:$C$1000,2,FALSE)","v":{"$error":"#N/A"}},null,null,null,null,null,null,null,null,null,null,{"$f":"VLOOKUP(B414,'(1) Project Reference Item List'!$B$2:$D$1000,3,FALSE)","v":{"$error":"#N/A"}},null,null,0,0]
[{"$f":"VLOOKUP(B415,'(1) Project Reference Item List'!$B$2:$C$1000,2,FALSE)","v":{"$error":"#N/A"}},null,null,null,null,null,null,null,null,null,null,{"$f":"VLOOKUP(B415,'(1) Project Reference Item List'!$B$2:$D$1000,3,FALSE)","v":{"$error":"#N/A"}},null,null,0,0]
[{"$f":"VLOOKUP(B416,'(1) Project Reference Item List'!$B$2:$C$1000,2,FALSE)","v":{"$error":"#N/A"}},null,null,null,null,null,null,null,null,null,null,{"$f":"VLOOKUP(B416,'(1) Project Reference Item List'!$B$2:$D$1000,3,FALSE)","v":{"$error":"#N/A"}},null,null,0,0]
[{"$f":"VLOOKUP(B417,'(1) Project Reference Item List'!$B$2:$C$1000,2,FALSE)","v":{"$error":"#N/A"}},null,null,null,null,null,null,null,null,null,null,{"$f":"VLOOKUP(B417,'(1) Project Reference Item List'!$B$2:$D$1000,3,FALSE)","v":{"$error":"#N/A"}},null,null,0,0]
[{"$f":"VLOOKUP(B418,'(1) Project Reference Item List'!$B$2:$C$1000,2,FALSE)","v":{"$error":"#N/A"}},null,null,null,null,null,null,null,null,null,null,{"$f":"VLOOKUP(B418,'(1) Project Reference Item List'!$B$2:$D$1000,3,FALSE)","v":{"$error":"#N/A"}},null,null,0,0]
[{"$f":"VLOOKUP(B419,'(1) Project Reference Item List'!$B$2:$C$1000,2,FALSE)","v":{"$error":"#N/A"}},null,null,null,null,null,null,null,null,null,null,{"$f":"VLOOKUP(B419,'(1) Project Reference Item List'!$B$2:$D$1000,3,FALSE)","v":{"$error":"#N/A"}},null,null,0,0]
[{"$f":"VLOOKUP(B420,'(1) Project Reference Item List'!$B$2:$C$1000,2,FALSE)","v":{"$error":"#N/A"}},null,null,null,null,null,null,null,null,null,null,{"$f":"VLOOKUP(B420,'(1) Project Reference Item List'!$B$2:$D$1000,3,FALSE)","v":{"$error":"#N/A"}},null,null,0,0]
[{"$f":"VLOOKUP(B421,'(1) Project Reference Item List'!$B$2:$C$1000,2,FALSE)","v":{"$error":"#N/A"}},null,null,null,null,null,null,null,null,null,null,{"$f":"VLOOKUP(B421,'(1) Project Reference Item List'!$B$2:$D$1000,3,FALSE)","v":{"$error":"#N/A"}},null,null,0,0]
[{"$f":"VLOOKUP(B422,'(1) Project Reference Item List'!$B$2:$C$1000,2,FALSE)","v":{"$error":"#N/A"}},null,null,null,null,null,null,null,null,null,null,{"$f":"VLOOKUP(B422,'(1) Project Reference Item List'!$B$2:$D$1000,3,FALSE)","v":{"$error":"#N/A"}},null,null,0,0]
[{"$f":"VLOOKUP(B423,'(1) Project Reference Item List'!$B$2:$C$1000,2,FALSE)","v":{"$error":"#N/A"}},null,null,null,null,null,null,null,null,null,null,{"$f":"VLOOKUP(B423,'(1) Project Reference Item List'!$B$2:$D$1000,3,FALSE)","v":{"$error":"#N/A"}},null,null,0,0]
[{"$f":"VLOOKUP(B424,'(1) Project Reference Item List'!$B$2:$C$1000,2,FALSE)","v":{"$error":"#N/A"}},null,null,null,null,null,null,null,null,null,null,{"$f":"VLOOKUP(B424,'(1) Project Reference Item List'!$B$2:$D$1000,3,FALSE)","v":{"$error":"#N/A"}},null,null,0,0]
[{"$f":"VLOOKUP(B425,'(1) Project Reference Item List'!$B$2:$C$1000,2,FALSE)","v":{"$error":"#N/A"}},null,null,null,null,null,null,null,null,null,null,{"$f":"VLOOKUP(B425,'(1) Project Reference Item List'!$B$2:$D$1000,3,FALSE)","v":{"$error":"#N/A"}},null,null,0,0]
[{"$f":"VLOOKUP(B426,'(1) Project Reference Item List'!$B$2:$C$1000,2,FALSE)","v":{"$error":"#N/A"}},null,null,null,null,null,null,null,null,null,null,{"$f":"VLOOKUP(B426,'(1) Project Reference Item List'!$B$2:$D$1000,3,FALSE)","v":{"$error":"#N/A"}},null,null,0,0]
[{"$f":"VLOOKUP(B427,'(1) Project Reference Item List'!$B$2:$C$1000,2,FALSE)","v":{"$error":"#N/A"}},null,null,null,null,null,null,null,null,null,null,{"$f":"VLOOKUP(B427,'(1) Project Reference Item List'!$B$2:$D$1000,3,FALSE)","v":{"$error":"#N/A"}},null,null,0,0]
[{"$f":"VLOOKUP(B428,'(1) Project Reference Item List'!$B$2:$C$1000,2,FALSE)","v":{"$error":"#N/A"}},null,null,null,null,null,null,null,null,null,null,{"$f":"VLOOKUP(B428,'(1) Project Reference Item List'!$B$2:$D$1000,3,FALSE)","v":{"$error":"#N/A"}},null,null,0,0]
[{"$f":"VLOOKUP(B429,'(1) Project Reference Item List'!$B$2:$C$1000,2,FALSE)","v":{"$error":"#N/A"}},null,null,null,null,null,null,null,null,null,null,{"$f":"VLOOKUP(B429,'(1) Project Reference Item List'!$B$2:$D$1000,3,FALSE)","v":{"$error":"#N/A"}},null,null,0,0]
[{"$f":"VLOOKUP(B430,'(1) Project Reference Item List'!$B$2:$C$1000,2,FALSE)","v":{"$error":"#N/A"}},null,null,null,null,null,null,null,null,null,null,{"$f":"VLOOKUP(B430,'(1) Project Reference Item List'!$B$2:$D$1000,3,FALSE)","v":{"$error":"#N/A"}},null,null,0,0]
[{"$f":"VLOOKUP(B431,'(1) Project Reference Item List'!$B$2:$C$1000,2,FALSE)","v":{"$error":"#N/A"}},null,null,null,null,null,null,null,null,null,null,{"$f":"VLOOKUP(B431,'(1) Project Reference Item List'!$B$2:$D$1000,3,FALSE)","v":{"$error":"#N/A"}},null,null,0,0]
[{"$f":"VLOOKUP(B432,'(1) Project Reference Item List'!$B$2:$C$1000,2,FALSE)","v":{"$error":"#N/A"}},null,null,null,null,null,null,null,null,null,null,{"$f":"VLOOKUP(B432,'(1) Project Reference Item List'!$B$2:$D$1000,3,FALSE)","v":{"$error":"#N/A"}},null,null,0,0]
[{"$f":"VLOOKUP(B433,'(1) Project Reference Item List'!$B$2:$C$1000,2,FALSE)","v":{"$error":"#N/A"}},null,null,null,null,null,null,null,null,null,null,{"$f":"VLOOKUP(B433,'(1) Project Reference Item List'!$B$2:$D$1000,3,FALSE)","v":{"$error":"#N/A"}},null,null,0,0]
[{"$f":"VLOOKUP(B434,'(1) Project Reference Item List'!$B$2:$C$1000,2,FALSE)","v":{"$error":"#N/A"}},null,null,null,null,null,null,null,null,null,null,{"$f":"VLOOKUP(B434,'(1) Project Reference Item List'!$B$2:$D$1000,3,FALSE)","v":{"$error":"#N/A"}},null,null,0,0]
[{"$f":"VLOOKUP(B435,'(1) Project Reference Item List'!$B$2:$C$1000,2,FALSE)","v":{"$error":"#N/A"}},null,null,null,null,null,null,null,null,null,null,{"$f":"VLOOKUP(B435,'(1) Project Reference Item List'!$B$2:$D$1000,3,FALSE)","v":{"$error":"#N/A"}},null,null,0,0]
[{"$f":"VLOOKUP(B436,'(1) Project Reference Item List'!$B$2:$C$1000,2,FALSE)","v":{"$error":"#N/A"}},null,null,null,null,null,null,null,null,null,null,{"$f":"VLOOKUP(B436,'(1) Project Reference Item List'!$B$2:$D$1000,3,FALSE)","v":{"$error":"#N/A"}},null,null,0,0]
[{"$f":"VLOOKUP(B437,'(1) Project Reference Item List'!$B$2:$C$1000,2,FALSE)","v":{"$error":"#N/A"}},null,null,null,null,null,null,null,null,null,null,{"$f":"VLOOKUP(B437,'(1) Project Reference Item List'!$B$2:$D$1000,3,FALSE)","v":{"$error":"#N/A"}},null,null,0,0]
[{"$f":"VLOOKUP(B438,'(1) Project Reference Item List'!$B$2:$C$1000,2,FALSE)","v":{"$error":"#N/A"}},null,null,null,null,null,null,null,null,null,null,{"$f":"VLOOKUP(B438,'(1) Project Reference Item List'!$B$2:$D$1000,3,FALSE)","v":{"$error":"#N/A"}},null,null,0,0]
[{"$f":"VLOOKUP(B439,'(1) Project Reference Item List'!$B$2:$C$1000,2,FALSE)","v":{"$error":"#N/A"}},null,null,null,null,null,null,null,null,null,null,{"$f":"VLOOKUP(B439,'(1) Project Reference Item List'!$B$2:$D$1000,3,FALSE)","v":{"$error":"#N/A"}},null,null,0,0]
[{"$f":"VLOOKUP(B440,'(1) Project Reference Item List'!$B$2:$C$1000,2,FALSE)","v":{"$error":"#N/A"}},null,null,null,null,null,null,null,null,null,null,{"$f":"VLOOKUP(B440,'(1) Project Reference Item List'!$B$2:$D$1000,3,FALSE)","v":{"$error":"#N/A"}},null,null,0,0]
[{"$f":"VLOOKUP(B441,'(1) Project Reference Item List'!$B$2:$C$1000,2,FALSE)","v":{"$error":"#N/A"}},null,null,null,null,null,null,null,null,null,null,{"$f":"VLOOKUP(B441,'(1) Project Reference Item List'!$B$2:$D$1000,3,FALSE)","v":{"$error":"#N/A"}},null,null,0,0]
[{"$f":"VLOOKUP(B442,'(1) Project Reference Item List'!$B$2:$C$1000,2,FALSE)","v":{"$error":"#N/A"}},null,null,null,null,null,null,null,null,null,null,{"$f":"VLOOKUP(B442,'(1) Project Reference Item List'!$B$2:$D$1000,3,FALSE)","v":{"$error":"#N/A"}},null,null,0,0]
[{"$f":"VLOOKUP(B443,'(1) Project Reference Item List'!$B$2:$C$1000,2,FALSE)","v":{"$error":"#N/A"}},null,null,null,null,null,null,null,null,null,null,{"$f":"VLOOKUP(B443,'(1) Project Reference Item List'!$B$2:$D$1000,3,FALSE)","v":{"$error":"#N/A"}},null,null,0,0]
[{"$f":"VLOOKUP(B444,'(1) Project Reference Item List'!$B$2:$C$1000,2,FALSE)","v":{"$error":"#N/A"}},null,null,null,null,null,null,null,null,null,null,{"$f":"VLOOKUP(B444,'(1) Project Reference Item List'!$B$2:$D$1000,3,FALSE)","v":{"$error":"#N/A"}},null,null,0,0]
[{"$f":"VLOOKUP(B445,'(1) Project Reference Item List'!$B$2:$C$1000,2,FALSE)","v":{"$error":"#N/A"}},null,null,null,null,null,null,null,null,null,null,{"$f":"VLOOKUP(B445,'(1) Project Reference Item List'!$B$2:$D$1000,3,FALSE)","v":{"$error":"#N/A"}},null,null,0,0]
[{"$f":"VLOOKUP(B446,'(1) Project Reference Item List'!$B$2:$C$1000,2,FALSE)","v":{"$error":"#N/A"}},null,null,null,null,null,null,null,null,null,null,{"$f":"VLOOKUP(B446,'(1) Project Reference Item List'!$B$2:$D$1000,3,FALSE)","v":{"$error":"#N/A"}},null,null,0,0]
[{"$f":"VLOOKUP(B447,'(1) Project Reference Item List'!$B$2:$C$1000,2,FALSE)","v":{"$error":"#N/A"}},null,null,null,null,null,null,null,null,null,null,{"$f":"VLOOKUP(B447,'(1) Project Reference Item List'!$B$2:$D$1000,3,FALSE)","v":{"$error":"#N/A"}},null,null,0,0]
[{"$f":"VLOOKUP(B448,'(1) Project Reference Item List'!$B$2:$C$1000,2,FALSE)","v":{"$error":"#N/A"}},null,null,null,null,null,null,null,null,null,null,{"$f":"VLOOKUP(B448,'(1) Project Reference Item List'!$B$2:$D$1000,3,FALSE)","v":{"$error":"#N/A"}},null,null,0,0]
[{"$f":"VLOOKUP(B449,'(1) Project Reference Item List'!$B$2:$C$1000,2,FALSE)","v":{"$error":"#N/A"}},null,null,null,null,null,null,null,null,null,null,{"$f":"VLOOKUP(B449,'(1) Project Reference Item List'!$B$2:$D$1000,3,FALSE)","v":{"$error":"#N/A"}},null,null,0,0]
[{"$f":"VLOOKUP(B450,'(1) Project Reference Item List'!$B$2:$C$1000,2,FALSE)","v":{"$error":"#N/A"}},null,null,null,null,null,null,null,null,null,null,{"$f":"VLOOKUP(B450,'(1) Project Reference Item List'!$B$2:$D$1000,3,FALSE)","v":{"$error":"#N/A"}},null,null,0,0]
[{"$f":"VLOOKUP(B451,'(1) Project Reference Item List'!$B$2:$C$1000,2,FALSE)","v":{"$error":"#N/A"}},null,null,null,null,null,null,null,null,null,null,{"$f":"VLOOKUP(B451,'(1) Project Reference Item List'!$B$2:$D$1000,3,FALSE)","v":{"$error":"#N/A"}},null,null,0,0]
[{"$f":"VLOOKUP(B452,'(1) Project Reference Item List'!$B$2:$C$1000,2,FALSE)","v":{"$error":"#N/A"}},null,null,null,null,null,null,null,null,null,null,{"$f":"VLOOKUP(B452,'(1) Project Reference Item List'!$B$2:$D$1000,3,FALSE)","v":{"$error":"#N/A"}},null,null,0,0]
[{"$f":"VLOOKUP(B453,'(1) Project Reference Item List'!$B$2:$C$1000,2,FALSE)","v":{"$error":"#N/A"}},null,null,null,null,null,null,null,null,null,null,{"$f":"VLOOKUP(B453,'(1) Project Reference Item List'!$B$2:$D$1000,3,FALSE)","v":{"$error":"#N/A"}},null,null,0,0]
[{"$f":"VLOOKUP(B454,'(1) Project Reference Item List'!$B$2:$C$1000,2,FALSE)","v":{"$error":"#N/A"}},null,null,null,null,null,null,null,null,null,null,{"$f":"VLOOKUP(B454,'(1) Project Reference Item List'!$B$2:$D$1000,3,FALSE)","v":{"$error":"#N/A"}},null,null,{"$f":"IF(J454=0,J454,J454*N454)","v":0},{"$f":"(M454-O454)","v":0}]
[{"$f":"VLOOKUP(B455,'(1) Project Reference Item List'!$B$2:$C$1000,2,FALSE)","v":{"$error":"#N/A"}},null,null,null,null,null,null,null,null,null,null,{"$f":"VLOOKUP(B455,'(1) Project Reference Item List'!$B$2:$D$1000,3,FALSE)","v":{"$error":"#N/A"}},null,null,0,0]
[{"$f":"VLOOKUP(B456,'(1) Project Reference Item List'!$B$2:$C$1000,2,FALSE)","v":{"$error":"#N/A"}},null,null,null,null,null,null,null,null,null,null,{"$f":"VLOOKUP(B456,'(1) Project Reference Item List'!$B$2:$D$1000,3,FALSE)","v":{"$error":"#N/A"}},null,null,0,0]
[{"$f":"VLOOKUP(B457,'(1) Project Reference Item List'!$B$2:$C$1000,2,FALSE)","v":{"$error":"#N/A"}},null,null,null,null,null,null,null,null,null,null,{"$f":"VLOOKUP(B457,'(1) Project Reference Item List'!$B$2:$D$1000,3,FALSE)","v":{"$error":"#N/A"}},null,null,0,0]
[{"$f":"VLOOKUP(B458,'(1) Project Reference Item List'!$B$2:$C$1000,2,FALSE)","v":{"$error":"#N/A"}},null,null,null,null,null,null,null,null,null,null,{"$f":"VLOOKUP(B458,'(1) Project Reference Item List'!$B$2:$D$1000,3,FALSE)","v":{"$error":"#N/A"}},null,null,0,0]
[{"$f":"VLOOKUP(B459,'(1) Project Reference Item List'!$B$2:$C$1000,2,FALSE)","v":{"$error":"#N/A"}},null,null,null,null,null,null,null,null,null,null,{"$f":"VLOOKUP(B459,'(1) Project Reference Item List'!$B$2:$D$1000,3,FALSE)","v":{"$error":"#N/A"}},null,null,0,0]
[{"$f":"VLOOKUP(B460,'(1) Project Reference Item List'!$B$2:$C$1000,2,FALSE)","v":{"$error":"#N/A"}},null,null,null,null,null,null,null,null,null,null,{"$f":"VLOOKUP(B460,'(1) Project Reference Item List'!$B$2:$D$1000,3,FALSE)","v":{"$error":"#N/A"}},null,null,0,0]
[{"$f":"VLOOKUP(B461,'(1) Project Reference Item List'!$B$2:$C$1000,2,FALSE)","v":{"$error":"#N/A"}},null,null,null,null,null,null,null,null,null,null,{"$f":"VLOOKUP(B461,'(1) Project Reference Item List'!$B$2:$D$1000,3,FALSE)","v":{"$error":"#N/A"}},null,null,0,0]
[{"$f":"VLOOKUP(B462,'(1) Project Reference Item List'!$B$2:$C$1000,2,FALSE)","v":{"$error":"#N/A"}},null,null,null,null,null,null,null,null,null,null,{"$f":"VLOOKUP(B462,'(1) Project Reference Item List'!$B$2:$D$1000,3,FALSE)","v":{"$error":"#N/A"}},null,null,0,0]
[{"$f":"VLOOKUP(B463,'(1) Project Reference Item List'!$B$2:$C$1000,2,FALSE)","v":{"$error":"#N/A"}},null,null,null,null,null,null,null,null,null,null,{"$f":"VLOOKUP(B463,'(1) Project Reference Item List'!$B$2:$D$1000,3,FALSE)","v":{"$error":"#N/A"}},null,null,0,0]
[{"$f":"VLOOKUP(B464,'(1) Project Reference Item List'!$B$2:$C$1000,2,FALSE)","v":{"$error":"#N/A"}},null,null,null,null,null,null,null,null,null,null,{"$f":"VLOOKUP(B464,'(1) Project Reference Item List'!$B$2:$D$1000,3,FALSE)","v":{"$error":"#N/A"}},null,null,0,0]
[{"$f":"VLOOKUP(B465,'(1) Project Reference Item List'!$B$2:$C$1000,2,FALSE)","v":{"$error":"#N/A"}},null,null,null,null,null,null,null,null,null,null,{"$f":"VLOOKUP(B465,'(1) Project Reference Item List'!$B$2:$D$1000,3,FALSE)","v":{"$error":"#N/A"}},null,null,0,0]
[{"$f":"VLOOKUP(B466,'(1) Project Reference Item List'!$B$2:$C$1000,2,FALSE)","v":{"$error":"#N/A"}},null,null,null,null,null,null,null,null,null,null,{"$f":"VLOOKUP(B466,'(1) Project Reference Item List'!$B$2:$D$1000,3,FALSE)","v":{"$error":"#N/A"}},null,null,0,0]
[{"$f":"VLOOKUP(B467,'(1) Project Reference Item List'!$B$2:$C$1000,2,FALSE)","v":{"$error":"#N/A"}},null,null,null,null,null,null,null,null,null,null,{"$f":"VLOOKUP(B467,'(1) Project Reference Item List'!$B$2:$D$1000,3,FALSE)","v":{"$error":"#N/A"}},null,null,0,0]
[{"$f":"VLOOKUP(B468,'(1) Project Reference Item List'!$B$2:$C$1000,2,FALSE)","v":{"$error":"#N/A"}},null,null,null,null,null,null,null,null,null,null,{"$f":"VLOOKUP(B468,'(1) Project Reference Item List'!$B$2:$D$1000,3,FALSE)","v":{"$error":"#N/A"}},null,null,0,0]
[{"$f":"VLOOKUP(B469,'(1) Project Reference Item List'!$B$2:$C$1000,2,FALSE)","v":{"$error":"#N/A"}},null,null,null,null,null,null,null,null,null,null,{"$f":"VLOOKUP(B469,'(1) Project Reference Item List'!$B$2:$D$1000,3,FALSE)","v":{"$error":"#N/A"}},null,null,0,0]
[{"$f":"VLOOKUP(B470,'(1) Project Reference Item List'!$B$2:$C$1000,2,FALSE)","v":{"$error":"#N/A"}},null,null,null,null,null,null,null,null,null,null,{"$f":"VLOOKUP(B470,'(1) Project Reference Item List'!$B$2:$D$1000,3,FALSE)","v":{"$error":"#N/A"}},null,null,0,0]
[{"$f":"VLOOKUP(B471,'(1) Project Reference Item List'!$B$2:$C$1000,2,FALSE)","v":{"$error":"#N/A"}},null,null,null,null,null,null,null,null,null,null,{"$f":"VLOOKUP(B471,'(1) Project Reference Item List'!$B$2:$D$1000,3,FALSE)","v":{"$error":"#N/A"}},null,null,0,0]
[{"$f":"VLOOKUP(B472,'(1) Project Reference Item List'!$B$2:$C$1000,2,FALSE)","v":{"$error":"#N/A"}},null,null,null,null,null,null,null,null,null,null,{"$f":"VLOOKUP(B472,'(1) Project Reference Item List'!$B$2:$D$1000,3,FALSE)","v":{"$error":"#N/A"}},null,null,0,0]
[{"$f":"VLOOKUP(B473,'(1) Project Reference Item List'!$B$2:$C$1000,2,FALSE)","v":{"$error":"#N/A"}},null,null,null,null,null,null,null,null,null,null,{"$f":"VLOOKUP(B473,'(1) Project Reference Item List'!$B$2:$D$1000,3,FALSE)","v":{"$error":"#N/A"}},null,null,0,0]
[{"$f":"VLOOKUP(B474,'(1) Project Reference Item List'!$B$2:$C$1000,2,FALSE)","v":{"$error":"#N/A"}},null,null,null,null,null,null,null,null,null,null,{"$f":"VLOOKUP(B474,'(1) Project Reference Item List'!$B$2:$D$1000,3,FALSE)","v":{"$error":"#N/A"}},null,null,0,0]
[{"$f":"VLOOKUP(B475,'(1) Project Reference Item List'!$B$2:$C$1000,2,FALSE)","v":{"$error":"#N/A"}},null,null,null,null,null,null,null,null,null,null,{"$f":"VLOOKUP(B475,'(1) Project Reference Item List'!$B$2:$D$1000,3,FALSE)","v":{"$error":"#N/A"}},null,null,0,0]
[{"$f":"VLOOKUP(B476,'(1) Project Reference Item List'!$B$2:$C$1000,2,FALSE)","v":{"$error":"#N/A"}},null,null,null,null,null,null,null,null,null,null,{"$f":"VLOOKUP(B476,'(1) Project Reference Item List'!$B$2:$D$1000,3,FALSE)","v":{"$error":"#N/A"}},null,null,0,0]
[{"$f":"VLOOKUP(B477,'(1) Project Reference Item List'!$B$2:$C$1000,2,FALSE)","v":{"$error":"#N/A"}},null,null,null,null,null,null,null,null,null,null,{"$f":"VLOOKUP(B477,'(1) Project Reference Item List'!$B$2:$D$1000,3,FALSE)","v":{"$error":"#N/A"}},null,null,0,0]
[{"$f":"VLOOKUP(B478,'(1) Project Reference Item List'!$B$2:$C$1000,2,FALSE)","v":{"$error":"#N/A"}},null,null,null,null,null,null,null,null,null,null,{"$f":"VLOOKUP(B478,'(1) Project Reference Item List'!$B$2:$D$1000,3,FALSE)","v":{"$error":"#N/A"}},null,null,0,0]
[{"$f":"VLOOKUP(B479,'(1) Project Reference Item List'!$B$2:$C$1000,2,FALSE)","v":{"$error":"#N/A"}},null,null,null,null,null,null,null,null,null,null,{"$f":"VLOOKUP(B479,'(1) Project Reference Item List'!$B$2:$D$1000,3,FALSE)","v":{"$error":"#N/A"}},null,null,0,0]
[{"$f":"VLOOKUP(B480,'(1) Project Reference Item List'!$B$2:$C$1000,2,FALSE)","v":{"$error":"#N/A"}},null,null,null,null,null,null,null,null,null,null,{"$f":"VLOOKUP(B480,'(1) Project Reference Item List'!$B$2:$D$1000,3,FALSE)","v":{"$error":"#N/A"}},null,null,0,0]
[{"$f":"VLOOKUP(B481,'(1) Project Reference Item List'!$B$2:$C$1000,2,FALSE)","v":{"$error":"#N/A"}},null,null,null,null,null,null,null,null,null,null,{"$f":"VLOOKUP(B481,'(1) Project Reference Item List'!$B$2:$D$1000,3,FALSE)","v":{"$error":"#N/A"}},null,null,0,0]
[{"$f":"VLOOKUP(B482,'(1) Project Reference Item List'!$B$2:$C$1000,2,FALSE)","v":{"$error":"#N/A"}},null,null,null,null,null,null,null,null,null,null,{"$f":"VLOOKUP(B482,'(1) Project Reference Item List'!$B$2:$D$1000,3,FALSE)","v":{"$error":"#N/A"}},null,null,0,0]
[{"$f":"VLOOKUP(B483,'(1) Project Reference Item List'!$B$2:$C$1000,2,FALSE)","v":{"$error":"#N/A"}},null,null,null,null,null,null,null,null,null,null,{"$f":"VLOOKUP(B483,'(1) Project Reference Item List'!$B$2:$D$1000,3,FALSE)","v":{"$error":"#N/A"}},null,null,0,0]
[{"$f":"VLOOKUP(B484,'(1) Project Reference Item List'!$B$2:$C$1000,2,FALSE)","v":{"$error":"#N/A"}},null,null,null,null,null,null,null,null,null,null,{"$f":"VLOOKUP(B484,'(1) Project Reference Item List'!$B$2:$D$1000,3,FALSE)","v":{"$error":"#N/A"}},null,null,0,0]
[{"$f":"VLOOKUP(B485,'(1) Project Reference Item List'!$B$2:$C$1000,2,FALSE)","v":{"$error":"#N/A"}},null,null,null,null,null,null,null,null,null,null,{"$f":"VLOOKUP(B485,'(1) Project Reference Item List'!$B$2:$D$1000,3,FALSE)","v":{"$error":"#N/A"}},null,null,0,0]
[{"$f":"VLOOKUP(B486,'(1) Project Reference Item List'!$B$2:$C$1000,2,FALSE)","v":{"$error":"#N/A"}},null,null,null,null,null,null,null,null,null,null,{"$f":"VLOOKUP(B486,'(1) Project Reference Item List'!$B$2:$D$1000,3,FALSE)","v":{"$error":"#N/A"}},null,null,0,0]
[{"$f":"VLOOKUP(B487,'(1) Project Reference Item List'!$B$2:$C$1000,2,FALSE)","v":{"$error":"#N/A"}},null,null,null,null,null,null,null,null,null,null,{"$f":"VLOOKUP(B487,'(1) Project Reference Item List'!$B$2:$D$1000,3,FALSE)","v":{"$error":"#N/A"}},null,null,0,0]
[{"$f":"VLOOKUP(B488,'(1) Project Reference Item List'!$B$2:$C$1000,2,FALSE)","v":{"$error":"#N/A"}},null,null,null,null,null,null,null,null,null,null,{"$f":"VLOOKUP(B488,'(1) Project Reference Item List'!$B$2:$D$1000,3,FALSE)","v":{"$error":"#N/A"}},null,null,0,0]
[{"$f":"VLOOKUP(B489,'(1) Project Reference Item List'!$B$2:$C$1000,2,FALSE)","v":{"$error":"#N/A"}},null,null,null,null,null,null,null,null,null,null,{"$f":"VLOOKUP(B489,'(1) Project Reference Item List'!$B$2:$D$1000,3,FALSE)","v":{"$error":"#N/A"}},null,null,0,0]
[{"$f":"VLOOKUP(B490,'(1) Project Reference Item List'!$B$2:$C$1000,2,FALSE)","v":{"$error":"#N/A"}},null,null,null,null,null,null,null,null,null,null,{"$f":"VLOOKUP(B490,'(1) Project Reference Item List'!$B$2:$D$1000,3,FALSE)","v":{"$error":"#N/A"}},null,null,0,0]
[{"$f":"VLOOKUP(B491,'(1) Project Reference Item List'!$B$2:$C$1000,2,FALSE)","v":{"$error":"#N/A"}},null,null,null,null,null,null,null,null,null,null,{"$f":"VLOOKUP(B491,'(1) Project Reference Item List'!$B$2:$D$1000,3,FALSE)","v":{"$error":"#N/A"}},null,null,0,0]
[{"$f":"VLOOKUP(B492,'(1) Project Reference Item List'!$B$2:$C$1000,2,FALSE)","v":{"$error":"#N/A"}},null,null,null,null,null,null,null,null,null,null,{"$f":"VLOOKUP(B492,'(1) Project Reference Item List'!$B$2:$D$1000,3,FALSE)","v":{"$error":"#N/A"}},null,null,0,0]
[{"$f":"VLOOKUP(B493,'(1) Project Reference Item List'!$B$2:$C$1000,2,FALSE)","v":{"$error":"#N/A"}},null,null,null,null,null,null,null,null,null,null,{"$f":"VLOOKUP(B493,'(1) Project Reference Item List'!$B$2:$D$1000,3,FALSE)","v":{"$error":"#N/A"}},null,null,0,0]
[{"$f":"VLOOKUP(B494,'(1) Project Reference Item List'!$B$2:$C$1000,2,FALSE)","v":{"$error":"#N/A"}},null,null,null,null,null,null,null,null,null,null,{"$f":"VLOOKUP(B494,'(1) Project Reference Item List'!$B$2:$D$1000,3,FALSE)","v":{"$error":"#N/A"}},null,null,0,0]
[{"$f":"VLOOKUP(B495,'(1) Project Reference Item List'!$B$2:$C$1000,2,FALSE)","v":{"$error":"#N/A"}},null,null,null,null,null,null,null,null,null,null,{"$f":"VLOOKUP(B495,'(1) Project Reference Item List'!$B$2:$D$1000,3,FALSE)","v":{"$error":"#N/A"}},null,null,0,0]
[{"$f":"VLOOKUP(B496,'(1) Project Reference Item List'!$B$2:$C$1000,2,FALSE)","v":{"$error":"#N/A"}},null,null,null,null,null,null,null,null,null,null,{"$f":"VLOOKUP(B496,'(1) Project Reference Item List'!$B$2:$D$1000,3,FALSE)","v":{"$error":"#N/A"}},null,null,0,0]
[{"$f":"VLOOKUP(B497,'(1) Project Reference Item List'!$B$2:$C$1000,2,FALSE)","v":{"$error":"#N/A"}},null,null,null,null,null,null,null,null,null,null,{"$f":"VLOOKUP(B497,'(1) Project Reference Item List'!$B$2:$D$1000,3,FALSE)","v":{"$error":"#N/A"}},null,null,0,0]
[{"$f":"VLOOKUP(B498,'(1) Project Reference Item List'!$B$2:$C$1000,2,FALSE)","v":{"$error":"#N/A"}},null,null,null,null,null,null,null,null,null,null,{"$f":"VLOOKUP(B498,'(1) Project Reference Item List'!$B$2:$D$1000,3,FALSE)","v":{"$error":"#N/A"}},null,null,0,0]
[{"$f":"VLOOKUP(B499,'(1) Project Reference Item List'!$B$2:$C$1000,2,FALSE)","v":{"$error":"#N/A"}},null,null,null,null,null,null,null,null,null,null,{"$f":"VLOOKUP(B499,'(1) Project Reference Item List'!$B$2:$D$1000,3,FALSE)","v":{"$error":"#N/A"}},null,null,0,0]
[{"$f":"VLOOKUP(B500,'(1) Project Reference Item List'!$B$2:$C$1000,2,FALSE)","v":{"$error":"#N/A"}},null,null,null,null,null,null,null,null,null,null,{"$f":"VLOOKUP(B500,'(1) Project Reference Item List'!$B$2:$D$1000,3,FALSE)","v":{"$error":"#N/A"}},null,null,0,0]
[{"$f":"VLOOKUP(B501,'(1) Project Reference Item List'!$B$2:$C$1000,2,FALSE)","v":{"$error":"#N/A"}},null,null,null,null,null,null,null,null,null,null,{"$f":"VLOOKUP(B501,'(1) Project Reference Item List'!$B$2:$D$1000,3,FALSE)","v":{"$error":"#N/A"}},null,null,0,0]
[{"$f":"VLOOKUP(B502,'(1) Project Reference Item List'!$B$2:$C$1000,2,FALSE)","v":{"$error":"#N/A"}},null,null,null,null,null,null,null,null,null,null,{"$f":"VLOOKUP(B502,'(1) Project Reference Item List'!$B$2:$D$1000,3,FALSE)","v":{"$error":"#N/A"}},null,null,0,0]
[{"$f":"VLOOKUP(B503,'(1) Project Reference Item List'!$B$2:$C$1000,2,FALSE)","v":{"$error":"#N/A"}},null,null,null,null,null,null,null,null,null,null,{"$f":"VLOOKUP(B503,'(1) Project Reference Item List'!$B$2:$D$1000,3,FALSE)","v":{"$error":"#N/A"}},null,null,0,0]
[{"$f":"VLOOKUP(B504,'(1) Project Reference Item List'!$B$2:$C$1000,2,FALSE)","v":{"$error":"#N/A"}},null,null,null,null,null,null,null,null,null,null,{"$f":"VLOOKUP(B504,'(1) Project Reference Item List'!$B$2:$D$1000,3,FALSE)","v":{"$error":"#N/A"}},null,null,0,0]
[{"$f":"VLOOKUP(B505,'(1) Project Reference Item List'!$B$2:$C$1000,2,FALSE)","v":{"$error":"#N/A"}},null,null,null,null,null,null,null,null,null,null,{"$f":"VLOOKUP(B505,'(1) Project Reference Item List'!$B$2:$D$1000,3,FALSE)","v":{"$error":"#N/A"}},null,null,0,0]
[{"$f":"VLOOKUP(B506,'(1) Project Reference Item List'!$B$2:$C$1000,2,FALSE)","v":{"$error":"#N/A"}},null,null,null,null,null,null,null,null,null,null,{"$f":"VLOOKUP(B506,'(1) Project Reference Item List'!$B$2:$D$1000,3,FALSE)","v":{"$error":"#N/A"}},null,null,0,0]
[{"$f":"VLOOKUP(B507,'(1) Project Reference Item List'!$B$2:$C$1000,2,FALSE)","v":{"$error":"#N/A"}},null,null,null,null,null,null,null,null,null,null,{"$f":"VLOOKUP(B507,'(1) Project Reference Item List'!$B$2:$D$1000,3,FALSE)","v":{"$error":"#N/A"}},null,null,0,0]
[{"$f":"VLOOKUP(B508,'(1) Project Reference Item List'!$B$2:$C$1000,2,FALSE)","v":{"$error":"#N/A"}},null,null,null,null,null,null,null,null,null,null,{"$f":"VLOOKUP(B508,'(1) Project Reference Item List'!$B$2:$D$1000,3,FALSE)","v":{"$error":"#N/A"}},null,null,0,0]
[{"$f":"VLOOKUP(B509,'(1) Project Reference Item List'!$B$2:$C$1000,2,FALSE)","v":{"$error":"#N/A"}},null,null,null,null,null,null,null,null,null,null,{"$f":"VLOOKUP(B509,'(1) Project Reference Item List'!$B$2:$D$1000,3,FALSE)","v":{"$error":"#N/A"}},null,null,0,0]
[{"$f":"VLOOKUP(B510,'(1) Project Reference Item List'!$B$2:$C$1000,2,FALSE)","v":{"$error":"#N/A"}},null,null,null,null,null,null,null,null,null,null,{"$f":"VLOOKUP(B510,'(1) Project Reference Item List'!$B$2:$D$1000,3,FALSE)","v":{"$error":"#N/A"}},null,null,0,0]
[{"$f":"VLOOKUP(B511,'(1) Project Reference Item List'!$B$2:$C$1000,2,FALSE)","v":{"$error":"#N/A"}},null,null,null,null,null,null,null,null,null,null,{"$f":"VLOOKUP(B511,'(1) Project Reference Item List'!$B$2:$D$1000,3,FALSE)","v":{"$error":"#N/A"}},null,null,0,0]
[{"$f":"VLOOKUP(B512,'(1) Project Reference Item List'!$B$2:$C$1000,2,FALSE)","v":{"$error":"#N/A"}},null,null,null,null,null,null,null,null,null,null,{"$f":"VLOOKUP(B512,'(1) Project Reference Item List'!$B$2:$D$1000,3,FALSE)","v":{"$error":"#N/A"}},null,null,0,0]
[{"$f":"VLOOKUP(B513,'(1) Project Reference Item List'!$B$2:$C$1000,2,FALSE)","v":{"$error":"#N/A"}},null,null,null,null,null,null,null,null,null,null,{"$f":"VLOOKUP(B513,'(1) Project Reference Item List'!$B$2:$D$1000,3,FALSE)","v":{"$error":"#N/A"}},null,null,0,0]
[{"$f":"VLOOKUP(B514,'(1) Project Reference Item List'!$B$2:$C$1000,2,FALSE)","v":{"$error":"#N/A"}},null,null,null,null,null,null,null,null,null,null,{"$f":"VLOOKUP(B514,'(1) Project Reference Item List'!$B$2:$D$1000,3,FALSE)","v":{"$error":"#N/A"}},null,null,0,0]
[{"$f":"VLOOKUP(B515,'(1) Project Reference Item List'!$B$2:$C$1000,2,FALSE)","v":{"$error":"#N/A"}},null,null,null,null,null,null,null,null,null,null,{"$f":"VLOOKUP(B515,'(1) Project Reference Item List'!$B$2:$D$1000,3,FALSE)","v":{"$error":"#N/A"}},null,null,0,0]
[{"$f":"VLOOKUP(B516,'(1) Project Reference Item List'!$B$2:$C$1000,2,FALSE)","v":{"$error":"#N/A"}},null,null,null,null,null,null,null,null,null,null,{"$f":"VLOOKUP(B516,'(1) Project Reference Item List'!$B$2:$D$1000,3,FALSE)","v":{"$error":"#N/A"}},null,null,0,0]
[{"$f":"VLOOKUP(B517,'(1) Project Reference Item List'!$B$2:$C$1000,2,FALSE)","v":{"$error":"#N/A"}},null,null,null,null,null,null,null,null,null,null,{"$f":"VLOOKUP(B517,'(1) Project Reference Item List'!$B$2:$D$1000,3,FALSE)","v":{"$error":"#N/A"}},null,null,0,0]
[{"$f":"VLOOKUP(B518,'(1) Project Reference Item List'!$B$2:$C$1000,2,FALSE)","v":{"$error":"#N/A"}},null,null,null,null,null,null,null,null,null,null,{"$f":"VLOOKUP(B518,'(1) Project Reference Item List'!$B$2:$D$1000,3,FALSE)","v":{"$error":"#N/A"}},null,null,{"$f":"IF(J518=0,J518,J518*N518)","v":0},{"$f":"(M518-O518)","v":0}]
[{"$f":"VLOOKUP(B519,'(1) Project Reference Item List'!$B$2:$C$1000,2,FALSE)","v":{"$error":"#N/A"}},null,null,null,null,null,null,null,null,null,null,{"$f":"VLOOKUP(B519,'(1) Project Reference Item List'!$B$2:$D$1000,3,FALSE)","v":{"$error":"#N/A"}},null,null,0,0]
[{"$f":"VLOOKUP(B520,'(1) Project Reference Item List'!$B$2:$C$1000,2,FALSE)","v":{"$error":"#N/A"}},null,null,null,null,null,null,null,null,null,null,{"$f":"VLOOKUP(B520,'(1) Project Reference Item List'!$B$2:$D$1000,3,FALSE)","v":{"$error":"#N/A"}},null,null,0,0]
[{"$f":"VLOOKUP(B521,'(1) Project Reference Item List'!$B$2:$C$1000,2,FALSE)","v":{"$error":"#N/A"}},null,null,null,null,null,null,null,null,null,null,{"$f":"VLOOKUP(B521,'(1) Project Reference Item List'!$B$2:$D$1000,3,FALSE)","v":{"$error":"#N/A"}},null,null,0,0]
[{"$f":"VLOOKUP(B522,'(1) Project Reference Item List'!$B$2:$C$1000,2,FALSE)","v":{"$error":"#N/A"}},null,null,null,null,null,null,null,null,null,null,{"$f":"VLOOKUP(B522,'(1) Project Reference Item List'!$B$2:$D$1000,3,FALSE)","v":{"$error":"#N/A"}},null,null,0,0]
[{"$f":"VLOOKUP(B523,'(1) Project Reference Item List'!$B$2:$C$1000,2,FALSE)","v":{"$error":"#N/A"}},null,null,null,null,null,null,null,null,null,null,{"$f":"VLOOKUP(B523,'(1) Project Reference Item List'!$B$2:$D$1000,3,FALSE)","v":{"$error":"#N/A"}},null,null,0,0]
[{"$f":"VLOOKUP(B524,'(1) Project Reference Item List'!$B$2:$C$1000,2,FALSE)","v":{"$error":"#N/A"}},null,null,null,null,null,null,null,null,null,null,{"$f":"VLOOKUP(B524,'(1) Project Reference Item List'!$B$2:$D$1000,3,FALSE)","v":{"$error":"#N/A"}},null,null,0,0]
[{"$f":"VLOOKUP(B525,'(1) Project Reference Item List'!$B$2:$C$1000,2,FALSE)","v":{"$error":"#N/A"}},null,null,null,null,null,null,null,null,null,null,{"$f":"VLOOKUP(B525,'(1) Project Reference Item List'!$B$2:$D$1000,3,FALSE)","v":{"$error":"#N/A"}},null,null,0,0]
[{"$f":"VLOOKUP(B526,'(1) Project Reference Item List'!$B$2:$C$1000,2,FALSE)","v":{"$error":"#N/A"}},null,null,null,null,null,null,null,null,null,null,{"$f":"VLOOKUP(B526,'(1) Project Reference Item List'!$B$2:$D$1000,3,FALSE)","v":{"$error":"#N/A"}},null,null,0,0]
[{"$f":"VLOOKUP(B527,'(1) Project Reference Item List'!$B$2:$C$1000,2,FALSE)","v":{"$error":"#N/A"}},null,null,null,null,null,null,null,null,null,null,{"$f":"VLOOKUP(B527,'(1) Project Reference Item List'!$B$2:$D$1000,3,FALSE)","v":{"$error":"#N/A"}},null,null,0,0]
[{"$f":"VLOOKUP(B528,'(1) Project Reference Item List'!$B$2:$C$1000,2,FALSE)","v":{"$error":"#N/A"}},null,null,null,null,null,null,null,null,null,null,{"$f":"VLOOKUP(B528,'(1) Project Reference Item List'!$B$2:$D$1000,3,FALSE)","v":{"$error":"#N/A"}},null,null,0,0]
[{"$f":"VLOOKUP(B529,'(1) Project Reference Item List'!$B$2:$C$1000,2,FALSE)","v":{"$error":"#N/A"}},null,null,null,null,null,null,null,null,null,null,{"$f":"VLOOKUP(B529,'(1) Project Reference Item List'!$B$2:$D$1000,3,FALSE)","v":{"$error":"#N/A"}},null,null,0,0]
[{"$f":"VLOOKUP(B530,'(1) Project Reference Item List'!$B$2:$C$1000,2,FALSE)","v":{"$error":"#N/A"}},null,null,null,null,null,null,null,null,null,null,{"$f":"VLOOKUP(B530,'(1) Project Reference Item List'!$B$2:$D$1000,3,FALSE)","v":{"$error":"#N/A"}},null,null,0,0]
[{"$f":"VLOOKUP(B531,'(1) Project Reference Item List'!$B$2:$C$1000,2,FALSE)","v":{"$error":"#N/A"}},null,null,null,null,null,null,null,null,null,null,{"$f":"VLOOKUP(B531,'(1) Project Reference Item List'!$B$2:$D$1000,3,FALSE)","v":{"$error":"#N/A"}},null,null,0,0]
[{"$f":"VLOOKUP(B532,'(1) Project Reference Item List'!$B$2:$C$1000,2,FALSE)","v":{"$error":"#N/A"}},null,null,null,null,null,null,null,null,null,null,{"$f":"VLOOKUP(B532,'(1) Project Reference Item List'!$B$2:$D$1000,3,FALSE)","v":{"$error":"#N/A"}},null,null,0,0]
[{"$f":"VLOOKUP(B533,'(1) Project Reference Item List'!$B$2:$C$1000,2,FALSE)","v":{"$error":"#N/A"}},null,null,null,null,null,null,null,null,null,null,{"$f":"VLOOKUP(B533,'(1) Project Reference Item List'!$B$2:$D$1000,3,FALSE)","v":{"$error":"#N/A"}},null,null,0,0]
[{"$f":"VLOOKUP(B534,'(1) Project Reference Item List'!$B$2:$C$1000,2,FALSE)","v":{"$error":"#N/A"}},null,null,null,null,null,null,null,null,null,null,{"$f":"VLOOKUP(B534,'(1) Project Reference Item List'!$B$2:$D$1000,3,FALSE)","v":{"$error":"#N/A"}},null,null,0,0]
[{"$f":"VLOOKUP(B535,'(1) Project Reference Item List'!$B$2:$C$1000,2,FALSE)","v":{"$error":"#N/A"}},null,null,null,null,null,null,null,null,null,null,{"$f":"VLOOKUP(B535,'(1) Project Reference Item List'!$B$2:$D$1000,3,FALSE)","v":{"$error":"#N/A"}},null,null,0,0]
[{"$f":"VLOOKUP(B536,'(1) Project Reference Item List'!$B$2:$C$1000,2,FALSE)","v":{"$error":"#N/A"}},null,null,null,null,null,null,null,null,null,null,{"$f":"VLOOKUP(B536,'(1) Project Reference Item List'!$B$2:$D$1000,3,FALSE)","v":{"$error":"#N/A"}},null,null,0,0]
[{"$f":"VLOOKUP(B537,'(1) Project Reference Item List'!$B$2:$C$1000,2,FALSE)","v":{"$error":"#N/A"}},null,null,null,null,null,null,null,null,null,null,{"$f":"VLOOKUP(B537,'(1) Project Reference Item List'!$B$2:$D$1000,3,FALSE)","v":{"$error":"#N/A"}},null,null,0,0]
[{"$f":"VLOOKUP(B538,'(1) Project Reference Item List'!$B$2:$C$1000,2,FALSE)","v":{"$error":"#N/A"}},null,null,null,null,null,null,null,null,null,null,{"$f":"VLOOKUP(B538,'(1) Project Reference Item List'!$B$2:$D$1000,3,FALSE)","v":{"$error":"#N/A"}},null,null,0,0]
[{"$f":"VLOOKUP(B539,'(1) Project Reference Item List'!$B$2:$C$1000,2,FALSE)","v":{"$error":"#N/A"}},null,null,null,null,null,null,null,null,null,null,{"$f":"VLOOKUP(B539,'(1) Project Reference Item List'!$B$2:$D$1000,3,FALSE)","v":{"$error":"#N/A"}},null,null,0,0]
[{"$f":"VLOOKUP(B540,'(1) Project Reference Item List'!$B$2:$C$1000,2,FALSE)","v":{"$error":"#N/A"}},null,null,null,null,null,null,null,null,null,null,{"$f":"VLOOKUP(B540,'(1) Project Reference Item List'!$B$2:$D$1000,3,FALSE)","v":{"$error":"#N/A"}},null,null,0,0]
[{"$f":"VLOOKUP(B541,'(1) Project Reference Item List'!$B$2:$C$1000,2,FALSE)","v":{"$error":"#N/A"}},null,null,null,null,null,null,null,null,null,null,{"$f":"VLOOKUP(B541,'(1) Project Reference Item List'!$B$2:$D$1000,3,FALSE)","v":{"$error":"#N/A"}},null,null,0,0]
[{"$f":"VLOOKUP(B542,'(1) Project Reference Item List'!$B$2:$C$1000,2,FALSE)","v":{"$error":"#N/A"}},null,null,null,null,null,null,null,null,null,null,{"$f":"VLOOKUP(B542,'(1) Project Reference Item List'!$B$2:$D$1000,3,FALSE)","v":{"$error":"#N/A"}},null,null,0,0]
[{"$f":"VLOOKUP(B543,'(1) Project Reference Item List'!$B$2:$C$1000,2,FALSE)","v":{"$error":"#N/A"}},null,null,null,null,null,null,null,null,null,null,{"$f":"VLOOKUP(B543,'(1) Project Reference Item List'!$B$2:$D$1000,3,FALSE)","v":{"$error":"#N/A"}},null,null,0,0]
[{"$f":"VLOOKUP(B544,'(1) Project Reference Item List'!$B$2:$C$1000,2,FALSE)","v":{"$error":"#N/A"}},null,null,null,null,null,null,null,null,null,null,{"$f":"VLOOKUP(B544,'(1) Project Reference Item List'!$B$2:$D$1000,3,FALSE)","v":{"$error":"#N/A"}},null,null,0,0]
[{"$f":"VLOOKUP(B545,'(1) Project Reference Item List'!$B$2:$C$1000,2,FALSE)","v":{"$error":"#N/A"}},null,null,null,null,null,null,null,null,null,null,{"$f":"VLOOKUP(B545,'(1) Project Reference Item List'!$B$2:$D$1000,3,FALSE)","v":{"$error":"#N/A"}},null,null,0,0]
[{"$f":"VLOOKUP(B546,'(1) Project Reference Item List'!$B$2:$C$1000,2,FALSE)","v":{"$error":"#N/A"}},null,null,null,null,null,null,null,null,null,null,{"$f":"VLOOKUP(B546,'(1) Project Reference Item List'!$B$2:$D$1000,3,FALSE)","v":{"$error":"#N/A"}},null,null,0,0]
[{"$f":"VLOOKUP(B547,'(1) Project Reference Item List'!$B$2:$C$1000,2,FALSE)","v":{"$error":"#N/A"}},null,null,null,null,null,null,null,null,null,null,{"$f":"VLOOKUP(B547,'(1) Project Reference Item List'!$B$2:$D$1000,3,FALSE)","v":{"$error":"#N/A"}},null,null,0,0]
[{"$f":"VLOOKUP(B548,'(1) Project Reference Item List'!$B$2:$C$1000,2,FALSE)","v":{"$error":"#N/A"}},null,null,null,null,null,null,null,null,null,null,{"$f":"VLOOKUP(B548,'(1) Project Reference Item List'!$B$2:$D$1000,3,FALSE)","v":{"$error":"#N/A"}},null,null,0,0]
[{"$f":"VLOOKUP(B549,'(1) Project Reference Item List'!$B$2:$C$1000,2,FALSE)","v":{"$error":"#N/A"}},null,null,null,null,null,null,null,null,null,null,{"$f":"VLOOKUP(B549,'(1) Project Reference Item List'!$B$2:$D$1000,3,FALSE)","v":{"$error":"#N/A"}},null,null,0,0]
[{"$f":"VLOOKUP(B550,'(1) Project Reference Item List'!$B$2:$C$1000,2,FALSE)","v":{"$error":"#N/A"}},null,null,null,null,null,null,null,null,null,null,{"$f":"VLOOKUP(B550,'(1) Project Reference Item List'!$B$2:$D$1000,3,FALSE)","v":{"$error":"#N/A"}},null,null,0,0]
[{"$f":"VLOOKUP(B551,'(1) Project Reference Item List'!$B$2:$C$1000,2,FALSE)","v":{"$error":"#N/A"}},null,null,null,null,null,null,null,null,null,null,{"$f":"VLOOKUP(B551,'(1) Project Reference Item List'!$B$2:$D$1000,3,FALSE)","v":{"$error":"#N/A"}},null,null,0,0]
[{"$f":"VLOOKUP(B552,'(1) Project Reference Item List'!$B$2:$C$1000,2,FALSE)","v":{"$error":"#N/A"}},null,null,null,null,null,null,null,null,null,null,{"$f":"VLOOKUP(B552,'(1) Project Reference Item List'!$B$2:$D$1000,3,FALSE)","v":{"$error":"#N/A"}},null,null,0,0]
[{"$f":"VLOOKUP(B553,'(1) Project Reference Item List'!$B$2:$C$1000,2,FALSE)","v":{"$error":"#N/A"}},null,null,null,null,null,null,null,null,null,null,{"$f":"VLOOKUP(B553,'(1) Project Reference Item List'!$B$2:$D$1000,3,FALSE)","v":{"$error":"#N/A"}},null,null,0,0]
[{"$f":"VLOOKUP(B554,'(1) Project Reference Item List'!$B$2:$C$1000,2,FALSE)","v":{"$error":"#N/A"}},null,null,null,null,null,null,null,null,null,null,{"$f":"VLOOKUP(B554,'(1) Project Reference Item List'!$B$2:$D$1000,3,FALSE)","v":{"$error":"#N/A"}},null,null,0,0]
[{"$f":"VLOOKUP(B555,'(1) Project Reference Item List'!$B$2:$C$1000,2,FALSE)","v":{"$error":"#N/A"}},null,null,null,null,null,null,null,null,null,null,{"$f":"VLOOKUP(B555,'(1) Project Reference Item List'!$B$2:$D$1000,3,FALSE)","v":{"$error":"#N/A"}},null,null,0,0]
[{"$f":"VLOOKUP(B556,'(1) Project Reference Item List'!$B$2:$C$1000,2,FALSE)","v":{"$error":"#N/A"}},null,null,null,null,null,null,null,null,null,null,{"$f":"VLOOKUP(B556,'(1) Project Reference Item List'!$B$2:$D$1000,3,FALSE)","v":{"$error":"#N/A"}},null,null,0,0]
[{"$f":"VLOOKUP(B557,'(1) Project Reference Item List'!$B$2:$C$1000,2,FALSE)","v":{"$error":"#N/A"}},null,null,null,null,null,null,null,null,null,null,{"$f":"VLOOKUP(B557,'(1) Project Reference Item List'!$B$2:$D$1000,3,FALSE)","v":{"$error":"#N/A"}},null,null,0,0]
[{"$f":"VLOOKUP(B558,'(1) Project Reference Item List'!$B$2:$C$1000,2,FALSE)","v":{"$error":"#N/A"}},null,null,null,null,null,null,null,null,null,null,{"$f":"VLOOKUP(B558,'(1) Project Reference Item List'!$B$2:$D$1000,3,FALSE)","v":{"$error":"#N/A"}},null,null,0,0]
[{"$f":"VLOOKUP(B559,'(1) Project Reference Item List'!$B$2:$C$1000,2,FALSE)","v":{"$error":"#N/A"}},null,null,null,null,null,null,null,null,null,null,{"$f":"VLOOKUP(B559,'(1) Project Reference Item List'!$B$2:$D$1000,3,FALSE)","v":{"$error":"#N/A"}},null,null,0,0]
[{"$f":"VLOOKUP(B560,'(1) Project Reference Item List'!$B$2:$C$1000,2,FALSE)","v":{"$error":"#N/A"}},null,null,null,null,null,null,null,null,null,null,{"$f":"VLOOKUP(B560,'(1) Project Reference Item List'!$B$2:$D$1000,3,FALSE)","v":{"$error":"#N/A"}},null,null,0,0]
[{"$f":"VLOOKUP(B561,'(1) Project Reference Item List'!$B$2:$C$1000,2,FALSE)","v":{"$error":"#N/A"}},null,null,null,null,null,null,null,null,null,null,{"$f":"VLOOKUP(B561,'(1) Project Reference Item List'!$B$2:$D$1000,3,FALSE)","v":{"$error":"#N/A"}},null,null,0,0]
[{"$f":"VLOOKUP(B562,'(1) Project Reference Item List'!$B$2:$C$1000,2,FALSE)","v":{"$error":"#N/A"}},null,null,null,null,null,null,null,null,null,null,{"$f":"VLOOKUP(B562,'(1) Project Reference Item List'!$B$2:$D$1000,3,FALSE)","v":{"$error":"#N/A"}},null,null,0,0]
[{"$f":"VLOOKUP(B563,'(1) Project Reference Item List'!$B$2:$C$1000,2,FALSE)","v":{"$error":"#N/A"}},null,null,null,null,null,null,null,null,null,null,{"$f":"VLOOKUP(B563,'(1) Project Reference Item List'!$B$2:$D$1000,3,FALSE)","v":{"$error":"#N/A"}},null,null,0,0]
[{"$f":"VLOOKUP(B564,'(1) Project Reference Item List'!$B$2:$C$1000,2,FALSE)","v":{"$error":"#N/A"}},null,null,null,null,null,null,null,null,null,null,{"$f":"VLOOKUP(B564,'(1) Project Reference Item List'!$B$2:$D$1000,3,FALSE)","v":{"$error":"#N/A"}},null,null,0,0]
[{"$f":"VLOOKUP(B565,'(1) Project Reference Item List'!$B$2:$C$1000,2,FALSE)","v":{"$error":"#N/A"}},null,null,null,null,null,null,null,null,null,null,{"$f":"VLOOKUP(B565,'(1) Project Reference Item List'!$B$2:$D$1000,3,FALSE)","v":{"$error":"#N/A"}},null,null,0,0]
[{"$f":"VLOOKUP(B566,'(1) Project Reference Item List'!$B$2:$C$1000,2,FALSE)","v":{"$error":"#N/A"}},null,null,null,null,null,null,null,null,null,null,{"$f":"VLOOKUP(B566,'(1) Project Reference Item List'!$B$2:$D$1000,3,FALSE)","v":{"$error":"#N/A"}},null,null,0,0]
[{"$f":"VLOOKUP(B567,'(1) Project Reference Item List'!$B$2:$C$1000,2,FALSE)","v":{"$error":"#N/A"}},null,null,null,null,null,null,null,null,null,null,{"$f":"VLOOKUP(B567,'(1) Project Reference Item List'!$B$2:$D$1000,3,FALSE)","v":{"$error":"#N/A"}},null,null,0,0]
[{"$f":"VLOOKUP(B568,'(1) Project Reference Item List'!$B$2:$C$1000,2,FALSE)","v":{"$error":"#N/A"}},null,null,null,null,null,null,null,null,null,null,{"$f":"VLOOKUP(B568,'(1) Project Reference Item List'!$B$2:$D$1000,3,FALSE)","v":{"$error":"#N/A"}},null,null,0,0]
[{"$f":"VLOOKUP(B569,'(1) Project Reference Item List'!$B$2:$C$1000,2,FALSE)","v":{"$error":"#N/A"}},null,null,null,null,null,null,null,null,null,null,{"$f":"VLOOKUP(B569,'(1) Project Reference Item List'!$B$2:$D$1000,3,FALSE)","v":{"$error":"#N/A"}},null,null,0,0]
[{"$f":"VLOOKUP(B570,'(1) Project Reference Item List'!$B$2:$C$1000,2,FALSE)","v":{"$error":"#N/A"}},null,null,null,null,null,null,null,null,null,null,{"$f":"VLOOKUP(B570,'(1) Project Reference Item List'!$B$2:$D$1000,3,FALSE)","v":{"$error":"#N/A"}},null,null,0,0]
[{"$f":"VLOOKUP(B571,'(1) Project Reference Item List'!$B$2:$C$1000,2,FALSE)","v":{"$error":"#N/A"}},null,null,null,null,null,null,null,null,null,null,{"$f":"VLOOKUP(B571,'(1) Project Reference Item List'!$B$2:$D$1000,3,FALSE)","v":{"$error":"#N/A"}},null,null,0,0]
[{"$f":"VLOOKUP(B572,'(1) Project Reference Item List'!$B$2:$C$1000,2,FALSE)","v":{"$error":"#N/A"}},null,null,null,null,null,null,null,null,null,null,{"$f":"VLOOKUP(B572,'(1) Project Reference Item List'!$B$2:$D$1000,3,FALSE)","v":{"$error":"#N/A"}},null,null,0,0]
[{"$f":"VLOOKUP(B573,'(1) Project Reference Item List'!$B$2:$C$1000,2,FALSE)","v":{"$error":"#N/A"}},null,null,null,null,null,null,null,null,null,null,{"$f":"VLOOKUP(B573,'(1) Project Reference Item List'!$B$2:$D$1000,3,FALSE)","v":{"$error":"#N/A"}},null,null,0,0]
[{"$f":"VLOOKUP(B574,'(1) Project Reference Item List'!$B$2:$C$1000,2,FALSE)","v":{"$error":"#N/A"}},null,null,null,null,null,null,null,null,null,null,{"$f":"VLOOKUP(B574,'(1) Project Reference Item List'!$B$2:$D$1000,3,FALSE)","v":{"$error":"#N/A"}},null,null,0,0]
[{"$f":"VLOOKUP(B575,'(1) Project Reference Item List'!$B$2:$C$1000,2,FALSE)","v":{"$error":"#N/A"}},null,null,null,null,null,null,null,null,null,null,{"$f":"VLOOKUP(B575,'(1) Project Reference Item List'!$B$2:$D$1000,3,FALSE)","v":{"$error":"#N/A"}},null,null,0,0]
[{"$f":"VLOOKUP(B576,'(1) Project Reference Item List'!$B$2:$C$1000,2,FALSE)","v":{"$error":"#N/A"}},null,null,null,null,null,null,null,null,null,null,{"$f":"VLOOKUP(B576,'(1) Project Reference Item List'!$B$2:$D$1000,3,FALSE)","v":{"$error":"#N/A"}},null,null,0,0]
[{"$f":"VLOOKUP(B577,'(1) Project Reference Item List'!$B$2:$C$1000,2,FALSE)","v":{"$error":"#N/A"}},null,null,null,null,null,null,null,null,null,null,{"$f":"VLOOKUP(B577,'(1) Project Reference Item List'!$B$2:$D$1000,3,FALSE)","v":{"$error":"#N/A"}},null,null,0,0]
[{"$f":"VLOOKUP(B578,'(1) Project Reference Item List'!$B$2:$C$1000,2,FALSE)","v":{"$error":"#N/A"}},null,null,null,null,null,null,null,null,null,null,{"$f":"VLOOKUP(B578,'(1) Project Reference Item List'!$B$2:$D$1000,3,FALSE)","v":{"$error":"#N/A"}},null,null,0,0]
[{"$f":"VLOOKUP(B579,'(1) Project Reference Item List'!$B$2:$C$1000,2,FALSE)","v":{"$error":"#N/A"}},null,null,null,null,null,null,null,null,null,null,{"$f":"VLOOKUP(B579,'(1) Project Reference Item List'!$B$2:$D$1000,3,FALSE)","v":{"$error":"#N/A"}},null,null,0,0]
[{"$f":"VLOOKUP(B580,'(1) Project Reference Item List'!$B$2:$C$1000,2,FALSE)","v":{"$error":"#N/A"}},null,null,null,null,null,null,null,null,null,null,{"$f":"VLOOKUP(B580,'(1) Project Reference Item List'!$B$2:$D$1000,3,FALSE)","v":{"$error":"#N/A"}},null,null,0,0]
[{"$f":"VLOOKUP(B581,'(1) Project Reference Item List'!$B$2:$C$1000,2,FALSE)","v":{"$error":"#N/A"}},null,null,null,null,null,null,null,null,null,null,{"$f":"VLOOKUP(B581,'(1) Project Reference Item List'!$B$2:$D$1000,3,FALSE)","v":{"$error":"#N/A"}},null,null,0,0]
[{"$f":"VLOOKUP(B582,'(1) Project Reference Item List'!$B$2:$C$1000,2,FALSE)","v":{"$error":"#N/A"}},null,null,null,null,null,null,null,null,null,null,{"$f":"VLOOKUP(B582,'(1) Project Reference Item List'!$B$2:$D$1000,3,FALSE)","v":{"$error":"#N/A"}},null,null,{"$f":"IF(J582=0,J582,J582*N582)","v":0},{"$f":"(M582-O582)","v":0}]
[{"$f":"VLOOKUP(B583,'(1) Project Reference Item List'!$B$2:$C$1000,2,FALSE)","v":{"$error":"#N/A"}},null,null,null,null,null,null,null,null,null,null,{"$f":"VLOOKUP(B583,'(1) Project Reference Item List'!$B$2:$D$1000,3,FALSE)","v":{"$error":"#N/A"}},null,null,0,0]
[{"$f":"VLOOKUP(B584,'(1) Project Reference Item List'!$B$2:$C$1000,2,FALSE)","v":{"$error":"#N/A"}},null,null,null,null,null,null,null,null,null,null,{"$f":"VLOOKUP(B584,'(1) Project Reference Item List'!$B$2:$D$1000,3,FALSE)","v":{"$error":"#N/A"}},null,null,0,0]
[{"$f":"VLOOKUP(B585,'(1) Project Reference Item List'!$B$2:$C$1000,2,FALSE)","v":{"$error":"#N/A"}},null,null,null,null,null,null,null,null,null,null,{"$f":"VLOOKUP(B585,'(1) Project Reference Item List'!$B$2:$D$1000,3,FALSE)","v":{"$error":"#N/A"}},null,null,0,0]
[{"$f":"VLOOKUP(B586,'(1) Project Reference Item List'!$B$2:$C$1000,2,FALSE)","v":{"$error":"#N/A"}},null,null,null,null,null,null,null,null,null,null,{"$f":"VLOOKUP(B586,'(1) Project Reference Item List'!$B$2:$D$1000,3,FALSE)","v":{"$error":"#N/A"}},null,null,0,0]
[{"$f":"VLOOKUP(B587,'(1) Project Reference Item List'!$B$2:$C$1000,2,FALSE)","v":{"$error":"#N/A"}},null,null,null,null,null,null,null,null,null,null,{"$f":"VLOOKUP(B587,'(1) Project Reference Item List'!$B$2:$D$1000,3,FALSE)","v":{"$error":"#N/A"}},null,null,0,0]
[{"$f":"VLOOKUP(B588,'(1) Project Reference Item List'!$B$2:$C$1000,2,FALSE)","v":{"$error":"#N/A"}},null,null,null,null,null,null,null,null,null,null,{"$f":"VLOOKUP(B588,'(1) Project Reference Item List'!$B$2:$D$1000,3,FALSE)","v":{"$error":"#N/A"}},null,null,0,0]
[{"$f":"VLOOKUP(B589,'(1) Project Reference Item List'!$B$2:$C$1000,2,FALSE)","v":{"$error":"#N/A"}},null,null,null,null,null,null,null,null,null,null,{"$f":"VLOOKUP(B589,'(1) Project Reference Item List'!$B$2:$D$1000,3,FALSE)","v":{"$error":"#N/A"}},null,null,0,0]
[{"$f":"VLOOKUP(B590,'(1) Project Reference Item List'!$B$2:$C$1000,2,FALSE)","v":{"$error":"#N/A"}},null,null,null,null,null,null,null,null,null,null,{"$f":"VLOOKUP(B590,'(1) Project Reference Item List'!$B$2:$D$1000,3,FALSE)","v":{"$error":"#N/A"}},null,null,0,0]
[{"$f":"VLOOKUP(B591,'(1) Project Reference Item List'!$B$2:$C$1000,2,FALSE)","v":{"$error":"#N/A"}},null,null,null,null,null,null,null,null,null,null,{"$f":"VLOOKUP(B591,'(1) Project Reference Item List'!$B$2:$D$1000,3,FALSE)","v":{"$error":"#N/A"}},null,null,0,0]
[{"$f":"VLOOKUP(B592,'(1) Project Reference Item List'!$B$2:$C$1000,2,FALSE)","v":{"$error":"#N/A"}},null,null,null,null,null,null,null,null,null,null,{"$f":"VLOOKUP(B592,'(1) Project Reference Item List'!$B$2:$D$1000,3,FALSE)","v":{"$error":"#N/A"}},null,null,0,0]
[{"$f":"VLOOKUP(B593,'(1) Project Reference Item List'!$B$2:$C$1000,2,FALSE)","v":{"$error":"#N/A"}},null,null,null,null,null,null,null,null,null,null,{"$f":"VLOOKUP(B593,'(1) Project Reference Item List'!$B$2:$D$1000,3,FALSE)","v":{"$error":"#N/A"}},null,null,0,0]
[{"$f":"VLOOKUP(B594,'(1) Project Reference Item List'!$B$2:$C$1000,2,FALSE)","v":{"$error":"#N/A"}},null,null,null,null,null,null,null,null,null,null,{"$f":"VLOOKUP(B594,'(1) Project Reference Item List'!$B$2:$D$1000,3,FALSE)","v":{"$error":"#N/A"}},null,null,0,0]
[{"$f":"VLOOKUP(B595,'(1) Project Reference Item List'!$B$2:$C$1000,2,FALSE)","v":{"$error":"#N/A"}},null,null,null,null,null,null,null,null,null,null,{"$f":"VLOOKUP(B595,'(1) Project Reference Item List'!$B$2:$D$1000,3,FALSE)","v":{"$error":"#N/A"}},null,null,0,0]
[{"$f":"VLOOKUP(B596,'(1) Project Reference Item List'!$B$2:$C$1000,2,FALSE)","v":{"$error":"#N/A"}},null,null,null,null,null,null,null,null,null,null,{"$f":"VLOOKUP(B596,'(1) Project Reference Item List'!$B$2:$D$1000,3,FALSE)","v":{"$error":"#N/A"}},null,null,0,0]
[{"$f":"VLOOKUP(B597,'(1) Project Reference Item List'!$B$2:$C$1000,2,FALSE)","v":{"$error":"#N/A"}},null,null,null,null,null,null,null,null,null,null,{"$f":"VLOOKUP(B597,'(1) Project Reference Item List'!$B$2:$D$1000,3,FALSE)","v":{"$error":"#N/A"}},null,null,0,0]
[{"$f":"VLOOKUP(B598,'(1) Project Reference Item List'!$B$2:$C$1000,2,FALSE)","v":{"$error":"#N/A"}},null,null,null,null,null,null,null,null,null,null,{"$f":"VLOOKUP(B598,'(1) Project Reference Item List'!$B$2:$D$1000,3,FALSE)","v":{"$error":"#N/A"}},null,null,0,0]
[{"$f":"VLOOKUP(B599,'(1) Project Reference Item List'!$B$2:$C$1000,2,FALSE)","v":{"$error":"#N/A"}},null,null,null,null,null,null,null,null,null,null,{"$f":"VLOOKUP(B599,'(1) Project Reference Item List'!$B$2:$D$1000,3,FALSE)","v":{"$error":"#N/A"}},null,null,0,0]
[{"$f":"VLOOKUP(B600,'(1) Project Reference Item List'!$B$2:$C$1000,2,FALSE)","v":{"$error":"#N/A"}},null,null,null,null,null,null,null,null,null,null,{"$f":"VLOOKUP(B600,'(1) Project Reference Item List'!$B$2:$D$1000,3,FALSE)","v":{"$error":"#N/A"}},null,null,0,0]
[{"$f":"VLOOKUP(B601,'(1) Project Reference Item List'!$B$2:$C$1000,2,FALSE)","v":{"$error":"#N/A"}},null,null,null,null,null,null,null,null,null,null,{"$f":"VLOOKUP(B601,'(1) Project Reference Item List'!$B$2:$D$1000,3,FALSE)","v":{"$error":"#N/A"}},null,null,0,0]
[{"$f":"VLOOKUP(B602,'(1) Project Reference Item List'!$B$2:$C$1000,2,FALSE)","v":{"$error":"#N/A"}},null,null,null,null,null,null,null,null,null,null,{"$f":"VLOOKUP(B602,'(1) Project Reference Item List'!$B$2:$D$1000,3,FALSE)","v":{"$error":"#N/A"}},null,null,0,0]
[{"$f":"VLOOKUP(B603,'(1) Project Reference Item List'!$B$2:$C$1000,2,FALSE)","v":{"$error":"#N/A"}},null,null,null,null,null,null,null,null,null,null,{"$f":"VLOOKUP(B603,'(1) Project Reference Item List'!$B$2:$D$1000,3,FALSE)","v":{"$error":"#N/A"}},null,null,0,0]
[{"$f":"VLOOKUP(B604,'(1) Project Reference Item List'!$B$2:$C$1000,2,FALSE)","v":{"$error":"#N/A"}},null,null,null,null,null,null,null,null,null,null,{"$f":"VLOOKUP(B604,'(1) Project Reference Item List'!$B$2:$D$1000,3,FALSE)","v":{"$error":"#N/A"}},null,null,0,0]
[{"$f":"VLOOKUP(B605,'(1) Project Reference Item List'!$B$2:$C$1000,2,FALSE)","v":{"$error":"#N/A"}},null,null,null,null,null,null,null,null,null,null,{"$f":"VLOOKUP(B605,'(1) Project Reference Item List'!$B$2:$D$1000,3,FALSE)","v":{"$error":"#N/A"}},null,null,0,0]
[{"$f":"VLOOKUP(B606,'(1) Project Reference Item List'!$B$2:$C$1000,2,FALSE)","v":{"$error":"#N/A"}},null,null,null,null,null,null,null,null,null,null,{"$f":"VLOOKUP(B606,'(1) Project Reference Item List'!$B$2:$D$1000,3,FALSE)","v":{"$error":"#N/A"}},null,null,0,0]
[{"$f":"VLOOKUP(B607,'(1) Project Reference Item List'!$B$2:$C$1000,2,FALSE)","v":{"$error":"#N/A"}},null,null,null,null,null,null,null,null,null,null,{"$f":"VLOOKUP(B607,'(1) Project Reference Item List'!$B$2:$D$1000,3,FALSE)","v":{"$error":"#N/A"}},null,null,0,0]
[{"$f":"VLOOKUP(B608,'(1) Project Reference Item List'!$B$2:$C$1000,2,FALSE)","v":{"$error":"#N/A"}},null,null,null,null,null,null,null,null,null,null,{"$f":"VLOOKUP(B608,'(1) Project Reference Item List'!$B$2:$D$1000,3,FALSE)","v":{"$error":"#N/A"}},null,null,0,0]
[{"$f":"VLOOKUP(B609,'(1) Project Reference Item List'!$B$2:$C$1000,2,FALSE)","v":{"$error":"#N/A"}},null,null,null,null,null,null,null,null,null,null,{"$f":"VLOOKUP(B609,'(1) Project Reference Item List'!$B$2:$D$1000,3,FALSE)","v":{"$error":"#N/A"}},null,null,0,0]
[{"$f":"VLOOKUP(B610,'(1) Project Reference Item List'!$B$2:$C$1000,2,FALSE)","v":{"$error":"#N/A"}},null,null,null,null,null,null,null,null,null,null,{"$f":"VLOOKUP(B610,'(1) Project Reference Item List'!$B$2:$D$1000,3,FALSE)","v":{"$error":"#N/A"}},null,null,0,0]
[{"$f":"VLOOKUP(B611,'(1) Project Reference Item List'!$B$2:$C$1000,2,FALSE)","v":{"$error":"#N/A"}},null,null,null,null,null,null,null,null,null,null,{"$f":"VLOOKUP(B611,'(1) Project Reference Item List'!$B$2:$D$1000,3,FALSE)","v":{"$error":"#N/A"}},null,null,0,0]
[{"$f":"VLOOKUP(B612,'(1) Project Reference Item List'!$B$2:$C$1000,2,FALSE)","v":{"$error":"#N/A"}},null,null,null,null,null,null,null,null,null,null,{"$f":"VLOOKUP(B612,'(1) Project Reference Item List'!$B$2:$D$1000,3,FALSE)","v":{"$error":"#N/A"}},null,null,0,0]
[{"$f":"VLOOKUP(B613,'(1) Project Reference Item List'!$B$2:$C$1000,2,FALSE)","v":{"$error":"#N/A"}},null,null,null,null,null,null,null,null,null,null,{"$f":"VLOOKUP(B613,'(1) Project Reference Item List'!$B$2:$D$1000,3,FALSE)","v":{"$error":"#N/A"}},null,null,0,0]
[{"$f":"VLOOKUP(B614,'(1) Project Reference Item List'!$B$2:$C$1000,2,FALSE)","v":{"$error":"#N/A"}},null,null,null,null,null,null,null,null,null,null,{"$f":"VLOOKUP(B614,'(1) Project Reference Item List'!$B$2:$D$1000,3,FALSE)","v":{"$error":"#N/A"}},null,null,0,0]
[{"$f":"VLOOKUP(B615,'(1) Project Reference Item List'!$B$2:$C$1000,2,FALSE)","v":{"$error":"#N/A"}},null,null,null,null,null,null,null,null,null,null,{"$f":"VLOOKUP(B615,'(1) Project Reference Item List'!$B$2:$D$1000,3,FALSE)","v":{"$error":"#N/A"}},null,null,0,0]
[{"$f":"VLOOKUP(B616,'(1) Project Reference Item List'!$B$2:$C$1000,2,FALSE)","v":{"$error":"#N/A"}},null,null,null,null,null,null,null,null,null,null,{"$f":"VLOOKUP(B616,'(1) Project Reference Item List'!$B$2:$D$1000,3,FALSE)","v":{"$error":"#N/A"}},null,null,0,0]
[{"$f":"VLOOKUP(B617,'(1) Project Reference Item List'!$B$2:$C$1000,2,FALSE)","v":{"$error":"#N/A"}},null,null,null,null,null,null,null,null,null,null,{"$f":"VLOOKUP(B617,'(1) Project Reference Item List'!$B$2:$D$1000,3,FALSE)","v":{"$error":"#N/A"}},null,null,0,0]
[{"$f":"VLOOKUP(B618,'(1) Project Reference Item List'!$B$2:$C$1000,2,FALSE)","v":{"$error":"#N/A"}},null,null,null,null,null,null,null,null,null,null,{"$f":"VLOOKUP(B618,'(1) Project Reference Item List'!$B$2:$D$1000,3,FALSE)","v":{"$error":"#N/A"}},null,null,0,0]
[{"$f":"VLOOKUP(B619,'(1) Project Reference Item List'!$B$2:$C$1000,2,FALSE)","v":{"$error":"#N/A"}},null,null,null,null,null,null,null,null,null,null,{"$f":"VLOOKUP(B619,'(1) Project Reference Item List'!$B$2:$D$1000,3,FALSE)","v":{"$error":"#N/A"}},null,null,0,0]
[{"$f":"VLOOKUP(B620,'(1) Project Reference Item List'!$B$2:$C$1000,2,FALSE)","v":{"$error":"#N/A"}},null,null,null,null,null,null,null,null,null,null,{"$f":"VLOOKUP(B620,'(1) Project Reference Item List'!$B$2:$D$1000,3,FALSE)","v":{"$error":"#N/A"}},null,null,0,0]
[{"$f":"VLOOKUP(B621,'(1) Project Reference Item List'!$B$2:$C$1000,2,FALSE)","v":{"$error":"#N/A"}},null,null,null,null,null,null,null,null,null,null,{"$f":"VLOOKUP(B621,'(1) Project Reference Item List'!$B$2:$D$1000,3,FALSE)","v":{"$error":"#N/A"}},null,null,0,0]
[{"$f":"VLOOKUP(B622,'(1) Project Reference Item List'!$B$2:$C$1000,2,FALSE)","v":{"$error":"#N/A"}},null,null,null,null,null,null,null,null,null,null,{"$f":"VLOOKUP(B622,'(1) Project Reference Item List'!$B$2:$D$1000,3,FALSE)","v":{"$error":"#N/A"}},null,null,0,0]
[{"$f":"VLOOKUP(B623,'(1) Project Reference Item List'!$B$2:$C$1000,2,FALSE)","v":{"$error":"#N/A"}},null,null,null,null,null,null,null,null,null,null,{"$f":"VLOOKUP(B623,'(1) Project Reference Item List'!$B$2:$D$1000,3,FALSE)","v":{"$error":"#N/A"}},null,null,0,0]
[{"$f":"VLOOKUP(B624,'(1) Project Reference Item List'!$B$2:$C$1000,2,FALSE)","v":{"$error":"#N/A"}},null,null,null,null,null,null,null,null,null,null,{"$f":"VLOOKUP(B624,'(1) Project Reference Item List'!$B$2:$D$1000,3,FALSE)","v":{"$error":"#N/A"}},null,null,0,0]
[{"$f":"VLOOKUP(B625,'(1) Project Reference Item List'!$B$2:$C$1000,2,FALSE)","v":{"$error":"#N/A"}},null,null,null,null,null,null,null,null,null,null,{"$f":"VLOOKUP(B625,'(1) Project Reference Item List'!$B$2:$D$1000,3,FALSE)","v":{"$error":"#N/A"}},null,null,0,0]
[{"$f":"VLOOKUP(B626,'(1) Project Reference Item List'!$B$2:$C$1000,2,FALSE)","v":{"$error":"#N/A"}},null,null,null,null,null,null,null,null,null,null,{"$f":"VLOOKUP(B626,'(1) Project Reference Item List'!$B$2:$D$1000,3,FALSE)","v":{"$error":"#N/A"}},null,null,0,0]
[{"$f":"VLOOKUP(B627,'(1) Project Reference Item List'!$B$2:$C$1000,2,FALSE)","v":{"$error":"#N/A"}},null,null,null,null,null,null,null,null,null,null,{"$f":"VLOOKUP(B627,'(1) Project Reference Item List'!$B$2:$D$1000,3,FALSE)","v":{"$error":"#N/A"}},null,null,0,0]
[{"$f":"VLOOKUP(B628,'(1) Project Reference Item List'!$B$2:$C$1000,2,FALSE)","v":{"$error":"#N/A"}},null,null,null,null,null,null,null,null,null,null,{"$f":"VLOOKUP(B628,'(1) Project Reference Item List'!$B$2:$D$1000,3,FALSE)","v":{"$error":"#N/A"}},null,null,0,0]
[{"$f":"VLOOKUP(B629,'(1) Project Reference Item List'!$B$2:$C$1000,2,FALSE)","v":{"$error":"#N/A"}},null,null,null,null,null,null,null,null,null,null,{"$f":"VLOOKUP(B629,'(1) Project Reference Item List'!$B$2:$D$1000,3,FALSE)","v":{"$error":"#N/A"}},null,null,0,0]
[{"$f":"VLOOKUP(B630,'(1) Project Reference Item List'!$B$2:$C$1000,2,FALSE)","v":{"$error":"#N/A"}},null,null,null,null,null,null,null,null,null,null,{"$f":"VLOOKUP(B630,'(1) Project Reference Item List'!$B$2:$D$1000,3,FALSE)","v":{"$error":"#N/A"}},null,null,0,0]
[{"$f":"VLOOKUP(B631,'(1) Project Reference Item List'!$B$2:$C$1000,2,FALSE)","v":{"$error":"#N/A"}},null,null,null,null,null,null,null,null,null,null,{"$f":"VLOOKUP(B631,'(1) Project Reference Item List'!$B$2:$D$1000,3,FALSE)","v":{"$error":"#N/A"}},null,null,0,0]
[{"$f":"VLOOKUP(B632,'(1) Project Reference Item List'!$B$2:$C$1000,2,FALSE)","v":{"$error":"#N/A"}},null,null,null,null,null,null,null,null,null,null,{"$f":"VLOOKUP(B632,'(1) Project Reference Item List'!$B$2:$D$1000,3,FALSE)","v":{"$error":"#N/A"}},null,null,0,0]
[{"$f":"VLOOKUP(B633,'(1) Project Reference Item List'!$B$2:$C$1000,2,FALSE)","v":{"$error":"#N/A"}},null,null,null,null,null,null,null,null,null,null,{"$f":"VLOOKUP(B633,'(1) Project Reference Item List'!$B$2:$D$1000,3,FALSE)","v":{"$error":"#N/A"}},null,null,0,0]
[{"$f":"VLOOKUP(B634,'(1) Project Reference Item List'!$B$2:$C$1000,2,FALSE)","v":{"$error":"#N/A"}},null,null,null,null,null,null,null,null,null,null,{"$f":"VLOOKUP(B634,'(1) Project Reference Item List'!$B$2:$D$1000,3,FALSE)","v":{"$error":"#N/A"}},null,null,0,0]
[{"$f":"VLOOKUP(B635,'(1) Project Reference Item List'!$B$2:$C$1000,2,FALSE)","v":{"$error":"#N/A"}},null,null,null,null,null,null,null,null,null,null,{"$f":"VLOOKUP(B635,'(1) Project Reference Item List'!$B$2:$D$1000,3,FALSE)","v":{"$error":"#N/A"}},null,null,0,0]
[{"$f":"VLOOKUP(B636,'(1) Project Reference Item List'!$B$2:$C$1000,2,FALSE)","v":{"$error":"#N/A"}},null,null,null,null,null,null,null,null,null,null,{"$f":"VLOOKUP(B636,'(1) Project Reference Item List'!$B$2:$D$1000,3,FALSE)","v":{"$error":"#N/A"}},null,null,0,0]
[{"$f":"VLOOKUP(B637,'(1) Project Reference Item List'!$B$2:$C$1000,2,FALSE)","v":{"$error":"#N/A"}},null,null,null,null,null,null,null,null,null,null,{"$f":"VLOOKUP(B637,'(1) Project Reference Item List'!$B$2:$D$1000,3,FALSE)","v":{"$error":"#N/A"}},null,null,0,0]
[{"$f":"VLOOKUP(B638,'(1) Project Reference Item List'!$B$2:$C$1000,2,FALSE)","v":{"$error":"#N/A"}},null,null,null,null,null,null,null,null,null,null,{"$f":"VLOOKUP(B638,'(1) Project Reference Item List'!$B$2:$D$1000,3,FALSE)","v":{"$error":"#N/A"}},null,null,0,0]
[{"$f":"VLOOKUP(B639,'(1) Project Reference Item List'!$B$2:$C$1000,2,FALSE)","v":{"$error":"#N/A"}},null,null,null,null,null,null,null,null,null,null,{"$f":"VLOOKUP(B639,'(1) Project Reference Item List'!$B$2:$D$1000,3,FALSE)","v":{"$error":"#N/A"}},null,null,0,0]
[{"$f":"VLOOKUP(B640,'(1) Project Reference Item List'!$B$2:$C$1000,2,FALSE)","v":{"$error":"#N/A"}},null,null,null,null,null,null,null,null,null,null,{"$f":"VLOOKUP(B640,'(1) Project Reference Item List'!$B$2:$D$1000,3,FALSE)","v":{"$error":"#N/A"}},null,null,0,0]
[{"$f":"VLOOKUP(B641,'(1) Project Reference Item List'!$B$2:$C$1000,2,FALSE)","v":{"$error":"#N/A"}},null,null,null,null,null,null,null,null,null,null,{"$f":"VLOOKUP(B641,'(1) Project Reference Item List'!$B$2:$D$1000,3,FALSE)","v":{"$error":"#N/A"}},null,null,0,0]
[{"$f":"VLOOKUP(B642,'(1) Project Reference Item List'!$B$2:$C$1000,2,FALSE)","v":{"$error":"#N/A"}},null,null,null,null,null,null,null,null,null,null,{"$f":"VLOOKUP(B642,'(1) Project Reference Item List'!$B$2:$D$1000,3,FALSE)","v":{"$error":"#N/A"}},null,null,0,0]
[{"$f":"VLOOKUP(B643,'(1) Project Reference Item List'!$B$2:$C$1000,2,FALSE)","v":{"$error":"#N/A"}},null,null,null,null,null,null,null,null,null,null,{"$f":"VLOOKUP(B643,'(1) Project Reference Item List'!$B$2:$D$1000,3,FALSE)","v":{"$error":"#N/A"}},null,null,0,0]
[{"$f":"VLOOKUP(B644,'(1) Project Reference Item List'!$B$2:$C$1000,2,FALSE)","v":{"$error":"#N/A"}},null,null,null,null,null,null,null,null,null,null,{"$f":"VLOOKUP(B644,'(1) Project Reference Item List'!$B$2:$D$1000,3,FALSE)","v":{"$error":"#N/A"}},null,null,0,0]
[{"$f":"VLOOKUP(B645,'(1) Project Reference Item List'!$B$2:$C$1000,2,FALSE)","v":{"$error":"#N/A"}},null,null,null,null,null,null,null,null,null,null,{"$f":"VLOOKUP(B645,'(1) Project Reference Item List'!$B$2:$D$1000,3,FALSE)","v":{"$error":"#N/A"}},null,null,0,0]
[{"$f":"VLOOKUP(B646,'(1) Project Reference Item List'!$B$2:$C$1000,2,FALSE)","v":{"$error":"#N/A"}},null,null,null,null,null,null,null,null,null,null,{"$f":"VLOOKUP(B646,'(1) Project Reference Item List'!$B$2:$D$1000,3,FALSE)","v":{"$error":"#N/A"}},null,null,{"$f":"IF(J646=0,J646,J646*N646)","v":0},{"$f":"(M646-O646)","v":0}]
[{"$f":"VLOOKUP(B647,'(1) Project Reference Item List'!$B$2:$C$1000,2,FALSE)","v":{"$error":"#N/A"}},null,null,null,null,null,null,null,null,null,null,{"$f":"VLOOKUP(B647,'(1) Project Reference Item List'!$B$2:$D$1000,3,FALSE)","v":{"$error":"#N/A"}},null,null,0,0]
[{"$f":"VLOOKUP(B648,'(1) Project Reference Item List'!$B$2:$C$1000,2,FALSE)","v":{"$error":"#N/A"}},null,null,null,null,null,null,null,null,null,null,{"$f":"VLOOKUP(B648,'(1) Project Reference Item List'!$B$2:$D$1000,3,FALSE)","v":{"$error":"#N/A"}},null,null,0,0]
[{"$f":"VLOOKUP(B649,'(1) Project Reference Item List'!$B$2:$C$1000,2,FALSE)","v":{"$error":"#N/A"}},null,null,null,null,null,null,null,null,null,null,{"$f":"VLOOKUP(B649,'(1) Project Reference Item List'!$B$2:$D$1000,3,FALSE)","v":{"$error":"#N/A"}},null,null,0,0]
[{"$f":"VLOOKUP(B650,'(1) Project Reference Item List'!$B$2:$C$1000,2,FALSE)","v":{"$error":"#N/A"}},null,null,null,null,null,null,null,null,null,null,{"$f":"VLOOKUP(B650,'(1) Project Reference Item List'!$B$2:$D$1000,3,FALSE)","v":{"$error":"#N/A"}},null,null,0,0]
[{"$f":"VLOOKUP(B651,'(1) Project Reference Item List'!$B$2:$C$1000,2,FALSE)","v":{"$error":"#N/A"}},null,null,null,null,null,null,null,null,null,null,{"$f":"VLOOKUP(B651,'(1) Project Reference Item List'!$B$2:$D$1000,3,FALSE)","v":{"$error":"#N/A"}},null,null,0,0]
[{"$f":"VLOOKUP(B652,'(1) Project Reference Item List'!$B$2:$C$1000,2,FALSE)","v":{"$error":"#N/A"}},null,null,null,null,null,null,null,null,null,null,{"$f":"VLOOKUP(B652,'(1) Project Reference Item List'!$B$2:$D$1000,3,FALSE)","v":{"$error":"#N/A"}},null,null,0,0]
[{"$f":"VLOOKUP(B653,'(1) Project Reference Item List'!$B$2:$C$1000,2,FALSE)","v":{"$error":"#N/A"}},null,null,null,null,null,null,null,null,null,null,{"$f":"VLOOKUP(B653,'(1) Project Reference Item List'!$B$2:$D$1000,3,FALSE)","v":{"$error":"#N/A"}},null,null,0,0]
[{"$f":"VLOOKUP(B654,'(1) Project Reference Item List'!$B$2:$C$1000,2,FALSE)","v":{"$error":"#N/A"}},null,null,null,null,null,null,null,null,null,null,{"$f":"VLOOKUP(B654,'(1) Project Reference Item List'!$B$2:$D$1000,3,FALSE)","v":{"$error":"#N/A"}},null,null,0,0]
[{"$f":"VLOOKUP(B655,'(1) Project Reference Item List'!$B$2:$C$1000,2,FALSE)","v":{"$error":"#N/A"}},null,null,null,null,null,null,null,null,null,null,{"$f":"VLOOKUP(B655,'(1) Project Reference Item List'!$B$2:$D$1000,3,FALSE)","v":{"$error":"#N/A"}},null,null,0,0]
[{"$f":"VLOOKUP(B656,'(1) Project Reference Item List'!$B$2:$C$1000,2,FALSE)","v":{"$error":"#N/A"}},null,null,null,null,null,null,null,null,null,null,{"$f":"VLOOKUP(B656,'(1) Project Reference Item List'!$B$2:$D$1000,3,FALSE)","v":{"$error":"#N/A"}},null,null,0,0]
[{"$f":"VLOOKUP(B657,'(1) Project Reference Item List'!$B$2:$C$1000,2,FALSE)","v":{"$error":"#N/A"}},null,null,null,null,null,null,null,null,null,null,{"$f":"VLOOKUP(B657,'(1) Project Reference Item List'!$B$2:$D$1000,3,FALSE)","v":{"$error":"#N/A"}},null,null,0,0]
[{"$f":"VLOOKUP(B658,'(1) Project Reference Item List'!$B$2:$C$1000,2,FALSE)","v":{"$error":"#N/A"}},null,null,null,null,null,null,null,null,null,null,{"$f":"VLOOKUP(B658,'(1) Project Reference Item List'!$B$2:$D$1000,3,FALSE)","v":{"$error":"#N/A"}},null,null,0,0]
[{"$f":"VLOOKUP(B659,'(1) Project Reference Item List'!$B$2:$C$1000,2,FALSE)","v":{"$error":"#N/A"}},null,null,null,null,null,null,null,null,null,null,{"$f":"VLOOKUP(B659,'(1) Project Reference Item List'!$B$2:$D$1000,3,FALSE)","v":{"$error":"#N/A"}},null,null,0,0]
[{"$f":"VLOOKUP(B660,'(1) Project Reference Item List'!$B$2:$C$1000,2,FALSE)","v":{"$error":"#N/A"}},null,null,null,null,null,null,null,null,null,null,{"$f":"VLOOKUP(B660,'(1) Project Reference Item List'!$B$2:$D$1000,3,FALSE)","v":{"$error":"#N/A"}},null,null,0,0]
[{"$f":"VLOOKUP(B661,'(1) Project Reference Item List'!$B$2:$C$1000,2,FALSE)","v":{"$error":"#N/A"}},null,null,null,null,null,null,null,null,null,null,{"$f":"VLOOKUP(B661,'(1) Project Reference Item List'!$B$2:$D$1000,3,FALSE)","v":{"$error":"#N/A"}},null,null,0,0]
[{"$f":"VLOOKUP(B662,'(1) Project Reference Item List'!$B$2:$C$1000,2,FALSE)","v":{"$error":"#N/A"}},null,null,null,null,null,null,null,null,null,null,{"$f":"VLOOKUP(B662,'(1) Project Reference Item List'!$B$2:$D$1000,3,FALSE)","v":{"$error":"#N/A"}},null,null,0,0]
[{"$f":"VLOOKUP(B663,'(1) Project Reference Item List'!$B$2:$C$1000,2,FALSE)","v":{"$error":"#N/A"}},null,null,null,null,null,null,null,null,null,null,{"$f":"VLOOKUP(B663,'(1) Project Reference Item List'!$B$2:$D$1000,3,FALSE)","v":{"$error":"#N/A"}},null,null,0,0]
[{"$f":"VLOOKUP(B664,'(1) Project Reference Item List'!$B$2:$C$1000,2,FALSE)","v":{"$error":"#N/A"}},null,null,null,null,null,null,null,null,null,null,{"$f":"VLOOKUP(B664,'(1) Project Reference Item List'!$B$2:$D$1000,3,FALSE)","v":{"$error":"#N/A"}},null,null,0,0]
[{"$f":"VLOOKUP(B665,'(1) Project Reference Item List'!$B$2:$C$1000,2,FALSE)","v":{"$error":"#N/A"}},null,null,null,null,null,null,null,null,null,null,{"$f":"VLOOKUP(B665,'(1) Project Reference Item List'!$B$2:$D$1000,3,FALSE)","v":{"$error":"#N/A"}},null,null,0,0]
[{"$f":"VLOOKUP(B666,'(1) Project Reference Item List'!$B$2:$C$1000,2,FALSE)","v":{"$error":"#N/A"}},null,null,null,null,null,null,null,null,null,null,{"$f":"VLOOKUP(B666,'(1) Project Reference Item List'!$B$2:$D$1000,3,FALSE)","v":{"$error":"#N/A"}},null,null,0,0]
[{"$f":"VLOOKUP(B667,'(1) Project Reference Item List'!$B$2:$C$1000,2,FALSE)","v":{"$error":"#N/A"}},null,null,null,null,null,null,null,null,null,null,{"$f":"VLOOKUP(B667,'(1) Project Reference Item List'!$B$2:$D$1000,3,FALSE)","v":{"$error":"#N/A"}},null,null,0,0]
[{"$f":"VLOOKUP(B668,'(1) Project Reference Item List'!$B$2:$C$1000,2,FALSE)","v":{"$error":"#N/A"}},null,null,null,null,null,null,null,null,null,null,{"$f":"VLOOKUP(B668,'(1) Project Reference Item List'!$B$2:$D$1000,3,FALSE)","v":{"$error":"#N/A"}},null,null,0,0]
[{"$f":"VLOOKUP(B669,'(1) Project Reference Item List'!$B$2:$C$1000,2,FALSE)","v":{"$error":"#N/A"}},null,null,null,null,null,null,null,null,null,null,{"$f":"VLOOKUP(B669,'(1) Project Reference Item List'!$B$2:$D$1000,3,FALSE)","v":{"$error":"#N/A"}},null,null,0,0]
[{"$f":"VLOOKUP(B670,'(1) Project Reference Item List'!$B$2:$C$1000,2,FALSE)","v":{"$error":"#N/A"}},null,null,null,null,null,null,null,null,null,null,{"$f":"VLOOKUP(B670,'(1) Project Reference Item List'!$B$2:$D$1000,3,FALSE)","v":{"$error":"#N/A"}},null,null,0,0]
[{"$f":"VLOOKUP(B671,'(1) Project Reference Item List'!$B$2:$C$1000,2,FALSE)","v":{"$error":"#N/A"}},null,null,null,null,null,null,null,null,null,null,{"$f":"VLOOKUP(B671,'(1) Project Reference Item List'!$B$2:$D$1000,3,FALSE)","v":{"$error":"#N/A"}},null,null,0,0]
[{"$f":"VLOOKUP(B672,'(1) Project Reference Item List'!$B$2:$C$1000,2,FALSE)","v":{"$error":"#N/A"}},null,null,null,null,null,null,null,null,null,null,{"$f":"VLOOKUP(B672,'(1) Project Reference Item List'!$B$2:$D$1000,3,FALSE)","v":{"$error":"#N/A"}},null,null,0,0]
[{"$f":"VLOOKUP(B673,'(1) Project Reference Item List'!$B$2:$C$1000,2,FALSE)","v":{"$error":"#N/A"}},null,null,null,null,null,null,null,null,null,null,{"$f":"VLOOKUP(B673,'(1) Project Reference Item List'!$B$2:$D$1000,3,FALSE)","v":{"$error":"#N/A"}},null,null,0,0]
[{"$f":"VLOOKUP(B674,'(1) Project Reference Item List'!$B$2:$C$1000,2,FALSE)","v":{"$error":"#N/A"}},null,null,null,null,null,null,null,null,null,null,{"$f":"VLOOKUP(B674,'(1) Project Reference Item List'!$B$2:$D$1000,3,FALSE)","v":{"$error":"#N/A"}},null,null,0,0]
[{"$f":"VLOOKUP(B675,'(1) Project Reference Item List'!$B$2:$C$1000,2,FALSE)","v":{"$error":"#N/A"}},null,null,null,null,null,null,null,null,null,null,{"$f":"VLOOKUP(B675,'(1) Project Reference Item List'!$B$2:$D$1000,3,FALSE)","v":{"$error":"#N/A"}},null,null,0,0]
[{"$f":"VLOOKUP(B676,'(1) Project Reference Item List'!$B$2:$C$1000,2,FALSE)","v":{"$error":"#N/A"}},null,null,null,null,null,null,null,null,null,null,{"$f":"VLOOKUP(B676,'(1) Project Reference Item List'!$B$2:$D$1000,3,FALSE)","v":{"$error":"#N/A"}},null,null,0,0]
[{"$f":"VLOOKUP(B677,'(1) Project Reference Item List'!$B$2:$C$1000,2,FALSE)","v":{"$error":"#N/A"}},null,null,null,null,null,null,null,null,null,null,{"$f":"VLOOKUP(B677,'(1) Project Reference Item List'!$B$2:$D$1000,3,FALSE)","v":{"$error":"#N/A"}},null,null,0,0]
[{"$f":"VLOOKUP(B678,'(1) Project Reference Item List'!$B$2:$C$1000,2,FALSE)","v":{"$error":"#N/A"}},null,null,null,null,null,null,null,null,null,null,{"$f":"VLOOKUP(B678,'(1) Project Reference Item List'!$B$2:$D$1000,3,FALSE)","v":{"$error":"#N/A"}},null,null,0,0]
[{"$f":"VLOOKUP(B679,'(1) Project Reference Item List'!$B$2:$C$1000,2,FALSE)","v":{"$error":"#N/A"}},null,null,null,null,null,null,null,null,null,null,{"$f":"VLOOKUP(B679,'(1) Project Reference Item List'!$B$2:$D$1000,3,FALSE)","v":{"$error":"#N/A"}},null,null,0,0]
[{"$f":"VLOOKUP(B680,'(1) Project Reference Item List'!$B$2:$C$1000,2,FALSE)","v":{"$error":"#N/A"}},null,null,null,null,null,null,null,null,null,null,{"$f":"VLOOKUP(B680,'(1) Project Reference Item List'!$B$2:$D$1000,3,FALSE)","v":{"$error":"#N/A"}},null,null,0,0]
[{"$f":"VLOOKUP(B681,'(1) Project Reference Item List'!$B$2:$C$1000,2,FALSE)","v":{"$error":"#N/A"}},null,null,null,null,null,null,null,null,null,null,{"$f":"VLOOKUP(B681,'(1) Project Reference Item List'!$B$2:$D$1000,3,FALSE)","v":{"$error":"#N/A"}},null,null,0,0]
[{"$f":"VLOOKUP(B682,'(1) Project Reference Item List'!$B$2:$C$1000,2,FALSE)","v":{"$error":"#N/A"}},null,null,null,null,null,null,null,null,null,null,{"$f":"VLOOKUP(B682,'(1) Project Reference Item List'!$B$2:$D$1000,3,FALSE)","v":{"$error":"#N/A"}},null,null,0,0]
[{"$f":"VLOOKUP(B683,'(1) Project Reference Item List'!$B$2:$C$1000,2,FALSE)","v":{"$error":"#N/A"}},null,null,null,null,null,null,null,null,null,null,{"$f":"VLOOKUP(B683,'(1) Project Reference Item List'!$B$2:$D$1000,3,FALSE)","v":{"$error":"#N/A"}},null,null,0,0]
[{"$f":"VLOOKUP(B684,'(1) Project Reference Item List'!$B$2:$C$1000,2,FALSE)","v":{"$error":"#N/A"}},null,null,null,null,null,null,null,null,null,null,{"$f":"VLOOKUP(B684,'(1) Project Reference Item List'!$B$2:$D$1000,3,FALSE)","v":{"$error":"#N/A"}},null,null,0,0]
[{"$f":"VLOOKUP(B685,'(1) Project Reference Item List'!$B$2:$C$1000,2,FALSE)","v":{"$error":"#N/A"}},null,null,null,null,null,null,null,null,null,null,{"$f":"VLOOKUP(B685,'(1) Project Reference Item List'!$B$2:$D$1000,3,FALSE)","v":{"$error":"#N/A"}},null,null,0,0]
[{"$f":"VLOOKUP(B686,'(1) Project Reference Item List'!$B$2:$C$1000,2,FALSE)","v":{"$error":"#N/A"}},null,null,null,null,null,null,null,null,null,null,{"$f":"VLOOKUP(B686,'(1) Project Reference Item List'!$B$2:$D$1000,3,FALSE)","v":{"$error":"#N/A"}},null,null,0,0]
[{"$f":"VLOOKUP(B687,'(1) Project Reference Item List'!$B$2:$C$1000,2,FALSE)","v":{"$error":"#N/A"}},null,null,null,null,null,null,null,null,null,null,{"$f":"VLOOKUP(B687,'(1) Project Reference Item List'!$B$2:$D$1000,3,FALSE)","v":{"$error":"#N/A"}},null,null,0,0]
[{"$f":"VLOOKUP(B688,'(1) Project Reference Item List'!$B$2:$C$1000,2,FALSE)","v":{"$error":"#N/A"}},null,null,null,null,null,null,null,null,null,null,{"$f":"VLOOKUP(B688,'(1) Project Reference Item List'!$B$2:$D$1000,3,FALSE)","v":{"$error":"#N/A"}},null,null,0,0]
[{"$f":"VLOOKUP(B689,'(1) Project Reference Item List'!$B$2:$C$1000,2,FALSE)","v":{"$error":"#N/A"}},null,null,null,null,null,null,null,null,null,null,{"$f":"VLOOKUP(B689,'(1) Project Reference Item List'!$B$2:$D$1000,3,FALSE)","v":{"$error":"#N/A"}},null,null,0,0]
[{"$f":"VLOOKUP(B690,'(1) Project Reference Item List'!$B$2:$C$1000,2,FALSE)","v":{"$error":"#N/A"}},null,null,null,null,null,null,null,null,null,null,{"$f":"VLOOKUP(B690,'(1) Project Reference Item List'!$B$2:$D$1000,3,FALSE)","v":{"$error":"#N/A"}},null,null,0,0]
[{"$f":"VLOOKUP(B691,'(1) Project Reference Item List'!$B$2:$C$1000,2,FALSE)","v":{"$error":"#N/A"}},null,null,null,null,null,null,null,null,null,null,{"$f":"VLOOKUP(B691,'(1) Project Reference Item List'!$B$2:$D$1000,3,FALSE)","v":{"$error":"#N/A"}},null,null,0,0]
[{"$f":"VLOOKUP(B692,'(1) Project Reference Item List'!$B$2:$C$1000,2,FALSE)","v":{"$error":"#N/A"}},null,null,null,null,null,null,null,null,null,null,{"$f":"VLOOKUP(B692,'(1) Project Reference Item List'!$B$2:$D$1000,3,FALSE)","v":{"$error":"#N/A"}},null,null,0,0]
[{"$f":"VLOOKUP(B693,'(1) Project Reference Item List'!$B$2:$C$1000,2,FALSE)","v":{"$error":"#N/A"}},null,null,null,null,null,null,null,null,null,null,{"$f":"VLOOKUP(B693,'(1) Project Reference Item List'!$B$2:$D$1000,3,FALSE)","v":{"$error":"#N/A"}},null,null,0,0]
[{"$f":"VLOOKUP(B694,'(1) Project Reference Item List'!$B$2:$C$1000,2,FALSE)","v":{"$error":"#N/A"}},null,null,null,null,null,null,null,null,null,null,{"$f":"VLOOKUP(B694,'(1) Project Reference Item List'!$B$2:$D$1000,3,FALSE)","v":{"$error":"#N/A"}},null,null,0,0]
[{"$f":"VLOOKUP(B695,'(1) Project Reference Item List'!$B$2:$C$1000,2,FALSE)","v":{"$error":"#N/A"}},null,null,null,null,null,null,null,null,null,null,{"$f":"VLOOKUP(B695,'(1) Project Reference Item List'!$B$2:$D$1000,3,FALSE)","v":{"$error":"#N/A"}},null,null,0,0]
[{"$f":"VLOOKUP(B696,'(1) Project Reference Item List'!$B$2:$C$1000,2,FALSE)","v":{"$error":"#N/A"}},null,null,null,null,null,null,null,null,null,null,{"$f":"VLOOKUP(B696,'(1) Project Reference Item List'!$B$2:$D$1000,3,FALSE)","v":{"$error":"#N/A"}},null,null,0,0]
[{"$f":"VLOOKUP(B697,'(1) Project Reference Item List'!$B$2:$C$1000,2,FALSE)","v":{"$error":"#N/A"}},null,null,null,null,null,null,null,null,null,null,{"$f":"VLOOKUP(B697,'(1) Project Reference Item List'!$B$2:$D$1000,3,FALSE)","v":{"$error":"#N/A"}},null,null,0,0]
[{"$f":"VLOOKUP(B698,'(1) Project Reference Item List'!$B$2:$C$1000,2,FALSE)","v":{"$error":"#N/A"}},null,null,null,null,null,null,null,null,null,null,{"$f":"VLOOKUP(B698,'(1) Project Reference Item List'!$B$2:$D$1000,3,FALSE)","v":{"$error":"#N/A"}},null,null,0,0]
[{"$f":"VLOOKUP(B699,'(1) Project Reference Item List'!$B$2:$C$1000,2,FALSE)","v":{"$error":"#N/A"}},null,null,null,null,null,null,null,null,null,null,{"$f":"VLOOKUP(B699,'(1) Project Reference Item List'!$B$2:$D$1000,3,FALSE)","v":{"$error":"#N/A"}},null,null,0,0]
[{"$f":"VLOOKUP(B700,'(1) Project Reference Item List'!$B$2:$C$1000,2,FALSE)","v":{"$error":"#N/A"}},null,null,null,null,null,null,null,null,null,null,{"$f":"VLOOKUP(B700,'(1) Project Reference Item List'!$B$2:$D$1000,3,FALSE)","v":{"$error":"#N/A"}},null,null,0,0]
[{"$f":"VLOOKUP(B701,'(1) Project Reference Item List'!$B$2:$C$1000,2,FALSE)","v":{"$error":"#N/A"}},null,null,null,null,null,null,null,null,null,null,{"$f":"VLOOKUP(B701,'(1) Project Reference Item List'!$B$2:$D$1000,3,FALSE)","v":{"$error":"#N/A"}},null,null,0,0]
[{"$f":"VLOOKUP(B702,'(1) Project Reference Item List'!$B$2:$C$1000,2,FALSE)","v":{"$error":"#N/A"}},null,null,null,null,null,null,null,null,null,null,{"$f":"VLOOKUP(B702,'(1) Project Reference Item List'!$B$2:$D$1000,3,FALSE)","v":{"$error":"#N/A"}},null,null,0,0]
[{"$f":"VLOOKUP(B703,'(1) Project Reference Item List'!$B$2:$C$1000,2,FALSE)","v":{"$error":"#N/A"}},null,null,null,null,null,null,null,null,null,null,{"$f":"VLOOKUP(B703,'(1) Project Reference Item List'!$B$2:$D$1000,3,FALSE)","v":{"$error":"#N/A"}},null,null,0,0]
[{"$f":"VLOOKUP(B704,'(1) Project Reference Item List'!$B$2:$C$1000,2,FALSE)","v":{"$error":"#N/A"}},null,null,null,null,null,null,null,null,null,null,{"$f":"VLOOKUP(B704,'(1) Project Reference Item List'!$B$2:$D$1000,3,FALSE)","v":{"$error":"#N/A"}},null,null,0,0]
[{"$f":"VLOOKUP(B705,'(1) Project Reference Item List'!$B$2:$C$1000,2,FALSE)","v":{"$error":"#N/A"}},null,null,null,null,null,null,null,null,null,null,{"$f":"VLOOKUP(B705,'(1) Project Reference Item List'!$B$2:$D$1000,3,FALSE)","v":{"$error":"#N/A"}},null,null,0,0]
[{"$f":"VLOOKUP(B706,'(1) Project Reference Item List'!$B$2:$C$1000,2,FALSE)","v":{"$error":"#N/A"}},null,null,null,null,null,null,null,null,null,null,{"$f":"VLOOKUP(B706,'(1) Project Reference Item List'!$B$2:$D$1000,3,FALSE)","v":{"$error":"#N/A"}},null,null,0,0]
[{"$f":"VLOOKUP(B707,'(1) Project Reference Item List'!$B$2:$C$1000,2,FALSE)","v":{"$error":"#N/A"}},null,null,null,null,null,null,null,null,null,null,{"$f":"VLOOKUP(B707,'(1) Project Reference Item List'!$B$2:$D$1000,3,FALSE)","v":{"$error":"#N/A"}},null,null,0,0]
[{"$f":"VLOOKUP(B708,'(1) Project Reference Item List'!$B$2:$C$1000,2,FALSE)","v":{"$error":"#N/A"}},null,null,null,null,null,null,null,null,null,null,{"$f":"VLOOKUP(B708,'(1) Project Reference Item List'!$B$2:$D$1000,3,FALSE)","v":{"$error":"#N/A"}},null,null,0,0]
[{"$f":"VLOOKUP(B709,'(1) Project Reference Item List'!$B$2:$C$1000,2,FALSE)","v":{"$error":"#N/A"}},null,null,null,null,null,null,null,null,null,null,{"$f":"VLOOKUP(B709,'(1) Project Reference Item List'!$B$2:$D$1000,3,FALSE)","v":{"$error":"#N/A"}},null,null,0,0]
[{"$f":"VLOOKUP(B710,'(1) Project Reference Item List'!$B$2:$C$1000,2,FALSE)","v":{"$error":"#N/A"}},null,null,null,null,null,null,null,null,null,null,{"$f":"VLOOKUP(B710,'(1) Project Reference Item List'!$B$2:$D$1000,3,FALSE)","v":{"$error":"#N/A"}},null,null,{"$f":"IF(J710=0,J710,J710*N710)","v":0},{"$f":"(M710-O710)","v":0}]
[{"$f":"VLOOKUP(B711,'(1) Project Reference Item List'!$B$2:$C$1000,2,FALSE)","v":{"$error":"#N/A"}},null,null,null,null,null,null,null,null,null,null,{"$f":"VLOOKUP(B711,'(1) Project Reference Item List'!$B$2:$D$1000,3,FALSE)","v":{"$error":"#N/A"}},null,null,0,0]
[{"$f":"VLOOKUP(B712,'(1) Project Reference Item List'!$B$2:$C$1000,2,FALSE)","v":{"$error":"#N/A"}},null,null,null,null,null,null,null,null,null,null,{"$f":"VLOOKUP(B712,'(1) Project Reference Item List'!$B$2:$D$1000,3,FALSE)","v":{"$error":"#N/A"}},null,null,0,0]
[{"$f":"VLOOKUP(B713,'(1) Project Reference Item List'!$B$2:$C$1000,2,FALSE)","v":{"$error":"#N/A"}},null,null,null,null,null,null,null,null,null,null,{"$f":"VLOOKUP(B713,'(1) Project Reference Item List'!$B$2:$D$1000,3,FALSE)","v":{"$error":"#N/A"}},null,null,0,0]
[{"$f":"VLOOKUP(B714,'(1) Project Reference Item List'!$B$2:$C$1000,2,FALSE)","v":{"$error":"#N/A"}},null,null,null,null,null,null,null,null,null,null,{"$f":"VLOOKUP(B714,'(1) Project Reference Item List'!$B$2:$D$1000,3,FALSE)","v":{"$error":"#N/A"}},null,null,0,0]
[{"$f":"VLOOKUP(B715,'(1) Project Reference Item List'!$B$2:$C$1000,2,FALSE)","v":{"$error":"#N/A"}},null,null,null,null,null,null,null,null,null,null,{"$f":"VLOOKUP(B715,'(1) Project Reference Item List'!$B$2:$D$1000,3,FALSE)","v":{"$error":"#N/A"}},null,null,0,0]
[{"$f":"VLOOKUP(B716,'(1) Project Reference Item List'!$B$2:$C$1000,2,FALSE)","v":{"$error":"#N/A"}},null,null,null,null,null,null,null,null,null,null,{"$f":"VLOOKUP(B716,'(1) Project Reference Item List'!$B$2:$D$1000,3,FALSE)","v":{"$error":"#N/A"}},null,null,0,0]
[{"$f":"VLOOKUP(B717,'(1) Project Reference Item List'!$B$2:$C$1000,2,FALSE)","v":{"$error":"#N/A"}},null,null,null,null,null,null,null,null,null,null,{"$f":"VLOOKUP(B717,'(1) Project Reference Item List'!$B$2:$D$1000,3,FALSE)","v":{"$error":"#N/A"}},null,null,0,0]
[{"$f":"VLOOKUP(B718,'(1) Project Reference Item List'!$B$2:$C$1000,2,FALSE)","v":{"$error":"#N/A"}},null,null,null,null,null,null,null,null,null,null,{"$f":"VLOOKUP(B718,'(1) Project Reference Item List'!$B$2:$D$1000,3,FALSE)","v":{"$error":"#N/A"}},null,null,0,0]
[{"$f":"VLOOKUP(B719,'(1) Project Reference Item List'!$B$2:$C$1000,2,FALSE)","v":{"$error":"#N/A"}},null,null,null,null,null,null,null,null,null,null,{"$f":"VLOOKUP(B719,'(1) Project Reference Item List'!$B$2:$D$1000,3,FALSE)","v":{"$error":"#N/A"}},null,null,0,0]
[{"$f":"VLOOKUP(B720,'(1) Project Reference Item List'!$B$2:$C$1000,2,FALSE)","v":{"$error":"#N/A"}},null,null,null,null,null,null,null,null,null,null,{"$f":"VLOOKUP(B720,'(1) Project Reference Item List'!$B$2:$D$1000,3,FALSE)","v":{"$error":"#N/A"}},null,null,0,0]
[{"$f":"VLOOKUP(B721,'(1) Project Reference Item List'!$B$2:$C$1000,2,FALSE)","v":{"$error":"#N/A"}},null,null,null,null,null,null,null,null,null,null,{"$f":"VLOOKUP(B721,'(1) Project Reference Item List'!$B$2:$D$1000,3,FALSE)","v":{"$error":"#N/A"}},null,null,0,0]
[{"$f":"VLOOKUP(B722,'(1) Project Reference Item List'!$B$2:$C$1000,2,FALSE)","v":{"$error":"#N/A"}},null,null,null,null,null,null,null,null,null,null,{"$f":"VLOOKUP(B722,'(1) Project Reference Item List'!$B$2:$D$1000,3,FALSE)","v":{"$error":"#N/A"}},null,null,0,0]
[{"$f":"VLOOKUP(B723,'(1) Project Reference Item List'!$B$2:$C$1000,2,FALSE)","v":{"$error":"#N/A"}},null,null,null,null,null,null,null,null,null,null,{"$f":"VLOOKUP(B723,'(1) Project Reference Item List'!$B$2:$D$1000,3,FALSE)","v":{"$error":"#N/A"}},null,null,0,0]
[{"$f":"VLOOKUP(B724,'(1) Project Reference Item List'!$B$2:$C$1000,2,FALSE)","v":{"$error":"#N/A"}},null,null,null,null,null,null,null,null,null,null,{"$f":"VLOOKUP(B724,'(1) Project Reference Item List'!$B$2:$D$1000,3,FALSE)","v":{"$error":"#N/A"}},null,null,0,0]
[{"$f":"VLOOKUP(B725,'(1) Project Reference Item List'!$B$2:$C$1000,2,FALSE)","v":{"$error":"#N/A"}},null,null,null,null,null,null,null,null,null,null,{"$f":"VLOOKUP(B725,'(1) Project Reference Item List'!$B$2:$D$1000,3,FALSE)","v":{"$error":"#N/A"}},null,null,0,0]
[{"$f":"VLOOKUP(B726,'(1) Project Reference Item List'!$B$2:$C$1000,2,FALSE)","v":{"$error":"#N/A"}},null,null,null,null,null,null,null,null,null,null,{"$f":"VLOOKUP(B726,'(1) Project Reference Item List'!$B$2:$D$1000,3,FALSE)","v":{"$error":"#N/A"}},null,null,0,0]
[{"$f":"VLOOKUP(B727,'(1) Project Reference Item List'!$B$2:$C$1000,2,FALSE)","v":{"$error":"#N/A"}},null,null,null,null,null,null,null,null,null,null,{"$f":"VLOOKUP(B727,'(1) Project Reference Item List'!$B$2:$D$1000,3,FALSE)","v":{"$error":"#N/A"}},null,null,0,0]
[{"$f":"VLOOKUP(B728,'(1) Project Reference Item List'!$B$2:$C$1000,2,FALSE)","v":{"$error":"#N/A"}},null,null,null,null,null,null,null,null,null,null,{"$f":"VLOOKUP(B728,'(1) Project Reference Item List'!$B$2:$D$1000,3,FALSE)","v":{"$error":"#N/A"}},null,null,0,0]
[{"$f":"VLOOKUP(B729,'(1) Project Reference Item List'!$B$2:$C$1000,2,FALSE)","v":{"$error":"#N/A"}},null,null,null,null,null,null,null,null,null,null,{"$f":"VLOOKUP(B729,'(1) Project Reference Item List'!$B$2:$D$1000,3,FALSE)","v":{"$error":"#N/A"}},null,null,0,0]
[{"$f":"VLOOKUP(B730,'(1) Project Reference Item List'!$B$2:$C$1000,2,FALSE)","v":{"$error":"#N/A"}},null,null,null,null,null,null,null,null,null,null,{"$f":"VLOOKUP(B730,'(1) Project Reference Item List'!$B$2:$D$1000,3,FALSE)","v":{"$error":"#N/A"}},null,null,0,0]
[{"$f":"VLOOKUP(B731,'(1) Project Reference Item List'!$B$2:$C$1000,2,FALSE)","v":{"$error":"#N/A"}},null,null,null,null,null,null,null,null,null,null,{"$f":"VLOOKUP(B731,'(1) Project Reference Item List'!$B$2:$D$1000,3,FALSE)","v":{"$error":"#N/A"}},null,null,0,0]
[{"$f":"VLOOKUP(B732,'(1) Project Reference Item List'!$B$2:$C$1000,2,FALSE)","v":{"$error":"#N/A"}},null,null,null,null,null,null,null,null,null,null,{"$f":"VLOOKUP(B732,'(1) Project Reference Item List'!$B$2:$D$1000,3,FALSE)","v":{"$error":"#N/A"}},null,null,0,0]
[{"$f":"VLOOKUP(B733,'(1) Project Reference Item List'!$B$2:$C$1000,2,FALSE)","v":{"$error":"#N/A"}},null,null,null,null,null,null,null,null,null,null,{"$f":"VLOOKUP(B733,'(1) Project Reference Item List'!$B$2:$D$1000,3,FALSE)","v":{"$error":"#N/A"}},null,null,0,0]
[{"$f":"VLOOKUP(B734,'(1) Project Reference Item List'!$B$2:$C$1000,2,FALSE)","v":{"$error":"#N/A"}},null,null,null,null,null,null,null,null,null,null,{"$f":"VLOOKUP(B734,'(1) Project Reference Item List'!$B$2:$D$1000,3,FALSE)","v":{"$error":"#N/A"}},null,null,0,0]
[{"$f":"VLOOKUP(B735,'(1) Project Reference Item List'!$B$2:$C$1000,2,FALSE)","v":{"$error":"#N/A"}},null,null,null,null,null,null,null,null,null,null,{"$f":"VLOOKUP(B735,'(1) Project Reference Item List'!$B$2:$D$1000,3,FALSE)","v":{"$error":"#N/A"}},null,null,0,0]
[{"$f":"VLOOKUP(B736,'(1) Project Reference Item List'!$B$2:$C$1000,2,FALSE)","v":{"$error":"#N/A"}},null,null,null,null,null,null,null,null,null,null,{"$f":"VLOOKUP(B736,'(1) Project Reference Item List'!$B$2:$D$1000,3,FALSE)","v":{"$error":"#N/A"}},null,null,0,0]
[{"$f":"VLOOKUP(B737,'(1) Project Reference Item List'!$B$2:$C$1000,2,FALSE)","v":{"$error":"#N/A"}},null,null,null,null,null,null,null,null,null,null,{"$f":"VLOOKUP(B737,'(1) Project Reference Item List'!$B$2:$D$1000,3,FALSE)","v":{"$error":"#N/A"}},null,null,0,0]
[{"$f":"VLOOKUP(B738,'(1) Project Reference Item List'!$B$2:$C$1000,2,FALSE)","v":{"$error":"#N/A"}},null,null,null,null,null,null,null,null,null,null,{"$f":"VLOOKUP(B738,'(1) Project Reference Item List'!$B$2:$D$1000,3,FALSE)","v":{"$error":"#N/A"}},null,null,0,0]
[{"$f":"VLOOKUP(B739,'(1) Project Reference Item List'!$B$2:$C$1000,2,FALSE)","v":{"$error":"#N/A"}},null,null,null,null,null,null,null,null,null,null,{"$f":"VLOOKUP(B739,'(1) Project Reference Item List'!$B$2:$D$1000,3,FALSE)","v":{"$error":"#N/A"}},null,null,0,0]
[{"$f":"VLOOKUP(B740,'(1) Project Reference Item List'!$B$2:$C$1000,2,FALSE)","v":{"$error":"#N/A"}},null,null,null,null,null,null,null,null,null,null,{"$f":"VLOOKUP(B740,'(1) Project Reference Item List'!$B$2:$D$1000,3,FALSE)","v":{"$error":"#N/A"}},null,null,0,0]
[{"$f":"VLOOKUP(B741,'(1) Project Reference Item List'!$B$2:$C$1000,2,FALSE)","v":{"$error":"#N/A"}},null,null,null,null,null,null,null,null,null,null,{"$f":"VLOOKUP(B741,'(1) Project Reference Item List'!$B$2:$D$1000,3,FALSE)","v":{"$error":"#N/A"}},null,null,0,0]
[{"$f":"VLOOKUP(B742,'(1) Project Reference Item List'!$B$2:$C$1000,2,FALSE)","v":{"$error":"#N/A"}},null,null,null,null,null,null,null,null,null,null,{"$f":"VLOOKUP(B742,'(1) Project Reference Item List'!$B$2:$D$1000,3,FALSE)","v":{"$error":"#N/A"}},null,null,0,0]
[{"$f":"VLOOKUP(B743,'(1) Project Reference Item List'!$B$2:$C$1000,2,FALSE)","v":{"$error":"#N/A"}},null,null,null,null,null,null,null,null,null,null,{"$f":"VLOOKUP(B743,'(1) Project Reference Item List'!$B$2:$D$1000,3,FALSE)","v":{"$error":"#N/A"}},null,null,0,0]
[{"$f":"VLOOKUP(B744,'(1) Project Reference Item List'!$B$2:$C$1000,2,FALSE)","v":{"$error":"#N/A"}},null,null,null,null,null,null,null,null,null,null,{"$f":"VLOOKUP(B744,'(1) Project Reference Item List'!$B$2:$D$1000,3,FALSE)","v":{"$error":"#N/A"}},null,null,0,0]
[{"$f":"VLOOKUP(B745,'(1) Project Reference Item List'!$B$2:$C$1000,2,FALSE)","v":{"$error":"#N/A"}},null,null,null,null,null,null,null,null,null,null,{"$f":"VLOOKUP(B745,'(1) Project Reference Item List'!$B$2:$D$1000,3,FALSE)","v":{"$error":"#N/A"}},null,null,0,0]
[{"$f":"VLOOKUP(B746,'(1) Project Reference Item List'!$B$2:$C$1000,2,FALSE)","v":{"$error":"#N/A"}},null,null,null,null,null,null,null,null,null,null,{"$f":"VLOOKUP(B746,'(1) Project Reference Item List'!$B$2:$D$1000,3,FALSE)","v":{"$error":"#N/A"}},null,null,0,0]
[{"$f":"VLOOKUP(B747,'(1) Project Reference Item List'!$B$2:$C$1000,2,FALSE)","v":{"$error":"#N/A"}},null,null,null,null,null,null,null,null,null,null,{"$f":"VLOOKUP(B747,'(1) Project Reference Item List'!$B$2:$D$1000,3,FALSE)","v":{"$error":"#N/A"}},null,null,0,0]
[{"$f":"VLOOKUP(B748,'(1) Project Reference Item List'!$B$2:$C$1000,2,FALSE)","v":{"$error":"#N/A"}},null,null,null,null,null,null,null,null,null,null,{"$f":"VLOOKUP(B748,'(1) Project Reference Item List'!$B$2:$D$1000,3,FALSE)","v":{"$error":"#N/A"}},null,null,0,0]
[{"$f":"VLOOKUP(B749,'(1) Project Reference Item List'!$B$2:$C$1000,2,FALSE)","v":{"$error":"#N/A"}},null,null,null,null,null,null,null,null,null,null,{"$f":"VLOOKUP(B749,'(1) Project Reference Item List'!$B$2:$D$1000,3,FALSE)","v":{"$error":"#N/A"}},null,null,0,0]
[{"$f":"VLOOKUP(B750,'(1) Project Reference Item List'!$B$2:$C$1000,2,FALSE)","v":{"$error":"#N/A"}},null,null,null,null,null,null,null,null,null,null,{"$f":"VLOOKUP(B750,'(1) Project Reference Item List'!$B$2:$D$1000,3,FALSE)","v":{"$error":"#N/A"}},null,null,0,0]
[{"$f":"VLOOKUP(B751,'(1) Project Reference Item List'!$B$2:$C$1000,2,FALSE)","v":{"$error":"#N/A"}},null,null,null,null,null,null,null,null,null,null,{"$f":"VLOOKUP(B751,'(1) Project Reference Item List'!$B$2:$D$1000,3,FALSE)","v":{"$error":"#N/A"}},null,null,0,0]
[{"$f":"VLOOKUP(B752,'(1) Project Reference Item List'!$B$2:$C$1000,2,FALSE)","v":{"$error":"#N/A"}},null,null,null,null,null,null,null,null,null,null,{"$f":"VLOOKUP(B752,'(1) Project Reference Item List'!$B$2:$D$1000,3,FALSE)","v":{"$error":"#N/A"}},null,null,0,0]
[{"$f":"VLOOKUP(B753,'(1) Project Reference Item List'!$B$2:$C$1000,2,FALSE)","v":{"$error":"#N/A"}},null,null,null,null,null,null,null,null,null,null,{"$f":"VLOOKUP(B753,'(1) Project Reference Item List'!$B$2:$D$1000,3,FALSE)","v":{"$error":"#N/A"}},null,null,0,0]
[{"$f":"VLOOKUP(B754,'(1) Project Reference Item List'!$B$2:$C$1000,2,FALSE)","v":{"$error":"#N/A"}},null,null,null,null,null,null,null,null,null,null,{"$f":"VLOOKUP(B754,'(1) Project Reference Item List'!$B$2:$D$1000,3,FALSE)","v":{"$error":"#N/A"}},null,null,0,0]
[{"$f":"VLOOKUP(B755,'(1) Project Reference Item List'!$B$2:$C$1000,2,FALSE)","v":{"$error":"#N/A"}},null,null,null,null,null,null,null,null,null,null,{"$f":"VLOOKUP(B755,'(1) Project Reference Item List'!$B$2:$D$1000,3,FALSE)","v":{"$error":"#N/A"}},null,null,0,0]
[{"$f":"VLOOKUP(B756,'(1) Project Reference Item List'!$B$2:$C$1000,2,FALSE)","v":{"$error":"#N/A"}},null,null,null,null,null,null,null,null,null,null,{"$f":"VLOOKUP(B756,'(1) Project Reference Item List'!$B$2:$D$1000,3,FALSE)","v":{"$error":"#N/A"}},null,null,0,0]
[{"$f":"VLOOKUP(B757,'(1) Project Reference Item List'!$B$2:$C$1000,2,FALSE)","v":{"$error":"#N/A"}},null,null,null,null,null,null,null,null,null,null,{"$f":"VLOOKUP(B757,'(1) Project Reference Item List'!$B$2:$D$1000,3,FALSE)","v":{"$error":"#N/A"}},null,null,0,0]
[{"$f":"VLOOKUP(B758,'(1) Project Reference Item List'!$B$2:$C$1000,2,FALSE)","v":{"$error":"#N/A"}},null,null,null,null,null,null,null,null,null,null,{"$f":"VLOOKUP(B758,'(1) Project Reference Item List'!$B$2:$D$1000,3,FALSE)","v":{"$error":"#N/A"}},null,null,0,0]
[{"$f":"VLOOKUP(B759,'(1) Project Reference Item List'!$B$2:$C$1000,2,FALSE)","v":{"$error":"#N/A"}},null,null,null,null,null,null,null,null,null,null,{"$f":"VLOOKUP(B759,'(1) Project Reference Item List'!$B$2:$D$1000,3,FALSE)","v":{"$error":"#N/A"}},null,null,0,0]
[{"$f":"VLOOKUP(B760,'(1) Project Reference Item List'!$B$2:$C$1000,2,FALSE)","v":{"$error":"#N/A"}},null,null,null,null,null,null,null,null,null,null,{"$f":"VLOOKUP(B760,'(1) Project Reference Item List'!$B$2:$D$1000,3,FALSE)","v":{"$error":"#N/A"}},null,null,0,0]
[{"$f":"VLOOKUP(B761,'(1) Project Reference Item List'!$B$2:$C$1000,2,FALSE)","v":{"$error":"#N/A"}},null,null,null,null,null,null,null,null,null,null,{"$f":"VLOOKUP(B761,'(1) Project Reference Item List'!$B$2:$D$1000,3,FALSE)","v":{"$error":"#N/A"}},null,null,0,0]
[{"$f":"VLOOKUP(B762,'(1) Project Reference Item List'!$B$2:$C$1000,2,FALSE)","v":{"$error":"#N/A"}},null,null,null,null,null,null,null,null,null,null,{"$f":"VLOOKUP(B762,'(1) Project Reference Item List'!$B$2:$D$1000,3,FALSE)","v":{"$error":"#N/A"}},null,null,0,0]
[{"$f":"VLOOKUP(B763,'(1) Project Reference Item List'!$B$2:$C$1000,2,FALSE)","v":{"$error":"#N/A"}},null,null,null,null,null,null,null,null,null,null,{"$f":"VLOOKUP(B763,'(1) Project Reference Item List'!$B$2:$D$1000,3,FALSE)","v":{"$error":"#N/A"}},null,null,0,0]
[{"$f":"VLOOKUP(B764,'(1) Project Reference Item List'!$B$2:$C$1000,2,FALSE)","v":{"$error":"#N/A"}},null,null,null,null,null,null,null,null,null,null,{"$f":"VLOOKUP(B764,'(1) Project Reference Item List'!$B$2:$D$1000,3,FALSE)","v":{"$error":"#N/A"}},null,null,0,0]
[{"$f":"VLOOKUP(B765,'(1) Project Reference Item List'!$B$2:$C$1000,2,FALSE)","v":{"$error":"#N/A"}},null,null,null,null,null,null,null,null,null,null,{"$f":"VLOOKUP(B765,'(1) Project Reference Item List'!$B$2:$D$1000,3,FALSE)","v":{"$error":"#N/A"}},null,null,0,0]
[{"$f":"VLOOKUP(B766,'(1) Project Reference Item List'!$B$2:$C$1000,2,FALSE)","v":{"$error":"#N/A"}},null,null,null,null,null,null,null,null,null,null,{"$f":"VLOOKUP(B766,'(1) Project Reference Item List'!$B$2:$D$1000,3,FALSE)","v":{"$error":"#N/A"}},null,null,0,0]
[{"$f":"VLOOKUP(B767,'(1) Project Reference Item List'!$B$2:$C$1000,2,FALSE)","v":{"$error":"#N/A"}},null,null,null,null,null,null,null,null,null,null,{"$f":"VLOOKUP(B767,'(1) Project Reference Item List'!$B$2:$D$1000,3,FALSE)","v":{"$error":"#N/A"}},null,null,0,0]
[{"$f":"VLOOKUP(B768,'(1) Project Reference Item List'!$B$2:$C$1000,2,FALSE)","v":{"$error":"#N/A"}},null,null,null,null,null,null,null,null,null,null,{"$f":"VLOOKUP(B768,'(1) Project Reference Item List'!$B$2:$D$1000,3,FALSE)","v":{"$error":"#N/A"}},null,null,0,0]
[{"$f":"VLOOKUP(B769,'(1) Project Reference Item List'!$B$2:$C$1000,2,FALSE)","v":{"$error":"#N/A"}},null,null,null,null,null,null,null,null,null,null,{"$f":"VLOOKUP(B769,'(1) Project Reference Item List'!$B$2:$D$1000,3,FALSE)","v":{"$error":"#N/A"}},null,null,0,0]
[{"$f":"VLOOKUP(B770,'(1) Project Reference Item List'!$B$2:$C$1000,2,FALSE)","v":{"$error":"#N/A"}},null,null,null,null,null,null,null,null,null,null,{"$f":"VLOOKUP(B770,'(1) Project Reference Item List'!$B$2:$D$1000,3,FALSE)","v":{"$error":"#N/A"}},null,null,0,0]
[{"$f":"VLOOKUP(B771,'(1) Project Reference Item List'!$B$2:$C$1000,2,FALSE)","v":{"$error":"#N/A"}},null,null,null,null,null,null,null,null,null,null,{"$f":"VLOOKUP(B771,'(1) Project Reference Item List'!$B$2:$D$1000,3,FALSE)","v":{"$error":"#N/A"}},null,null,0,0]
[{"$f":"VLOOKUP(B772,'(1) Project Reference Item List'!$B$2:$C$1000,2,FALSE)","v":{"$error":"#N/A"}},null,null,null,null,null,null,null,null,null,null,{"$f":"VLOOKUP(B772,'(1) Project Reference Item List'!$B$2:$D$1000,3,FALSE)","v":{"$error":"#N/A"}},null,null,0,0]
[{"$f":"VLOOKUP(B773,'(1) Project Reference Item List'!$B$2:$C$1000,2,FALSE)","v":{"$error":"#N/A"}},null,null,null,null,null,null,null,null,null,null,{"$f":"VLOOKUP(B773,'(1) Project Reference Item List'!$B$2:$D$1000,3,FALSE)","v":{"$error":"#N/A"}},null,null,0,0]
[{"$f":"VLOOKUP(B774,'(1) Project Reference Item List'!$B$2:$C$1000,2,FALSE)","v":{"$error":"#N/A"}},null,null,null,null,null,null,null,null,null,null,{"$f":"VLOOKUP(B774,'(1) Project Reference Item List'!$B$2:$D$1000,3,FALSE)","v":{"$error":"#N/A"}},null,null,{"$f":"IF(J774=0,J774,J774*N774)","v":0},{"$f":"(M774-O774)","v":0}]
[{"$f":"VLOOKUP(B775,'(1) Project Reference Item List'!$B$2:$C$1000,2,FALSE)","v":{"$error":"#N/A"}},null,null,null,null,null,null,null,null,null,null,{"$f":"VLOOKUP(B775,'(1) Project Reference Item List'!$B$2:$D$1000,3,FALSE)","v":{"$error":"#N/A"}},null,null,0,0]
[{"$f":"VLOOKUP(B776,'(1) Project Reference Item List'!$B$2:$C$1000,2,FALSE)","v":{"$error":"#N/A"}},null,null,null,null,null,null,null,null,null,null,{"$f":"VLOOKUP(B776,'(1) Project Reference Item List'!$B$2:$D$1000,3,FALSE)","v":{"$error":"#N/A"}},null,null,0,0]
[{"$f":"VLOOKUP(B777,'(1) Project Reference Item List'!$B$2:$C$1000,2,FALSE)","v":{"$error":"#N/A"}},null,null,null,null,null,null,null,null,null,null,{"$f":"VLOOKUP(B777,'(1) Project Reference Item List'!$B$2:$D$1000,3,FALSE)","v":{"$error":"#N/A"}},null,null,0,0]
[{"$f":"VLOOKUP(B778,'(1) Project Reference Item List'!$B$2:$C$1000,2,FALSE)","v":{"$error":"#N/A"}},null,null,null,null,null,null,null,null,null,null,{"$f":"VLOOKUP(B778,'(1) Project Reference Item List'!$B$2:$D$1000,3,FALSE)","v":{"$error":"#N/A"}},null,null,0,0]
[{"$f":"VLOOKUP(B779,'(1) Project Reference Item List'!$B$2:$C$1000,2,FALSE)","v":{"$error":"#N/A"}},null,null,null,null,null,null,null,null,null,null,{"$f":"VLOOKUP(B779,'(1) Project Reference Item List'!$B$2:$D$1000,3,FALSE)","v":{"$error":"#N/A"}},null,null,0,0]
[{"$f":"VLOOKUP(B780,'(1) Project Reference Item List'!$B$2:$C$1000,2,FALSE)","v":{"$error":"#N/A"}},null,null,null,null,null,null,null,null,null,null,{"$f":"VLOOKUP(B780,'(1) Project Reference Item List'!$B$2:$D$1000,3,FALSE)","v":{"$error":"#N/A"}},null,null,0,0]
[{"$f":"VLOOKUP(B781,'(1) Project Reference Item List'!$B$2:$C$1000,2,FALSE)","v":{"$error":"#N/A"}},null,null,null,null,null,null,null,null,null,null,{"$f":"VLOOKUP(B781,'(1) Project Reference Item List'!$B$2:$D$1000,3,FALSE)","v":{"$error":"#N/A"}},null,null,0,0]
[{"$f":"VLOOKUP(B782,'(1) Project Reference Item List'!$B$2:$C$1000,2,FALSE)","v":{"$error":"#N/A"}},null,null,null,null,null,null,null,null,null,null,{"$f":"VLOOKUP(B782,'(1) Project Reference Item List'!$B$2:$D$1000,3,FALSE)","v":{"$error":"#N/A"}},null,null,0,0]
[{"$f":"VLOOKUP(B783,'(1) Project Reference Item List'!$B$2:$C$1000,2,FALSE)","v":{"$error":"#N/A"}},null,null,null,null,null,null,null,null,null,null,{"$f":"VLOOKUP(B783,'(1) Project Reference Item List'!$B$2:$D$1000,3,FALSE)","v":{"$error":"#N/A"}},null,null,0,0]
[{"$f":"VLOOKUP(B784,'(1) Project Reference Item List'!$B$2:$C$1000,2,FALSE)","v":{"$error":"#N/A"}},null,null,null,null,null,null,null,null,null,null,{"$f":"VLOOKUP(B784,'(1) Project Reference Item List'!$B$2:$D$1000,3,FALSE)","v":{"$error":"#N/A"}},null,null,0,0]
[{"$f":"VLOOKUP(B785,'(1) Project Reference Item List'!$B$2:$C$1000,2,FALSE)","v":{"$error":"#N/A"}},null,null,null,null,null,null,null,null,null,null,{"$f":"VLOOKUP(B785,'(1) Project Reference Item List'!$B$2:$D$1000,3,FALSE)","v":{"$error":"#N/A"}},null,null,0,0]
[{"$f":"VLOOKUP(B786,'(1) Project Reference Item List'!$B$2:$C$1000,2,FALSE)","v":{"$error":"#N/A"}},null,null,null,null,null,null,null,null,null,null,{"$f":"VLOOKUP(B786,'(1) Project Reference Item List'!$B$2:$D$1000,3,FALSE)","v":{"$error":"#N/A"}},null,null,0,0]
[{"$f":"VLOOKUP(B787,'(1) Project Reference Item List'!$B$2:$C$1000,2,FALSE)","v":{"$error":"#N/A"}},null,null,null,null,null,null,null,null,null,null,{"$f":"VLOOKUP(B787,'(1) Project Reference Item List'!$B$2:$D$1000,3,FALSE)","v":{"$error":"#N/A"}},null,null,0,0]
[{"$f":"VLOOKUP(B788,'(1) Project Reference Item List'!$B$2:$C$1000,2,FALSE)","v":{"$error":"#N/A"}},null,null,null,null,null,null,null,null,null,null,{"$f":"VLOOKUP(B788,'(1) Project Reference Item List'!$B$2:$D$1000,3,FALSE)","v":{"$error":"#N/A"}},null,null,0,0]
[{"$f":"VLOOKUP(B789,'(1) Project Reference Item List'!$B$2:$C$1000,2,FALSE)","v":{"$error":"#N/A"}},null,null,null,null,null,null,null,null,null,null,{"$f":"VLOOKUP(B789,'(1) Project Reference Item List'!$B$2:$D$1000,3,FALSE)","v":{"$error":"#N/A"}},null,null,0,0]
[{"$f":"VLOOKUP(B790,'(1) Project Reference Item List'!$B$2:$C$1000,2,FALSE)","v":{"$error":"#N/A"}},null,null,null,null,null,null,null,null,null,null,{"$f":"VLOOKUP(B790,'(1) Project Reference Item List'!$B$2:$D$1000,3,FALSE)","v":{"$error":"#N/A"}},null,null,0,0]
[{"$f":"VLOOKUP(B791,'(1) Project Reference Item List'!$B$2:$C$1000,2,FALSE)","v":{"$error":"#N/A"}},null,null,null,null,null,null,null,null,null,null,{"$f":"VLOOKUP(B791,'(1) Project Reference Item List'!$B$2:$D$1000,3,FALSE)","v":{"$error":"#N/A"}},null,null,0,0]
[{"$f":"VLOOKUP(B792,'(1) Project Reference Item List'!$B$2:$C$1000,2,FALSE)","v":{"$error":"#N/A"}},null,null,null,null,null,null,null,null,null,null,{"$f":"VLOOKUP(B792,'(1) Project Reference Item List'!$B$2:$D$1000,3,FALSE)","v":{"$error":"#N/A"}},null,null,0,0]
[{"$f":"VLOOKUP(B793,'(1) Project Reference Item List'!$B$2:$C$1000,2,FALSE)","v":{"$error":"#N/A"}},null,null,null,null,null,null,null,null,null,null,{"$f":"VLOOKUP(B793,'(1) Project Reference Item List'!$B$2:$D$1000,3,FALSE)","v":{"$error":"#N/A"}},null,null,0,0]
[{"$f":"VLOOKUP(B794,'(1) Project Reference Item List'!$B$2:$C$1000,2,FALSE)","v":{"$error":"#N/A"}},null,null,null,null,null,null,null,null,null,null,{"$f":"VLOOKUP(B794,'(1) Project Reference Item List'!$B$2:$D$1000,3,FALSE)","v":{"$error":"#N/A"}},null,null,0,0]
[{"$f":"VLOOKUP(B795,'(1) Project Reference Item List'!$B$2:$C$1000,2,FALSE)","v":{"$error":"#N/A"}},null,null,null,null,null,null,null,null,null,null,{"$f":"VLOOKUP(B795,'(1) Project Reference Item List'!$B$2:$D$1000,3,FALSE)","v":{"$error":"#N/A"}},null,null,0,0]
[{"$f":"VLOOKUP(B796,'(1) Project Reference Item List'!$B$2:$C$1000,2,FALSE)","v":{"$error":"#N/A"}},null,null,null,null,null,null,null,null,null,null,{"$f":"VLOOKUP(B796,'(1) Project Reference Item List'!$B$2:$D$1000,3,FALSE)","v":{"$error":"#N/A"}},null,null,0,0]
[{"$f":"VLOOKUP(B797,'(1) Project Reference Item List'!$B$2:$C$1000,2,FALSE)","v":{"$error":"#N/A"}},null,null,null,null,null,null,null,null,null,null,{"$f":"VLOOKUP(B797,'(1) Project Reference Item List'!$B$2:$D$1000,3,FALSE)","v":{"$error":"#N/A"}},null,null,0,0]
[{"$f":"VLOOKUP(B798,'(1) Project Reference Item List'!$B$2:$C$1000,2,FALSE)","v":{"$error":"#N/A"}},null,null,null,null,null,null,null,null,null,null,{"$f":"VLOOKUP(B798,'(1) Project Reference Item List'!$B$2:$D$1000,3,FALSE)","v":{"$error":"#N/A"}},null,null,0,0]
[{"$f":"VLOOKUP(B799,'(1) Project Reference Item List'!$B$2:$C$1000,2,FALSE)","v":{"$error":"#N/A"}},null,null,null,null,null,null,null,null,null,null,{"$f":"VLOOKUP(B799,'(1) Project Reference Item List'!$B$2:$D$1000,3,FALSE)","v":{"$error":"#N/A"}},null,null,0,0]
[{"$f":"VLOOKUP(B800,'(1) Project Reference Item List'!$B$2:$C$1000,2,FALSE)","v":{"$error":"#N/A"}},null,null,null,null,null,null,null,null,null,null,{"$f":"VLOOKUP(B800,'(1) Project Reference Item List'!$B$2:$D$1000,3,FALSE)","v":{"$error":"#N/A"}},null,null,0,0]
[{"$f":"VLOOKUP(B801,'(1) Project Reference Item List'!$B$2:$C$1000,2,FALSE)","v":{"$error":"#N/A"}},null,null,null,null,null,null,null,null,null,null,{"$f":"VLOOKUP(B801,'(1) Project Reference Item List'!$B$2:$D$1000,3,FALSE)","v":{"$error":"#N/A"}},null,null,0,0]
[{"$f":"VLOOKUP(B802,'(1) Project Reference Item List'!$B$2:$C$1000,2,FALSE)","v":{"$error":"#N/A"}},null,null,null,null,null,null,null,null,null,null,{"$f":"VLOOKUP(B802,'(1) Project Reference Item List'!$B$2:$D$1000,3,FALSE)","v":{"$error":"#N/A"}},null,null,0,0]
[{"$f":"VLOOKUP(B803,'(1) Project Reference Item List'!$B$2:$C$1000,2,FALSE)","v":{"$error":"#N/A"}},null,null,null,null,null,null,null,null,null,null,{"$f":"VLOOKUP(B803,'(1) Project Reference Item List'!$B$2:$D$1000,3,FALSE)","v":{"$error":"#N/A"}},null,null,0,0]
[{"$f":"VLOOKUP(B804,'(1) Project Reference Item List'!$B$2:$C$1000,2,FALSE)","v":{"$error":"#N/A"}},null,null,null,null,null,null,null,null,null,null,{"$f":"VLOOKUP(B804,'(1) Project Reference Item List'!$B$2:$D$1000,3,FALSE)","v":{"$error":"#N/A"}},null,null,0,0]
[{"$f":"VLOOKUP(B805,'(1) Project Reference Item List'!$B$2:$C$1000,2,FALSE)","v":{"$error":"#N/A"}},null,null,null,null,null,null,null,null,null,null,{"$f":"VLOOKUP(B805,'(1) Project Reference Item List'!$B$2:$D$1000,3,FALSE)","v":{"$error":"#N/A"}},null,null,0,0]
[{"$f":"VLOOKUP(B806,'(1) Project Reference Item List'!$B$2:$C$1000,2,FALSE)","v":{"$error":"#N/A"}},null,null,null,null,null,null,null,null,null,null,{"$f":"VLOOKUP(B806,'(1) Project Reference Item List'!$B$2:$D$1000,3,FALSE)","v":{"$error":"#N/A"}},null,null,0,0]
[{"$f":"VLOOKUP(B807,'(1) Project Reference Item List'!$B$2:$C$1000,2,FALSE)","v":{"$error":"#N/A"}},null,null,null,null,null,null,null,null,null,null,{"$f":"VLOOKUP(B807,'(1) Project Reference Item List'!$B$2:$D$1000,3,FALSE)","v":{"$error":"#N/A"}},null,null,0,0]
[{"$f":"VLOOKUP(B808,'(1) Project Reference Item List'!$B$2:$C$1000,2,FALSE)","v":{"$error":"#N/A"}},null,null,null,null,null,null,null,null,null,null,{"$f":"VLOOKUP(B808,'(1) Project Reference Item List'!$B$2:$D$1000,3,FALSE)","v":{"$error":"#N/A"}},null,null,0,0]
[{"$f":"VLOOKUP(B809,'(1) Project Reference Item List'!$B$2:$C$1000,2,FALSE)","v":{"$error":"#N/A"}},null,null,null,null,null,null,null,null,null,null,{"$f":"VLOOKUP(B809,'(1) Project Reference Item List'!$B$2:$D$1000,3,FALSE)","v":{"$error":"#N/A"}},null,null,0,0]
[{"$f":"VLOOKUP(B810,'(1) Project Reference Item List'!$B$2:$C$1000,2,FALSE)","v":{"$error":"#N/A"}},null,null,null,null,null,null,null,null,null,null,{"$f":"VLOOKUP(B810,'(1) Project Reference Item List'!$B$2:$D$1000,3,FALSE)","v":{"$error":"#N/A"}},null,null,0,0]
[{"$f":"VLOOKUP(B811,'(1) Project Reference Item List'!$B$2:$C$1000,2,FALSE)","v":{"$error":"#N/A"}},null,null,null,null,null,null,null,null,null,null,{"$f":"VLOOKUP(B811,'(1) Project Reference Item List'!$B$2:$D$1000,3,FALSE)","v":{"$error":"#N/A"}},null,null,0,0]
[{"$f":"VLOOKUP(B812,'(1) Project Reference Item List'!$B$2:$C$1000,2,FALSE)","v":{"$error":"#N/A"}},null,null,null,null,null,null,null,null,null,null,{"$f":"VLOOKUP(B812,'(1) Project Reference Item List'!$B$2:$D$1000,3,FALSE)","v":{"$error":"#N/A"}},null,null,0,0]
[{"$f":"VLOOKUP(B813,'(1) Project Reference Item List'!$B$2:$C$1000,2,FALSE)","v":{"$error":"#N/A"}},null,null,null,null,null,null,null,null,null,null,{"$f":"VLOOKUP(B813,'(1) Project Reference Item List'!$B$2:$D$1000,3,FALSE)","v":{"$error":"#N/A"}},null,null,0,0]
[{"$f":"VLOOKUP(B814,'(1) Project Reference Item List'!$B$2:$C$1000,2,FALSE)","v":{"$error":"#N/A"}},null,null,null,null,null,null,null,null,null,null,{"$f":"VLOOKUP(B814,'(1) Project Reference Item List'!$B$2:$D$1000,3,FALSE)","v":{"$error":"#N/A"}},null,null,0,0]
[{"$f":"VLOOKUP(B815,'(1) Project Reference Item List'!$B$2:$C$1000,2,FALSE)","v":{"$error":"#N/A"}},null,null,null,null,null,null,null,null,null,null,{"$f":"VLOOKUP(B815,'(1) Project Reference Item List'!$B$2:$D$1000,3,FALSE)","v":{"$error":"#N/A"}},null,null,0,0]
[{"$f":"VLOOKUP(B816,'(1) Project Reference Item List'!$B$2:$C$1000,2,FALSE)","v":{"$error":"#N/A"}},null,null,null,null,null,null,null,null,null,null,{"$f":"VLOOKUP(B816,'(1) Project Reference Item List'!$B$2:$D$1000,3,FALSE)","v":{"$error":"#N/A"}},null,null,0,0]
[{"$f":"VLOOKUP(B817,'(1) Project Reference Item List'!$B$2:$C$1000,2,FALSE)","v":{"$error":"#N/A"}},null,null,null,null,null,null,null,null,null,null,{"$f":"VLOOKUP(B817,'(1) Project Reference Item List'!$B$2:$D$1000,3,FALSE)","v":{"$error":"#N/A"}},null,null,0,0]
[{"$f":"VLOOKUP(B818,'(1) Project Reference Item List'!$B$2:$C$1000,2,FALSE)","v":{"$error":"#N/A"}},null,null,null,null,null,null,null,null,null,null,{"$f":"VLOOKUP(B818,'(1) Project Reference Item List'!$B$2:$D$1000,3,FALSE)","v":{"$error":"#N/A"}},null,null,0,0]
[{"$f":"VLOOKUP(B819,'(1) Project Reference Item List'!$B$2:$C$1000,2,FALSE)","v":{"$error":"#N/A"}},null,null,null,null,null,null,null,null,null,null,{"$f":"VLOOKUP(B819,'(1) Project Reference Item List'!$B$2:$D$1000,3,FALSE)","v":{"$error":"#N/A"}},null,null,0,0]
[{"$f":"VLOOKUP(B820,'(1) Project Reference Item List'!$B$2:$C$1000,2,FALSE)","v":{"$error":"#N/A"}},null,null,null,null,null,null,null,null,null,null,{"$f":"VLOOKUP(B820,'(1) Project Reference Item List'!$B$2:$D$1000,3,FALSE)","v":{"$error":"#N/A"}},null,null,0,0]
[{"$f":"VLOOKUP(B821,'(1) Project Reference Item List'!$B$2:$C$1000,2,FALSE)","v":{"$error":"#N/A"}},null,null,null,null,null,null,null,null,null,null,{"$f":"VLOOKUP(B821,'(1) Project Reference Item List'!$B$2:$D$1000,3,FALSE)","v":{"$error":"#N/A"}},null,null,0,0]
[{"$f":"VLOOKUP(B822,'(1) Project Reference Item List'!$B$2:$C$1000,2,FALSE)","v":{"$error":"#N/A"}},null,null,null,null,null,null,null,null,null,null,{"$f":"VLOOKUP(B822,'(1) Project Reference Item List'!$B$2:$D$1000,3,FALSE)","v":{"$error":"#N/A"}},null,null,0,0]
[{"$f":"VLOOKUP(B823,'(1) Project Reference Item List'!$B$2:$C$1000,2,FALSE)","v":{"$error":"#N/A"}},null,null,null,null,null,null,null,null,null,null,{"$f":"VLOOKUP(B823,'(1) Project Reference Item List'!$B$2:$D$1000,3,FALSE)","v":{"$error":"#N/A"}},null,null,0,0]
[{"$f":"VLOOKUP(B824,'(1) Project Reference Item List'!$B$2:$C$1000,2,FALSE)","v":{"$error":"#N/A"}},null,null,null,null,null,null,null,null,null,null,{"$f":"VLOOKUP(B824,'(1) Project Reference Item List'!$B$2:$D$1000,3,FALSE)","v":{"$error":"#N/A"}},null,null,0,0]
[{"$f":"VLOOKUP(B825,'(1) Project Reference Item List'!$B$2:$C$1000,2,FALSE)","v":{"$error":"#N/A"}},null,null,null,null,null,null,null,null,null,null,{"$f":"VLOOKUP(B825,'(1) Project Reference Item List'!$B$2:$D$1000,3,FALSE)","v":{"$error":"#N/A"}},null,null,0,0]
[{"$f":"VLOOKUP(B826,'(1) Project Reference Item List'!$B$2:$C$1000,2,FALSE)","v":{"$error":"#N/A"}},null,null,null,null,null,null,null,null,null,null,{"$f":"VLOOKUP(B826,'(1) Project Reference Item List'!$B$2:$D$1000,3,FALSE)","v":{"$error":"#N/A"}},null,null,0,0]
[{"$f":"VLOOKUP(B827,'(1) Project Reference Item List'!$B$2:$C$1000,2,FALSE)","v":{"$error":"#N/A"}},null,null,null,null,null,null,null,null,null,null,{"$f":"VLOOKUP(B827,'(1) Project Reference Item List'!$B$2:$D$1000,3,FALSE)","v":{"$error":"#N/A"}},null,null,0,0]
[{"$f":"VLOOKUP(B828,'(1) Project Reference Item List'!$B$2:$C$1000,2,FALSE)","v":{"$error":"#N/A"}},null,null,null,null,null,null,null,null,null,null,{"$f":"VLOOKUP(B828,'(1) Project Reference Item List'!$B$2:$D$1000,3,FALSE)","v":{"$error":"#N/A"}},null,null,0,0]
[{"$f":"VLOOKUP(B829,'(1) Project Reference Item List'!$B$2:$C$1000,2,FALSE)","v":{"$error":"#N/A"}},null,null,null,null,null,null,null,null,null,null,{"$f":"VLOOKUP(B829,'(1) Project Reference Item List'!$B$2:$D$1000,3,FALSE)","v":{"$error":"#N/A"}},null,null,0,0]
[{"$f":"VLOOKUP(B830,'(1) Project Reference Item List'!$B$2:$C$1000,2,FALSE)","v":{"$error":"#N/A"}},null,null,null,null,null,null,null,null,null,null,{"$f":"VLOOKUP(B830,'(1) Project Reference Item List'!$B$2:$D$1000,3,FALSE)","v":{"$error":"#N/A"}},null,null,0,0]
[{"$f":"VLOOKUP(B831,'(1) Project Reference Item List'!$B$2:$C$1000,2,FALSE)","v":{"$error":"#N/A"}},null,null,null,null,null,null,null,null,null,null,{"$f":"VLOOKUP(B831,'(1) Project Reference Item List'!$B$2:$D$1000,3,FALSE)","v":{"$error":"#N/A"}},null,null,0,0]
[{"$f":"VLOOKUP(B832,'(1) Project Reference Item List'!$B$2:$C$1000,2,FALSE)","v":{"$error":"#N/A"}},null,null,null,null,null,null,null,null,null,null,{"$f":"VLOOKUP(B832,'(1) Project Reference Item List'!$B$2:$D$1000,3,FALSE)","v":{"$error":"#N/A"}},null,null,0,0]
[{"$f":"VLOOKUP(B833,'(1) Project Reference Item List'!$B$2:$C$1000,2,FALSE)","v":{"$error":"#N/A"}},null,null,null,null,null,null,null,null,null,null,{"$f":"VLOOKUP(B833,'(1) Project Reference Item List'!$B$2:$D$1000,3,FALSE)","v":{"$error":"#N/A"}},null,null,0,0]
[{"$f":"VLOOKUP(B834,'(1) Project Reference Item List'!$B$2:$C$1000,2,FALSE)","v":{"$error":"#N/A"}},null,null,null,null,null,null,null,null,null,null,{"$f":"VLOOKUP(B834,'(1) Project Reference Item List'!$B$2:$D$1000,3,FALSE)","v":{"$error":"#N/A"}},null,null,0,0]
[{"$f":"VLOOKUP(B835,'(1) Project Reference Item List'!$B$2:$C$1000,2,FALSE)","v":{"$error":"#N/A"}},null,null,null,null,null,null,null,null,null,null,{"$f":"VLOOKUP(B835,'(1) Project Reference Item List'!$B$2:$D$1000,3,FALSE)","v":{"$error":"#N/A"}},null,null,0,0]
[{"$f":"VLOOKUP(B836,'(1) Project Reference Item List'!$B$2:$C$1000,2,FALSE)","v":{"$error":"#N/A"}},null,null,null,null,null,null,null,null,null,null,{"$f":"VLOOKUP(B836,'(1) Project Reference Item List'!$B$2:$D$1000,3,FALSE)","v":{"$error":"#N/A"}},null,null,0,0]
[{"$f":"VLOOKUP(B837,'(1) Project Reference Item List'!$B$2:$C$1000,2,FALSE)","v":{"$error":"#N/A"}},null,null,null,null,null,null,null,null,null,null,{"$f":"VLOOKUP(B837,'(1) Project Reference Item List'!$B$2:$D$1000,3,FALSE)","v":{"$error":"#N/A"}},null,null,0,0]
[{"$f":"VLOOKUP(B838,'(1) Project Reference Item List'!$B$2:$C$1000,2,FALSE)","v":{"$error":"#N/A"}},null,null,null,null,null,null,null,null,null,null,{"$f":"VLOOKUP(B838,'(1) Project Reference Item List'!$B$2:$D$1000,3,FALSE)","v":{"$error":"#N/A"}},null,null,{"$f":"IF(J838=0,J838,J838*N838)","v":0},{"$f":"(M838-O838)","v":0}]
[{"$f":"VLOOKUP(B839,'(1) Project Reference Item List'!$B$2:$C$1000,2,FALSE)","v":{"$error":"#N/A"}},null,null,null,null,null,null,null,null,null,null,{"$f":"VLOOKUP(B839,'(1) Project Reference Item List'!$B$2:$D$1000,3,FALSE)","v":{"$error":"#N/A"}},null,null,0,0]
[{"$f":"VLOOKUP(B840,'(1) Project Reference Item List'!$B$2:$C$1000,2,FALSE)","v":{"$error":"#N/A"}},null,null,null,null,null,null,null,null,null,null,{"$f":"VLOOKUP(B840,'(1) Project Reference Item List'!$B$2:$D$1000,3,FALSE)","v":{"$error":"#N/A"}},null,null,0,0]
[{"$f":"VLOOKUP(B841,'(1) Project Reference Item List'!$B$2:$C$1000,2,FALSE)","v":{"$error":"#N/A"}},null,null,null,null,null,null,null,null,null,null,{"$f":"VLOOKUP(B841,'(1) Project Reference Item List'!$B$2:$D$1000,3,FALSE)","v":{"$error":"#N/A"}},null,null,0,0]
[{"$f":"VLOOKUP(B842,'(1) Project Reference Item List'!$B$2:$C$1000,2,FALSE)","v":{"$error":"#N/A"}},null,null,null,null,null,null,null,null,null,null,{"$f":"VLOOKUP(B842,'(1) Project Reference Item List'!$B$2:$D$1000,3,FALSE)","v":{"$error":"#N/A"}},null,null,0,0]
[{"$f":"VLOOKUP(B843,'(1) Project Reference Item List'!$B$2:$C$1000,2,FALSE)","v":{"$error":"#N/A"}},null,null,null,null,null,null,null,null,null,null,{"$f":"VLOOKUP(B843,'(1) Project Reference Item List'!$B$2:$D$1000,3,FALSE)","v":{"$error":"#N/A"}},null,null,0,0]
[{"$f":"VLOOKUP(B844,'(1) Project Reference Item List'!$B$2:$C$1000,2,FALSE)","v":{"$error":"#N/A"}},null,null,null,null,null,null,null,null,null,null,{"$f":"VLOOKUP(B844,'(1) Project Reference Item List'!$B$2:$D$1000,3,FALSE)","v":{"$error":"#N/A"}},null,null,0,0]
[{"$f":"VLOOKUP(B845,'(1) Project Reference Item List'!$B$2:$C$1000,2,FALSE)","v":{"$error":"#N/A"}},null,null,null,null,null,null,null,null,null,null,{"$f":"VLOOKUP(B845,'(1) Project Reference Item List'!$B$2:$D$1000,3,FALSE)","v":{"$error":"#N/A"}},null,null,0,0]
[{"$f":"VLOOKUP(B846,'(1) Project Reference Item List'!$B$2:$C$1000,2,FALSE)","v":{"$error":"#N/A"}},null,null,null,null,null,null,null,null,null,null,{"$f":"VLOOKUP(B846,'(1) Project Reference Item List'!$B$2:$D$1000,3,FALSE)","v":{"$error":"#N/A"}},null,null,0,0]
[{"$f":"VLOOKUP(B847,'(1) Project Reference Item List'!$B$2:$C$1000,2,FALSE)","v":{"$error":"#N/A"}},null,null,null,null,null,null,null,null,null,null,{"$f":"VLOOKUP(B847,'(1) Project Reference Item List'!$B$2:$D$1000,3,FALSE)","v":{"$error":"#N/A"}},null,null,0,0]
[{"$f":"VLOOKUP(B848,'(1) Project Reference Item List'!$B$2:$C$1000,2,FALSE)","v":{"$error":"#N/A"}},null,null,null,null,null,null,null,null,null,null,{"$f":"VLOOKUP(B848,'(1) Project Reference Item List'!$B$2:$D$1000,3,FALSE)","v":{"$error":"#N/A"}},null,null,0,0]
[{"$f":"VLOOKUP(B849,'(1) Project Reference Item List'!$B$2:$C$1000,2,FALSE)","v":{"$error":"#N/A"}},null,null,null,null,null,null,null,null,null,null,{"$f":"VLOOKUP(B849,'(1) Project Reference Item List'!$B$2:$D$1000,3,FALSE)","v":{"$error":"#N/A"}},null,null,0,0]
[{"$f":"VLOOKUP(B850,'(1) Project Reference Item List'!$B$2:$C$1000,2,FALSE)","v":{"$error":"#N/A"}},null,null,null,null,null,null,null,null,null,null,{"$f":"VLOOKUP(B850,'(1) Project Reference Item List'!$B$2:$D$1000,3,FALSE)","v":{"$error":"#N/A"}},null,null,0,0]
[{"$f":"VLOOKUP(B851,'(1) Project Reference Item List'!$B$2:$C$1000,2,FALSE)","v":{"$error":"#N/A"}},null,null,null,null,null,null,null,null,null,null,{"$f":"VLOOKUP(B851,'(1) Project Reference Item List'!$B$2:$D$1000,3,FALSE)","v":{"$error":"#N/A"}},null,null,0,0]
[{"$f":"VLOOKUP(B852,'(1) Project Reference Item List'!$B$2:$C$1000,2,FALSE)","v":{"$error":"#N/A"}},null,null,null,null,null,null,null,null,null,null,{"$f":"VLOOKUP(B852,'(1) Project Reference Item List'!$B$2:$D$1000,3,FALSE)","v":{"$error":"#N/A"}},null,null,0,0]
[{"$f":"VLOOKUP(B853,'(1) Project Reference Item List'!$B$2:$C$1000,2,FALSE)","v":{"$error":"#N/A"}},null,null,null,null,null,null,null,null,null,null,{"$f":"VLOOKUP(B853,'(1) Project Reference Item List'!$B$2:$D$1000,3,FALSE)","v":{"$error":"#N/A"}},null,null,0,0]
[{"$f":"VLOOKUP(B854,'(1) Project Reference Item List'!$B$2:$C$1000,2,FALSE)","v":{"$error":"#N/A"}},null,null,null,null,null,null,null,null,null,null,{"$f":"VLOOKUP(B854,'(1) Project Reference Item List'!$B$2:$D$1000,3,FALSE)","v":{"$error":"#N/A"}},null,null,0,0]
[{"$f":"VLOOKUP(B855,'(1) Project Reference Item List'!$B$2:$C$1000,2,FALSE)","v":{"$error":"#N/A"}},null,null,null,null,null,null,null,null,null,null,{"$f":"VLOOKUP(B855,'(1) Project Reference Item List'!$B$2:$D$1000,3,FALSE)","v":{"$error":"#N/A"}},null,null,0,0]
[{"$f":"VLOOKUP(B856,'(1) Project Reference Item List'!$B$2:$C$1000,2,FALSE)","v":{"$error":"#N/A"}},null,null,null,null,null,null,null,null,null,null,{"$f":"VLOOKUP(B856,'(1) Project Reference Item List'!$B$2:$D$1000,3,FALSE)","v":{"$error":"#N/A"}},null,null,0,0]
[{"$f":"VLOOKUP(B857,'(1) Project Reference Item List'!$B$2:$C$1000,2,FALSE)","v":{"$error":"#N/A"}},null,null,null,null,null,null,null,null,null,null,{"$f":"VLOOKUP(B857,'(1) Project Reference Item List'!$B$2:$D$1000,3,FALSE)","v":{"$error":"#N/A"}},null,null,0,0]
[{"$f":"VLOOKUP(B858,'(1) Project Reference Item List'!$B$2:$C$1000,2,FALSE)","v":{"$error":"#N/A"}},null,null,null,null,null,null,null,null,null,null,{"$f":"VLOOKUP(B858,'(1) Project Reference Item List'!$B$2:$D$1000,3,FALSE)","v":{"$error":"#N/A"}},null,null,0,0]
[{"$f":"VLOOKUP(B859,'(1) Project Reference Item List'!$B$2:$C$1000,2,FALSE)","v":{"$error":"#N/A"}},null,null,null,null,null,null,null,null,null,null,{"$f":"VLOOKUP(B859,'(1) Project Reference Item List'!$B$2:$D$1000,3,FALSE)","v":{"$error":"#N/A"}},null,null,0,0]
[{"$f":"VLOOKUP(B860,'(1) Project Reference Item List'!$B$2:$C$1000,2,FALSE)","v":{"$error":"#N/A"}},null,null,null,null,null,null,null,null,null,null,{"$f":"VLOOKUP(B860,'(1) Project Reference Item List'!$B$2:$D$1000,3,FALSE)","v":{"$error":"#N/A"}},null,null,0,0]
[{"$f":"VLOOKUP(B861,'(1) Project Reference Item List'!$B$2:$C$1000,2,FALSE)","v":{"$error":"#N/A"}},null,null,null,null,null,null,null,null,null,null,{"$f":"VLOOKUP(B861,'(1) Project Reference Item List'!$B$2:$D$1000,3,FALSE)","v":{"$error":"#N/A"}},null,null,0,0]
[{"$f":"VLOOKUP(B862,'(1) Project Reference Item List'!$B$2:$C$1000,2,FALSE)","v":{"$error":"#N/A"}},null,null,null,null,null,null,null,null,null,null,{"$f":"VLOOKUP(B862,'(1) Project Reference Item List'!$B$2:$D$1000,3,FALSE)","v":{"$error":"#N/A"}},null,null,0,0]
[{"$f":"VLOOKUP(B863,'(1) Project Reference Item List'!$B$2:$C$1000,2,FALSE)","v":{"$error":"#N/A"}},null,null,null,null,null,null,null,null,null,null,{"$f":"VLOOKUP(B863,'(1) Project Reference Item List'!$B$2:$D$1000,3,FALSE)","v":{"$error":"#N/A"}},null,null,0,0]
[{"$f":"VLOOKUP(B864,'(1) Project Reference Item List'!$B$2:$C$1000,2,FALSE)","v":{"$error":"#N/A"}},null,null,null,null,null,null,null,null,null,null,{"$f":"VLOOKUP(B864,'(1) Project Reference Item List'!$B$2:$D$1000,3,FALSE)","v":{"$error":"#N/A"}},null,null,0,0]
[{"$f":"VLOOKUP(B865,'(1) Project Reference Item List'!$B$2:$C$1000,2,FALSE)","v":{"$error":"#N/A"}},null,null,null,null,null,null,null,null,null,null,{"$f":"VLOOKUP(B865,'(1) Project Reference Item List'!$B$2:$D$1000,3,FALSE)","v":{"$error":"#N/A"}},null,null,0,0]
[{"$f":"VLOOKUP(B866,'(1) Project Reference Item List'!$B$2:$C$1000,2,FALSE)","v":{"$error":"#N/A"}},null,null,null,null,null,null,null,null,null,null,{"$f":"VLOOKUP(B866,'(1) Project Reference Item List'!$B$2:$D$1000,3,FALSE)","v":{"$error":"#N/A"}},null,null,0,0]
[{"$f":"VLOOKUP(B867,'(1) Project Reference Item List'!$B$2:$C$1000,2,FALSE)","v":{"$error":"#N/A"}},null,null,null,null,null,null,null,null,null,null,{"$f":"VLOOKUP(B867,'(1) Project Reference Item List'!$B$2:$D$1000,3,FALSE)","v":{"$error":"#N/A"}},null,null,0,0]
[{"$f":"VLOOKUP(B868,'(1) Project Reference Item List'!$B$2:$C$1000,2,FALSE)","v":{"$error":"#N/A"}},null,null,null,null,null,null,null,null,null,null,{"$f":"VLOOKUP(B868,'(1) Project Reference Item List'!$B$2:$D$1000,3,FALSE)","v":{"$error":"#N/A"}},null,null,0,0]
[{"$f":"VLOOKUP(B869,'(1) Project Reference Item List'!$B$2:$C$1000,2,FALSE)","v":{"$error":"#N/A"}},null,null,null,null,null,null,null,null,null,null,{"$f":"VLOOKUP(B869,'(1) Project Reference Item List'!$B$2:$D$1000,3,FALSE)","v":{"$error":"#N/A"}},null,null,0,0]
[{"$f":"VLOOKUP(B870,'(1) Project Reference Item List'!$B$2:$C$1000,2,FALSE)","v":{"$error":"#N/A"}},null,null,null,null,null,null,null,null,null,null,{"$f":"VLOOKUP(B870,'(1) Project Reference Item List'!$B$2:$D$1000,3,FALSE)","v":{"$error":"#N/A"}},null,null,0,0]
[{"$f":"VLOOKUP(B871,'(1) Project Reference Item List'!$B$2:$C$1000,2,FALSE)","v":{"$error":"#N/A"}},null,null,null,null,null,null,null,null,null,null,{"$f":"VLOOKUP(B871,'(1) Project Reference Item List'!$B$2:$D$1000,3,FALSE)","v":{"$error":"#N/A"}},null,null,0,0]
[{"$f":"VLOOKUP(B872,'(1) Project Reference Item List'!$B$2:$C$1000,2,FALSE)","v":{"$error":"#N/A"}},null,null,null,null,null,null,null,null,null,null,{"$f":"VLOOKUP(B872,'(1) Project Reference Item List'!$B$2:$D$1000,3,FALSE)","v":{"$error":"#N/A"}},null,null,0,0]
[{"$f":"VLOOKUP(B873,'(1) Project Reference Item List'!$B$2:$C$1000,2,FALSE)","v":{"$error":"#N/A"}},null,null,null,null,null,null,null,null,null,null,{"$f":"VLOOKUP(B873,'(1) Project Reference Item List'!$B$2:$D$1000,3,FALSE)","v":{"$error":"#N/A"}},null,null,0,0]
[{"$f":"VLOOKUP(B874,'(1) Project Reference Item List'!$B$2:$C$1000,2,FALSE)","v":{"$error":"#N/A"}},null,null,null,null,null,null,null,null,null,null,{"$f":"VLOOKUP(B874,'(1) Project Reference Item List'!$B$2:$D$1000,3,FALSE)","v":{"$error":"#N/A"}},null,null,0,0]
[{"$f":"VLOOKUP(B875,'(1) Project Reference Item List'!$B$2:$C$1000,2,FALSE)","v":{"$error":"#N/A"}},null,null,null,null,null,null,null,null,null,null,{"$f":"VLOOKUP(B875,'(1) Project Reference Item List'!$B$2:$D$1000,3,FALSE)","v":{"$error":"#N/A"}},null,null,0,0]
[{"$f":"VLOOKUP(B876,'(1) Project Reference Item List'!$B$2:$C$1000,2,FALSE)","v":{"$error":"#N/A"}},null,null,null,null,null,null,null,null,null,null,{"$f":"VLOOKUP(B876,'(1) Project Reference Item List'!$B$2:$D$1000,3,FALSE)","v":{"$error":"#N/A"}},null,null,0,0]
[{"$f":"VLOOKUP(B877,'(1) Project Reference Item List'!$B$2:$C$1000,2,FALSE)","v":{"$error":"#N/A"}},null,null,null,null,null,null,null,null,null,null,{"$f":"VLOOKUP(B877,'(1) Project Reference Item List'!$B$2:$D$1000,3,FALSE)","v":{"$error":"#N/A"}},null,null,0,0]
[{"$f":"VLOOKUP(B878,'(1) Project Reference Item List'!$B$2:$C$1000,2,FALSE)","v":{"$error":"#N/A"}},null,null,null,null,null,null,null,null,null,null,{"$f":"VLOOKUP(B878,'(1) Project Reference Item List'!$B$2:$D$1000,3,FALSE)","v":{"$error":"#N/A"}},null,null,0,0]
[{"$f":"VLOOKUP(B879,'(1) Project Reference Item List'!$B$2:$C$1000,2,FALSE)","v":{"$error":"#N/A"}},null,null,null,null,null,null,null,null,null,null,{"$f":"VLOOKUP(B879,'(1) Project Reference Item List'!$B$2:$D$1000,3,FALSE)","v":{"$error":"#N/A"}},null,null,0,0]
[{"$f":"VLOOKUP(B880,'(1) Project Reference Item List'!$B$2:$C$1000,2,FALSE)","v":{"$error":"#N/A"}},null,null,null,null,null,null,null,null,null,null,{"$f":"VLOOKUP(B880,'(1) Project Reference Item List'!$B$2:$D$1000,3,FALSE)","v":{"$error":"#N/A"}},null,null,0,0]
[{"$f":"VLOOKUP(B881,'(1) Project Reference Item List'!$B$2:$C$1000,2,FALSE)","v":{"$error":"#N/A"}},null,null,null,null,null,null,null,null,null,null,{"$f":"VLOOKUP(B881,'(1) Project Reference Item List'!$B$2:$D$1000,3,FALSE)","v":{"$error":"#N/A"}},null,null,0,0]
[{"$f":"VLOOKUP(B882,'(1) Project Reference Item List'!$B$2:$C$1000,2,FALSE)","v":{"$error":"#N/A"}},null,null,null,null,null,null,null,null,null,null,{"$f":"VLOOKUP(B882,'(1) Project Reference Item List'!$B$2:$D$1000,3,FALSE)","v":{"$error":"#N/A"}},null,null,0,0]
[{"$f":"VLOOKUP(B883,'(1) Project Reference Item List'!$B$2:$C$1000,2,FALSE)","v":{"$error":"#N/A"}},null,null,null,null,null,null,null,null,null,null,{"$f":"VLOOKUP(B883,'(1) Project Reference Item List'!$B$2:$D$1000,3,FALSE)","v":{"$error":"#N/A"}},null,null,0,0]
[{"$f":"VLOOKUP(B884,'(1) Project Reference Item List'!$B$2:$C$1000,2,FALSE)","v":{"$error":"#N/A"}},null,null,null,null,null,null,null,null,null,null,{"$f":"VLOOKUP(B884,'(1) Project Reference Item List'!$B$2:$D$1000,3,FALSE)","v":{"$error":"#N/A"}},null,null,0,0]
[{"$f":"VLOOKUP(B885,'(1) Project Reference Item List'!$B$2:$C$1000,2,FALSE)","v":{"$error":"#N/A"}},null,null,null,null,null,null,null,null,null,null,{"$f":"VLOOKUP(B885,'(1) Project Reference Item List'!$B$2:$D$1000,3,FALSE)","v":{"$error":"#N/A"}},null,null,0,0]
[{"$f":"VLOOKUP(B886,'(1) Project Reference Item List'!$B$2:$C$1000,2,FALSE)","v":{"$error":"#N/A"}},null,null,null,null,null,null,null,null,null,null,{"$f":"VLOOKUP(B886,'(1) Project Reference Item List'!$B$2:$D$1000,3,FALSE)","v":{"$error":"#N/A"}},null,null,0,0]
[{"$f":"VLOOKUP(B887,'(1) Project Reference Item List'!$B$2:$C$1000,2,FALSE)","v":{"$error":"#N/A"}},null,null,null,null,null,null,null,null,null,null,{"$f":"VLOOKUP(B887,'(1) Project Reference Item List'!$B$2:$D$1000,3,FALSE)","v":{"$error":"#N/A"}},null,null,0,0]
[{"$f":"VLOOKUP(B888,'(1) Project Reference Item List'!$B$2:$C$1000,2,FALSE)","v":{"$error":"#N/A"}},null,null,null,null,null,null,null,null,null,null,{"$f":"VLOOKUP(B888,'(1) Project Reference Item List'!$B$2:$D$1000,3,FALSE)","v":{"$error":"#N/A"}},null,null,0,0]
[{"$f":"VLOOKUP(B889,'(1) Project Reference Item List'!$B$2:$C$1000,2,FALSE)","v":{"$error":"#N/A"}},null,null,null,null,null,null,null,null,null,null,{"$f":"VLOOKUP(B889,'(1) Project Reference Item List'!$B$2:$D$1000,3,FALSE)","v":{"$error":"#N/A"}},null,null,0,0]
[{"$f":"VLOOKUP(B890,'(1) Project Reference Item List'!$B$2:$C$1000,2,FALSE)","v":{"$error":"#N/A"}},null,null,null,null,null,null,null,null,null,null,{"$f":"VLOOKUP(B890,'(1) Project Reference Item List'!$B$2:$D$1000,3,FALSE)","v":{"$error":"#N/A"}},null,null,0,0]
[{"$f":"VLOOKUP(B891,'(1) Project Reference Item List'!$B$2:$C$1000,2,FALSE)","v":{"$error":"#N/A"}},null,null,null,null,null,null,null,null,null,null,{"$f":"VLOOKUP(B891,'(1) Project Reference Item List'!$B$2:$D$1000,3,FALSE)","v":{"$error":"#N/A"}},null,null,0,0]
[{"$f":"VLOOKUP(B892,'(1) Project Reference Item List'!$B$2:$C$1000,2,FALSE)","v":{"$error":"#N/A"}},null,null,null,null,null,null,null,null,null,null,{"$f":"VLOOKUP(B892,'(1) Project Reference Item List'!$B$2:$D$1000,3,FALSE)","v":{"$error":"#N/A"}},null,null,0,0]
[{"$f":"VLOOKUP(B893,'(1) Project Reference Item List'!$B$2:$C$1000,2,FALSE)","v":{"$error":"#N/A"}},null,null,null,null,null,null,null,null,null,null,{"$f":"VLOOKUP(B893,'(1) Project Reference Item List'!$B$2:$D$1000,3,FALSE)","v":{"$error":"#N/A"}},null,null,0,0]
[{"$f":"VLOOKUP(B894,'(1) Project Reference Item List'!$B$2:$C$1000,2,FALSE)","v":{"$error":"#N/A"}},null,null,null,null,null,null,null,null,null,null,{"$f":"VLOOKUP(B894,'(1) Project Reference Item List'!$B$2:$D$1000,3,FALSE)","v":{"$error":"#N/A"}},null,null,0,0]
[{"$f":"VLOOKUP(B895,'(1) Project Reference Item List'!$B$2:$C$1000,2,FALSE)","v":{"$error":"#N/A"}},null,null,null,null,null,null,null,null,null,null,{"$f":"VLOOKUP(B895,'(1) Project Reference Item List'!$B$2:$D$1000,3,FALSE)","v":{"$error":"#N/A"}},null,null,0,0]
[{"$f":"VLOOKUP(B896,'(1) Project Reference Item List'!$B$2:$C$1000,2,FALSE)","v":{"$error":"#N/A"}},null,null,null,null,null,null,null,null,null,null,{"$f":"VLOOKUP(B896,'(1) Project Reference Item List'!$B$2:$D$1000,3,FALSE)","v":{"$error":"#N/A"}},null,null,0,0]
[{"$f":"VLOOKUP(B897,'(1) Project Reference Item List'!$B$2:$C$1000,2,FALSE)","v":{"$error":"#N/A"}},null,null,null,null,null,null,null,null,null,null,{"$f":"VLOOKUP(B897,'(1) Project Reference Item List'!$B$2:$D$1000,3,FALSE)","v":{"$error":"#N/A"}},null,null,0,0]
[{"$f":"VLOOKUP(B898,'(1) Project Reference Item List'!$B$2:$C$1000,2,FALSE)","v":{"$error":"#N/A"}},null,null,null,null,null,null,null,null,null,null,{"$f":"VLOOKUP(B898,'(1) Project Reference Item List'!$B$2:$D$1000,3,FALSE)","v":{"$error":"#N/A"}},null,null,0,0]
[{"$f":"VLOOKUP(B899,'(1) Project Reference Item List'!$B$2:$C$1000,2,FALSE)","v":{"$error":"#N/A"}},null,null,null,null,null,null,null,null,null,null,{"$f":"VLOOKUP(B899,'(1) Project Reference Item List'!$B$2:$D$1000,3,FALSE)","v":{"$error":"#N/A"}},null,null,0,0]
[{"$f":"VLOOKUP(B900,'(1) Project Reference Item List'!$B$2:$C$1000,2,FALSE)","v":{"$error":"#N/A"}},null,null,null,null,null,null,null,null,null,null,{"$f":"VLOOKUP(B900,'(1) Project Reference Item List'!$B$2:$D$1000,3,FALSE)","v":{"$error":"#N/A"}},null,null,0,0]
[{"$f":"VLOOKUP(B901,'(1) Project Reference Item List'!$B$2:$C$1000,2,FALSE)","v":{"$error":"#N/A"}},null,null,null,null,null,null,null,null,null,null,{"$f":"VLOOKUP(B901,'(1) Project Reference Item List'!$B$2:$D$1000,3,FALSE)","v":{"$error":"#N/A"}},null,null,0,0]
[{"$f":"VLOOKUP(B902,'(1) Project Reference Item List'!$B$2:$C$1000,2,FALSE)","v":{"$error":"#N/A"}},null,null,null,null,null,null,null,null,null,null,{"$f":"VLOOKUP(B902,'(1) Project Reference Item List'!$B$2:$D$1000,3,FALSE)","v":{"$error":"#N/A"}},null,null,{"$f":"IF(J902=0,J902,J902*N902)","v":0},{"$f":"(M902-O902)","v":0}]
[{"$f":"VLOOKUP(B903,'(1) Project Reference Item List'!$B$2:$C$1000,2,FALSE)","v":{"$error":"#N/A"}},null,null,null,null,null,null,null,null,null,null,{"$f":"VLOOKUP(B903,'(1) Project Reference Item List'!$B$2:$D$1000,3,FALSE)","v":{"$error":"#N/A"}},null,null,0,0]
[{"$f":"VLOOKUP(B904,'(1) Project Reference Item List'!$B$2:$C$1000,2,FALSE)","v":{"$error":"#N/A"}},null,null,null,null,null,null,null,null,null,null,{"$f":"VLOOKUP(B904,'(1) Project Reference Item List'!$B$2:$D$1000,3,FALSE)","v":{"$error":"#N/A"}},null,null,0,0]
[{"$f":"VLOOKUP(B905,'(1) Project Reference Item List'!$B$2:$C$1000,2,FALSE)","v":{"$error":"#N/A"}},null,null,null,null,null,null,null,null,null,null,{"$f":"VLOOKUP(B905,'(1) Project Reference Item List'!$B$2:$D$1000,3,FALSE)","v":{"$error":"#N/A"}},null,null,0,0]
[{"$f":"VLOOKUP(B906,'(1) Project Reference Item List'!$B$2:$C$1000,2,FALSE)","v":{"$error":"#N/A"}},null,null,null,null,null,null,null,null,null,null,{"$f":"VLOOKUP(B906,'(1) Project Reference Item List'!$B$2:$D$1000,3,FALSE)","v":{"$error":"#N/A"}},null,null,0,0]
[{"$f":"VLOOKUP(B907,'(1) Project Reference Item List'!$B$2:$C$1000,2,FALSE)","v":{"$error":"#N/A"}},null,null,null,null,null,null,null,null,null,null,{"$f":"VLOOKUP(B907,'(1) Project Reference Item List'!$B$2:$D$1000,3,FALSE)","v":{"$error":"#N/A"}},null,null,0,0]
[{"$f":"VLOOKUP(B908,'(1) Project Reference Item List'!$B$2:$C$1000,2,FALSE)","v":{"$error":"#N/A"}},null,null,null,null,null,null,null,null,null,null,{"$f":"VLOOKUP(B908,'(1) Project Reference Item List'!$B$2:$D$1000,3,FALSE)","v":{"$error":"#N/A"}},null,null,0,0]
[{"$f":"VLOOKUP(B909,'(1) Project Reference Item List'!$B$2:$C$1000,2,FALSE)","v":{"$error":"#N/A"}},null,null,null,null,null,null,null,null,null,null,{"$f":"VLOOKUP(B909,'(1) Project Reference Item List'!$B$2:$D$1000,3,FALSE)","v":{"$error":"#N/A"}},null,null,0,0]
[{"$f":"VLOOKUP(B910,'(1) Project Reference Item List'!$B$2:$C$1000,2,FALSE)","v":{"$error":"#N/A"}},null,null,null,null,null,null,null,null,null,null,{"$f":"VLOOKUP(B910,'(1) Project Reference Item List'!$B$2:$D$1000,3,FALSE)","v":{"$error":"#N/A"}},null,null,0,0]
[{"$f":"VLOOKUP(B911,'(1) Project Reference Item List'!$B$2:$C$1000,2,FALSE)","v":{"$error":"#N/A"}},null,null,null,null,null,null,null,null,null,null,{"$f":"VLOOKUP(B911,'(1) Project Reference Item List'!$B$2:$D$1000,3,FALSE)","v":{"$error":"#N/A"}},null,null,0,0]
[{"$f":"VLOOKUP(B912,'(1) Project Reference Item List'!$B$2:$C$1000,2,FALSE)","v":{"$error":"#N/A"}},null,null,null,null,null,null,null,null,null,null,{"$f":"VLOOKUP(B912,'(1) Project Reference Item List'!$B$2:$D$1000,3,FALSE)","v":{"$error":"#N/A"}},null,null,0,0]
[{"$f":"VLOOKUP(B913,'(1) Project Reference Item List'!$B$2:$C$1000,2,FALSE)","v":{"$error":"#N/A"}},null,null,null,null,null,null,null,null,null,null,{"$f":"VLOOKUP(B913,'(1) Project Reference Item List'!$B$2:$D$1000,3,FALSE)","v":{"$error":"#N/A"}},null,null,0,0]
[{"$f":"VLOOKUP(B914,'(1) Project Reference Item List'!$B$2:$C$1000,2,FALSE)","v":{"$error":"#N/A"}},null,null,null,null,null,null,null,null,null,null,{"$f":"VLOOKUP(B914,'(1) Project Reference Item List'!$B$2:$D$1000,3,FALSE)","v":{"$error":"#N/A"}},null,null,0,0]
[{"$f":"VLOOKUP(B915,'(1) Project Reference Item List'!$B$2:$C$1000,2,FALSE)","v":{"$error":"#N/A"}},null,null,null,null,null,null,null,null,null,null,{"$f":"VLOOKUP(B915,'(1) Project Reference Item List'!$B$2:$D$1000,3,FALSE)","v":{"$error":"#N/A"}},null,null,0,0]
[{"$f":"VLOOKUP(B916,'(1) Project Reference Item List'!$B$2:$C$1000,2,FALSE)","v":{"$error":"#N/A"}},null,null,null,null,null,null,null,null,null,null,{"$f":"VLOOKUP(B916,'(1) Project Reference Item List'!$B$2:$D$1000,3,FALSE)","v":{"$error":"#N/A"}},null,null,0,0]
[{"$f":"VLOOKUP(B917,'(1) Project Reference Item List'!$B$2:$C$1000,2,FALSE)","v":{"$error":"#N/A"}},null,null,null,null,null,null,null,null,null,null,{"$f":"VLOOKUP(B917,'(1) Project Reference Item List'!$B$2:$D$1000,3,FALSE)","v":{"$error":"#N/A"}},null,null,0,0]
[{"$f":"VLOOKUP(B918,'(1) Project Reference Item List'!$B$2:$C$1000,2,FALSE)","v":{"$error":"#N/A"}},null,null,null,null,null,null,null,null,null,null,{"$f":"VLOOKUP(B918,'(1) Project Reference Item List'!$B$2:$D$1000,3,FALSE)","v":{"$error":"#N/A"}},null,null,0,0]
[{"$f":"VLOOKUP(B919,'(1) Project Reference Item List'!$B$2:$C$1000,2,FALSE)","v":{"$error":"#N/A"}},null,null,null,null,null,null,null,null,null,null,{"$f":"VLOOKUP(B919,'(1) Project Reference Item List'!$B$2:$D$1000,3,FALSE)","v":{"$error":"#N/A"}},null,null,0,0]
[{"$f":"VLOOKUP(B920,'(1) Project Reference Item List'!$B$2:$C$1000,2,FALSE)","v":{"$error":"#N/A"}},null,null,null,null,null,null,null,null,null,null,{"$f":"VLOOKUP(B920,'(1) Project Reference Item List'!$B$2:$D$1000,3,FALSE)","v":{"$error":"#N/A"}},null,null,0,0]
[{"$f":"VLOOKUP(B921,'(1) Project Reference Item List'!$B$2:$C$1000,2,FALSE)","v":{"$error":"#N/A"}},null,null,null,null,null,null,null,null,null,null,{"$f":"VLOOKUP(B921,'(1) Project Reference Item List'!$B$2:$D$1000,3,FALSE)","v":{"$error":"#N/A"}},null,null,0,0]
[{"$f":"VLOOKUP(B922,'(1) Project Reference Item List'!$B$2:$C$1000,2,FALSE)","v":{"$error":"#N/A"}},null,null,null,null,null,null,null,null,null,null,{"$f":"VLOOKUP(B922,'(1) Project Reference Item List'!$B$2:$D$1000,3,FALSE)","v":{"$error":"#N/A"}},null,null,0,0]
[{"$f":"VLOOKUP(B923,'(1) Project Reference Item List'!$B$2:$C$1000,2,FALSE)","v":{"$error":"#N/A"}},null,null,null,null,null,null,null,null,null,null,{"$f":"VLOOKUP(B923,'(1) Project Reference Item List'!$B$2:$D$1000,3,FALSE)","v":{"$error":"#N/A"}},null,null,0,0]
[{"$f":"VLOOKUP(B924,'(1) Project Reference Item List'!$B$2:$C$1000,2,FALSE)","v":{"$error":"#N/A"}},null,null,null,null,null,null,null,null,null,null,{"$f":"VLOOKUP(B924,'(1) Project Reference Item List'!$B$2:$D$1000,3,FALSE)","v":{"$error":"#N/A"}},null,null,0,0]
[{"$f":"VLOOKUP(B925,'(1) Project Reference Item List'!$B$2:$C$1000,2,FALSE)","v":{"$error":"#N/A"}},null,null,null,null,null,null,null,null,null,null,{"$f":"VLOOKUP(B925,'(1) Project Reference Item List'!$B$2:$D$1000,3,FALSE)","v":{"$error":"#N/A"}},null,null,0,0]
[{"$f":"VLOOKUP(B926,'(1) Project Reference Item List'!$B$2:$C$1000,2,FALSE)","v":{"$error":"#N/A"}},null,null,null,null,null,null,null,null,null,null,{"$f":"VLOOKUP(B926,'(1) Project Reference Item List'!$B$2:$D$1000,3,FALSE)","v":{"$error":"#N/A"}},null,null,0,0]
[{"$f":"VLOOKUP(B927,'(1) Project Reference Item List'!$B$2:$C$1000,2,FALSE)","v":{"$error":"#N/A"}},null,null,null,null,null,null,null,null,null,null,{"$f":"VLOOKUP(B927,'(1) Project Reference Item List'!$B$2:$D$1000,3,FALSE)","v":{"$error":"#N/A"}},null,null,0,0]
[{"$f":"VLOOKUP(B928,'(1) Project Reference Item List'!$B$2:$C$1000,2,FALSE)","v":{"$error":"#N/A"}},null,null,null,null,null,null,null,null,null,null,{"$f":"VLOOKUP(B928,'(1) Project Reference Item List'!$B$2:$D$1000,3,FALSE)","v":{"$error":"#N/A"}},null,null,0,0]
[{"$f":"VLOOKUP(B929,'(1) Project Reference Item List'!$B$2:$C$1000,2,FALSE)","v":{"$error":"#N/A"}},null,null,null,null,null,null,null,null,null,null,{"$f":"VLOOKUP(B929,'(1) Project Reference Item List'!$B$2:$D$1000,3,FALSE)","v":{"$error":"#N/A"}},null,null,0,0]
[{"$f":"VLOOKUP(B930,'(1) Project Reference Item List'!$B$2:$C$1000,2,FALSE)","v":{"$error":"#N/A"}},null,null,null,null,null,null,null,null,null,null,{"$f":"VLOOKUP(B930,'(1) Project Reference Item List'!$B$2:$D$1000,3,FALSE)","v":{"$error":"#N/A"}},null,null,0,0]
[{"$f":"VLOOKUP(B931,'(1) Project Reference Item List'!$B$2:$C$1000,2,FALSE)","v":{"$error":"#N/A"}},null,null,null,null,null,null,null,null,null,null,{"$f":"VLOOKUP(B931,'(1) Project Reference Item List'!$B$2:$D$1000,3,FALSE)","v":{"$error":"#N/A"}},null,null,0,0]
[{"$f":"VLOOKUP(B932,'(1) Project Reference Item List'!$B$2:$C$1000,2,FALSE)","v":{"$error":"#N/A"}},null,null,null,null,null,null,null,null,null,null,{"$f":"VLOOKUP(B932,'(1) Project Reference Item List'!$B$2:$D$1000,3,FALSE)","v":{"$error":"#N/A"}},null,null,0,0]
[{"$f":"VLOOKUP(B933,'(1) Project Reference Item List'!$B$2:$C$1000,2,FALSE)","v":{"$error":"#N/A"}},null,null,null,null,null,null,null,null,null,null,{"$f":"VLOOKUP(B933,'(1) Project Reference Item List'!$B$2:$D$1000,3,FALSE)","v":{"$error":"#N/A"}},null,null,0,0]
[{"$f":"VLOOKUP(B934,'(1) Project Reference Item List'!$B$2:$C$1000,2,FALSE)","v":{"$error":"#N/A"}},null,null,null,null,null,null,null,null,null,null,{"$f":"VLOOKUP(B934,'(1) Project Reference Item List'!$B$2:$D$1000,3,FALSE)","v":{"$error":"#N/A"}},null,null,0,0]
[{"$f":"VLOOKUP(B935,'(1) Project Reference Item List'!$B$2:$C$1000,2,FALSE)","v":{"$error":"#N/A"}},null,null,null,null,null,null,null,null,null,null,{"$f":"VLOOKUP(B935,'(1) Project Reference Item List'!$B$2:$D$1000,3,FALSE)","v":{"$error":"#N/A"}},null,null,0,0]
[{"$f":"VLOOKUP(B936,'(1) Project Reference Item List'!$B$2:$C$1000,2,FALSE)","v":{"$error":"#N/A"}},null,null,null,null,null,null,null,null,null,null,{"$f":"VLOOKUP(B936,'(1) Project Reference Item List'!$B$2:$D$1000,3,FALSE)","v":{"$error":"#N/A"}},null,null,0,0]
[{"$f":"VLOOKUP(B937,'(1) Project Reference Item List'!$B$2:$C$1000,2,FALSE)","v":{"$error":"#N/A"}},null,null,null,null,null,null,null,null,null,null,{"$f":"VLOOKUP(B937,'(1) Project Reference Item List'!$B$2:$D$1000,3,FALSE)","v":{"$error":"#N/A"}},null,null,0,0]
[{"$f":"VLOOKUP(B938,'(1) Project Reference Item List'!$B$2:$C$1000,2,FALSE)","v":{"$error":"#N/A"}},null,null,null,null,null,null,null,null,null,null,{"$f":"VLOOKUP(B938,'(1) Project Reference Item List'!$B$2:$D$1000,3,FALSE)","v":{"$error":"#N/A"}},null,null,0,0]
[{"$f":"VLOOKUP(B939,'(1) Project Reference Item List'!$B$2:$C$1000,2,FALSE)","v":{"$error":"#N/A"}},null,null,null,null,null,null,null,null,null,null,{"$f":"VLOOKUP(B939,'(1) Project Reference Item List'!$B$2:$D$1000,3,FALSE)","v":{"$error":"#N/A"}},null,null,0,0]
[{"$f":"VLOOKUP(B940,'(1) Project Reference Item List'!$B$2:$C$1000,2,FALSE)","v":{"$error":"#N/A"}},null,null,null,null,null,null,null,null,null,null,{"$f":"VLOOKUP(B940,'(1) Project Reference Item List'!$B$2:$D$1000,3,FALSE)","v":{"$error":"#N/A"}},null,null,0,0]
[{"$f":"VLOOKUP(B941,'(1) Project Reference Item List'!$B$2:$C$1000,2,FALSE)","v":{"$error":"#N/A"}},null,null,null,null,null,null,null,null,null,null,{"$f":"VLOOKUP(B941,'(1) Project Reference Item List'!$B$2:$D$1000,3,FALSE)","v":{"$error":"#N/A"}},null,null,0,0]
[{"$f":"VLOOKUP(B942,'(1) Project Reference Item List'!$B$2:$C$1000,2,FALSE)","v":{"$error":"#N/A"}},null,null,null,null,null,null,null,null,null,null,{"$f":"VLOOKUP(B942,'(1) Project Reference Item List'!$B$2:$D$1000,3,FALSE)","v":{"$error":"#N/A"}},null,null,0,0]
[{"$f":"VLOOKUP(B943,'(1) Project Reference Item List'!$B$2:$C$1000,2,FALSE)","v":{"$error":"#N/A"}},null,null,null,null,null,null,null,null,null,null,{"$f":"VLOOKUP(B943,'(1) Project Reference Item List'!$B$2:$D$1000,3,FALSE)","v":{"$error":"#N/A"}},null,null,0,0]
[{"$f":"VLOOKUP(B944,'(1) Project Reference Item List'!$B$2:$C$1000,2,FALSE)","v":{"$error":"#N/A"}},null,null,null,null,null,null,null,null,null,null,{"$f":"VLOOKUP(B944,'(1) Project Reference Item List'!$B$2:$D$1000,3,FALSE)","v":{"$error":"#N/A"}},null,null,0,0]
[{"$f":"VLOOKUP(B945,'(1) Project Reference Item List'!$B$2:$C$1000,2,FALSE)","v":{"$error":"#N/A"}},null,null,null,null,null,null,null,null,null,null,{"$f":"VLOOKUP(B945,'(1) Project Reference Item List'!$B$2:$D$1000,3,FALSE)","v":{"$error":"#N/A"}},null,null,0,0]
[{"$f":"VLOOKUP(B946,'(1) Project Reference Item List'!$B$2:$C$1000,2,FALSE)","v":{"$error":"#N/A"}},null,null,null,null,null,null,null,null,null,null,{"$f":"VLOOKUP(B946,'(1) Project Reference Item List'!$B$2:$D$1000,3,FALSE)","v":{"$error":"#N/A"}},null,null,0,0]
[{"$f":"VLOOKUP(B947,'(1) Project Reference Item List'!$B$2:$C$1000,2,FALSE)","v":{"$error":"#N/A"}},null,null,null,null,null,null,null,null,null,null,{"$f":"VLOOKUP(B947,'(1) Project Reference Item List'!$B$2:$D$1000,3,FALSE)","v":{"$error":"#N/A"}},null,null,0,0]
[{"$f":"VLOOKUP(B948,'(1) Project Reference Item List'!$B$2:$C$1000,2,FALSE)","v":{"$error":"#N/A"}},null,null,null,null,null,null,null,null,null,null,{"$f":"VLOOKUP(B948,'(1) Project Reference Item List'!$B$2:$D$1000,3,FALSE)","v":{"$error":"#N/A"}},null,null,0,0]
[{"$f":"VLOOKUP(B949,'(1) Project Reference Item List'!$B$2:$C$1000,2,FALSE)","v":{"$error":"#N/A"}},null,null,null,null,null,null,null,null,null,null,{"$f":"VLOOKUP(B949,'(1) Project Reference Item List'!$B$2:$D$1000,3,FALSE)","v":{"$error":"#N/A"}},null,null,0,0]
[{"$f":"VLOOKUP(B950,'(1) Project Reference Item List'!$B$2:$C$1000,2,FALSE)","v":{"$error":"#N/A"}},null,null,null,null,null,null,null,null,null,null,{"$f":"VLOOKUP(B950,'(1) Project Reference Item List'!$B$2:$D$1000,3,FALSE)","v":{"$error":"#N/A"}},null,null,0,0]
[{"$f":"VLOOKUP(B951,'(1) Project Reference Item List'!$B$2:$C$1000,2,FALSE)","v":{"$error":"#N/A"}},null,null,null,null,null,null,null,null,null,null,{"$f":"VLOOKUP(B951,'(1) Project Reference Item List'!$B$2:$D$1000,3,FALSE)","v":{"$error":"#N/A"}},null,null,0,0]
[{"$f":"VLOOKUP(B952,'(1) Project Reference Item List'!$B$2:$C$1000,2,FALSE)","v":{"$error":"#N/A"}},null,null,null,null,null,null,null,null,null,null,{"$f":"VLOOKUP(B952,'(1) Project Reference Item List'!$B$2:$D$1000,3,FALSE)","v":{"$error":"#N/A"}},null,null,0,0]
[{"$f":"VLOOKUP(B953,'(1) Project Reference Item List'!$B$2:$C$1000,2,FALSE)","v":{"$error":"#N/A"}},null,null,null,null,null,null,null,null,null,null,{"$f":"VLOOKUP(B953,'(1) Project Reference Item List'!$B$2:$D$1000,3,FALSE)","v":{"$error":"#N/A"}},null,null,0,0]
[{"$f":"VLOOKUP(B954,'(1) Project Reference Item List'!$B$2:$C$1000,2,FALSE)","v":{"$error":"#N/A"}},null,null,null,null,null,null,null,null,null,null,{"$f":"VLOOKUP(B954,'(1) Project Reference Item List'!$B$2:$D$1000,3,FALSE)","v":{"$error":"#N/A"}},null,null,0,0]
[{"$f":"VLOOKUP(B955,'(1) Project Reference Item List'!$B$2:$C$1000,2,FALSE)","v":{"$error":"#N/A"}},null,null,null,null,null,null,null,null,null,null,{"$f":"VLOOKUP(B955,'(1) Project Reference Item List'!$B$2:$D$1000,3,FALSE)","v":{"$error":"#N/A"}},null,null,0,0]
[{"$f":"VLOOKUP(B956,'(1) Project Reference Item List'!$B$2:$C$1000,2,FALSE)","v":{"$error":"#N/A"}},null,null,null,null,null,null,null,null,null,null,{"$f":"VLOOKUP(B956,'(1) Project Reference Item List'!$B$2:$D$1000,3,FALSE)","v":{"$error":"#N/A"}},null,null,0,0]
[{"$f":"VLOOKUP(B957,'(1) Project Reference Item List'!$B$2:$C$1000,2,FALSE)","v":{"$error":"#N/A"}},null,null,null,null,null,null,null,null,null,null,{"$f":"VLOOKUP(B957,'(1) Project Reference Item List'!$B$2:$D$1000,3,FALSE)","v":{"$error":"#N/A"}},null,null,0,0]
[{"$f":"VLOOKUP(B958,'(1) Project Reference Item List'!$B$2:$C$1000,2,FALSE)","v":{"$error":"#N/A"}},null,null,null,null,null,null,null,null,null,null,{"$f":"VLOOKUP(B958,'(1) Project Reference Item List'!$B$2:$D$1000,3,FALSE)","v":{"$error":"#N/A"}},null,null,0,0]
[{"$f":"VLOOKUP(B959,'(1) Project Reference Item List'!$B$2:$C$1000,2,FALSE)","v":{"$error":"#N/A"}},null,null,null,null,null,null,null,null,null,null,{"$f":"VLOOKUP(B959,'(1) Project Reference Item List'!$B$2:$D$1000,3,FALSE)","v":{"$error":"#N/A"}},null,null,0,0]
[{"$f":"VLOOKUP(B960,'(1) Project Reference Item List'!$B$2:$C$1000,2,FALSE)","v":{"$error":"#N/A"}},null,null,null,null,null,null,null,null,null,null,{"$f":"VLOOKUP(B960,'(1) Project Reference Item List'!$B$2:$D$1000,3,FALSE)","v":{"$error":"#N/A"}},null,null,0,0]
[{"$f":"VLOOKUP(B961,'(1) Project Reference Item List'!$B$2:$C$1000,2,FALSE)","v":{"$error":"#N/A"}},null,null,null,null,null,null,null,null,null,null,{"$f":"VLOOKUP(B961,'(1) Project Reference Item List'!$B$2:$D$1000,3,FALSE)","v":{"$error":"#N/A"}},null,null,0,0]
[{"$f":"VLOOKUP(B962,'(1) Project Reference Item List'!$B$2:$C$1000,2,FALSE)","v":{"$error":"#N/A"}},null,null,null,null,null,null,null,null,null,null,{"$f":"VLOOKUP(B962,'(1) Project Reference Item List'!$B$2:$D$1000,3,FALSE)","v":{"$error":"#N/A"}},null,null,0,0]
[{"$f":"VLOOKUP(B963,'(1) Project Reference Item List'!$B$2:$C$1000,2,FALSE)","v":{"$error":"#N/A"}},null,null,null,null,null,null,null,null,null,null,{"$f":"VLOOKUP(B963,'(1) Project Reference Item List'!$B$2:$D$1000,3,FALSE)","v":{"$error":"#N/A"}},null,null,0,0]
[{"$f":"VLOOKUP(B964,'(1) Project Reference Item List'!$B$2:$C$1000,2,FALSE)","v":{"$error":"#N/A"}},null,null,null,null,null,null,null,null,null,null,{"$f":"VLOOKUP(B964,'(1) Project Reference Item List'!$B$2:$D$1000,3,FALSE)","v":{"$error":"#N/A"}},null,null,0,0]
[{"$f":"VLOOKUP(B965,'(1) Project Reference Item List'!$B$2:$C$1000,2,FALSE)","v":{"$error":"#N/A"}},null,null,null,null,null,null,null,null,null,null,{"$f":"VLOOKUP(B965,'(1) Project Reference Item List'!$B$2:$D$1000,3,FALSE)","v":{"$error":"#N/A"}},null,null,0,0]
[{"$f":"VLOOKUP(B966,'(1) Project Reference Item List'!$B$2:$C$1000,2,FALSE)","v":{"$error":"#N/A"}},null,null,null,null,null,null,null,null,null,null,{"$f":"VLOOKUP(B966,'(1) Project Reference Item List'!$B$2:$D$1000,3,FALSE)","v":{"$error":"#N/A"}},null,null,{"$f":"IF(J966=0,J966,J966*N966)","v":0},{"$f":"(M966-O966)","v":0}]
[{"$f":"VLOOKUP(B967,'(1) Project Reference Item List'!$B$2:$C$1000,2,FALSE)","v":{"$error":"#N/A"}},null,null,null,null,null,null,null,null,null,null,{"$f":"VLOOKUP(B967,'(1) Project Reference Item List'!$B$2:$D$1000,3,FALSE)","v":{"$error":"#N/A"}},null,null,0,0]
[{"$f":"VLOOKUP(B968,'(1) Project Reference Item List'!$B$2:$C$1000,2,FALSE)","v":{"$error":"#N/A"}},null,null,null,null,null,null,null,null,null,null,{"$f":"VLOOKUP(B968,'(1) Project Reference Item List'!$B$2:$D$1000,3,FALSE)","v":{"$error":"#N/A"}},null,null,0,0]
[{"$f":"VLOOKUP(B969,'(1) Project Reference Item List'!$B$2:$C$1000,2,FALSE)","v":{"$error":"#N/A"}},null,null,null,null,null,null,null,null,null,null,{"$f":"VLOOKUP(B969,'(1) Project Reference Item List'!$B$2:$D$1000,3,FALSE)","v":{"$error":"#N/A"}},null,null,0,0]
[{"$f":"VLOOKUP(B970,'(1) Project Reference Item List'!$B$2:$C$1000,2,FALSE)","v":{"$error":"#N/A"}},null,null,null,null,null,null,null,null,null,null,{"$f":"VLOOKUP(B970,'(1) Project Reference Item List'!$B$2:$D$1000,3,FALSE)","v":{"$error":"#N/A"}},null,null,0,0]
[{"$f":"VLOOKUP(B971,'(1) Project Reference Item List'!$B$2:$C$1000,2,FALSE)","v":{"$error":"#N/A"}},null,null,null,null,null,null,null,null,null,null,{"$f":"VLOOKUP(B971,'(1) Project Reference Item List'!$B$2:$D$1000,3,FALSE)","v":{"$error":"#N/A"}},null,null,0,0]
[{"$f":"VLOOKUP(B972,'(1) Project Reference Item List'!$B$2:$C$1000,2,FALSE)","v":{"$error":"#N/A"}},null,null,null,null,null,null,null,null,null,null,{"$f":"VLOOKUP(B972,'(1) Project Reference Item List'!$B$2:$D$1000,3,FALSE)","v":{"$error":"#N/A"}},null,null,0,0]
[{"$f":"VLOOKUP(B973,'(1) Project Reference Item List'!$B$2:$C$1000,2,FALSE)","v":{"$error":"#N/A"}},null,null,null,null,null,null,null,null,null,null,{"$f":"VLOOKUP(B973,'(1) Project Reference Item List'!$B$2:$D$1000,3,FALSE)","v":{"$error":"#N/A"}},null,null,0,0]
[{"$f":"VLOOKUP(B974,'(1) Project Reference Item List'!$B$2:$C$1000,2,FALSE)","v":{"$error":"#N/A"}},null,null,null,null,null,null,null,null,null,null,{"$f":"VLOOKUP(B974,'(1) Project Reference Item List'!$B$2:$D$1000,3,FALSE)","v":{"$error":"#N/A"}},null,null,0,0]
[{"$f":"VLOOKUP(B975,'(1) Project Reference Item List'!$B$2:$C$1000,2,FALSE)","v":{"$error":"#N/A"}},null,null,null,null,null,null,null,null,null,null,{"$f":"VLOOKUP(B975,'(1) Project Reference Item List'!$B$2:$D$1000,3,FALSE)","v":{"$error":"#N/A"}},null,null,0,0]
[{"$f":"VLOOKUP(B976,'(1) Project Reference Item List'!$B$2:$C$1000,2,FALSE)","v":{"$error":"#N/A"}},null,null,null,null,null,null,null,null,null,null,{"$f":"VLOOKUP(B976,'(1) Project Reference Item List'!$B$2:$D$1000,3,FALSE)","v":{"$error":"#N/A"}},null,null,0,0]
[{"$f":"VLOOKUP(B977,'(1) Project Reference Item List'!$B$2:$C$1000,2,FALSE)","v":{"$error":"#N/A"}},null,null,null,null,null,null,null,null,null,null,{"$f":"VLOOKUP(B977,'(1) Project Reference Item List'!$B$2:$D$1000,3,FALSE)","v":{"$error":"#N/A"}},null,null,0,0]
[{"$f":"VLOOKUP(B978,'(1) Project Reference Item List'!$B$2:$C$1000,2,FALSE)","v":{"$error":"#N/A"}},null,null,null,null,null,null,null,null,null,null,{"$f":"VLOOKUP(B978,'(1) Project Reference Item List'!$B$2:$D$1000,3,FALSE)","v":{"$error":"#N/A"}},null,null,0,0]
[{"$f":"VLOOKUP(B979,'(1) Project Reference Item List'!$B$2:$C$1000,2,FALSE)","v":{"$error":"#N/A"}},null,null,null,null,null,null,null,null,null,null,{"$f":"VLOOKUP(B979,'(1) Project Reference Item List'!$B$2:$D$1000,3,FALSE)","v":{"$error":"#N/A"}},null,null,0,0]
[{"$f":"VLOOKUP(B980,'(1) Project Reference Item List'!$B$2:$C$1000,2,FALSE)","v":{"$error":"#N/A"}},null,null,null,null,null,null,null,null,null,null,{"$f":"VLOOKUP(B980,'(1) Project Reference Item List'!$B$2:$D$1000,3,FALSE)","v":{"$error":"#N/A"}},null,null,0,0]
[{"$f":"VLOOKUP(B981,'(1) Project Reference Item List'!$B$2:$C$1000,2,FALSE)","v":{"$error":"#N/A"}},null,null,null,null,null,null,null,null,null,null,{"$f":"VLOOKUP(B981,'(1) Project Reference Item List'!$B$2:$D$1000,3,FALSE)","v":{"$error":"#N/A"}},null,null,0,0]
[{"$f":"VLOOKUP(B982,'(1) Project Reference Item List'!$B$2:$C$1000,2,FALSE)","v":{"$error":"#N/A"}},null,null,null,null,null,null,null,null,null,null,{"$f":"VLOOKUP(B982,'(1) Project Reference Item List'!$B$2:$D$1000,3,FALSE)","v":{"$error":"#N/A"}},null,null,0,0]
[{"$f":"VLOOKUP(B983,'(1) Project Reference Item List'!$B$2:$C$1000,2,FALSE)","v":{"$error":"#N/A"}},null,null,null,null,null,null,null,null,null,null,{"$f":"VLOOKUP(B983,'(1) Project Reference Item List'!$B$2:$D$1000,3,FALSE)","v":{"$error":"#N/A"}},null,null,0,0]
[{"$f":"VLOOKUP(B984,'(1) Project Reference Item List'!$B$2:$C$1000,2,FALSE)","v":{"$error":"#N/A"}},null,null,null,null,null,null,null,null,null,null,{"$f":"VLOOKUP(B984,'(1) Project Reference Item List'!$B$2:$D$1000,3,FALSE)","v":{"$error":"#N/A"}},null,null,0,0]
[{"$f":"VLOOKUP(B985,'(1) Project Reference Item List'!$B$2:$C$1000,2,FALSE)","v":{"$error":"#N/A"}},null,null,null,null,null,null,null,null,null,null,{"$f":"VLOOKUP(B985,'(1) Project Reference Item List'!$B$2:$D$1000,3,FALSE)","v":{"$error":"#N/A"}},null,null,0,0]
[{"$f":"VLOOKUP(B986,'(1) Project Reference Item List'!$B$2:$C$1000,2,FALSE)","v":{"$error":"#N/A"}},null,null,null,null,null,null,null,null,null,null,{"$f":"VLOOKUP(B986,'(1) Project Reference Item List'!$B$2:$D$1000,3,FALSE)","v":{"$error":"#N/A"}},null,null,0,0]
[{"$f":"VLOOKUP(B987,'(1) Project Reference Item List'!$B$2:$C$1000,2,FALSE)","v":{"$error":"#N/A"}},null,null,null,null,null,null,null,null,null,null,{"$f":"VLOOKUP(B987,'(1) Project Reference Item List'!$B$2:$D$1000,3,FALSE)","v":{"$error":"#N/A"}},null,null,0,0]
[{"$f":"VLOOKUP(B988,'(1) Project Reference Item List'!$B$2:$C$1000,2,FALSE)","v":{"$error":"#N/A"}},null,null,null,null,null,null,null,null,null,null,{"$f":"VLOOKUP(B988,'(1) Project Reference Item List'!$B$2:$D$1000,3,FALSE)","v":{"$error":"#N/A"}},null,null,0,0]
[{"$f":"VLOOKUP(B989,'(1) Project Reference Item List'!$B$2:$C$1000,2,FALSE)","v":{"$error":"#N/A"}},null,null,null,null,null,null,null,null,null,null,{"$f":"VLOOKUP(B989,'(1) Project Reference Item List'!$B$2:$D$1000,3,FALSE)","v":{"$error":"#N/A"}},null,null,0,0]
[{"$f":"VLOOKUP(B990,'(1) Project Reference Item List'!$B$2:$C$1000,2,FALSE)","v":{"$error":"#N/A"}},null,null,null,null,null,null,null,null,null,null,{"$f":"VLOOKUP(B990,'(1) Project Reference Item List'!$B$2:$D$1000,3,FALSE)","v":{"$error":"#N/A"}},null,null,0,0]
[{"$f":"VLOOKUP(B991,'(1) Project Reference Item List'!$B$2:$C$1000,2,FALSE)","v":{"$error":"#N/A"}},null,null,null,null,null,null,null,null,null,null,{"$f":"VLOOKUP(B991,'(1) Project Reference Item List'!$B$2:$D$1000,3,FALSE)","v":{"$error":"#N/A"}},null,null,0,0]
[{"$f":"VLOOKUP(B992,'(1) Project Reference Item List'!$B$2:$C$1000,2,FALSE)","v":{"$error":"#N/A"}},null,null,null,null,null,null,null,null,null,null,{"$f":"VLOOKUP(B992,'(1) Project Reference Item List'!$B$2:$D$1000,3,FALSE)","v":{"$error":"#N/A"}},null,null,0,0]
[{"$f":"VLOOKUP(B993,'(1) Project Reference Item List'!$B$2:$C$1000,2,FALSE)","v":{"$error":"#N/A"}},null,null,null,null,null,null,null,null,null,null,{"$f":"VLOOKUP(B993,'(1) Project Reference Item List'!$B$2:$D$1000,3,FALSE)","v":{"$error":"#N/A"}},null,null,0,0]
[{"$f":"VLOOKUP(B994,'(1) Project Reference Item List'!$B$2:$C$1000,2,FALSE)","v":{"$error":"#N/A"}},null,null,null,null,null,null,null,null,null,null,{"$f":"VLOOKUP(B994,'(1) Project Reference Item List'!$B$2:$D$1000,3,FALSE)","v":{"$error":"#N/A"}},null,null,0,0]
[{"$f":"VLOOKUP(B995,'(1) Project Reference Item List'!$B$2:$C$1000,2,FALSE)","v":{"$error":"#N/A"}},null,null,null,null,null,null,null,null,null,null,{"$f":"VLOOKUP(B995,'(1) Project Reference Item List'!$B$2:$D$1000,3,FALSE)","v":{"$error":"#N/A"}},null,null,0,0]
[{"$f":"VLOOKUP(B996,'(1) Project Reference Item List'!$B$2:$C$1000,2,FALSE)","v":{"$error":"#N/A"}},null,null,null,null,null,null,null,null,null,null,{"$f":"VLOOKUP(B996,'(1) Project Reference Item List'!$B$2:$D$1000,3,FALSE)","v":{"$error":"#N/A"}},null,null,0,0]
[{"$f":"VLOOKUP(B997,'(1) Project Reference Item List'!$B$2:$C$1000,2,FALSE)","v":{"$error":"#N/A"}},null,null,null,null,null,null,null,null,null,null,{"$f":"VLOOKUP(B997,'(1) Project Reference Item List'!$B$2:$D$1000,3,FALSE)","v":{"$error":"#N/A"}},null,null,0,0]
[{"$f":"VLOOKUP(B998,'(1) Project Reference Item List'!$B$2:$C$1000,2,FALSE)","v":{"$error":"#N/A"}},null,null,null,null,null,null,null,null,null,null,{"$f":"VLOOKUP(B998,'(1) Project Reference Item List'!$B$2:$D$1000,3,FALSE)","v":{"$error":"#N/A"}},null,null,0,0]
[{"$f":"VLOOKUP(B999,'(1) Project Reference Item List'!$B$2:$C$1000,2,FALSE)","v":{"$error":"#N/A"}},null,null,null,null,null,null,null,null,null,null,{"$f":"VLOOKUP(B999,'(1) Project Reference Item List'!$B$2:$D$1000,3,FALSE)","v":{"$error":"#N/A"}},null,null,0,0]
[{"$f":"VLOOKUP(B1000,'(1) Project Reference Item List'!$B$2:$C$1000,2,FALSE)","v":{"$error":"#N/A"}},null,null,null,null,null,null,null,null,null,null,{"$f":"VLOOKUP(B1000,'(1) Project Reference Item List'!$B$2:$D$1000,3,FALSE)","v":{"$error":"#N/A"}},null,null,0,0]
[{"$f":"VLOOKUP(B1001,'(1) Project Reference Item List'!$B$2:$C$1000,2,FALSE)","v":{"$error":"#N/A"}},null,null,null,null,null,null,null,null,null,null,{"$f":"VLOOKUP(B1001,'(1) Project Reference Item List'!$B$2:$D$1000,3,FALSE)","v":{"$error":"#N/A"}},null,null,0,0]
[{"$f":"VLOOKUP(B1002,'(1) Project Reference Item List'!$B$2:$C$1000,2,FALSE)","v":{"$error":"#N/A"}},null,null,null,null,null,null,null,null,null,null,{"$f":"VLOOKUP(B1002,'(1) Project Reference Item List'!$B$2:$D$1000,3,FALSE)","v":{"$error":"#N/A"}},null,null,0,0]
[{"$f":"VLOOKUP(B1003,'(1) Project Reference Item List'!$B$2:$C$1000,2,FALSE)","v":{"$error":"#N/A"}},null,null,null,null,null,null,null,null,null,null,{"$f":"VLOOKUP(B1003,'(1) Project Reference Item List'!$B$2:$D$1000,3,FALSE)","v":{"$error":"#N/A"}},null,null,0,0]
[{"$f":"VLOOKUP(B1004,'(1) Project Reference Item List'!$B$2:$C$1000,2,FALSE)","v":{"$error":"#N/A"}},null,null,null,null,null,null,null,null,null,null,{"$f":"VLOOKUP(B1004,'(1) Project Reference Item List'!$B$2:$D$1000,3,FALSE)","v":{"$error":"#N/A"}},null,null,0,0]
[{"$f":"VLOOKUP(B1005,'(1) Project Reference Item List'!$B$2:$C$1000,2,FALSE)","v":{"$error":"#N/A"}},null,null,null,null,null,null,null,null,null,null,{"$f":"VLOOKUP(B1005,'(1) Project Reference Item List'!$B$2:$D$1000,3,FALSE)","v":{"$error":"#N/A"}},null,null,0,0]
[{"$f":"VLOOKUP(B1006,'(1) Project Reference Item List'!$B$2:$C$1000,2,FALSE)","v":{"$error":"#N/A"}},null,null,null,null,null,null,null,null,null,null,{"$f":"VLOOKUP(B1006,'(1) Project Reference Item List'!$B$2:$D$1000,3,FALSE)","v":{"$error":"#N/A"}},null,null,0,0]
[{"$f":"VLOOKUP(B1007,'(1) Project Reference Item List'!$B$2:$C$1000,2,FALSE)","v":{"$error":"#N/A"}},null,null,null,null,null,null,null,null,null,null,{"$f":"VLOOKUP(B1007,'(1) Project Reference Item List'!$B$2:$D$1000,3,FALSE)","v":{"$error":"#N/A"}},null,null,0,0]
[{"$f":"VLOOKUP(B1008,'(1) Project Reference Item List'!$B$2:$C$1000,2,FALSE)","v":{"$error":"#N/A"}},null,null,null,null,null,null,null,null,null,null,{"$f":"VLOOKUP(B1008,'(1) Project Reference Item List'!$B$2:$D$1000,3,FALSE)","v":{"$error":"#N/A"}},null,null,0,0]
[{"$f":"VLOOKUP(B1009,'(1) Project Reference Item List'!$B$2:$C$1000,2,FALSE)","v":{"$error":"#N/A"}},null,null,null,null,null,null,null,null,null,null,{"$f":"VLOOKUP(B1009,'(1) Project Reference Item List'!$B$2:$D$1000,3,FALSE)","v":{"$error":"#N/A"}},null,null,0,0]
[{"$f":"VLOOKUP(B1010,'(1) Project Reference Item List'!$B$2:$C$1000,2,FALSE)","v":{"$error":"#N/A"}},null,null,null,null,null,null,null,null,null,null,{"$f":"VLOOKUP(B1010,'(1) Project Reference Item List'!$B$2:$D$1000,3,FALSE)","v":{"$error":"#N/A"}},null,null,0,0]
[{"$f":"VLOOKUP(B1011,'(1) Project Reference Item List'!$B$2:$C$1000,2,FALSE)","v":{"$error":"#N/A"}},null,null,null,null,null,null,null,null,null,null,{"$f":"VLOOKUP(B1011,'(1) Project Reference Item List'!$B$2:$D$1000,3,FALSE)","v":{"$error":"#N/A"}},null,null,0,0]
[{"$f":"VLOOKUP(B1012,'(1) Project Reference Item List'!$B$2:$C$1000,2,FALSE)","v":{"$error":"#N/A"}},null,null,null,null,null,null,null,null,null,null,{"$f":"VLOOKUP(B1012,'(1) Project Reference Item List'!$B$2:$D$1000,3,FALSE)","v":{"$error":"#N/A"}},null,null,0,0]
[{"$f":"VLOOKUP(B1013,'(1) Project Reference Item List'!$B$2:$C$1000,2,FALSE)","v":{"$error":"#N/A"}},null,null,null,null,null,null,null,null,null,null,{"$f":"VLOOKUP(B1013,'(1) Project Reference Item List'!$B$2:$D$1000,3,FALSE)","v":{"$error":"#N/A"}},null,null,0,0]
[{"$f":"VLOOKUP(B1014,'(1) Project Reference Item List'!$B$2:$C$1000,2,FALSE)","v":{"$error":"#N/A"}},null,null,null,null,null,null,null,null,null,null,{"$f":"VLOOKUP(B1014,'(1) Project Reference Item List'!$B$2:$D$1000,3,FALSE)","v":{"$error":"#N/A"}},null,null,0,0]
[{"$f":"VLOOKUP(B1015,'(1) Project Reference Item List'!$B$2:$C$1000,2,FALSE)","v":{"$error":"#N/A"}},null,null,null,null,null,null,null,null,null,null,{"$f":"VLOOKUP(B1015,'(1) Project Reference Item List'!$B$2:$D$1000,3,FALSE)","v":{"$error":"#N/A"}},null,null,0,0]
[{"$f":"VLOOKUP(B1016,'(1) Project Reference Item List'!$B$2:$C$1000,2,FALSE)","v":{"$error":"#N/A"}},null,null,null,null,null,null,null,null,null,null,{"$f":"VLOOKUP(B1016,'(1) Project Reference Item List'!$B$2:$D$1000,3,FALSE)","v":{"$error":"#N/A"}},null,null,0,0]
[{"$f":"VLOOKUP(B1017,'(1) Project Reference Item List'!$B$2:$C$1000,2,FALSE)","v":{"$error":"#N/A"}},null,null,null,null,null,null,null,null,null,null,{"$f":"VLOOKUP(B1017,'(1) Project Reference Item List'!$B$2:$D$1000,3,FALSE)","v":{"$error":"#N/A"}},null,null,0,0]
[{"$f":"VLOOKUP(B1018,'(1) Project Reference Item List'!$B$2:$C$1000,2,FALSE)","v":{"$error":"#N/A"}},null,null,null,null,null,null,null,null,null,null,{"$f":"VLOOKUP(B1018,'(1) Project Reference Item List'!$B$2:$D$1000,3,FALSE)","v":{"$error":"#N/A"}},null,null,0,0]
[{"$f":"VLOOKUP(B1019,'(1) Project Reference Item List'!$B$2:$C$1000,2,FALSE)","v":{"$error":"#N/A"}},null,null,null,null,null,null,null,null,null,null,{"$f":"VLOOKUP(B1019,'(1) Project Reference Item List'!$B$2:$D$1000,3,FALSE)","v":{"$error":"#N/A"}},null,null,0,0]
[{"$f":"VLOOKUP(B1020,'(1) Project Reference Item List'!$B$2:$C$1000,2,FALSE)","v":{"$error":"#N/A"}},null,null,null,null,null,null,null,null,null,null,{"$f":"VLOOKUP(B1020,'(1) Project Reference Item List'!$B$2:$D$1000,3,FALSE)","v":{"$error":"#N/A"}},null,null,0,0]
[{"$f":"VLOOKUP(B1021,'(1) Project Reference Item List'!$B$2:$C$1000,2,FALSE)","v":{"$error":"#N/A"}},null,null,null,null,null,null,null,null,null,null,{"$f":"VLOOKUP(B1021,'(1) Project Reference Item List'!$B$2:$D$1000,3,FALSE)","v":{"$error":"#N/A"}},null,null,0,0]
[{"$f":"VLOOKUP(B1022,'(1) Project Reference Item List'!$B$2:$C$1000,2,FALSE)","v":{"$error":"#N/A"}},null,null,null,null,null,null,null,null,null,null,{"$f":"VLOOKUP(B1022,'(1) Project Reference Item List'!$B$2:$D$1000,3,FALSE)","v":{"$error":"#N/A"}},null,null,0,0]
[{"$f":"VLOOKUP(B1023,'(1) Project Reference Item List'!$B$2:$C$1000,2,FALSE)","v":{"$error":"#N/A"}},null,null,null,null,null,null,null,null,null,null,{"$f":"VLOOKUP(B1023,'(1) Project Reference Item List'!$B$2:$D$1000,3,FALSE)","v":{"$error":"#N/A"}},null,null,0,0]
[{"$f":"VLOOKUP(B1024,'(1) Project Reference Item List'!$B$2:$C$1000,2,FALSE)","v":{"$error":"#N/A"}},null,null,null,null,null,null,null,null,null,null,{"$f":"VLOOKUP(B1024,'(1) Project Reference Item List'!$B$2:$D$1000,3,FALSE)","v":{"$error":"#N/A"}},null,null,0,0]
[{"$f":"VLOOKUP(B1025,'(1) Project Reference Item List'!$B$2:$C$1000,2,FALSE)","v":{"$error":"#N/A"}},null,null,null,null,null,null,null,null,null,null,{"$f":"VLOOKUP(B1025,'(1) Project Reference Item List'!$B$2:$D$1000,3,FALSE)","v":{"$error":"#N/A"}},null,null,0,0]
[{"$f":"VLOOKUP(B1026,'(1) Project Reference Item List'!$B$2:$C$1000,2,FALSE)","v":{"$error":"#N/A"}},null,null,null,null,null,null,null,null,null,null,{"$f":"VLOOKUP(B1026,'(1) Project Reference Item List'!$B$2:$D$1000,3,FALSE)","v":{"$error":"#N/A"}},null,null,0,0]
[{"$f":"VLOOKUP(B1027,'(1) Project Reference Item List'!$B$2:$C$1000,2,FALSE)","v":{"$error":"#N/A"}},null,null,null,null,null,null,null,null,null,null,{"$f":"VLOOKUP(B1027,'(1) Project Reference Item List'!$B$2:$D$1000,3,FALSE)","v":{"$error":"#N/A"}},null,null,0,0]
[{"$f":"VLOOKUP(B1028,'(1) Project Reference Item List'!$B$2:$C$1000,2,FALSE)","v":{"$error":"#N/A"}},null,null,null,null,null,null,null,null,null,null,{"$f":"VLOOKUP(B1028,'(1) Project Reference Item List'!$B$2:$D$1000,3,FALSE)","v":{"$error":"#N/A"}},null,null,0,0]
[{"$f":"VLOOKUP(B1029,'(1) Project Reference Item List'!$B$2:$C$1000,2,FALSE)","v":{"$error":"#N/A"}},null,null,null,null,null,null,null,null,null,null,{"$f":"VLOOKUP(B1029,'(1) Project Reference Item List'!$B$2:$D$1000,3,FALSE)","v":{"$error":"#N/A"}},null,null,0,0]
[{"$f":"VLOOKUP(B1030,'(1) Project Reference Item List'!$B$2:$C$1000,2,FALSE)","v":{"$error":"#N/A"}},null,null,null,null,null,null,null,null,null,null,{"$f":"VLOOKUP(B1030,'(1) Project Reference Item List'!$B$2:$D$1000,3,FALSE)","v":{"$error":"#N/A"}},null,null,{"$f":"IF(J1030=0,J1030,J1030*N1030)","v":0},{"$f":"(M1030-O1030)","v":0}]
[{"$f":"VLOOKUP(B1031,'(1) Project Reference Item List'!$B$2:$C$1000,2,FALSE)","v":{"$error":"#N/A"}},null,null,null,null,null,null,null,null,null,null,{"$f":"VLOOKUP(B1031,'(1) Project Reference Item List'!$B$2:$D$1000,3,FALSE)","v":{"$error":"#N/A"}},null,null,0,0]
[{"$f":"VLOOKUP(B1032,'(1) Project Reference Item List'!$B$2:$C$1000,2,FALSE)","v":{"$error":"#N/A"}},null,null,null,null,null,null,null,null,null,null,{"$f":"VLOOKUP(B1032,'(1) Project Reference Item List'!$B$2:$D$1000,3,FALSE)","v":{"$error":"#N/A"}},null,null,0,0]
[{"$f":"VLOOKUP(B1033,'(1) Project Reference Item List'!$B$2:$C$1000,2,FALSE)","v":{"$error":"#N/A"}},null,null,null,null,null,null,null,null,null,null,{"$f":"VLOOKUP(B1033,'(1) Project Reference Item List'!$B$2:$D$1000,3,FALSE)","v":{"$error":"#N/A"}},null,null,0,0]
[{"$f":"VLOOKUP(B1034,'(1) Project Reference Item List'!$B$2:$C$1000,2,FALSE)","v":{"$error":"#N/A"}},null,null,null,null,null,null,null,null,null,null,{"$f":"VLOOKUP(B1034,'(1) Project Reference Item List'!$B$2:$D$1000,3,FALSE)","v":{"$error":"#N/A"}},null,null,0,0]
[{"$f":"VLOOKUP(B1035,'(1) Project Reference Item List'!$B$2:$C$1000,2,FALSE)","v":{"$error":"#N/A"}},null,null,null,null,null,null,null,null,null,null,{"$f":"VLOOKUP(B1035,'(1) Project Reference Item List'!$B$2:$D$1000,3,FALSE)","v":{"$error":"#N/A"}},null,null,0,0]
[{"$f":"VLOOKUP(B1036,'(1) Project Reference Item List'!$B$2:$C$1000,2,FALSE)","v":{"$error":"#N/A"}},null,null,null,null,null,null,null,null,null,null,{"$f":"VLOOKUP(B1036,'(1) Project Reference Item List'!$B$2:$D$1000,3,FALSE)","v":{"$error":"#N/A"}},null,null,0,0]
[{"$f":"VLOOKUP(B1037,'(1) Project Reference Item List'!$B$2:$C$1000,2,FALSE)","v":{"$error":"#N/A"}},null,null,null,null,null,null,null,null,null,null,{"$f":"VLOOKUP(B1037,'(1) Project Reference Item List'!$B$2:$D$1000,3,FALSE)","v":{"$error":"#N/A"}},null,null,0,0]
[{"$f":"VLOOKUP(B1038,'(1) Project Reference Item List'!$B$2:$C$1000,2,FALSE)","v":{"$error":"#N/A"}},null,null,null,null,null,null,null,null,null,null,{"$f":"VLOOKUP(B1038,'(1) Project Reference Item List'!$B$2:$D$1000,3,FALSE)","v":{"$error":"#N/A"}},null,null,0,0]
[{"$f":"VLOOKUP(B1039,'(1) Project Reference Item List'!$B$2:$C$1000,2,FALSE)","v":{"$error":"#N/A"}},null,null,null,null,null,null,null,null,null,null,{"$f":"VLOOKUP(B1039,'(1) Project Reference Item List'!$B$2:$D$1000,3,FALSE)","v":{"$error":"#N/A"}},null,null,0,0]
[{"$f":"VLOOKUP(B1040,'(1) Project Reference Item List'!$B$2:$C$1000,2,FALSE)","v":{"$error":"#N/A"}},null,null,null,null,null,null,null,null,null,null,{"$f":"VLOOKUP(B1040,'(1) Project Reference Item List'!$B$2:$D$1000,3,FALSE)","v":{"$error":"#N/A"}},null,null,0,0]
[{"$f":"VLOOKUP(B1041,'(1) Project Reference Item List'!$B$2:$C$1000,2,FALSE)","v":{"$error":"#N/A"}},null,null,null,null,null,null,null,null,null,null,{"$f":"VLOOKUP(B1041,'(1) Project Reference Item List'!$B$2:$D$1000,3,FALSE)","v":{"$error":"#N/A"}},null,null,0,0]
[{"$f":"VLOOKUP(B1042,'(1) Project Reference Item List'!$B$2:$C$1000,2,FALSE)","v":{"$error":"#N/A"}},null,null,null,null,null,null,null,null,null,null,{"$f":"VLOOKUP(B1042,'(1) Project Reference Item List'!$B$2:$D$1000,3,FALSE)","v":{"$error":"#N/A"}},null,null,0,0]
[{"$f":"VLOOKUP(B1043,'(1) Project Reference Item List'!$B$2:$C$1000,2,FALSE)","v":{"$error":"#N/A"}},null,null,null,null,null,null,null,null,null,null,{"$f":"VLOOKUP(B1043,'(1) Project Reference Item List'!$B$2:$D$1000,3,FALSE)","v":{"$error":"#N/A"}},null,null,0,0]
[{"$f":"VLOOKUP(B1044,'(1) Project Reference Item List'!$B$2:$C$1000,2,FALSE)","v":{"$error":"#N/A"}},null,null,null,null,null,null,null,null,null,null,{"$f":"VLOOKUP(B1044,'(1) Project Reference Item List'!$B$2:$D$1000,3,FALSE)","v":{"$error":"#N/A"}},null,null,0,0]
[{"$f":"VLOOKUP(B1045,'(1) Project Reference Item List'!$B$2:$C$1000,2,FALSE)","v":{"$error":"#N/A"}},null,null,null,null,null,null,null,null,null,null,{"$f":"VLOOKUP(B1045,'(1) Project Reference Item List'!$B$2:$D$1000,3,FALSE)","v":{"$error":"#N/A"}},null,null,0,0]
[{"$f":"VLOOKUP(B1046,'(1) Project Reference Item List'!$B$2:$C$1000,2,FALSE)","v":{"$error":"#N/A"}},null,null,null,null,null,null,null,null,null,null,{"$f":"VLOOKUP(B1046,'(1) Project Reference Item List'!$B$2:$D$1000,3,FALSE)","v":{"$error":"#N/A"}},null,null,0,0]
[{"$f":"VLOOKUP(B1047,'(1) Project Reference Item List'!$B$2:$C$1000,2,FALSE)","v":{"$error":"#N/A"}},null,null,null,null,null,null,null,null,null,null,{"$f":"VLOOKUP(B1047,'(1) Project Reference Item List'!$B$2:$D$1000,3,FALSE)","v":{"$error":"#N/A"}},null,null,0,0]
[{"$f":"VLOOKUP(B1048,'(1) Project Reference Item List'!$B$2:$C$1000,2,FALSE)","v":{"$error":"#N/A"}},null,null,null,null,null,null,null,null,null,null,{"$f":"VLOOKUP(B1048,'(1) Project Reference Item List'!$B$2:$D$1000,3,FALSE)","v":{"$error":"#N/A"}},null,null,0,0]
[{"$f":"VLOOKUP(B1049,'(1) Project Reference Item List'!$B$2:$C$1000,2,FALSE)","v":{"$error":"#N/A"}},null,null,null,null,null,null,null,null,null,null,{"$f":"VLOOKUP(B1049,'(1) Project Reference Item List'!$B$2:$D$1000,3,FALSE)","v":{"$error":"#N/A"}},null,null,0,0]
[{"$f":"VLOOKUP(B1050,'(1) Project Reference Item List'!$B$2:$C$1000,2,FALSE)","v":{"$error":"#N/A"}},null,null,null,null,null,null,null,null,null,null,{"$f":"VLOOKUP(B1050,'(1) Project Reference Item List'!$B$2:$D$1000,3,FALSE)","v":{"$error":"#N/A"}},null,null,0,0]
[{"$f":"VLOOKUP(B1051,'(1) Project Reference Item List'!$B$2:$C$1000,2,FALSE)","v":{"$error":"#N/A"}},null,null,null,null,null,null,null,null,null,null,{"$f":"VLOOKUP(B1051,'(1) Project Reference Item List'!$B$2:$D$1000,3,FALSE)","v":{"$error":"#N/A"}},null,null,0,0]
[{"$f":"VLOOKUP(B1052,'(1) Project Reference Item List'!$B$2:$C$1000,2,FALSE)","v":{"$error":"#N/A"}},null,null,null,null,null,null,null,null,null,null,{"$f":"VLOOKUP(B1052,'(1) Project Reference Item List'!$B$2:$D$1000,3,FALSE)","v":{"$error":"#N/A"}},null,null,0,0]
[{"$f":"VLOOKUP(B1053,'(1) Project Reference Item List'!$B$2:$C$1000,2,FALSE)","v":{"$error":"#N/A"}},null,null,null,null,null,null,null,null,null,null,{"$f":"VLOOKUP(B1053,'(1) Project Reference Item List'!$B$2:$D$1000,3,FALSE)","v":{"$error":"#N/A"}},null,null,0,0]
[{"$f":"VLOOKUP(B1054,'(1) Project Reference Item List'!$B$2:$C$1000,2,FALSE)","v":{"$error":"#N/A"}},null,null,null,null,null,null,null,null,null,null,{"$f":"VLOOKUP(B1054,'(1) Project Reference Item List'!$B$2:$D$1000,3,FALSE)","v":{"$error":"#N/A"}},null,null,0,0]
[{"$f":"VLOOKUP(B1055,'(1) Project Reference Item List'!$B$2:$C$1000,2,FALSE)","v":{"$error":"#N/A"}},null,null,null,null,null,null,null,null,null,null,{"$f":"VLOOKUP(B1055,'(1) Project Reference Item List'!$B$2:$D$1000,3,FALSE)","v":{"$error":"#N/A"}},null,null,0,0]
[{"$f":"VLOOKUP(B1056,'(1) Project Reference Item List'!$B$2:$C$1000,2,FALSE)","v":{"$error":"#N/A"}},null,null,null,null,null,null,null,null,null,null,{"$f":"VLOOKUP(B1056,'(1) Project Reference Item List'!$B$2:$D$1000,3,FALSE)","v":{"$error":"#N/A"}},null,null,0,0]
[{"$f":"VLOOKUP(B1057,'(1) Project Reference Item List'!$B$2:$C$1000,2,FALSE)","v":{"$error":"#N/A"}},null,null,null,null,null,null,null,null,null,null,{"$f":"VLOOKUP(B1057,'(1) Project Reference Item List'!$B$2:$D$1000,3,FALSE)","v":{"$error":"#N/A"}},null,null,0,0]
[{"$f":"VLOOKUP(B1058,'(1) Project Reference Item List'!$B$2:$C$1000,2,FALSE)","v":{"$error":"#N/A"}},null,null,null,null,null,null,null,null,null,null,{"$f":"VLOOKUP(B1058,'(1) Project Reference Item List'!$B$2:$D$1000,3,FALSE)","v":{"$error":"#N/A"}},null,null,0,0]
[{"$f":"VLOOKUP(B1059,'(1) Project Reference Item List'!$B$2:$C$1000,2,FALSE)","v":{"$error":"#N/A"}},null,null,null,null,null,null,null,null,null,null,{"$f":"VLOOKUP(B1059,'(1) Project Reference Item List'!$B$2:$D$1000,3,FALSE)","v":{"$error":"#N/A"}},null,null,0,0]
[{"$f":"VLOOKUP(B1060,'(1) Project Reference Item List'!$B$2:$C$1000,2,FALSE)","v":{"$error":"#N/A"}},null,null,null,null,null,null,null,null,null,null,{"$f":"VLOOKUP(B1060,'(1) Project Reference Item List'!$B$2:$D$1000,3,FALSE)","v":{"$error":"#N/A"}},null,null,0,0]
[{"$f":"VLOOKUP(B1061,'(1) Project Reference Item List'!$B$2:$C$1000,2,FALSE)","v":{"$error":"#N/A"}},null,null,null,null,null,null,null,null,null,null,{"$f":"VLOOKUP(B1061,'(1) Project Reference Item List'!$B$2:$D$1000,3,FALSE)","v":{"$error":"#N/A"}},null,null,0,0]
[{"$f":"VLOOKUP(B1062,'(1) Project Reference Item List'!$B$2:$C$1000,2,FALSE)","v":{"$error":"#N/A"}},null,null,null,null,null,null,null,null,null,null,{"$f":"VLOOKUP(B1062,'(1) Project Reference Item List'!$B$2:$D$1000,3,FALSE)","v":{"$error":"#N/A"}},null,null,0,0]
[{"$f":"VLOOKUP(B1063,'(1) Project Reference Item List'!$B$2:$C$1000,2,FALSE)","v":{"$error":"#N/A"}},null,null,null,null,null,null,null,null,null,null,{"$f":"VLOOKUP(B1063,'(1) Project Reference Item List'!$B$2:$D$1000,3,FALSE)","v":{"$error":"#N/A"}},null,null,0,0]
[{"$f":"VLOOKUP(B1064,'(1) Project Reference Item List'!$B$2:$C$1000,2,FALSE)","v":{"$error":"#N/A"}},null,null,null,null,null,null,null,null,null,null,{"$f":"VLOOKUP(B1064,'(1) Project Reference Item List'!$B$2:$D$1000,3,FALSE)","v":{"$error":"#N/A"}},null,null,0,0]
[{"$f":"VLOOKUP(B1065,'(1) Project Reference Item List'!$B$2:$C$1000,2,FALSE)","v":{"$error":"#N/A"}},null,null,null,null,null,null,null,null,null,null,{"$f":"VLOOKUP(B1065,'(1) Project Reference Item List'!$B$2:$D$1000,3,FALSE)","v":{"$error":"#N/A"}},null,null,0,0]
[{"$f":"VLOOKUP(B1066,'(1) Project Reference Item List'!$B$2:$C$1000,2,FALSE)","v":{"$error":"#N/A"}},null,null,null,null,null,null,null,null,null,null,{"$f":"VLOOKUP(B1066,'(1) Project Reference Item List'!$B$2:$D$1000,3,FALSE)","v":{"$error":"#N/A"}},null,null,0,0]
[{"$f":"VLOOKUP(B1067,'(1) Project Reference Item List'!$B$2:$C$1000,2,FALSE)","v":{"$error":"#N/A"}},null,null,null,null,null,null,null,null,null,null,{"$f":"VLOOKUP(B1067,'(1) Project Reference Item List'!$B$2:$D$1000,3,FALSE)","v":{"$error":"#N/A"}},null,null,0,0]
[{"$f":"VLOOKUP(B1068,'(1) Project Reference Item List'!$B$2:$C$1000,2,FALSE)","v":{"$error":"#N/A"}},null,null,null,null,null,null,null,null,null,null,{"$f":"VLOOKUP(B1068,'(1) Project Reference Item List'!$B$2:$D$1000,3,FALSE)","v":{"$error":"#N/A"}},null,null,0,0]
[{"$f":"VLOOKUP(B1069,'(1) Project Reference Item List'!$B$2:$C$1000,2,FALSE)","v":{"$error":"#N/A"}},null,null,null,null,null,null,null,null,null,null,{"$f":"VLOOKUP(B1069,'(1) Project Reference Item List'!$B$2:$D$1000,3,FALSE)","v":{"$error":"#N/A"}},null,null,0,0]
[{"$f":"VLOOKUP(B1070,'(1) Project Reference Item List'!$B$2:$C$1000,2,FALSE)","v":{"$error":"#N/A"}},null,null,null,null,null,null,null,null,null,null,{"$f":"VLOOKUP(B1070,'(1) Project Reference Item List'!$B$2:$D$1000,3,FALSE)","v":{"$error":"#N/A"}},null,null,0,0]
[{"$f":"VLOOKUP(B1071,'(1) Project Reference Item List'!$B$2:$C$1000,2,FALSE)","v":{"$error":"#N/A"}},null,null,null,null,null,null,null,null,null,null,{"$f":"VLOOKUP(B1071,'(1) Project Reference Item List'!$B$2:$D$1000,3,FALSE)","v":{"$error":"#N/A"}},null,null,0,0]
[{"$f":"VLOOKUP(B1072,'(1) Project Reference Item List'!$B$2:$C$1000,2,FALSE)","v":{"$error":"#N/A"}},null,null,null,null,null,null,null,null,null,null,{"$f":"VLOOKUP(B1072,'(1) Project Reference Item List'!$B$2:$D$1000,3,FALSE)","v":{"$error":"#N/A"}},null,null,0,0]
[{"$f":"VLOOKUP(B1073,'(1) Project Reference Item List'!$B$2:$C$1000,2,FALSE)","v":{"$error":"#N/A"}},null,null,null,null,null,null,null,null,null,null,{"$f":"VLOOKUP(B1073,'(1) Project Reference Item List'!$B$2:$D$1000,3,FALSE)","v":{"$error":"#N/A"}},null,null,0,0]
[{"$f":"VLOOKUP(B1074,'(1) Project Reference Item List'!$B$2:$C$1000,2,FALSE)","v":{"$error":"#N/A"}},null,null,null,null,null,null,null,null,null,null,{"$f":"VLOOKUP(B1074,'(1) Project Reference Item List'!$B$2:$D$1000,3,FALSE)","v":{"$error":"#N/A"}},null,null,0,0]
[{"$f":"VLOOKUP(B1075,'(1) Project Reference Item List'!$B$2:$C$1000,2,FALSE)","v":{"$error":"#N/A"}},null,null,null,null,null,null,null,null,null,null,{"$f":"VLOOKUP(B1075,'(1) Project Reference Item List'!$B$2:$D$1000,3,FALSE)","v":{"$error":"#N/A"}},null,null,0,0]
[{"$f":"VLOOKUP(B1076,'(1) Project Reference Item List'!$B$2:$C$1000,2,FALSE)","v":{"$error":"#N/A"}},null,null,null,null,null,null,null,null,null,null,{"$f":"VLOOKUP(B1076,'(1) Project Reference Item List'!$B$2:$D$1000,3,FALSE)","v":{"$error":"#N/A"}},null,null,0,0]
[{"$f":"VLOOKUP(B1077,'(1) Project Reference Item List'!$B$2:$C$1000,2,FALSE)","v":{"$error":"#N/A"}},null,null,null,null,null,null,null,null,null,null,{"$f":"VLOOKUP(B1077,'(1) Project Reference Item List'!$B$2:$D$1000,3,FALSE)","v":{"$error":"#N/A"}},null,null,0,0]
[{"$f":"VLOOKUP(B1078,'(1) Project Reference Item List'!$B$2:$C$1000,2,FALSE)","v":{"$error":"#N/A"}},null,null,null,null,null,null,null,null,null,null,{"$f":"VLOOKUP(B1078,'(1) Project Reference Item List'!$B$2:$D$1000,3,FALSE)","v":{"$error":"#N/A"}},null,null,0,0]
[{"$f":"VLOOKUP(B1079,'(1) Project Reference Item List'!$B$2:$C$1000,2,FALSE)","v":{"$error":"#N/A"}},null,null,null,null,null,null,null,null,null,null,{"$f":"VLOOKUP(B1079,'(1) Project Reference Item List'!$B$2:$D$1000,3,FALSE)","v":{"$error":"#N/A"}},null,null,0,0]
[{"$f":"VLOOKUP(B1080,'(1) Project Reference Item List'!$B$2:$C$1000,2,FALSE)","v":{"$error":"#N/A"}},null,null,null,null,null,null,null,null,null,null,{"$f":"VLOOKUP(B1080,'(1) Project Reference Item List'!$B$2:$D$1000,3,FALSE)","v":{"$error":"#N/A"}},null,null,0,0]
[{"$f":"VLOOKUP(B1081,'(1) Project Reference Item List'!$B$2:$C$1000,2,FALSE)","v":{"$error":"#N/A"}},null,null,null,null,null,null,null,null,null,null,{"$f":"VLOOKUP(B1081,'(1) Project Reference Item List'!$B$2:$D$1000,3,FALSE)","v":{"$error":"#N/A"}},null,null,0,0]
[{"$f":"VLOOKUP(B1082,'(1) Project Reference Item List'!$B$2:$C$1000,2,FALSE)","v":{"$error":"#N/A"}},null,null,null,null,null,null,null,null,null,null,{"$f":"VLOOKUP(B1082,'(1) Project Reference Item List'!$B$2:$D$1000,3,FALSE)","v":{"$error":"#N/A"}},null,null,0,0]
[{"$f":"VLOOKUP(B1083,'(1) Project Reference Item List'!$B$2:$C$1000,2,FALSE)","v":{"$error":"#N/A"}},null,null,null,null,null,null,null,null,null,null,{"$f":"VLOOKUP(B1083,'(1) Project Reference Item List'!$B$2:$D$1000,3,FALSE)","v":{"$error":"#N/A"}},null,null,0,0]
[{"$f":"VLOOKUP(B1084,'(1) Project Reference Item List'!$B$2:$C$1000,2,FALSE)","v":{"$error":"#N/A"}},null,null,null,null,null,null,null,null,null,null,{"$f":"VLOOKUP(B1084,'(1) Project Reference Item List'!$B$2:$D$1000,3,FALSE)","v":{"$error":"#N/A"}},null,null,0,0]
[{"$f":"VLOOKUP(B1085,'(1) Project Reference Item List'!$B$2:$C$1000,2,FALSE)","v":{"$error":"#N/A"}},null,null,null,null,null,null,null,null,null,null,{"$f":"VLOOKUP(B1085,'(1) Project Reference Item List'!$B$2:$D$1000,3,FALSE)","v":{"$error":"#N/A"}},null,null,0,0]
[{"$f":"VLOOKUP(B1086,'(1) Project Reference Item List'!$B$2:$C$1000,2,FALSE)","v":{"$error":"#N/A"}},null,null,null,null,null,null,null,null,null,null,{"$f":"VLOOKUP(B1086,'(1) Project Reference Item List'!$B$2:$D$1000,3,FALSE)","v":{"$error":"#N/A"}},null,null,0,0]
[{"$f":"VLOOKUP(B1087,'(1) Project Reference Item List'!$B$2:$C$1000,2,FALSE)","v":{"$error":"#N/A"}},null,null,null,null,null,null,null,null,null,null,{"$f":"VLOOKUP(B1087,'(1) Project Reference Item List'!$B$2:$D$1000,3,FALSE)","v":{"$error":"#N/A"}},null,null,0,0]
[{"$f":"VLOOKUP(B1088,'(1) Project Reference Item List'!$B$2:$C$1000,2,FALSE)","v":{"$error":"#N/A"}},null,null,null,null,null,null,null,null,null,null,{"$f":"VLOOKUP(B1088,'(1) Project Reference Item List'!$B$2:$D$1000,3,FALSE)","v":{"$error":"#N/A"}},null,null,0,0]
[{"$f":"VLOOKUP(B1089,'(1) Project Reference Item List'!$B$2:$C$1000,2,FALSE)","v":{"$error":"#N/A"}},null,null,null,null,null,null,null,null,null,null,{"$f":"VLOOKUP(B1089,'(1) Project Reference Item List'!$B$2:$D$1000,3,FALSE)","v":{"$error":"#N/A"}},null,null,0,0]
[{"$f":"VLOOKUP(B1090,'(1) Project Reference Item List'!$B$2:$C$1000,2,FALSE)","v":{"$error":"#N/A"}},null,null,null,null,null,null,null,null,null,null,{"$f":"VLOOKUP(B1090,'(1) Project Reference Item List'!$B$2:$D$1000,3,FALSE)","v":{"$error":"#N/A"}},null,null,0,0]
[{"$f":"VLOOKUP(B1091,'(1) Project Reference Item List'!$B$2:$C$1000,2,FALSE)","v":{"$error":"#N/A"}},null,null,null,null,null,null,null,null,null,null,{"$f":"VLOOKUP(B1091,'(1) Project Reference Item List'!$B$2:$D$1000,3,FALSE)","v":{"$error":"#N/A"}},null,null,0,0]
[{"$f":"VLOOKUP(B1092,'(1) Project Reference Item List'!$B$2:$C$1000,2,FALSE)","v":{"$error":"#N/A"}},null,null,null,null,null,null,null,null,null,null,{"$f":"VLOOKUP(B1092,'(1) Project Reference Item List'!$B$2:$D$1000,3,FALSE)","v":{"$error":"#N/A"}},null,null,0,0]
[{"$f":"VLOOKUP(B1093,'(1) Project Reference Item List'!$B$2:$C$1000,2,FALSE)","v":{"$error":"#N/A"}},null,null,null,null,null,null,null,null,null,null,{"$f":"VLOOKUP(B1093,'(1) Project Reference Item List'!$B$2:$D$1000,3,FALSE)","v":{"$error":"#N/A"}},null,null,0,0]
[{"$f":"VLOOKUP(B1094,'(1) Project Reference Item List'!$B$2:$C$1000,2,FALSE)","v":{"$error":"#N/A"}},null,null,null,null,null,null,null,null,null,null,{"$f":"VLOOKUP(B1094,'(1) Project Reference Item List'!$B$2:$D$1000,3,FALSE)","v":{"$error":"#N/A"}},null,null,{"$f":"IF(J1094=0,J1094,J1094*N1094)","v":0},{"$f":"(M1094-O1094)","v":0}]
[{"$f":"VLOOKUP(B1095,'(1) Project Reference Item List'!$B$2:$C$1000,2,FALSE)","v":{"$error":"#N/A"}},null,null,null,null,null,null,null,null,null,null,{"$f":"VLOOKUP(B1095,'(1) Project Reference Item List'!$B$2:$D$1000,3,FALSE)","v":{"$error":"#N/A"}},null,null,0,0]
[{"$f":"VLOOKUP(B1096,'(1) Project Reference Item List'!$B$2:$C$1000,2,FALSE)","v":{"$error":"#N/A"}},null,null,null,null,null,null,null,null,null,null,{"$f":"VLOOKUP(B1096,'(1) Project Reference Item List'!$B$2:$D$1000,3,FALSE)","v":{"$error":"#N/A"}},null,null,0,0]
[{"$f":"VLOOKUP(B1097,'(1) Project Reference Item List'!$B$2:$C$1000,2,FALSE)","v":{"$error":"#N/A"}},null,null,null,null,null,null,null,null,null,null,{"$f":"VLOOKUP(B1097,'(1) Project Reference Item List'!$B$2:$D$1000,3,FALSE)","v":{"$error":"#N/A"}},null,null,0,0]
[{"$f":"VLOOKUP(B1098,'(1) Project Reference Item List'!$B$2:$C$1000,2,FALSE)","v":{"$error":"#N/A"}},null,null,null,null,null,null,null,null,null,null,{"$f":"VLOOKUP(B1098,'(1) Project Reference Item List'!$B$2:$D$1000,3,FALSE)","v":{"$error":"#N/A"}},null,null,0,0]
[{"$f":"VLOOKUP(B1099,'(1) Project Reference Item List'!$B$2:$C$1000,2,FALSE)","v":{"$error":"#N/A"}},null,null,null,null,null,null,null,null,null,null,{"$f":"VLOOKUP(B1099,'(1) Project Reference Item List'!$B$2:$D$1000,3,FALSE)","v":{"$error":"#N/A"}},null,null,0,0]
[{"$f":"VLOOKUP(B1100,'(1) Project Reference Item List'!$B$2:$C$1000,2,FALSE)","v":{"$error":"#N/A"}},null,null,null,null,null,null,null,null,null,null,{"$f":"VLOOKUP(B1100,'(1) Project Reference Item List'!$B$2:$D$1000,3,FALSE)","v":{"$error":"#N/A"}},null,null,0,0]
[{"$f":"VLOOKUP(B1101,'(1) Project Reference Item List'!$B$2:$C$1000,2,FALSE)","v":{"$error":"#N/A"}},null,null,null,null,null,null,null,null,null,null,{"$f":"VLOOKUP(B1101,'(1) Project Reference Item List'!$B$2:$D$1000,3,FALSE)","v":{"$error":"#N/A"}},null,null,0,0]
[{"$f":"VLOOKUP(B1102,'(1) Project Reference Item List'!$B$2:$C$1000,2,FALSE)","v":{"$error":"#N/A"}},null,null,null,null,null,null,null,null,null,null,{"$f":"VLOOKUP(B1102,'(1) Project Reference Item List'!$B$2:$D$1000,3,FALSE)","v":{"$error":"#N/A"}},null,null,0,0]
[{"$f":"VLOOKUP(B1103,'(1) Project Reference Item List'!$B$2:$C$1000,2,FALSE)","v":{"$error":"#N/A"}},null,null,null,null,null,null,null,null,null,null,{"$f":"VLOOKUP(B1103,'(1) Project Reference Item List'!$B$2:$D$1000,3,FALSE)","v":{"$error":"#N/A"}},null,null,0,0]
[{"$f":"VLOOKUP(B1104,'(1) Project Reference Item List'!$B$2:$C$1000,2,FALSE)","v":{"$error":"#N/A"}},null,null,null,null,null,null,null,null,null,null,{"$f":"VLOOKUP(B1104,'(1) Project Reference Item List'!$B$2:$D$1000,3,FALSE)","v":{"$error":"#N/A"}},null,null,0,0]
[{"$f":"VLOOKUP(B1105,'(1) Project Reference Item List'!$B$2:$C$1000,2,FALSE)","v":{"$error":"#N/A"}},null,null,null,null,null,null,null,null,null,null,{"$f":"VLOOKUP(B1105,'(1) Project Reference Item List'!$B$2:$D$1000,3,FALSE)","v":{"$error":"#N/A"}},null,null,0,0]
[{"$f":"VLOOKUP(B1106,'(1) Project Reference Item List'!$B$2:$C$1000,2,FALSE)","v":{"$error":"#N/A"}},null,null,null,null,null,null,null,null,null,null,{"$f":"VLOOKUP(B1106,'(1) Project Reference Item List'!$B$2:$D$1000,3,FALSE)","v":{"$error":"#N/A"}},null,null,0,0]
[{"$f":"VLOOKUP(B1107,'(1) Project Reference Item List'!$B$2:$C$1000,2,FALSE)","v":{"$error":"#N/A"}},null,null,null,null,null,null,null,null,null,null,{"$f":"VLOOKUP(B1107,'(1) Project Reference Item List'!$B$2:$D$1000,3,FALSE)","v":{"$error":"#N/A"}},null,null,0,0]
[{"$f":"VLOOKUP(B1108,'(1) Project Reference Item List'!$B$2:$C$1000,2,FALSE)","v":{"$error":"#N/A"}},null,null,null,null,null,null,null,null,null,null,{"$f":"VLOOKUP(B1108,'(1) Project Reference Item List'!$B$2:$D$1000,3,FALSE)","v":{"$error":"#N/A"}},null,null,0,0]
[{"$f":"VLOOKUP(B1109,'(1) Project Reference Item List'!$B$2:$C$1000,2,FALSE)","v":{"$error":"#N/A"}},null,null,null,null,null,null,null,null,null,null,{"$f":"VLOOKUP(B1109,'(1) Project Reference Item List'!$B$2:$D$1000,3,FALSE)","v":{"$error":"#N/A"}},null,null,0,0]
[{"$f":"VLOOKUP(B1110,'(1) Project Reference Item List'!$B$2:$C$1000,2,FALSE)","v":{"$error":"#N/A"}},null,null,null,null,null,null,null,null,null,null,{"$f":"VLOOKUP(B1110,'(1) Project Reference Item List'!$B$2:$D$1000,3,FALSE)","v":{"$error":"#N/A"}},null,null,0,0]
[{"$f":"VLOOKUP(B1111,'(1) Project Reference Item List'!$B$2:$C$1000,2,FALSE)","v":{"$error":"#N/A"}},null,null,null,null,null,null,null,null,null,null,{"$f":"VLOOKUP(B1111,'(1) Project Reference Item List'!$B$2:$D$1000,3,FALSE)","v":{"$error":"#N/A"}},null,null,0,0]
[{"$f":"VLOOKUP(B1112,'(1) Project Reference Item List'!$B$2:$C$1000,2,FALSE)","v":{"$error":"#N/A"}},null,null,null,null,null,null,null,null,null,null,{"$f":"VLOOKUP(B1112,'(1) Project Reference Item List'!$B$2:$D$1000,3,FALSE)","v":{"$error":"#N/A"}},null,null,0,0]
[{"$f":"VLOOKUP(B1113,'(1) Project Reference Item List'!$B$2:$C$1000,2,FALSE)","v":{"$error":"#N/A"}},null,null,null,null,null,null,null,null,null,null,{"$f":"VLOOKUP(B1113,'(1) Project Reference Item List'!$B$2:$D$1000,3,FALSE)","v":{"$error":"#N/A"}},null,null,0,0]
[{"$f":"VLOOKUP(B1114,'(1) Project Reference Item List'!$B$2:$C$1000,2,FALSE)","v":{"$error":"#N/A"}},null,null,null,null,null,null,null,null,null,null,{"$f":"VLOOKUP(B1114,'(1) Project Reference Item List'!$B$2:$D$1000,3,FALSE)","v":{"$error":"#N/A"}},null,null,0,0]
[{"$f":"VLOOKUP(B1115,'(1) Project Reference Item List'!$B$2:$C$1000,2,FALSE)","v":{"$error":"#N/A"}},null,null,null,null,null,null,null,null,null,null,{"$f":"VLOOKUP(B1115,'(1) Project Reference Item List'!$B$2:$D$1000,3,FALSE)","v":{"$error":"#N/A"}},null,null,0,0]
[{"$f":"VLOOKUP(B1116,'(1) Project Reference Item List'!$B$2:$C$1000,2,FALSE)","v":{"$error":"#N/A"}},null,null,null,null,null,null,null,null,null,null,{"$f":"VLOOKUP(B1116,'(1) Project Reference Item List'!$B$2:$D$1000,3,FALSE)","v":{"$error":"#N/A"}},null,null,0,0]
[{"$f":"VLOOKUP(B1117,'(1) Project Reference Item List'!$B$2:$C$1000,2,FALSE)","v":{"$error":"#N/A"}},null,null,null,null,null,null,null,null,null,null,{"$f":"VLOOKUP(B1117,'(1) Project Reference Item List'!$B$2:$D$1000,3,FALSE)","v":{"$error":"#N/A"}},null,null,0,0]
[{"$f":"VLOOKUP(B1118,'(1) Project Reference Item List'!$B$2:$C$1000,2,FALSE)","v":{"$error":"#N/A"}},null,null,null,null,null,null,null,null,null,null,{"$f":"VLOOKUP(B1118,'(1) Project Reference Item List'!$B$2:$D$1000,3,FALSE)","v":{"$error":"#N/A"}},null,null,0,0]
[{"$f":"VLOOKUP(B1119,'(1) Project Reference Item List'!$B$2:$C$1000,2,FALSE)","v":{"$error":"#N/A"}},null,null,null,null,null,null,null,null,null,null,{"$f":"VLOOKUP(B1119,'(1) Project Reference Item List'!$B$2:$D$1000,3,FALSE)","v":{"$error":"#N/A"}},null,null,0,0]
[{"$f":"VLOOKUP(B1120,'(1) Project Reference Item List'!$B$2:$C$1000,2,FALSE)","v":{"$error":"#N/A"}},null,null,null,null,null,null,null,null,null,null,{"$f":"VLOOKUP(B1120,'(1) Project Reference Item List'!$B$2:$D$1000,3,FALSE)","v":{"$error":"#N/A"}},null,null,0,0]
[{"$f":"VLOOKUP(B1121,'(1) Project Reference Item List'!$B$2:$C$1000,2,FALSE)","v":{"$error":"#N/A"}},null,null,null,null,null,null,null,null,null,null,{"$f":"VLOOKUP(B1121,'(1) Project Reference Item List'!$B$2:$D$1000,3,FALSE)","v":{"$error":"#N/A"}},null,null,0,0]
[{"$f":"VLOOKUP(B1122,'(1) Project Reference Item List'!$B$2:$C$1000,2,FALSE)","v":{"$error":"#N/A"}},null,null,null,null,null,null,null,null,null,null,{"$f":"VLOOKUP(B1122,'(1) Project Reference Item List'!$B$2:$D$1000,3,FALSE)","v":{"$error":"#N/A"}},null,null,0,0]
[{"$f":"VLOOKUP(B1123,'(1) Project Reference Item List'!$B$2:$C$1000,2,FALSE)","v":{"$error":"#N/A"}},null,null,null,null,null,null,null,null,null,null,{"$f":"VLOOKUP(B1123,'(1) Project Reference Item List'!$B$2:$D$1000,3,FALSE)","v":{"$error":"#N/A"}},null,null,0,0]
[{"$f":"VLOOKUP(B1124,'(1) Project Reference Item List'!$B$2:$C$1000,2,FALSE)","v":{"$error":"#N/A"}},null,null,null,null,null,null,null,null,null,null,{"$f":"VLOOKUP(B1124,'(1) Project Reference Item List'!$B$2:$D$1000,3,FALSE)","v":{"$error":"#N/A"}},null,null,0,0]
[{"$f":"VLOOKUP(B1125,'(1) Project Reference Item List'!$B$2:$C$1000,2,FALSE)","v":{"$error":"#N/A"}},null,null,null,null,null,null,null,null,null,null,{"$f":"VLOOKUP(B1125,'(1) Project Reference Item List'!$B$2:$D$1000,3,FALSE)","v":{"$error":"#N/A"}},null,null,0,0]
[{"$f":"VLOOKUP(B1126,'(1) Project Reference Item List'!$B$2:$C$1000,2,FALSE)","v":{"$error":"#N/A"}},null,null,null,null,null,null,null,null,null,null,{"$f":"VLOOKUP(B1126,'(1) Project Reference Item List'!$B$2:$D$1000,3,FALSE)","v":{"$error":"#N/A"}},null,null,0,0]
[{"$f":"VLOOKUP(B1127,'(1) Project Reference Item List'!$B$2:$C$1000,2,FALSE)","v":{"$error":"#N/A"}},null,null,null,null,null,null,null,null,null,null,{"$f":"VLOOKUP(B1127,'(1) Project Reference Item List'!$B$2:$D$1000,3,FALSE)","v":{"$error":"#N/A"}},null,null,0,0]
[{"$f":"VLOOKUP(B1128,'(1) Project Reference Item List'!$B$2:$C$1000,2,FALSE)","v":{"$error":"#N/A"}},null,null,null,null,null,null,null,null,null,null,{"$f":"VLOOKUP(B1128,'(1) Project Reference Item List'!$B$2:$D$1000,3,FALSE)","v":{"$error":"#N/A"}},null,null,0,0]
[{"$f":"VLOOKUP(B1129,'(1) Project Reference Item List'!$B$2:$C$1000,2,FALSE)","v":{"$error":"#N/A"}},null,null,null,null,null,null,null,null,null,null,{"$f":"VLOOKUP(B1129,'(1) Project Reference Item List'!$B$2:$D$1000,3,FALSE)","v":{"$error":"#N/A"}},null,null,0,0]
[{"$f":"VLOOKUP(B1130,'(1) Project Reference Item List'!$B$2:$C$1000,2,FALSE)","v":{"$error":"#N/A"}},null,null,null,null,null,null,null,null,null,null,{"$f":"VLOOKUP(B1130,'(1) Project Reference Item List'!$B$2:$D$1000,3,FALSE)","v":{"$error":"#N/A"}},null,null,0,0]
[{"$f":"VLOOKUP(B1131,'(1) Project Reference Item List'!$B$2:$C$1000,2,FALSE)","v":{"$error":"#N/A"}},null,null,null,null,null,null,null,null,null,null,{"$f":"VLOOKUP(B1131,'(1) Project Reference Item List'!$B$2:$D$1000,3,FALSE)","v":{"$error":"#N/A"}},null,null,0,0]
[{"$f":"VLOOKUP(B1132,'(1) Project Reference Item List'!$B$2:$C$1000,2,FALSE)","v":{"$error":"#N/A"}},null,null,null,null,null,null,null,null,null,null,{"$f":"VLOOKUP(B1132,'(1) Project Reference Item List'!$B$2:$D$1000,3,FALSE)","v":{"$error":"#N/A"}},null,null,0,0]
[{"$f":"VLOOKUP(B1133,'(1) Project Reference Item List'!$B$2:$C$1000,2,FALSE)","v":{"$error":"#N/A"}},null,null,null,null,null,null,null,null,null,null,{"$f":"VLOOKUP(B1133,'(1) Project Reference Item List'!$B$2:$D$1000,3,FALSE)","v":{"$error":"#N/A"}},null,null,0,0]
[{"$f":"VLOOKUP(B1134,'(1) Project Reference Item List'!$B$2:$C$1000,2,FALSE)","v":{"$error":"#N/A"}},null,null,null,null,null,null,null,null,null,null,{"$f":"VLOOKUP(B1134,'(1) Project Reference Item List'!$B$2:$D$1000,3,FALSE)","v":{"$error":"#N/A"}},null,null,0,0]
[{"$f":"VLOOKUP(B1135,'(1) Project Reference Item List'!$B$2:$C$1000,2,FALSE)","v":{"$error":"#N/A"}},null,null,null,null,null,null,null,null,null,null,{"$f":"VLOOKUP(B1135,'(1) Project Reference Item List'!$B$2:$D$1000,3,FALSE)","v":{"$error":"#N/A"}},null,null,0,0]
[{"$f":"VLOOKUP(B1136,'(1) Project Reference Item List'!$B$2:$C$1000,2,FALSE)","v":{"$error":"#N/A"}},null,null,null,null,null,null,null,null,null,null,{"$f":"VLOOKUP(B1136,'(1) Project Reference Item List'!$B$2:$D$1000,3,FALSE)","v":{"$error":"#N/A"}},null,null,0,0]
[{"$f":"VLOOKUP(B1137,'(1) Project Reference Item List'!$B$2:$C$1000,2,FALSE)","v":{"$error":"#N/A"}},null,null,null,null,null,null,null,null,null,null,{"$f":"VLOOKUP(B1137,'(1) Project Reference Item List'!$B$2:$D$1000,3,FALSE)","v":{"$error":"#N/A"}},null,null,0,0]
[{"$f":"VLOOKUP(B1138,'(1) Project Reference Item List'!$B$2:$C$1000,2,FALSE)","v":{"$error":"#N/A"}},null,null,null,null,null,null,null,null,null,null,{"$f":"VLOOKUP(B1138,'(1) Project Reference Item List'!$B$2:$D$1000,3,FALSE)","v":{"$error":"#N/A"}},null,null,0,0]
[{"$f":"VLOOKUP(B1139,'(1) Project Reference Item List'!$B$2:$C$1000,2,FALSE)","v":{"$error":"#N/A"}},null,null,null,null,null,null,null,null,null,null,{"$f":"VLOOKUP(B1139,'(1) Project Reference Item List'!$B$2:$D$1000,3,FALSE)","v":{"$error":"#N/A"}},null,null,0,0]
[{"$f":"VLOOKUP(B1140,'(1) Project Reference Item List'!$B$2:$C$1000,2,FALSE)","v":{"$error":"#N/A"}},null,null,null,null,null,null,null,null,null,null,{"$f":"VLOOKUP(B1140,'(1) Project Reference Item List'!$B$2:$D$1000,3,FALSE)","v":{"$error":"#N/A"}},null,null,0,0]
[{"$f":"VLOOKUP(B1141,'(1) Project Reference Item List'!$B$2:$C$1000,2,FALSE)","v":{"$error":"#N/A"}},null,null,null,null,null,null,null,null,null,null,{"$f":"VLOOKUP(B1141,'(1) Project Reference Item List'!$B$2:$D$1000,3,FALSE)","v":{"$error":"#N/A"}},null,null,0,0]
[{"$f":"VLOOKUP(B1142,'(1) Project Reference Item List'!$B$2:$C$1000,2,FALSE)","v":{"$error":"#N/A"}},null,null,null,null,null,null,null,null,null,null,{"$f":"VLOOKUP(B1142,'(1) Project Reference Item List'!$B$2:$D$1000,3,FALSE)","v":{"$error":"#N/A"}},null,null,0,0]
[{"$f":"VLOOKUP(B1143,'(1) Project Reference Item List'!$B$2:$C$1000,2,FALSE)","v":{"$error":"#N/A"}},null,null,null,null,null,null,null,null,null,null,{"$f":"VLOOKUP(B1143,'(1) Project Reference Item List'!$B$2:$D$1000,3,FALSE)","v":{"$error":"#N/A"}},null,null,0,0]
[{"$f":"VLOOKUP(B1144,'(1) Project Reference Item List'!$B$2:$C$1000,2,FALSE)","v":{"$error":"#N/A"}},null,null,null,null,null,null,null,null,null,null,{"$f":"VLOOKUP(B1144,'(1) Project Reference Item List'!$B$2:$D$1000,3,FALSE)","v":{"$error":"#N/A"}},null,null,0,0]
[{"$f":"VLOOKUP(B1145,'(1) Project Reference Item List'!$B$2:$C$1000,2,FALSE)","v":{"$error":"#N/A"}},null,null,null,null,null,null,null,null,null,null,{"$f":"VLOOKUP(B1145,'(1) Project Reference Item List'!$B$2:$D$1000,3,FALSE)","v":{"$error":"#N/A"}},null,null,0,0]
[{"$f":"VLOOKUP(B1146,'(1) Project Reference Item List'!$B$2:$C$1000,2,FALSE)","v":{"$error":"#N/A"}},null,null,null,null,null,null,null,null,null,null,{"$f":"VLOOKUP(B1146,'(1) Project Reference Item List'!$B$2:$D$1000,3,FALSE)","v":{"$error":"#N/A"}},null,null,0,0]
[{"$f":"VLOOKUP(B1147,'(1) Project Reference Item List'!$B$2:$C$1000,2,FALSE)","v":{"$error":"#N/A"}},null,null,null,null,null,null,null,null,null,null,{"$f":"VLOOKUP(B1147,'(1) Project Reference Item List'!$B$2:$D$1000,3,FALSE)","v":{"$error":"#N/A"}},null,null,0,0]
[{"$f":"VLOOKUP(B1148,'(1) Project Reference Item List'!$B$2:$C$1000,2,FALSE)","v":{"$error":"#N/A"}},null,null,null,null,null,null,null,null,null,null,{"$f":"VLOOKUP(B1148,'(1) Project Reference Item List'!$B$2:$D$1000,3,FALSE)","v":{"$error":"#N/A"}},null,null,0,0]
[{"$f":"VLOOKUP(B1149,'(1) Project Reference Item List'!$B$2:$C$1000,2,FALSE)","v":{"$error":"#N/A"}},null,null,null,null,null,null,null,null,null,null,{"$f":"VLOOKUP(B1149,'(1) Project Reference Item List'!$B$2:$D$1000,3,FALSE)","v":{"$error":"#N/A"}},null,null,0,0]
[{"$f":"VLOOKUP(B1150,'(1) Project Reference Item List'!$B$2:$C$1000,2,FALSE)","v":{"$error":"#N/A"}},null,null,null,null,null,null,null,null,null,null,{"$f":"VLOOKUP(B1150,'(1) Project Reference Item List'!$B$2:$D$1000,3,FALSE)","v":{"$error":"#N/A"}},null,null,0,0]
[{"$f":"VLOOKUP(B1151,'(1) Project Reference Item List'!$B$2:$C$1000,2,FALSE)","v":{"$error":"#N/A"}},null,null,null,null,null,null,null,null,null,null,{"$f":"VLOOKUP(B1151,'(1) Project Reference Item List'!$B$2:$D$1000,3,FALSE)","v":{"$error":"#N/A"}},null,null,0,0]
[{"$f":"VLOOKUP(B1152,'(1) Project Reference Item List'!$B$2:$C$1000,2,FALSE)","v":{"$error":"#N/A"}},null,null,null,null,null,null,null,null,null,null,{"$f":"VLOOKUP(B1152,'(1) Project Reference Item List'!$B$2:$D$1000,3,FALSE)","v":{"$error":"#N/A"}},null,null,0,0]
[{"$f":"VLOOKUP(B1153,'(1) Project Reference Item List'!$B$2:$C$1000,2,FALSE)","v":{"$error":"#N/A"}},null,null,null,null,null,null,null,null,null,null,{"$f":"VLOOKUP(B1153,'(1) Project Reference Item List'!$B$2:$D$1000,3,FALSE)","v":{"$error":"#N/A"}},null,null,0,0]
[{"$f":"VLOOKUP(B1154,'(1) Project Reference Item List'!$B$2:$C$1000,2,FALSE)","v":{"$error":"#N/A"}},null,null,null,null,null,null,null,null,null,null,{"$f":"VLOOKUP(B1154,'(1) Project Reference Item List'!$B$2:$D$1000,3,FALSE)","v":{"$error":"#N/A"}},null,null,0,0]
[{"$f":"VLOOKUP(B1155,'(1) Project Reference Item List'!$B$2:$C$1000,2,FALSE)","v":{"$error":"#N/A"}},null,null,null,null,null,null,null,null,null,null,{"$f":"VLOOKUP(B1155,'(1) Project Reference Item List'!$B$2:$D$1000,3,FALSE)","v":{"$error":"#N/A"}},null,null,0,0]
[{"$f":"VLOOKUP(B1156,'(1) Project Reference Item List'!$B$2:$C$1000,2,FALSE)","v":{"$error":"#N/A"}},null,null,null,null,null,null,null,null,null,null,{"$f":"VLOOKUP(B1156,'(1) Project Reference Item List'!$B$2:$D$1000,3,FALSE)","v":{"$error":"#N/A"}},null,null,0,0]
[{"$f":"VLOOKUP(B1157,'(1) Project Reference Item List'!$B$2:$C$1000,2,FALSE)","v":{"$error":"#N/A"}},null,null,null,null,null,null,null,null,null,null,{"$f":"VLOOKUP(B1157,'(1) Project Reference Item List'!$B$2:$D$1000,3,FALSE)","v":{"$error":"#N/A"}},null,null,0,0]
[{"$f":"VLOOKUP(B1158,'(1) Project Reference Item List'!$B$2:$C$1000,2,FALSE)","v":{"$error":"#N/A"}},null,null,null,null,null,null,null,null,null,null,{"$f":"VLOOKUP(B1158,'(1) Project Reference Item List'!$B$2:$D$1000,3,FALSE)","v":{"$error":"#N/A"}},null,null,{"$f":"IF(J1158=0,J1158,J1158*N1158)","v":0},{"$f":"(M1158-O1158)","v":0}]
[{"$f":"VLOOKUP(B1159,'(1) Project Reference Item List'!$B$2:$C$1000,2,FALSE)","v":{"$error":"#N/A"}},null,null,null,null,null,null,null,null,null,null,{"$f":"VLOOKUP(B1159,'(1) Project Reference Item List'!$B$2:$D$1000,3,FALSE)","v":{"$error":"#N/A"}},null,null,0,0]
[{"$f":"VLOOKUP(B1160,'(1) Project Reference Item List'!$B$2:$C$1000,2,FALSE)","v":{"$error":"#N/A"}},null,null,null,null,null,null,null,null,null,null,{"$f":"VLOOKUP(B1160,'(1) Project Reference Item List'!$B$2:$D$1000,3,FALSE)","v":{"$error":"#N/A"}},null,null,0,0]
[{"$f":"VLOOKUP(B1161,'(1) Project Reference Item List'!$B$2:$C$1000,2,FALSE)","v":{"$error":"#N/A"}},null,null,null,null,null,null,null,null,null,null,{"$f":"VLOOKUP(B1161,'(1) Project Reference Item List'!$B$2:$D$1000,3,FALSE)","v":{"$error":"#N/A"}},null,null,0,0]
[{"$f":"VLOOKUP(B1162,'(1) Project Reference Item List'!$B$2:$C$1000,2,FALSE)","v":{"$error":"#N/A"}},null,null,null,null,null,null,null,null,null,null,{"$f":"VLOOKUP(B1162,'(1) Project Reference Item List'!$B$2:$D$1000,3,FALSE)","v":{"$error":"#N/A"}},null,null,0,0]
[{"$f":"VLOOKUP(B1163,'(1) Project Reference Item List'!$B$2:$C$1000,2,FALSE)","v":{"$error":"#N/A"}},null,null,null,null,null,null,null,null,null,null,{"$f":"VLOOKUP(B1163,'(1) Project Reference Item List'!$B$2:$D$1000,3,FALSE)","v":{"$error":"#N/A"}},null,null,0,0]
[{"$f":"VLOOKUP(B1164,'(1) Project Reference Item List'!$B$2:$C$1000,2,FALSE)","v":{"$error":"#N/A"}},null,null,null,null,null,null,null,null,null,null,{"$f":"VLOOKUP(B1164,'(1) Project Reference Item List'!$B$2:$D$1000,3,FALSE)","v":{"$error":"#N/A"}},null,null,0,0]
[{"$f":"VLOOKUP(B1165,'(1) Project Reference Item List'!$B$2:$C$1000,2,FALSE)","v":{"$error":"#N/A"}},null,null,null,null,null,null,null,null,null,null,{"$f":"VLOOKUP(B1165,'(1) Project Reference Item List'!$B$2:$D$1000,3,FALSE)","v":{"$error":"#N/A"}},null,null,0,0]
[{"$f":"VLOOKUP(B1166,'(1) Project Reference Item List'!$B$2:$C$1000,2,FALSE)","v":{"$error":"#N/A"}},null,null,null,null,null,null,null,null,null,null,{"$f":"VLOOKUP(B1166,'(1) Project Reference Item List'!$B$2:$D$1000,3,FALSE)","v":{"$error":"#N/A"}},null,null,0,0]
[{"$f":"VLOOKUP(B1167,'(1) Project Reference Item List'!$B$2:$C$1000,2,FALSE)","v":{"$error":"#N/A"}},null,null,null,null,null,null,null,null,null,null,{"$f":"VLOOKUP(B1167,'(1) Project Reference Item List'!$B$2:$D$1000,3,FALSE)","v":{"$error":"#N/A"}},null,null,0,0]
[{"$f":"VLOOKUP(B1168,'(1) Project Reference Item List'!$B$2:$C$1000,2,FALSE)","v":{"$error":"#N/A"}},null,null,null,null,null,null,null,null,null,null,{"$f":"VLOOKUP(B1168,'(1) Project Reference Item List'!$B$2:$D$1000,3,FALSE)","v":{"$error":"#N/A"}},null,null,0,0]
[{"$f":"VLOOKUP(B1169,'(1) Project Reference Item List'!$B$2:$C$1000,2,FALSE)","v":{"$error":"#N/A"}},null,null,null,null,null,null,null,null,null,null,{"$f":"VLOOKUP(B1169,'(1) Project Reference Item List'!$B$2:$D$1000,3,FALSE)","v":{"$error":"#N/A"}},null,null,0,0]
[{"$f":"VLOOKUP(B1170,'(1) Project Reference Item List'!$B$2:$C$1000,2,FALSE)","v":{"$error":"#N/A"}},null,null,null,null,null,null,null,null,null,null,{"$f":"VLOOKUP(B1170,'(1) Project Reference Item List'!$B$2:$D$1000,3,FALSE)","v":{"$error":"#N/A"}},null,null,0,0]
[{"$f":"VLOOKUP(B1171,'(1) Project Reference Item List'!$B$2:$C$1000,2,FALSE)","v":{"$error":"#N/A"}},null,null,null,null,null,null,null,null,null,null,{"$f":"VLOOKUP(B1171,'(1) Project Reference Item List'!$B$2:$D$1000,3,FALSE)","v":{"$error":"#N/A"}},null,null,0,0]
[{"$f":"VLOOKUP(B1172,'(1) Project Reference Item List'!$B$2:$C$1000,2,FALSE)","v":{"$error":"#N/A"}},null,null,null,null,null,null,null,null,null,null,{"$f":"VLOOKUP(B1172,'(1) Project Reference Item List'!$B$2:$D$1000,3,FALSE)","v":{"$error":"#N/A"}},null,null,0,0]
[{"$f":"VLOOKUP(B1173,'(1) Project Reference Item List'!$B$2:$C$1000,2,FALSE)","v":{"$error":"#N/A"}},null,null,null,null,null,null,null,null,null,null,{"$f":"VLOOKUP(B1173,'(1) Project Reference Item List'!$B$2:$D$1000,3,FALSE)","v":{"$error":"#N/A"}},null,null,0,0]
[{"$f":"VLOOKUP(B1174,'(1) Project Reference Item List'!$B$2:$C$1000,2,FALSE)","v":{"$error":"#N/A"}},null,null,null,null,null,null,null,null,null,null,{"$f":"VLOOKUP(B1174,'(1) Project Reference Item List'!$B$2:$D$1000,3,FALSE)","v":{"$error":"#N/A"}},null,null,0,0]
[{"$f":"VLOOKUP(B1175,'(1) Project Reference Item List'!$B$2:$C$1000,2,FALSE)","v":{"$error":"#N/A"}},null,null,null,null,null,null,null,null,null,null,{"$f":"VLOOKUP(B1175,'(1) Project Reference Item List'!$B$2:$D$1000,3,FALSE)","v":{"$error":"#N/A"}},null,null,0,0]
[{"$f":"VLOOKUP(B1176,'(1) Project Reference Item List'!$B$2:$C$1000,2,FALSE)","v":{"$error":"#N/A"}},null,null,null,null,null,null,null,null,null,null,{"$f":"VLOOKUP(B1176,'(1) Project Reference Item List'!$B$2:$D$1000,3,FALSE)","v":{"$error":"#N/A"}},null,null,0,0]
[{"$f":"VLOOKUP(B1177,'(1) Project Reference Item List'!$B$2:$C$1000,2,FALSE)","v":{"$error":"#N/A"}},null,null,null,null,null,null,null,null,null,null,{"$f":"VLOOKUP(B1177,'(1) Project Reference Item List'!$B$2:$D$1000,3,FALSE)","v":{"$error":"#N/A"}},null,null,0,0]
[{"$f":"VLOOKUP(B1178,'(1) Project Reference Item List'!$B$2:$C$1000,2,FALSE)","v":{"$error":"#N/A"}},null,null,null,null,null,null,null,null,null,null,{"$f":"VLOOKUP(B1178,'(1) Project Reference Item List'!$B$2:$D$1000,3,FALSE)","v":{"$error":"#N/A"}},null,null,0,0]
[{"$f":"VLOOKUP(B1179,'(1) Project Reference Item List'!$B$2:$C$1000,2,FALSE)","v":{"$error":"#N/A"}},null,null,null,null,null,null,null,null,null,null,{"$f":"VLOOKUP(B1179,'(1) Project Reference Item List'!$B$2:$D$1000,3,FALSE)","v":{"$error":"#N/A"}},null,null,0,0]
[{"$f":"VLOOKUP(B1180,'(1) Project Reference Item List'!$B$2:$C$1000,2,FALSE)","v":{"$error":"#N/A"}},null,null,null,null,null,null,null,null,null,null,{"$f":"VLOOKUP(B1180,'(1) Project Reference Item List'!$B$2:$D$1000,3,FALSE)","v":{"$error":"#N/A"}},null,null,0,0]
[{"$f":"VLOOKUP(B1181,'(1) Project Reference Item List'!$B$2:$C$1000,2,FALSE)","v":{"$error":"#N/A"}},null,null,null,null,null,null,null,null,null,null,{"$f":"VLOOKUP(B1181,'(1) Project Reference Item List'!$B$2:$D$1000,3,FALSE)","v":{"$error":"#N/A"}},null,null,0,0]
[{"$f":"VLOOKUP(B1182,'(1) Project Reference Item List'!$B$2:$C$1000,2,FALSE)","v":{"$error":"#N/A"}},null,null,null,null,null,null,null,null,null,null,{"$f":"VLOOKUP(B1182,'(1) Project Reference Item List'!$B$2:$D$1000,3,FALSE)","v":{"$error":"#N/A"}},null,null,0,0]
[{"$f":"VLOOKUP(B1183,'(1) Project Reference Item List'!$B$2:$C$1000,2,FALSE)","v":{"$error":"#N/A"}},null,null,null,null,null,null,null,null,null,null,{"$f":"VLOOKUP(B1183,'(1) Project Reference Item List'!$B$2:$D$1000,3,FALSE)","v":{"$error":"#N/A"}},null,null,0,0]
[{"$f":"VLOOKUP(B1184,'(1) Project Reference Item List'!$B$2:$C$1000,2,FALSE)","v":{"$error":"#N/A"}},null,null,null,null,null,null,null,null,null,null,{"$f":"VLOOKUP(B1184,'(1) Project Reference Item List'!$B$2:$D$1000,3,FALSE)","v":{"$error":"#N/A"}},null,null,0,0]
[{"$f":"VLOOKUP(B1185,'(1) Project Reference Item List'!$B$2:$C$1000,2,FALSE)","v":{"$error":"#N/A"}},null,null,null,null,null,null,null,null,null,null,{"$f":"VLOOKUP(B1185,'(1) Project Reference Item List'!$B$2:$D$1000,3,FALSE)","v":{"$error":"#N/A"}},null,null,0,0]
[{"$f":"VLOOKUP(B1186,'(1) Project Reference Item List'!$B$2:$C$1000,2,FALSE)","v":{"$error":"#N/A"}},null,null,null,null,null,null,null,null,null,null,{"$f":"VLOOKUP(B1186,'(1) Project Reference Item List'!$B$2:$D$1000,3,FALSE)","v":{"$error":"#N/A"}},null,null,0,0]
[{"$f":"VLOOKUP(B1187,'(1) Project Reference Item List'!$B$2:$C$1000,2,FALSE)","v":{"$error":"#N/A"}},null,null,null,null,null,null,null,null,null,null,{"$f":"VLOOKUP(B1187,'(1) Project Reference Item List'!$B$2:$D$1000,3,FALSE)","v":{"$error":"#N/A"}},null,null,0,0]
[{"$f":"VLOOKUP(B1188,'(1) Project Reference Item List'!$B$2:$C$1000,2,FALSE)","v":{"$error":"#N/A"}},null,null,null,null,null,null,null,null,null,null,{"$f":"VLOOKUP(B1188,'(1) Project Reference Item List'!$B$2:$D$1000,3,FALSE)","v":{"$error":"#N/A"}},null,null,0,0]
[{"$f":"VLOOKUP(B1189,'(1) Project Reference Item List'!$B$2:$C$1000,2,FALSE)","v":{"$error":"#N/A"}},null,null,null,null,null,null,null,null,null,null,{"$f":"VLOOKUP(B1189,'(1) Project Reference Item List'!$B$2:$D$1000,3,FALSE)","v":{"$error":"#N/A"}},null,null,0,0]
[{"$f":"VLOOKUP(B1190,'(1) Project Reference Item List'!$B$2:$C$1000,2,FALSE)","v":{"$error":"#N/A"}},null,null,null,null,null,null,null,null,null,null,{"$f":"VLOOKUP(B1190,'(1) Project Reference Item List'!$B$2:$D$1000,3,FALSE)","v":{"$error":"#N/A"}},null,null,0,0]
[{"$f":"VLOOKUP(B1191,'(1) Project Reference Item List'!$B$2:$C$1000,2,FALSE)","v":{"$error":"#N/A"}},null,null,null,null,null,null,null,null,null,null,{"$f":"VLOOKUP(B1191,'(1) Project Reference Item List'!$B$2:$D$1000,3,FALSE)","v":{"$error":"#N/A"}},null,null,0,0]
[{"$f":"VLOOKUP(B1192,'(1) Project Reference Item List'!$B$2:$C$1000,2,FALSE)","v":{"$error":"#N/A"}},null,null,null,null,null,null,null,null,null,null,{"$f":"VLOOKUP(B1192,'(1) Project Reference Item List'!$B$2:$D$1000,3,FALSE)","v":{"$error":"#N/A"}},null,null,0,0]
[{"$f":"VLOOKUP(B1193,'(1) Project Reference Item List'!$B$2:$C$1000,2,FALSE)","v":{"$error":"#N/A"}},null,null,null,null,null,null,null,null,null,null,{"$f":"VLOOKUP(B1193,'(1) Project Reference Item List'!$B$2:$D$1000,3,FALSE)","v":{"$error":"#N/A"}},null,null,0,0]
[{"$f":"VLOOKUP(B1194,'(1) Project Reference Item List'!$B$2:$C$1000,2,FALSE)","v":{"$error":"#N/A"}},null,null,null,null,null,null,null,null,null,null,{"$f":"VLOOKUP(B1194,'(1) Project Reference Item List'!$B$2:$D$1000,3,FALSE)","v":{"$error":"#N/A"}},null,null,0,0]
[{"$f":"VLOOKUP(B1195,'(1) Project Reference Item List'!$B$2:$C$1000,2,FALSE)","v":{"$error":"#N/A"}},null,null,null,null,null,null,null,null,null,null,{"$f":"VLOOKUP(B1195,'(1) Project Reference Item List'!$B$2:$D$1000,3,FALSE)","v":{"$error":"#N/A"}},null,null,0,0]
[{"$f":"VLOOKUP(B1196,'(1) Project Reference Item List'!$B$2:$C$1000,2,FALSE)","v":{"$error":"#N/A"}},null,null,null,null,null,null,null,null,null,null,{"$f":"VLOOKUP(B1196,'(1) Project Reference Item List'!$B$2:$D$1000,3,FALSE)","v":{"$error":"#N/A"}},null,null,0,0]
[{"$f":"VLOOKUP(B1197,'(1) Project Reference Item List'!$B$2:$C$1000,2,FALSE)","v":{"$error":"#N/A"}},null,null,null,null,null,null,null,null,null,null,{"$f":"VLOOKUP(B1197,'(1) Project Reference Item List'!$B$2:$D$1000,3,FALSE)","v":{"$error":"#N/A"}},null,null,0,0]
[{"$f":"VLOOKUP(B1198,'(1) Project Reference Item List'!$B$2:$C$1000,2,FALSE)","v":{"$error":"#N/A"}},null,null,null,null,null,null,null,null,null,null,{"$f":"VLOOKUP(B1198,'(1) Project Reference Item List'!$B$2:$D$1000,3,FALSE)","v":{"$error":"#N/A"}},null,null,0,0]
[{"$f":"VLOOKUP(B1199,'(1) Project Reference Item List'!$B$2:$C$1000,2,FALSE)","v":{"$error":"#N/A"}},null,null,null,null,null,null,null,null,null,null,{"$f":"VLOOKUP(B1199,'(1) Project Reference Item List'!$B$2:$D$1000,3,FALSE)","v":{"$error":"#N/A"}},null,null,0,0]
[{"$f":"VLOOKUP(B1200,'(1) Project Reference Item List'!$B$2:$C$1000,2,FALSE)","v":{"$error":"#N/A"}},null,null,null,null,null,null,null,null,null,null,{"$f":"VLOOKUP(B1200,'(1) Project Reference Item List'!$B$2:$D$1000,3,FALSE)","v":{"$error":"#N/A"}},null,null,0,0]
[{"$f":"VLOOKUP(B1201,'(1) Project Reference Item List'!$B$2:$C$1000,2,FALSE)","v":{"$error":"#N/A"}},null,null,null,null,null,null,null,null,null,null,{"$f":"VLOOKUP(B1201,'(1) Project Reference Item List'!$B$2:$D$1000,3,FALSE)","v":{"$error":"#N/A"}},null,null,0,0]
[{"$f":"VLOOKUP(B1202,'(1) Project Reference Item List'!$B$2:$C$1000,2,FALSE)","v":{"$error":"#N/A"}},null,null,null,null,null,null,null,null,null,null,{"$f":"VLOOKUP(B1202,'(1) Project Reference Item List'!$B$2:$D$1000,3,FALSE)","v":{"$error":"#N/A"}},null,null,0,0]
[{"$f":"VLOOKUP(B1203,'(1) Project Reference Item List'!$B$2:$C$1000,2,FALSE)","v":{"$error":"#N/A"}},null,null,null,null,null,null,null,null,null,null,{"$f":"VLOOKUP(B1203,'(1) Project Reference Item List'!$B$2:$D$1000,3,FALSE)","v":{"$error":"#N/A"}},null,null,0,0]
[{"$f":"VLOOKUP(B1204,'(1) Project Reference Item List'!$B$2:$C$1000,2,FALSE)","v":{"$error":"#N/A"}},null,null,null,null,null,null,null,null,null,null,{"$f":"VLOOKUP(B1204,'(1) Project Reference Item List'!$B$2:$D$1000,3,FALSE)","v":{"$error":"#N/A"}},null,null,0,0]
[{"$f":"VLOOKUP(B1205,'(1) Project Reference Item List'!$B$2:$C$1000,2,FALSE)","v":{"$error":"#N/A"}},null,null,null,null,null,null,null,null,null,null,{"$f":"VLOOKUP(B1205,'(1) Project Reference Item List'!$B$2:$D$1000,3,FALSE)","v":{"$error":"#N/A"}},null,null,0,0]
[{"$f":"VLOOKUP(B1206,'(1) Project Reference Item List'!$B$2:$C$1000,2,FALSE)","v":{"$error":"#N/A"}},null,null,null,null,null,null,null,null,null,null,{"$f":"VLOOKUP(B1206,'(1) Project Reference Item List'!$B$2:$D$1000,3,FALSE)","v":{"$error":"#N/A"}},null,null,0,0]
[{"$f":"VLOOKUP(B1207,'(1) Project Reference Item List'!$B$2:$C$1000,2,FALSE)","v":{"$error":"#N/A"}},null,null,null,null,null,null,null,null,null,null,{"$f":"VLOOKUP(B1207,'(1) Project Reference Item List'!$B$2:$D$1000,3,FALSE)","v":{"$error":"#N/A"}},null,null,0,0]
[{"$f":"VLOOKUP(B1208,'(1) Project Reference Item List'!$B$2:$C$1000,2,FALSE)","v":{"$error":"#N/A"}},null,null,null,null,null,null,null,null,null,null,{"$f":"VLOOKUP(B1208,'(1) Project Reference Item List'!$B$2:$D$1000,3,FALSE)","v":{"$error":"#N/A"}},null,null,0,0]
[{"$f":"VLOOKUP(B1209,'(1) Project Reference Item List'!$B$2:$C$1000,2,FALSE)","v":{"$error":"#N/A"}},null,null,null,null,null,null,null,null,null,null,{"$f":"VLOOKUP(B1209,'(1) Project Reference Item List'!$B$2:$D$1000,3,FALSE)","v":{"$error":"#N/A"}},null,null,0,0]
[{"$f":"VLOOKUP(B1210,'(1) Project Reference Item List'!$B$2:$C$1000,2,FALSE)","v":{"$error":"#N/A"}},null,null,null,null,null,null,null,null,null,null,{"$f":"VLOOKUP(B1210,'(1) Project Reference Item List'!$B$2:$D$1000,3,FALSE)","v":{"$error":"#N/A"}},null,null,0,0]
[{"$f":"VLOOKUP(B1211,'(1) Project Reference Item List'!$B$2:$C$1000,2,FALSE)","v":{"$error":"#N/A"}},null,null,null,null,null,null,null,null,null,null,{"$f":"VLOOKUP(B1211,'(1) Project Reference Item List'!$B$2:$D$1000,3,FALSE)","v":{"$error":"#N/A"}},null,null,0,0]
[{"$f":"VLOOKUP(B1212,'(1) Project Reference Item List'!$B$2:$C$1000,2,FALSE)","v":{"$error":"#N/A"}},null,null,null,null,null,null,null,null,null,null,{"$f":"VLOOKUP(B1212,'(1) Project Reference Item List'!$B$2:$D$1000,3,FALSE)","v":{"$error":"#N/A"}},null,null,0,0]
[{"$f":"VLOOKUP(B1213,'(1) Project Reference Item List'!$B$2:$C$1000,2,FALSE)","v":{"$error":"#N/A"}},null,null,null,null,null,null,null,null,null,null,{"$f":"VLOOKUP(B1213,'(1) Project Reference Item List'!$B$2:$D$1000,3,FALSE)","v":{"$error":"#N/A"}},null,null,0,0]
[{"$f":"VLOOKUP(B1214,'(1) Project Reference Item List'!$B$2:$C$1000,2,FALSE)","v":{"$error":"#N/A"}},null,null,null,null,null,null,null,null,null,null,{"$f":"VLOOKUP(B1214,'(1) Project Reference Item List'!$B$2:$D$1000,3,FALSE)","v":{"$error":"#N/A"}},null,null,0,0]
[{"$f":"VLOOKUP(B1215,'(1) Project Reference Item List'!$B$2:$C$1000,2,FALSE)","v":{"$error":"#N/A"}},null,null,null,null,null,null,null,null,null,null,{"$f":"VLOOKUP(B1215,'(1) Project Reference Item List'!$B$2:$D$1000,3,FALSE)","v":{"$error":"#N/A"}},null,null,0,0]
[{"$f":"VLOOKUP(B1216,'(1) Project Reference Item List'!$B$2:$C$1000,2,FALSE)","v":{"$error":"#N/A"}},null,null,null,null,null,null,null,null,null,null,{"$f":"VLOOKUP(B1216,'(1) Project Reference Item List'!$B$2:$D$1000,3,FALSE)","v":{"$error":"#N/A"}},null,null,0,0]
[{"$f":"VLOOKUP(B1217,'(1) Project Reference Item List'!$B$2:$C$1000,2,FALSE)","v":{"$error":"#N/A"}},null,null,null,null,null,null,null,null,null,null,{"$f":"VLOOKUP(B1217,'(1) Project Reference Item List'!$B$2:$D$1000,3,FALSE)","v":{"$error":"#N/A"}},null,null,0,0]
[{"$f":"VLOOKUP(B1218,'(1) Project Reference Item List'!$B$2:$C$1000,2,FALSE)","v":{"$error":"#N/A"}},null,null,null,null,null,null,null,null,null,null,{"$f":"VLOOKUP(B1218,'(1) Project Reference Item List'!$B$2:$D$1000,3,FALSE)","v":{"$error":"#N/A"}},null,null,0,0]
[{"$f":"VLOOKUP(B1219,'(1) Project Reference Item List'!$B$2:$C$1000,2,FALSE)","v":{"$error":"#N/A"}},null,null,null,null,null,null,null,null,null,null,{"$f":"VLOOKUP(B1219,'(1) Project Reference Item List'!$B$2:$D$1000,3,FALSE)","v":{"$error":"#N/A"}},null,null,0,0]
[{"$f":"VLOOKUP(B1220,'(1) Project Reference Item List'!$B$2:$C$1000,2,FALSE)","v":{"$error":"#N/A"}},null,null,null,null,null,null,null,null,null,null,{"$f":"VLOOKUP(B1220,'(1) Project Reference Item List'!$B$2:$D$1000,3,FALSE)","v":{"$error":"#N/A"}},null,null,0,0]
[{"$f":"VLOOKUP(B1221,'(1) Project Reference Item List'!$B$2:$C$1000,2,FALSE)","v":{"$error":"#N/A"}},null,null,null,null,null,null,null,null,null,null,{"$f":"VLOOKUP(B1221,'(1) Project Reference Item List'!$B$2:$D$1000,3,FALSE)","v":{"$error":"#N/A"}},null,null,0,0]
[{"$f":"VLOOKUP(B1222,'(1) Project Reference Item List'!$B$2:$C$1000,2,FALSE)","v":{"$error":"#N/A"}},null,null,null,null,null,null,null,null,null,null,{"$f":"VLOOKUP(B1222,'(1) Project Reference Item List'!$B$2:$D$1000,3,FALSE)","v":{"$error":"#N/A"}},null,null,{"$f":"IF(J1222=0,J1222,J1222*N1222)","v":0},{"$f":"(M1222-O1222)","v":0}]
[{"$f":"VLOOKUP(B1223,'(1) Project Reference Item List'!$B$2:$C$1000,2,FALSE)","v":{"$error":"#N/A"}},null,null,null,null,null,null,null,null,null,null,{"$f":"VLOOKUP(B1223,'(1) Project Reference Item List'!$B$2:$D$1000,3,FALSE)","v":{"$error":"#N/A"}},null,null,0,0]
[{"$f":"VLOOKUP(B1224,'(1) Project Reference Item List'!$B$2:$C$1000,2,FALSE)","v":{"$error":"#N/A"}},null,null,null,null,null,null,null,null,null,null,{"$f":"VLOOKUP(B1224,'(1) Project Reference Item List'!$B$2:$D$1000,3,FALSE)","v":{"$error":"#N/A"}},null,null,0,0]
[{"$f":"VLOOKUP(B1225,'(1) Project Reference Item List'!$B$2:$C$1000,2,FALSE)","v":{"$error":"#N/A"}},null,null,null,null,null,null,null,null,null,null,{"$f":"VLOOKUP(B1225,'(1) Project Reference Item List'!$B$2:$D$1000,3,FALSE)","v":{"$error":"#N/A"}},null,null,0,0]
[{"$f":"VLOOKUP(B1226,'(1) Project Reference Item List'!$B$2:$C$1000,2,FALSE)","v":{"$error":"#N/A"}},null,null,null,null,null,null,null,null,null,null,{"$f":"VLOOKUP(B1226,'(1) Project Reference Item List'!$B$2:$D$1000,3,FALSE)","v":{"$error":"#N/A"}},null,null,0,0]
[{"$f":"VLOOKUP(B1227,'(1) Project Reference Item List'!$B$2:$C$1000,2,FALSE)","v":{"$error":"#N/A"}},null,null,null,null,null,null,null,null,null,null,{"$f":"VLOOKUP(B1227,'(1) Project Reference Item List'!$B$2:$D$1000,3,FALSE)","v":{"$error":"#N/A"}},null,null,0,0]
[{"$f":"VLOOKUP(B1228,'(1) Project Reference Item List'!$B$2:$C$1000,2,FALSE)","v":{"$error":"#N/A"}},null,null,null,null,null,null,null,null,null,null,{"$f":"VLOOKUP(B1228,'(1) Project Reference Item List'!$B$2:$D$1000,3,FALSE)","v":{"$error":"#N/A"}},null,null,0,0]
[{"$f":"VLOOKUP(B1229,'(1) Project Reference Item List'!$B$2:$C$1000,2,FALSE)","v":{"$error":"#N/A"}},null,null,null,null,null,null,null,null,null,null,{"$f":"VLOOKUP(B1229,'(1) Project Reference Item List'!$B$2:$D$1000,3,FALSE)","v":{"$error":"#N/A"}},null,null,0,0]
[{"$f":"VLOOKUP(B1230,'(1) Project Reference Item List'!$B$2:$C$1000,2,FALSE)","v":{"$error":"#N/A"}},null,null,null,null,null,null,null,null,null,null,{"$f":"VLOOKUP(B1230,'(1) Project Reference Item List'!$B$2:$D$1000,3,FALSE)","v":{"$error":"#N/A"}},null,null,0,0]
[{"$f":"VLOOKUP(B1231,'(1) Project Reference Item List'!$B$2:$C$1000,2,FALSE)","v":{"$error":"#N/A"}},null,null,null,null,null,null,null,null,null,null,{"$f":"VLOOKUP(B1231,'(1) Project Reference Item List'!$B$2:$D$1000,3,FALSE)","v":{"$error":"#N/A"}},null,null,0,0]
[{"$f":"VLOOKUP(B1232,'(1) Project Reference Item List'!$B$2:$C$1000,2,FALSE)","v":{"$error":"#N/A"}},null,null,null,null,null,null,null,null,null,null,{"$f":"VLOOKUP(B1232,'(1) Project Reference Item List'!$B$2:$D$1000,3,FALSE)","v":{"$error":"#N/A"}},null,null,0,0]
[{"$f":"VLOOKUP(B1233,'(1) Project Reference Item List'!$B$2:$C$1000,2,FALSE)","v":{"$error":"#N/A"}},null,null,null,null,null,null,null,null,null,null,{"$f":"VLOOKUP(B1233,'(1) Project Reference Item List'!$B$2:$D$1000,3,FALSE)","v":{"$error":"#N/A"}},null,null,0,0]
[{"$f":"VLOOKUP(B1234,'(1) Project Reference Item List'!$B$2:$C$1000,2,FALSE)","v":{"$error":"#N/A"}},null,null,null,null,null,null,null,null,null,null,{"$f":"VLOOKUP(B1234,'(1) Project Reference Item List'!$B$2:$D$1000,3,FALSE)","v":{"$error":"#N/A"}},null,null,0,0]
[{"$f":"VLOOKUP(B1235,'(1) Project Reference Item List'!$B$2:$C$1000,2,FALSE)","v":{"$error":"#N/A"}},null,null,null,null,null,null,null,null,null,null,{"$f":"VLOOKUP(B1235,'(1) Project Reference Item List'!$B$2:$D$1000,3,FALSE)","v":{"$error":"#N/A"}},null,null,0,0]
[{"$f":"VLOOKUP(B1236,'(1) Project Reference Item List'!$B$2:$C$1000,2,FALSE)","v":{"$error":"#N/A"}},null,null,null,null,null,null,null,null,null,null,{"$f":"VLOOKUP(B1236,'(1) Project Reference Item List'!$B$2:$D$1000,3,FALSE)","v":{"$error":"#N/A"}},null,null,0,0]
[{"$f":"VLOOKUP(B1237,'(1) Project Reference Item List'!$B$2:$C$1000,2,FALSE)","v":{"$error":"#N/A"}},null,null,null,null,null,null,null,null,null,null,{"$f":"VLOOKUP(B1237,'(1) Project Reference Item List'!$B$2:$D$1000,3,FALSE)","v":{"$error":"#N/A"}},null,null,0,0]
[{"$f":"VLOOKUP(B1238,'(1) Project Reference Item List'!$B$2:$C$1000,2,FALSE)","v":{"$error":"#N/A"}},null,null,null,null,null,null,null,null,null,null,{"$f":"VLOOKUP(B1238,'(1) Project Reference Item List'!$B$2:$D$1000,3,FALSE)","v":{"$error":"#N/A"}},null,null,0,0]
[{"$f":"VLOOKUP(B1239,'(1) Project Reference Item List'!$B$2:$C$1000,2,FALSE)","v":{"$error":"#N/A"}},null,null,null,null,null,null,null,null,null,null,{"$f":"VLOOKUP(B1239,'(1) Project Reference Item List'!$B$2:$D$1000,3,FALSE)","v":{"$error":"#N/A"}},null,null,0,0]
[{"$f":"VLOOKUP(B1240,'(1) Project Reference Item List'!$B$2:$C$1000,2,FALSE)","v":{"$error":"#N/A"}},null,null,null,null,null,null,null,null,null,null,{"$f":"VLOOKUP(B1240,'(1) Project Reference Item List'!$B$2:$D$1000,3,FALSE)","v":{"$error":"#N/A"}},null,null,0,0]
[{"$f":"VLOOKUP(B1241,'(1) Project Reference Item List'!$B$2:$C$1000,2,FALSE)","v":{"$error":"#N/A"}},null,null,null,null,null,null,null,null,null,null,{"$f":"VLOOKUP(B1241,'(1) Project Reference Item List'!$B$2:$D$1000,3,FALSE)","v":{"$error":"#N/A"}},null,null,0,0]
[{"$f":"VLOOKUP(B1242,'(1) Project Reference Item List'!$B$2:$C$1000,2,FALSE)","v":{"$error":"#N/A"}},null,null,null,null,null,null,null,null,null,null,{"$f":"VLOOKUP(B1242,'(1) Project Reference Item List'!$B$2:$D$1000,3,FALSE)","v":{"$error":"#N/A"}},null,null,0,0]
[{"$f":"VLOOKUP(B1243,'(1) Project Reference Item List'!$B$2:$C$1000,2,FALSE)","v":{"$error":"#N/A"}},null,null,null,null,null,null,null,null,null,null,{"$f":"VLOOKUP(B1243,'(1) Project Reference Item List'!$B$2:$D$1000,3,FALSE)","v":{"$error":"#N/A"}},null,null,0,0]
[{"$f":"VLOOKUP(B1244,'(1) Project Reference Item List'!$B$2:$C$1000,2,FALSE)","v":{"$error":"#N/A"}},null,null,null,null,null,null,null,null,null,null,{"$f":"VLOOKUP(B1244,'(1) Project Reference Item List'!$B$2:$D$1000,3,FALSE)","v":{"$error":"#N/A"}},null,null,0,0]
[{"$f":"VLOOKUP(B1245,'(1) Project Reference Item List'!$B$2:$C$1000,2,FALSE)","v":{"$error":"#N/A"}},null,null,null,null,null,null,null,null,null,null,{"$f":"VLOOKUP(B1245,'(1) Project Reference Item List'!$B$2:$D$1000,3,FALSE)","v":{"$error":"#N/A"}},null,null,0,0]
[{"$f":"VLOOKUP(B1246,'(1) Project Reference Item List'!$B$2:$C$1000,2,FALSE)","v":{"$error":"#N/A"}},null,null,null,null,null,null,null,null,null,null,{"$f":"VLOOKUP(B1246,'(1) Project Reference Item List'!$B$2:$D$1000,3,FALSE)","v":{"$error":"#N/A"}},null,null,0,0]
[{"$f":"VLOOKUP(B1247,'(1) Project Reference Item List'!$B$2:$C$1000,2,FALSE)","v":{"$error":"#N/A"}},null,null,null,null,null,null,null,null,null,null,{"$f":"VLOOKUP(B1247,'(1) Project Reference Item List'!$B$2:$D$1000,3,FALSE)","v":{"$error":"#N/A"}},null,null,0,0]
[{"$f":"VLOOKUP(B1248,'(1) Project Reference Item List'!$B$2:$C$1000,2,FALSE)","v":{"$error":"#N/A"}},null,null,null,null,null,null,null,null,null,null,{"$f":"VLOOKUP(B1248,'(1) Project Reference Item List'!$B$2:$D$1000,3,FALSE)","v":{"$error":"#N/A"}},null,null,0,0]
[{"$f":"VLOOKUP(B1249,'(1) Project Reference Item List'!$B$2:$C$1000,2,FALSE)","v":{"$error":"#N/A"}},null,null,null,null,null,null,null,null,null,null,{"$f":"VLOOKUP(B1249,'(1) Project Reference Item List'!$B$2:$D$1000,3,FALSE)","v":{"$error":"#N/A"}},null,null,0,0]
[{"$f":"VLOOKUP(B1250,'(1) Project Reference Item List'!$B$2:$C$1000,2,FALSE)","v":{"$error":"#N/A"}},null,null,null,null,null,null,null,null,null,null,{"$f":"VLOOKUP(B1250,'(1) Project Reference Item List'!$B$2:$D$1000,3,FALSE)","v":{"$error":"#N/A"}},null,null,0,0]
[{"$f":"VLOOKUP(B1251,'(1) Project Reference Item List'!$B$2:$C$1000,2,FALSE)","v":{"$error":"#N/A"}},null,null,null,null,null,null,null,null,null,null,{"$f":"VLOOKUP(B1251,'(1) Project Reference Item List'!$B$2:$D$1000,3,FALSE)","v":{"$error":"#N/A"}},null,null,0,0]
[{"$f":"VLOOKUP(B1252,'(1) Project Reference Item List'!$B$2:$C$1000,2,FALSE)","v":{"$error":"#N/A"}},null,null,null,null,null,null,null,null,null,null,{"$f":"VLOOKUP(B1252,'(1) Project Reference Item List'!$B$2:$D$1000,3,FALSE)","v":{"$error":"#N/A"}},null,null,0,0]
[{"$f":"VLOOKUP(B1253,'(1) Project Reference Item List'!$B$2:$C$1000,2,FALSE)","v":{"$error":"#N/A"}},null,null,null,null,null,null,null,null,null,null,{"$f":"VLOOKUP(B1253,'(1) Project Reference Item List'!$B$2:$D$1000,3,FALSE)","v":{"$error":"#N/A"}},null,null,0,0]
[{"$f":"VLOOKUP(B1254,'(1) Project Reference Item List'!$B$2:$C$1000,2,FALSE)","v":{"$error":"#N/A"}},null,null,null,null,null,null,null,null,null,null,{"$f":"VLOOKUP(B1254,'(1) Project Reference Item List'!$B$2:$D$1000,3,FALSE)","v":{"$error":"#N/A"}},null,null,0,0]
[{"$f":"VLOOKUP(B1255,'(1) Project Reference Item List'!$B$2:$C$1000,2,FALSE)","v":{"$error":"#N/A"}},null,null,null,null,null,null,null,null,null,null,{"$f":"VLOOKUP(B1255,'(1) Project Reference Item List'!$B$2:$D$1000,3,FALSE)","v":{"$error":"#N/A"}},null,null,0,0]
[{"$f":"VLOOKUP(B1256,'(1) Project Reference Item List'!$B$2:$C$1000,2,FALSE)","v":{"$error":"#N/A"}},null,null,null,null,null,null,null,null,null,null,{"$f":"VLOOKUP(B1256,'(1) Project Reference Item List'!$B$2:$D$1000,3,FALSE)","v":{"$error":"#N/A"}},null,null,0,0]
[{"$f":"VLOOKUP(B1257,'(1) Project Reference Item List'!$B$2:$C$1000,2,FALSE)","v":{"$error":"#N/A"}},null,null,null,null,null,null,null,null,null,null,{"$f":"VLOOKUP(B1257,'(1) Project Reference Item List'!$B$2:$D$1000,3,FALSE)","v":{"$error":"#N/A"}},null,null,0,0]
[{"$f":"VLOOKUP(B1258,'(1) Project Reference Item List'!$B$2:$C$1000,2,FALSE)","v":{"$error":"#N/A"}},null,null,null,null,null,null,null,null,null,null,{"$f":"VLOOKUP(B1258,'(1) Project Reference Item List'!$B$2:$D$1000,3,FALSE)","v":{"$error":"#N/A"}},null,null,0,0]
[{"$f":"VLOOKUP(B1259,'(1) Project Reference Item List'!$B$2:$C$1000,2,FALSE)","v":{"$error":"#N/A"}},null,null,null,null,null,null,null,null,null,null,{"$f":"VLOOKUP(B1259,'(1) Project Reference Item List'!$B$2:$D$1000,3,FALSE)","v":{"$error":"#N/A"}},null,null,0,0]
[{"$f":"VLOOKUP(B1260,'(1) Project Reference Item List'!$B$2:$C$1000,2,FALSE)","v":{"$error":"#N/A"}},null,null,null,null,null,null,null,null,null,null,{"$f":"VLOOKUP(B1260,'(1) Project Reference Item List'!$B$2:$D$1000,3,FALSE)","v":{"$error":"#N/A"}},null,null,0,0]
[{"$f":"VLOOKUP(B1261,'(1) Project Reference Item List'!$B$2:$C$1000,2,FALSE)","v":{"$error":"#N/A"}},null,null,null,null,null,null,null,null,null,null,{"$f":"VLOOKUP(B1261,'(1) Project Reference Item List'!$B$2:$D$1000,3,FALSE)","v":{"$error":"#N/A"}},null,null,0,0]
[{"$f":"VLOOKUP(B1262,'(1) Project Reference Item List'!$B$2:$C$1000,2,FALSE)","v":{"$error":"#N/A"}},null,null,null,null,null,null,null,null,null,null,{"$f":"VLOOKUP(B1262,'(1) Project Reference Item List'!$B$2:$D$1000,3,FALSE)","v":{"$error":"#N/A"}},null,null,0,0]
[{"$f":"VLOOKUP(B1263,'(1) Project Reference Item List'!$B$2:$C$1000,2,FALSE)","v":{"$error":"#N/A"}},null,null,null,null,null,null,null,null,null,null,{"$f":"VLOOKUP(B1263,'(1) Project Reference Item List'!$B$2:$D$1000,3,FALSE)","v":{"$error":"#N/A"}},null,null,0,0]
[{"$f":"VLOOKUP(B1264,'(1) Project Reference Item List'!$B$2:$C$1000,2,FALSE)","v":{"$error":"#N/A"}},null,null,null,null,null,null,null,null,null,null,{"$f":"VLOOKUP(B1264,'(1) Project Reference Item List'!$B$2:$D$1000,3,FALSE)","v":{"$error":"#N/A"}},null,null,0,0]
[{"$f":"VLOOKUP(B1265,'(1) Project Reference Item List'!$B$2:$C$1000,2,FALSE)","v":{"$error":"#N/A"}},null,null,null,null,null,null,null,null,null,null,{"$f":"VLOOKUP(B1265,'(1) Project Reference Item List'!$B$2:$D$1000,3,FALSE)","v":{"$error":"#N/A"}},null,null,0,0]
[{"$f":"VLOOKUP(B1266,'(1) Project Reference Item List'!$B$2:$C$1000,2,FALSE)","v":{"$error":"#N/A"}},null,null,null,null,null,null,null,null,null,null,{"$f":"VLOOKUP(B1266,'(1) Project Reference Item List'!$B$2:$D$1000,3,FALSE)","v":{"$error":"#N/A"}},null,null,0,0]
[{"$f":"VLOOKUP(B1267,'(1) Project Reference Item List'!$B$2:$C$1000,2,FALSE)","v":{"$error":"#N/A"}},null,null,null,null,null,null,null,null,null,null,{"$f":"VLOOKUP(B1267,'(1) Project Reference Item List'!$B$2:$D$1000,3,FALSE)","v":{"$error":"#N/A"}},null,null,0,0]
[{"$f":"VLOOKUP(B1268,'(1) Project Reference Item List'!$B$2:$C$1000,2,FALSE)","v":{"$error":"#N/A"}},null,null,null,null,null,null,null,null,null,null,{"$f":"VLOOKUP(B1268,'(1) Project Reference Item List'!$B$2:$D$1000,3,FALSE)","v":{"$error":"#N/A"}},null,null,0,0]
[{"$f":"VLOOKUP(B1269,'(1) Project Reference Item List'!$B$2:$C$1000,2,FALSE)","v":{"$error":"#N/A"}},null,null,null,null,null,null,null,null,null,null,{"$f":"VLOOKUP(B1269,'(1) Project Reference Item List'!$B$2:$D$1000,3,FALSE)","v":{"$error":"#N/A"}},null,null,0,0]
[{"$f":"VLOOKUP(B1270,'(1) Project Reference Item List'!$B$2:$C$1000,2,FALSE)","v":{"$error":"#N/A"}},null,null,null,null,null,null,null,null,null,null,{"$f":"VLOOKUP(B1270,'(1) Project Reference Item List'!$B$2:$D$1000,3,FALSE)","v":{"$error":"#N/A"}},null,null,0,0]
[{"$f":"VLOOKUP(B1271,'(1) Project Reference Item List'!$B$2:$C$1000,2,FALSE)","v":{"$error":"#N/A"}},null,null,null,null,null,null,null,null,null,null,{"$f":"VLOOKUP(B1271,'(1) Project Reference Item List'!$B$2:$D$1000,3,FALSE)","v":{"$error":"#N/A"}},null,null,0,0]
[{"$f":"VLOOKUP(B1272,'(1) Project Reference Item List'!$B$2:$C$1000,2,FALSE)","v":{"$error":"#N/A"}},null,null,null,null,null,null,null,null,null,null,{"$f":"VLOOKUP(B1272,'(1) Project Reference Item List'!$B$2:$D$1000,3,FALSE)","v":{"$error":"#N/A"}},null,null,0,0]
[{"$f":"VLOOKUP(B1273,'(1) Project Reference Item List'!$B$2:$C$1000,2,FALSE)","v":{"$error":"#N/A"}},null,null,null,null,null,null,null,null,null,null,{"$f":"VLOOKUP(B1273,'(1) Project Reference Item List'!$B$2:$D$1000,3,FALSE)","v":{"$error":"#N/A"}},null,null,0,0]
[{"$f":"VLOOKUP(B1274,'(1) Project Reference Item List'!$B$2:$C$1000,2,FALSE)","v":{"$error":"#N/A"}},null,null,null,null,null,null,null,null,null,null,{"$f":"VLOOKUP(B1274,'(1) Project Reference Item List'!$B$2:$D$1000,3,FALSE)","v":{"$error":"#N/A"}},null,null,0,0]
[{"$f":"VLOOKUP(B1275,'(1) Project Reference Item List'!$B$2:$C$1000,2,FALSE)","v":{"$error":"#N/A"}},null,null,null,null,null,null,null,null,null,null,{"$f":"VLOOKUP(B1275,'(1) Project Reference Item List'!$B$2:$D$1000,3,FALSE)","v":{"$error":"#N/A"}},null,null,0,0]
[{"$f":"VLOOKUP(B1276,'(1) Project Reference Item List'!$B$2:$C$1000,2,FALSE)","v":{"$error":"#N/A"}},null,null,null,null,null,null,null,null,null,null,{"$f":"VLOOKUP(B1276,'(1) Project Reference Item List'!$B$2:$D$1000,3,FALSE)","v":{"$error":"#N/A"}},null,null,0,0]
[{"$f":"VLOOKUP(B1277,'(1) Project Reference Item List'!$B$2:$C$1000,2,FALSE)","v":{"$error":"#N/A"}},null,null,null,null,null,null,null,null,null,null,{"$f":"VLOOKUP(B1277,'(1) Project Reference Item List'!$B$2:$D$1000,3,FALSE)","v":{"$error":"#N/A"}},null,null,0,0]
[{"$f":"VLOOKUP(B1278,'(1) Project Reference Item List'!$B$2:$C$1000,2,FALSE)","v":{"$error":"#N/A"}},null,null,null,null,null,null,null,null,null,null,{"$f":"VLOOKUP(B1278,'(1) Project Reference Item List'!$B$2:$D$1000,3,FALSE)","v":{"$error":"#N/A"}},null,null,0,0]
[{"$f":"VLOOKUP(B1279,'(1) Project Reference Item List'!$B$2:$C$1000,2,FALSE)","v":{"$error":"#N/A"}},null,null,null,null,null,null,null,null,null,null,{"$f":"VLOOKUP(B1279,'(1) Project Reference Item List'!$B$2:$D$1000,3,FALSE)","v":{"$error":"#N/A"}},null,null,0,0]
[{"$f":"VLOOKUP(B1280,'(1) Project Reference Item List'!$B$2:$C$1000,2,FALSE)","v":{"$error":"#N/A"}},null,null,null,null,null,null,null,null,null,null,{"$f":"VLOOKUP(B1280,'(1) Project Reference Item List'!$B$2:$D$1000,3,FALSE)","v":{"$error":"#N/A"}},null,null,0,0]
[{"$f":"VLOOKUP(B1281,'(1) Project Reference Item List'!$B$2:$C$1000,2,FALSE)","v":{"$error":"#N/A"}},null,null,null,null,null,null,null,null,null,null,{"$f":"VLOOKUP(B1281,'(1) Project Reference Item List'!$B$2:$D$1000,3,FALSE)","v":{"$error":"#N/A"}},null,null,0,0]
[{"$f":"VLOOKUP(B1282,'(1) Project Reference Item List'!$B$2:$C$1000,2,FALSE)","v":{"$error":"#N/A"}},null,null,null,null,null,null,null,null,null,null,{"$f":"VLOOKUP(B1282,'(1) Project Reference Item List'!$B$2:$D$1000,3,FALSE)","v":{"$error":"#N/A"}},null,null,0,0]
[{"$f":"VLOOKUP(B1283,'(1) Project Reference Item List'!$B$2:$C$1000,2,FALSE)","v":{"$error":"#N/A"}},null,null,null,null,null,null,null,null,null,null,{"$f":"VLOOKUP(B1283,'(1) Project Reference Item List'!$B$2:$D$1000,3,FALSE)","v":{"$error":"#N/A"}},null,null,0,0]
[{"$f":"VLOOKUP(B1284,'(1) Project Reference Item List'!$B$2:$C$1000,2,FALSE)","v":{"$error":"#N/A"}},null,null,null,null,null,null,null,null,null,null,{"$f":"VLOOKUP(B1284,'(1) Project Reference Item List'!$B$2:$D$1000,3,FALSE)","v":{"$error":"#N/A"}},null,null,0,0]
[{"$f":"VLOOKUP(B1285,'(1) Project Reference Item List'!$B$2:$C$1000,2,FALSE)","v":{"$error":"#N/A"}},null,null,null,null,null,null,null,null,null,null,{"$f":"VLOOKUP(B1285,'(1) Project Reference Item List'!$B$2:$D$1000,3,FALSE)","v":{"$error":"#N/A"}},null,null,0,0]
[{"$f":"VLOOKUP(B1286,'(1) Project Reference Item List'!$B$2:$C$1000,2,FALSE)","v":{"$error":"#N/A"}},null,null,null,null,null,null,null,null,null,null,{"$f":"VLOOKUP(B1286,'(1) Project Reference Item List'!$B$2:$D$1000,3,FALSE)","v":{"$error":"#N/A"}},null,null,{"$f":"IF(J1286=0,J1286,J1286*N1286)","v":0},{"$f":"(M1286-O1286)","v":0}]
[{"$f":"VLOOKUP(B1287,'(1) Project Reference Item List'!$B$2:$C$1000,2,FALSE)","v":{"$error":"#N/A"}},null,null,null,null,null,null,null,null,null,null,{"$f":"VLOOKUP(B1287,'(1) Project Reference Item List'!$B$2:$D$1000,3,FALSE)","v":{"$error":"#N/A"}},null,null,0,0]
[{"$f":"VLOOKUP(B1288,'(1) Project Reference Item List'!$B$2:$C$1000,2,FALSE)","v":{"$error":"#N/A"}},null,null,null,null,null,null,null,null,null,null,{"$f":"VLOOKUP(B1288,'(1) Project Reference Item List'!$B$2:$D$1000,3,FALSE)","v":{"$error":"#N/A"}},null,null,0,0]
[{"$f":"VLOOKUP(B1289,'(1) Project Reference Item List'!$B$2:$C$1000,2,FALSE)","v":{"$error":"#N/A"}},null,null,null,null,null,null,null,null,null,null,{"$f":"VLOOKUP(B1289,'(1) Project Reference Item List'!$B$2:$D$1000,3,FALSE)","v":{"$error":"#N/A"}},null,null,0,0]
[{"$f":"VLOOKUP(B1290,'(1) Project Reference Item List'!$B$2:$C$1000,2,FALSE)","v":{"$error":"#N/A"}},null,null,null,null,null,null,null,null,null,null,{"$f":"VLOOKUP(B1290,'(1) Project Reference Item List'!$B$2:$D$1000,3,FALSE)","v":{"$error":"#N/A"}},null,null,0,0]
[{"$f":"VLOOKUP(B1291,'(1) Project Reference Item List'!$B$2:$C$1000,2,FALSE)","v":{"$error":"#N/A"}},null,null,null,null,null,null,null,null,null,null,{"$f":"VLOOKUP(B1291,'(1) Project Reference Item List'!$B$2:$D$1000,3,FALSE)","v":{"$error":"#N/A"}},null,null,0,0]
[{"$f":"VLOOKUP(B1292,'(1) Project Reference Item List'!$B$2:$C$1000,2,FALSE)","v":{"$error":"#N/A"}},null,null,null,null,null,null,null,null,null,null,{"$f":"VLOOKUP(B1292,'(1) Project Reference Item List'!$B$2:$D$1000,3,FALSE)","v":{"$error":"#N/A"}},null,null,0,0]
[{"$f":"VLOOKUP(B1293,'(1) Project Reference Item List'!$B$2:$C$1000,2,FALSE)","v":{"$error":"#N/A"}},null,null,null,null,null,null,null,null,null,null,{"$f":"VLOOKUP(B1293,'(1) Project Reference Item List'!$B$2:$D$1000,3,FALSE)","v":{"$error":"#N/A"}},null,null,0,0]
[{"$f":"VLOOKUP(B1294,'(1) Project Reference Item List'!$B$2:$C$1000,2,FALSE)","v":{"$error":"#N/A"}},null,null,null,null,null,null,null,null,null,null,{"$f":"VLOOKUP(B1294,'(1) Project Reference Item List'!$B$2:$D$1000,3,FALSE)","v":{"$error":"#N/A"}},null,null,0,0]
[{"$f":"VLOOKUP(B1295,'(1) Project Reference Item List'!$B$2:$C$1000,2,FALSE)","v":{"$error":"#N/A"}},null,null,null,null,null,null,null,null,null,null,{"$f":"VLOOKUP(B1295,'(1) Project Reference Item List'!$B$2:$D$1000,3,FALSE)","v":{"$error":"#N/A"}},null,null,0,0]
[{"$f":"VLOOKUP(B1296,'(1) Project Reference Item List'!$B$2:$C$1000,2,FALSE)","v":{"$error":"#N/A"}},null,null,null,null,null,null,null,null,null,null,{"$f":"VLOOKUP(B1296,'(1) Project Reference Item List'!$B$2:$D$1000,3,FALSE)","v":{"$error":"#N/A"}},null,null,0,0]
[{"$f":"VLOOKUP(B1297,'(1) Project Reference Item List'!$B$2:$C$1000,2,FALSE)","v":{"$error":"#N/A"}},null,null,null,null,null,null,null,null,null,null,{"$f":"VLOOKUP(B1297,'(1) Project Reference Item List'!$B$2:$D$1000,3,FALSE)","v":{"$error":"#N/A"}},null,null,0,0]
[{"$f":"VLOOKUP(B1298,'(1) Project Reference Item List'!$B$2:$C$1000,2,FALSE)","v":{"$error":"#N/A"}},null,null,null,null,null,null,null,null,null,null,{"$f":"VLOOKUP(B1298,'(1) Project Reference Item List'!$B$2:$D$1000,3,FALSE)","v":{"$error":"#N/A"}},null,null,0,0]
[{"$f":"VLOOKUP(B1299,'(1) Project Reference Item List'!$B$2:$C$1000,2,FALSE)","v":{"$error":"#N/A"}},null,null,null,null,null,null,null,null,null,null,{"$f":"VLOOKUP(B1299,'(1) Project Reference Item List'!$B$2:$D$1000,3,FALSE)","v":{"$error":"#N/A"}},null,null,0,0]
[{"$f":"VLOOKUP(B1300,'(1) Project Reference Item List'!$B$2:$C$1000,2,FALSE)","v":{"$error":"#N/A"}},null,null,null,null,null,null,null,null,null,null,{"$f":"VLOOKUP(B1300,'(1) Project Reference Item List'!$B$2:$D$1000,3,FALSE)","v":{"$error":"#N/A"}},null,null,0,0]
[{"$f":"VLOOKUP(B1301,'(1) Project Reference Item List'!$B$2:$C$1000,2,FALSE)","v":{"$error":"#N/A"}},null,null,null,null,null,null,null,null,null,null,{"$f":"VLOOKUP(B1301,'(1) Project Reference Item List'!$B$2:$D$1000,3,FALSE)","v":{"$error":"#N/A"}},null,null,0,0]
[{"$f":"VLOOKUP(B1302,'(1) Project Reference Item List'!$B$2:$C$1000,2,FALSE)","v":{"$error":"#N/A"}},null,null,null,null,null,null,null,null,null,null,{"$f":"VLOOKUP(B1302,'(1) Project Reference Item List'!$B$2:$D$1000,3,FALSE)","v":{"$error":"#N/A"}},null,null,0,0]
[{"$f":"VLOOKUP(B1303,'(1) Project Reference Item List'!$B$2:$C$1000,2,FALSE)","v":{"$error":"#N/A"}},null,null,null,null,null,null,null,null,null,null,{"$f":"VLOOKUP(B1303,'(1) Project Reference Item List'!$B$2:$D$1000,3,FALSE)","v":{"$error":"#N/A"}},null,null,0,0]
[{"$f":"VLOOKUP(B1304,'(1) Project Reference Item List'!$B$2:$C$1000,2,FALSE)","v":{"$error":"#N/A"}},null,null,null,null,null,null,null,null,null,null,{"$f":"VLOOKUP(B1304,'(1) Project Reference Item List'!$B$2:$D$1000,3,FALSE)","v":{"$error":"#N/A"}},null,null,0,0]
[{"$f":"VLOOKUP(B1305,'(1) Project Reference Item List'!$B$2:$C$1000,2,FALSE)","v":{"$error":"#N/A"}},null,null,null,null,null,null,null,null,null,null,{"$f":"VLOOKUP(B1305,'(1) Project Reference Item List'!$B$2:$D$1000,3,FALSE)","v":{"$error":"#N/A"}},null,null,0,0]
[{"$f":"VLOOKUP(B1306,'(1) Project Reference Item List'!$B$2:$C$1000,2,FALSE)","v":{"$error":"#N/A"}},null,null,null,null,null,null,null,null,null,null,{"$f":"VLOOKUP(B1306,'(1) Project Reference Item List'!$B$2:$D$1000,3,FALSE)","v":{"$error":"#N/A"}},null,null,0,0]
[{"$f":"VLOOKUP(B1307,'(1) Project Reference Item List'!$B$2:$C$1000,2,FALSE)","v":{"$error":"#N/A"}},null,null,null,null,null,null,null,null,null,null,{"$f":"VLOOKUP(B1307,'(1) Project Reference Item List'!$B$2:$D$1000,3,FALSE)","v":{"$error":"#N/A"}},null,null,0,0]
[{"$f":"VLOOKUP(B1308,'(1) Project Reference Item List'!$B$2:$C$1000,2,FALSE)","v":{"$error":"#N/A"}},null,null,null,null,null,null,null,null,null,null,{"$f":"VLOOKUP(B1308,'(1) Project Reference Item List'!$B$2:$D$1000,3,FALSE)","v":{"$error":"#N/A"}},null,null,0,0]
[{"$f":"VLOOKUP(B1309,'(1) Project Reference Item List'!$B$2:$C$1000,2,FALSE)","v":{"$error":"#N/A"}},null,null,null,null,null,null,null,null,null,null,{"$f":"VLOOKUP(B1309,'(1) Project Reference Item List'!$B$2:$D$1000,3,FALSE)","v":{"$error":"#N/A"}},null,null,0,0]
[{"$f":"VLOOKUP(B1310,'(1) Project Reference Item List'!$B$2:$C$1000,2,FALSE)","v":{"$error":"#N/A"}},null,null,null,null,null,null,null,null,null,null,{"$f":"VLOOKUP(B1310,'(1) Project Reference Item List'!$B$2:$D$1000,3,FALSE)","v":{"$error":"#N/A"}},null,null,0,0]
[{"$f":"VLOOKUP(B1311,'(1) Project Reference Item List'!$B$2:$C$1000,2,FALSE)","v":{"$error":"#N/A"}},null,null,null,null,null,null,null,null,null,null,{"$f":"VLOOKUP(B1311,'(1) Project Reference Item List'!$B$2:$D$1000,3,FALSE)","v":{"$error":"#N/A"}},null,null,0,0]
[{"$f":"VLOOKUP(B1312,'(1) Project Reference Item List'!$B$2:$C$1000,2,FALSE)","v":{"$error":"#N/A"}},null,null,null,null,null,null,null,null,null,null,{"$f":"VLOOKUP(B1312,'(1) Project Reference Item List'!$B$2:$D$1000,3,FALSE)","v":{"$error":"#N/A"}},null,null,0,0]
[{"$f":"VLOOKUP(B1313,'(1) Project Reference Item List'!$B$2:$C$1000,2,FALSE)","v":{"$error":"#N/A"}},null,null,null,null,null,null,null,null,null,null,{"$f":"VLOOKUP(B1313,'(1) Project Reference Item List'!$B$2:$D$1000,3,FALSE)","v":{"$error":"#N/A"}},null,null,0,0]
[{"$f":"VLOOKUP(B1314,'(1) Project Reference Item List'!$B$2:$C$1000,2,FALSE)","v":{"$error":"#N/A"}},null,null,null,null,null,null,null,null,null,null,{"$f":"VLOOKUP(B1314,'(1) Project Reference Item List'!$B$2:$D$1000,3,FALSE)","v":{"$error":"#N/A"}},null,null,0,0]
[{"$f":"VLOOKUP(B1315,'(1) Project Reference Item List'!$B$2:$C$1000,2,FALSE)","v":{"$error":"#N/A"}},null,null,null,null,null,null,null,null,null,null,{"$f":"VLOOKUP(B1315,'(1) Project Reference Item List'!$B$2:$D$1000,3,FALSE)","v":{"$error":"#N/A"}},null,null,0,0]
[{"$f":"VLOOKUP(B1316,'(1) Project Reference Item List'!$B$2:$C$1000,2,FALSE)","v":{"$error":"#N/A"}},null,null,null,null,null,null,null,null,null,null,{"$f":"VLOOKUP(B1316,'(1) Project Reference Item List'!$B$2:$D$1000,3,FALSE)","v":{"$error":"#N/A"}},null,null,0,0]
[{"$f":"VLOOKUP(B1317,'(1) Project Reference Item List'!$B$2:$C$1000,2,FALSE)","v":{"$error":"#N/A"}},null,null,null,null,null,null,null,null,null,null,{"$f":"VLOOKUP(B1317,'(1) Project Reference Item List'!$B$2:$D$1000,3,FALSE)","v":{"$error":"#N/A"}},null,null,0,0]
[{"$f":"VLOOKUP(B1318,'(1) Project Reference Item List'!$B$2:$C$1000,2,FALSE)","v":{"$error":"#N/A"}},null,null,null,null,null,null,null,null,null,null,{"$f":"VLOOKUP(B1318,'(1) Project Reference Item List'!$B$2:$D$1000,3,FALSE)","v":{"$error":"#N/A"}},null,null,0,0]
[{"$f":"VLOOKUP(B1319,'(1) Project Reference Item List'!$B$2:$C$1000,2,FALSE)","v":{"$error":"#N/A"}},null,null,null,null,null,null,null,null,null,null,{"$f":"VLOOKUP(B1319,'(1) Project Reference Item List'!$B$2:$D$1000,3,FALSE)","v":{"$error":"#N/A"}},null,null,0,0]
[{"$f":"VLOOKUP(B1320,'(1) Project Reference Item List'!$B$2:$C$1000,2,FALSE)","v":{"$error":"#N/A"}},null,null,null,null,null,null,null,null,null,null,{"$f":"VLOOKUP(B1320,'(1) Project Reference Item List'!$B$2:$D$1000,3,FALSE)","v":{"$error":"#N/A"}},null,null,0,0]
[{"$f":"VLOOKUP(B1321,'(1) Project Reference Item List'!$B$2:$C$1000,2,FALSE)","v":{"$error":"#N/A"}},null,null,null,null,null,null,null,null,null,null,{"$f":"VLOOKUP(B1321,'(1) Project Reference Item List'!$B$2:$D$1000,3,FALSE)","v":{"$error":"#N/A"}},null,null,0,0]
[{"$f":"VLOOKUP(B1322,'(1) Project Reference Item List'!$B$2:$C$1000,2,FALSE)","v":{"$error":"#N/A"}},null,null,null,null,null,null,null,null,null,null,{"$f":"VLOOKUP(B1322,'(1) Project Reference Item List'!$B$2:$D$1000,3,FALSE)","v":{"$error":"#N/A"}},null,null,0,0]
[{"$f":"VLOOKUP(B1323,'(1) Project Reference Item List'!$B$2:$C$1000,2,FALSE)","v":{"$error":"#N/A"}},null,null,null,null,null,null,null,null,null,null,{"$f":"VLOOKUP(B1323,'(1) Project Reference Item List'!$B$2:$D$1000,3,FALSE)","v":{"$error":"#N/A"}},null,null,0,0]
[{"$f":"VLOOKUP(B1324,'(1) Project Reference Item List'!$B$2:$C$1000,2,FALSE)","v":{"$error":"#N/A"}},null,null,null,null,null,null,null,null,null,null,{"$f":"VLOOKUP(B1324,'(1) Project Reference Item List'!$B$2:$D$1000,3,FALSE)","v":{"$error":"#N/A"}},null,null,0,0]
[{"$f":"VLOOKUP(B1325,'(1) Project Reference Item List'!$B$2:$C$1000,2,FALSE)","v":{"$error":"#N/A"}},null,null,null,null,null,null,null,null,null,null,{"$f":"VLOOKUP(B1325,'(1) Project Reference Item List'!$B$2:$D$1000,3,FALSE)","v":{"$error":"#N/A"}},null,null,0,0]
[{"$f":"VLOOKUP(B1326,'(1) Project Reference Item List'!$B$2:$C$1000,2,FALSE)","v":{"$error":"#N/A"}},null,null,null,null,null,null,null,null,null,null,{"$f":"VLOOKUP(B1326,'(1) Project Reference Item List'!$B$2:$D$1000,3,FALSE)","v":{"$error":"#N/A"}},null,null,0,0]
[{"$f":"VLOOKUP(B1327,'(1) Project Reference Item List'!$B$2:$C$1000,2,FALSE)","v":{"$error":"#N/A"}},null,null,null,null,null,null,null,null,null,null,{"$f":"VLOOKUP(B1327,'(1) Project Reference Item List'!$B$2:$D$1000,3,FALSE)","v":{"$error":"#N/A"}},null,null,0,0]
[{"$f":"VLOOKUP(B1328,'(1) Project Reference Item List'!$B$2:$C$1000,2,FALSE)","v":{"$error":"#N/A"}},null,null,null,null,null,null,null,null,null,null,{"$f":"VLOOKUP(B1328,'(1) Project Reference Item List'!$B$2:$D$1000,3,FALSE)","v":{"$error":"#N/A"}},null,null,0,0]
[{"$f":"VLOOKUP(B1329,'(1) Project Reference Item List'!$B$2:$C$1000,2,FALSE)","v":{"$error":"#N/A"}},null,null,null,null,null,null,null,null,null,null,{"$f":"VLOOKUP(B1329,'(1) Project Reference Item List'!$B$2:$D$1000,3,FALSE)","v":{"$error":"#N/A"}},null,null,0,0]
[{"$f":"VLOOKUP(B1330,'(1) Project Reference Item List'!$B$2:$C$1000,2,FALSE)","v":{"$error":"#N/A"}},null,null,null,null,null,null,null,null,null,null,{"$f":"VLOOKUP(B1330,'(1) Project Reference Item List'!$B$2:$D$1000,3,FALSE)","v":{"$error":"#N/A"}},null,null,0,0]
[{"$f":"VLOOKUP(B1331,'(1) Project Reference Item List'!$B$2:$C$1000,2,FALSE)","v":{"$error":"#N/A"}},null,null,null,null,null,null,null,null,null,null,{"$f":"VLOOKUP(B1331,'(1) Project Reference Item List'!$B$2:$D$1000,3,FALSE)","v":{"$error":"#N/A"}},null,null,0,0]
[{"$f":"VLOOKUP(B1332,'(1) Project Reference Item List'!$B$2:$C$1000,2,FALSE)","v":{"$error":"#N/A"}},null,null,null,null,null,null,null,null,null,null,{"$f":"VLOOKUP(B1332,'(1) Project Reference Item List'!$B$2:$D$1000,3,FALSE)","v":{"$error":"#N/A"}},null,null,0,0]
[{"$f":"VLOOKUP(B1333,'(1) Project Reference Item List'!$B$2:$C$1000,2,FALSE)","v":{"$error":"#N/A"}},null,null,null,null,null,null,null,null,null,null,{"$f":"VLOOKUP(B1333,'(1) Project Reference Item List'!$B$2:$D$1000,3,FALSE)","v":{"$error":"#N/A"}},null,null,0,0]
[{"$f":"VLOOKUP(B1334,'(1) Project Reference Item List'!$B$2:$C$1000,2,FALSE)","v":{"$error":"#N/A"}},null,null,null,null,null,null,null,null,null,null,{"$f":"VLOOKUP(B1334,'(1) Project Reference Item List'!$B$2:$D$1000,3,FALSE)","v":{"$error":"#N/A"}},null,null,0,0]
[{"$f":"VLOOKUP(B1335,'(1) Project Reference Item List'!$B$2:$C$1000,2,FALSE)","v":{"$error":"#N/A"}},null,null,null,null,null,null,null,null,null,null,{"$f":"VLOOKUP(B1335,'(1) Project Reference Item List'!$B$2:$D$1000,3,FALSE)","v":{"$error":"#N/A"}},null,null,0,0]
[{"$f":"VLOOKUP(B1336,'(1) Project Reference Item List'!$B$2:$C$1000,2,FALSE)","v":{"$error":"#N/A"}},null,null,null,null,null,null,null,null,null,null,{"$f":"VLOOKUP(B1336,'(1) Project Reference Item List'!$B$2:$D$1000,3,FALSE)","v":{"$error":"#N/A"}},null,null,0,0]
[{"$f":"VLOOKUP(B1337,'(1) Project Reference Item List'!$B$2:$C$1000,2,FALSE)","v":{"$error":"#N/A"}},null,null,null,null,null,null,null,null,null,null,{"$f":"VLOOKUP(B1337,'(1) Project Reference Item List'!$B$2:$D$1000,3,FALSE)","v":{"$error":"#N/A"}},null,null,0,0]
[{"$f":"VLOOKUP(B1338,'(1) Project Reference Item List'!$B$2:$C$1000,2,FALSE)","v":{"$error":"#N/A"}},null,null,null,null,null,null,null,null,null,null,{"$f":"VLOOKUP(B1338,'(1) Project Reference Item List'!$B$2:$D$1000,3,FALSE)","v":{"$error":"#N/A"}},null,null,0,0]
[{"$f":"VLOOKUP(B1339,'(1) Project Reference Item List'!$B$2:$C$1000,2,FALSE)","v":{"$error":"#N/A"}},null,null,null,null,null,null,null,null,null,null,{"$f":"VLOOKUP(B1339,'(1) Project Reference Item List'!$B$2:$D$1000,3,FALSE)","v":{"$error":"#N/A"}},null,null,0,0]
[{"$f":"VLOOKUP(B1340,'(1) Project Reference Item List'!$B$2:$C$1000,2,FALSE)","v":{"$error":"#N/A"}},null,null,null,null,null,null,null,null,null,null,{"$f":"VLOOKUP(B1340,'(1) Project Reference Item List'!$B$2:$D$1000,3,FALSE)","v":{"$error":"#N/A"}},null,null,0,0]
[{"$f":"VLOOKUP(B1341,'(1) Project Reference Item List'!$B$2:$C$1000,2,FALSE)","v":{"$error":"#N/A"}},null,null,null,null,null,null,null,null,null,null,{"$f":"VLOOKUP(B1341,'(1) Project Reference Item List'!$B$2:$D$1000,3,FALSE)","v":{"$error":"#N/A"}},null,null,0,0]
[{"$f":"VLOOKUP(B1342,'(1) Project Reference Item List'!$B$2:$C$1000,2,FALSE)","v":{"$error":"#N/A"}},null,null,null,null,null,null,null,null,null,null,{"$f":"VLOOKUP(B1342,'(1) Project Reference Item List'!$B$2:$D$1000,3,FALSE)","v":{"$error":"#N/A"}},null,null,0,0]
[{"$f":"VLOOKUP(B1343,'(1) Project Reference Item List'!$B$2:$C$1000,2,FALSE)","v":{"$error":"#N/A"}},null,null,null,null,null,null,null,null,null,null,{"$f":"VLOOKUP(B1343,'(1) Project Reference Item List'!$B$2:$D$1000,3,FALSE)","v":{"$error":"#N/A"}},null,null,0,0]
[{"$f":"VLOOKUP(B1344,'(1) Project Reference Item List'!$B$2:$C$1000,2,FALSE)","v":{"$error":"#N/A"}},null,null,null,null,null,null,null,null,null,null,{"$f":"VLOOKUP(B1344,'(1) Project Reference Item List'!$B$2:$D$1000,3,FALSE)","v":{"$error":"#N/A"}},null,null,0,0]
[{"$f":"VLOOKUP(B1345,'(1) Project Reference Item List'!$B$2:$C$1000,2,FALSE)","v":{"$error":"#N/A"}},null,null,null,null,null,null,null,null,null,null,{"$f":"VLOOKUP(B1345,'(1) Project Reference Item List'!$B$2:$D$1000,3,FALSE)","v":{"$error":"#N/A"}},null,null,0,0]
[{"$f":"VLOOKUP(B1346,'(1) Project Reference Item List'!$B$2:$C$1000,2,FALSE)","v":{"$error":"#N/A"}},null,null,null,null,null,null,null,null,null,null,{"$f":"VLOOKUP(B1346,'(1) Project Reference Item List'!$B$2:$D$1000,3,FALSE)","v":{"$error":"#N/A"}},null,null,0,0]
[{"$f":"VLOOKUP(B1347,'(1) Project Reference Item List'!$B$2:$C$1000,2,FALSE)","v":{"$error":"#N/A"}},null,null,null,null,null,null,null,null,null,null,{"$f":"VLOOKUP(B1347,'(1) Project Reference Item List'!$B$2:$D$1000,3,FALSE)","v":{"$error":"#N/A"}},null,null,0,0]
[{"$f":"VLOOKUP(B1348,'(1) Project Reference Item List'!$B$2:$C$1000,2,FALSE)","v":{"$error":"#N/A"}},null,null,null,null,null,null,null,null,null,null,{"$f":"VLOOKUP(B1348,'(1) Project Reference Item List'!$B$2:$D$1000,3,FALSE)","v":{"$error":"#N/A"}},null,null,0,0]
[{"$f":"VLOOKUP(B1349,'(1) Project Reference Item List'!$B$2:$C$1000,2,FALSE)","v":{"$error":"#N/A"}},null,null,null,null,null,null,null,null,null,null,{"$f":"VLOOKUP(B1349,'(1) Project Reference Item List'!$B$2:$D$1000,3,FALSE)","v":{"$error":"#N/A"}},null,null,0,0]
[{"$f":"VLOOKUP(B1350,'(1) Project Reference Item List'!$B$2:$C$1000,2,FALSE)","v":{"$error":"#N/A"}},null,null,null,null,null,null,null,null,null,null,{"$f":"VLOOKUP(B1350,'(1) Project Reference Item List'!$B$2:$D$1000,3,FALSE)","v":{"$error":"#N/A"}},null,null,{"$f":"IF(J1350=0,J1350,J1350*N1350)","v":0},{"$f":"(M1350-O1350)","v":0}]
[{"$f":"VLOOKUP(B1351,'(1) Project Reference Item List'!$B$2:$C$1000,2,FALSE)","v":{"$error":"#N/A"}},null,null,null,null,null,null,null,null,null,null,{"$f":"VLOOKUP(B1351,'(1) Project Reference Item List'!$B$2:$D$1000,3,FALSE)","v":{"$error":"#N/A"}},null,null,0,0]
[{"$f":"VLOOKUP(B1352,'(1) Project Reference Item List'!$B$2:$C$1000,2,FALSE)","v":{"$error":"#N/A"}},null,null,null,null,null,null,null,null,null,null,{"$f":"VLOOKUP(B1352,'(1) Project Reference Item List'!$B$2:$D$1000,3,FALSE)","v":{"$error":"#N/A"}},null,null,0,0]
[{"$f":"VLOOKUP(B1353,'(1) Project Reference Item List'!$B$2:$C$1000,2,FALSE)","v":{"$error":"#N/A"}},null,null,null,null,null,null,null,null,null,null,{"$f":"VLOOKUP(B1353,'(1) Project Reference Item List'!$B$2:$D$1000,3,FALSE)","v":{"$error":"#N/A"}},null,null,0,0]
[{"$f":"VLOOKUP(B1354,'(1) Project Reference Item List'!$B$2:$C$1000,2,FALSE)","v":{"$error":"#N/A"}},null,null,null,null,null,null,null,null,null,null,{"$f":"VLOOKUP(B1354,'(1) Project Reference Item List'!$B$2:$D$1000,3,FALSE)","v":{"$error":"#N/A"}},null,null,0,0]
[{"$f":"VLOOKUP(B1355,'(1) Project Reference Item List'!$B$2:$C$1000,2,FALSE)","v":{"$error":"#N/A"}},null,null,null,null,null,null,null,null,null,null,{"$f":"VLOOKUP(B1355,'(1) Project Reference Item List'!$B$2:$D$1000,3,FALSE)","v":{"$error":"#N/A"}},null,null,0,0]
[{"$f":"VLOOKUP(B1356,'(1) Project Reference Item List'!$B$2:$C$1000,2,FALSE)","v":{"$error":"#N/A"}},null,null,null,null,null,null,null,null,null,null,{"$f":"VLOOKUP(B1356,'(1) Project Reference Item List'!$B$2:$D$1000,3,FALSE)","v":{"$error":"#N/A"}},null,null,0,0]
[{"$f":"VLOOKUP(B1357,'(1) Project Reference Item List'!$B$2:$C$1000,2,FALSE)","v":{"$error":"#N/A"}},null,null,null,null,null,null,null,null,null,null,{"$f":"VLOOKUP(B1357,'(1) Project Reference Item List'!$B$2:$D$1000,3,FALSE)","v":{"$error":"#N/A"}},null,null,0,0]
[{"$f":"VLOOKUP(B1358,'(1) Project Reference Item List'!$B$2:$C$1000,2,FALSE)","v":{"$error":"#N/A"}},null,null,null,null,null,null,null,null,null,null,{"$f":"VLOOKUP(B1358,'(1) Project Reference Item List'!$B$2:$D$1000,3,FALSE)","v":{"$error":"#N/A"}},null,null,0,0]
[{"$f":"VLOOKUP(B1359,'(1) Project Reference Item List'!$B$2:$C$1000,2,FALSE)","v":{"$error":"#N/A"}},null,null,null,null,null,null,null,null,null,null,{"$f":"VLOOKUP(B1359,'(1) Project Reference Item List'!$B$2:$D$1000,3,FALSE)","v":{"$error":"#N/A"}},null,null,0,0]
[{"$f":"VLOOKUP(B1360,'(1) Project Reference Item List'!$B$2:$C$1000,2,FALSE)","v":{"$error":"#N/A"}},null,null,null,null,null,null,null,null,null,null,{"$f":"VLOOKUP(B1360,'(1) Project Reference Item List'!$B$2:$D$1000,3,FALSE)","v":{"$error":"#N/A"}},null,null,0,0]
[{"$f":"VLOOKUP(B1361,'(1) Project Reference Item List'!$B$2:$C$1000,2,FALSE)","v":{"$error":"#N/A"}},null,null,null,null,null,null,null,null,null,null,{"$f":"VLOOKUP(B1361,'(1) Project Reference Item List'!$B$2:$D$1000,3,FALSE)","v":{"$error":"#N/A"}},null,null,0,0]
[{"$f":"VLOOKUP(B1362,'(1) Project Reference Item List'!$B$2:$C$1000,2,FALSE)","v":{"$error":"#N/A"}},null,null,null,null,null,null,null,null,null,null,{"$f":"VLOOKUP(B1362,'(1) Project Reference Item List'!$B$2:$D$1000,3,FALSE)","v":{"$error":"#N/A"}},null,null,0,0]
[{"$f":"VLOOKUP(B1363,'(1) Project Reference Item List'!$B$2:$C$1000,2,FALSE)","v":{"$error":"#N/A"}},null,null,null,null,null,null,null,null,null,null,{"$f":"VLOOKUP(B1363,'(1) Project Reference Item List'!$B$2:$D$1000,3,FALSE)","v":{"$error":"#N/A"}},null,null,0,0]
[{"$f":"VLOOKUP(B1364,'(1) Project Reference Item List'!$B$2:$C$1000,2,FALSE)","v":{"$error":"#N/A"}},null,null,null,null,null,null,null,null,null,null,{"$f":"VLOOKUP(B1364,'(1) Project Reference Item List'!$B$2:$D$1000,3,FALSE)","v":{"$error":"#N/A"}},null,null,0,0]
[{"$f":"VLOOKUP(B1365,'(1) Project Reference Item List'!$B$2:$C$1000,2,FALSE)","v":{"$error":"#N/A"}},null,null,null,null,null,null,null,null,null,null,{"$f":"VLOOKUP(B1365,'(1) Project Reference Item List'!$B$2:$D$1000,3,FALSE)","v":{"$error":"#N/A"}},null,null,0,0]
[{"$f":"VLOOKUP(B1366,'(1) Project Reference Item List'!$B$2:$C$1000,2,FALSE)","v":{"$error":"#N/A"}},null,null,null,null,null,null,null,null,null,null,{"$f":"VLOOKUP(B1366,'(1) Project Reference Item List'!$B$2:$D$1000,3,FALSE)","v":{"$error":"#N/A"}},null,null,0,0]
[{"$f":"VLOOKUP(B1367,'(1) Project Reference Item List'!$B$2:$C$1000,2,FALSE)","v":{"$error":"#N/A"}},null,null,null,null,null,null,null,null,null,null,{"$f":"VLOOKUP(B1367,'(1) Project Reference Item List'!$B$2:$D$1000,3,FALSE)","v":{"$error":"#N/A"}},null,null,0,0]
[{"$f":"VLOOKUP(B1368,'(1) Project Reference Item List'!$B$2:$C$1000,2,FALSE)","v":{"$error":"#N/A"}},null,null,null,null,null,null,null,null,null,null,{"$f":"VLOOKUP(B1368,'(1) Project Reference Item List'!$B$2:$D$1000,3,FALSE)","v":{"$error":"#N/A"}},null,null,0,0]
[{"$f":"VLOOKUP(B1369,'(1) Project Reference Item List'!$B$2:$C$1000,2,FALSE)","v":{"$error":"#N/A"}},null,null,null,null,null,null,null,null,null,null,{"$f":"VLOOKUP(B1369,'(1) Project Reference Item List'!$B$2:$D$1000,3,FALSE)","v":{"$error":"#N/A"}},null,null,0,0]
[{"$f":"VLOOKUP(B1370,'(1) Project Reference Item List'!$B$2:$C$1000,2,FALSE)","v":{"$error":"#N/A"}},null,null,null,null,null,null,null,null,null,null,{"$f":"VLOOKUP(B1370,'(1) Project Reference Item List'!$B$2:$D$1000,3,FALSE)","v":{"$error":"#N/A"}},null,null,0,0]
[{"$f":"VLOOKUP(B1371,'(1) Project Reference Item List'!$B$2:$C$1000,2,FALSE)","v":{"$error":"#N/A"}},null,null,null,null,null,null,null,null,null,null,{"$f":"VLOOKUP(B1371,'(1) Project Reference Item List'!$B$2:$D$1000,3,FALSE)","v":{"$error":"#N/A"}},null,null,0,0]
[{"$f":"VLOOKUP(B1372,'(1) Project Reference Item List'!$B$2:$C$1000,2,FALSE)","v":{"$error":"#N/A"}},null,null,null,null,null,null,null,null,null,null,{"$f":"VLOOKUP(B1372,'(1) Project Reference Item List'!$B$2:$D$1000,3,FALSE)","v":{"$error":"#N/A"}},null,null,0,0]
[{"$f":"VLOOKUP(B1373,'(1) Project Reference Item List'!$B$2:$C$1000,2,FALSE)","v":{"$error":"#N/A"}},null,null,null,null,null,null,null,null,null,null,{"$f":"VLOOKUP(B1373,'(1) Project Reference Item List'!$B$2:$D$1000,3,FALSE)","v":{"$error":"#N/A"}},null,null,0,0]
[{"$f":"VLOOKUP(B1374,'(1) Project Reference Item List'!$B$2:$C$1000,2,FALSE)","v":{"$error":"#N/A"}},null,null,null,null,null,null,null,null,null,null,{"$f":"VLOOKUP(B1374,'(1) Project Reference Item List'!$B$2:$D$1000,3,FALSE)","v":{"$error":"#N/A"}},null,null,0,0]
[{"$f":"VLOOKUP(B1375,'(1) Project Reference Item List'!$B$2:$C$1000,2,FALSE)","v":{"$error":"#N/A"}},null,null,null,null,null,null,null,null,null,null,{"$f":"VLOOKUP(B1375,'(1) Project Reference Item List'!$B$2:$D$1000,3,FALSE)","v":{"$error":"#N/A"}},null,null,0,0]
[{"$f":"VLOOKUP(B1376,'(1) Project Reference Item List'!$B$2:$C$1000,2,FALSE)","v":{"$error":"#N/A"}},null,null,null,null,null,null,null,null,null,null,{"$f":"VLOOKUP(B1376,'(1) Project Reference Item List'!$B$2:$D$1000,3,FALSE)","v":{"$error":"#N/A"}},null,null,0,0]
[{"$f":"VLOOKUP(B1377,'(1) Project Reference Item List'!$B$2:$C$1000,2,FALSE)","v":{"$error":"#N/A"}},null,null,null,null,null,null,null,null,null,null,{"$f":"VLOOKUP(B1377,'(1) Project Reference Item List'!$B$2:$D$1000,3,FALSE)","v":{"$error":"#N/A"}},null,null,0,0]
[{"$f":"VLOOKUP(B1378,'(1) Project Reference Item List'!$B$2:$C$1000,2,FALSE)","v":{"$error":"#N/A"}},null,null,null,null,null,null,null,null,null,null,{"$f":"VLOOKUP(B1378,'(1) Project Reference Item List'!$B$2:$D$1000,3,FALSE)","v":{"$error":"#N/A"}},null,null,0,0]
[{"$f":"VLOOKUP(B1379,'(1) Project Reference Item List'!$B$2:$C$1000,2,FALSE)","v":{"$error":"#N/A"}},null,null,null,null,null,null,null,null,null,null,{"$f":"VLOOKUP(B1379,'(1) Project Reference Item List'!$B$2:$D$1000,3,FALSE)","v":{"$error":"#N/A"}},null,null,0,0]
[{"$f":"VLOOKUP(B1380,'(1) Project Reference Item List'!$B$2:$C$1000,2,FALSE)","v":{"$error":"#N/A"}},null,null,null,null,null,null,null,null,null,null,{"$f":"VLOOKUP(B1380,'(1) Project Reference Item List'!$B$2:$D$1000,3,FALSE)","v":{"$error":"#N/A"}},null,null,0,0]
[{"$f":"VLOOKUP(B1381,'(1) Project Reference Item List'!$B$2:$C$1000,2,FALSE)","v":{"$error":"#N/A"}},null,null,null,null,null,null,null,null,null,null,{"$f":"VLOOKUP(B1381,'(1) Project Reference Item List'!$B$2:$D$1000,3,FALSE)","v":{"$error":"#N/A"}},null,null,0,0]
[{"$f":"VLOOKUP(B1382,'(1) Project Reference Item List'!$B$2:$C$1000,2,FALSE)","v":{"$error":"#N/A"}},null,null,null,null,null,null,null,null,null,null,{"$f":"VLOOKUP(B1382,'(1) Project Reference Item List'!$B$2:$D$1000,3,FALSE)","v":{"$error":"#N/A"}},null,null,0,0]
[{"$f":"VLOOKUP(B1383,'(1) Project Reference Item List'!$B$2:$C$1000,2,FALSE)","v":{"$error":"#N/A"}},null,null,null,null,null,null,null,null,null,null,{"$f":"VLOOKUP(B1383,'(1) Project Reference Item List'!$B$2:$D$1000,3,FALSE)","v":{"$error":"#N/A"}},null,null,0,0]
[{"$f":"VLOOKUP(B1384,'(1) Project Reference Item List'!$B$2:$C$1000,2,FALSE)","v":{"$error":"#N/A"}},null,null,null,null,null,null,null,null,null,null,{"$f":"VLOOKUP(B1384,'(1) Project Reference Item List'!$B$2:$D$1000,3,FALSE)","v":{"$error":"#N/A"}},null,null,0,0]
[{"$f":"VLOOKUP(B1385,'(1) Project Reference Item List'!$B$2:$C$1000,2,FALSE)","v":{"$error":"#N/A"}},null,null,null,null,null,null,null,null,null,null,{"$f":"VLOOKUP(B1385,'(1) Project Reference Item List'!$B$2:$D$1000,3,FALSE)","v":{"$error":"#N/A"}},null,null,0,0]
[{"$f":"VLOOKUP(B1386,'(1) Project Reference Item List'!$B$2:$C$1000,2,FALSE)","v":{"$error":"#N/A"}},null,null,null,null,null,null,null,null,null,null,{"$f":"VLOOKUP(B1386,'(1) Project Reference Item List'!$B$2:$D$1000,3,FALSE)","v":{"$error":"#N/A"}},null,null,0,0]
[{"$f":"VLOOKUP(B1387,'(1) Project Reference Item List'!$B$2:$C$1000,2,FALSE)","v":{"$error":"#N/A"}},null,null,null,null,null,null,null,null,null,null,{"$f":"VLOOKUP(B1387,'(1) Project Reference Item List'!$B$2:$D$1000,3,FALSE)","v":{"$error":"#N/A"}},null,null,0,0]
[{"$f":"VLOOKUP(B1388,'(1) Project Reference Item List'!$B$2:$C$1000,2,FALSE)","v":{"$error":"#N/A"}},null,null,null,null,null,null,null,null,null,null,{"$f":"VLOOKUP(B1388,'(1) Project Reference Item List'!$B$2:$D$1000,3,FALSE)","v":{"$error":"#N/A"}},null,null,0,0]
[{"$f":"VLOOKUP(B1389,'(1) Project Reference Item List'!$B$2:$C$1000,2,FALSE)","v":{"$error":"#N/A"}},null,null,null,null,null,null,null,null,null,null,{"$f":"VLOOKUP(B1389,'(1) Project Reference Item List'!$B$2:$D$1000,3,FALSE)","v":{"$error":"#N/A"}},null,null,0,0]
[{"$f":"VLOOKUP(B1390,'(1) Project Reference Item List'!$B$2:$C$1000,2,FALSE)","v":{"$error":"#N/A"}},null,null,null,null,null,null,null,null,null,null,{"$f":"VLOOKUP(B1390,'(1) Project Reference Item List'!$B$2:$D$1000,3,FALSE)","v":{"$error":"#N/A"}},null,null,0,0]
[{"$f":"VLOOKUP(B1391,'(1) Project Reference Item List'!$B$2:$C$1000,2,FALSE)","v":{"$error":"#N/A"}},null,null,null,null,null,null,null,null,null,null,{"$f":"VLOOKUP(B1391,'(1) Project Reference Item List'!$B$2:$D$1000,3,FALSE)","v":{"$error":"#N/A"}},null,null,0,0]
[{"$f":"VLOOKUP(B1392,'(1) Project Reference Item List'!$B$2:$C$1000,2,FALSE)","v":{"$error":"#N/A"}},null,null,null,null,null,null,null,null,null,null,{"$f":"VLOOKUP(B1392,'(1) Project Reference Item List'!$B$2:$D$1000,3,FALSE)","v":{"$error":"#N/A"}},null,null,0,0]
[{"$f":"VLOOKUP(B1393,'(1) Project Reference Item List'!$B$2:$C$1000,2,FALSE)","v":{"$error":"#N/A"}},null,null,null,null,null,null,null,null,null,null,{"$f":"VLOOKUP(B1393,'(1) Project Reference Item List'!$B$2:$D$1000,3,FALSE)","v":{"$error":"#N/A"}},null,null,0,0]
[{"$f":"VLOOKUP(B1394,'(1) Project Reference Item List'!$B$2:$C$1000,2,FALSE)","v":{"$error":"#N/A"}},null,null,null,null,null,null,null,null,null,null,{"$f":"VLOOKUP(B1394,'(1) Project Reference Item List'!$B$2:$D$1000,3,FALSE)","v":{"$error":"#N/A"}},null,null,0,0]
[{"$f":"VLOOKUP(B1395,'(1) Project Reference Item List'!$B$2:$C$1000,2,FALSE)","v":{"$error":"#N/A"}},null,null,null,null,null,null,null,null,null,null,{"$f":"VLOOKUP(B1395,'(1) Project Reference Item List'!$B$2:$D$1000,3,FALSE)","v":{"$error":"#N/A"}},null,null,0,0]
[{"$f":"VLOOKUP(B1396,'(1) Project Reference Item List'!$B$2:$C$1000,2,FALSE)","v":{"$error":"#N/A"}},null,null,null,null,null,null,null,null,null,null,{"$f":"VLOOKUP(B1396,'(1) Project Reference Item List'!$B$2:$D$1000,3,FALSE)","v":{"$error":"#N/A"}},null,null,0,0]
[{"$f":"VLOOKUP(B1397,'(1) Project Reference Item List'!$B$2:$C$1000,2,FALSE)","v":{"$error":"#N/A"}},null,null,null,null,null,null,null,null,null,null,{"$f":"VLOOKUP(B1397,'(1) Project Reference Item List'!$B$2:$D$1000,3,FALSE)","v":{"$error":"#N/A"}},null,null,0,0]
[{"$f":"VLOOKUP(B1398,'(1) Project Reference Item List'!$B$2:$C$1000,2,FALSE)","v":{"$error":"#N/A"}},null,null,null,null,null,null,null,null,null,null,{"$f":"VLOOKUP(B1398,'(1) Project Reference Item List'!$B$2:$D$1000,3,FALSE)","v":{"$error":"#N/A"}},null,null,0,0]
[{"$f":"VLOOKUP(B1399,'(1) Project Reference Item List'!$B$2:$C$1000,2,FALSE)","v":{"$error":"#N/A"}},null,null,null,null,null,null,null,null,null,null,{"$f":"VLOOKUP(B1399,'(1) Project Reference Item List'!$B$2:$D$1000,3,FALSE)","v":{"$error":"#N/A"}},null,null,0,0]
[{"$f":"VLOOKUP(B1400,'(1) Project Reference Item List'!$B$2:$C$1000,2,FALSE)","v":{"$error":"#N/A"}},null,null,null,null,null,null,null,null,null,null,{"$f":"VLOOKUP(B1400,'(1) Project Reference Item List'!$B$2:$D$1000,3,FALSE)","v":{"$error":"#N/A"}},null,null,0,0]
[{"$f":"VLOOKUP(B1401,'(1) Project Reference Item List'!$B$2:$C$1000,2,FALSE)","v":{"$error":"#N/A"}},null,null,null,null,null,null,null,null,null,null,{"$f":"VLOOKUP(B1401,'(1) Project Reference Item List'!$B$2:$D$1000,3,FALSE)","v":{"$error":"#N/A"}},null,null,0,0]
[{"$f":"VLOOKUP(B1402,'(1) Project Reference Item List'!$B$2:$C$1000,2,FALSE)","v":{"$error":"#N/A"}},null,null,null,null,null,null,null,null,null,null,{"$f":"VLOOKUP(B1402,'(1) Project Reference Item List'!$B$2:$D$1000,3,FALSE)","v":{"$error":"#N/A"}},null,null,0,0]
[{"$f":"VLOOKUP(B1403,'(1) Project Reference Item List'!$B$2:$C$1000,2,FALSE)","v":{"$error":"#N/A"}},null,null,null,null,null,null,null,null,null,null,{"$f":"VLOOKUP(B1403,'(1) Project Reference Item List'!$B$2:$D$1000,3,FALSE)","v":{"$error":"#N/A"}},null,null,0,0]
[{"$f":"VLOOKUP(B1404,'(1) Project Reference Item List'!$B$2:$C$1000,2,FALSE)","v":{"$error":"#N/A"}},null,null,null,null,null,null,null,null,null,null,{"$f":"VLOOKUP(B1404,'(1) Project Reference Item List'!$B$2:$D$1000,3,FALSE)","v":{"$error":"#N/A"}},null,null,0,0]
[{"$f":"VLOOKUP(B1405,'(1) Project Reference Item List'!$B$2:$C$1000,2,FALSE)","v":{"$error":"#N/A"}},null,null,null,null,null,null,null,null,null,null,{"$f":"VLOOKUP(B1405,'(1) Project Reference Item List'!$B$2:$D$1000,3,FALSE)","v":{"$error":"#N/A"}},null,null,0,0]
[{"$f":"VLOOKUP(B1406,'(1) Project Reference Item List'!$B$2:$C$1000,2,FALSE)","v":{"$error":"#N/A"}},null,null,null,null,null,null,null,null,null,null,{"$f":"VLOOKUP(B1406,'(1) Project Reference Item List'!$B$2:$D$1000,3,FALSE)","v":{"$error":"#N/A"}},null,null,0,0]
[{"$f":"VLOOKUP(B1407,'(1) Project Reference Item List'!$B$2:$C$1000,2,FALSE)","v":{"$error":"#N/A"}},null,null,null,null,null,null,null,null,null,null,{"$f":"VLOOKUP(B1407,'(1) Project Reference Item List'!$B$2:$D$1000,3,FALSE)","v":{"$error":"#N/A"}},null,null,0,0]
[{"$f":"VLOOKUP(B1408,'(1) Project Reference Item List'!$B$2:$C$1000,2,FALSE)","v":{"$error":"#N/A"}},null,null,null,null,null,null,null,null,null,null,{"$f":"VLOOKUP(B1408,'(1) Project Reference Item List'!$B$2:$D$1000,3,FALSE)","v":{"$error":"#N/A"}},null,null,0,0]
[{"$f":"VLOOKUP(B1409,'(1) Project Reference Item List'!$B$2:$C$1000,2,FALSE)","v":{"$error":"#N/A"}},null,null,null,null,null,null,null,null,null,null,{"$f":"VLOOKUP(B1409,'(1) Project Reference Item List'!$B$2:$D$1000,3,FALSE)","v":{"$error":"#N/A"}},null,null,0,0]
[{"$f":"VLOOKUP(B1410,'(1) Project Reference Item List'!$B$2:$C$1000,2,FALSE)","v":{"$error":"#N/A"}},null,null,null,null,null,null,null,null,null,null,{"$f":"VLOOKUP(B1410,'(1) Project Reference Item List'!$B$2:$D$1000,3,FALSE)","v":{"$error":"#N/A"}},null,null,0,0]
[{"$f":"VLOOKUP(B1411,'(1) Project Reference Item List'!$B$2:$C$1000,2,FALSE)","v":{"$error":"#N/A"}},null,null,null,null,null,null,null,null,null,null,{"$f":"VLOOKUP(B1411,'(1) Project Reference Item List'!$B$2:$D$1000,3,FALSE)","v":{"$error":"#N/A"}},null,null,0,0]
[{"$f":"VLOOKUP(B1412,'(1) Project Reference Item List'!$B$2:$C$1000,2,FALSE)","v":{"$error":"#N/A"}},null,null,null,null,null,null,null,null,null,null,{"$f":"VLOOKUP(B1412,'(1) Project Reference Item List'!$B$2:$D$1000,3,FALSE)","v":{"$error":"#N/A"}},null,null,0,0]
[{"$f":"VLOOKUP(B1413,'(1) Project Reference Item List'!$B$2:$C$1000,2,FALSE)","v":{"$error":"#N/A"}},null,null,null,null,null,null,null,null,null,null,{"$f":"VLOOKUP(B1413,'(1) Project Reference Item List'!$B$2:$D$1000,3,FALSE)","v":{"$error":"#N/A"}},null,null,0,0]
[{"$f":"VLOOKUP(B1414,'(1) Project Reference Item List'!$B$2:$C$1000,2,FALSE)","v":{"$error":"#N/A"}},null,null,null,null,null,null,null,null,null,null,{"$f":"VLOOKUP(B1414,'(1) Project Reference Item List'!$B$2:$D$1000,3,FALSE)","v":{"$error":"#N/A"}},null,null,{"$f":"IF(J1414=0,J1414,J1414*N1414)","v":0},{"$f":"(M1414-O1414)","v":0}]
[{"$f":"VLOOKUP(B1415,'(1) Project Reference Item List'!$B$2:$C$1000,2,FALSE)","v":{"$error":"#N/A"}},null,null,null,null,null,null,null,null,null,null,{"$f":"VLOOKUP(B1415,'(1) Project Reference Item List'!$B$2:$D$1000,3,FALSE)","v":{"$error":"#N/A"}},null,null,0,0]
[{"$f":"VLOOKUP(B1416,'(1) Project Reference Item List'!$B$2:$C$1000,2,FALSE)","v":{"$error":"#N/A"}},null,null,null,null,null,null,null,null,null,null,{"$f":"VLOOKUP(B1416,'(1) Project Reference Item List'!$B$2:$D$1000,3,FALSE)","v":{"$error":"#N/A"}},null,null,0,0]
[{"$f":"VLOOKUP(B1417,'(1) Project Reference Item List'!$B$2:$C$1000,2,FALSE)","v":{"$error":"#N/A"}},null,null,null,null,null,null,null,null,null,null,{"$f":"VLOOKUP(B1417,'(1) Project Reference Item List'!$B$2:$D$1000,3,FALSE)","v":{"$error":"#N/A"}},null,null,0,0]
[{"$f":"VLOOKUP(B1418,'(1) Project Reference Item List'!$B$2:$C$1000,2,FALSE)","v":{"$error":"#N/A"}},null,null,null,null,null,null,null,null,null,null,{"$f":"VLOOKUP(B1418,'(1) Project Reference Item List'!$B$2:$D$1000,3,FALSE)","v":{"$error":"#N/A"}},null,null,0,0]
[{"$f":"VLOOKUP(B1419,'(1) Project Reference Item List'!$B$2:$C$1000,2,FALSE)","v":{"$error":"#N/A"}},null,null,null,null,null,null,null,null,null,null,{"$f":"VLOOKUP(B1419,'(1) Project Reference Item List'!$B$2:$D$1000,3,FALSE)","v":{"$error":"#N/A"}},null,null,0,0]
[{"$f":"VLOOKUP(B1420,'(1) Project Reference Item List'!$B$2:$C$1000,2,FALSE)","v":{"$error":"#N/A"}},null,null,null,null,null,null,null,null,null,null,{"$f":"VLOOKUP(B1420,'(1) Project Reference Item List'!$B$2:$D$1000,3,FALSE)","v":{"$error":"#N/A"}},null,null,0,0]
[{"$f":"VLOOKUP(B1421,'(1) Project Reference Item List'!$B$2:$C$1000,2,FALSE)","v":{"$error":"#N/A"}},null,null,null,null,null,null,null,null,null,null,{"$f":"VLOOKUP(B1421,'(1) Project Reference Item List'!$B$2:$D$1000,3,FALSE)","v":{"$error":"#N/A"}},null,null,0,0]
[{"$f":"VLOOKUP(B1422,'(1) Project Reference Item List'!$B$2:$C$1000,2,FALSE)","v":{"$error":"#N/A"}},null,null,null,null,null,null,null,null,null,null,{"$f":"VLOOKUP(B1422,'(1) Project Reference Item List'!$B$2:$D$1000,3,FALSE)","v":{"$error":"#N/A"}},null,null,0,0]
[{"$f":"VLOOKUP(B1423,'(1) Project Reference Item List'!$B$2:$C$1000,2,FALSE)","v":{"$error":"#N/A"}},null,null,null,null,null,null,null,null,null,null,{"$f":"VLOOKUP(B1423,'(1) Project Reference Item List'!$B$2:$D$1000,3,FALSE)","v":{"$error":"#N/A"}},null,null,0,0]
[{"$f":"VLOOKUP(B1424,'(1) Project Reference Item List'!$B$2:$C$1000,2,FALSE)","v":{"$error":"#N/A"}},null,null,null,null,null,null,null,null,null,null,{"$f":"VLOOKUP(B1424,'(1) Project Reference Item List'!$B$2:$D$1000,3,FALSE)","v":{"$error":"#N/A"}},null,null,0,0]
[{"$f":"VLOOKUP(B1425,'(1) Project Reference Item List'!$B$2:$C$1000,2,FALSE)","v":{"$error":"#N/A"}},null,null,null,null,null,null,null,null,null,null,{"$f":"VLOOKUP(B1425,'(1) Project Reference Item List'!$B$2:$D$1000,3,FALSE)","v":{"$error":"#N/A"}},null,null,0,0]
[{"$f":"VLOOKUP(B1426,'(1) Project Reference Item List'!$B$2:$C$1000,2,FALSE)","v":{"$error":"#N/A"}},null,null,null,null,null,null,null,null,null,null,{"$f":"VLOOKUP(B1426,'(1) Project Reference Item List'!$B$2:$D$1000,3,FALSE)","v":{"$error":"#N/A"}},null,null,0,0]
[{"$f":"VLOOKUP(B1427,'(1) Project Reference Item List'!$B$2:$C$1000,2,FALSE)","v":{"$error":"#N/A"}},null,null,null,null,null,null,null,null,null,null,{"$f":"VLOOKUP(B1427,'(1) Project Reference Item List'!$B$2:$D$1000,3,FALSE)","v":{"$error":"#N/A"}},null,null,0,0]
[{"$f":"VLOOKUP(B1428,'(1) Project Reference Item List'!$B$2:$C$1000,2,FALSE)","v":{"$error":"#N/A"}},null,null,null,null,null,null,null,null,null,null,{"$f":"VLOOKUP(B1428,'(1) Project Reference Item List'!$B$2:$D$1000,3,FALSE)","v":{"$error":"#N/A"}},null,null,0,0]
[{"$f":"VLOOKUP(B1429,'(1) Project Reference Item List'!$B$2:$C$1000,2,FALSE)","v":{"$error":"#N/A"}},null,null,null,null,null,null,null,null,null,null,{"$f":"VLOOKUP(B1429,'(1) Project Reference Item List'!$B$2:$D$1000,3,FALSE)","v":{"$error":"#N/A"}},null,null,0,0]
[{"$f":"VLOOKUP(B1430,'(1) Project Reference Item List'!$B$2:$C$1000,2,FALSE)","v":{"$error":"#N/A"}},null,null,null,null,null,null,null,null,null,null,{"$f":"VLOOKUP(B1430,'(1) Project Reference Item List'!$B$2:$D$1000,3,FALSE)","v":{"$error":"#N/A"}},null,null,0,0]
[{"$f":"VLOOKUP(B1431,'(1) Project Reference Item List'!$B$2:$C$1000,2,FALSE)","v":{"$error":"#N/A"}},null,null,null,null,null,null,null,null,null,null,{"$f":"VLOOKUP(B1431,'(1) Project Reference Item List'!$B$2:$D$1000,3,FALSE)","v":{"$error":"#N/A"}},null,null,0,0]
[{"$f":"VLOOKUP(B1432,'(1) Project Reference Item List'!$B$2:$C$1000,2,FALSE)","v":{"$error":"#N/A"}},null,null,null,null,null,null,null,null,null,null,{"$f":"VLOOKUP(B1432,'(1) Project Reference Item List'!$B$2:$D$1000,3,FALSE)","v":{"$error":"#N/A"}},null,null,0,0]
[{"$f":"VLOOKUP(B1433,'(1) Project Reference Item List'!$B$2:$C$1000,2,FALSE)","v":{"$error":"#N/A"}},null,null,null,null,null,null,null,null,null,null,{"$f":"VLOOKUP(B1433,'(1) Project Reference Item List'!$B$2:$D$1000,3,FALSE)","v":{"$error":"#N/A"}},null,null,0,0]
[{"$f":"VLOOKUP(B1434,'(1) Project Reference Item List'!$B$2:$C$1000,2,FALSE)","v":{"$error":"#N/A"}},null,null,null,null,null,null,null,null,null,null,{"$f":"VLOOKUP(B1434,'(1) Project Reference Item List'!$B$2:$D$1000,3,FALSE)","v":{"$error":"#N/A"}},null,null,0,0]
[{"$f":"VLOOKUP(B1435,'(1) Project Reference Item List'!$B$2:$C$1000,2,FALSE)","v":{"$error":"#N/A"}},null,null,null,null,null,null,null,null,null,null,{"$f":"VLOOKUP(B1435,'(1) Project Reference Item List'!$B$2:$D$1000,3,FALSE)","v":{"$error":"#N/A"}},null,null,0,0]
[{"$f":"VLOOKUP(B1436,'(1) Project Reference Item List'!$B$2:$C$1000,2,FALSE)","v":{"$error":"#N/A"}},null,null,null,null,null,null,null,null,null,null,{"$f":"VLOOKUP(B1436,'(1) Project Reference Item List'!$B$2:$D$1000,3,FALSE)","v":{"$error":"#N/A"}},null,null,0,0]
[{"$f":"VLOOKUP(B1437,'(1) Project Reference Item List'!$B$2:$C$1000,2,FALSE)","v":{"$error":"#N/A"}},null,null,null,null,null,null,null,null,null,null,{"$f":"VLOOKUP(B1437,'(1) Project Reference Item List'!$B$2:$D$1000,3,FALSE)","v":{"$error":"#N/A"}},null,null,0,0]
[{"$f":"VLOOKUP(B1438,'(1) Project Reference Item List'!$B$2:$C$1000,2,FALSE)","v":{"$error":"#N/A"}},null,null,null,null,null,null,null,null,null,null,{"$f":"VLOOKUP(B1438,'(1) Project Reference Item List'!$B$2:$D$1000,3,FALSE)","v":{"$error":"#N/A"}},null,null,0,0]
[{"$f":"VLOOKUP(B1439,'(1) Project Reference Item List'!$B$2:$C$1000,2,FALSE)","v":{"$error":"#N/A"}},null,null,null,null,null,null,null,null,null,null,{"$f":"VLOOKUP(B1439,'(1) Project Reference Item List'!$B$2:$D$1000,3,FALSE)","v":{"$error":"#N/A"}},null,null,0,0]
[{"$f":"VLOOKUP(B1440,'(1) Project Reference Item List'!$B$2:$C$1000,2,FALSE)","v":{"$error":"#N/A"}},null,null,null,null,null,null,null,null,null,null,{"$f":"VLOOKUP(B1440,'(1) Project Reference Item List'!$B$2:$D$1000,3,FALSE)","v":{"$error":"#N/A"}},null,null,0,0]
[{"$f":"VLOOKUP(B1441,'(1) Project Reference Item List'!$B$2:$C$1000,2,FALSE)","v":{"$error":"#N/A"}},null,null,null,null,null,null,null,null,null,null,{"$f":"VLOOKUP(B1441,'(1) Project Reference Item List'!$B$2:$D$1000,3,FALSE)","v":{"$error":"#N/A"}},null,null,0,0]
[{"$f":"VLOOKUP(B1442,'(1) Project Reference Item List'!$B$2:$C$1000,2,FALSE)","v":{"$error":"#N/A"}},null,null,null,null,null,null,null,null,null,null,{"$f":"VLOOKUP(B1442,'(1) Project Reference Item List'!$B$2:$D$1000,3,FALSE)","v":{"$error":"#N/A"}},null,null,0,0]
[{"$f":"VLOOKUP(B1443,'(1) Project Reference Item List'!$B$2:$C$1000,2,FALSE)","v":{"$error":"#N/A"}},null,null,null,null,null,null,null,null,null,null,{"$f":"VLOOKUP(B1443,'(1) Project Reference Item List'!$B$2:$D$1000,3,FALSE)","v":{"$error":"#N/A"}},null,null,0,0]
[{"$f":"VLOOKUP(B1444,'(1) Project Reference Item List'!$B$2:$C$1000,2,FALSE)","v":{"$error":"#N/A"}},null,null,null,null,null,null,null,null,null,null,{"$f":"VLOOKUP(B1444,'(1) Project Reference Item List'!$B$2:$D$1000,3,FALSE)","v":{"$error":"#N/A"}},null,null,0,0]
[{"$f":"VLOOKUP(B1445,'(1) Project Reference Item List'!$B$2:$C$1000,2,FALSE)","v":{"$error":"#N/A"}},null,null,null,null,null,null,null,null,null,null,{"$f":"VLOOKUP(B1445,'(1) Project Reference Item List'!$B$2:$D$1000,3,FALSE)","v":{"$error":"#N/A"}},null,null,0,0]
[{"$f":"VLOOKUP(B1446,'(1) Project Reference Item List'!$B$2:$C$1000,2,FALSE)","v":{"$error":"#N/A"}},null,null,null,null,null,null,null,null,null,null,{"$f":"VLOOKUP(B1446,'(1) Project Reference Item List'!$B$2:$D$1000,3,FALSE)","v":{"$error":"#N/A"}},null,null,0,0]
[{"$f":"VLOOKUP(B1447,'(1) Project Reference Item List'!$B$2:$C$1000,2,FALSE)","v":{"$error":"#N/A"}},null,null,null,null,null,null,null,null,null,null,{"$f":"VLOOKUP(B1447,'(1) Project Reference Item List'!$B$2:$D$1000,3,FALSE)","v":{"$error":"#N/A"}},null,null,0,0]
[{"$f":"VLOOKUP(B1448,'(1) Project Reference Item List'!$B$2:$C$1000,2,FALSE)","v":{"$error":"#N/A"}},null,null,null,null,null,null,null,null,null,null,{"$f":"VLOOKUP(B1448,'(1) Project Reference Item List'!$B$2:$D$1000,3,FALSE)","v":{"$error":"#N/A"}},null,null,0,0]
[{"$f":"VLOOKUP(B1449,'(1) Project Reference Item List'!$B$2:$C$1000,2,FALSE)","v":{"$error":"#N/A"}},null,null,null,null,null,null,null,null,null,null,{"$f":"VLOOKUP(B1449,'(1) Project Reference Item List'!$B$2:$D$1000,3,FALSE)","v":{"$error":"#N/A"}},null,null,0,0]
[{"$f":"VLOOKUP(B1450,'(1) Project Reference Item List'!$B$2:$C$1000,2,FALSE)","v":{"$error":"#N/A"}},null,null,null,null,null,null,null,null,null,null,{"$f":"VLOOKUP(B1450,'(1) Project Reference Item List'!$B$2:$D$1000,3,FALSE)","v":{"$error":"#N/A"}},null,null,0,0]
[{"$f":"VLOOKUP(B1451,'(1) Project Reference Item List'!$B$2:$C$1000,2,FALSE)","v":{"$error":"#N/A"}},null,null,null,null,null,null,null,null,null,null,{"$f":"VLOOKUP(B1451,'(1) Project Reference Item List'!$B$2:$D$1000,3,FALSE)","v":{"$error":"#N/A"}},null,null,0,0]
[{"$f":"VLOOKUP(B1452,'(1) Project Reference Item List'!$B$2:$C$1000,2,FALSE)","v":{"$error":"#N/A"}},null,null,null,null,null,null,null,null,null,null,{"$f":"VLOOKUP(B1452,'(1) Project Reference Item List'!$B$2:$D$1000,3,FALSE)","v":{"$error":"#N/A"}},null,null,0,0]
[{"$f":"VLOOKUP(B1453,'(1) Project Reference Item List'!$B$2:$C$1000,2,FALSE)","v":{"$error":"#N/A"}},null,null,null,null,null,null,null,null,null,null,{"$f":"VLOOKUP(B1453,'(1) Project Reference Item List'!$B$2:$D$1000,3,FALSE)","v":{"$error":"#N/A"}},null,null,0,0]
[{"$f":"VLOOKUP(B1454,'(1) Project Reference Item List'!$B$2:$C$1000,2,FALSE)","v":{"$error":"#N/A"}},null,null,null,null,null,null,null,null,null,null,{"$f":"VLOOKUP(B1454,'(1) Project Reference Item List'!$B$2:$D$1000,3,FALSE)","v":{"$error":"#N/A"}},null,null,0,0]
[{"$f":"VLOOKUP(B1455,'(1) Project Reference Item List'!$B$2:$C$1000,2,FALSE)","v":{"$error":"#N/A"}},null,null,null,null,null,null,null,null,null,null,{"$f":"VLOOKUP(B1455,'(1) Project Reference Item List'!$B$2:$D$1000,3,FALSE)","v":{"$error":"#N/A"}},null,null,0,0]
[{"$f":"VLOOKUP(B1456,'(1) Project Reference Item List'!$B$2:$C$1000,2,FALSE)","v":{"$error":"#N/A"}},null,null,null,null,null,null,null,null,null,null,{"$f":"VLOOKUP(B1456,'(1) Project Reference Item List'!$B$2:$D$1000,3,FALSE)","v":{"$error":"#N/A"}},null,null,0,0]
[{"$f":"VLOOKUP(B1457,'(1) Project Reference Item List'!$B$2:$C$1000,2,FALSE)","v":{"$error":"#N/A"}},null,null,null,null,null,null,null,null,null,null,{"$f":"VLOOKUP(B1457,'(1) Project Reference Item List'!$B$2:$D$1000,3,FALSE)","v":{"$error":"#N/A"}},null,null,0,0]
[{"$f":"VLOOKUP(B1458,'(1) Project Reference Item List'!$B$2:$C$1000,2,FALSE)","v":{"$error":"#N/A"}},null,null,null,null,null,null,null,null,null,null,{"$f":"VLOOKUP(B1458,'(1) Project Reference Item List'!$B$2:$D$1000,3,FALSE)","v":{"$error":"#N/A"}},null,null,0,0]
[{"$f":"VLOOKUP(B1459,'(1) Project Reference Item List'!$B$2:$C$1000,2,FALSE)","v":{"$error":"#N/A"}},null,null,null,null,null,null,null,null,null,null,{"$f":"VLOOKUP(B1459,'(1) Project Reference Item List'!$B$2:$D$1000,3,FALSE)","v":{"$error":"#N/A"}},null,null,0,0]
[{"$f":"VLOOKUP(B1460,'(1) Project Reference Item List'!$B$2:$C$1000,2,FALSE)","v":{"$error":"#N/A"}},null,null,null,null,null,null,null,null,null,null,{"$f":"VLOOKUP(B1460,'(1) Project Reference Item List'!$B$2:$D$1000,3,FALSE)","v":{"$error":"#N/A"}},null,null,0,0]
[{"$f":"VLOOKUP(B1461,'(1) Project Reference Item List'!$B$2:$C$1000,2,FALSE)","v":{"$error":"#N/A"}},null,null,null,null,null,null,null,null,null,null,{"$f":"VLOOKUP(B1461,'(1) Project Reference Item List'!$B$2:$D$1000,3,FALSE)","v":{"$error":"#N/A"}},null,null,0,0]
[{"$f":"VLOOKUP(B1462,'(1) Project Reference Item List'!$B$2:$C$1000,2,FALSE)","v":{"$error":"#N/A"}},null,null,null,null,null,null,null,null,null,null,{"$f":"VLOOKUP(B1462,'(1) Project Reference Item List'!$B$2:$D$1000,3,FALSE)","v":{"$error":"#N/A"}},null,null,0,0]
[{"$f":"VLOOKUP(B1463,'(1) Project Reference Item List'!$B$2:$C$1000,2,FALSE)","v":{"$error":"#N/A"}},null,null,null,null,null,null,null,null,null,null,{"$f":"VLOOKUP(B1463,'(1) Project Reference Item List'!$B$2:$D$1000,3,FALSE)","v":{"$error":"#N/A"}},null,null,0,0]
[{"$f":"VLOOKUP(B1464,'(1) Project Reference Item List'!$B$2:$C$1000,2,FALSE)","v":{"$error":"#N/A"}},null,null,null,null,null,null,null,null,null,null,{"$f":"VLOOKUP(B1464,'(1) Project Reference Item List'!$B$2:$D$1000,3,FALSE)","v":{"$error":"#N/A"}},null,null,0,0]
[{"$f":"VLOOKUP(B1465,'(1) Project Reference Item List'!$B$2:$C$1000,2,FALSE)","v":{"$error":"#N/A"}},null,null,null,null,null,null,null,null,null,null,{"$f":"VLOOKUP(B1465,'(1) Project Reference Item List'!$B$2:$D$1000,3,FALSE)","v":{"$error":"#N/A"}},null,null,0,0]
[{"$f":"VLOOKUP(B1466,'(1) Project Reference Item List'!$B$2:$C$1000,2,FALSE)","v":{"$error":"#N/A"}},null,null,null,null,null,null,null,null,null,null,{"$f":"VLOOKUP(B1466,'(1) Project Reference Item List'!$B$2:$D$1000,3,FALSE)","v":{"$error":"#N/A"}},null,null,0,0]
[{"$f":"VLOOKUP(B1467,'(1) Project Reference Item List'!$B$2:$C$1000,2,FALSE)","v":{"$error":"#N/A"}},null,null,null,null,null,null,null,null,null,null,{"$f":"VLOOKUP(B1467,'(1) Project Reference Item List'!$B$2:$D$1000,3,FALSE)","v":{"$error":"#N/A"}},null,null,0,0]
[{"$f":"VLOOKUP(B1468,'(1) Project Reference Item List'!$B$2:$C$1000,2,FALSE)","v":{"$error":"#N/A"}},null,null,null,null,null,null,null,null,null,null,{"$f":"VLOOKUP(B1468,'(1) Project Reference Item List'!$B$2:$D$1000,3,FALSE)","v":{"$error":"#N/A"}},null,null,0,0]
[{"$f":"VLOOKUP(B1469,'(1) Project Reference Item List'!$B$2:$C$1000,2,FALSE)","v":{"$error":"#N/A"}},null,null,null,null,null,null,null,null,null,null,{"$f":"VLOOKUP(B1469,'(1) Project Reference Item List'!$B$2:$D$1000,3,FALSE)","v":{"$error":"#N/A"}},null,null,0,0]
[{"$f":"VLOOKUP(B1470,'(1) Project Reference Item List'!$B$2:$C$1000,2,FALSE)","v":{"$error":"#N/A"}},null,null,null,null,null,null,null,null,null,null,{"$f":"VLOOKUP(B1470,'(1) Project Reference Item List'!$B$2:$D$1000,3,FALSE)","v":{"$error":"#N/A"}},null,null,0,0]
[{"$f":"VLOOKUP(B1471,'(1) Project Reference Item List'!$B$2:$C$1000,2,FALSE)","v":{"$error":"#N/A"}},null,null,null,null,null,null,null,null,null,null,{"$f":"VLOOKUP(B1471,'(1) Project Reference Item List'!$B$2:$D$1000,3,FALSE)","v":{"$error":"#N/A"}},null,null,0,0]
[{"$f":"VLOOKUP(B1472,'(1) Project Reference Item List'!$B$2:$C$1000,2,FALSE)","v":{"$error":"#N/A"}},null,null,null,null,null,null,null,null,null,null,{"$f":"VLOOKUP(B1472,'(1) Project Reference Item List'!$B$2:$D$1000,3,FALSE)","v":{"$error":"#N/A"}},null,null,0,0]
[{"$f":"VLOOKUP(B1473,'(1) Project Reference Item List'!$B$2:$C$1000,2,FALSE)","v":{"$error":"#N/A"}},null,null,null,null,null,null,null,null,null,null,{"$f":"VLOOKUP(B1473,'(1) Project Reference Item List'!$B$2:$D$1000,3,FALSE)","v":{"$error":"#N/A"}},null,null,0,0]
[{"$f":"VLOOKUP(B1474,'(1) Project Reference Item List'!$B$2:$C$1000,2,FALSE)","v":{"$error":"#N/A"}},null,null,null,null,null,null,null,null,null,null,{"$f":"VLOOKUP(B1474,'(1) Project Reference Item List'!$B$2:$D$1000,3,FALSE)","v":{"$error":"#N/A"}},null,null,0,0]
[{"$f":"VLOOKUP(B1475,'(1) Project Reference Item List'!$B$2:$C$1000,2,FALSE)","v":{"$error":"#N/A"}},null,null,null,null,null,null,null,null,null,null,{"$f":"VLOOKUP(B1475,'(1) Project Reference Item List'!$B$2:$D$1000,3,FALSE)","v":{"$error":"#N/A"}},null,null,0,0]
[{"$f":"VLOOKUP(B1476,'(1) Project Reference Item List'!$B$2:$C$1000,2,FALSE)","v":{"$error":"#N/A"}},null,null,null,null,null,null,null,null,null,null,{"$f":"VLOOKUP(B1476,'(1) Project Reference Item List'!$B$2:$D$1000,3,FALSE)","v":{"$error":"#N/A"}},null,null,0,0]
[{"$f":"VLOOKUP(B1477,'(1) Project Reference Item List'!$B$2:$C$1000,2,FALSE)","v":{"$error":"#N/A"}},null,null,null,null,null,null,null,null,null,null,{"$f":"VLOOKUP(B1477,'(1) Project Reference Item List'!$B$2:$D$1000,3,FALSE)","v":{"$error":"#N/A"}},null,null,0,0]
[{"$f":"VLOOKUP(B1478,'(1) Project Reference Item List'!$B$2:$C$1000,2,FALSE)","v":{"$error":"#N/A"}},null,null,null,null,null,null,null,null,null,null,{"$f":"VLOOKUP(B1478,'(1) Project Reference Item List'!$B$2:$D$1000,3,FALSE)","v":{"$error":"#N/A"}},null,null,{"$f":"IF(J1478=0,J1478,J1478*N1478)","v":0},{"$f":"(M1478-O1478)","v":0}]
[{"$f":"VLOOKUP(B1479,'(1) Project Reference Item List'!$B$2:$C$1000,2,FALSE)","v":{"$error":"#N/A"}},null,null,null,null,null,null,null,null,null,null,{"$f":"VLOOKUP(B1479,'(1) Project Reference Item List'!$B$2:$D$1000,3,FALSE)","v":{"$error":"#N/A"}},null,null,0,0]
[{"$f":"VLOOKUP(B1480,'(1) Project Reference Item List'!$B$2:$C$1000,2,FALSE)","v":{"$error":"#N/A"}},null,null,null,null,null,null,null,null,null,null,{"$f":"VLOOKUP(B1480,'(1) Project Reference Item List'!$B$2:$D$1000,3,FALSE)","v":{"$error":"#N/A"}},null,null,0,0]
[{"$f":"VLOOKUP(B1481,'(1) Project Reference Item List'!$B$2:$C$1000,2,FALSE)","v":{"$error":"#N/A"}},null,null,null,null,null,null,null,null,null,null,{"$f":"VLOOKUP(B1481,'(1) Project Reference Item List'!$B$2:$D$1000,3,FALSE)","v":{"$error":"#N/A"}},null,null,0,0]
[{"$f":"VLOOKUP(B1482,'(1) Project Reference Item List'!$B$2:$C$1000,2,FALSE)","v":{"$error":"#N/A"}},null,null,null,null,null,null,null,null,null,null,{"$f":"VLOOKUP(B1482,'(1) Project Reference Item List'!$B$2:$D$1000,3,FALSE)","v":{"$error":"#N/A"}},null,null,0,0]
[{"$f":"VLOOKUP(B1483,'(1) Project Reference Item List'!$B$2:$C$1000,2,FALSE)","v":{"$error":"#N/A"}},null,null,null,null,null,null,null,null,null,null,{"$f":"VLOOKUP(B1483,'(1) Project Reference Item List'!$B$2:$D$1000,3,FALSE)","v":{"$error":"#N/A"}},null,null,0,0]
[{"$f":"VLOOKUP(B1484,'(1) Project Reference Item List'!$B$2:$C$1000,2,FALSE)","v":{"$error":"#N/A"}},null,null,null,null,null,null,null,null,null,null,{"$f":"VLOOKUP(B1484,'(1) Project Reference Item List'!$B$2:$D$1000,3,FALSE)","v":{"$error":"#N/A"}},null,null,0,0]
[{"$f":"VLOOKUP(B1485,'(1) Project Reference Item List'!$B$2:$C$1000,2,FALSE)","v":{"$error":"#N/A"}},null,null,null,null,null,null,null,null,null,null,{"$f":"VLOOKUP(B1485,'(1) Project Reference Item List'!$B$2:$D$1000,3,FALSE)","v":{"$error":"#N/A"}},null,null,0,0]
[{"$f":"VLOOKUP(B1486,'(1) Project Reference Item List'!$B$2:$C$1000,2,FALSE)","v":{"$error":"#N/A"}},null,null,null,null,null,null,null,null,null,null,{"$f":"VLOOKUP(B1486,'(1) Project Reference Item List'!$B$2:$D$1000,3,FALSE)","v":{"$error":"#N/A"}},null,null,0,0]
[{"$f":"VLOOKUP(B1487,'(1) Project Reference Item List'!$B$2:$C$1000,2,FALSE)","v":{"$error":"#N/A"}},null,null,null,null,null,null,null,null,null,null,{"$f":"VLOOKUP(B1487,'(1) Project Reference Item List'!$B$2:$D$1000,3,FALSE)","v":{"$error":"#N/A"}},null,null,0,0]
[{"$f":"VLOOKUP(B1488,'(1) Project Reference Item List'!$B$2:$C$1000,2,FALSE)","v":{"$error":"#N/A"}},null,null,null,null,null,null,null,null,null,null,{"$f":"VLOOKUP(B1488,'(1) Project Reference Item List'!$B$2:$D$1000,3,FALSE)","v":{"$error":"#N/A"}},null,null,0,0]
[{"$f":"VLOOKUP(B1489,'(1) Project Reference Item List'!$B$2:$C$1000,2,FALSE)","v":{"$error":"#N/A"}},null,null,null,null,null,null,null,null,null,null,{"$f":"VLOOKUP(B1489,'(1) Project Reference Item List'!$B$2:$D$1000,3,FALSE)","v":{"$error":"#N/A"}},null,null,0,0]
[{"$f":"VLOOKUP(B1490,'(1) Project Reference Item List'!$B$2:$C$1000,2,FALSE)","v":{"$error":"#N/A"}},null,null,null,null,null,null,null,null,null,null,{"$f":"VLOOKUP(B1490,'(1) Project Reference Item List'!$B$2:$D$1000,3,FALSE)","v":{"$error":"#N/A"}},null,null,0,0]
[{"$f":"VLOOKUP(B1491,'(1) Project Reference Item List'!$B$2:$C$1000,2,FALSE)","v":{"$error":"#N/A"}},null,null,null,null,null,null,null,null,null,null,{"$f":"VLOOKUP(B1491,'(1) Project Reference Item List'!$B$2:$D$1000,3,FALSE)","v":{"$error":"#N/A"}},null,null,0,0]
[{"$f":"VLOOKUP(B1492,'(1) Project Reference Item List'!$B$2:$C$1000,2,FALSE)","v":{"$error":"#N/A"}},null,null,null,null,null,null,null,null,null,null,{"$f":"VLOOKUP(B1492,'(1) Project Reference Item List'!$B$2:$D$1000,3,FALSE)","v":{"$error":"#N/A"}},null,null,0,0]
[{"$f":"VLOOKUP(B1493,'(1) Project Reference Item List'!$B$2:$C$1000,2,FALSE)","v":{"$error":"#N/A"}},null,null,null,null,null,null,null,null,null,null,{"$f":"VLOOKUP(B1493,'(1) Project Reference Item List'!$B$2:$D$1000,3,FALSE)","v":{"$error":"#N/A"}},null,null,0,0]
[{"$f":"VLOOKUP(B1494,'(1) Project Reference Item List'!$B$2:$C$1000,2,FALSE)","v":{"$error":"#N/A"}},null,null,null,null,null,null,null,null,null,null,{"$f":"VLOOKUP(B1494,'(1) Project Reference Item List'!$B$2:$D$1000,3,FALSE)","v":{"$error":"#N/A"}},null,null,0,0]
[{"$f":"VLOOKUP(B1495,'(1) Project Reference Item List'!$B$2:$C$1000,2,FALSE)","v":{"$error":"#N/A"}},null,null,null,null,null,null,null,null,null,null,{"$f":"VLOOKUP(B1495,'(1) Project Reference Item List'!$B$2:$D$1000,3,FALSE)","v":{"$error":"#N/A"}},null,null,0,0]
[{"$f":"VLOOKUP(B1496,'(1) Project Reference Item List'!$B$2:$C$1000,2,FALSE)","v":{"$error":"#N/A"}},null,null,null,null,null,null,null,null,null,null,{"$f":"VLOOKUP(B1496,'(1) Project Reference Item List'!$B$2:$D$1000,3,FALSE)","v":{"$error":"#N/A"}},null,null,0,0]
[{"$f":"VLOOKUP(B1497,'(1) Project Reference Item List'!$B$2:$C$1000,2,FALSE)","v":{"$error":"#N/A"}},null,null,null,null,null,null,null,null,null,null,{"$f":"VLOOKUP(B1497,'(1) Project Reference Item List'!$B$2:$D$1000,3,FALSE)","v":{"$error":"#N/A"}},null,null,0,0]
[{"$f":"VLOOKUP(B1498,'(1) Project Reference Item List'!$B$2:$C$1000,2,FALSE)","v":{"$error":"#N/A"}},null,null,null,null,null,null,null,null,null,null,{"$f":"VLOOKUP(B1498,'(1) Project Reference Item List'!$B$2:$D$1000,3,FALSE)","v":{"$error":"#N/A"}},null,null,0,0]
[{"$f":"VLOOKUP(B1499,'(1) Project Reference Item List'!$B$2:$C$1000,2,FALSE)","v":{"$error":"#N/A"}},null,null,null,null,null,null,null,null,null,null,{"$f":"VLOOKUP(B1499,'(1) Project Reference Item List'!$B$2:$D$1000,3,FALSE)","v":{"$error":"#N/A"}},null,null,0,0]
[{"$f":"VLOOKUP(B1500,'(1) Project Reference Item List'!$B$2:$C$1000,2,FALSE)","v":{"$error":"#N/A"}},null,null,null,null,null,null,null,null,null,null,{"$f":"VLOOKUP(B1500,'(1) Project Reference Item List'!$B$2:$D$1000,3,FALSE)","v":{"$error":"#N/A"}},null,null,0,0]
[{"$f":"VLOOKUP(B1501,'(1) Project Reference Item List'!$B$2:$C$1000,2,FALSE)","v":{"$error":"#N/A"}},null,null,null,null,null,null,null,null,null,null,{"$f":"VLOOKUP(B1501,'(1) Project Reference Item List'!$B$2:$D$1000,3,FALSE)","v":{"$error":"#N/A"}},null,null,0,0]
[{"$f":"VLOOKUP(B1502,'(1) Project Reference Item List'!$B$2:$C$1000,2,FALSE)","v":{"$error":"#N/A"}},null,null,null,null,null,null,null,null,null,null,{"$f":"VLOOKUP(B1502,'(1) Project Reference Item List'!$B$2:$D$1000,3,FALSE)","v":{"$error":"#N/A"}},null,null,0,0]
[{"$f":"VLOOKUP(B1503,'(1) Project Reference Item List'!$B$2:$C$1000,2,FALSE)","v":{"$error":"#N/A"}},null,null,null,null,null,null,null,null,null,null,{"$f":"VLOOKUP(B1503,'(1) Project Reference Item List'!$B$2:$D$1000,3,FALSE)","v":{"$error":"#N/A"}},null,null,0,0]
[{"$f":"VLOOKUP(B1504,'(1) Project Reference Item List'!$B$2:$C$1000,2,FALSE)","v":{"$error":"#N/A"}},null,null,null,null,null,null,null,null,null,null,{"$f":"VLOOKUP(B1504,'(1) Project Reference Item List'!$B$2:$D$1000,3,FALSE)","v":{"$error":"#N/A"}},null,null,0,0]
[{"$f":"VLOOKUP(B1505,'(1) Project Reference Item List'!$B$2:$C$1000,2,FALSE)","v":{"$error":"#N/A"}},null,null,null,null,null,null,null,null,null,null,{"$f":"VLOOKUP(B1505,'(1) Project Reference Item List'!$B$2:$D$1000,3,FALSE)","v":{"$error":"#N/A"}},null,null,0,0]
[{"$f":"VLOOKUP(B1506,'(1) Project Reference Item List'!$B$2:$C$1000,2,FALSE)","v":{"$error":"#N/A"}},null,null,null,null,null,null,null,null,null,null,{"$f":"VLOOKUP(B1506,'(1) Project Reference Item List'!$B$2:$D$1000,3,FALSE)","v":{"$error":"#N/A"}},null,null,0,0]
[{"$f":"VLOOKUP(B1507,'(1) Project Reference Item List'!$B$2:$C$1000,2,FALSE)","v":{"$error":"#N/A"}},null,null,null,null,null,null,null,null,null,null,{"$f":"VLOOKUP(B1507,'(1) Project Reference Item List'!$B$2:$D$1000,3,FALSE)","v":{"$error":"#N/A"}},null,null,0,0]
[{"$f":"VLOOKUP(B1508,'(1) Project Reference Item List'!$B$2:$C$1000,2,FALSE)","v":{"$error":"#N/A"}},null,null,null,null,null,null,null,null,null,null,{"$f":"VLOOKUP(B1508,'(1) Project Reference Item List'!$B$2:$D$1000,3,FALSE)","v":{"$error":"#N/A"}},null,null,0,0]
[{"$f":"VLOOKUP(B1509,'(1) Project Reference Item List'!$B$2:$C$1000,2,FALSE)","v":{"$error":"#N/A"}},null,null,null,null,null,null,null,null,null,null,{"$f":"VLOOKUP(B1509,'(1) Project Reference Item List'!$B$2:$D$1000,3,FALSE)","v":{"$error":"#N/A"}},null,null,0,0]
[{"$f":"VLOOKUP(B1510,'(1) Project Reference Item List'!$B$2:$C$1000,2,FALSE)","v":{"$error":"#N/A"}},null,null,null,null,null,null,null,null,null,null,{"$f":"VLOOKUP(B1510,'(1) Project Reference Item List'!$B$2:$D$1000,3,FALSE)","v":{"$error":"#N/A"}},null,null,0,0]
[{"$f":"VLOOKUP(B1511,'(1) Project Reference Item List'!$B$2:$C$1000,2,FALSE)","v":{"$error":"#N/A"}},null,null,null,null,null,null,null,null,null,null,{"$f":"VLOOKUP(B1511,'(1) Project Reference Item List'!$B$2:$D$1000,3,FALSE)","v":{"$error":"#N/A"}},null,null,0,0]
[{"$f":"VLOOKUP(B1512,'(1) Project Reference Item List'!$B$2:$C$1000,2,FALSE)","v":{"$error":"#N/A"}},null,null,null,null,null,null,null,null,null,null,{"$f":"VLOOKUP(B1512,'(1) Project Reference Item List'!$B$2:$D$1000,3,FALSE)","v":{"$error":"#N/A"}},null,null,0,0]
[{"$f":"VLOOKUP(B1513,'(1) Project Reference Item List'!$B$2:$C$1000,2,FALSE)","v":{"$error":"#N/A"}},null,null,null,null,null,null,null,null,null,null,{"$f":"VLOOKUP(B1513,'(1) Project Reference Item List'!$B$2:$D$1000,3,FALSE)","v":{"$error":"#N/A"}},null,null,0,0]
[{"$f":"VLOOKUP(B1514,'(1) Project Reference Item List'!$B$2:$C$1000,2,FALSE)","v":{"$error":"#N/A"}},null,null,null,null,null,null,null,null,null,null,{"$f":"VLOOKUP(B1514,'(1) Project Reference Item List'!$B$2:$D$1000,3,FALSE)","v":{"$error":"#N/A"}},null,null,0,0]
[{"$f":"VLOOKUP(B1515,'(1) Project Reference Item List'!$B$2:$C$1000,2,FALSE)","v":{"$error":"#N/A"}},null,null,null,null,null,null,null,null,null,null,{"$f":"VLOOKUP(B1515,'(1) Project Reference Item List'!$B$2:$D$1000,3,FALSE)","v":{"$error":"#N/A"}},null,null,0,0]
[{"$f":"VLOOKUP(B1516,'(1) Project Reference Item List'!$B$2:$C$1000,2,FALSE)","v":{"$error":"#N/A"}},null,null,null,null,null,null,null,null,null,null,{"$f":"VLOOKUP(B1516,'(1) Project Reference Item List'!$B$2:$D$1000,3,FALSE)","v":{"$error":"#N/A"}},null,null,0,0]
[{"$f":"VLOOKUP(B1517,'(1) Project Reference Item List'!$B$2:$C$1000,2,FALSE)","v":{"$error":"#N/A"}},null,null,null,null,null,null,null,null,null,null,{"$f":"VLOOKUP(B1517,'(1) Project Reference Item List'!$B$2:$D$1000,3,FALSE)","v":{"$error":"#N/A"}},null,null,0,0]
[{"$f":"VLOOKUP(B1518,'(1) Project Reference Item List'!$B$2:$C$1000,2,FALSE)","v":{"$error":"#N/A"}},null,null,null,null,null,null,null,null,null,null,{"$f":"VLOOKUP(B1518,'(1) Project Reference Item List'!$B$2:$D$1000,3,FALSE)","v":{"$error":"#N/A"}},null,null,0,0]
[{"$f":"VLOOKUP(B1519,'(1) Project Reference Item List'!$B$2:$C$1000,2,FALSE)","v":{"$error":"#N/A"}},null,null,null,null,null,null,null,null,null,null,{"$f":"VLOOKUP(B1519,'(1) Project Reference Item List'!$B$2:$D$1000,3,FALSE)","v":{"$error":"#N/A"}},null,null,0,0]
[{"$f":"VLOOKUP(B1520,'(1) Project Reference Item List'!$B$2:$C$1000,2,FALSE)","v":{"$error":"#N/A"}},null,null,null,null,null,null,null,null,null,null,{"$f":"VLOOKUP(B1520,'(1) Project Reference Item List'!$B$2:$D$1000,3,FALSE)","v":{"$error":"#N/A"}},null,null,0,0]
[{"$f":"VLOOKUP(B1521,'(1) Project Reference Item List'!$B$2:$C$1000,2,FALSE)","v":{"$error":"#N/A"}},null,null,null,null,null,null,null,null,null,null,{"$f":"VLOOKUP(B1521,'(1) Project Reference Item List'!$B$2:$D$1000,3,FALSE)","v":{"$error":"#N/A"}},null,null,0,0]
[{"$f":"VLOOKUP(B1522,'(1) Project Reference Item List'!$B$2:$C$1000,2,FALSE)","v":{"$error":"#N/A"}},null,null,null,null,null,null,null,null,null,null,{"$f":"VLOOKUP(B1522,'(1) Project Reference Item List'!$B$2:$D$1000,3,FALSE)","v":{"$error":"#N/A"}},null,null,0,0]
[{"$f":"VLOOKUP(B1523,'(1) Project Reference Item List'!$B$2:$C$1000,2,FALSE)","v":{"$error":"#N/A"}},null,null,null,null,null,null,null,null,null,null,{"$f":"VLOOKUP(B1523,'(1) Project Reference Item List'!$B$2:$D$1000,3,FALSE)","v":{"$error":"#N/A"}},null,null,0,0]
[{"$f":"VLOOKUP(B1524,'(1) Project Reference Item List'!$B$2:$C$1000,2,FALSE)","v":{"$error":"#N/A"}},null,null,null,null,null,null,null,null,null,null,{"$f":"VLOOKUP(B1524,'(1) Project Reference Item List'!$B$2:$D$1000,3,FALSE)","v":{"$error":"#N/A"}},null,null,0,0]
[{"$f":"VLOOKUP(B1525,'(1) Project Reference Item List'!$B$2:$C$1000,2,FALSE)","v":{"$error":"#N/A"}},null,null,null,null,null,null,null,null,null,null,{"$f":"VLOOKUP(B1525,'(1) Project Reference Item List'!$B$2:$D$1000,3,FALSE)","v":{"$error":"#N/A"}},null,null,0,0]
[{"$f":"VLOOKUP(B1526,'(1) Project Reference Item List'!$B$2:$C$1000,2,FALSE)","v":{"$error":"#N/A"}},null,null,null,null,null,null,null,null,null,null,{"$f":"VLOOKUP(B1526,'(1) Project Reference Item List'!$B$2:$D$1000,3,FALSE)","v":{"$error":"#N/A"}},null,null,0,0]
[{"$f":"VLOOKUP(B1527,'(1) Project Reference Item List'!$B$2:$C$1000,2,FALSE)","v":{"$error":"#N/A"}},null,null,null,null,null,null,null,null,null,null,{"$f":"VLOOKUP(B1527,'(1) Project Reference Item List'!$B$2:$D$1000,3,FALSE)","v":{"$error":"#N/A"}},null,null,0,0]
[{"$f":"VLOOKUP(B1528,'(1) Project Reference Item List'!$B$2:$C$1000,2,FALSE)","v":{"$error":"#N/A"}},null,null,null,null,null,null,null,null,null,null,{"$f":"VLOOKUP(B1528,'(1) Project Reference Item List'!$B$2:$D$1000,3,FALSE)","v":{"$error":"#N/A"}},null,null,0,0]
[{"$f":"VLOOKUP(B1529,'(1) Project Reference Item List'!$B$2:$C$1000,2,FALSE)","v":{"$error":"#N/A"}},null,null,null,null,null,null,null,null,null,null,{"$f":"VLOOKUP(B1529,'(1) Project Reference Item List'!$B$2:$D$1000,3,FALSE)","v":{"$error":"#N/A"}},null,null,0,0]
[{"$f":"VLOOKUP(B1530,'(1) Project Reference Item List'!$B$2:$C$1000,2,FALSE)","v":{"$error":"#N/A"}},null,null,null,null,null,null,null,null,null,null,{"$f":"VLOOKUP(B1530,'(1) Project Reference Item List'!$B$2:$D$1000,3,FALSE)","v":{"$error":"#N/A"}},null,null,0,0]
[{"$f":"VLOOKUP(B1531,'(1) Project Reference Item List'!$B$2:$C$1000,2,FALSE)","v":{"$error":"#N/A"}},null,null,null,null,null,null,null,null,null,null,{"$f":"VLOOKUP(B1531,'(1) Project Reference Item List'!$B$2:$D$1000,3,FALSE)","v":{"$error":"#N/A"}},null,null,0,0]
[{"$f":"VLOOKUP(B1532,'(1) Project Reference Item List'!$B$2:$C$1000,2,FALSE)","v":{"$error":"#N/A"}},null,null,null,null,null,null,null,null,null,null,{"$f":"VLOOKUP(B1532,'(1) Project Reference Item List'!$B$2:$D$1000,3,FALSE)","v":{"$error":"#N/A"}},null,null,0,0]
[{"$f":"VLOOKUP(B1533,'(1) Project Reference Item List'!$B$2:$C$1000,2,FALSE)","v":{"$error":"#N/A"}},null,null,null,null,null,null,null,null,null,null,{"$f":"VLOOKUP(B1533,'(1) Project Reference Item List'!$B$2:$D$1000,3,FALSE)","v":{"$error":"#N/A"}},null,null,0,0]
[{"$f":"VLOOKUP(B1534,'(1) Project Reference Item List'!$B$2:$C$1000,2,FALSE)","v":{"$error":"#N/A"}},null,null,null,null,null,null,null,null,null,null,{"$f":"VLOOKUP(B1534,'(1) Project Reference Item List'!$B$2:$D$1000,3,FALSE)","v":{"$error":"#N/A"}},null,null,0,0]
[{"$f":"VLOOKUP(B1535,'(1) Project Reference Item List'!$B$2:$C$1000,2,FALSE)","v":{"$error":"#N/A"}},null,null,null,null,null,null,null,null,null,null,{"$f":"VLOOKUP(B1535,'(1) Project Reference Item List'!$B$2:$D$1000,3,FALSE)","v":{"$error":"#N/A"}},null,null,0,0]
[{"$f":"VLOOKUP(B1536,'(1) Project Reference Item List'!$B$2:$C$1000,2,FALSE)","v":{"$error":"#N/A"}},null,null,null,null,null,null,null,null,null,null,{"$f":"VLOOKUP(B1536,'(1) Project Reference Item List'!$B$2:$D$1000,3,FALSE)","v":{"$error":"#N/A"}},null,null,0,0]
[{"$f":"VLOOKUP(B1537,'(1) Project Reference Item List'!$B$2:$C$1000,2,FALSE)","v":{"$error":"#N/A"}},null,null,null,null,null,null,null,null,null,null,{"$f":"VLOOKUP(B1537,'(1) Project Reference Item List'!$B$2:$D$1000,3,FALSE)","v":{"$error":"#N/A"}},null,null,0,0]
[{"$f":"VLOOKUP(B1538,'(1) Project Reference Item List'!$B$2:$C$1000,2,FALSE)","v":{"$error":"#N/A"}},null,null,null,null,null,null,null,null,null,null,{"$f":"VLOOKUP(B1538,'(1) Project Reference Item List'!$B$2:$D$1000,3,FALSE)","v":{"$error":"#N/A"}},null,null,0,0]
[{"$f":"VLOOKUP(B1539,'(1) Project Reference Item List'!$B$2:$C$1000,2,FALSE)","v":{"$error":"#N/A"}},null,null,null,null,null,null,null,null,null,null,{"$f":"VLOOKUP(B1539,'(1) Project Reference Item List'!$B$2:$D$1000,3,FALSE)","v":{"$error":"#N/A"}},null,null,0,0]
[{"$f":"VLOOKUP(B1540,'(1) Project Reference Item List'!$B$2:$C$1000,2,FALSE)","v":{"$error":"#N/A"}},null,null,null,null,null,null,null,null,null,null,{"$f":"VLOOKUP(B1540,'(1) Project Reference Item List'!$B$2:$D$1000,3,FALSE)","v":{"$error":"#N/A"}},null,null,0,0]
[{"$f":"VLOOKUP(B1541,'(1) Project Reference Item List'!$B$2:$C$1000,2,FALSE)","v":{"$error":"#N/A"}},null,null,null,null,null,null,null,null,null,null,{"$f":"VLOOKUP(B1541,'(1) Project Reference Item List'!$B$2:$D$1000,3,FALSE)","v":{"$error":"#N/A"}},null,null,0,0]
[{"$f":"VLOOKUP(B1542,'(1) Project Reference Item List'!$B$2:$C$1000,2,FALSE)","v":{"$error":"#N/A"}},null,null,null,null,null,null,null,null,null,null,{"$f":"VLOOKUP(B1542,'(1) Project Reference Item List'!$B$2:$D$1000,3,FALSE)","v":{"$error":"#N/A"}},null,null,{"$f":"IF(J1542=0,J1542,J1542*N1542)","v":0},{"$f":"(M1542-O1542)","v":0}]
[{"$f":"VLOOKUP(B1543,'(1) Project Reference Item List'!$B$2:$C$1000,2,FALSE)","v":{"$error":"#N/A"}},null,null,null,null,null,null,null,null,null,null,{"$f":"VLOOKUP(B1543,'(1) Project Reference Item List'!$B$2:$D$1000,3,FALSE)","v":{"$error":"#N/A"}},null,null,0,0]
[{"$f":"VLOOKUP(B1544,'(1) Project Reference Item List'!$B$2:$C$1000,2,FALSE)","v":{"$error":"#N/A"}},null,null,null,null,null,null,null,null,null,null,{"$f":"VLOOKUP(B1544,'(1) Project Reference Item List'!$B$2:$D$1000,3,FALSE)","v":{"$error":"#N/A"}},null,null,0,0]
[{"$f":"VLOOKUP(B1545,'(1) Project Reference Item List'!$B$2:$C$1000,2,FALSE)","v":{"$error":"#N/A"}},null,null,null,null,null,null,null,null,null,null,{"$f":"VLOOKUP(B1545,'(1) Project Reference Item List'!$B$2:$D$1000,3,FALSE)","v":{"$error":"#N/A"}},null,null,0,0]
[{"$f":"VLOOKUP(B1546,'(1) Project Reference Item List'!$B$2:$C$1000,2,FALSE)","v":{"$error":"#N/A"}},null,null,null,null,null,null,null,null,null,null,{"$f":"VLOOKUP(B1546,'(1) Project Reference Item List'!$B$2:$D$1000,3,FALSE)","v":{"$error":"#N/A"}},null,null,0,0]
[{"$f":"VLOOKUP(B1547,'(1) Project Reference Item List'!$B$2:$C$1000,2,FALSE)","v":{"$error":"#N/A"}},null,null,null,null,null,null,null,null,null,null,{"$f":"VLOOKUP(B1547,'(1) Project Reference Item List'!$B$2:$D$1000,3,FALSE)","v":{"$error":"#N/A"}},null,null,0,0]
[{"$f":"VLOOKUP(B1548,'(1) Project Reference Item List'!$B$2:$C$1000,2,FALSE)","v":{"$error":"#N/A"}},null,null,null,null,null,null,null,null,null,null,{"$f":"VLOOKUP(B1548,'(1) Project Reference Item List'!$B$2:$D$1000,3,FALSE)","v":{"$error":"#N/A"}},null,null,0,0]
[{"$f":"VLOOKUP(B1549,'(1) Project Reference Item List'!$B$2:$C$1000,2,FALSE)","v":{"$error":"#N/A"}},null,null,null,null,null,null,null,null,null,null,{"$f":"VLOOKUP(B1549,'(1) Project Reference Item List'!$B$2:$D$1000,3,FALSE)","v":{"$error":"#N/A"}},null,null,0,0]
[{"$f":"VLOOKUP(B1550,'(1) Project Reference Item List'!$B$2:$C$1000,2,FALSE)","v":{"$error":"#N/A"}},null,null,null,null,null,null,null,null,null,null,{"$f":"VLOOKUP(B1550,'(1) Project Reference Item List'!$B$2:$D$1000,3,FALSE)","v":{"$error":"#N/A"}},null,null,0,0]
[{"$f":"VLOOKUP(B1551,'(1) Project Reference Item List'!$B$2:$C$1000,2,FALSE)","v":{"$error":"#N/A"}},null,null,null,null,null,null,null,null,null,null,{"$f":"VLOOKUP(B1551,'(1) Project Reference Item List'!$B$2:$D$1000,3,FALSE)","v":{"$error":"#N/A"}},null,null,0,0]
[{"$f":"VLOOKUP(B1552,'(1) Project Reference Item List'!$B$2:$C$1000,2,FALSE)","v":{"$error":"#N/A"}},null,null,null,null,null,null,null,null,null,null,{"$f":"VLOOKUP(B1552,'(1) Project Reference Item List'!$B$2:$D$1000,3,FALSE)","v":{"$error":"#N/A"}},null,null,0,0]
[{"$f":"VLOOKUP(B1553,'(1) Project Reference Item List'!$B$2:$C$1000,2,FALSE)","v":{"$error":"#N/A"}},null,null,null,null,null,null,null,null,null,null,{"$f":"VLOOKUP(B1553,'(1) Project Reference Item List'!$B$2:$D$1000,3,FALSE)","v":{"$error":"#N/A"}},null,null,0,0]
[{"$f":"VLOOKUP(B1554,'(1) Project Reference Item List'!$B$2:$C$1000,2,FALSE)","v":{"$error":"#N/A"}},null,null,null,null,null,null,null,null,null,null,{"$f":"VLOOKUP(B1554,'(1) Project Reference Item List'!$B$2:$D$1000,3,FALSE)","v":{"$error":"#N/A"}},null,null,0,0]
[{"$f":"VLOOKUP(B1555,'(1) Project Reference Item List'!$B$2:$C$1000,2,FALSE)","v":{"$error":"#N/A"}},null,null,null,null,null,null,null,null,null,null,{"$f":"VLOOKUP(B1555,'(1) Project Reference Item List'!$B$2:$D$1000,3,FALSE)","v":{"$error":"#N/A"}},null,null,0,0]
[{"$f":"VLOOKUP(B1556,'(1) Project Reference Item List'!$B$2:$C$1000,2,FALSE)","v":{"$error":"#N/A"}},null,null,null,null,null,null,null,null,null,null,{"$f":"VLOOKUP(B1556,'(1) Project Reference Item List'!$B$2:$D$1000,3,FALSE)","v":{"$error":"#N/A"}},null,null,0,0]
[{"$f":"VLOOKUP(B1557,'(1) Project Reference Item List'!$B$2:$C$1000,2,FALSE)","v":{"$error":"#N/A"}},null,null,null,null,null,null,null,null,null,null,{"$f":"VLOOKUP(B1557,'(1) Project Reference Item List'!$B$2:$D$1000,3,FALSE)","v":{"$error":"#N/A"}},null,null,0,0]
[{"$f":"VLOOKUP(B1558,'(1) Project Reference Item List'!$B$2:$C$1000,2,FALSE)","v":{"$error":"#N/A"}},null,null,null,null,null,null,null,null,null,null,{"$f":"VLOOKUP(B1558,'(1) Project Reference Item List'!$B$2:$D$1000,3,FALSE)","v":{"$error":"#N/A"}},null,null,0,0]
[{"$f":"VLOOKUP(B1559,'(1) Project Reference Item List'!$B$2:$C$1000,2,FALSE)","v":{"$error":"#N/A"}},null,null,null,null,null,null,null,null,null,null,{"$f":"VLOOKUP(B1559,'(1) Project Reference Item List'!$B$2:$D$1000,3,FALSE)","v":{"$error":"#N/A"}},null,null,0,0]
[{"$f":"VLOOKUP(B1560,'(1) Project Reference Item List'!$B$2:$C$1000,2,FALSE)","v":{"$error":"#N/A"}},null,null,null,null,null,null,null,null,null,null,{"$f":"VLOOKUP(B1560,'(1) Project Reference Item List'!$B$2:$D$1000,3,FALSE)","v":{"$error":"#N/A"}},null,null,0,0]
[{"$f":"VLOOKUP(B1561,'(1) Project Reference Item List'!$B$2:$C$1000,2,FALSE)","v":{"$error":"#N/A"}},null,null,null,null,null,null,null,null,null,null,{"$f":"VLOOKUP(B1561,'(1) Project Reference Item List'!$B$2:$D$1000,3,FALSE)","v":{"$error":"#N/A"}},null,null,0,0]
[{"$f":"VLOOKUP(B1562,'(1) Project Reference Item List'!$B$2:$C$1000,2,FALSE)","v":{"$error":"#N/A"}},null,null,null,null,null,null,null,null,null,null,{"$f":"VLOOKUP(B1562,'(1) Project Reference Item List'!$B$2:$D$1000,3,FALSE)","v":{"$error":"#N/A"}},null,null,0,0]
[{"$f":"VLOOKUP(B1563,'(1) Project Reference Item List'!$B$2:$C$1000,2,FALSE)","v":{"$error":"#N/A"}},null,null,null,null,null,null,null,null,null,null,{"$f":"VLOOKUP(B1563,'(1) Project Reference Item List'!$B$2:$D$1000,3,FALSE)","v":{"$error":"#N/A"}},null,null,0,0]
[{"$f":"VLOOKUP(B1564,'(1) Project Reference Item List'!$B$2:$C$1000,2,FALSE)","v":{"$error":"#N/A"}},null,null,null,null,null,null,null,null,null,null,{"$f":"VLOOKUP(B1564,'(1) Project Reference Item List'!$B$2:$D$1000,3,FALSE)","v":{"$error":"#N/A"}},null,null,0,0]
[{"$f":"VLOOKUP(B1565,'(1) Project Reference Item List'!$B$2:$C$1000,2,FALSE)","v":{"$error":"#N/A"}},null,null,null,null,null,null,null,null,null,null,{"$f":"VLOOKUP(B1565,'(1) Project Reference Item List'!$B$2:$D$1000,3,FALSE)","v":{"$error":"#N/A"}},null,null,0,0]
[{"$f":"VLOOKUP(B1566,'(1) Project Reference Item List'!$B$2:$C$1000,2,FALSE)","v":{"$error":"#N/A"}},null,null,null,null,null,null,null,null,null,null,{"$f":"VLOOKUP(B1566,'(1) Project Reference Item List'!$B$2:$D$1000,3,FALSE)","v":{"$error":"#N/A"}},null,null,0,0]
[{"$f":"VLOOKUP(B1567,'(1) Project Reference Item List'!$B$2:$C$1000,2,FALSE)","v":{"$error":"#N/A"}},null,null,null,null,null,null,null,null,null,null,{"$f":"VLOOKUP(B1567,'(1) Project Reference Item List'!$B$2:$D$1000,3,FALSE)","v":{"$error":"#N/A"}},null,null,0,0]
[{"$f":"VLOOKUP(B1568,'(1) Project Reference Item List'!$B$2:$C$1000,2,FALSE)","v":{"$error":"#N/A"}},null,null,null,null,null,null,null,null,null,null,{"$f":"VLOOKUP(B1568,'(1) Project Reference Item List'!$B$2:$D$1000,3,FALSE)","v":{"$error":"#N/A"}},null,null,0,0]
[{"$f":"VLOOKUP(B1569,'(1) Project Reference Item List'!$B$2:$C$1000,2,FALSE)","v":{"$error":"#N/A"}},null,null,null,null,null,null,null,null,null,null,{"$f":"VLOOKUP(B1569,'(1) Project Reference Item List'!$B$2:$D$1000,3,FALSE)","v":{"$error":"#N/A"}},null,null,0,0]
[{"$f":"VLOOKUP(B1570,'(1) Project Reference Item List'!$B$2:$C$1000,2,FALSE)","v":{"$error":"#N/A"}},null,null,null,null,null,null,null,null,null,null,{"$f":"VLOOKUP(B1570,'(1) Project Reference Item List'!$B$2:$D$1000,3,FALSE)","v":{"$error":"#N/A"}},null,null,0,0]
[{"$f":"VLOOKUP(B1571,'(1) Project Reference Item List'!$B$2:$C$1000,2,FALSE)","v":{"$error":"#N/A"}},null,null,null,null,null,null,null,null,null,null,{"$f":"VLOOKUP(B1571,'(1) Project Reference Item List'!$B$2:$D$1000,3,FALSE)","v":{"$error":"#N/A"}},null,null,0,0]
[{"$f":"VLOOKUP(B1572,'(1) Project Reference Item List'!$B$2:$C$1000,2,FALSE)","v":{"$error":"#N/A"}},null,null,null,null,null,null,null,null,null,null,{"$f":"VLOOKUP(B1572,'(1) Project Reference Item List'!$B$2:$D$1000,3,FALSE)","v":{"$error":"#N/A"}},null,null,0,0]
[{"$f":"VLOOKUP(B1573,'(1) Project Reference Item List'!$B$2:$C$1000,2,FALSE)","v":{"$error":"#N/A"}},null,null,null,null,null,null,null,null,null,null,{"$f":"VLOOKUP(B1573,'(1) Project Reference Item List'!$B$2:$D$1000,3,FALSE)","v":{"$error":"#N/A"}},null,null,0,0]
[{"$f":"VLOOKUP(B1574,'(1) Project Reference Item List'!$B$2:$C$1000,2,FALSE)","v":{"$error":"#N/A"}},null,null,null,null,null,null,null,null,null,null,{"$f":"VLOOKUP(B1574,'(1) Project Reference Item List'!$B$2:$D$1000,3,FALSE)","v":{"$error":"#N/A"}},null,null,0,0]
[{"$f":"VLOOKUP(B1575,'(1) Project Reference Item List'!$B$2:$C$1000,2,FALSE)","v":{"$error":"#N/A"}},null,null,null,null,null,null,null,null,null,null,{"$f":"VLOOKUP(B1575,'(1) Project Reference Item List'!$B$2:$D$1000,3,FALSE)","v":{"$error":"#N/A"}},null,null,0,0]
[{"$f":"VLOOKUP(B1576,'(1) Project Reference Item List'!$B$2:$C$1000,2,FALSE)","v":{"$error":"#N/A"}},null,null,null,null,null,null,null,null,null,null,{"$f":"VLOOKUP(B1576,'(1) Project Reference Item List'!$B$2:$D$1000,3,FALSE)","v":{"$error":"#N/A"}},null,null,0,0]
[{"$f":"VLOOKUP(B1577,'(1) Project Reference Item List'!$B$2:$C$1000,2,FALSE)","v":{"$error":"#N/A"}},null,null,null,null,null,null,null,null,null,null,{"$f":"VLOOKUP(B1577,'(1) Project Reference Item List'!$B$2:$D$1000,3,FALSE)","v":{"$error":"#N/A"}},null,null,0,0]
[{"$f":"VLOOKUP(B1578,'(1) Project Reference Item List'!$B$2:$C$1000,2,FALSE)","v":{"$error":"#N/A"}},null,null,null,null,null,null,null,null,null,null,{"$f":"VLOOKUP(B1578,'(1) Project Reference Item List'!$B$2:$D$1000,3,FALSE)","v":{"$error":"#N/A"}},null,null,0,0]
[{"$f":"VLOOKUP(B1579,'(1) Project Reference Item List'!$B$2:$C$1000,2,FALSE)","v":{"$error":"#N/A"}},null,null,null,null,null,null,null,null,null,null,{"$f":"VLOOKUP(B1579,'(1) Project Reference Item List'!$B$2:$D$1000,3,FALSE)","v":{"$error":"#N/A"}},null,null,0,0]
[{"$f":"VLOOKUP(B1580,'(1) Project Reference Item List'!$B$2:$C$1000,2,FALSE)","v":{"$error":"#N/A"}},null,null,null,null,null,null,null,null,null,null,{"$f":"VLOOKUP(B1580,'(1) Project Reference Item List'!$B$2:$D$1000,3,FALSE)","v":{"$error":"#N/A"}},null,null,0,0]
[{"$f":"VLOOKUP(B1581,'(1) Project Reference Item List'!$B$2:$C$1000,2,FALSE)","v":{"$error":"#N/A"}},null,null,null,null,null,null,null,null,null,null,{"$f":"VLOOKUP(B1581,'(1) Project Reference Item List'!$B$2:$D$1000,3,FALSE)","v":{"$error":"#N/A"}},null,null,0,0]
[{"$f":"VLOOKUP(B1582,'(1) Project Reference Item List'!$B$2:$C$1000,2,FALSE)","v":{"$error":"#N/A"}},null,null,null,null,null,null,null,null,null,null,{"$f":"VLOOKUP(B1582,'(1) Project Reference Item List'!$B$2:$D$1000,3,FALSE)","v":{"$error":"#N/A"}},null,null,0,0]
[{"$f":"VLOOKUP(B1583,'(1) Project Reference Item List'!$B$2:$C$1000,2,FALSE)","v":{"$error":"#N/A"}},null,null,null,null,null,null,null,null,null,null,{"$f":"VLOOKUP(B1583,'(1) Project Reference Item List'!$B$2:$D$1000,3,FALSE)","v":{"$error":"#N/A"}},null,null,0,0]
[{"$f":"VLOOKUP(B1584,'(1) Project Reference Item List'!$B$2:$C$1000,2,FALSE)","v":{"$error":"#N/A"}},null,null,null,null,null,null,null,null,null,null,{"$f":"VLOOKUP(B1584,'(1) Project Reference Item List'!$B$2:$D$1000,3,FALSE)","v":{"$error":"#N/A"}},null,null,0,0]
[{"$f":"VLOOKUP(B1585,'(1) Project Reference Item List'!$B$2:$C$1000,2,FALSE)","v":{"$error":"#N/A"}},null,null,null,null,null,null,null,null,null,null,{"$f":"VLOOKUP(B1585,'(1) Project Reference Item List'!$B$2:$D$1000,3,FALSE)","v":{"$error":"#N/A"}},null,null,0,0]
[{"$f":"VLOOKUP(B1586,'(1) Project Reference Item List'!$B$2:$C$1000,2,FALSE)","v":{"$error":"#N/A"}},null,null,null,null,null,null,null,null,null,null,{"$f":"VLOOKUP(B1586,'(1) Project Reference Item List'!$B$2:$D$1000,3,FALSE)","v":{"$error":"#N/A"}},null,null,0,0]
[{"$f":"VLOOKUP(B1587,'(1) Project Reference Item List'!$B$2:$C$1000,2,FALSE)","v":{"$error":"#N/A"}},null,null,null,null,null,null,null,null,null,null,{"$f":"VLOOKUP(B1587,'(1) Project Reference Item List'!$B$2:$D$1000,3,FALSE)","v":{"$error":"#N/A"}},null,null,0,0]
[{"$f":"VLOOKUP(B1588,'(1) Project Reference Item List'!$B$2:$C$1000,2,FALSE)","v":{"$error":"#N/A"}},null,null,null,null,null,null,null,null,null,null,{"$f":"VLOOKUP(B1588,'(1) Project Reference Item List'!$B$2:$D$1000,3,FALSE)","v":{"$error":"#N/A"}},null,null,0,0]
[{"$f":"VLOOKUP(B1589,'(1) Project Reference Item List'!$B$2:$C$1000,2,FALSE)","v":{"$error":"#N/A"}},null,null,null,null,null,null,null,null,null,null,{"$f":"VLOOKUP(B1589,'(1) Project Reference Item List'!$B$2:$D$1000,3,FALSE)","v":{"$error":"#N/A"}},null,null,0,0]
[{"$f":"VLOOKUP(B1590,'(1) Project Reference Item List'!$B$2:$C$1000,2,FALSE)","v":{"$error":"#N/A"}},null,null,null,null,null,null,null,null,null,null,{"$f":"VLOOKUP(B1590,'(1) Project Reference Item List'!$B$2:$D$1000,3,FALSE)","v":{"$error":"#N/A"}},null,null,0,0]
[{"$f":"VLOOKUP(B1591,'(1) Project Reference Item List'!$B$2:$C$1000,2,FALSE)","v":{"$error":"#N/A"}},null,null,null,null,null,null,null,null,null,null,{"$f":"VLOOKUP(B1591,'(1) Project Reference Item List'!$B$2:$D$1000,3,FALSE)","v":{"$error":"#N/A"}},null,null,0,0]
[{"$f":"VLOOKUP(B1592,'(1) Project Reference Item List'!$B$2:$C$1000,2,FALSE)","v":{"$error":"#N/A"}},null,null,null,null,null,null,null,null,null,null,{"$f":"VLOOKUP(B1592,'(1) Project Reference Item List'!$B$2:$D$1000,3,FALSE)","v":{"$error":"#N/A"}},null,null,0,0]
[{"$f":"VLOOKUP(B1593,'(1) Project Reference Item List'!$B$2:$C$1000,2,FALSE)","v":{"$error":"#N/A"}},null,null,null,null,null,null,null,null,null,null,{"$f":"VLOOKUP(B1593,'(1) Project Reference Item List'!$B$2:$D$1000,3,FALSE)","v":{"$error":"#N/A"}},null,null,0,0]
[{"$f":"VLOOKUP(B1594,'(1) Project Reference Item List'!$B$2:$C$1000,2,FALSE)","v":{"$error":"#N/A"}},null,null,null,null,null,null,null,null,null,null,{"$f":"VLOOKUP(B1594,'(1) Project Reference Item List'!$B$2:$D$1000,3,FALSE)","v":{"$error":"#N/A"}},null,null,0,0]
[{"$f":"VLOOKUP(B1595,'(1) Project Reference Item List'!$B$2:$C$1000,2,FALSE)","v":{"$error":"#N/A"}},null,null,null,null,null,null,null,null,null,null,{"$f":"VLOOKUP(B1595,'(1) Project Reference Item List'!$B$2:$D$1000,3,FALSE)","v":{"$error":"#N/A"}},null,null,0,0]
[{"$f":"VLOOKUP(B1596,'(1) Project Reference Item List'!$B$2:$C$1000,2,FALSE)","v":{"$error":"#N/A"}},null,null,null,null,null,null,null,null,null,null,{"$f":"VLOOKUP(B1596,'(1) Project Reference Item List'!$B$2:$D$1000,3,FALSE)","v":{"$error":"#N/A"}},null,null,0,0]
[{"$f":"VLOOKUP(B1597,'(1) Project Reference Item List'!$B$2:$C$1000,2,FALSE)","v":{"$error":"#N/A"}},null,null,null,null,null,null,null,null,null,null,{"$f":"VLOOKUP(B1597,'(1) Project Reference Item List'!$B$2:$D$1000,3,FALSE)","v":{"$error":"#N/A"}},null,null,0,0]
[{"$f":"VLOOKUP(B1598,'(1) Project Reference Item List'!$B$2:$C$1000,2,FALSE)","v":{"$error":"#N/A"}},null,null,null,null,null,null,null,null,null,null,{"$f":"VLOOKUP(B1598,'(1) Project Reference Item List'!$B$2:$D$1000,3,FALSE)","v":{"$error":"#N/A"}},null,null,0,0]
[{"$f":"VLOOKUP(B1599,'(1) Project Reference Item List'!$B$2:$C$1000,2,FALSE)","v":{"$error":"#N/A"}},null,null,null,null,null,null,null,null,null,null,{"$f":"VLOOKUP(B1599,'(1) Project Reference Item List'!$B$2:$D$1000,3,FALSE)","v":{"$error":"#N/A"}},null,null,0,0]
[{"$f":"VLOOKUP(B1600,'(1) Project Reference Item List'!$B$2:$C$1000,2,FALSE)","v":{"$error":"#N/A"}},null,null,null,null,null,null,null,null,null,null,{"$f":"VLOOKUP(B1600,'(1) Project Reference Item List'!$B$2:$D$1000,3,FALSE)","v":{"$error":"#N/A"}},null,null,0,0]
[{"$f":"VLOOKUP(B1601,'(1) Project Reference Item List'!$B$2:$C$1000,2,FALSE)","v":{"$error":"#N/A"}},null,null,null,null,null,null,null,null,null,null,{"$f":"VLOOKUP(B1601,'(1) Project Reference Item List'!$B$2:$D$1000,3,FALSE)","v":{"$error":"#N/A"}},null,null,0,0]
[{"$f":"VLOOKUP(B1602,'(1) Project Reference Item List'!$B$2:$C$1000,2,FALSE)","v":{"$error":"#N/A"}},null,null,null,null,null,null,null,null,null,null,{"$f":"VLOOKUP(B1602,'(1) Project Reference Item List'!$B$2:$D$1000,3,FALSE)","v":{"$error":"#N/A"}},null,null,0,0]
[{"$f":"VLOOKUP(B1603,'(1) Project Reference Item List'!$B$2:$C$1000,2,FALSE)","v":{"$error":"#N/A"}},null,null,null,null,null,null,null,null,null,null,{"$f":"VLOOKUP(B1603,'(1) Project Reference Item List'!$B$2:$D$1000,3,FALSE)","v":{"$error":"#N/A"}},null,null,0,0]
[{"$f":"VLOOKUP(B1604,'(1) Project Reference Item List'!$B$2:$C$1000,2,FALSE)","v":{"$error":"#N/A"}},null,null,null,null,null,null,null,null,null,null,{"$f":"VLOOKUP(B1604,'(1) Project Reference Item List'!$B$2:$D$1000,3,FALSE)","v":{"$error":"#N/A"}},null,null,0,0]
[{"$f":"VLOOKUP(B1605,'(1) Project Reference Item List'!$B$2:$C$1000,2,FALSE)","v":{"$error":"#N/A"}},null,null,null,null,null,null,null,null,null,null,{"$f":"VLOOKUP(B1605,'(1) Project Reference Item List'!$B$2:$D$1000,3,FALSE)","v":{"$error":"#N/A"}},null,null,0,0]
[{"$f":"VLOOKUP(B1606,'(1) Project Reference Item List'!$B$2:$C$1000,2,FALSE)","v":{"$error":"#N/A"}},null,null,null,null,null,null,null,null,null,null,{"$f":"VLOOKUP(B1606,'(1) Project Reference Item List'!$B$2:$D$1000,3,FALSE)","v":{"$error":"#N/A"}},null,null,{"$f":"IF(J1606=0,J1606,J1606*N1606)","v":0},{"$f":"(M1606-O1606)","v":0}]
[{"$f":"VLOOKUP(B1607,'(1) Project Reference Item List'!$B$2:$C$1000,2,FALSE)","v":{"$error":"#N/A"}},null,null,null,null,null,null,null,null,null,null,{"$f":"VLOOKUP(B1607,'(1) Project Reference Item List'!$B$2:$D$1000,3,FALSE)","v":{"$error":"#N/A"}},null,null,0,0]
[{"$f":"VLOOKUP(B1608,'(1) Project Reference Item List'!$B$2:$C$1000,2,FALSE)","v":{"$error":"#N/A"}},null,null,null,null,null,null,null,null,null,null,{"$f":"VLOOKUP(B1608,'(1) Project Reference Item List'!$B$2:$D$1000,3,FALSE)","v":{"$error":"#N/A"}},null,null,0,0]
[{"$f":"VLOOKUP(B1609,'(1) Project Reference Item List'!$B$2:$C$1000,2,FALSE)","v":{"$error":"#N/A"}},null,null,null,null,null,null,null,null,null,null,{"$f":"VLOOKUP(B1609,'(1) Project Reference Item List'!$B$2:$D$1000,3,FALSE)","v":{"$error":"#N/A"}},null,null,0,0]
[{"$f":"VLOOKUP(B1610,'(1) Project Reference Item List'!$B$2:$C$1000,2,FALSE)","v":{"$error":"#N/A"}},null,null,null,null,null,null,null,null,null,null,{"$f":"VLOOKUP(B1610,'(1) Project Reference Item List'!$B$2:$D$1000,3,FALSE)","v":{"$error":"#N/A"}},null,null,0,0]
[{"$f":"VLOOKUP(B1611,'(1) Project Reference Item List'!$B$2:$C$1000,2,FALSE)","v":{"$error":"#N/A"}},null,null,null,null,null,null,null,null,null,null,{"$f":"VLOOKUP(B1611,'(1) Project Reference Item List'!$B$2:$D$1000,3,FALSE)","v":{"$error":"#N/A"}},null,null,0,0]
[{"$f":"VLOOKUP(B1612,'(1) Project Reference Item List'!$B$2:$C$1000,2,FALSE)","v":{"$error":"#N/A"}},null,null,null,null,null,null,null,null,null,null,{"$f":"VLOOKUP(B1612,'(1) Project Reference Item List'!$B$2:$D$1000,3,FALSE)","v":{"$error":"#N/A"}},null,null,0,0]
[{"$f":"VLOOKUP(B1613,'(1) Project Reference Item List'!$B$2:$C$1000,2,FALSE)","v":{"$error":"#N/A"}},null,null,null,null,null,null,null,null,null,null,{"$f":"VLOOKUP(B1613,'(1) Project Reference Item List'!$B$2:$D$1000,3,FALSE)","v":{"$error":"#N/A"}},null,null,0,0]
[{"$f":"VLOOKUP(B1614,'(1) Project Reference Item List'!$B$2:$C$1000,2,FALSE)","v":{"$error":"#N/A"}},null,null,null,null,null,null,null,null,null,null,{"$f":"VLOOKUP(B1614,'(1) Project Reference Item List'!$B$2:$D$1000,3,FALSE)","v":{"$error":"#N/A"}},null,null,0,0]
[{"$f":"VLOOKUP(B1615,'(1) Project Reference Item List'!$B$2:$C$1000,2,FALSE)","v":{"$error":"#N/A"}},null,null,null,null,null,null,null,null,null,null,{"$f":"VLOOKUP(B1615,'(1) Project Reference Item List'!$B$2:$D$1000,3,FALSE)","v":{"$error":"#N/A"}},null,null,0,0]
[{"$f":"VLOOKUP(B1616,'(1) Project Reference Item List'!$B$2:$C$1000,2,FALSE)","v":{"$error":"#N/A"}},null,null,null,null,null,null,null,null,null,null,{"$f":"VLOOKUP(B1616,'(1) Project Reference Item List'!$B$2:$D$1000,3,FALSE)","v":{"$error":"#N/A"}},null,null,0,0]
[{"$f":"VLOOKUP(B1617,'(1) Project Reference Item List'!$B$2:$C$1000,2,FALSE)","v":{"$error":"#N/A"}},null,null,null,null,null,null,null,null,null,null,{"$f":"VLOOKUP(B1617,'(1) Project Reference Item List'!$B$2:$D$1000,3,FALSE)","v":{"$error":"#N/A"}},null,null,0,0]
[{"$f":"VLOOKUP(B1618,'(1) Project Reference Item List'!$B$2:$C$1000,2,FALSE)","v":{"$error":"#N/A"}},null,null,null,null,null,null,null,null,null,null,{"$f":"VLOOKUP(B1618,'(1) Project Reference Item List'!$B$2:$D$1000,3,FALSE)","v":{"$error":"#N/A"}},null,null,0,0]
[{"$f":"VLOOKUP(B1619,'(1) Project Reference Item List'!$B$2:$C$1000,2,FALSE)","v":{"$error":"#N/A"}},null,null,null,null,null,null,null,null,null,null,{"$f":"VLOOKUP(B1619,'(1) Project Reference Item List'!$B$2:$D$1000,3,FALSE)","v":{"$error":"#N/A"}},null,null,0,0]
[{"$f":"VLOOKUP(B1620,'(1) Project Reference Item List'!$B$2:$C$1000,2,FALSE)","v":{"$error":"#N/A"}},null,null,null,null,null,null,null,null,null,null,{"$f":"VLOOKUP(B1620,'(1) Project Reference Item List'!$B$2:$D$1000,3,FALSE)","v":{"$error":"#N/A"}},null,null,0,0]
[{"$f":"VLOOKUP(B1621,'(1) Project Reference Item List'!$B$2:$C$1000,2,FALSE)","v":{"$error":"#N/A"}},null,null,null,null,null,null,null,null,null,null,{"$f":"VLOOKUP(B1621,'(1) Project Reference Item List'!$B$2:$D$1000,3,FALSE)","v":{"$error":"#N/A"}},null,null,0,0]
[{"$f":"VLOOKUP(B1622,'(1) Project Reference Item List'!$B$2:$C$1000,2,FALSE)","v":{"$error":"#N/A"}},null,null,null,null,null,null,null,null,null,null,{"$f":"VLOOKUP(B1622,'(1) Project Reference Item List'!$B$2:$D$1000,3,FALSE)","v":{"$error":"#N/A"}},null,null,0,0]
[{"$f":"VLOOKUP(B1623,'(1) Project Reference Item List'!$B$2:$C$1000,2,FALSE)","v":{"$error":"#N/A"}},null,null,null,null,null,null,null,null,null,null,{"$f":"VLOOKUP(B1623,'(1) Project Reference Item List'!$B$2:$D$1000,3,FALSE)","v":{"$error":"#N/A"}},null,null,0,0]
[{"$f":"VLOOKUP(B1624,'(1) Project Reference Item List'!$B$2:$C$1000,2,FALSE)","v":{"$error":"#N/A"}},null,null,null,null,null,null,null,null,null,null,{"$f":"VLOOKUP(B1624,'(1) Project Reference Item List'!$B$2:$D$1000,3,FALSE)","v":{"$error":"#N/A"}},null,null,0,0]
[{"$f":"VLOOKUP(B1625,'(1) Project Reference Item List'!$B$2:$C$1000,2,FALSE)","v":{"$error":"#N/A"}},null,null,null,null,null,null,null,null,null,null,{"$f":"VLOOKUP(B1625,'(1) Project Reference Item List'!$B$2:$D$1000,3,FALSE)","v":{"$error":"#N/A"}},null,null,0,0]
[{"$f":"VLOOKUP(B1626,'(1) Project Reference Item List'!$B$2:$C$1000,2,FALSE)","v":{"$error":"#N/A"}},null,null,null,null,null,null,null,null,null,null,{"$f":"VLOOKUP(B1626,'(1) Project Reference Item List'!$B$2:$D$1000,3,FALSE)","v":{"$error":"#N/A"}},null,null,0,0]
[{"$f":"VLOOKUP(B1627,'(1) Project Reference Item List'!$B$2:$C$1000,2,FALSE)","v":{"$error":"#N/A"}},null,null,null,null,null,null,null,null,null,null,{"$f":"VLOOKUP(B1627,'(1) Project Reference Item List'!$B$2:$D$1000,3,FALSE)","v":{"$error":"#N/A"}},null,null,0,0]
[{"$f":"VLOOKUP(B1628,'(1) Project Reference Item List'!$B$2:$C$1000,2,FALSE)","v":{"$error":"#N/A"}},null,null,null,null,null,null,null,null,null,null,{"$f":"VLOOKUP(B1628,'(1) Project Reference Item List'!$B$2:$D$1000,3,FALSE)","v":{"$error":"#N/A"}},null,null,0,0]
[{"$f":"VLOOKUP(B1629,'(1) Project Reference Item List'!$B$2:$C$1000,2,FALSE)","v":{"$error":"#N/A"}},null,null,null,null,null,null,null,null,null,null,{"$f":"VLOOKUP(B1629,'(1) Project Reference Item List'!$B$2:$D$1000,3,FALSE)","v":{"$error":"#N/A"}},null,null,0,0]
[{"$f":"VLOOKUP(B1630,'(1) Project Reference Item List'!$B$2:$C$1000,2,FALSE)","v":{"$error":"#N/A"}},null,null,null,null,null,null,null,null,null,null,{"$f":"VLOOKUP(B1630,'(1) Project Reference Item List'!$B$2:$D$1000,3,FALSE)","v":{"$error":"#N/A"}},null,null,0,0]
[{"$f":"VLOOKUP(B1631,'(1) Project Reference Item List'!$B$2:$C$1000,2,FALSE)","v":{"$error":"#N/A"}},null,null,null,null,null,null,null,null,null,null,{"$f":"VLOOKUP(B1631,'(1) Project Reference Item List'!$B$2:$D$1000,3,FALSE)","v":{"$error":"#N/A"}},null,null,0,0]
[{"$f":"VLOOKUP(B1632,'(1) Project Reference Item List'!$B$2:$C$1000,2,FALSE)","v":{"$error":"#N/A"}},null,null,null,null,null,null,null,null,null,null,{"$f":"VLOOKUP(B1632,'(1) Project Reference Item List'!$B$2:$D$1000,3,FALSE)","v":{"$error":"#N/A"}},null,null,0,0]
[{"$f":"VLOOKUP(B1633,'(1) Project Reference Item List'!$B$2:$C$1000,2,FALSE)","v":{"$error":"#N/A"}},null,null,null,null,null,null,null,null,null,null,{"$f":"VLOOKUP(B1633,'(1) Project Reference Item List'!$B$2:$D$1000,3,FALSE)","v":{"$error":"#N/A"}},null,null,0,0]
[{"$f":"VLOOKUP(B1634,'(1) Project Reference Item List'!$B$2:$C$1000,2,FALSE)","v":{"$error":"#N/A"}},null,null,null,null,null,null,null,null,null,null,{"$f":"VLOOKUP(B1634,'(1) Project Reference Item List'!$B$2:$D$1000,3,FALSE)","v":{"$error":"#N/A"}},null,null,0,0]
[{"$f":"VLOOKUP(B1635,'(1) Project Reference Item List'!$B$2:$C$1000,2,FALSE)","v":{"$error":"#N/A"}},null,null,null,null,null,null,null,null,null,null,{"$f":"VLOOKUP(B1635,'(1) Project Reference Item List'!$B$2:$D$1000,3,FALSE)","v":{"$error":"#N/A"}},null,null,0,0]
[{"$f":"VLOOKUP(B1636,'(1) Project Reference Item List'!$B$2:$C$1000,2,FALSE)","v":{"$error":"#N/A"}},null,null,null,null,null,null,null,null,null,null,{"$f":"VLOOKUP(B1636,'(1) Project Reference Item List'!$B$2:$D$1000,3,FALSE)","v":{"$error":"#N/A"}},null,null,0,0]
[{"$f":"VLOOKUP(B1637,'(1) Project Reference Item List'!$B$2:$C$1000,2,FALSE)","v":{"$error":"#N/A"}},null,null,null,null,null,null,null,null,null,null,{"$f":"VLOOKUP(B1637,'(1) Project Reference Item List'!$B$2:$D$1000,3,FALSE)","v":{"$error":"#N/A"}},null,null,0,0]
[{"$f":"VLOOKUP(B1638,'(1) Project Reference Item List'!$B$2:$C$1000,2,FALSE)","v":{"$error":"#N/A"}},null,null,null,null,null,null,null,null,null,null,{"$f":"VLOOKUP(B1638,'(1) Project Reference Item List'!$B$2:$D$1000,3,FALSE)","v":{"$error":"#N/A"}},null,null,0,0]
[{"$f":"VLOOKUP(B1639,'(1) Project Reference Item List'!$B$2:$C$1000,2,FALSE)","v":{"$error":"#N/A"}},null,null,null,null,null,null,null,null,null,null,{"$f":"VLOOKUP(B1639,'(1) Project Reference Item List'!$B$2:$D$1000,3,FALSE)","v":{"$error":"#N/A"}},null,null,0,0]
[{"$f":"VLOOKUP(B1640,'(1) Project Reference Item List'!$B$2:$C$1000,2,FALSE)","v":{"$error":"#N/A"}},null,null,null,null,null,null,null,null,null,null,{"$f":"VLOOKUP(B1640,'(1) Project Reference Item List'!$B$2:$D$1000,3,FALSE)","v":{"$error":"#N/A"}},null,null,0,0]
[{"$f":"VLOOKUP(B1641,'(1) Project Reference Item List'!$B$2:$C$1000,2,FALSE)","v":{"$error":"#N/A"}},null,null,null,null,null,null,null,null,null,null,{"$f":"VLOOKUP(B1641,'(1) Project Reference Item List'!$B$2:$D$1000,3,FALSE)","v":{"$error":"#N/A"}},null,null,0,0]
[{"$f":"VLOOKUP(B1642,'(1) Project Reference Item List'!$B$2:$C$1000,2,FALSE)","v":{"$error":"#N/A"}},null,null,null,null,null,null,null,null,null,null,{"$f":"VLOOKUP(B1642,'(1) Project Reference Item List'!$B$2:$D$1000,3,FALSE)","v":{"$error":"#N/A"}},null,null,0,0]
[{"$f":"VLOOKUP(B1643,'(1) Project Reference Item List'!$B$2:$C$1000,2,FALSE)","v":{"$error":"#N/A"}},null,null,null,null,null,null,null,null,null,null,{"$f":"VLOOKUP(B1643,'(1) Project Reference Item List'!$B$2:$D$1000,3,FALSE)","v":{"$error":"#N/A"}},null,null,0,0]
[{"$f":"VLOOKUP(B1644,'(1) Project Reference Item List'!$B$2:$C$1000,2,FALSE)","v":{"$error":"#N/A"}},null,null,null,null,null,null,null,null,null,null,{"$f":"VLOOKUP(B1644,'(1) Project Reference Item List'!$B$2:$D$1000,3,FALSE)","v":{"$error":"#N/A"}},null,null,0,0]
[{"$f":"VLOOKUP(B1645,'(1) Project Reference Item List'!$B$2:$C$1000,2,FALSE)","v":{"$error":"#N/A"}},null,null,null,null,null,null,null,null,null,null,{"$f":"VLOOKUP(B1645,'(1) Project Reference Item List'!$B$2:$D$1000,3,FALSE)","v":{"$error":"#N/A"}},null,null,0,0]
[{"$f":"VLOOKUP(B1646,'(1) Project Reference Item List'!$B$2:$C$1000,2,FALSE)","v":{"$error":"#N/A"}},null,null,null,null,null,null,null,null,null,null,{"$f":"VLOOKUP(B1646,'(1) Project Reference Item List'!$B$2:$D$1000,3,FALSE)","v":{"$error":"#N/A"}},null,null,0,0]
[{"$f":"VLOOKUP(B1647,'(1) Project Reference Item List'!$B$2:$C$1000,2,FALSE)","v":{"$error":"#N/A"}},null,null,null,null,null,null,null,null,null,null,{"$f":"VLOOKUP(B1647,'(1) Project Reference Item List'!$B$2:$D$1000,3,FALSE)","v":{"$error":"#N/A"}},null,null,0,0]
[{"$f":"VLOOKUP(B1648,'(1) Project Reference Item List'!$B$2:$C$1000,2,FALSE)","v":{"$error":"#N/A"}},null,null,null,null,null,null,null,null,null,null,{"$f":"VLOOKUP(B1648,'(1) Project Reference Item List'!$B$2:$D$1000,3,FALSE)","v":{"$error":"#N/A"}},null,null,0,0]
[{"$f":"VLOOKUP(B1649,'(1) Project Reference Item List'!$B$2:$C$1000,2,FALSE)","v":{"$error":"#N/A"}},null,null,null,null,null,null,null,null,null,null,{"$f":"VLOOKUP(B1649,'(1) Project Reference Item List'!$B$2:$D$1000,3,FALSE)","v":{"$error":"#N/A"}},null,null,0,0]
[{"$f":"VLOOKUP(B1650,'(1) Project Reference Item List'!$B$2:$C$1000,2,FALSE)","v":{"$error":"#N/A"}},null,null,null,null,null,null,null,null,null,null,{"$f":"VLOOKUP(B1650,'(1) Project Reference Item List'!$B$2:$D$1000,3,FALSE)","v":{"$error":"#N/A"}},null,null,0,0]
[{"$f":"VLOOKUP(B1651,'(1) Project Reference Item List'!$B$2:$C$1000,2,FALSE)","v":{"$error":"#N/A"}},null,null,null,null,null,null,null,null,null,null,{"$f":"VLOOKUP(B1651,'(1) Project Reference Item List'!$B$2:$D$1000,3,FALSE)","v":{"$error":"#N/A"}},null,null,0,0]
[{"$f":"VLOOKUP(B1652,'(1) Project Reference Item List'!$B$2:$C$1000,2,FALSE)","v":{"$error":"#N/A"}},null,null,null,null,null,null,null,null,null,null,{"$f":"VLOOKUP(B1652,'(1) Project Reference Item List'!$B$2:$D$1000,3,FALSE)","v":{"$error":"#N/A"}},null,null,0,0]
[{"$f":"VLOOKUP(B1653,'(1) Project Reference Item List'!$B$2:$C$1000,2,FALSE)","v":{"$error":"#N/A"}},null,null,null,null,null,null,null,null,null,null,{"$f":"VLOOKUP(B1653,'(1) Project Reference Item List'!$B$2:$D$1000,3,FALSE)","v":{"$error":"#N/A"}},null,null,0,0]
[{"$f":"VLOOKUP(B1654,'(1) Project Reference Item List'!$B$2:$C$1000,2,FALSE)","v":{"$error":"#N/A"}},null,null,null,null,null,null,null,null,null,null,{"$f":"VLOOKUP(B1654,'(1) Project Reference Item List'!$B$2:$D$1000,3,FALSE)","v":{"$error":"#N/A"}},null,null,0,0]
[{"$f":"VLOOKUP(B1655,'(1) Project Reference Item List'!$B$2:$C$1000,2,FALSE)","v":{"$error":"#N/A"}},null,null,null,null,null,null,null,null,null,null,{"$f":"VLOOKUP(B1655,'(1) Project Reference Item List'!$B$2:$D$1000,3,FALSE)","v":{"$error":"#N/A"}},null,null,0,0]
[{"$f":"VLOOKUP(B1656,'(1) Project Reference Item List'!$B$2:$C$1000,2,FALSE)","v":{"$error":"#N/A"}},null,null,null,null,null,null,null,null,null,null,{"$f":"VLOOKUP(B1656,'(1) Project Reference Item List'!$B$2:$D$1000,3,FALSE)","v":{"$error":"#N/A"}},null,null,0,0]
[{"$f":"VLOOKUP(B1657,'(1) Project Reference Item List'!$B$2:$C$1000,2,FALSE)","v":{"$error":"#N/A"}},null,null,null,null,null,null,null,null,null,null,{"$f":"VLOOKUP(B1657,'(1) Project Reference Item List'!$B$2:$D$1000,3,FALSE)","v":{"$error":"#N/A"}},null,null,0,0]
[{"$f":"VLOOKUP(B1658,'(1) Project Reference Item List'!$B$2:$C$1000,2,FALSE)","v":{"$error":"#N/A"}},null,null,null,null,null,null,null,null,null,null,{"$f":"VLOOKUP(B1658,'(1) Project Reference Item List'!$B$2:$D$1000,3,FALSE)","v":{"$error":"#N/A"}},null,null,0,0]
[{"$f":"VLOOKUP(B1659,'(1) Project Reference Item List'!$B$2:$C$1000,2,FALSE)","v":{"$error":"#N/A"}},null,null,null,null,null,null,null,null,null,null,{"$f":"VLOOKUP(B1659,'(1) Project Reference Item List'!$B$2:$D$1000,3,FALSE)","v":{"$error":"#N/A"}},null,null,0,0]
[{"$f":"VLOOKUP(B1660,'(1) Project Reference Item List'!$B$2:$C$1000,2,FALSE)","v":{"$error":"#N/A"}},null,null,null,null,null,null,null,null,null,null,{"$f":"VLOOKUP(B1660,'(1) Project Reference Item List'!$B$2:$D$1000,3,FALSE)","v":{"$error":"#N/A"}},null,null,0,0]
[{"$f":"VLOOKUP(B1661,'(1) Project Reference Item List'!$B$2:$C$1000,2,FALSE)","v":{"$error":"#N/A"}},null,null,null,null,null,null,null,null,null,null,{"$f":"VLOOKUP(B1661,'(1) Project Reference Item List'!$B$2:$D$1000,3,FALSE)","v":{"$error":"#N/A"}},null,null,0,0]
[{"$f":"VLOOKUP(B1662,'(1) Project Reference Item List'!$B$2:$C$1000,2,FALSE)","v":{"$error":"#N/A"}},null,null,null,null,null,null,null,null,null,null,{"$f":"VLOOKUP(B1662,'(1) Project Reference Item List'!$B$2:$D$1000,3,FALSE)","v":{"$error":"#N/A"}},null,null,0,0]
[{"$f":"VLOOKUP(B1663,'(1) Project Reference Item List'!$B$2:$C$1000,2,FALSE)","v":{"$error":"#N/A"}},null,null,null,null,null,null,null,null,null,null,{"$f":"VLOOKUP(B1663,'(1) Project Reference Item List'!$B$2:$D$1000,3,FALSE)","v":{"$error":"#N/A"}},null,null,0,0]
[{"$f":"VLOOKUP(B1664,'(1) Project Reference Item List'!$B$2:$C$1000,2,FALSE)","v":{"$error":"#N/A"}},null,null,null,null,null,null,null,null,null,null,{"$f":"VLOOKUP(B1664,'(1) Project Reference Item List'!$B$2:$D$1000,3,FALSE)","v":{"$error":"#N/A"}},null,null,0,0]
[{"$f":"VLOOKUP(B1665,'(1) Project Reference Item List'!$B$2:$C$1000,2,FALSE)","v":{"$error":"#N/A"}},null,null,null,null,null,null,null,null,null,null,{"$f":"VLOOKUP(B1665,'(1) Project Reference Item List'!$B$2:$D$1000,3,FALSE)","v":{"$error":"#N/A"}},null,null,0,0]
[{"$f":"VLOOKUP(B1666,'(1) Project Reference Item List'!$B$2:$C$1000,2,FALSE)","v":{"$error":"#N/A"}},null,null,null,null,null,null,null,null,null,null,{"$f":"VLOOKUP(B1666,'(1) Project Reference Item List'!$B$2:$D$1000,3,FALSE)","v":{"$error":"#N/A"}},null,null,0,0]
[{"$f":"VLOOKUP(B1667,'(1) Project Reference Item List'!$B$2:$C$1000,2,FALSE)","v":{"$error":"#N/A"}},null,null,null,null,null,null,null,null,null,null,{"$f":"VLOOKUP(B1667,'(1) Project Reference Item List'!$B$2:$D$1000,3,FALSE)","v":{"$error":"#N/A"}},null,null,0,0]
[{"$f":"VLOOKUP(B1668,'(1) Project Reference Item List'!$B$2:$C$1000,2,FALSE)","v":{"$error":"#N/A"}},null,null,null,null,null,null,null,null,null,null,{"$f":"VLOOKUP(B1668,'(1) Project Reference Item List'!$B$2:$D$1000,3,FALSE)","v":{"$error":"#N/A"}},null,null,0,0]
[{"$f":"VLOOKUP(B1669,'(1) Project Reference Item List'!$B$2:$C$1000,2,FALSE)","v":{"$error":"#N/A"}},null,null,null,null,null,null,null,null,null,null,{"$f":"VLOOKUP(B1669,'(1) Project Reference Item List'!$B$2:$D$1000,3,FALSE)","v":{"$error":"#N/A"}},null,null,0,0]
[{"$f":"VLOOKUP(B1670,'(1) Project Reference Item List'!$B$2:$C$1000,2,FALSE)","v":{"$error":"#N/A"}},null,null,null,null,null,null,null,null,null,null,{"$f":"VLOOKUP(B1670,'(1) Project Reference Item List'!$B$2:$D$1000,3,FALSE)","v":{"$error":"#N/A"}},null,null,{"$f":"IF(J1670=0,J1670,J1670*N1670)","v":0},{"$f":"(M1670-O1670)","v":0}]
[{"$f":"VLOOKUP(B1671,'(1) Project Reference Item List'!$B$2:$C$1000,2,FALSE)","v":{"$error":"#N/A"}},null,null,null,null,null,null,null,null,null,null,{"$f":"VLOOKUP(B1671,'(1) Project Reference Item List'!$B$2:$D$1000,3,FALSE)","v":{"$error":"#N/A"}},null,null,0,0]
[{"$f":"VLOOKUP(B1672,'(1) Project Reference Item List'!$B$2:$C$1000,2,FALSE)","v":{"$error":"#N/A"}},null,null,null,null,null,null,null,null,null,null,{"$f":"VLOOKUP(B1672,'(1) Project Reference Item List'!$B$2:$D$1000,3,FALSE)","v":{"$error":"#N/A"}},null,null,0,0]
[{"$f":"VLOOKUP(B1673,'(1) Project Reference Item List'!$B$2:$C$1000,2,FALSE)","v":{"$error":"#N/A"}},null,null,null,null,null,null,null,null,null,null,{"$f":"VLOOKUP(B1673,'(1) Project Reference Item List'!$B$2:$D$1000,3,FALSE)","v":{"$error":"#N/A"}},null,null,0,0]
[{"$f":"VLOOKUP(B1674,'(1) Project Reference Item List'!$B$2:$C$1000,2,FALSE)","v":{"$error":"#N/A"}},null,null,null,null,null,null,null,null,null,null,{"$f":"VLOOKUP(B1674,'(1) Project Reference Item List'!$B$2:$D$1000,3,FALSE)","v":{"$error":"#N/A"}},null,null,0,0]
[{"$f":"VLOOKUP(B1675,'(1) Project Reference Item List'!$B$2:$C$1000,2,FALSE)","v":{"$error":"#N/A"}},null,null,null,null,null,null,null,null,null,null,{"$f":"VLOOKUP(B1675,'(1) Project Reference Item List'!$B$2:$D$1000,3,FALSE)","v":{"$error":"#N/A"}},null,null,0,0]
[{"$f":"VLOOKUP(B1676,'(1) Project Reference Item List'!$B$2:$C$1000,2,FALSE)","v":{"$error":"#N/A"}},null,null,null,null,null,null,null,null,null,null,{"$f":"VLOOKUP(B1676,'(1) Project Reference Item List'!$B$2:$D$1000,3,FALSE)","v":{"$error":"#N/A"}},null,null,0,0]
[{"$f":"VLOOKUP(B1677,'(1) Project Reference Item List'!$B$2:$C$1000,2,FALSE)","v":{"$error":"#N/A"}},null,null,null,null,null,null,null,null,null,null,{"$f":"VLOOKUP(B1677,'(1) Project Reference Item List'!$B$2:$D$1000,3,FALSE)","v":{"$error":"#N/A"}},null,null,0,0]
[{"$f":"VLOOKUP(B1678,'(1) Project Reference Item List'!$B$2:$C$1000,2,FALSE)","v":{"$error":"#N/A"}},null,null,null,null,null,null,null,null,null,null,{"$f":"VLOOKUP(B1678,'(1) Project Reference Item List'!$B$2:$D$1000,3,FALSE)","v":{"$error":"#N/A"}},null,null,0,0]
[{"$f":"VLOOKUP(B1679,'(1) Project Reference Item List'!$B$2:$C$1000,2,FALSE)","v":{"$error":"#N/A"}},null,null,null,null,null,null,null,null,null,null,{"$f":"VLOOKUP(B1679,'(1) Project Reference Item List'!$B$2:$D$1000,3,FALSE)","v":{"$error":"#N/A"}},null,null,0,0]
[{"$f":"VLOOKUP(B1680,'(1) Project Reference Item List'!$B$2:$C$1000,2,FALSE)","v":{"$error":"#N/A"}},null,null,null,null,null,null,null,null,null,null,{"$f":"VLOOKUP(B1680,'(1) Project Reference Item List'!$B$2:$D$1000,3,FALSE)","v":{"$error":"#N/A"}},null,null,0,0]
[{"$f":"VLOOKUP(B1681,'(1) Project Reference Item List'!$B$2:$C$1000,2,FALSE)","v":{"$error":"#N/A"}},null,null,null,null,null,null,null,null,null,null,{"$f":"VLOOKUP(B1681,'(1) Project Reference Item List'!$B$2:$D$1000,3,FALSE)","v":{"$error":"#N/A"}},null,null,0,0]
[{"$f":"VLOOKUP(B1682,'(1) Project Reference Item List'!$B$2:$C$1000,2,FALSE)","v":{"$error":"#N/A"}},null,null,null,null,null,null,null,null,null,null,{"$f":"VLOOKUP(B1682,'(1) Project Reference Item List'!$B$2:$D$1000,3,FALSE)","v":{"$error":"#N/A"}},null,null,0,0]
[{"$f":"VLOOKUP(B1683,'(1) Project Reference Item List'!$B$2:$C$1000,2,FALSE)","v":{"$error":"#N/A"}},null,null,null,null,null,null,null,null,null,null,{"$f":"VLOOKUP(B1683,'(1) Project Reference Item List'!$B$2:$D$1000,3,FALSE)","v":{"$error":"#N/A"}},null,null,0,0]
[{"$f":"VLOOKUP(B1684,'(1) Project Reference Item List'!$B$2:$C$1000,2,FALSE)","v":{"$error":"#N/A"}},null,null,null,null,null,null,null,null,null,null,{"$f":"VLOOKUP(B1684,'(1) Project Reference Item List'!$B$2:$D$1000,3,FALSE)","v":{"$error":"#N/A"}},null,null,0,0]
[{"$f":"VLOOKUP(B1685,'(1) Project Reference Item List'!$B$2:$C$1000,2,FALSE)","v":{"$error":"#N/A"}},null,null,null,null,null,null,null,null,null,null,{"$f":"VLOOKUP(B1685,'(1) Project Reference Item List'!$B$2:$D$1000,3,FALSE)","v":{"$error":"#N/A"}},null,null,0,0]
[{"$f":"VLOOKUP(B1686,'(1) Project Reference Item List'!$B$2:$C$1000,2,FALSE)","v":{"$error":"#N/A"}},null,null,null,null,null,null,null,null,null,null,{"$f":"VLOOKUP(B1686,'(1) Project Reference Item List'!$B$2:$D$1000,3,FALSE)","v":{"$error":"#N/A"}},null,null,0,0]
[{"$f":"VLOOKUP(B1687,'(1) Project Reference Item List'!$B$2:$C$1000,2,FALSE)","v":{"$error":"#N/A"}},null,null,null,null,null,null,null,null,null,null,{"$f":"VLOOKUP(B1687,'(1) Project Reference Item List'!$B$2:$D$1000,3,FALSE)","v":{"$error":"#N/A"}},null,null,0,0]
[{"$f":"VLOOKUP(B1688,'(1) Project Reference Item List'!$B$2:$C$1000,2,FALSE)","v":{"$error":"#N/A"}},null,null,null,null,null,null,null,null,null,null,{"$f":"VLOOKUP(B1688,'(1) Project Reference Item List'!$B$2:$D$1000,3,FALSE)","v":{"$error":"#N/A"}},null,null,0,0]
[{"$f":"VLOOKUP(B1689,'(1) Project Reference Item List'!$B$2:$C$1000,2,FALSE)","v":{"$error":"#N/A"}},null,null,null,null,null,null,null,null,null,null,{"$f":"VLOOKUP(B1689,'(1) Project Reference Item List'!$B$2:$D$1000,3,FALSE)","v":{"$error":"#N/A"}},null,null,0,0]
[{"$f":"VLOOKUP(B1690,'(1) Project Reference Item List'!$B$2:$C$1000,2,FALSE)","v":{"$error":"#N/A"}},null,null,null,null,null,null,null,null,null,null,{"$f":"VLOOKUP(B1690,'(1) Project Reference Item List'!$B$2:$D$1000,3,FALSE)","v":{"$error":"#N/A"}},null,null,0,0]
[{"$f":"VLOOKUP(B1691,'(1) Project Reference Item List'!$B$2:$C$1000,2,FALSE)","v":{"$error":"#N/A"}},null,null,null,null,null,null,null,null,null,null,{"$f":"VLOOKUP(B1691,'(1) Project Reference Item List'!$B$2:$D$1000,3,FALSE)","v":{"$error":"#N/A"}},null,null,0,0]
[{"$f":"VLOOKUP(B1692,'(1) Project Reference Item List'!$B$2:$C$1000,2,FALSE)","v":{"$error":"#N/A"}},null,null,null,null,null,null,null,null,null,null,{"$f":"VLOOKUP(B1692,'(1) Project Reference Item List'!$B$2:$D$1000,3,FALSE)","v":{"$error":"#N/A"}},null,null,0,0]
[{"$f":"VLOOKUP(B1693,'(1) Project Reference Item List'!$B$2:$C$1000,2,FALSE)","v":{"$error":"#N/A"}},null,null,null,null,null,null,null,null,null,null,{"$f":"VLOOKUP(B1693,'(1) Project Reference Item List'!$B$2:$D$1000,3,FALSE)","v":{"$error":"#N/A"}},null,null,0,0]
[{"$f":"VLOOKUP(B1694,'(1) Project Reference Item List'!$B$2:$C$1000,2,FALSE)","v":{"$error":"#N/A"}},null,null,null,null,null,null,null,null,null,null,{"$f":"VLOOKUP(B1694,'(1) Project Reference Item List'!$B$2:$D$1000,3,FALSE)","v":{"$error":"#N/A"}},null,null,0,0]
[{"$f":"VLOOKUP(B1695,'(1) Project Reference Item List'!$B$2:$C$1000,2,FALSE)","v":{"$error":"#N/A"}},null,null,null,null,null,null,null,null,null,null,{"$f":"VLOOKUP(B1695,'(1) Project Reference Item List'!$B$2:$D$1000,3,FALSE)","v":{"$error":"#N/A"}},null,null,0,0]
[{"$f":"VLOOKUP(B1696,'(1) Project Reference Item List'!$B$2:$C$1000,2,FALSE)","v":{"$error":"#N/A"}},null,null,null,null,null,null,null,null,null,null,{"$f":"VLOOKUP(B1696,'(1) Project Reference Item List'!$B$2:$D$1000,3,FALSE)","v":{"$error":"#N/A"}},null,null,0,0]
[{"$f":"VLOOKUP(B1697,'(1) Project Reference Item List'!$B$2:$C$1000,2,FALSE)","v":{"$error":"#N/A"}},null,null,null,null,null,null,null,null,null,null,{"$f":"VLOOKUP(B1697,'(1) Project Reference Item List'!$B$2:$D$1000,3,FALSE)","v":{"$error":"#N/A"}},null,null,0,0]
[{"$f":"VLOOKUP(B1698,'(1) Project Reference Item List'!$B$2:$C$1000,2,FALSE)","v":{"$error":"#N/A"}},null,null,null,null,null,null,null,null,null,null,{"$f":"VLOOKUP(B1698,'(1) Project Reference Item List'!$B$2:$D$1000,3,FALSE)","v":{"$error":"#N/A"}},null,null,0,0]
[{"$f":"VLOOKUP(B1699,'(1) Project Reference Item List'!$B$2:$C$1000,2,FALSE)","v":{"$error":"#N/A"}},null,null,null,null,null,null,null,null,null,null,{"$f":"VLOOKUP(B1699,'(1) Project Reference Item List'!$B$2:$D$1000,3,FALSE)","v":{"$error":"#N/A"}},null,null,0,0]
[{"$f":"VLOOKUP(B1700,'(1) Project Reference Item List'!$B$2:$C$1000,2,FALSE)","v":{"$error":"#N/A"}},null,null,null,null,null,null,null,null,null,null,{"$f":"VLOOKUP(B1700,'(1) Project Reference Item List'!$B$2:$D$1000,3,FALSE)","v":{"$error":"#N/A"}},null,null,0,0]
[{"$f":"VLOOKUP(B1701,'(1) Project Reference Item List'!$B$2:$C$1000,2,FALSE)","v":{"$error":"#N/A"}},null,null,null,null,null,null,null,null,null,null,{"$f":"VLOOKUP(B1701,'(1) Project Reference Item List'!$B$2:$D$1000,3,FALSE)","v":{"$error":"#N/A"}},null,null,0,0]
[{"$f":"VLOOKUP(B1702,'(1) Project Reference Item List'!$B$2:$C$1000,2,FALSE)","v":{"$error":"#N/A"}},null,null,null,null,null,null,null,null,null,null,{"$f":"VLOOKUP(B1702,'(1) Project Reference Item List'!$B$2:$D$1000,3,FALSE)","v":{"$error":"#N/A"}},null,null,0,0]
[{"$f":"VLOOKUP(B1703,'(1) Project Reference Item List'!$B$2:$C$1000,2,FALSE)","v":{"$error":"#N/A"}},null,null,null,null,null,null,null,null,null,null,{"$f":"VLOOKUP(B1703,'(1) Project Reference Item List'!$B$2:$D$1000,3,FALSE)","v":{"$error":"#N/A"}},null,null,0,0]
[{"$f":"VLOOKUP(B1704,'(1) Project Reference Item List'!$B$2:$C$1000,2,FALSE)","v":{"$error":"#N/A"}},null,null,null,null,null,null,null,null,null,null,{"$f":"VLOOKUP(B1704,'(1) Project Reference Item List'!$B$2:$D$1000,3,FALSE)","v":{"$error":"#N/A"}},null,null,0,0]
[{"$f":"VLOOKUP(B1705,'(1) Project Reference Item List'!$B$2:$C$1000,2,FALSE)","v":{"$error":"#N/A"}},null,null,null,null,null,null,null,null,null,null,{"$f":"VLOOKUP(B1705,'(1) Project Reference Item List'!$B$2:$D$1000,3,FALSE)","v":{"$error":"#N/A"}},null,null,0,0]
[{"$f":"VLOOKUP(B1706,'(1) Project Reference Item List'!$B$2:$C$1000,2,FALSE)","v":{"$error":"#N/A"}},null,null,null,null,null,null,null,null,null,null,{"$f":"VLOOKUP(B1706,'(1) Project Reference Item List'!$B$2:$D$1000,3,FALSE)","v":{"$error":"#N/A"}},null,null,0,0]
[{"$f":"VLOOKUP(B1707,'(1) Project Reference Item List'!$B$2:$C$1000,2,FALSE)","v":{"$error":"#N/A"}},null,null,null,null,null,null,null,null,null,null,{"$f":"VLOOKUP(B1707,'(1) Project Reference Item List'!$B$2:$D$1000,3,FALSE)","v":{"$error":"#N/A"}},null,null,0,0]
[{"$f":"VLOOKUP(B1708,'(1) Project Reference Item List'!$B$2:$C$1000,2,FALSE)","v":{"$error":"#N/A"}},null,null,null,null,null,null,null,null,null,null,{"$f":"VLOOKUP(B1708,'(1) Project Reference Item List'!$B$2:$D$1000,3,FALSE)","v":{"$error":"#N/A"}},null,null,0,0]
[{"$f":"VLOOKUP(B1709,'(1) Project Reference Item List'!$B$2:$C$1000,2,FALSE)","v":{"$error":"#N/A"}},null,null,null,null,null,null,null,null,null,null,{"$f":"VLOOKUP(B1709,'(1) Project Reference Item List'!$B$2:$D$1000,3,FALSE)","v":{"$error":"#N/A"}},null,null,0,0]
[{"$f":"VLOOKUP(B1710,'(1) Project Reference Item List'!$B$2:$C$1000,2,FALSE)","v":{"$error":"#N/A"}},null,null,null,null,null,null,null,null,null,null,{"$f":"VLOOKUP(B1710,'(1) Project Reference Item List'!$B$2:$D$1000,3,FALSE)","v":{"$error":"#N/A"}},null,null,0,0]
[{"$f":"VLOOKUP(B1711,'(1) Project Reference Item List'!$B$2:$C$1000,2,FALSE)","v":{"$error":"#N/A"}},null,null,null,null,null,null,null,null,null,null,{"$f":"VLOOKUP(B1711,'(1) Project Reference Item List'!$B$2:$D$1000,3,FALSE)","v":{"$error":"#N/A"}},null,null,0,0]
[{"$f":"VLOOKUP(B1712,'(1) Project Reference Item List'!$B$2:$C$1000,2,FALSE)","v":{"$error":"#N/A"}},null,null,null,null,null,null,null,null,null,null,{"$f":"VLOOKUP(B1712,'(1) Project Reference Item List'!$B$2:$D$1000,3,FALSE)","v":{"$error":"#N/A"}},null,null,0,0]
[{"$f":"VLOOKUP(B1713,'(1) Project Reference Item List'!$B$2:$C$1000,2,FALSE)","v":{"$error":"#N/A"}},null,null,null,null,null,null,null,null,null,null,{"$f":"VLOOKUP(B1713,'(1) Project Reference Item List'!$B$2:$D$1000,3,FALSE)","v":{"$error":"#N/A"}},null,null,0,0]
[{"$f":"VLOOKUP(B1714,'(1) Project Reference Item List'!$B$2:$C$1000,2,FALSE)","v":{"$error":"#N/A"}},null,null,null,null,null,null,null,null,null,null,{"$f":"VLOOKUP(B1714,'(1) Project Reference Item List'!$B$2:$D$1000,3,FALSE)","v":{"$error":"#N/A"}},null,null,0,0]
[{"$f":"VLOOKUP(B1715,'(1) Project Reference Item List'!$B$2:$C$1000,2,FALSE)","v":{"$error":"#N/A"}},null,null,null,null,null,null,null,null,null,null,{"$f":"VLOOKUP(B1715,'(1) Project Reference Item List'!$B$2:$D$1000,3,FALSE)","v":{"$error":"#N/A"}},null,null,0,0]
[{"$f":"VLOOKUP(B1716,'(1) Project Reference Item List'!$B$2:$C$1000,2,FALSE)","v":{"$error":"#N/A"}},null,null,null,null,null,null,null,null,null,null,{"$f":"VLOOKUP(B1716,'(1) Project Reference Item List'!$B$2:$D$1000,3,FALSE)","v":{"$error":"#N/A"}},null,null,0,0]
[{"$f":"VLOOKUP(B1717,'(1) Project Reference Item List'!$B$2:$C$1000,2,FALSE)","v":{"$error":"#N/A"}},null,null,null,null,null,null,null,null,null,null,{"$f":"VLOOKUP(B1717,'(1) Project Reference Item List'!$B$2:$D$1000,3,FALSE)","v":{"$error":"#N/A"}},null,null,0,0]
[{"$f":"VLOOKUP(B1718,'(1) Project Reference Item List'!$B$2:$C$1000,2,FALSE)","v":{"$error":"#N/A"}},null,null,null,null,null,null,null,null,null,null,{"$f":"VLOOKUP(B1718,'(1) Project Reference Item List'!$B$2:$D$1000,3,FALSE)","v":{"$error":"#N/A"}},null,null,0,0]
[{"$f":"VLOOKUP(B1719,'(1) Project Reference Item List'!$B$2:$C$1000,2,FALSE)","v":{"$error":"#N/A"}},null,null,null,null,null,null,null,null,null,null,{"$f":"VLOOKUP(B1719,'(1) Project Reference Item List'!$B$2:$D$1000,3,FALSE)","v":{"$error":"#N/A"}},null,null,0,0]
[{"$f":"VLOOKUP(B1720,'(1) Project Reference Item List'!$B$2:$C$1000,2,FALSE)","v":{"$error":"#N/A"}},null,null,null,null,null,null,null,null,null,null,{"$f":"VLOOKUP(B1720,'(1) Project Reference Item List'!$B$2:$D$1000,3,FALSE)","v":{"$error":"#N/A"}},null,null,0,0]
[{"$f":"VLOOKUP(B1721,'(1) Project Reference Item List'!$B$2:$C$1000,2,FALSE)","v":{"$error":"#N/A"}},null,null,null,null,null,null,null,null,null,null,{"$f":"VLOOKUP(B1721,'(1) Project Reference Item List'!$B$2:$D$1000,3,FALSE)","v":{"$error":"#N/A"}},null,null,0,0]
[{"$f":"VLOOKUP(B1722,'(1) Project Reference Item List'!$B$2:$C$1000,2,FALSE)","v":{"$error":"#N/A"}},null,null,null,null,null,null,null,null,null,null,{"$f":"VLOOKUP(B1722,'(1) Project Reference Item List'!$B$2:$D$1000,3,FALSE)","v":{"$error":"#N/A"}},null,null,0,0]
[{"$f":"VLOOKUP(B1723,'(1) Project Reference Item List'!$B$2:$C$1000,2,FALSE)","v":{"$error":"#N/A"}},null,null,null,null,null,null,null,null,null,null,{"$f":"VLOOKUP(B1723,'(1) Project Reference Item List'!$B$2:$D$1000,3,FALSE)","v":{"$error":"#N/A"}},null,null,0,0]
[{"$f":"VLOOKUP(B1724,'(1) Project Reference Item List'!$B$2:$C$1000,2,FALSE)","v":{"$error":"#N/A"}},null,null,null,null,null,null,null,null,null,null,{"$f":"VLOOKUP(B1724,'(1) Project Reference Item List'!$B$2:$D$1000,3,FALSE)","v":{"$error":"#N/A"}},null,null,0,0]
[{"$f":"VLOOKUP(B1725,'(1) Project Reference Item List'!$B$2:$C$1000,2,FALSE)","v":{"$error":"#N/A"}},null,null,null,null,null,null,null,null,null,null,{"$f":"VLOOKUP(B1725,'(1) Project Reference Item List'!$B$2:$D$1000,3,FALSE)","v":{"$error":"#N/A"}},null,null,0,0]
[{"$f":"VLOOKUP(B1726,'(1) Project Reference Item List'!$B$2:$C$1000,2,FALSE)","v":{"$error":"#N/A"}},null,null,null,null,null,null,null,null,null,null,{"$f":"VLOOKUP(B1726,'(1) Project Reference Item List'!$B$2:$D$1000,3,FALSE)","v":{"$error":"#N/A"}},null,null,0,0]
[{"$f":"VLOOKUP(B1727,'(1) Project Reference Item List'!$B$2:$C$1000,2,FALSE)","v":{"$error":"#N/A"}},null,null,null,null,null,null,null,null,null,null,{"$f":"VLOOKUP(B1727,'(1) Project Reference Item List'!$B$2:$D$1000,3,FALSE)","v":{"$error":"#N/A"}},null,null,0,0]
[{"$f":"VLOOKUP(B1728,'(1) Project Reference Item List'!$B$2:$C$1000,2,FALSE)","v":{"$error":"#N/A"}},null,null,null,null,null,null,null,null,null,null,{"$f":"VLOOKUP(B1728,'(1) Project Reference Item List'!$B$2:$D$1000,3,FALSE)","v":{"$error":"#N/A"}},null,null,0,0]
[{"$f":"VLOOKUP(B1729,'(1) Project Reference Item List'!$B$2:$C$1000,2,FALSE)","v":{"$error":"#N/A"}},null,null,null,null,null,null,null,null,null,null,{"$f":"VLOOKUP(B1729,'(1) Project Reference Item List'!$B$2:$D$1000,3,FALSE)","v":{"$error":"#N/A"}},null,null,0,0]
[{"$f":"VLOOKUP(B1730,'(1) Project Reference Item List'!$B$2:$C$1000,2,FALSE)","v":{"$error":"#N/A"}},null,null,null,null,null,null,null,null,null,null,{"$f":"VLOOKUP(B1730,'(1) Project Reference Item List'!$B$2:$D$1000,3,FALSE)","v":{"$error":"#N/A"}},null,null,0,0]
[{"$f":"VLOOKUP(B1731,'(1) Project Reference Item List'!$B$2:$C$1000,2,FALSE)","v":{"$error":"#N/A"}},null,null,null,null,null,null,null,null,null,null,{"$f":"VLOOKUP(B1731,'(1) Project Reference Item List'!$B$2:$D$1000,3,FALSE)","v":{"$error":"#N/A"}},null,null,0,0]
[{"$f":"VLOOKUP(B1732,'(1) Project Reference Item List'!$B$2:$C$1000,2,FALSE)","v":{"$error":"#N/A"}},null,null,null,null,null,null,null,null,null,null,{"$f":"VLOOKUP(B1732,'(1) Project Reference Item List'!$B$2:$D$1000,3,FALSE)","v":{"$error":"#N/A"}},null,null,0,0]
[{"$f":"VLOOKUP(B1733,'(1) Project Reference Item List'!$B$2:$C$1000,2,FALSE)","v":{"$error":"#N/A"}},null,null,null,null,null,null,null,null,null,null,{"$f":"VLOOKUP(B1733,'(1) Project Reference Item List'!$B$2:$D$1000,3,FALSE)","v":{"$error":"#N/A"}},null,null,0,0]
[{"$f":"VLOOKUP(B1734,'(1) Project Reference Item List'!$B$2:$C$1000,2,FALSE)","v":{"$error":"#N/A"}},null,null,null,null,null,null,null,null,null,null,{"$f":"VLOOKUP(B1734,'(1) Project Reference Item List'!$B$2:$D$1000,3,FALSE)","v":{"$error":"#N/A"}},null,null,{"$f":"IF(J1734=0,J1734,J1734*N1734)","v":0},{"$f":"(M1734-O1734)","v":0}]
[{"$f":"VLOOKUP(B1735,'(1) Project Reference Item List'!$B$2:$C$1000,2,FALSE)","v":{"$error":"#N/A"}},null,null,null,null,null,null,null,null,null,null,{"$f":"VLOOKUP(B1735,'(1) Project Reference Item List'!$B$2:$D$1000,3,FALSE)","v":{"$error":"#N/A"}},null,null,0,0]
[{"$f":"VLOOKUP(B1736,'(1) Project Reference Item List'!$B$2:$C$1000,2,FALSE)","v":{"$error":"#N/A"}},null,null,null,null,null,null,null,null,null,null,{"$f":"VLOOKUP(B1736,'(1) Project Reference Item List'!$B$2:$D$1000,3,FALSE)","v":{"$error":"#N/A"}},null,null,0,0]
[{"$f":"VLOOKUP(B1737,'(1) Project Reference Item List'!$B$2:$C$1000,2,FALSE)","v":{"$error":"#N/A"}},null,null,null,null,null,null,null,null,null,null,{"$f":"VLOOKUP(B1737,'(1) Project Reference Item List'!$B$2:$D$1000,3,FALSE)","v":{"$error":"#N/A"}},null,null,0,0]
[{"$f":"VLOOKUP(B1738,'(1) Project Reference Item List'!$B$2:$C$1000,2,FALSE)","v":{"$error":"#N/A"}},null,null,null,null,null,null,null,null,null,null,{"$f":"VLOOKUP(B1738,'(1) Project Reference Item List'!$B$2:$D$1000,3,FALSE)","v":{"$error":"#N/A"}},null,null,0,0]
[{"$f":"VLOOKUP(B1739,'(1) Project Reference Item List'!$B$2:$C$1000,2,FALSE)","v":{"$error":"#N/A"}},null,null,null,null,null,null,null,null,null,null,{"$f":"VLOOKUP(B1739,'(1) Project Reference Item List'!$B$2:$D$1000,3,FALSE)","v":{"$error":"#N/A"}},null,null,0,0]
[{"$f":"VLOOKUP(B1740,'(1) Project Reference Item List'!$B$2:$C$1000,2,FALSE)","v":{"$error":"#N/A"}},null,null,null,null,null,null,null,null,null,null,{"$f":"VLOOKUP(B1740,'(1) Project Reference Item List'!$B$2:$D$1000,3,FALSE)","v":{"$error":"#N/A"}},null,null,0,0]
[{"$f":"VLOOKUP(B1741,'(1) Project Reference Item List'!$B$2:$C$1000,2,FALSE)","v":{"$error":"#N/A"}},null,null,null,null,null,null,null,null,null,null,{"$f":"VLOOKUP(B1741,'(1) Project Reference Item List'!$B$2:$D$1000,3,FALSE)","v":{"$error":"#N/A"}},null,null,0,0]
[{"$f":"VLOOKUP(B1742,'(1) Project Reference Item List'!$B$2:$C$1000,2,FALSE)","v":{"$error":"#N/A"}},null,null,null,null,null,null,null,null,null,null,{"$f":"VLOOKUP(B1742,'(1) Project Reference Item List'!$B$2:$D$1000,3,FALSE)","v":{"$error":"#N/A"}},null,null,0,0]
[{"$f":"VLOOKUP(B1743,'(1) Project Reference Item List'!$B$2:$C$1000,2,FALSE)","v":{"$error":"#N/A"}},null,null,null,null,null,null,null,null,null,null,{"$f":"VLOOKUP(B1743,'(1) Project Reference Item List'!$B$2:$D$1000,3,FALSE)","v":{"$error":"#N/A"}},null,null,0,0]
[{"$f":"VLOOKUP(B1744,'(1) Project Reference Item List'!$B$2:$C$1000,2,FALSE)","v":{"$error":"#N/A"}},null,null,null,null,null,null,null,null,null,null,{"$f":"VLOOKUP(B1744,'(1) Project Reference Item List'!$B$2:$D$1000,3,FALSE)","v":{"$error":"#N/A"}},null,null,0,0]
[{"$f":"VLOOKUP(B1745,'(1) Project Reference Item List'!$B$2:$C$1000,2,FALSE)","v":{"$error":"#N/A"}},null,null,null,null,null,null,null,null,null,null,{"$f":"VLOOKUP(B1745,'(1) Project Reference Item List'!$B$2:$D$1000,3,FALSE)","v":{"$error":"#N/A"}},null,null,0,0]
[{"$f":"VLOOKUP(B1746,'(1) Project Reference Item List'!$B$2:$C$1000,2,FALSE)","v":{"$error":"#N/A"}},null,null,null,null,null,null,null,null,null,null,{"$f":"VLOOKUP(B1746,'(1) Project Reference Item List'!$B$2:$D$1000,3,FALSE)","v":{"$error":"#N/A"}},null,null,0,0]
[{"$f":"VLOOKUP(B1747,'(1) Project Reference Item List'!$B$2:$C$1000,2,FALSE)","v":{"$error":"#N/A"}},null,null,null,null,null,null,null,null,null,null,{"$f":"VLOOKUP(B1747,'(1) Project Reference Item List'!$B$2:$D$1000,3,FALSE)","v":{"$error":"#N/A"}},null,null,0,0]
[{"$f":"VLOOKUP(B1748,'(1) Project Reference Item List'!$B$2:$C$1000,2,FALSE)","v":{"$error":"#N/A"}},null,null,null,null,null,null,null,null,null,null,{"$f":"VLOOKUP(B1748,'(1) Project Reference Item List'!$B$2:$D$1000,3,FALSE)","v":{"$error":"#N/A"}},null,null,0,0]
[{"$f":"VLOOKUP(B1749,'(1) Project Reference Item List'!$B$2:$C$1000,2,FALSE)","v":{"$error":"#N/A"}},null,null,null,null,null,null,null,null,null,null,{"$f":"VLOOKUP(B1749,'(1) Project Reference Item List'!$B$2:$D$1000,3,FALSE)","v":{"$error":"#N/A"}},null,null,0,0]
[{"$f":"VLOOKUP(B1750,'(1) Project Reference Item List'!$B$2:$C$1000,2,FALSE)","v":{"$error":"#N/A"}},null,null,null,null,null,null,null,null,null,null,{"$f":"VLOOKUP(B1750,'(1) Project Reference Item List'!$B$2:$D$1000,3,FALSE)","v":{"$error":"#N/A"}},null,null,0,0]
[{"$f":"VLOOKUP(B1751,'(1) Project Reference Item List'!$B$2:$C$1000,2,FALSE)","v":{"$error":"#N/A"}},null,null,null,null,null,null,null,null,null,null,{"$f":"VLOOKUP(B1751,'(1) Project Reference Item List'!$B$2:$D$1000,3,FALSE)","v":{"$error":"#N/A"}},null,null,0,0]
[{"$f":"VLOOKUP(B1752,'(1) Project Reference Item List'!$B$2:$C$1000,2,FALSE)","v":{"$error":"#N/A"}},null,null,null,null,null,null,null,null,null,null,{"$f":"VLOOKUP(B1752,'(1) Project Reference Item List'!$B$2:$D$1000,3,FALSE)","v":{"$error":"#N/A"}},null,null,0,0]
[{"$f":"VLOOKUP(B1753,'(1) Project Reference Item List'!$B$2:$C$1000,2,FALSE)","v":{"$error":"#N/A"}},null,null,null,null,null,null,null,null,null,null,{"$f":"VLOOKUP(B1753,'(1) Project Reference Item List'!$B$2:$D$1000,3,FALSE)","v":{"$error":"#N/A"}},null,null,0,0]
[{"$f":"VLOOKUP(B1754,'(1) Project Reference Item List'!$B$2:$C$1000,2,FALSE)","v":{"$error":"#N/A"}},null,null,null,null,null,null,null,null,null,null,{"$f":"VLOOKUP(B1754,'(1) Project Reference Item List'!$B$2:$D$1000,3,FALSE)","v":{"$error":"#N/A"}},null,null,0,0]
[{"$f":"VLOOKUP(B1755,'(1) Project Reference Item List'!$B$2:$C$1000,2,FALSE)","v":{"$error":"#N/A"}},null,null,null,null,null,null,null,null,null,null,{"$f":"VLOOKUP(B1755,'(1) Project Reference Item List'!$B$2:$D$1000,3,FALSE)","v":{"$error":"#N/A"}},null,null,0,0]
[{"$f":"VLOOKUP(B1756,'(1) Project Reference Item List'!$B$2:$C$1000,2,FALSE)","v":{"$error":"#N/A"}},null,null,null,null,null,null,null,null,null,null,{"$f":"VLOOKUP(B1756,'(1) Project Reference Item List'!$B$2:$D$1000,3,FALSE)","v":{"$error":"#N/A"}},null,null,0,0]
[{"$f":"VLOOKUP(B1757,'(1) Project Reference Item List'!$B$2:$C$1000,2,FALSE)","v":{"$error":"#N/A"}},null,null,null,null,null,null,null,null,null,null,{"$f":"VLOOKUP(B1757,'(1) Project Reference Item List'!$B$2:$D$1000,3,FALSE)","v":{"$error":"#N/A"}},null,null,0,0]
[{"$f":"VLOOKUP(B1758,'(1) Project Reference Item List'!$B$2:$C$1000,2,FALSE)","v":{"$error":"#N/A"}},null,null,null,null,null,null,null,null,null,null,{"$f":"VLOOKUP(B1758,'(1) Project Reference Item List'!$B$2:$D$1000,3,FALSE)","v":{"$error":"#N/A"}},null,null,0,0]
[{"$f":"VLOOKUP(B1759,'(1) Project Reference Item List'!$B$2:$C$1000,2,FALSE)","v":{"$error":"#N/A"}},null,null,null,null,null,null,null,null,null,null,{"$f":"VLOOKUP(B1759,'(1) Project Reference Item List'!$B$2:$D$1000,3,FALSE)","v":{"$error":"#N/A"}},null,null,0,0]
[{"$f":"VLOOKUP(B1760,'(1) Project Reference Item List'!$B$2:$C$1000,2,FALSE)","v":{"$error":"#N/A"}},null,null,null,null,null,null,null,null,null,null,{"$f":"VLOOKUP(B1760,'(1) Project Reference Item List'!$B$2:$D$1000,3,FALSE)","v":{"$error":"#N/A"}},null,null,0,0]
[{"$f":"VLOOKUP(B1761,'(1) Project Reference Item List'!$B$2:$C$1000,2,FALSE)","v":{"$error":"#N/A"}},null,null,null,null,null,null,null,null,null,null,{"$f":"VLOOKUP(B1761,'(1) Project Reference Item List'!$B$2:$D$1000,3,FALSE)","v":{"$error":"#N/A"}},null,null,0,0]
[{"$f":"VLOOKUP(B1762,'(1) Project Reference Item List'!$B$2:$C$1000,2,FALSE)","v":{"$error":"#N/A"}},null,null,null,null,null,null,null,null,null,null,{"$f":"VLOOKUP(B1762,'(1) Project Reference Item List'!$B$2:$D$1000,3,FALSE)","v":{"$error":"#N/A"}},null,null,0,0]
[{"$f":"VLOOKUP(B1763,'(1) Project Reference Item List'!$B$2:$C$1000,2,FALSE)","v":{"$error":"#N/A"}},null,null,null,null,null,null,null,null,null,null,{"$f":"VLOOKUP(B1763,'(1) Project Reference Item List'!$B$2:$D$1000,3,FALSE)","v":{"$error":"#N/A"}},null,null,0,0]
[{"$f":"VLOOKUP(B1764,'(1) Project Reference Item List'!$B$2:$C$1000,2,FALSE)","v":{"$error":"#N/A"}},null,null,null,null,null,null,null,null,null,null,{"$f":"VLOOKUP(B1764,'(1) Project Reference Item List'!$B$2:$D$1000,3,FALSE)","v":{"$error":"#N/A"}},null,null,0,0]
[{"$f":"VLOOKUP(B1765,'(1) Project Reference Item List'!$B$2:$C$1000,2,FALSE)","v":{"$error":"#N/A"}},null,null,null,null,null,null,null,null,null,null,{"$f":"VLOOKUP(B1765,'(1) Project Reference Item List'!$B$2:$D$1000,3,FALSE)","v":{"$error":"#N/A"}},null,null,0,0]
[{"$f":"VLOOKUP(B1766,'(1) Project Reference Item List'!$B$2:$C$1000,2,FALSE)","v":{"$error":"#N/A"}},null,null,null,null,null,null,null,null,null,null,{"$f":"VLOOKUP(B1766,'(1) Project Reference Item List'!$B$2:$D$1000,3,FALSE)","v":{"$error":"#N/A"}},null,null,0,0]
[{"$f":"VLOOKUP(B1767,'(1) Project Reference Item List'!$B$2:$C$1000,2,FALSE)","v":{"$error":"#N/A"}},null,null,null,null,null,null,null,null,null,null,{"$f":"VLOOKUP(B1767,'(1) Project Reference Item List'!$B$2:$D$1000,3,FALSE)","v":{"$error":"#N/A"}},null,null,0,0]
[{"$f":"VLOOKUP(B1768,'(1) Project Reference Item List'!$B$2:$C$1000,2,FALSE)","v":{"$error":"#N/A"}},null,null,null,null,null,null,null,null,null,null,{"$f":"VLOOKUP(B1768,'(1) Project Reference Item List'!$B$2:$D$1000,3,FALSE)","v":{"$error":"#N/A"}},null,null,0,0]
[{"$f":"VLOOKUP(B1769,'(1) Project Reference Item List'!$B$2:$C$1000,2,FALSE)","v":{"$error":"#N/A"}},null,null,null,null,null,null,null,null,null,null,{"$f":"VLOOKUP(B1769,'(1) Project Reference Item List'!$B$2:$D$1000,3,FALSE)","v":{"$error":"#N/A"}},null,null,0,0]
[{"$f":"VLOOKUP(B1770,'(1) Project Reference Item List'!$B$2:$C$1000,2,FALSE)","v":{"$error":"#N/A"}},null,null,null,null,null,null,null,null,null,null,{"$f":"VLOOKUP(B1770,'(1) Project Reference Item List'!$B$2:$D$1000,3,FALSE)","v":{"$error":"#N/A"}},null,null,0,0]
[{"$f":"VLOOKUP(B1771,'(1) Project Reference Item List'!$B$2:$C$1000,2,FALSE)","v":{"$error":"#N/A"}},null,null,null,null,null,null,null,null,null,null,{"$f":"VLOOKUP(B1771,'(1) Project Reference Item List'!$B$2:$D$1000,3,FALSE)","v":{"$error":"#N/A"}},null,null,0,0]
[{"$f":"VLOOKUP(B1772,'(1) Project Reference Item List'!$B$2:$C$1000,2,FALSE)","v":{"$error":"#N/A"}},null,null,null,null,null,null,null,null,null,null,{"$f":"VLOOKUP(B1772,'(1) Project Reference Item List'!$B$2:$D$1000,3,FALSE)","v":{"$error":"#N/A"}},null,null,0,0]
[{"$f":"VLOOKUP(B1773,'(1) Project Reference Item List'!$B$2:$C$1000,2,FALSE)","v":{"$error":"#N/A"}},null,null,null,null,null,null,null,null,null,null,{"$f":"VLOOKUP(B1773,'(1) Project Reference Item List'!$B$2:$D$1000,3,FALSE)","v":{"$error":"#N/A"}},null,null,0,0]
[{"$f":"VLOOKUP(B1774,'(1) Project Reference Item List'!$B$2:$C$1000,2,FALSE)","v":{"$error":"#N/A"}},null,null,null,null,null,null,null,null,null,null,{"$f":"VLOOKUP(B1774,'(1) Project Reference Item List'!$B$2:$D$1000,3,FALSE)","v":{"$error":"#N/A"}},null,null,0,0]
[{"$f":"VLOOKUP(B1775,'(1) Project Reference Item List'!$B$2:$C$1000,2,FALSE)","v":{"$error":"#N/A"}},null,null,null,null,null,null,null,null,null,null,{"$f":"VLOOKUP(B1775,'(1) Project Reference Item List'!$B$2:$D$1000,3,FALSE)","v":{"$error":"#N/A"}},null,null,0,0]
[{"$f":"VLOOKUP(B1776,'(1) Project Reference Item List'!$B$2:$C$1000,2,FALSE)","v":{"$error":"#N/A"}},null,null,null,null,null,null,null,null,null,null,{"$f":"VLOOKUP(B1776,'(1) Project Reference Item List'!$B$2:$D$1000,3,FALSE)","v":{"$error":"#N/A"}},null,null,0,0]
[{"$f":"VLOOKUP(B1777,'(1) Project Reference Item List'!$B$2:$C$1000,2,FALSE)","v":{"$error":"#N/A"}},null,null,null,null,null,null,null,null,null,null,{"$f":"VLOOKUP(B1777,'(1) Project Reference Item List'!$B$2:$D$1000,3,FALSE)","v":{"$error":"#N/A"}},null,null,0,0]
[{"$f":"VLOOKUP(B1778,'(1) Project Reference Item List'!$B$2:$C$1000,2,FALSE)","v":{"$error":"#N/A"}},null,null,null,null,null,null,null,null,null,null,{"$f":"VLOOKUP(B1778,'(1) Project Reference Item List'!$B$2:$D$1000,3,FALSE)","v":{"$error":"#N/A"}},null,null,0,0]
[{"$f":"VLOOKUP(B1779,'(1) Project Reference Item List'!$B$2:$C$1000,2,FALSE)","v":{"$error":"#N/A"}},null,null,null,null,null,null,null,null,null,null,{"$f":"VLOOKUP(B1779,'(1) Project Reference Item List'!$B$2:$D$1000,3,FALSE)","v":{"$error":"#N/A"}},null,null,0,0]
[{"$f":"VLOOKUP(B1780,'(1) Project Reference Item List'!$B$2:$C$1000,2,FALSE)","v":{"$error":"#N/A"}},null,null,null,null,null,null,null,null,null,null,{"$f":"VLOOKUP(B1780,'(1) Project Reference Item List'!$B$2:$D$1000,3,FALSE)","v":{"$error":"#N/A"}},null,null,0,0]
[{"$f":"VLOOKUP(B1781,'(1) Project Reference Item List'!$B$2:$C$1000,2,FALSE)","v":{"$error":"#N/A"}},null,null,null,null,null,null,null,null,null,null,{"$f":"VLOOKUP(B1781,'(1) Project Reference Item List'!$B$2:$D$1000,3,FALSE)","v":{"$error":"#N/A"}},null,null,0,0]
[{"$f":"VLOOKUP(B1782,'(1) Project Reference Item List'!$B$2:$C$1000,2,FALSE)","v":{"$error":"#N/A"}},null,null,null,null,null,null,null,null,null,null,{"$f":"VLOOKUP(B1782,'(1) Project Reference Item List'!$B$2:$D$1000,3,FALSE)","v":{"$error":"#N/A"}},null,null,0,0]
[{"$f":"VLOOKUP(B1783,'(1) Project Reference Item List'!$B$2:$C$1000,2,FALSE)","v":{"$error":"#N/A"}},null,null,null,null,null,null,null,null,null,null,{"$f":"VLOOKUP(B1783,'(1) Project Reference Item List'!$B$2:$D$1000,3,FALSE)","v":{"$error":"#N/A"}},null,null,0,0]
[{"$f":"VLOOKUP(B1784,'(1) Project Reference Item List'!$B$2:$C$1000,2,FALSE)","v":{"$error":"#N/A"}},null,null,null,null,null,null,null,null,null,null,{"$f":"VLOOKUP(B1784,'(1) Project Reference Item List'!$B$2:$D$1000,3,FALSE)","v":{"$error":"#N/A"}},null,null,0,0]
[{"$f":"VLOOKUP(B1785,'(1) Project Reference Item List'!$B$2:$C$1000,2,FALSE)","v":{"$error":"#N/A"}},null,null,null,null,null,null,null,null,null,null,{"$f":"VLOOKUP(B1785,'(1) Project Reference Item List'!$B$2:$D$1000,3,FALSE)","v":{"$error":"#N/A"}},null,null,0,0]
[{"$f":"VLOOKUP(B1786,'(1) Project Reference Item List'!$B$2:$C$1000,2,FALSE)","v":{"$error":"#N/A"}},null,null,null,null,null,null,null,null,null,null,{"$f":"VLOOKUP(B1786,'(1) Project Reference Item List'!$B$2:$D$1000,3,FALSE)","v":{"$error":"#N/A"}},null,null,0,0]
[{"$f":"VLOOKUP(B1787,'(1) Project Reference Item List'!$B$2:$C$1000,2,FALSE)","v":{"$error":"#N/A"}},null,null,null,null,null,null,null,null,null,null,{"$f":"VLOOKUP(B1787,'(1) Project Reference Item List'!$B$2:$D$1000,3,FALSE)","v":{"$error":"#N/A"}},null,null,0,0]
[{"$f":"VLOOKUP(B1788,'(1) Project Reference Item List'!$B$2:$C$1000,2,FALSE)","v":{"$error":"#N/A"}},null,null,null,null,null,null,null,null,null,null,{"$f":"VLOOKUP(B1788,'(1) Project Reference Item List'!$B$2:$D$1000,3,FALSE)","v":{"$error":"#N/A"}},null,null,0,0]
[{"$f":"VLOOKUP(B1789,'(1) Project Reference Item List'!$B$2:$C$1000,2,FALSE)","v":{"$error":"#N/A"}},null,null,null,null,null,null,null,null,null,null,{"$f":"VLOOKUP(B1789,'(1) Project Reference Item List'!$B$2:$D$1000,3,FALSE)","v":{"$error":"#N/A"}},null,null,0,0]
[{"$f":"VLOOKUP(B1790,'(1) Project Reference Item List'!$B$2:$C$1000,2,FALSE)","v":{"$error":"#N/A"}},null,null,null,null,null,null,null,null,null,null,{"$f":"VLOOKUP(B1790,'(1) Project Reference Item List'!$B$2:$D$1000,3,FALSE)","v":{"$error":"#N/A"}},null,null,0,0]
[{"$f":"VLOOKUP(B1791,'(1) Project Reference Item List'!$B$2:$C$1000,2,FALSE)","v":{"$error":"#N/A"}},null,null,null,null,null,null,null,null,null,null,{"$f":"VLOOKUP(B1791,'(1) Project Reference Item List'!$B$2:$D$1000,3,FALSE)","v":{"$error":"#N/A"}},null,null,0,0]
[{"$f":"VLOOKUP(B1792,'(1) Project Reference Item List'!$B$2:$C$1000,2,FALSE)","v":{"$error":"#N/A"}},null,null,null,null,null,null,null,null,null,null,{"$f":"VLOOKUP(B1792,'(1) Project Reference Item List'!$B$2:$D$1000,3,FALSE)","v":{"$error":"#N/A"}},null,null,0,0]
[{"$f":"VLOOKUP(B1793,'(1) Project Reference Item List'!$B$2:$C$1000,2,FALSE)","v":{"$error":"#N/A"}},null,null,null,null,null,null,null,null,null,null,{"$f":"VLOOKUP(B1793,'(1) Project Reference Item List'!$B$2:$D$1000,3,FALSE)","v":{"$error":"#N/A"}},null,null,0,0]
[{"$f":"VLOOKUP(B1794,'(1) Project Reference Item List'!$B$2:$C$1000,2,FALSE)","v":{"$error":"#N/A"}},null,null,null,null,null,null,null,null,null,null,{"$f":"VLOOKUP(B1794,'(1) Project Reference Item List'!$B$2:$D$1000,3,FALSE)","v":{"$error":"#N/A"}},null,null,0,0]
[{"$f":"VLOOKUP(B1795,'(1) Project Reference Item List'!$B$2:$C$1000,2,FALSE)","v":{"$error":"#N/A"}},null,null,null,null,null,null,null,null,null,null,{"$f":"VLOOKUP(B1795,'(1) Project Reference Item List'!$B$2:$D$1000,3,FALSE)","v":{"$error":"#N/A"}},null,null,0,0]
[{"$f":"VLOOKUP(B1796,'(1) Project Reference Item List'!$B$2:$C$1000,2,FALSE)","v":{"$error":"#N/A"}},null,null,null,null,null,null,null,null,null,null,{"$f":"VLOOKUP(B1796,'(1) Project Reference Item List'!$B$2:$D$1000,3,FALSE)","v":{"$error":"#N/A"}},null,null,0,0]
[{"$f":"VLOOKUP(B1797,'(1) Project Reference Item List'!$B$2:$C$1000,2,FALSE)","v":{"$error":"#N/A"}},null,null,null,null,null,null,null,null,null,null,{"$f":"VLOOKUP(B1797,'(1) Project Reference Item List'!$B$2:$D$1000,3,FALSE)","v":{"$error":"#N/A"}},null,null,0,0]
[{"$f":"VLOOKUP(B1798,'(1) Project Reference Item List'!$B$2:$C$1000,2,FALSE)","v":{"$error":"#N/A"}},null,null,null,null,null,null,null,null,null,null,{"$f":"VLOOKUP(B1798,'(1) Project Reference Item List'!$B$2:$D$1000,3,FALSE)","v":{"$error":"#N/A"}},null,null,{"$f":"IF(J1798=0,J1798,J1798*N1798)","v":0},{"$f":"(M1798-O1798)","v":0}]
[{"$f":"VLOOKUP(B1799,'(1) Project Reference Item List'!$B$2:$C$1000,2,FALSE)","v":{"$error":"#N/A"}},null,null,null,null,null,null,null,null,null,null,{"$f":"VLOOKUP(B1799,'(1) Project Reference Item List'!$B$2:$D$1000,3,FALSE)","v":{"$error":"#N/A"}},null,null,0,0]
[{"$f":"VLOOKUP(B1800,'(1) Project Reference Item List'!$B$2:$C$1000,2,FALSE)","v":{"$error":"#N/A"}},null,null,null,null,null,null,null,null,null,null,{"$f":"VLOOKUP(B1800,'(1) Project Reference Item List'!$B$2:$D$1000,3,FALSE)","v":{"$error":"#N/A"}},null,null,0,0]
[{"$f":"VLOOKUP(B1801,'(1) Project Reference Item List'!$B$2:$C$1000,2,FALSE)","v":{"$error":"#N/A"}},null,null,null,null,null,null,null,null,null,null,{"$f":"VLOOKUP(B1801,'(1) Project Reference Item List'!$B$2:$D$1000,3,FALSE)","v":{"$error":"#N/A"}},null,null,0,0]
[{"$f":"VLOOKUP(B1802,'(1) Project Reference Item List'!$B$2:$C$1000,2,FALSE)","v":{"$error":"#N/A"}},null,null,null,null,null,null,null,null,null,null,{"$f":"VLOOKUP(B1802,'(1) Project Reference Item List'!$B$2:$D$1000,3,FALSE)","v":{"$error":"#N/A"}},null,null,0,0]
[{"$f":"VLOOKUP(B1803,'(1) Project Reference Item List'!$B$2:$C$1000,2,FALSE)","v":{"$error":"#N/A"}},null,null,null,null,null,null,null,null,null,null,{"$f":"VLOOKUP(B1803,'(1) Project Reference Item List'!$B$2:$D$1000,3,FALSE)","v":{"$error":"#N/A"}},null,null,0,0]
[{"$f":"VLOOKUP(B1804,'(1) Project Reference Item List'!$B$2:$C$1000,2,FALSE)","v":{"$error":"#N/A"}},null,null,null,null,null,null,null,null,null,null,{"$f":"VLOOKUP(B1804,'(1) Project Reference Item List'!$B$2:$D$1000,3,FALSE)","v":{"$error":"#N/A"}},null,null,0,0]
[{"$f":"VLOOKUP(B1805,'(1) Project Reference Item List'!$B$2:$C$1000,2,FALSE)","v":{"$error":"#N/A"}},null,null,null,null,null,null,null,null,null,null,{"$f":"VLOOKUP(B1805,'(1) Project Reference Item List'!$B$2:$D$1000,3,FALSE)","v":{"$error":"#N/A"}},null,null,0,0]
[{"$f":"VLOOKUP(B1806,'(1) Project Reference Item List'!$B$2:$C$1000,2,FALSE)","v":{"$error":"#N/A"}},null,null,null,null,null,null,null,null,null,null,{"$f":"VLOOKUP(B1806,'(1) Project Reference Item List'!$B$2:$D$1000,3,FALSE)","v":{"$error":"#N/A"}},null,null,0,0]
[{"$f":"VLOOKUP(B1807,'(1) Project Reference Item List'!$B$2:$C$1000,2,FALSE)","v":{"$error":"#N/A"}},null,null,null,null,null,null,null,null,null,null,{"$f":"VLOOKUP(B1807,'(1) Project Reference Item List'!$B$2:$D$1000,3,FALSE)","v":{"$error":"#N/A"}},null,null,0,0]
[{"$f":"VLOOKUP(B1808,'(1) Project Reference Item List'!$B$2:$C$1000,2,FALSE)","v":{"$error":"#N/A"}},null,null,null,null,null,null,null,null,null,null,{"$f":"VLOOKUP(B1808,'(1) Project Reference Item List'!$B$2:$D$1000,3,FALSE)","v":{"$error":"#N/A"}},null,null,0,0]
[{"$f":"VLOOKUP(B1809,'(1) Project Reference Item List'!$B$2:$C$1000,2,FALSE)","v":{"$error":"#N/A"}},null,null,null,null,null,null,null,null,null,null,{"$f":"VLOOKUP(B1809,'(1) Project Reference Item List'!$B$2:$D$1000,3,FALSE)","v":{"$error":"#N/A"}},null,null,0,0]
[{"$f":"VLOOKUP(B1810,'(1) Project Reference Item List'!$B$2:$C$1000,2,FALSE)","v":{"$error":"#N/A"}},null,null,null,null,null,null,null,null,null,null,{"$f":"VLOOKUP(B1810,'(1) Project Reference Item List'!$B$2:$D$1000,3,FALSE)","v":{"$error":"#N/A"}},null,null,0,0]
[{"$f":"VLOOKUP(B1811,'(1) Project Reference Item List'!$B$2:$C$1000,2,FALSE)","v":{"$error":"#N/A"}},null,null,null,null,null,null,null,null,null,null,{"$f":"VLOOKUP(B1811,'(1) Project Reference Item List'!$B$2:$D$1000,3,FALSE)","v":{"$error":"#N/A"}},null,null,0,0]
[{"$f":"VLOOKUP(B1812,'(1) Project Reference Item List'!$B$2:$C$1000,2,FALSE)","v":{"$error":"#N/A"}},null,null,null,null,null,null,null,null,null,null,{"$f":"VLOOKUP(B1812,'(1) Project Reference Item List'!$B$2:$D$1000,3,FALSE)","v":{"$error":"#N/A"}},null,null,0,0]
[{"$f":"VLOOKUP(B1813,'(1) Project Reference Item List'!$B$2:$C$1000,2,FALSE)","v":{"$error":"#N/A"}},null,null,null,null,null,null,null,null,null,null,{"$f":"VLOOKUP(B1813,'(1) Project Reference Item List'!$B$2:$D$1000,3,FALSE)","v":{"$error":"#N/A"}},null,null,0,0]
[{"$f":"VLOOKUP(B1814,'(1) Project Reference Item List'!$B$2:$C$1000,2,FALSE)","v":{"$error":"#N/A"}},null,null,null,null,null,null,null,null,null,null,{"$f":"VLOOKUP(B1814,'(1) Project Reference Item List'!$B$2:$D$1000,3,FALSE)","v":{"$error":"#N/A"}},null,null,0,0]
[{"$f":"VLOOKUP(B1815,'(1) Project Reference Item List'!$B$2:$C$1000,2,FALSE)","v":{"$error":"#N/A"}},null,null,null,null,null,null,null,null,null,null,{"$f":"VLOOKUP(B1815,'(1) Project Reference Item List'!$B$2:$D$1000,3,FALSE)","v":{"$error":"#N/A"}},null,null,0,0]
[{"$f":"VLOOKUP(B1816,'(1) Project Reference Item List'!$B$2:$C$1000,2,FALSE)","v":{"$error":"#N/A"}},null,null,null,null,null,null,null,null,null,null,{"$f":"VLOOKUP(B1816,'(1) Project Reference Item List'!$B$2:$D$1000,3,FALSE)","v":{"$error":"#N/A"}},null,null,0,0]
[{"$f":"VLOOKUP(B1817,'(1) Project Reference Item List'!$B$2:$C$1000,2,FALSE)","v":{"$error":"#N/A"}},null,null,null,null,null,null,null,null,null,null,{"$f":"VLOOKUP(B1817,'(1) Project Reference Item List'!$B$2:$D$1000,3,FALSE)","v":{"$error":"#N/A"}},null,null,0,0]
[{"$f":"VLOOKUP(B1818,'(1) Project Reference Item List'!$B$2:$C$1000,2,FALSE)","v":{"$error":"#N/A"}},null,null,null,null,null,null,null,null,null,null,{"$f":"VLOOKUP(B1818,'(1) Project Reference Item List'!$B$2:$D$1000,3,FALSE)","v":{"$error":"#N/A"}},null,null,0,0]
[{"$f":"VLOOKUP(B1819,'(1) Project Reference Item List'!$B$2:$C$1000,2,FALSE)","v":{"$error":"#N/A"}},null,null,null,null,null,null,null,null,null,null,{"$f":"VLOOKUP(B1819,'(1) Project Reference Item List'!$B$2:$D$1000,3,FALSE)","v":{"$error":"#N/A"}},null,null,0,0]
[{"$f":"VLOOKUP(B1820,'(1) Project Reference Item List'!$B$2:$C$1000,2,FALSE)","v":{"$error":"#N/A"}},null,null,null,null,null,null,null,null,null,null,{"$f":"VLOOKUP(B1820,'(1) Project Reference Item List'!$B$2:$D$1000,3,FALSE)","v":{"$error":"#N/A"}},null,null,0,0]
[{"$f":"VLOOKUP(B1821,'(1) Project Reference Item List'!$B$2:$C$1000,2,FALSE)","v":{"$error":"#N/A"}},null,null,null,null,null,null,null,null,null,null,{"$f":"VLOOKUP(B1821,'(1) Project Reference Item List'!$B$2:$D$1000,3,FALSE)","v":{"$error":"#N/A"}},null,null,0,0]
[{"$f":"VLOOKUP(B1822,'(1) Project Reference Item List'!$B$2:$C$1000,2,FALSE)","v":{"$error":"#N/A"}},null,null,null,null,null,null,null,null,null,null,{"$f":"VLOOKUP(B1822,'(1) Project Reference Item List'!$B$2:$D$1000,3,FALSE)","v":{"$error":"#N/A"}},null,null,0,0]
[{"$f":"VLOOKUP(B1823,'(1) Project Reference Item List'!$B$2:$C$1000,2,FALSE)","v":{"$error":"#N/A"}},null,null,null,null,null,null,null,null,null,null,{"$f":"VLOOKUP(B1823,'(1) Project Reference Item List'!$B$2:$D$1000,3,FALSE)","v":{"$error":"#N/A"}},null,null,0,0]
[{"$f":"VLOOKUP(B1824,'(1) Project Reference Item List'!$B$2:$C$1000,2,FALSE)","v":{"$error":"#N/A"}},null,null,null,null,null,null,null,null,null,null,{"$f":"VLOOKUP(B1824,'(1) Project Reference Item List'!$B$2:$D$1000,3,FALSE)","v":{"$error":"#N/A"}},null,null,0,0]
[{"$f":"VLOOKUP(B1825,'(1) Project Reference Item List'!$B$2:$C$1000,2,FALSE)","v":{"$error":"#N/A"}},null,null,null,null,null,null,null,null,null,null,{"$f":"VLOOKUP(B1825,'(1) Project Reference Item List'!$B$2:$D$1000,3,FALSE)","v":{"$error":"#N/A"}},null,null,0,0]
[{"$f":"VLOOKUP(B1826,'(1) Project Reference Item List'!$B$2:$C$1000,2,FALSE)","v":{"$error":"#N/A"}},null,null,null,null,null,null,null,null,null,null,{"$f":"VLOOKUP(B1826,'(1) Project Reference Item List'!$B$2:$D$1000,3,FALSE)","v":{"$error":"#N/A"}},null,null,0,0]
[{"$f":"VLOOKUP(B1827,'(1) Project Reference Item List'!$B$2:$C$1000,2,FALSE)","v":{"$error":"#N/A"}},null,null,null,null,null,null,null,null,null,null,{"$f":"VLOOKUP(B1827,'(1) Project Reference Item List'!$B$2:$D$1000,3,FALSE)","v":{"$error":"#N/A"}},null,null,0,0]
[{"$f":"VLOOKUP(B1828,'(1) Project Reference Item List'!$B$2:$C$1000,2,FALSE)","v":{"$error":"#N/A"}},null,null,null,null,null,null,null,null,null,null,{"$f":"VLOOKUP(B1828,'(1) Project Reference Item List'!$B$2:$D$1000,3,FALSE)","v":{"$error":"#N/A"}},null,null,0,0]
[{"$f":"VLOOKUP(B1829,'(1) Project Reference Item List'!$B$2:$C$1000,2,FALSE)","v":{"$error":"#N/A"}},null,null,null,null,null,null,null,null,null,null,{"$f":"VLOOKUP(B1829,'(1) Project Reference Item List'!$B$2:$D$1000,3,FALSE)","v":{"$error":"#N/A"}},null,null,0,0]
[{"$f":"VLOOKUP(B1830,'(1) Project Reference Item List'!$B$2:$C$1000,2,FALSE)","v":{"$error":"#N/A"}},null,null,null,null,null,null,null,null,null,null,{"$f":"VLOOKUP(B1830,'(1) Project Reference Item List'!$B$2:$D$1000,3,FALSE)","v":{"$error":"#N/A"}},null,null,0,0]
[{"$f":"VLOOKUP(B1831,'(1) Project Reference Item List'!$B$2:$C$1000,2,FALSE)","v":{"$error":"#N/A"}},null,null,null,null,null,null,null,null,null,null,{"$f":"VLOOKUP(B1831,'(1) Project Reference Item List'!$B$2:$D$1000,3,FALSE)","v":{"$error":"#N/A"}},null,null,0,0]
[{"$f":"VLOOKUP(B1832,'(1) Project Reference Item List'!$B$2:$C$1000,2,FALSE)","v":{"$error":"#N/A"}},null,null,null,null,null,null,null,null,null,null,{"$f":"VLOOKUP(B1832,'(1) Project Reference Item List'!$B$2:$D$1000,3,FALSE)","v":{"$error":"#N/A"}},null,null,0,0]
[{"$f":"VLOOKUP(B1833,'(1) Project Reference Item List'!$B$2:$C$1000,2,FALSE)","v":{"$error":"#N/A"}},null,null,null,null,null,null,null,null,null,null,{"$f":"VLOOKUP(B1833,'(1) Project Reference Item List'!$B$2:$D$1000,3,FALSE)","v":{"$error":"#N/A"}},null,null,0,0]
[{"$f":"VLOOKUP(B1834,'(1) Project Reference Item List'!$B$2:$C$1000,2,FALSE)","v":{"$error":"#N/A"}},null,null,null,null,null,null,null,null,null,null,{"$f":"VLOOKUP(B1834,'(1) Project Reference Item List'!$B$2:$D$1000,3,FALSE)","v":{"$error":"#N/A"}},null,null,0,0]
[{"$f":"VLOOKUP(B1835,'(1) Project Reference Item List'!$B$2:$C$1000,2,FALSE)","v":{"$error":"#N/A"}},null,null,null,null,null,null,null,null,null,null,{"$f":"VLOOKUP(B1835,'(1) Project Reference Item List'!$B$2:$D$1000,3,FALSE)","v":{"$error":"#N/A"}},null,null,0,0]
[{"$f":"VLOOKUP(B1836,'(1) Project Reference Item List'!$B$2:$C$1000,2,FALSE)","v":{"$error":"#N/A"}},null,null,null,null,null,null,null,null,null,null,{"$f":"VLOOKUP(B1836,'(1) Project Reference Item List'!$B$2:$D$1000,3,FALSE)","v":{"$error":"#N/A"}},null,null,0,0]
[{"$f":"VLOOKUP(B1837,'(1) Project Reference Item List'!$B$2:$C$1000,2,FALSE)","v":{"$error":"#N/A"}},null,null,null,null,null,null,null,null,null,null,{"$f":"VLOOKUP(B1837,'(1) Project Reference Item List'!$B$2:$D$1000,3,FALSE)","v":{"$error":"#N/A"}},null,null,0,0]
[{"$f":"VLOOKUP(B1838,'(1) Project Reference Item List'!$B$2:$C$1000,2,FALSE)","v":{"$error":"#N/A"}},null,null,null,null,null,null,null,null,null,null,{"$f":"VLOOKUP(B1838,'(1) Project Reference Item List'!$B$2:$D$1000,3,FALSE)","v":{"$error":"#N/A"}},null,null,0,0]
[{"$f":"VLOOKUP(B1839,'(1) Project Reference Item List'!$B$2:$C$1000,2,FALSE)","v":{"$error":"#N/A"}},null,null,null,null,null,null,null,null,null,null,{"$f":"VLOOKUP(B1839,'(1) Project Reference Item List'!$B$2:$D$1000,3,FALSE)","v":{"$error":"#N/A"}},null,null,0,0]
[{"$f":"VLOOKUP(B1840,'(1) Project Reference Item List'!$B$2:$C$1000,2,FALSE)","v":{"$error":"#N/A"}},null,null,null,null,null,null,null,null,null,null,{"$f":"VLOOKUP(B1840,'(1) Project Reference Item List'!$B$2:$D$1000,3,FALSE)","v":{"$error":"#N/A"}},null,null,0,0]
[{"$f":"VLOOKUP(B1841,'(1) Project Reference Item List'!$B$2:$C$1000,2,FALSE)","v":{"$error":"#N/A"}},null,null,null,null,null,null,null,null,null,null,{"$f":"VLOOKUP(B1841,'(1) Project Reference Item List'!$B$2:$D$1000,3,FALSE)","v":{"$error":"#N/A"}},null,null,0,0]
[{"$f":"VLOOKUP(B1842,'(1) Project Reference Item List'!$B$2:$C$1000,2,FALSE)","v":{"$error":"#N/A"}},null,null,null,null,null,null,null,null,null,null,{"$f":"VLOOKUP(B1842,'(1) Project Reference Item List'!$B$2:$D$1000,3,FALSE)","v":{"$error":"#N/A"}},null,null,0,0]
[{"$f":"VLOOKUP(B1843,'(1) Project Reference Item List'!$B$2:$C$1000,2,FALSE)","v":{"$error":"#N/A"}},null,null,null,null,null,null,null,null,null,null,{"$f":"VLOOKUP(B1843,'(1) Project Reference Item List'!$B$2:$D$1000,3,FALSE)","v":{"$error":"#N/A"}},null,null,0,0]
[{"$f":"VLOOKUP(B1844,'(1) Project Reference Item List'!$B$2:$C$1000,2,FALSE)","v":{"$error":"#N/A"}},null,null,null,null,null,null,null,null,null,null,{"$f":"VLOOKUP(B1844,'(1) Project Reference Item List'!$B$2:$D$1000,3,FALSE)","v":{"$error":"#N/A"}},null,null,0,0]
[{"$f":"VLOOKUP(B1845,'(1) Project Reference Item List'!$B$2:$C$1000,2,FALSE)","v":{"$error":"#N/A"}},null,null,null,null,null,null,null,null,null,null,{"$f":"VLOOKUP(B1845,'(1) Project Reference Item List'!$B$2:$D$1000,3,FALSE)","v":{"$error":"#N/A"}},null,null,0,0]
[{"$f":"VLOOKUP(B1846,'(1) Project Reference Item List'!$B$2:$C$1000,2,FALSE)","v":{"$error":"#N/A"}},null,null,null,null,null,null,null,null,null,null,{"$f":"VLOOKUP(B1846,'(1) Project Reference Item List'!$B$2:$D$1000,3,FALSE)","v":{"$error":"#N/A"}},null,null,0,0]
[{"$f":"VLOOKUP(B1847,'(1) Project Reference Item List'!$B$2:$C$1000,2,FALSE)","v":{"$error":"#N/A"}},null,null,null,null,null,null,null,null,null,null,{"$f":"VLOOKUP(B1847,'(1) Project Reference Item List'!$B$2:$D$1000,3,FALSE)","v":{"$error":"#N/A"}},null,null,0,0]
[{"$f":"VLOOKUP(B1848,'(1) Project Reference Item List'!$B$2:$C$1000,2,FALSE)","v":{"$error":"#N/A"}},null,null,null,null,null,null,null,null,null,null,{"$f":"VLOOKUP(B1848,'(1) Project Reference Item List'!$B$2:$D$1000,3,FALSE)","v":{"$error":"#N/A"}},null,null,0,0]
[{"$f":"VLOOKUP(B1849,'(1) Project Reference Item List'!$B$2:$C$1000,2,FALSE)","v":{"$error":"#N/A"}},null,null,null,null,null,null,null,null,null,null,{"$f":"VLOOKUP(B1849,'(1) Project Reference Item List'!$B$2:$D$1000,3,FALSE)","v":{"$error":"#N/A"}},null,null,0,0]
[{"$f":"VLOOKUP(B1850,'(1) Project Reference Item List'!$B$2:$C$1000,2,FALSE)","v":{"$error":"#N/A"}},null,null,null,null,null,null,null,null,null,null,{"$f":"VLOOKUP(B1850,'(1) Project Reference Item List'!$B$2:$D$1000,3,FALSE)","v":{"$error":"#N/A"}},null,null,0,0]
[{"$f":"VLOOKUP(B1851,'(1) Project Reference Item List'!$B$2:$C$1000,2,FALSE)","v":{"$error":"#N/A"}},null,null,null,null,null,null,null,null,null,null,{"$f":"VLOOKUP(B1851,'(1) Project Reference Item List'!$B$2:$D$1000,3,FALSE)","v":{"$error":"#N/A"}},null,null,0,0]
[{"$f":"VLOOKUP(B1852,'(1) Project Reference Item List'!$B$2:$C$1000,2,FALSE)","v":{"$error":"#N/A"}},null,null,null,null,null,null,null,null,null,null,{"$f":"VLOOKUP(B1852,'(1) Project Reference Item List'!$B$2:$D$1000,3,FALSE)","v":{"$error":"#N/A"}},null,null,0,0]
[{"$f":"VLOOKUP(B1853,'(1) Project Reference Item List'!$B$2:$C$1000,2,FALSE)","v":{"$error":"#N/A"}},null,null,null,null,null,null,null,null,null,null,{"$f":"VLOOKUP(B1853,'(1) Project Reference Item List'!$B$2:$D$1000,3,FALSE)","v":{"$error":"#N/A"}},null,null,0,0]
[{"$f":"VLOOKUP(B1854,'(1) Project Reference Item List'!$B$2:$C$1000,2,FALSE)","v":{"$error":"#N/A"}},null,null,null,null,null,null,null,null,null,null,{"$f":"VLOOKUP(B1854,'(1) Project Reference Item List'!$B$2:$D$1000,3,FALSE)","v":{"$error":"#N/A"}},null,null,0,0]
[{"$f":"VLOOKUP(B1855,'(1) Project Reference Item List'!$B$2:$C$1000,2,FALSE)","v":{"$error":"#N/A"}},null,null,null,null,null,null,null,null,null,null,{"$f":"VLOOKUP(B1855,'(1) Project Reference Item List'!$B$2:$D$1000,3,FALSE)","v":{"$error":"#N/A"}},null,null,0,0]
[{"$f":"VLOOKUP(B1856,'(1) Project Reference Item List'!$B$2:$C$1000,2,FALSE)","v":{"$error":"#N/A"}},null,null,null,null,null,null,null,null,null,null,{"$f":"VLOOKUP(B1856,'(1) Project Reference Item List'!$B$2:$D$1000,3,FALSE)","v":{"$error":"#N/A"}},null,null,0,0]
[{"$f":"VLOOKUP(B1857,'(1) Project Reference Item List'!$B$2:$C$1000,2,FALSE)","v":{"$error":"#N/A"}},null,null,null,null,null,null,null,null,null,null,{"$f":"VLOOKUP(B1857,'(1) Project Reference Item List'!$B$2:$D$1000,3,FALSE)","v":{"$error":"#N/A"}},null,null,0,0]
[{"$f":"VLOOKUP(B1858,'(1) Project Reference Item List'!$B$2:$C$1000,2,FALSE)","v":{"$error":"#N/A"}},null,null,null,null,null,null,null,null,null,null,{"$f":"VLOOKUP(B1858,'(1) Project Reference Item List'!$B$2:$D$1000,3,FALSE)","v":{"$error":"#N/A"}},null,null,0,0]
[{"$f":"VLOOKUP(B1859,'(1) Project Reference Item List'!$B$2:$C$1000,2,FALSE)","v":{"$error":"#N/A"}},null,null,null,null,null,null,null,null,null,null,{"$f":"VLOOKUP(B1859,'(1) Project Reference Item List'!$B$2:$D$1000,3,FALSE)","v":{"$error":"#N/A"}},null,null,0,0]
[{"$f":"VLOOKUP(B1860,'(1) Project Reference Item List'!$B$2:$C$1000,2,FALSE)","v":{"$error":"#N/A"}},null,null,null,null,null,null,null,null,null,null,{"$f":"VLOOKUP(B1860,'(1) Project Reference Item List'!$B$2:$D$1000,3,FALSE)","v":{"$error":"#N/A"}},null,null,0,0]
[{"$f":"VLOOKUP(B1861,'(1) Project Reference Item List'!$B$2:$C$1000,2,FALSE)","v":{"$error":"#N/A"}},null,null,null,null,null,null,null,null,null,null,{"$f":"VLOOKUP(B1861,'(1) Project Reference Item List'!$B$2:$D$1000,3,FALSE)","v":{"$error":"#N/A"}},null,null,0,0]
[{"$f":"VLOOKUP(B1862,'(1) Project Reference Item List'!$B$2:$C$1000,2,FALSE)","v":{"$error":"#N/A"}},null,null,null,null,null,null,null,null,null,null,{"$f":"VLOOKUP(B1862,'(1) Project Reference Item List'!$B$2:$D$1000,3,FALSE)","v":{"$error":"#N/A"}},null,null,{"$f":"IF(J1862=0,J1862,J1862*N1862)","v":0},{"$f":"(M1862-O1862)","v":0}]
[{"$f":"VLOOKUP(B1863,'(1) Project Reference Item List'!$B$2:$C$1000,2,FALSE)","v":{"$error":"#N/A"}},null,null,null,null,null,null,null,null,null,null,{"$f":"VLOOKUP(B1863,'(1) Project Reference Item List'!$B$2:$D$1000,3,FALSE)","v":{"$error":"#N/A"}},null,null,0,0]
[{"$f":"VLOOKUP(B1864,'(1) Project Reference Item List'!$B$2:$C$1000,2,FALSE)","v":{"$error":"#N/A"}},null,null,null,null,null,null,null,null,null,null,{"$f":"VLOOKUP(B1864,'(1) Project Reference Item List'!$B$2:$D$1000,3,FALSE)","v":{"$error":"#N/A"}},null,null,0,0]
[{"$f":"VLOOKUP(B1865,'(1) Project Reference Item List'!$B$2:$C$1000,2,FALSE)","v":{"$error":"#N/A"}},null,null,null,null,null,null,null,null,null,null,{"$f":"VLOOKUP(B1865,'(1) Project Reference Item List'!$B$2:$D$1000,3,FALSE)","v":{"$error":"#N/A"}},null,null,0,0]
[{"$f":"VLOOKUP(B1866,'(1) Project Reference Item List'!$B$2:$C$1000,2,FALSE)","v":{"$error":"#N/A"}},null,null,null,null,null,null,null,null,null,null,{"$f":"VLOOKUP(B1866,'(1) Project Reference Item List'!$B$2:$D$1000,3,FALSE)","v":{"$error":"#N/A"}},null,null,0,0]
[{"$f":"VLOOKUP(B1867,'(1) Project Reference Item List'!$B$2:$C$1000,2,FALSE)","v":{"$error":"#N/A"}},null,null,null,null,null,null,null,null,null,null,{"$f":"VLOOKUP(B1867,'(1) Project Reference Item List'!$B$2:$D$1000,3,FALSE)","v":{"$error":"#N/A"}},null,null,0,0]
[{"$f":"VLOOKUP(B1868,'(1) Project Reference Item List'!$B$2:$C$1000,2,FALSE)","v":{"$error":"#N/A"}},null,null,null,null,null,null,null,null,null,null,{"$f":"VLOOKUP(B1868,'(1) Project Reference Item List'!$B$2:$D$1000,3,FALSE)","v":{"$error":"#N/A"}},null,null,0,0]
[{"$f":"VLOOKUP(B1869,'(1) Project Reference Item List'!$B$2:$C$1000,2,FALSE)","v":{"$error":"#N/A"}},null,null,null,null,null,null,null,null,null,null,{"$f":"VLOOKUP(B1869,'(1) Project Reference Item List'!$B$2:$D$1000,3,FALSE)","v":{"$error":"#N/A"}},null,null,0,0]
[{"$f":"VLOOKUP(B1870,'(1) Project Reference Item List'!$B$2:$C$1000,2,FALSE)","v":{"$error":"#N/A"}},null,null,null,null,null,null,null,null,null,null,{"$f":"VLOOKUP(B1870,'(1) Project Reference Item List'!$B$2:$D$1000,3,FALSE)","v":{"$error":"#N/A"}},null,null,0,0]
[{"$f":"VLOOKUP(B1871,'(1) Project Reference Item List'!$B$2:$C$1000,2,FALSE)","v":{"$error":"#N/A"}},null,null,null,null,null,null,null,null,null,null,{"$f":"VLOOKUP(B1871,'(1) Project Reference Item List'!$B$2:$D$1000,3,FALSE)","v":{"$error":"#N/A"}},null,null,0,0]
[{"$f":"VLOOKUP(B1872,'(1) Project Reference Item List'!$B$2:$C$1000,2,FALSE)","v":{"$error":"#N/A"}},null,null,null,null,null,null,null,null,null,null,{"$f":"VLOOKUP(B1872,'(1) Project Reference Item List'!$B$2:$D$1000,3,FALSE)","v":{"$error":"#N/A"}},null,null,0,0]
[{"$f":"VLOOKUP(B1873,'(1) Project Reference Item List'!$B$2:$C$1000,2,FALSE)","v":{"$error":"#N/A"}},null,null,null,null,null,null,null,null,null,null,{"$f":"VLOOKUP(B1873,'(1) Project Reference Item List'!$B$2:$D$1000,3,FALSE)","v":{"$error":"#N/A"}},null,null,0,0]
[{"$f":"VLOOKUP(B1874,'(1) Project Reference Item List'!$B$2:$C$1000,2,FALSE)","v":{"$error":"#N/A"}},null,null,null,null,null,null,null,null,null,null,{"$f":"VLOOKUP(B1874,'(1) Project Reference Item List'!$B$2:$D$1000,3,FALSE)","v":{"$error":"#N/A"}},null,null,0,0]
[{"$f":"VLOOKUP(B1875,'(1) Project Reference Item List'!$B$2:$C$1000,2,FALSE)","v":{"$error":"#N/A"}},null,null,null,null,null,null,null,null,null,null,{"$f":"VLOOKUP(B1875,'(1) Project Reference Item List'!$B$2:$D$1000,3,FALSE)","v":{"$error":"#N/A"}},null,null,0,0]
[{"$f":"VLOOKUP(B1876,'(1) Project Reference Item List'!$B$2:$C$1000,2,FALSE)","v":{"$error":"#N/A"}},null,null,null,null,null,null,null,null,null,null,{"$f":"VLOOKUP(B1876,'(1) Project Reference Item List'!$B$2:$D$1000,3,FALSE)","v":{"$error":"#N/A"}},null,null,0,0]
[{"$f":"VLOOKUP(B1877,'(1) Project Reference Item List'!$B$2:$C$1000,2,FALSE)","v":{"$error":"#N/A"}},null,null,null,null,null,null,null,null,null,null,{"$f":"VLOOKUP(B1877,'(1) Project Reference Item List'!$B$2:$D$1000,3,FALSE)","v":{"$error":"#N/A"}},null,null,0,0]
[{"$f":"VLOOKUP(B1878,'(1) Project Reference Item List'!$B$2:$C$1000,2,FALSE)","v":{"$error":"#N/A"}},null,null,null,null,null,null,null,null,null,null,{"$f":"VLOOKUP(B1878,'(1) Project Reference Item List'!$B$2:$D$1000,3,FALSE)","v":{"$error":"#N/A"}},null,null,0,0]
[{"$f":"VLOOKUP(B1879,'(1) Project Reference Item List'!$B$2:$C$1000,2,FALSE)","v":{"$error":"#N/A"}},null,null,null,null,null,null,null,null,null,null,{"$f":"VLOOKUP(B1879,'(1) Project Reference Item List'!$B$2:$D$1000,3,FALSE)","v":{"$error":"#N/A"}},null,null,0,0]
[{"$f":"VLOOKUP(B1880,'(1) Project Reference Item List'!$B$2:$C$1000,2,FALSE)","v":{"$error":"#N/A"}},null,null,null,null,null,null,null,null,null,null,{"$f":"VLOOKUP(B1880,'(1) Project Reference Item List'!$B$2:$D$1000,3,FALSE)","v":{"$error":"#N/A"}},null,null,0,0]
[{"$f":"VLOOKUP(B1881,'(1) Project Reference Item List'!$B$2:$C$1000,2,FALSE)","v":{"$error":"#N/A"}},null,null,null,null,null,null,null,null,null,null,{"$f":"VLOOKUP(B1881,'(1) Project Reference Item List'!$B$2:$D$1000,3,FALSE)","v":{"$error":"#N/A"}},null,null,0,0]
[{"$f":"VLOOKUP(B1882,'(1) Project Reference Item List'!$B$2:$C$1000,2,FALSE)","v":{"$error":"#N/A"}},null,null,null,null,null,null,null,null,null,null,{"$f":"VLOOKUP(B1882,'(1) Project Reference Item List'!$B$2:$D$1000,3,FALSE)","v":{"$error":"#N/A"}},null,null,0,0]
[{"$f":"VLOOKUP(B1883,'(1) Project Reference Item List'!$B$2:$C$1000,2,FALSE)","v":{"$error":"#N/A"}},null,null,null,null,null,null,null,null,null,null,{"$f":"VLOOKUP(B1883,'(1) Project Reference Item List'!$B$2:$D$1000,3,FALSE)","v":{"$error":"#N/A"}},null,null,0,0]
[{"$f":"VLOOKUP(B1884,'(1) Project Reference Item List'!$B$2:$C$1000,2,FALSE)","v":{"$error":"#N/A"}},null,null,null,null,null,null,null,null,null,null,{"$f":"VLOOKUP(B1884,'(1) Project Reference Item List'!$B$2:$D$1000,3,FALSE)","v":{"$error":"#N/A"}},null,null,0,0]
[{"$f":"VLOOKUP(B1885,'(1) Project Reference Item List'!$B$2:$C$1000,2,FALSE)","v":{"$error":"#N/A"}},null,null,null,null,null,null,null,null,null,null,{"$f":"VLOOKUP(B1885,'(1) Project Reference Item List'!$B$2:$D$1000,3,FALSE)","v":{"$error":"#N/A"}},null,null,0,0]
[{"$f":"VLOOKUP(B1886,'(1) Project Reference Item List'!$B$2:$C$1000,2,FALSE)","v":{"$error":"#N/A"}},null,null,null,null,null,null,null,null,null,null,{"$f":"VLOOKUP(B1886,'(1) Project Reference Item List'!$B$2:$D$1000,3,FALSE)","v":{"$error":"#N/A"}},null,null,0,0]
[{"$f":"VLOOKUP(B1887,'(1) Project Reference Item List'!$B$2:$C$1000,2,FALSE)","v":{"$error":"#N/A"}},null,null,null,null,null,null,null,null,null,null,{"$f":"VLOOKUP(B1887,'(1) Project Reference Item List'!$B$2:$D$1000,3,FALSE)","v":{"$error":"#N/A"}},null,null,0,0]
[{"$f":"VLOOKUP(B1888,'(1) Project Reference Item List'!$B$2:$C$1000,2,FALSE)","v":{"$error":"#N/A"}},null,null,null,null,null,null,null,null,null,null,{"$f":"VLOOKUP(B1888,'(1) Project Reference Item List'!$B$2:$D$1000,3,FALSE)","v":{"$error":"#N/A"}},null,null,0,0]
[{"$f":"VLOOKUP(B1889,'(1) Project Reference Item List'!$B$2:$C$1000,2,FALSE)","v":{"$error":"#N/A"}},null,null,null,null,null,null,null,null,null,null,{"$f":"VLOOKUP(B1889,'(1) Project Reference Item List'!$B$2:$D$1000,3,FALSE)","v":{"$error":"#N/A"}},null,null,0,0]
[{"$f":"VLOOKUP(B1890,'(1) Project Reference Item List'!$B$2:$C$1000,2,FALSE)","v":{"$error":"#N/A"}},null,null,null,null,null,null,null,null,null,null,{"$f":"VLOOKUP(B1890,'(1) Project Reference Item List'!$B$2:$D$1000,3,FALSE)","v":{"$error":"#N/A"}},null,null,0,0]
[{"$f":"VLOOKUP(B1891,'(1) Project Reference Item List'!$B$2:$C$1000,2,FALSE)","v":{"$error":"#N/A"}},null,null,null,null,null,null,null,null,null,null,{"$f":"VLOOKUP(B1891,'(1) Project Reference Item List'!$B$2:$D$1000,3,FALSE)","v":{"$error":"#N/A"}},null,null,0,0]
[{"$f":"VLOOKUP(B1892,'(1) Project Reference Item List'!$B$2:$C$1000,2,FALSE)","v":{"$error":"#N/A"}},null,null,null,null,null,null,null,null,null,null,{"$f":"VLOOKUP(B1892,'(1) Project Reference Item List'!$B$2:$D$1000,3,FALSE)","v":{"$error":"#N/A"}},null,null,0,0]
[{"$f":"VLOOKUP(B1893,'(1) Project Reference Item List'!$B$2:$C$1000,2,FALSE)","v":{"$error":"#N/A"}},null,null,null,null,null,null,null,null,null,null,{"$f":"VLOOKUP(B1893,'(1) Project Reference Item List'!$B$2:$D$1000,3,FALSE)","v":{"$error":"#N/A"}},null,null,0,0]
[{"$f":"VLOOKUP(B1894,'(1) Project Reference Item List'!$B$2:$C$1000,2,FALSE)","v":{"$error":"#N/A"}},null,null,null,null,null,null,null,null,null,null,{"$f":"VLOOKUP(B1894,'(1) Project Reference Item List'!$B$2:$D$1000,3,FALSE)","v":{"$error":"#N/A"}},null,null,0,0]
[{"$f":"VLOOKUP(B1895,'(1) Project Reference Item List'!$B$2:$C$1000,2,FALSE)","v":{"$error":"#N/A"}},null,null,null,null,null,null,null,null,null,null,{"$f":"VLOOKUP(B1895,'(1) Project Reference Item List'!$B$2:$D$1000,3,FALSE)","v":{"$error":"#N/A"}},null,null,0,0]
[{"$f":"VLOOKUP(B1896,'(1) Project Reference Item List'!$B$2:$C$1000,2,FALSE)","v":{"$error":"#N/A"}},null,null,null,null,null,null,null,null,null,null,{"$f":"VLOOKUP(B1896,'(1) Project Reference Item List'!$B$2:$D$1000,3,FALSE)","v":{"$error":"#N/A"}},null,null,0,0]
[{"$f":"VLOOKUP(B1897,'(1) Project Reference Item List'!$B$2:$C$1000,2,FALSE)","v":{"$error":"#N/A"}},null,null,null,null,null,null,null,null,null,null,{"$f":"VLOOKUP(B1897,'(1) Project Reference Item List'!$B$2:$D$1000,3,FALSE)","v":{"$error":"#N/A"}},null,null,0,0]
[{"$f":"VLOOKUP(B1898,'(1) Project Reference Item List'!$B$2:$C$1000,2,FALSE)","v":{"$error":"#N/A"}},null,null,null,null,null,null,null,null,null,null,{"$f":"VLOOKUP(B1898,'(1) Project Reference Item List'!$B$2:$D$1000,3,FALSE)","v":{"$error":"#N/A"}},null,null,0,0]
[{"$f":"VLOOKUP(B1899,'(1) Project Reference Item List'!$B$2:$C$1000,2,FALSE)","v":{"$error":"#N/A"}},null,null,null,null,null,null,null,null,null,null,{"$f":"VLOOKUP(B1899,'(1) Project Reference Item List'!$B$2:$D$1000,3,FALSE)","v":{"$error":"#N/A"}},null,null,0,0]
[{"$f":"VLOOKUP(B1900,'(1) Project Reference Item List'!$B$2:$C$1000,2,FALSE)","v":{"$error":"#N/A"}},null,null,null,null,null,null,null,null,null,null,{"$f":"VLOOKUP(B1900,'(1) Project Reference Item List'!$B$2:$D$1000,3,FALSE)","v":{"$error":"#N/A"}},null,null,0,0]
[{"$f":"VLOOKUP(B1901,'(1) Project Reference Item List'!$B$2:$C$1000,2,FALSE)","v":{"$error":"#N/A"}},null,null,null,null,null,null,null,null,null,null,{"$f":"VLOOKUP(B1901,'(1) Project Reference Item List'!$B$2:$D$1000,3,FALSE)","v":{"$error":"#N/A"}},null,null,0,0]
[{"$f":"VLOOKUP(B1902,'(1) Project Reference Item List'!$B$2:$C$1000,2,FALSE)","v":{"$error":"#N/A"}},null,null,null,null,null,null,null,null,null,null,{"$f":"VLOOKUP(B1902,'(1) Project Reference Item List'!$B$2:$D$1000,3,FALSE)","v":{"$error":"#N/A"}},null,null,0,0]
[{"$f":"VLOOKUP(B1903,'(1) Project Reference Item List'!$B$2:$C$1000,2,FALSE)","v":{"$error":"#N/A"}},null,null,null,null,null,null,null,null,null,null,{"$f":"VLOOKUP(B1903,'(1) Project Reference Item List'!$B$2:$D$1000,3,FALSE)","v":{"$error":"#N/A"}},null,null,0,0]
[{"$f":"VLOOKUP(B1904,'(1) Project Reference Item List'!$B$2:$C$1000,2,FALSE)","v":{"$error":"#N/A"}},null,null,null,null,null,null,null,null,null,null,{"$f":"VLOOKUP(B1904,'(1) Project Reference Item List'!$B$2:$D$1000,3,FALSE)","v":{"$error":"#N/A"}},null,null,0,0]
[{"$f":"VLOOKUP(B1905,'(1) Project Reference Item List'!$B$2:$C$1000,2,FALSE)","v":{"$error":"#N/A"}},null,null,null,null,null,null,null,null,null,null,{"$f":"VLOOKUP(B1905,'(1) Project Reference Item List'!$B$2:$D$1000,3,FALSE)","v":{"$error":"#N/A"}},null,null,0,0]
[{"$f":"VLOOKUP(B1906,'(1) Project Reference Item List'!$B$2:$C$1000,2,FALSE)","v":{"$error":"#N/A"}},null,null,null,null,null,null,null,null,null,null,{"$f":"VLOOKUP(B1906,'(1) Project Reference Item List'!$B$2:$D$1000,3,FALSE)","v":{"$error":"#N/A"}},null,null,0,0]
[{"$f":"VLOOKUP(B1907,'(1) Project Reference Item List'!$B$2:$C$1000,2,FALSE)","v":{"$error":"#N/A"}},null,null,null,null,null,null,null,null,null,null,{"$f":"VLOOKUP(B1907,'(1) Project Reference Item List'!$B$2:$D$1000,3,FALSE)","v":{"$error":"#N/A"}},null,null,0,0]
[{"$f":"VLOOKUP(B1908,'(1) Project Reference Item List'!$B$2:$C$1000,2,FALSE)","v":{"$error":"#N/A"}},null,null,null,null,null,null,null,null,null,null,{"$f":"VLOOKUP(B1908,'(1) Project Reference Item List'!$B$2:$D$1000,3,FALSE)","v":{"$error":"#N/A"}},null,null,0,0]
[{"$f":"VLOOKUP(B1909,'(1) Project Reference Item List'!$B$2:$C$1000,2,FALSE)","v":{"$error":"#N/A"}},null,null,null,null,null,null,null,null,null,null,{"$f":"VLOOKUP(B1909,'(1) Project Reference Item List'!$B$2:$D$1000,3,FALSE)","v":{"$error":"#N/A"}},null,null,0,0]
[{"$f":"VLOOKUP(B1910,'(1) Project Reference Item List'!$B$2:$C$1000,2,FALSE)","v":{"$error":"#N/A"}},null,null,null,null,null,null,null,null,null,null,{"$f":"VLOOKUP(B1910,'(1) Project Reference Item List'!$B$2:$D$1000,3,FALSE)","v":{"$error":"#N/A"}},null,null,0,0]
[{"$f":"VLOOKUP(B1911,'(1) Project Reference Item List'!$B$2:$C$1000,2,FALSE)","v":{"$error":"#N/A"}},null,null,null,null,null,null,null,null,null,null,{"$f":"VLOOKUP(B1911,'(1) Project Reference Item List'!$B$2:$D$1000,3,FALSE)","v":{"$error":"#N/A"}},null,null,0,0]
[{"$f":"VLOOKUP(B1912,'(1) Project Reference Item List'!$B$2:$C$1000,2,FALSE)","v":{"$error":"#N/A"}},null,null,null,null,null,null,null,null,null,null,{"$f":"VLOOKUP(B1912,'(1) Project Reference Item List'!$B$2:$D$1000,3,FALSE)","v":{"$error":"#N/A"}},null,null,0,0]
[{"$f":"VLOOKUP(B1913,'(1) Project Reference Item List'!$B$2:$C$1000,2,FALSE)","v":{"$error":"#N/A"}},null,null,null,null,null,null,null,null,null,null,{"$f":"VLOOKUP(B1913,'(1) Project Reference Item List'!$B$2:$D$1000,3,FALSE)","v":{"$error":"#N/A"}},null,null,0,0]
[{"$f":"VLOOKUP(B1914,'(1) Project Reference Item List'!$B$2:$C$1000,2,FALSE)","v":{"$error":"#N/A"}},null,null,null,null,null,null,null,null,null,null,{"$f":"VLOOKUP(B1914,'(1) Project Reference Item List'!$B$2:$D$1000,3,FALSE)","v":{"$error":"#N/A"}},null,null,0,0]
[{"$f":"VLOOKUP(B1915,'(1) Project Reference Item List'!$B$2:$C$1000,2,FALSE)","v":{"$error":"#N/A"}},null,null,null,null,null,null,null,null,null,null,{"$f":"VLOOKUP(B1915,'(1) Project Reference Item List'!$B$2:$D$1000,3,FALSE)","v":{"$error":"#N/A"}},null,null,0,0]
[{"$f":"VLOOKUP(B1916,'(1) Project Reference Item List'!$B$2:$C$1000,2,FALSE)","v":{"$error":"#N/A"}},null,null,null,null,null,null,null,null,null,null,{"$f":"VLOOKUP(B1916,'(1) Project Reference Item List'!$B$2:$D$1000,3,FALSE)","v":{"$error":"#N/A"}},null,null,0,0]
[{"$f":"VLOOKUP(B1917,'(1) Project Reference Item List'!$B$2:$C$1000,2,FALSE)","v":{"$error":"#N/A"}},null,null,null,null,null,null,null,null,null,null,{"$f":"VLOOKUP(B1917,'(1) Project Reference Item List'!$B$2:$D$1000,3,FALSE)","v":{"$error":"#N/A"}},null,null,0,0]
[{"$f":"VLOOKUP(B1918,'(1) Project Reference Item List'!$B$2:$C$1000,2,FALSE)","v":{"$error":"#N/A"}},null,null,null,null,null,null,null,null,null,null,{"$f":"VLOOKUP(B1918,'(1) Project Reference Item List'!$B$2:$D$1000,3,FALSE)","v":{"$error":"#N/A"}},null,null,0,0]
[{"$f":"VLOOKUP(B1919,'(1) Project Reference Item List'!$B$2:$C$1000,2,FALSE)","v":{"$error":"#N/A"}},null,null,null,null,null,null,null,null,null,null,{"$f":"VLOOKUP(B1919,'(1) Project Reference Item List'!$B$2:$D$1000,3,FALSE)","v":{"$error":"#N/A"}},null,null,0,0]
[{"$f":"VLOOKUP(B1920,'(1) Project Reference Item List'!$B$2:$C$1000,2,FALSE)","v":{"$error":"#N/A"}},null,null,null,null,null,null,null,null,null,null,{"$f":"VLOOKUP(B1920,'(1) Project Reference Item List'!$B$2:$D$1000,3,FALSE)","v":{"$error":"#N/A"}},null,null,0,0]
[{"$f":"VLOOKUP(B1921,'(1) Project Reference Item List'!$B$2:$C$1000,2,FALSE)","v":{"$error":"#N/A"}},null,null,null,null,null,null,null,null,null,null,{"$f":"VLOOKUP(B1921,'(1) Project Reference Item List'!$B$2:$D$1000,3,FALSE)","v":{"$error":"#N/A"}},null,null,0,0]
[{"$f":"VLOOKUP(B1922,'(1) Project Reference Item List'!$B$2:$C$1000,2,FALSE)","v":{"$error":"#N/A"}},null,null,null,null,null,null,null,null,null,null,{"$f":"VLOOKUP(B1922,'(1) Project Reference Item List'!$B$2:$D$1000,3,FALSE)","v":{"$error":"#N/A"}},null,null,0,0]
[{"$f":"VLOOKUP(B1923,'(1) Project Reference Item List'!$B$2:$C$1000,2,FALSE)","v":{"$error":"#N/A"}},null,null,null,null,null,null,null,null,null,null,{"$f":"VLOOKUP(B1923,'(1) Project Reference Item List'!$B$2:$D$1000,3,FALSE)","v":{"$error":"#N/A"}},null,null,0,0]
[{"$f":"VLOOKUP(B1924,'(1) Project Reference Item List'!$B$2:$C$1000,2,FALSE)","v":{"$error":"#N/A"}},null,null,null,null,null,null,null,null,null,null,{"$f":"VLOOKUP(B1924,'(1) Project Reference Item List'!$B$2:$D$1000,3,FALSE)","v":{"$error":"#N/A"}},null,null,0,0]
[{"$f":"VLOOKUP(B1925,'(1) Project Reference Item List'!$B$2:$C$1000,2,FALSE)","v":{"$error":"#N/A"}},null,null,null,null,null,null,null,null,null,null,{"$f":"VLOOKUP(B1925,'(1) Project Reference Item List'!$B$2:$D$1000,3,FALSE)","v":{"$error":"#N/A"}},null,null,0,0]
[{"$f":"VLOOKUP(B1926,'(1) Project Reference Item List'!$B$2:$C$1000,2,FALSE)","v":{"$error":"#N/A"}},null,null,null,null,null,null,null,null,null,null,{"$f":"VLOOKUP(B1926,'(1) Project Reference Item List'!$B$2:$D$1000,3,FALSE)","v":{"$error":"#N/A"}},null,null,{"$f":"IF(J1926=0,J1926,J1926*N1926)","v":0},{"$f":"(M1926-O1926)","v":0}]
[{"$f":"VLOOKUP(B1927,'(1) Project Reference Item List'!$B$2:$C$1000,2,FALSE)","v":{"$error":"#N/A"}},null,null,null,null,null,null,null,null,null,null,{"$f":"VLOOKUP(B1927,'(1) Project Reference Item List'!$B$2:$D$1000,3,FALSE)","v":{"$error":"#N/A"}},null,null,0,0]
[{"$f":"VLOOKUP(B1928,'(1) Project Reference Item List'!$B$2:$C$1000,2,FALSE)","v":{"$error":"#N/A"}},null,null,null,null,null,null,null,null,null,null,{"$f":"VLOOKUP(B1928,'(1) Project Reference Item List'!$B$2:$D$1000,3,FALSE)","v":{"$error":"#N/A"}},null,null,0,0]
[{"$f":"VLOOKUP(B1929,'(1) Project Reference Item List'!$B$2:$C$1000,2,FALSE)","v":{"$error":"#N/A"}},null,null,null,null,null,null,null,null,null,null,{"$f":"VLOOKUP(B1929,'(1) Project Reference Item List'!$B$2:$D$1000,3,FALSE)","v":{"$error":"#N/A"}},null,null,0,0]
[{"$f":"VLOOKUP(B1930,'(1) Project Reference Item List'!$B$2:$C$1000,2,FALSE)","v":{"$error":"#N/A"}},null,null,null,null,null,null,null,null,null,null,{"$f":"VLOOKUP(B1930,'(1) Project Reference Item List'!$B$2:$D$1000,3,FALSE)","v":{"$error":"#N/A"}},null,null,0,0]
[{"$f":"VLOOKUP(B1931,'(1) Project Reference Item List'!$B$2:$C$1000,2,FALSE)","v":{"$error":"#N/A"}},null,null,null,null,null,null,null,null,null,null,{"$f":"VLOOKUP(B1931,'(1) Project Reference Item List'!$B$2:$D$1000,3,FALSE)","v":{"$error":"#N/A"}},null,null,0,0]
[{"$f":"VLOOKUP(B1932,'(1) Project Reference Item List'!$B$2:$C$1000,2,FALSE)","v":{"$error":"#N/A"}},null,null,null,null,null,null,null,null,null,null,{"$f":"VLOOKUP(B1932,'(1) Project Reference Item List'!$B$2:$D$1000,3,FALSE)","v":{"$error":"#N/A"}},null,null,0,0]
[{"$f":"VLOOKUP(B1933,'(1) Project Reference Item List'!$B$2:$C$1000,2,FALSE)","v":{"$error":"#N/A"}},null,null,null,null,null,null,null,null,null,null,{"$f":"VLOOKUP(B1933,'(1) Project Reference Item List'!$B$2:$D$1000,3,FALSE)","v":{"$error":"#N/A"}},null,null,0,0]
[{"$f":"VLOOKUP(B1934,'(1) Project Reference Item List'!$B$2:$C$1000,2,FALSE)","v":{"$error":"#N/A"}},null,null,null,null,null,null,null,null,null,null,{"$f":"VLOOKUP(B1934,'(1) Project Reference Item List'!$B$2:$D$1000,3,FALSE)","v":{"$error":"#N/A"}},null,null,0,0]
[{"$f":"VLOOKUP(B1935,'(1) Project Reference Item List'!$B$2:$C$1000,2,FALSE)","v":{"$error":"#N/A"}},null,null,null,null,null,null,null,null,null,null,{"$f":"VLOOKUP(B1935,'(1) Project Reference Item List'!$B$2:$D$1000,3,FALSE)","v":{"$error":"#N/A"}},null,null,0,0]
[{"$f":"VLOOKUP(B1936,'(1) Project Reference Item List'!$B$2:$C$1000,2,FALSE)","v":{"$error":"#N/A"}},null,null,null,null,null,null,null,null,null,null,{"$f":"VLOOKUP(B1936,'(1) Project Reference Item List'!$B$2:$D$1000,3,FALSE)","v":{"$error":"#N/A"}},null,null,0,0]
[{"$f":"VLOOKUP(B1937,'(1) Project Reference Item List'!$B$2:$C$1000,2,FALSE)","v":{"$error":"#N/A"}},null,null,null,null,null,null,null,null,null,null,{"$f":"VLOOKUP(B1937,'(1) Project Reference Item List'!$B$2:$D$1000,3,FALSE)","v":{"$error":"#N/A"}},null,null,0,0]
[{"$f":"VLOOKUP(B1938,'(1) Project Reference Item List'!$B$2:$C$1000,2,FALSE)","v":{"$error":"#N/A"}},null,null,null,null,null,null,null,null,null,null,{"$f":"VLOOKUP(B1938,'(1) Project Reference Item List'!$B$2:$D$1000,3,FALSE)","v":{"$error":"#N/A"}},null,null,0,0]
[{"$f":"VLOOKUP(B1939,'(1) Project Reference Item List'!$B$2:$C$1000,2,FALSE)","v":{"$error":"#N/A"}},null,null,null,null,null,null,null,null,null,null,{"$f":"VLOOKUP(B1939,'(1) Project Reference Item List'!$B$2:$D$1000,3,FALSE)","v":{"$error":"#N/A"}},null,null,0,0]
[{"$f":"VLOOKUP(B1940,'(1) Project Reference Item List'!$B$2:$C$1000,2,FALSE)","v":{"$error":"#N/A"}},null,null,null,null,null,null,null,null,null,null,{"$f":"VLOOKUP(B1940,'(1) Project Reference Item List'!$B$2:$D$1000,3,FALSE)","v":{"$error":"#N/A"}},null,null,0,0]
[{"$f":"VLOOKUP(B1941,'(1) Project Reference Item List'!$B$2:$C$1000,2,FALSE)","v":{"$error":"#N/A"}},null,null,null,null,null,null,null,null,null,null,{"$f":"VLOOKUP(B1941,'(1) Project Reference Item List'!$B$2:$D$1000,3,FALSE)","v":{"$error":"#N/A"}},null,null,0,0]
[{"$f":"VLOOKUP(B1942,'(1) Project Reference Item List'!$B$2:$C$1000,2,FALSE)","v":{"$error":"#N/A"}},null,null,null,null,null,null,null,null,null,null,{"$f":"VLOOKUP(B1942,'(1) Project Reference Item List'!$B$2:$D$1000,3,FALSE)","v":{"$error":"#N/A"}},null,null,0,0]
[{"$f":"VLOOKUP(B1943,'(1) Project Reference Item List'!$B$2:$C$1000,2,FALSE)","v":{"$error":"#N/A"}},null,null,null,null,null,null,null,null,null,null,{"$f":"VLOOKUP(B1943,'(1) Project Reference Item List'!$B$2:$D$1000,3,FALSE)","v":{"$error":"#N/A"}},null,null,0,0]
[{"$f":"VLOOKUP(B1944,'(1) Project Reference Item List'!$B$2:$C$1000,2,FALSE)","v":{"$error":"#N/A"}},null,null,null,null,null,null,null,null,null,null,{"$f":"VLOOKUP(B1944,'(1) Project Reference Item List'!$B$2:$D$1000,3,FALSE)","v":{"$error":"#N/A"}},null,null,0,0]
[{"$f":"VLOOKUP(B1945,'(1) Project Reference Item List'!$B$2:$C$1000,2,FALSE)","v":{"$error":"#N/A"}},null,null,null,null,null,null,null,null,null,null,{"$f":"VLOOKUP(B1945,'(1) Project Reference Item List'!$B$2:$D$1000,3,FALSE)","v":{"$error":"#N/A"}},null,null,0,0]
[{"$f":"VLOOKUP(B1946,'(1) Project Reference Item List'!$B$2:$C$1000,2,FALSE)","v":{"$error":"#N/A"}},null,null,null,null,null,null,null,null,null,null,{"$f":"VLOOKUP(B1946,'(1) Project Reference Item List'!$B$2:$D$1000,3,FALSE)","v":{"$error":"#N/A"}},null,null,0,0]
[{"$f":"VLOOKUP(B1947,'(1) Project Reference Item List'!$B$2:$C$1000,2,FALSE)","v":{"$error":"#N/A"}},null,null,null,null,null,null,null,null,null,null,{"$f":"VLOOKUP(B1947,'(1) Project Reference Item List'!$B$2:$D$1000,3,FALSE)","v":{"$error":"#N/A"}},null,null,0,0]
[{"$f":"VLOOKUP(B1948,'(1) Project Reference Item List'!$B$2:$C$1000,2,FALSE)","v":{"$error":"#N/A"}},null,null,null,null,null,null,null,null,null,null,{"$f":"VLOOKUP(B1948,'(1) Project Reference Item List'!$B$2:$D$1000,3,FALSE)","v":{"$error":"#N/A"}},null,null,0,0]
[{"$f":"VLOOKUP(B1949,'(1) Project Reference Item List'!$B$2:$C$1000,2,FALSE)","v":{"$error":"#N/A"}},null,null,null,null,null,null,null,null,null,null,{"$f":"VLOOKUP(B1949,'(1) Project Reference Item List'!$B$2:$D$1000,3,FALSE)","v":{"$error":"#N/A"}},null,null,0,0]
[{"$f":"VLOOKUP(B1950,'(1) Project Reference Item List'!$B$2:$C$1000,2,FALSE)","v":{"$error":"#N/A"}},null,null,null,null,null,null,null,null,null,null,{"$f":"VLOOKUP(B1950,'(1) Project Reference Item List'!$B$2:$D$1000,3,FALSE)","v":{"$error":"#N/A"}},null,null,0,0]
[{"$f":"VLOOKUP(B1951,'(1) Project Reference Item List'!$B$2:$C$1000,2,FALSE)","v":{"$error":"#N/A"}},null,null,null,null,null,null,null,null,null,null,{"$f":"VLOOKUP(B1951,'(1) Project Reference Item List'!$B$2:$D$1000,3,FALSE)","v":{"$error":"#N/A"}},null,null,0,0]
[{"$f":"VLOOKUP(B1952,'(1) Project Reference Item List'!$B$2:$C$1000,2,FALSE)","v":{"$error":"#N/A"}},null,null,null,null,null,null,null,null,null,null,{"$f":"VLOOKUP(B1952,'(1) Project Reference Item List'!$B$2:$D$1000,3,FALSE)","v":{"$error":"#N/A"}},null,null,0,0]
[{"$f":"VLOOKUP(B1953,'(1) Project Reference Item List'!$B$2:$C$1000,2,FALSE)","v":{"$error":"#N/A"}},null,null,null,null,null,null,null,null,null,null,{"$f":"VLOOKUP(B1953,'(1) Project Reference Item List'!$B$2:$D$1000,3,FALSE)","v":{"$error":"#N/A"}},null,null,0,0]
[{"$f":"VLOOKUP(B1954,'(1) Project Reference Item List'!$B$2:$C$1000,2,FALSE)","v":{"$error":"#N/A"}},null,null,null,null,null,null,null,null,null,null,{"$f":"VLOOKUP(B1954,'(1) Project Reference Item List'!$B$2:$D$1000,3,FALSE)","v":{"$error":"#N/A"}},null,null,0,0]
[{"$f":"VLOOKUP(B1955,'(1) Project Reference Item List'!$B$2:$C$1000,2,FALSE)","v":{"$error":"#N/A"}},null,null,null,null,null,null,null,null,null,null,{"$f":"VLOOKUP(B1955,'(1) Project Reference Item List'!$B$2:$D$1000,3,FALSE)","v":{"$error":"#N/A"}},null,null,0,0]
[{"$f":"VLOOKUP(B1956,'(1) Project Reference Item List'!$B$2:$C$1000,2,FALSE)","v":{"$error":"#N/A"}},null,null,null,null,null,null,null,null,null,null,{"$f":"VLOOKUP(B1956,'(1) Project Reference Item List'!$B$2:$D$1000,3,FALSE)","v":{"$error":"#N/A"}},null,null,0,0]
[{"$f":"VLOOKUP(B1957,'(1) Project Reference Item List'!$B$2:$C$1000,2,FALSE)","v":{"$error":"#N/A"}},null,null,null,null,null,null,null,null,null,null,{"$f":"VLOOKUP(B1957,'(1) Project Reference Item List'!$B$2:$D$1000,3,FALSE)","v":{"$error":"#N/A"}},null,null,0,0]
[{"$f":"VLOOKUP(B1958,'(1) Project Reference Item List'!$B$2:$C$1000,2,FALSE)","v":{"$error":"#N/A"}},null,null,null,null,null,null,null,null,null,null,{"$f":"VLOOKUP(B1958,'(1) Project Reference Item List'!$B$2:$D$1000,3,FALSE)","v":{"$error":"#N/A"}},null,null,0,0]
[{"$f":"VLOOKUP(B1959,'(1) Project Reference Item List'!$B$2:$C$1000,2,FALSE)","v":{"$error":"#N/A"}},null,null,null,null,null,null,null,null,null,null,{"$f":"VLOOKUP(B1959,'(1) Project Reference Item List'!$B$2:$D$1000,3,FALSE)","v":{"$error":"#N/A"}},null,null,0,0]
[{"$f":"VLOOKUP(B1960,'(1) Project Reference Item List'!$B$2:$C$1000,2,FALSE)","v":{"$error":"#N/A"}},null,null,null,null,null,null,null,null,null,null,{"$f":"VLOOKUP(B1960,'(1) Project Reference Item List'!$B$2:$D$1000,3,FALSE)","v":{"$error":"#N/A"}},null,null,0,0]
[{"$f":"VLOOKUP(B1961,'(1) Project Reference Item List'!$B$2:$C$1000,2,FALSE)","v":{"$error":"#N/A"}},null,null,null,null,null,null,null,null,null,null,{"$f":"VLOOKUP(B1961,'(1) Project Reference Item List'!$B$2:$D$1000,3,FALSE)","v":{"$error":"#N/A"}},null,null,0,0]
[{"$f":"VLOOKUP(B1962,'(1) Project Reference Item List'!$B$2:$C$1000,2,FALSE)","v":{"$error":"#N/A"}},null,null,null,null,null,null,null,null,null,null,{"$f":"VLOOKUP(B1962,'(1) Project Reference Item List'!$B$2:$D$1000,3,FALSE)","v":{"$error":"#N/A"}},null,null,0,0]
[{"$f":"VLOOKUP(B1963,'(1) Project Reference Item List'!$B$2:$C$1000,2,FALSE)","v":{"$error":"#N/A"}},null,null,null,null,null,null,null,null,null,null,{"$f":"VLOOKUP(B1963,'(1) Project Reference Item List'!$B$2:$D$1000,3,FALSE)","v":{"$error":"#N/A"}},null,null,0,0]
[{"$f":"VLOOKUP(B1964,'(1) Project Reference Item List'!$B$2:$C$1000,2,FALSE)","v":{"$error":"#N/A"}},null,null,null,null,null,null,null,null,null,null,{"$f":"VLOOKUP(B1964,'(1) Project Reference Item List'!$B$2:$D$1000,3,FALSE)","v":{"$error":"#N/A"}},null,null,0,0]
[{"$f":"VLOOKUP(B1965,'(1) Project Reference Item List'!$B$2:$C$1000,2,FALSE)","v":{"$error":"#N/A"}},null,null,null,null,null,null,null,null,null,null,{"$f":"VLOOKUP(B1965,'(1) Project Reference Item List'!$B$2:$D$1000,3,FALSE)","v":{"$error":"#N/A"}},null,null,0,0]
[{"$f":"VLOOKUP(B1966,'(1) Project Reference Item List'!$B$2:$C$1000,2,FALSE)","v":{"$error":"#N/A"}},null,null,null,null,null,null,null,null,null,null,{"$f":"VLOOKUP(B1966,'(1) Project Reference Item List'!$B$2:$D$1000,3,FALSE)","v":{"$error":"#N/A"}},null,null,0,0]
[{"$f":"VLOOKUP(B1967,'(1) Project Reference Item List'!$B$2:$C$1000,2,FALSE)","v":{"$error":"#N/A"}},null,null,null,null,null,null,null,null,null,null,{"$f":"VLOOKUP(B1967,'(1) Project Reference Item List'!$B$2:$D$1000,3,FALSE)","v":{"$error":"#N/A"}},null,null,0,0]
[{"$f":"VLOOKUP(B1968,'(1) Project Reference Item List'!$B$2:$C$1000,2,FALSE)","v":{"$error":"#N/A"}},null,null,null,null,null,null,null,null,null,null,{"$f":"VLOOKUP(B1968,'(1) Project Reference Item List'!$B$2:$D$1000,3,FALSE)","v":{"$error":"#N/A"}},null,null,0,0]
[{"$f":"VLOOKUP(B1969,'(1) Project Reference Item List'!$B$2:$C$1000,2,FALSE)","v":{"$error":"#N/A"}},null,null,null,null,null,null,null,null,null,null,{"$f":"VLOOKUP(B1969,'(1) Project Reference Item List'!$B$2:$D$1000,3,FALSE)","v":{"$error":"#N/A"}},null,null,0,0]
[{"$f":"VLOOKUP(B1970,'(1) Project Reference Item List'!$B$2:$C$1000,2,FALSE)","v":{"$error":"#N/A"}},null,null,null,null,null,null,null,null,null,null,{"$f":"VLOOKUP(B1970,'(1) Project Reference Item List'!$B$2:$D$1000,3,FALSE)","v":{"$error":"#N/A"}},null,null,0,0]
[{"$f":"VLOOKUP(B1971,'(1) Project Reference Item List'!$B$2:$C$1000,2,FALSE)","v":{"$error":"#N/A"}},null,null,null,null,null,null,null,null,null,null,{"$f":"VLOOKUP(B1971,'(1) Project Reference Item List'!$B$2:$D$1000,3,FALSE)","v":{"$error":"#N/A"}},null,null,0,0]
[{"$f":"VLOOKUP(B1972,'(1) Project Reference Item List'!$B$2:$C$1000,2,FALSE)","v":{"$error":"#N/A"}},null,null,null,null,null,null,null,null,null,null,{"$f":"VLOOKUP(B1972,'(1) Project Reference Item List'!$B$2:$D$1000,3,FALSE)","v":{"$error":"#N/A"}},null,null,0,0]
[{"$f":"VLOOKUP(B1973,'(1) Project Reference Item List'!$B$2:$C$1000,2,FALSE)","v":{"$error":"#N/A"}},null,null,null,null,null,null,null,null,null,null,{"$f":"VLOOKUP(B1973,'(1) Project Reference Item List'!$B$2:$D$1000,3,FALSE)","v":{"$error":"#N/A"}},null,null,0,0]
[{"$f":"VLOOKUP(B1974,'(1) Project Reference Item List'!$B$2:$C$1000,2,FALSE)","v":{"$error":"#N/A"}},null,null,null,null,null,null,null,null,null,null,{"$f":"VLOOKUP(B1974,'(1) Project Reference Item List'!$B$2:$D$1000,3,FALSE)","v":{"$error":"#N/A"}},null,null,0,0]
[{"$f":"VLOOKUP(B1975,'(1) Project Reference Item List'!$B$2:$C$1000,2,FALSE)","v":{"$error":"#N/A"}},null,null,null,null,null,null,null,null,null,null,{"$f":"VLOOKUP(B1975,'(1) Project Reference Item List'!$B$2:$D$1000,3,FALSE)","v":{"$error":"#N/A"}},null,null,0,0]
[{"$f":"VLOOKUP(B1976,'(1) Project Reference Item List'!$B$2:$C$1000,2,FALSE)","v":{"$error":"#N/A"}},null,null,null,null,null,null,null,null,null,null,{"$f":"VLOOKUP(B1976,'(1) Project Reference Item List'!$B$2:$D$1000,3,FALSE)","v":{"$error":"#N/A"}},null,null,0,0]
[{"$f":"VLOOKUP(B1977,'(1) Project Reference Item List'!$B$2:$C$1000,2,FALSE)","v":{"$error":"#N/A"}},null,null,null,null,null,null,null,null,null,null,{"$f":"VLOOKUP(B1977,'(1) Project Reference Item List'!$B$2:$D$1000,3,FALSE)","v":{"$error":"#N/A"}},null,null,0,0]
[{"$f":"VLOOKUP(B1978,'(1) Project Reference Item List'!$B$2:$C$1000,2,FALSE)","v":{"$error":"#N/A"}},null,null,null,null,null,null,null,null,null,null,{"$f":"VLOOKUP(B1978,'(1) Project Reference Item List'!$B$2:$D$1000,3,FALSE)","v":{"$error":"#N/A"}},null,null,0,0]
[{"$f":"VLOOKUP(B1979,'(1) Project Reference Item List'!$B$2:$C$1000,2,FALSE)","v":{"$error":"#N/A"}},null,null,null,null,null,null,null,null,null,null,{"$f":"VLOOKUP(B1979,'(1) Project Reference Item List'!$B$2:$D$1000,3,FALSE)","v":{"$error":"#N/A"}},null,null,0,0]
[{"$f":"VLOOKUP(B1980,'(1) Project Reference Item List'!$B$2:$C$1000,2,FALSE)","v":{"$error":"#N/A"}},null,null,null,null,null,null,null,null,null,null,{"$f":"VLOOKUP(B1980,'(1) Project Reference Item List'!$B$2:$D$1000,3,FALSE)","v":{"$error":"#N/A"}},null,null,0,0]
[{"$f":"VLOOKUP(B1981,'(1) Project Reference Item List'!$B$2:$C$1000,2,FALSE)","v":{"$error":"#N/A"}},null,null,null,null,null,null,null,null,null,null,{"$f":"VLOOKUP(B1981,'(1) Project Reference Item List'!$B$2:$D$1000,3,FALSE)","v":{"$error":"#N/A"}},null,null,0,0]
[{"$f":"VLOOKUP(B1982,'(1) Project Reference Item List'!$B$2:$C$1000,2,FALSE)","v":{"$error":"#N/A"}},null,null,null,null,null,null,null,null,null,null,{"$f":"VLOOKUP(B1982,'(1) Project Reference Item List'!$B$2:$D$1000,3,FALSE)","v":{"$error":"#N/A"}},null,null,0,0]
[{"$f":"VLOOKUP(B1983,'(1) Project Reference Item List'!$B$2:$C$1000,2,FALSE)","v":{"$error":"#N/A"}},null,null,null,null,null,null,null,null,null,null,{"$f":"VLOOKUP(B1983,'(1) Project Reference Item List'!$B$2:$D$1000,3,FALSE)","v":{"$error":"#N/A"}},null,null,0,0]
[{"$f":"VLOOKUP(B1984,'(1) Project Reference Item List'!$B$2:$C$1000,2,FALSE)","v":{"$error":"#N/A"}},null,null,null,null,null,null,null,null,null,null,{"$f":"VLOOKUP(B1984,'(1) Project Reference Item List'!$B$2:$D$1000,3,FALSE)","v":{"$error":"#N/A"}},null,null,0,0]
[{"$f":"VLOOKUP(B1985,'(1) Project Reference Item List'!$B$2:$C$1000,2,FALSE)","v":{"$error":"#N/A"}},null,null,null,null,null,null,null,null,null,null,{"$f":"VLOOKUP(B1985,'(1) Project Reference Item List'!$B$2:$D$1000,3,FALSE)","v":{"$error":"#N/A"}},null,null,0,0]
[{"$f":"VLOOKUP(B1986,'(1) Project Reference Item List'!$B$2:$C$1000,2,FALSE)","v":{"$error":"#N/A"}},null,null,null,null,null,null,null,null,null,null,{"$f":"VLOOKUP(B1986,'(1) Project Reference Item List'!$B$2:$D$1000,3,FALSE)","v":{"$error":"#N/A"}},null,null,0,0]
[{"$f":"VLOOKUP(B1987,'(1) Project Reference Item List'!$B$2:$C$1000,2,FALSE)","v":{"$error":"#N/A"}},null,null,null,null,null,null,null,null,null,null,{"$f":"VLOOKUP(B1987,'(1) Project Reference Item List'!$B$2:$D$1000,3,FALSE)","v":{"$error":"#N/A"}},null,null,0,0]
[{"$f":"VLOOKUP(B1988,'(1) Project Reference Item List'!$B$2:$C$1000,2,FALSE)","v":{"$error":"#N/A"}},null,null,null,null,null,null,null,null,null,null,{"$f":"VLOOKUP(B1988,'(1) Project Reference Item List'!$B$2:$D$1000,3,FALSE)","v":{"$error":"#N/A"}},null,null,0,0]
[{"$f":"VLOOKUP(B1989,'(1) Project Reference Item List'!$B$2:$C$1000,2,FALSE)","v":{"$error":"#N/A"}},null,null,null,null,null,null,null,null,null,null,{"$f":"VLOOKUP(B1989,'(1) Project Reference Item List'!$B$2:$D$1000,3,FALSE)","v":{"$error":"#N/A"}},null,null,0,0]
[{"$f":"VLOOKUP(B1990,'(1) Project Reference Item List'!$B$2:$C$1000,2,FALSE)","v":{"$error":"#N/A"}},null,null,null,null,null,null,null,null,null,null,{"$f":"VLOOKUP(B1990,'(1) Project Reference Item List'!$B$2:$D$1000,3,FALSE)","v":{"$error":"#N/A"}},null,null,{"$f":"IF(J1990=0,J1990,J1990*N1990)","v":0},{"$f":"(M1990-O1990)","v":0}]
[{"$f":"VLOOKUP(B1991,'(1) Project Reference Item List'!$B$2:$C$1000,2,FALSE)","v":{"$error":"#N/A"}},null,null,null,null,null,null,null,null,null,null,{"$f":"VLOOKUP(B1991,'(1) Project Reference Item List'!$B$2:$D$1000,3,FALSE)","v":{"$error":"#N/A"}},null,null,0,0]
[{"$f":"VLOOKUP(B1992,'(1) Project Reference Item List'!$B$2:$C$1000,2,FALSE)","v":{"$error":"#N/A"}},null,null,null,null,null,null,null,null,null,null,{"$f":"VLOOKUP(B1992,'(1) Project Reference Item List'!$B$2:$D$1000,3,FALSE)","v":{"$error":"#N/A"}},null,null,0,0]
[{"$f":"VLOOKUP(B1993,'(1) Project Reference Item List'!$B$2:$C$1000,2,FALSE)","v":{"$error":"#N/A"}},null,null,null,null,null,null,null,null,null,null,{"$f":"VLOOKUP(B1993,'(1) Project Reference Item List'!$B$2:$D$1000,3,FALSE)","v":{"$error":"#N/A"}},null,null,0,0]
[{"$f":"VLOOKUP(B1994,'(1) Project Reference Item List'!$B$2:$C$1000,2,FALSE)","v":{"$error":"#N/A"}},null,null,null,null,null,null,null,null,null,null,{"$f":"VLOOKUP(B1994,'(1) Project Reference Item List'!$B$2:$D$1000,3,FALSE)","v":{"$error":"#N/A"}},null,null,0,0]
[{"$f":"VLOOKUP(B1995,'(1) Project Reference Item List'!$B$2:$C$1000,2,FALSE)","v":{"$error":"#N/A"}},null,null,null,null,null,null,null,null,null,null,{"$f":"VLOOKUP(B1995,'(1) Project Reference Item List'!$B$2:$D$1000,3,FALSE)","v":{"$error":"#N/A"}},null,null,0,0]
[{"$f":"VLOOKUP(B1996,'(1) Project Reference Item List'!$B$2:$C$1000,2,FALSE)","v":{"$error":"#N/A"}},null,null,null,null,null,null,null,null,null,null,{"$f":"VLOOKUP(B1996,'(1) Project Reference Item List'!$B$2:$D$1000,3,FALSE)","v":{"$error":"#N/A"}},null,null,0,0]
[{"$f":"VLOOKUP(B1997,'(1) Project Reference Item List'!$B$2:$C$1000,2,FALSE)","v":{"$error":"#N/A"}},null,null,null,null,null,null,null,null,null,null,{"$f":"VLOOKUP(B1997,'(1) Project Reference Item List'!$B$2:$D$1000,3,FALSE)","v":{"$error":"#N/A"}},null,null,0,0]
[{"$f":"VLOOKUP(B1998,'(1) Project Reference Item List'!$B$2:$C$1000,2,FALSE)","v":{"$error":"#N/A"}},null,null,null,null,null,null,null,null,null,null,{"$f":"VLOOKUP(B1998,'(1) Project Reference Item List'!$B$2:$D$1000,3,FALSE)","v":{"$error":"#N/A"}},null,null,0,0]
[{"$f":"VLOOKUP(B1999,'(1) Project Reference Item List'!$B$2:$C$1000,2,FALSE)","v":{"$error":"#N/A"}},null,null,null,null,null,null,null,null,null,null,{"$f":"VLOOKUP(B1999,'(1) Project Reference Item List'!$B$2:$D$1000,3,FALSE)","v":{"$error":"#N/A"}},null,null,0,0]
[{"$f":"VLOOKUP(B2000,'(1) Project Reference Item List'!$B$2:$C$1000,2,FALSE)","v":{"$error":"#N/A"}},null,null,null,null,null,null,null,null,null,null,{"$f":"VLOOKUP(B2000,'(1) Project Reference Item List'!$B$2:$D$1000,3,FALSE)","v":{"$error":"#N/A"}},null,null,0,0]
[{"$f":"VLOOKUP(B2001,'(1) Project Reference Item List'!$B$2:$C$1000,2,FALSE)","v":{"$error":"#N/A"}},null,null,null,null,null,null,null,null,null,null,{"$f":"VLOOKUP(B2001,'(1) Project Reference Item List'!$B$2:$D$1000,3,FALSE)","v":{"$error":"#N/A"}},null,null,0,0]
[{"$f":"VLOOKUP(B2002,'(1) Project Reference Item List'!$B$2:$C$1000,2,FALSE)","v":{"$error":"#N/A"}},null,null,null,null,null,null,null,null,null,null,{"$f":"VLOOKUP(B2002,'(1) Project Reference Item List'!$B$2:$D$1000,3,FALSE)","v":{"$error":"#N/A"}},null,null,0,0]
[{"$f":"VLOOKUP(B2003,'(1) Project Reference Item List'!$B$2:$C$1000,2,FALSE)","v":{"$error":"#N/A"}},null,null,null,null,null,null,null,null,null,null,{"$f":"VLOOKUP(B2003,'(1) Project Reference Item List'!$B$2:$D$1000,3,FALSE)","v":{"$error":"#N/A"}},null,null,0,0]
[{"$f":"VLOOKUP(B2004,'(1) Project Reference Item List'!$B$2:$C$1000,2,FALSE)","v":{"$error":"#N/A"}},null,null,null,null,null,null,null,null,null,null,{"$f":"VLOOKUP(B2004,'(1) Project Reference Item List'!$B$2:$D$1000,3,FALSE)","v":{"$error":"#N/A"}},null,null,0,0]
[{"$f":"VLOOKUP(B2005,'(1) Project Reference Item List'!$B$2:$C$1000,2,FALSE)","v":{"$error":"#N/A"}},null,null,null,null,null,null,null,null,null,null,{"$f":"VLOOKUP(B2005,'(1) Project Reference Item List'!$B$2:$D$1000,3,FALSE)","v":{"$error":"#N/A"}},null,null,0,0]
[{"$f":"VLOOKUP(B2006,'(1) Project Reference Item List'!$B$2:$C$1000,2,FALSE)","v":{"$error":"#N/A"}},null,null,null,null,null,null,null,null,null,null,{"$f":"VLOOKUP(B2006,'(1) Project Reference Item List'!$B$2:$D$1000,3,FALSE)","v":{"$error":"#N/A"}},null,null,0,0]
[{"$f":"VLOOKUP(B2007,'(1) Project Reference Item List'!$B$2:$C$1000,2,FALSE)","v":{"$error":"#N/A"}},null,null,null,null,null,null,null,null,null,null,{"$f":"VLOOKUP(B2007,'(1) Project Reference Item List'!$B$2:$D$1000,3,FALSE)","v":{"$error":"#N/A"}},null,null,0,0]
[{"$f":"VLOOKUP(B2008,'(1) Project Reference Item List'!$B$2:$C$1000,2,FALSE)","v":{"$error":"#N/A"}},null,null,null,null,null,null,null,null,null,null,{"$f":"VLOOKUP(B2008,'(1) Project Reference Item List'!$B$2:$D$1000,3,FALSE)","v":{"$error":"#N/A"}},null,null,0,0]
[{"$f":"VLOOKUP(B2009,'(1) Project Reference Item List'!$B$2:$C$1000,2,FALSE)","v":{"$error":"#N/A"}},null,null,null,null,null,null,null,null,null,null,{"$f":"VLOOKUP(B2009,'(1) Project Reference Item List'!$B$2:$D$1000,3,FALSE)","v":{"$error":"#N/A"}},null,null,0,0]
[{"$f":"VLOOKUP(B2010,'(1) Project Reference Item List'!$B$2:$C$1000,2,FALSE)","v":{"$error":"#N/A"}},null,null,null,null,null,null,null,null,null,null,{"$f":"VLOOKUP(B2010,'(1) Project Reference Item List'!$B$2:$D$1000,3,FALSE)","v":{"$error":"#N/A"}},null,null,0,0]
[{"$f":"VLOOKUP(B2011,'(1) Project Reference Item List'!$B$2:$C$1000,2,FALSE)","v":{"$error":"#N/A"}},null,null,null,null,null,null,null,null,null,null,{"$f":"VLOOKUP(B2011,'(1) Project Reference Item List'!$B$2:$D$1000,3,FALSE)","v":{"$error":"#N/A"}},null,null,0,0]
[{"$f":"VLOOKUP(B2012,'(1) Project Reference Item List'!$B$2:$C$1000,2,FALSE)","v":{"$error":"#N/A"}},null,null,null,null,null,null,null,null,null,null,{"$f":"VLOOKUP(B2012,'(1) Project Reference Item List'!$B$2:$D$1000,3,FALSE)","v":{"$error":"#N/A"}},null,null,0,0]
[{"$f":"VLOOKUP(B2013,'(1) Project Reference Item List'!$B$2:$C$1000,2,FALSE)","v":{"$error":"#N/A"}},null,null,null,null,null,null,null,null,null,null,{"$f":"VLOOKUP(B2013,'(1) Project Reference Item List'!$B$2:$D$1000,3,FALSE)","v":{"$error":"#N/A"}},null,null,0,0]
[{"$f":"VLOOKUP(B2014,'(1) Project Reference Item List'!$B$2:$C$1000,2,FALSE)","v":{"$error":"#N/A"}},null,null,null,null,null,null,null,null,null,null,{"$f":"VLOOKUP(B2014,'(1) Project Reference Item List'!$B$2:$D$1000,3,FALSE)","v":{"$error":"#N/A"}},null,null,0,0]
[{"$f":"VLOOKUP(B2015,'(1) Project Reference Item List'!$B$2:$C$1000,2,FALSE)","v":{"$error":"#N/A"}},null,null,null,null,null,null,null,null,null,null,{"$f":"VLOOKUP(B2015,'(1) Project Reference Item List'!$B$2:$D$1000,3,FALSE)","v":{"$error":"#N/A"}},null,null,0,0]
[{"$f":"VLOOKUP(B2016,'(1) Project Reference Item List'!$B$2:$C$1000,2,FALSE)","v":{"$error":"#N/A"}},null,null,null,null,null,null,null,null,null,null,{"$f":"VLOOKUP(B2016,'(1) Project Reference Item List'!$B$2:$D$1000,3,FALSE)","v":{"$error":"#N/A"}},null,null,0,0]
[{"$f":"VLOOKUP(B2017,'(1) Project Reference Item List'!$B$2:$C$1000,2,FALSE)","v":{"$error":"#N/A"}},null,null,null,null,null,null,null,null,null,null,{"$f":"VLOOKUP(B2017,'(1) Project Reference Item List'!$B$2:$D$1000,3,FALSE)","v":{"$error":"#N/A"}},null,null,0,0]
[{"$f":"VLOOKUP(B2018,'(1) Project Reference Item List'!$B$2:$C$1000,2,FALSE)","v":{"$error":"#N/A"}},null,null,null,null,null,null,null,null,null,null,{"$f":"VLOOKUP(B2018,'(1) Project Reference Item List'!$B$2:$D$1000,3,FALSE)","v":{"$error":"#N/A"}},null,null,0,0]
[{"$f":"VLOOKUP(B2019,'(1) Project Reference Item List'!$B$2:$C$1000,2,FALSE)","v":{"$error":"#N/A"}},null,null,null,null,null,null,null,null,null,null,{"$f":"VLOOKUP(B2019,'(1) Project Reference Item List'!$B$2:$D$1000,3,FALSE)","v":{"$error":"#N/A"}},null,null,0,0]
[{"$f":"VLOOKUP(B2020,'(1) Project Reference Item List'!$B$2:$C$1000,2,FALSE)","v":{"$error":"#N/A"}},null,null,null,null,null,null,null,null,null,null,{"$f":"VLOOKUP(B2020,'(1) Project Reference Item List'!$B$2:$D$1000,3,FALSE)","v":{"$error":"#N/A"}},null,null,0,0]
[{"$f":"VLOOKUP(B2021,'(1) Project Reference Item List'!$B$2:$C$1000,2,FALSE)","v":{"$error":"#N/A"}},null,null,null,null,null,null,null,null,null,null,{"$f":"VLOOKUP(B2021,'(1) Project Reference Item List'!$B$2:$D$1000,3,FALSE)","v":{"$error":"#N/A"}},null,null,0,0]
[{"$f":"VLOOKUP(B2022,'(1) Project Reference Item List'!$B$2:$C$1000,2,FALSE)","v":{"$error":"#N/A"}},null,null,null,null,null,null,null,null,null,null,{"$f":"VLOOKUP(B2022,'(1) Project Reference Item List'!$B$2:$D$1000,3,FALSE)","v":{"$error":"#N/A"}},null,null,0,0]
[{"$f":"VLOOKUP(B2023,'(1) Project Reference Item List'!$B$2:$C$1000,2,FALSE)","v":{"$error":"#N/A"}},null,null,null,null,null,null,null,null,null,null,{"$f":"VLOOKUP(B2023,'(1) Project Reference Item List'!$B$2:$D$1000,3,FALSE)","v":{"$error":"#N/A"}},null,null,0,0]
[{"$f":"VLOOKUP(B2024,'(1) Project Reference Item List'!$B$2:$C$1000,2,FALSE)","v":{"$error":"#N/A"}},null,null,null,null,null,null,null,null,null,null,{"$f":"VLOOKUP(B2024,'(1) Project Reference Item List'!$B$2:$D$1000,3,FALSE)","v":{"$error":"#N/A"}},null,null,0,0]
[{"$f":"VLOOKUP(B2025,'(1) Project Reference Item List'!$B$2:$C$1000,2,FALSE)","v":{"$error":"#N/A"}},null,null,null,null,null,null,null,null,null,null,{"$f":"VLOOKUP(B2025,'(1) Project Reference Item List'!$B$2:$D$1000,3,FALSE)","v":{"$error":"#N/A"}},null,null,0,0]
[{"$f":"VLOOKUP(B2026,'(1) Project Reference Item List'!$B$2:$C$1000,2,FALSE)","v":{"$error":"#N/A"}},null,null,null,null,null,null,null,null,null,null,{"$f":"VLOOKUP(B2026,'(1) Project Reference Item List'!$B$2:$D$1000,3,FALSE)","v":{"$error":"#N/A"}},null,null,0,0]
[{"$f":"VLOOKUP(B2027,'(1) Project Reference Item List'!$B$2:$C$1000,2,FALSE)","v":{"$error":"#N/A"}},null,null,null,null,null,null,null,null,null,null,{"$f":"VLOOKUP(B2027,'(1) Project Reference Item List'!$B$2:$D$1000,3,FALSE)","v":{"$error":"#N/A"}},null,null,0,0]
[{"$f":"VLOOKUP(B2028,'(1) Project Reference Item List'!$B$2:$C$1000,2,FALSE)","v":{"$error":"#N/A"}},null,null,null,null,null,null,null,null,null,null,{"$f":"VLOOKUP(B2028,'(1) Project Reference Item List'!$B$2:$D$1000,3,FALSE)","v":{"$error":"#N/A"}},null,null,0,0]
[{"$f":"VLOOKUP(B2029,'(1) Project Reference Item List'!$B$2:$C$1000,2,FALSE)","v":{"$error":"#N/A"}},null,null,null,null,null,null,null,null,null,null,{"$f":"VLOOKUP(B2029,'(1) Project Reference Item List'!$B$2:$D$1000,3,FALSE)","v":{"$error":"#N/A"}},null,null,0,0]
[{"$f":"VLOOKUP(B2030,'(1) Project Reference Item List'!$B$2:$C$1000,2,FALSE)","v":{"$error":"#N/A"}},null,null,null,null,null,null,null,null,null,null,{"$f":"VLOOKUP(B2030,'(1) Project Reference Item List'!$B$2:$D$1000,3,FALSE)","v":{"$error":"#N/A"}},null,null,0,0]
[{"$f":"VLOOKUP(B2031,'(1) Project Reference Item List'!$B$2:$C$1000,2,FALSE)","v":{"$error":"#N/A"}},null,null,null,null,null,null,null,null,null,null,{"$f":"VLOOKUP(B2031,'(1) Project Reference Item List'!$B$2:$D$1000,3,FALSE)","v":{"$error":"#N/A"}},null,null,0,0]
[{"$f":"VLOOKUP(B2032,'(1) Project Reference Item List'!$B$2:$C$1000,2,FALSE)","v":{"$error":"#N/A"}},null,null,null,null,null,null,null,null,null,null,{"$f":"VLOOKUP(B2032,'(1) Project Reference Item List'!$B$2:$D$1000,3,FALSE)","v":{"$error":"#N/A"}},null,null,0,0]
[{"$f":"VLOOKUP(B2033,'(1) Project Reference Item List'!$B$2:$C$1000,2,FALSE)","v":{"$error":"#N/A"}},null,null,null,null,null,null,null,null,null,null,{"$f":"VLOOKUP(B2033,'(1) Project Reference Item List'!$B$2:$D$1000,3,FALSE)","v":{"$error":"#N/A"}},null,null,0,0]
[{"$f":"VLOOKUP(B2034,'(1) Project Reference Item List'!$B$2:$C$1000,2,FALSE)","v":{"$error":"#N/A"}},null,null,null,null,null,null,null,null,null,null,{"$f":"VLOOKUP(B2034,'(1) Project Reference Item List'!$B$2:$D$1000,3,FALSE)","v":{"$error":"#N/A"}},null,null,0,0]
[{"$f":"VLOOKUP(B2035,'(1) Project Reference Item List'!$B$2:$C$1000,2,FALSE)","v":{"$error":"#N/A"}},null,null,null,null,null,null,null,null,null,null,{"$f":"VLOOKUP(B2035,'(1) Project Reference Item List'!$B$2:$D$1000,3,FALSE)","v":{"$error":"#N/A"}},null,null,0,0]
[{"$f":"VLOOKUP(B2036,'(1) Project Reference Item List'!$B$2:$C$1000,2,FALSE)","v":{"$error":"#N/A"}},null,null,null,null,null,null,null,null,null,null,{"$f":"VLOOKUP(B2036,'(1) Project Reference Item List'!$B$2:$D$1000,3,FALSE)","v":{"$error":"#N/A"}},null,null,0,0]
[{"$f":"VLOOKUP(B2037,'(1) Project Reference Item List'!$B$2:$C$1000,2,FALSE)","v":{"$error":"#N/A"}},null,null,null,null,null,null,null,null,null,null,{"$f":"VLOOKUP(B2037,'(1) Project Reference Item List'!$B$2:$D$1000,3,FALSE)","v":{"$error":"#N/A"}},null,null,0,0]
[{"$f":"VLOOKUP(B2038,'(1) Project Reference Item List'!$B$2:$C$1000,2,FALSE)","v":{"$error":"#N/A"}},null,null,null,null,null,null,null,null,null,null,{"$f":"VLOOKUP(B2038,'(1) Project Reference Item List'!$B$2:$D$1000,3,FALSE)","v":{"$error":"#N/A"}},null,null,0,0]
[{"$f":"VLOOKUP(B2039,'(1) Project Reference Item List'!$B$2:$C$1000,2,FALSE)","v":{"$error":"#N/A"}},null,null,null,null,null,null,null,null,null,null,{"$f":"VLOOKUP(B2039,'(1) Project Reference Item List'!$B$2:$D$1000,3,FALSE)","v":{"$error":"#N/A"}},null,null,0,0]
[{"$f":"VLOOKUP(B2040,'(1) Project Reference Item List'!$B$2:$C$1000,2,FALSE)","v":{"$error":"#N/A"}},null,null,null,null,null,null,null,null,null,null,{"$f":"VLOOKUP(B2040,'(1) Project Reference Item List'!$B$2:$D$1000,3,FALSE)","v":{"$error":"#N/A"}},null,null,0,0]
[{"$f":"VLOOKUP(B2041,'(1) Project Reference Item List'!$B$2:$C$1000,2,FALSE)","v":{"$error":"#N/A"}},null,null,null,null,null,null,null,null,null,null,{"$f":"VLOOKUP(B2041,'(1) Project Reference Item List'!$B$2:$D$1000,3,FALSE)","v":{"$error":"#N/A"}},null,null,0,0]
[{"$f":"VLOOKUP(B2042,'(1) Project Reference Item List'!$B$2:$C$1000,2,FALSE)","v":{"$error":"#N/A"}},null,null,null,null,null,null,null,null,null,null,{"$f":"VLOOKUP(B2042,'(1) Project Reference Item List'!$B$2:$D$1000,3,FALSE)","v":{"$error":"#N/A"}},null,null,0,0]
[{"$f":"VLOOKUP(B2043,'(1) Project Reference Item List'!$B$2:$C$1000,2,FALSE)","v":{"$error":"#N/A"}},null,null,null,null,null,null,null,null,null,null,{"$f":"VLOOKUP(B2043,'(1) Project Reference Item List'!$B$2:$D$1000,3,FALSE)","v":{"$error":"#N/A"}},null,null,0,0]
[{"$f":"VLOOKUP(B2044,'(1) Project Reference Item List'!$B$2:$C$1000,2,FALSE)","v":{"$error":"#N/A"}},null,null,null,null,null,null,null,null,null,null,{"$f":"VLOOKUP(B2044,'(1) Project Reference Item List'!$B$2:$D$1000,3,FALSE)","v":{"$error":"#N/A"}},null,null,0,0]
[{"$f":"VLOOKUP(B2045,'(1) Project Reference Item List'!$B$2:$C$1000,2,FALSE)","v":{"$error":"#N/A"}},null,null,null,null,null,null,null,null,null,null,{"$f":"VLOOKUP(B2045,'(1) Project Reference Item List'!$B$2:$D$1000,3,FALSE)","v":{"$error":"#N/A"}},null,null,0,0]
[{"$f":"VLOOKUP(B2046,'(1) Project Reference Item List'!$B$2:$C$1000,2,FALSE)","v":{"$error":"#N/A"}},null,null,null,null,null,null,null,null,null,null,{"$f":"VLOOKUP(B2046,'(1) Project Reference Item List'!$B$2:$D$1000,3,FALSE)","v":{"$error":"#N/A"}},null,null,0,0]
[{"$f":"VLOOKUP(B2047,'(1) Project Reference Item List'!$B$2:$C$1000,2,FALSE)","v":{"$error":"#N/A"}},null,null,null,null,null,null,null,null,null,null,{"$f":"VLOOKUP(B2047,'(1) Project Reference Item List'!$B$2:$D$1000,3,FALSE)","v":{"$error":"#N/A"}},null,null,0,0]
[{"$f":"VLOOKUP(B2048,'(1) Project Reference Item List'!$B$2:$C$1000,2,FALSE)","v":{"$error":"#N/A"}},null,null,null,null,null,null,null,null,null,null,{"$f":"VLOOKUP(B2048,'(1) Project Reference Item List'!$B$2:$D$1000,3,FALSE)","v":{"$error":"#N/A"}},null,null,0,0]
[{"$f":"VLOOKUP(B2049,'(1) Project Reference Item List'!$B$2:$C$1000,2,FALSE)","v":{"$error":"#N/A"}},null,null,null,null,null,null,null,null,null,null,{"$f":"VLOOKUP(B2049,'(1) Project Reference Item List'!$B$2:$D$1000,3,FALSE)","v":{"$error":"#N/A"}},null,null,0,0]
[{"$f":"VLOOKUP(B2050,'(1) Project Reference Item List'!$B$2:$C$1000,2,FALSE)","v":{"$error":"#N/A"}},null,null,null,null,null,null,null,null,null,null,{"$f":"VLOOKUP(B2050,'(1) Project Reference Item List'!$B$2:$D$1000,3,FALSE)","v":{"$error":"#N/A"}},null,null,0,0]
[{"$f":"VLOOKUP(B2051,'(1) Project Reference Item List'!$B$2:$C$1000,2,FALSE)","v":{"$error":"#N/A"}},null,null,null,null,null,null,null,null,null,null,{"$f":"VLOOKUP(B2051,'(1) Project Reference Item List'!$B$2:$D$1000,3,FALSE)","v":{"$error":"#N/A"}},null,null,0,0]
[{"$f":"VLOOKUP(B2052,'(1) Project Reference Item List'!$B$2:$C$1000,2,FALSE)","v":{"$error":"#N/A"}},null,null,null,null,null,null,null,null,null,null,{"$f":"VLOOKUP(B2052,'(1) Project Reference Item List'!$B$2:$D$1000,3,FALSE)","v":{"$error":"#N/A"}},null,null,0,0]
[{"$f":"VLOOKUP(B2053,'(1) Project Reference Item List'!$B$2:$C$1000,2,FALSE)","v":{"$error":"#N/A"}},null,null,null,null,null,null,null,null,null,null,{"$f":"VLOOKUP(B2053,'(1) Project Reference Item List'!$B$2:$D$1000,3,FALSE)","v":{"$error":"#N/A"}},null,null,0,0]
[{"$f":"VLOOKUP(B2054,'(1) Project Reference Item List'!$B$2:$C$1000,2,FALSE)","v":{"$error":"#N/A"}},null,null,null,null,null,null,null,null,null,null,{"$f":"VLOOKUP(B2054,'(1) Project Reference Item List'!$B$2:$D$1000,3,FALSE)","v":{"$error":"#N/A"}},null,null,{"$f":"IF(J2054=0,J2054,J2054*N2054)","v":0},{"$f":"(M2054-O2054)","v":0}]
[{"$f":"VLOOKUP(B2055,'(1) Project Reference Item List'!$B$2:$C$1000,2,FALSE)","v":{"$error":"#N/A"}},null,null,null,null,null,null,null,null,null,null,{"$f":"VLOOKUP(B2055,'(1) Project Reference Item List'!$B$2:$D$1000,3,FALSE)","v":{"$error":"#N/A"}},null,null,0,0]
[{"$f":"VLOOKUP(B2056,'(1) Project Reference Item List'!$B$2:$C$1000,2,FALSE)","v":{"$error":"#N/A"}},null,null,null,null,null,null,null,null,null,null,{"$f":"VLOOKUP(B2056,'(1) Project Reference Item List'!$B$2:$D$1000,3,FALSE)","v":{"$error":"#N/A"}},null,null,0,0]
[{"$f":"VLOOKUP(B2057,'(1) Project Reference Item List'!$B$2:$C$1000,2,FALSE)","v":{"$error":"#N/A"}},null,null,null,null,null,null,null,null,null,null,{"$f":"VLOOKUP(B2057,'(1) Project Reference Item List'!$B$2:$D$1000,3,FALSE)","v":{"$error":"#N/A"}},null,null,0,0]
[{"$f":"VLOOKUP(B2058,'(1) Project Reference Item List'!$B$2:$C$1000,2,FALSE)","v":{"$error":"#N/A"}},null,null,null,null,null,null,null,null,null,null,{"$f":"VLOOKUP(B2058,'(1) Project Reference Item List'!$B$2:$D$1000,3,FALSE)","v":{"$error":"#N/A"}},null,null,0,0]
[{"$f":"VLOOKUP(B2059,'(1) Project Reference Item List'!$B$2:$C$1000,2,FALSE)","v":{"$error":"#N/A"}},null,null,null,null,null,null,null,null,null,null,{"$f":"VLOOKUP(B2059,'(1) Project Reference Item List'!$B$2:$D$1000,3,FALSE)","v":{"$error":"#N/A"}},null,null,0,0]
[{"$f":"VLOOKUP(B2060,'(1) Project Reference Item List'!$B$2:$C$1000,2,FALSE)","v":{"$error":"#N/A"}},null,null,null,null,null,null,null,null,null,null,{"$f":"VLOOKUP(B2060,'(1) Project Reference Item List'!$B$2:$D$1000,3,FALSE)","v":{"$error":"#N/A"}},null,null,0,0]
[{"$f":"VLOOKUP(B2061,'(1) Project Reference Item List'!$B$2:$C$1000,2,FALSE)","v":{"$error":"#N/A"}},null,null,null,null,null,null,null,null,null,null,{"$f":"VLOOKUP(B2061,'(1) Project Reference Item List'!$B$2:$D$1000,3,FALSE)","v":{"$error":"#N/A"}},null,null,0,0]
[{"$f":"VLOOKUP(B2062,'(1) Project Reference Item List'!$B$2:$C$1000,2,FALSE)","v":{"$error":"#N/A"}},null,null,null,null,null,null,null,null,null,null,{"$f":"VLOOKUP(B2062,'(1) Project Reference Item List'!$B$2:$D$1000,3,FALSE)","v":{"$error":"#N/A"}},null,null,0,0]
[{"$f":"VLOOKUP(B2063,'(1) Project Reference Item List'!$B$2:$C$1000,2,FALSE)","v":{"$error":"#N/A"}},null,null,null,null,null,null,null,null,null,null,{"$f":"VLOOKUP(B2063,'(1) Project Reference Item List'!$B$2:$D$1000,3,FALSE)","v":{"$error":"#N/A"}},null,null,0,0]
[{"$f":"VLOOKUP(B2064,'(1) Project Reference Item List'!$B$2:$C$1000,2,FALSE)","v":{"$error":"#N/A"}},null,null,null,null,null,null,null,null,null,null,{"$f":"VLOOKUP(B2064,'(1) Project Reference Item List'!$B$2:$D$1000,3,FALSE)","v":{"$error":"#N/A"}},null,null,0,0]
[{"$f":"VLOOKUP(B2065,'(1) Project Reference Item List'!$B$2:$C$1000,2,FALSE)","v":{"$error":"#N/A"}},null,null,null,null,null,null,null,null,null,null,{"$f":"VLOOKUP(B2065,'(1) Project Reference Item List'!$B$2:$D$1000,3,FALSE)","v":{"$error":"#N/A"}},null,null,0,0]
[{"$f":"VLOOKUP(B2066,'(1) Project Reference Item List'!$B$2:$C$1000,2,FALSE)","v":{"$error":"#N/A"}},null,null,null,null,null,null,null,null,null,null,{"$f":"VLOOKUP(B2066,'(1) Project Reference Item List'!$B$2:$D$1000,3,FALSE)","v":{"$error":"#N/A"}},null,null,0,0]
[{"$f":"VLOOKUP(B2067,'(1) Project Reference Item List'!$B$2:$C$1000,2,FALSE)","v":{"$error":"#N/A"}},null,null,null,null,null,null,null,null,null,null,{"$f":"VLOOKUP(B2067,'(1) Project Reference Item List'!$B$2:$D$1000,3,FALSE)","v":{"$error":"#N/A"}},null,null,0,0]
[{"$f":"VLOOKUP(B2068,'(1) Project Reference Item List'!$B$2:$C$1000,2,FALSE)","v":{"$error":"#N/A"}},null,null,null,null,null,null,null,null,null,null,{"$f":"VLOOKUP(B2068,'(1) Project Reference Item List'!$B$2:$D$1000,3,FALSE)","v":{"$error":"#N/A"}},null,null,0,0]
[{"$f":"VLOOKUP(B2069,'(1) Project Reference Item List'!$B$2:$C$1000,2,FALSE)","v":{"$error":"#N/A"}},null,null,null,null,null,null,null,null,null,null,{"$f":"VLOOKUP(B2069,'(1) Project Reference Item List'!$B$2:$D$1000,3,FALSE)","v":{"$error":"#N/A"}},null,null,0,0]
[{"$f":"VLOOKUP(B2070,'(1) Project Reference Item List'!$B$2:$C$1000,2,FALSE)","v":{"$error":"#N/A"}},null,null,null,null,null,null,null,null,null,null,{"$f":"VLOOKUP(B2070,'(1) Project Reference Item List'!$B$2:$D$1000,3,FALSE)","v":{"$error":"#N/A"}},null,null,0,0]
[{"$f":"VLOOKUP(B2071,'(1) Project Reference Item List'!$B$2:$C$1000,2,FALSE)","v":{"$error":"#N/A"}},null,null,null,null,null,null,null,null,null,null,{"$f":"VLOOKUP(B2071,'(1) Project Reference Item List'!$B$2:$D$1000,3,FALSE)","v":{"$error":"#N/A"}},null,null,0,0]
[{"$f":"VLOOKUP(B2072,'(1) Project Reference Item List'!$B$2:$C$1000,2,FALSE)","v":{"$error":"#N/A"}},null,null,null,null,null,null,null,null,null,null,{"$f":"VLOOKUP(B2072,'(1) Project Reference Item List'!$B$2:$D$1000,3,FALSE)","v":{"$error":"#N/A"}},null,null,0,0]
[{"$f":"VLOOKUP(B2073,'(1) Project Reference Item List'!$B$2:$C$1000,2,FALSE)","v":{"$error":"#N/A"}},null,null,null,null,null,null,null,null,null,null,{"$f":"VLOOKUP(B2073,'(1) Project Reference Item List'!$B$2:$D$1000,3,FALSE)","v":{"$error":"#N/A"}},null,null,0,0]
[{"$f":"VLOOKUP(B2074,'(1) Project Reference Item List'!$B$2:$C$1000,2,FALSE)","v":{"$error":"#N/A"}},null,null,null,null,null,null,null,null,null,null,{"$f":"VLOOKUP(B2074,'(1) Project Reference Item List'!$B$2:$D$1000,3,FALSE)","v":{"$error":"#N/A"}},null,null,0,0]
[{"$f":"VLOOKUP(B2075,'(1) Project Reference Item List'!$B$2:$C$1000,2,FALSE)","v":{"$error":"#N/A"}},null,null,null,null,null,null,null,null,null,null,{"$f":"VLOOKUP(B2075,'(1) Project Reference Item List'!$B$2:$D$1000,3,FALSE)","v":{"$error":"#N/A"}},null,null,0,0]
[{"$f":"VLOOKUP(B2076,'(1) Project Reference Item List'!$B$2:$C$1000,2,FALSE)","v":{"$error":"#N/A"}},null,null,null,null,null,null,null,null,null,null,{"$f":"VLOOKUP(B2076,'(1) Project Reference Item List'!$B$2:$D$1000,3,FALSE)","v":{"$error":"#N/A"}},null,null,0,0]
[{"$f":"VLOOKUP(B2077,'(1) Project Reference Item List'!$B$2:$C$1000,2,FALSE)","v":{"$error":"#N/A"}},null,null,null,null,null,null,null,null,null,null,{"$f":"VLOOKUP(B2077,'(1) Project Reference Item List'!$B$2:$D$1000,3,FALSE)","v":{"$error":"#N/A"}},null,null,0,0]
[{"$f":"VLOOKUP(B2078,'(1) Project Reference Item List'!$B$2:$C$1000,2,FALSE)","v":{"$error":"#N/A"}},null,null,null,null,null,null,null,null,null,null,{"$f":"VLOOKUP(B2078,'(1) Project Reference Item List'!$B$2:$D$1000,3,FALSE)","v":{"$error":"#N/A"}},null,null,0,0]
[{"$f":"VLOOKUP(B2079,'(1) Project Reference Item List'!$B$2:$C$1000,2,FALSE)","v":{"$error":"#N/A"}},null,null,null,null,null,null,null,null,null,null,{"$f":"VLOOKUP(B2079,'(1) Project Reference Item List'!$B$2:$D$1000,3,FALSE)","v":{"$error":"#N/A"}},null,null,0,0]
[{"$f":"VLOOKUP(B2080,'(1) Project Reference Item List'!$B$2:$C$1000,2,FALSE)","v":{"$error":"#N/A"}},null,null,null,null,null,null,null,null,null,null,{"$f":"VLOOKUP(B2080,'(1) Project Reference Item List'!$B$2:$D$1000,3,FALSE)","v":{"$error":"#N/A"}},null,null,0,0]
[{"$f":"VLOOKUP(B2081,'(1) Project Reference Item List'!$B$2:$C$1000,2,FALSE)","v":{"$error":"#N/A"}},null,null,null,null,null,null,null,null,null,null,{"$f":"VLOOKUP(B2081,'(1) Project Reference Item List'!$B$2:$D$1000,3,FALSE)","v":{"$error":"#N/A"}},null,null,0,0]
[{"$f":"VLOOKUP(B2082,'(1) Project Reference Item List'!$B$2:$C$1000,2,FALSE)","v":{"$error":"#N/A"}},null,null,null,null,null,null,null,null,null,null,{"$f":"VLOOKUP(B2082,'(1) Project Reference Item List'!$B$2:$D$1000,3,FALSE)","v":{"$error":"#N/A"}},null,null,0,0]
[{"$f":"VLOOKUP(B2083,'(1) Project Reference Item List'!$B$2:$C$1000,2,FALSE)","v":{"$error":"#N/A"}},null,null,null,null,null,null,null,null,null,null,{"$f":"VLOOKUP(B2083,'(1) Project Reference Item List'!$B$2:$D$1000,3,FALSE)","v":{"$error":"#N/A"}},null,null,0,0]
[{"$f":"VLOOKUP(B2084,'(1) Project Reference Item List'!$B$2:$C$1000,2,FALSE)","v":{"$error":"#N/A"}},null,null,null,null,null,null,null,null,null,null,{"$f":"VLOOKUP(B2084,'(1) Project Reference Item List'!$B$2:$D$1000,3,FALSE)","v":{"$error":"#N/A"}},null,null,0,0]
[{"$f":"VLOOKUP(B2085,'(1) Project Reference Item List'!$B$2:$C$1000,2,FALSE)","v":{"$error":"#N/A"}},null,null,null,null,null,null,null,null,null,null,{"$f":"VLOOKUP(B2085,'(1) Project Reference Item List'!$B$2:$D$1000,3,FALSE)","v":{"$error":"#N/A"}},null,null,0,0]
[{"$f":"VLOOKUP(B2086,'(1) Project Reference Item List'!$B$2:$C$1000,2,FALSE)","v":{"$error":"#N/A"}},null,null,null,null,null,null,null,null,null,null,{"$f":"VLOOKUP(B2086,'(1) Project Reference Item List'!$B$2:$D$1000,3,FALSE)","v":{"$error":"#N/A"}},null,null,0,0]
[{"$f":"VLOOKUP(B2087,'(1) Project Reference Item List'!$B$2:$C$1000,2,FALSE)","v":{"$error":"#N/A"}},null,null,null,null,null,null,null,null,null,null,{"$f":"VLOOKUP(B2087,'(1) Project Reference Item List'!$B$2:$D$1000,3,FALSE)","v":{"$error":"#N/A"}},null,null,0,0]
[{"$f":"VLOOKUP(B2088,'(1) Project Reference Item List'!$B$2:$C$1000,2,FALSE)","v":{"$error":"#N/A"}},null,null,null,null,null,null,null,null,null,null,{"$f":"VLOOKUP(B2088,'(1) Project Reference Item List'!$B$2:$D$1000,3,FALSE)","v":{"$error":"#N/A"}},null,null,0,0]
[{"$f":"VLOOKUP(B2089,'(1) Project Reference Item List'!$B$2:$C$1000,2,FALSE)","v":{"$error":"#N/A"}},null,null,null,null,null,null,null,null,null,null,{"$f":"VLOOKUP(B2089,'(1) Project Reference Item List'!$B$2:$D$1000,3,FALSE)","v":{"$error":"#N/A"}},null,null,0,0]
[{"$f":"VLOOKUP(B2090,'(1) Project Reference Item List'!$B$2:$C$1000,2,FALSE)","v":{"$error":"#N/A"}},null,null,null,null,null,null,null,null,null,null,{"$f":"VLOOKUP(B2090,'(1) Project Reference Item List'!$B$2:$D$1000,3,FALSE)","v":{"$error":"#N/A"}},null,null,0,0]
[{"$f":"VLOOKUP(B2091,'(1) Project Reference Item List'!$B$2:$C$1000,2,FALSE)","v":{"$error":"#N/A"}},null,null,null,null,null,null,null,null,null,null,{"$f":"VLOOKUP(B2091,'(1) Project Reference Item List'!$B$2:$D$1000,3,FALSE)","v":{"$error":"#N/A"}},null,null,0,0]
[{"$f":"VLOOKUP(B2092,'(1) Project Reference Item List'!$B$2:$C$1000,2,FALSE)","v":{"$error":"#N/A"}},null,null,null,null,null,null,null,null,null,null,{"$f":"VLOOKUP(B2092,'(1) Project Reference Item List'!$B$2:$D$1000,3,FALSE)","v":{"$error":"#N/A"}},null,null,0,0]
[{"$f":"VLOOKUP(B2093,'(1) Project Reference Item List'!$B$2:$C$1000,2,FALSE)","v":{"$error":"#N/A"}},null,null,null,null,null,null,null,null,null,null,{"$f":"VLOOKUP(B2093,'(1) Project Reference Item List'!$B$2:$D$1000,3,FALSE)","v":{"$error":"#N/A"}},null,null,0,0]
[{"$f":"VLOOKUP(B2094,'(1) Project Reference Item List'!$B$2:$C$1000,2,FALSE)","v":{"$error":"#N/A"}},null,null,null,null,null,null,null,null,null,null,{"$f":"VLOOKUP(B2094,'(1) Project Reference Item List'!$B$2:$D$1000,3,FALSE)","v":{"$error":"#N/A"}},null,null,0,0]
[{"$f":"VLOOKUP(B2095,'(1) Project Reference Item List'!$B$2:$C$1000,2,FALSE)","v":{"$error":"#N/A"}},null,null,null,null,null,null,null,null,null,null,{"$f":"VLOOKUP(B2095,'(1) Project Reference Item List'!$B$2:$D$1000,3,FALSE)","v":{"$error":"#N/A"}},null,null,0,0]
[{"$f":"VLOOKUP(B2096,'(1) Project Reference Item List'!$B$2:$C$1000,2,FALSE)","v":{"$error":"#N/A"}},null,null,null,null,null,null,null,null,null,null,{"$f":"VLOOKUP(B2096,'(1) Project Reference Item List'!$B$2:$D$1000,3,FALSE)","v":{"$error":"#N/A"}},null,null,0,0]
[{"$f":"VLOOKUP(B2097,'(1) Project Reference Item List'!$B$2:$C$1000,2,FALSE)","v":{"$error":"#N/A"}},null,null,null,null,null,null,null,null,null,null,{"$f":"VLOOKUP(B2097,'(1) Project Reference Item List'!$B$2:$D$1000,3,FALSE)","v":{"$error":"#N/A"}},null,null,0,0]
[{"$f":"VLOOKUP(B2098,'(1) Project Reference Item List'!$B$2:$C$1000,2,FALSE)","v":{"$error":"#N/A"}},null,null,null,null,null,null,null,null,null,null,{"$f":"VLOOKUP(B2098,'(1) Project Reference Item List'!$B$2:$D$1000,3,FALSE)","v":{"$error":"#N/A"}},null,null,0,0]
[{"$f":"VLOOKUP(B2099,'(1) Project Reference Item List'!$B$2:$C$1000,2,FALSE)","v":{"$error":"#N/A"}},null,null,null,null,null,null,null,null,null,null,{"$f":"VLOOKUP(B2099,'(1) Project Reference Item List'!$B$2:$D$1000,3,FALSE)","v":{"$error":"#N/A"}},null,null,0,0]
[{"$f":"VLOOKUP(B2100,'(1) Project Reference Item List'!$B$2:$C$1000,2,FALSE)","v":{"$error":"#N/A"}},null,null,null,null,null,null,null,null,null,null,{"$f":"VLOOKUP(B2100,'(1) Project Reference Item List'!$B$2:$D$1000,3,FALSE)","v":{"$error":"#N/A"}},null,null,0,0]
[{"$f":"VLOOKUP(B2101,'(1) Project Reference Item List'!$B$2:$C$1000,2,FALSE)","v":{"$error":"#N/A"}},null,null,null,null,null,null,null,null,null,null,{"$f":"VLOOKUP(B2101,'(1) Project Reference Item List'!$B$2:$D$1000,3,FALSE)","v":{"$error":"#N/A"}},null,null,0,0]
[{"$f":"VLOOKUP(B2102,'(1) Project Reference Item List'!$B$2:$C$1000,2,FALSE)","v":{"$error":"#N/A"}},null,null,null,null,null,null,null,null,null,null,{"$f":"VLOOKUP(B2102,'(1) Project Reference Item List'!$B$2:$D$1000,3,FALSE)","v":{"$error":"#N/A"}},null,null,0,0]
[{"$f":"VLOOKUP(B2103,'(1) Project Reference Item List'!$B$2:$C$1000,2,FALSE)","v":{"$error":"#N/A"}},null,null,null,null,null,null,null,null,null,null,{"$f":"VLOOKUP(B2103,'(1) Project Reference Item List'!$B$2:$D$1000,3,FALSE)","v":{"$error":"#N/A"}},null,null,0,0]
[{"$f":"VLOOKUP(B2104,'(1) Project Reference Item List'!$B$2:$C$1000,2,FALSE)","v":{"$error":"#N/A"}},null,null,null,null,null,null,null,null,null,null,{"$f":"VLOOKUP(B2104,'(1) Project Reference Item List'!$B$2:$D$1000,3,FALSE)","v":{"$error":"#N/A"}},null,null,0,0]
[{"$f":"VLOOKUP(B2105,'(1) Project Reference Item List'!$B$2:$C$1000,2,FALSE)","v":{"$error":"#N/A"}},null,null,null,null,null,null,null,null,null,null,{"$f":"VLOOKUP(B2105,'(1) Project Reference Item List'!$B$2:$D$1000,3,FALSE)","v":{"$error":"#N/A"}},null,null,0,0]
[{"$f":"VLOOKUP(B2106,'(1) Project Reference Item List'!$B$2:$C$1000,2,FALSE)","v":{"$error":"#N/A"}},null,null,null,null,null,null,null,null,null,null,{"$f":"VLOOKUP(B2106,'(1) Project Reference Item List'!$B$2:$D$1000,3,FALSE)","v":{"$error":"#N/A"}},null,null,0,0]
[{"$f":"VLOOKUP(B2107,'(1) Project Reference Item List'!$B$2:$C$1000,2,FALSE)","v":{"$error":"#N/A"}},null,null,null,null,null,null,null,null,null,null,{"$f":"VLOOKUP(B2107,'(1) Project Reference Item List'!$B$2:$D$1000,3,FALSE)","v":{"$error":"#N/A"}},null,null,0,0]
[{"$f":"VLOOKUP(B2108,'(1) Project Reference Item List'!$B$2:$C$1000,2,FALSE)","v":{"$error":"#N/A"}},null,null,null,null,null,null,null,null,null,null,{"$f":"VLOOKUP(B2108,'(1) Project Reference Item List'!$B$2:$D$1000,3,FALSE)","v":{"$error":"#N/A"}},null,null,0,0]
[{"$f":"VLOOKUP(B2109,'(1) Project Reference Item List'!$B$2:$C$1000,2,FALSE)","v":{"$error":"#N/A"}},null,null,null,null,null,null,null,null,null,null,{"$f":"VLOOKUP(B2109,'(1) Project Reference Item List'!$B$2:$D$1000,3,FALSE)","v":{"$error":"#N/A"}},null,null,0,0]
[{"$f":"VLOOKUP(B2110,'(1) Project Reference Item List'!$B$2:$C$1000,2,FALSE)","v":{"$error":"#N/A"}},null,null,null,null,null,null,null,null,null,null,{"$f":"VLOOKUP(B2110,'(1) Project Reference Item List'!$B$2:$D$1000,3,FALSE)","v":{"$error":"#N/A"}},null,null,0,0]
[{"$f":"VLOOKUP(B2111,'(1) Project Reference Item List'!$B$2:$C$1000,2,FALSE)","v":{"$error":"#N/A"}},null,null,null,null,null,null,null,null,null,null,{"$f":"VLOOKUP(B2111,'(1) Project Reference Item List'!$B$2:$D$1000,3,FALSE)","v":{"$error":"#N/A"}},null,null,0,0]
[{"$f":"VLOOKUP(B2112,'(1) Project Reference Item List'!$B$2:$C$1000,2,FALSE)","v":{"$error":"#N/A"}},null,null,null,null,null,null,null,null,null,null,{"$f":"VLOOKUP(B2112,'(1) Project Reference Item List'!$B$2:$D$1000,3,FALSE)","v":{"$error":"#N/A"}},null,null,0,0]
[{"$f":"VLOOKUP(B2113,'(1) Project Reference Item List'!$B$2:$C$1000,2,FALSE)","v":{"$error":"#N/A"}},null,null,null,null,null,null,null,null,null,null,{"$f":"VLOOKUP(B2113,'(1) Project Reference Item List'!$B$2:$D$1000,3,FALSE)","v":{"$error":"#N/A"}},null,null,0,0]
[{"$f":"VLOOKUP(B2114,'(1) Project Reference Item List'!$B$2:$C$1000,2,FALSE)","v":{"$error":"#N/A"}},null,null,null,null,null,null,null,null,null,null,{"$f":"VLOOKUP(B2114,'(1) Project Reference Item List'!$B$2:$D$1000,3,FALSE)","v":{"$error":"#N/A"}},null,null,0,0]
[{"$f":"VLOOKUP(B2115,'(1) Project Reference Item List'!$B$2:$C$1000,2,FALSE)","v":{"$error":"#N/A"}},null,null,null,null,null,null,null,null,null,null,{"$f":"VLOOKUP(B2115,'(1) Project Reference Item List'!$B$2:$D$1000,3,FALSE)","v":{"$error":"#N/A"}},null,null,0,0]
[{"$f":"VLOOKUP(B2116,'(1) Project Reference Item List'!$B$2:$C$1000,2,FALSE)","v":{"$error":"#N/A"}},null,null,null,null,null,null,null,null,null,null,{"$f":"VLOOKUP(B2116,'(1) Project Reference Item List'!$B$2:$D$1000,3,FALSE)","v":{"$error":"#N/A"}},null,null,0,0]
[{"$f":"VLOOKUP(B2117,'(1) Project Reference Item List'!$B$2:$C$1000,2,FALSE)","v":{"$error":"#N/A"}},null,null,null,null,null,null,null,null,null,null,{"$f":"VLOOKUP(B2117,'(1) Project Reference Item List'!$B$2:$D$1000,3,FALSE)","v":{"$error":"#N/A"}},null,null,0,0]
[{"$f":"VLOOKUP(B2118,'(1) Project Reference Item List'!$B$2:$C$1000,2,FALSE)","v":{"$error":"#N/A"}},null,null,null,null,null,null,null,null,null,null,{"$f":"VLOOKUP(B2118,'(1) Project Reference Item List'!$B$2:$D$1000,3,FALSE)","v":{"$error":"#N/A"}},null,null,{"$f":"IF(J2118=0,J2118,J2118*N2118)","v":0},{"$f":"(M2118-O2118)","v":0}]
[{"$f":"VLOOKUP(B2119,'(1) Project Reference Item List'!$B$2:$C$1000,2,FALSE)","v":{"$error":"#N/A"}},null,null,null,null,null,null,null,null,null,null,{"$f":"VLOOKUP(B2119,'(1) Project Reference Item List'!$B$2:$D$1000,3,FALSE)","v":{"$error":"#N/A"}},null,null,0,0]
[{"$f":"VLOOKUP(B2120,'(1) Project Reference Item List'!$B$2:$C$1000,2,FALSE)","v":{"$error":"#N/A"}},null,null,null,null,null,null,null,null,null,null,{"$f":"VLOOKUP(B2120,'(1) Project Reference Item List'!$B$2:$D$1000,3,FALSE)","v":{"$error":"#N/A"}},null,null,0,0]
[{"$f":"VLOOKUP(B2121,'(1) Project Reference Item List'!$B$2:$C$1000,2,FALSE)","v":{"$error":"#N/A"}},null,null,null,null,null,null,null,null,null,null,{"$f":"VLOOKUP(B2121,'(1) Project Reference Item List'!$B$2:$D$1000,3,FALSE)","v":{"$error":"#N/A"}},null,null,0,0]
[{"$f":"VLOOKUP(B2122,'(1) Project Reference Item List'!$B$2:$C$1000,2,FALSE)","v":{"$error":"#N/A"}},null,null,null,null,null,null,null,null,null,null,{"$f":"VLOOKUP(B2122,'(1) Project Reference Item List'!$B$2:$D$1000,3,FALSE)","v":{"$error":"#N/A"}},null,null,0,0]
[{"$f":"VLOOKUP(B2123,'(1) Project Reference Item List'!$B$2:$C$1000,2,FALSE)","v":{"$error":"#N/A"}},null,null,null,null,null,null,null,null,null,null,{"$f":"VLOOKUP(B2123,'(1) Project Reference Item List'!$B$2:$D$1000,3,FALSE)","v":{"$error":"#N/A"}},null,null,0,0]
[{"$f":"VLOOKUP(B2124,'(1) Project Reference Item List'!$B$2:$C$1000,2,FALSE)","v":{"$error":"#N/A"}},null,null,null,null,null,null,null,null,null,null,{"$f":"VLOOKUP(B2124,'(1) Project Reference Item List'!$B$2:$D$1000,3,FALSE)","v":{"$error":"#N/A"}},null,null,0,0]
[{"$f":"VLOOKUP(B2125,'(1) Project Reference Item List'!$B$2:$C$1000,2,FALSE)","v":{"$error":"#N/A"}},null,null,null,null,null,null,null,null,null,null,{"$f":"VLOOKUP(B2125,'(1) Project Reference Item List'!$B$2:$D$1000,3,FALSE)","v":{"$error":"#N/A"}},null,null,0,0]
[{"$f":"VLOOKUP(B2126,'(1) Project Reference Item List'!$B$2:$C$1000,2,FALSE)","v":{"$error":"#N/A"}},null,null,null,null,null,null,null,null,null,null,{"$f":"VLOOKUP(B2126,'(1) Project Reference Item List'!$B$2:$D$1000,3,FALSE)","v":{"$error":"#N/A"}},null,null,0,0]
[{"$f":"VLOOKUP(B2127,'(1) Project Reference Item List'!$B$2:$C$1000,2,FALSE)","v":{"$error":"#N/A"}},null,null,null,null,null,null,null,null,null,null,{"$f":"VLOOKUP(B2127,'(1) Project Reference Item List'!$B$2:$D$1000,3,FALSE)","v":{"$error":"#N/A"}},null,null,0,0]
[{"$f":"VLOOKUP(B2128,'(1) Project Reference Item List'!$B$2:$C$1000,2,FALSE)","v":{"$error":"#N/A"}},null,null,null,null,null,null,null,null,null,null,{"$f":"VLOOKUP(B2128,'(1) Project Reference Item List'!$B$2:$D$1000,3,FALSE)","v":{"$error":"#N/A"}},null,null,0,0]
[{"$f":"VLOOKUP(B2129,'(1) Project Reference Item List'!$B$2:$C$1000,2,FALSE)","v":{"$error":"#N/A"}},null,null,null,null,null,null,null,null,null,null,{"$f":"VLOOKUP(B2129,'(1) Project Reference Item List'!$B$2:$D$1000,3,FALSE)","v":{"$error":"#N/A"}},null,null,0,0]
[{"$f":"VLOOKUP(B2130,'(1) Project Reference Item List'!$B$2:$C$1000,2,FALSE)","v":{"$error":"#N/A"}},null,null,null,null,null,null,null,null,null,null,{"$f":"VLOOKUP(B2130,'(1) Project Reference Item List'!$B$2:$D$1000,3,FALSE)","v":{"$error":"#N/A"}},null,null,0,0]
[{"$f":"VLOOKUP(B2131,'(1) Project Reference Item List'!$B$2:$C$1000,2,FALSE)","v":{"$error":"#N/A"}},null,null,null,null,null,null,null,null,null,null,{"$f":"VLOOKUP(B2131,'(1) Project Reference Item List'!$B$2:$D$1000,3,FALSE)","v":{"$error":"#N/A"}},null,null,0,0]
[{"$f":"VLOOKUP(B2132,'(1) Project Reference Item List'!$B$2:$C$1000,2,FALSE)","v":{"$error":"#N/A"}},null,null,null,null,null,null,null,null,null,null,{"$f":"VLOOKUP(B2132,'(1) Project Reference Item List'!$B$2:$D$1000,3,FALSE)","v":{"$error":"#N/A"}},null,null,0,0]
[{"$f":"VLOOKUP(B2133,'(1) Project Reference Item List'!$B$2:$C$1000,2,FALSE)","v":{"$error":"#N/A"}},null,null,null,null,null,null,null,null,null,null,{"$f":"VLOOKUP(B2133,'(1) Project Reference Item List'!$B$2:$D$1000,3,FALSE)","v":{"$error":"#N/A"}},null,null,0,0]
[{"$f":"VLOOKUP(B2134,'(1) Project Reference Item List'!$B$2:$C$1000,2,FALSE)","v":{"$error":"#N/A"}},null,null,null,null,null,null,null,null,null,null,{"$f":"VLOOKUP(B2134,'(1) Project Reference Item List'!$B$2:$D$1000,3,FALSE)","v":{"$error":"#N/A"}},null,null,0,0]
[{"$f":"VLOOKUP(B2135,'(1) Project Reference Item List'!$B$2:$C$1000,2,FALSE)","v":{"$error":"#N/A"}},null,null,null,null,null,null,null,null,null,null,{"$f":"VLOOKUP(B2135,'(1) Project Reference Item List'!$B$2:$D$1000,3,FALSE)","v":{"$error":"#N/A"}},null,null,0,0]
[{"$f":"VLOOKUP(B2136,'(1) Project Reference Item List'!$B$2:$C$1000,2,FALSE)","v":{"$error":"#N/A"}},null,null,null,null,null,null,null,null,null,null,{"$f":"VLOOKUP(B2136,'(1) Project Reference Item List'!$B$2:$D$1000,3,FALSE)","v":{"$error":"#N/A"}},null,null,0,0]
[{"$f":"VLOOKUP(B2137,'(1) Project Reference Item List'!$B$2:$C$1000,2,FALSE)","v":{"$error":"#N/A"}},null,null,null,null,null,null,null,null,null,null,{"$f":"VLOOKUP(B2137,'(1) Project Reference Item List'!$B$2:$D$1000,3,FALSE)","v":{"$error":"#N/A"}},null,null,0,0]
[{"$f":"VLOOKUP(B2138,'(1) Project Reference Item List'!$B$2:$C$1000,2,FALSE)","v":{"$error":"#N/A"}},null,null,null,null,null,null,null,null,null,null,{"$f":"VLOOKUP(B2138,'(1) Project Reference Item List'!$B$2:$D$1000,3,FALSE)","v":{"$error":"#N/A"}},null,null,0,0]
[{"$f":"VLOOKUP(B2139,'(1) Project Reference Item List'!$B$2:$C$1000,2,FALSE)","v":{"$error":"#N/A"}},null,null,null,null,null,null,null,null,null,null,{"$f":"VLOOKUP(B2139,'(1) Project Reference Item List'!$B$2:$D$1000,3,FALSE)","v":{"$error":"#N/A"}},null,null,0,0]
[{"$f":"VLOOKUP(B2140,'(1) Project Reference Item List'!$B$2:$C$1000,2,FALSE)","v":{"$error":"#N/A"}},null,null,null,null,null,null,null,null,null,null,{"$f":"VLOOKUP(B2140,'(1) Project Reference Item List'!$B$2:$D$1000,3,FALSE)","v":{"$error":"#N/A"}},null,null,0,0]
[{"$f":"VLOOKUP(B2141,'(1) Project Reference Item List'!$B$2:$C$1000,2,FALSE)","v":{"$error":"#N/A"}},null,null,null,null,null,null,null,null,null,null,{"$f":"VLOOKUP(B2141,'(1) Project Reference Item List'!$B$2:$D$1000,3,FALSE)","v":{"$error":"#N/A"}},null,null,0,0]
[{"$f":"VLOOKUP(B2142,'(1) Project Reference Item List'!$B$2:$C$1000,2,FALSE)","v":{"$error":"#N/A"}},null,null,null,null,null,null,null,null,null,null,{"$f":"VLOOKUP(B2142,'(1) Project Reference Item List'!$B$2:$D$1000,3,FALSE)","v":{"$error":"#N/A"}},null,null,0,0]
[{"$f":"VLOOKUP(B2143,'(1) Project Reference Item List'!$B$2:$C$1000,2,FALSE)","v":{"$error":"#N/A"}},null,null,null,null,null,null,null,null,null,null,{"$f":"VLOOKUP(B2143,'(1) Project Reference Item List'!$B$2:$D$1000,3,FALSE)","v":{"$error":"#N/A"}},null,null,0,0]
[{"$f":"VLOOKUP(B2144,'(1) Project Reference Item List'!$B$2:$C$1000,2,FALSE)","v":{"$error":"#N/A"}},null,null,null,null,null,null,null,null,null,null,{"$f":"VLOOKUP(B2144,'(1) Project Reference Item List'!$B$2:$D$1000,3,FALSE)","v":{"$error":"#N/A"}},null,null,0,0]
[{"$f":"VLOOKUP(B2145,'(1) Project Reference Item List'!$B$2:$C$1000,2,FALSE)","v":{"$error":"#N/A"}},null,null,null,null,null,null,null,null,null,null,{"$f":"VLOOKUP(B2145,'(1) Project Reference Item List'!$B$2:$D$1000,3,FALSE)","v":{"$error":"#N/A"}},null,null,0,0]
[{"$f":"VLOOKUP(B2146,'(1) Project Reference Item List'!$B$2:$C$1000,2,FALSE)","v":{"$error":"#N/A"}},null,null,null,null,null,null,null,null,null,null,{"$f":"VLOOKUP(B2146,'(1) Project Reference Item List'!$B$2:$D$1000,3,FALSE)","v":{"$error":"#N/A"}},null,null,0,0]
[{"$f":"VLOOKUP(B2147,'(1) Project Reference Item List'!$B$2:$C$1000,2,FALSE)","v":{"$error":"#N/A"}},null,null,null,null,null,null,null,null,null,null,{"$f":"VLOOKUP(B2147,'(1) Project Reference Item List'!$B$2:$D$1000,3,FALSE)","v":{"$error":"#N/A"}},null,null,0,0]
[{"$f":"VLOOKUP(B2148,'(1) Project Reference Item List'!$B$2:$C$1000,2,FALSE)","v":{"$error":"#N/A"}},null,null,null,null,null,null,null,null,null,null,{"$f":"VLOOKUP(B2148,'(1) Project Reference Item List'!$B$2:$D$1000,3,FALSE)","v":{"$error":"#N/A"}},null,null,0,0]
[{"$f":"VLOOKUP(B2149,'(1) Project Reference Item List'!$B$2:$C$1000,2,FALSE)","v":{"$error":"#N/A"}},null,null,null,null,null,null,null,null,null,null,{"$f":"VLOOKUP(B2149,'(1) Project Reference Item List'!$B$2:$D$1000,3,FALSE)","v":{"$error":"#N/A"}},null,null,0,0]
[{"$f":"VLOOKUP(B2150,'(1) Project Reference Item List'!$B$2:$C$1000,2,FALSE)","v":{"$error":"#N/A"}},null,null,null,null,null,null,null,null,null,null,{"$f":"VLOOKUP(B2150,'(1) Project Reference Item List'!$B$2:$D$1000,3,FALSE)","v":{"$error":"#N/A"}},null,null,0,0]
[{"$f":"VLOOKUP(B2151,'(1) Project Reference Item List'!$B$2:$C$1000,2,FALSE)","v":{"$error":"#N/A"}},null,null,null,null,null,null,null,null,null,null,{"$f":"VLOOKUP(B2151,'(1) Project Reference Item List'!$B$2:$D$1000,3,FALSE)","v":{"$error":"#N/A"}},null,null,0,0]
[{"$f":"VLOOKUP(B2152,'(1) Project Reference Item List'!$B$2:$C$1000,2,FALSE)","v":{"$error":"#N/A"}},null,null,null,null,null,null,null,null,null,null,{"$f":"VLOOKUP(B2152,'(1) Project Reference Item List'!$B$2:$D$1000,3,FALSE)","v":{"$error":"#N/A"}},null,null,0,0]
[{"$f":"VLOOKUP(B2153,'(1) Project Reference Item List'!$B$2:$C$1000,2,FALSE)","v":{"$error":"#N/A"}},null,null,null,null,null,null,null,null,null,null,{"$f":"VLOOKUP(B2153,'(1) Project Reference Item List'!$B$2:$D$1000,3,FALSE)","v":{"$error":"#N/A"}},null,null,0,0]
[{"$f":"VLOOKUP(B2154,'(1) Project Reference Item List'!$B$2:$C$1000,2,FALSE)","v":{"$error":"#N/A"}},null,null,null,null,null,null,null,null,null,null,{"$f":"VLOOKUP(B2154,'(1) Project Reference Item List'!$B$2:$D$1000,3,FALSE)","v":{"$error":"#N/A"}},null,null,0,0]
[{"$f":"VLOOKUP(B2155,'(1) Project Reference Item List'!$B$2:$C$1000,2,FALSE)","v":{"$error":"#N/A"}},null,null,null,null,null,null,null,null,null,null,{"$f":"VLOOKUP(B2155,'(1) Project Reference Item List'!$B$2:$D$1000,3,FALSE)","v":{"$error":"#N/A"}},null,null,0,0]
[{"$f":"VLOOKUP(B2156,'(1) Project Reference Item List'!$B$2:$C$1000,2,FALSE)","v":{"$error":"#N/A"}},null,null,null,null,null,null,null,null,null,null,{"$f":"VLOOKUP(B2156,'(1) Project Reference Item List'!$B$2:$D$1000,3,FALSE)","v":{"$error":"#N/A"}},null,null,0,0]
[{"$f":"VLOOKUP(B2157,'(1) Project Reference Item List'!$B$2:$C$1000,2,FALSE)","v":{"$error":"#N/A"}},null,null,null,null,null,null,null,null,null,null,{"$f":"VLOOKUP(B2157,'(1) Project Reference Item List'!$B$2:$D$1000,3,FALSE)","v":{"$error":"#N/A"}},null,null,0,0]
[{"$f":"VLOOKUP(B2158,'(1) Project Reference Item List'!$B$2:$C$1000,2,FALSE)","v":{"$error":"#N/A"}},null,null,null,null,null,null,null,null,null,null,{"$f":"VLOOKUP(B2158,'(1) Project Reference Item List'!$B$2:$D$1000,3,FALSE)","v":{"$error":"#N/A"}},null,null,0,0]
[{"$f":"VLOOKUP(B2159,'(1) Project Reference Item List'!$B$2:$C$1000,2,FALSE)","v":{"$error":"#N/A"}},null,null,null,null,null,null,null,null,null,null,{"$f":"VLOOKUP(B2159,'(1) Project Reference Item List'!$B$2:$D$1000,3,FALSE)","v":{"$error":"#N/A"}},null,null,0,0]
[{"$f":"VLOOKUP(B2160,'(1) Project Reference Item List'!$B$2:$C$1000,2,FALSE)","v":{"$error":"#N/A"}},null,null,null,null,null,null,null,null,null,null,{"$f":"VLOOKUP(B2160,'(1) Project Reference Item List'!$B$2:$D$1000,3,FALSE)","v":{"$error":"#N/A"}},null,null,0,0]
[{"$f":"VLOOKUP(B2161,'(1) Project Reference Item List'!$B$2:$C$1000,2,FALSE)","v":{"$error":"#N/A"}},null,null,null,null,null,null,null,null,null,null,{"$f":"VLOOKUP(B2161,'(1) Project Reference Item List'!$B$2:$D$1000,3,FALSE)","v":{"$error":"#N/A"}},null,null,0,0]
[{"$f":"VLOOKUP(B2162,'(1) Project Reference Item List'!$B$2:$C$1000,2,FALSE)","v":{"$error":"#N/A"}},null,null,null,null,null,null,null,null,null,null,{"$f":"VLOOKUP(B2162,'(1) Project Reference Item List'!$B$2:$D$1000,3,FALSE)","v":{"$error":"#N/A"}},null,null,0,0]
[{"$f":"VLOOKUP(B2163,'(1) Project Reference Item List'!$B$2:$C$1000,2,FALSE)","v":{"$error":"#N/A"}},null,null,null,null,null,null,null,null,null,null,{"$f":"VLOOKUP(B2163,'(1) Project Reference Item List'!$B$2:$D$1000,3,FALSE)","v":{"$error":"#N/A"}},null,null,0,0]
[{"$f":"VLOOKUP(B2164,'(1) Project Reference Item List'!$B$2:$C$1000,2,FALSE)","v":{"$error":"#N/A"}},null,null,null,null,null,null,null,null,null,null,{"$f":"VLOOKUP(B2164,'(1) Project Reference Item List'!$B$2:$D$1000,3,FALSE)","v":{"$error":"#N/A"}},null,null,0,0]
[{"$f":"VLOOKUP(B2165,'(1) Project Reference Item List'!$B$2:$C$1000,2,FALSE)","v":{"$error":"#N/A"}},null,null,null,null,null,null,null,null,null,null,{"$f":"VLOOKUP(B2165,'(1) Project Reference Item List'!$B$2:$D$1000,3,FALSE)","v":{"$error":"#N/A"}},null,null,0,0]
[{"$f":"VLOOKUP(B2166,'(1) Project Reference Item List'!$B$2:$C$1000,2,FALSE)","v":{"$error":"#N/A"}},null,null,null,null,null,null,null,null,null,null,{"$f":"VLOOKUP(B2166,'(1) Project Reference Item List'!$B$2:$D$1000,3,FALSE)","v":{"$error":"#N/A"}},null,null,0,0]
[{"$f":"VLOOKUP(B2167,'(1) Project Reference Item List'!$B$2:$C$1000,2,FALSE)","v":{"$error":"#N/A"}},null,null,null,null,null,null,null,null,null,null,{"$f":"VLOOKUP(B2167,'(1) Project Reference Item List'!$B$2:$D$1000,3,FALSE)","v":{"$error":"#N/A"}},null,null,0,0]
[{"$f":"VLOOKUP(B2168,'(1) Project Reference Item List'!$B$2:$C$1000,2,FALSE)","v":{"$error":"#N/A"}},null,null,null,null,null,null,null,null,null,null,{"$f":"VLOOKUP(B2168,'(1) Project Reference Item List'!$B$2:$D$1000,3,FALSE)","v":{"$error":"#N/A"}},null,null,0,0]
[{"$f":"VLOOKUP(B2169,'(1) Project Reference Item List'!$B$2:$C$1000,2,FALSE)","v":{"$error":"#N/A"}},null,null,null,null,null,null,null,null,null,null,{"$f":"VLOOKUP(B2169,'(1) Project Reference Item List'!$B$2:$D$1000,3,FALSE)","v":{"$error":"#N/A"}},null,null,0,0]
[{"$f":"VLOOKUP(B2170,'(1) Project Reference Item List'!$B$2:$C$1000,2,FALSE)","v":{"$error":"#N/A"}},null,null,null,null,null,null,null,null,null,null,{"$f":"VLOOKUP(B2170,'(1) Project Reference Item List'!$B$2:$D$1000,3,FALSE)","v":{"$error":"#N/A"}},null,null,0,0]
[{"$f":"VLOOKUP(B2171,'(1) Project Reference Item List'!$B$2:$C$1000,2,FALSE)","v":{"$error":"#N/A"}},null,null,null,null,null,null,null,null,null,null,{"$f":"VLOOKUP(B2171,'(1) Project Reference Item List'!$B$2:$D$1000,3,FALSE)","v":{"$error":"#N/A"}},null,null,0,0]
[{"$f":"VLOOKUP(B2172,'(1) Project Reference Item List'!$B$2:$C$1000,2,FALSE)","v":{"$error":"#N/A"}},null,null,null,null,null,null,null,null,null,null,{"$f":"VLOOKUP(B2172,'(1) Project Reference Item List'!$B$2:$D$1000,3,FALSE)","v":{"$error":"#N/A"}},null,null,0,0]
[{"$f":"VLOOKUP(B2173,'(1) Project Reference Item List'!$B$2:$C$1000,2,FALSE)","v":{"$error":"#N/A"}},null,null,null,null,null,null,null,null,null,null,{"$f":"VLOOKUP(B2173,'(1) Project Reference Item List'!$B$2:$D$1000,3,FALSE)","v":{"$error":"#N/A"}},null,null,0,0]
[{"$f":"VLOOKUP(B2174,'(1) Project Reference Item List'!$B$2:$C$1000,2,FALSE)","v":{"$error":"#N/A"}},null,null,null,null,null,null,null,null,null,null,{"$f":"VLOOKUP(B2174,'(1) Project Reference Item List'!$B$2:$D$1000,3,FALSE)","v":{"$error":"#N/A"}},null,null,0,0]
[{"$f":"VLOOKUP(B2175,'(1) Project Reference Item List'!$B$2:$C$1000,2,FALSE)","v":{"$error":"#N/A"}},null,null,null,null,null,null,null,null,null,null,{"$f":"VLOOKUP(B2175,'(1) Project Reference Item List'!$B$2:$D$1000,3,FALSE)","v":{"$error":"#N/A"}},null,null,0,0]
[{"$f":"VLOOKUP(B2176,'(1) Project Reference Item List'!$B$2:$C$1000,2,FALSE)","v":{"$error":"#N/A"}},null,null,null,null,null,null,null,null,null,null,{"$f":"VLOOKUP(B2176,'(1) Project Reference Item List'!$B$2:$D$1000,3,FALSE)","v":{"$error":"#N/A"}},null,null,0,0]
[{"$f":"VLOOKUP(B2177,'(1) Project Reference Item List'!$B$2:$C$1000,2,FALSE)","v":{"$error":"#N/A"}},null,null,null,null,null,null,null,null,null,null,{"$f":"VLOOKUP(B2177,'(1) Project Reference Item List'!$B$2:$D$1000,3,FALSE)","v":{"$error":"#N/A"}},null,null,0,0]
[{"$f":"VLOOKUP(B2178,'(1) Project Reference Item List'!$B$2:$C$1000,2,FALSE)","v":{"$error":"#N/A"}},null,null,null,null,null,null,null,null,null,null,{"$f":"VLOOKUP(B2178,'(1) Project Reference Item List'!$B$2:$D$1000,3,FALSE)","v":{"$error":"#N/A"}},null,null,0,0]
[{"$f":"VLOOKUP(B2179,'(1) Project Reference Item List'!$B$2:$C$1000,2,FALSE)","v":{"$error":"#N/A"}},null,null,null,null,null,null,null,null,null,null,{"$f":"VLOOKUP(B2179,'(1) Project Reference Item List'!$B$2:$D$1000,3,FALSE)","v":{"$error":"#N/A"}},null,null,0,0]
[{"$f":"VLOOKUP(B2180,'(1) Project Reference Item List'!$B$2:$C$1000,2,FALSE)","v":{"$error":"#N/A"}},null,null,null,null,null,null,null,null,null,null,{"$f":"VLOOKUP(B2180,'(1) Project Reference Item List'!$B$2:$D$1000,3,FALSE)","v":{"$error":"#N/A"}},null,null,0,0]
[{"$f":"VLOOKUP(B2181,'(1) Project Reference Item List'!$B$2:$C$1000,2,FALSE)","v":{"$error":"#N/A"}},null,null,null,null,null,null,null,null,null,null,{"$f":"VLOOKUP(B2181,'(1) Project Reference Item List'!$B$2:$D$1000,3,FALSE)","v":{"$error":"#N/A"}},null,null,0,0]
[{"$f":"VLOOKUP(B2182,'(1) Project Reference Item List'!$B$2:$C$1000,2,FALSE)","v":{"$error":"#N/A"}},null,null,null,null,null,null,null,null,null,null,{"$f":"VLOOKUP(B2182,'(1) Project Reference Item List'!$B$2:$D$1000,3,FALSE)","v":{"$error":"#N/A"}},null,null,{"$f":"IF(J2182=0,J2182,J2182*N2182)","v":0},{"$f":"(M2182-O2182)","v":0}]
[{"$f":"VLOOKUP(B2183,'(1) Project Reference Item List'!$B$2:$C$1000,2,FALSE)","v":{"$error":"#N/A"}},null,null,null,null,null,null,null,null,null,null,{"$f":"VLOOKUP(B2183,'(1) Project Reference Item List'!$B$2:$D$1000,3,FALSE)","v":{"$error":"#N/A"}},null,null,0,0]
[{"$f":"VLOOKUP(B2184,'(1) Project Reference Item List'!$B$2:$C$1000,2,FALSE)","v":{"$error":"#N/A"}},null,null,null,null,null,null,null,null,null,null,{"$f":"VLOOKUP(B2184,'(1) Project Reference Item List'!$B$2:$D$1000,3,FALSE)","v":{"$error":"#N/A"}},null,null,0,0]
[{"$f":"VLOOKUP(B2185,'(1) Project Reference Item List'!$B$2:$C$1000,2,FALSE)","v":{"$error":"#N/A"}},null,null,null,null,null,null,null,null,null,null,{"$f":"VLOOKUP(B2185,'(1) Project Reference Item List'!$B$2:$D$1000,3,FALSE)","v":{"$error":"#N/A"}},null,null,0,0]
[{"$f":"VLOOKUP(B2186,'(1) Project Reference Item List'!$B$2:$C$1000,2,FALSE)","v":{"$error":"#N/A"}},null,null,null,null,null,null,null,null,null,null,{"$f":"VLOOKUP(B2186,'(1) Project Reference Item List'!$B$2:$D$1000,3,FALSE)","v":{"$error":"#N/A"}},null,null,0,0]
[{"$f":"VLOOKUP(B2187,'(1) Project Reference Item List'!$B$2:$C$1000,2,FALSE)","v":{"$error":"#N/A"}},null,null,null,null,null,null,null,null,null,null,{"$f":"VLOOKUP(B2187,'(1) Project Reference Item List'!$B$2:$D$1000,3,FALSE)","v":{"$error":"#N/A"}},null,null,0,0]
[{"$f":"VLOOKUP(B2188,'(1) Project Reference Item List'!$B$2:$C$1000,2,FALSE)","v":{"$error":"#N/A"}},null,null,null,null,null,null,null,null,null,null,{"$f":"VLOOKUP(B2188,'(1) Project Reference Item List'!$B$2:$D$1000,3,FALSE)","v":{"$error":"#N/A"}},null,null,0,0]
[{"$f":"VLOOKUP(B2189,'(1) Project Reference Item List'!$B$2:$C$1000,2,FALSE)","v":{"$error":"#N/A"}},null,null,null,null,null,null,null,null,null,null,{"$f":"VLOOKUP(B2189,'(1) Project Reference Item List'!$B$2:$D$1000,3,FALSE)","v":{"$error":"#N/A"}},null,null,0,0]
[{"$f":"VLOOKUP(B2190,'(1) Project Reference Item List'!$B$2:$C$1000,2,FALSE)","v":{"$error":"#N/A"}},null,null,null,null,null,null,null,null,null,null,{"$f":"VLOOKUP(B2190,'(1) Project Reference Item List'!$B$2:$D$1000,3,FALSE)","v":{"$error":"#N/A"}},null,null,0,0]
[{"$f":"VLOOKUP(B2191,'(1) Project Reference Item List'!$B$2:$C$1000,2,FALSE)","v":{"$error":"#N/A"}},null,null,null,null,null,null,null,null,null,null,{"$f":"VLOOKUP(B2191,'(1) Project Reference Item List'!$B$2:$D$1000,3,FALSE)","v":{"$error":"#N/A"}},null,null,0,0]
[{"$f":"VLOOKUP(B2192,'(1) Project Reference Item List'!$B$2:$C$1000,2,FALSE)","v":{"$error":"#N/A"}},null,null,null,null,null,null,null,null,null,null,{"$f":"VLOOKUP(B2192,'(1) Project Reference Item List'!$B$2:$D$1000,3,FALSE)","v":{"$error":"#N/A"}},null,null,0,0]
[{"$f":"VLOOKUP(B2193,'(1) Project Reference Item List'!$B$2:$C$1000,2,FALSE)","v":{"$error":"#N/A"}},null,null,null,null,null,null,null,null,null,null,{"$f":"VLOOKUP(B2193,'(1) Project Reference Item List'!$B$2:$D$1000,3,FALSE)","v":{"$error":"#N/A"}},null,null,0,0]
[{"$f":"VLOOKUP(B2194,'(1) Project Reference Item List'!$B$2:$C$1000,2,FALSE)","v":{"$error":"#N/A"}},null,null,null,null,null,null,null,null,null,null,{"$f":"VLOOKUP(B2194,'(1) Project Reference Item List'!$B$2:$D$1000,3,FALSE)","v":{"$error":"#N/A"}},null,null,0,0]
[{"$f":"VLOOKUP(B2195,'(1) Project Reference Item List'!$B$2:$C$1000,2,FALSE)","v":{"$error":"#N/A"}},null,null,null,null,null,null,null,null,null,null,{"$f":"VLOOKUP(B2195,'(1) Project Reference Item List'!$B$2:$D$1000,3,FALSE)","v":{"$error":"#N/A"}},null,null,0,0]
[{"$f":"VLOOKUP(B2196,'(1) Project Reference Item List'!$B$2:$C$1000,2,FALSE)","v":{"$error":"#N/A"}},null,null,null,null,null,null,null,null,null,null,{"$f":"VLOOKUP(B2196,'(1) Project Reference Item List'!$B$2:$D$1000,3,FALSE)","v":{"$error":"#N/A"}},null,null,0,0]
[{"$f":"VLOOKUP(B2197,'(1) Project Reference Item List'!$B$2:$C$1000,2,FALSE)","v":{"$error":"#N/A"}},null,null,null,null,null,null,null,null,null,null,{"$f":"VLOOKUP(B2197,'(1) Project Reference Item List'!$B$2:$D$1000,3,FALSE)","v":{"$error":"#N/A"}},null,null,0,0]
[{"$f":"VLOOKUP(B2198,'(1) Project Reference Item List'!$B$2:$C$1000,2,FALSE)","v":{"$error":"#N/A"}},null,null,null,null,null,null,null,null,null,null,{"$f":"VLOOKUP(B2198,'(1) Project Reference Item List'!$B$2:$D$1000,3,FALSE)","v":{"$error":"#N/A"}},null,null,0,0]
[{"$f":"VLOOKUP(B2199,'(1) Project Reference Item List'!$B$2:$C$1000,2,FALSE)","v":{"$error":"#N/A"}},null,null,null,null,null,null,null,null,null,null,{"$f":"VLOOKUP(B2199,'(1) Project Reference Item List'!$B$2:$D$1000,3,FALSE)","v":{"$error":"#N/A"}},null,null,0,0]
[{"$f":"VLOOKUP(B2200,'(1) Project Reference Item List'!$B$2:$C$1000,2,FALSE)","v":{"$error":"#N/A"}},null,null,null,null,null,null,null,null,null,null,{"$f":"VLOOKUP(B2200,'(1) Project Reference Item List'!$B$2:$D$1000,3,FALSE)","v":{"$error":"#N/A"}},null,null,0,0]
[{"$f":"VLOOKUP(B2201,'(1) Project Reference Item List'!$B$2:$C$1000,2,FALSE)","v":{"$error":"#N/A"}},null,null,null,null,null,null,null,null,null,null,{"$f":"VLOOKUP(B2201,'(1) Project Reference Item List'!$B$2:$D$1000,3,FALSE)","v":{"$error":"#N/A"}},null,null,0,0]
[{"$f":"VLOOKUP(B2202,'(1) Project Reference Item List'!$B$2:$C$1000,2,FALSE)","v":{"$error":"#N/A"}},null,null,null,null,null,null,null,null,null,null,{"$f":"VLOOKUP(B2202,'(1) Project Reference Item List'!$B$2:$D$1000,3,FALSE)","v":{"$error":"#N/A"}},null,null,0,0]
[{"$f":"VLOOKUP(B2203,'(1) Project Reference Item List'!$B$2:$C$1000,2,FALSE)","v":{"$error":"#N/A"}},null,null,null,null,null,null,null,null,null,null,{"$f":"VLOOKUP(B2203,'(1) Project Reference Item List'!$B$2:$D$1000,3,FALSE)","v":{"$error":"#N/A"}},null,null,0,0]
[{"$f":"VLOOKUP(B2204,'(1) Project Reference Item List'!$B$2:$C$1000,2,FALSE)","v":{"$error":"#N/A"}},null,null,null,null,null,null,null,null,null,null,{"$f":"VLOOKUP(B2204,'(1) Project Reference Item List'!$B$2:$D$1000,3,FALSE)","v":{"$error":"#N/A"}},null,null,0,0]
[{"$f":"VLOOKUP(B2205,'(1) Project Reference Item List'!$B$2:$C$1000,2,FALSE)","v":{"$error":"#N/A"}},null,null,null,null,null,null,null,null,null,null,{"$f":"VLOOKUP(B2205,'(1) Project Reference Item List'!$B$2:$D$1000,3,FALSE)","v":{"$error":"#N/A"}},null,null,0,0]
[{"$f":"VLOOKUP(B2206,'(1) Project Reference Item List'!$B$2:$C$1000,2,FALSE)","v":{"$error":"#N/A"}},null,null,null,null,null,null,null,null,null,null,{"$f":"VLOOKUP(B2206,'(1) Project Reference Item List'!$B$2:$D$1000,3,FALSE)","v":{"$error":"#N/A"}},null,null,0,0]
[{"$f":"VLOOKUP(B2207,'(1) Project Reference Item List'!$B$2:$C$1000,2,FALSE)","v":{"$error":"#N/A"}},null,null,null,null,null,null,null,null,null,null,{"$f":"VLOOKUP(B2207,'(1) Project Reference Item List'!$B$2:$D$1000,3,FALSE)","v":{"$error":"#N/A"}},null,null,0,0]
[{"$f":"VLOOKUP(B2208,'(1) Project Reference Item List'!$B$2:$C$1000,2,FALSE)","v":{"$error":"#N/A"}},null,null,null,null,null,null,null,null,null,null,{"$f":"VLOOKUP(B2208,'(1) Project Reference Item List'!$B$2:$D$1000,3,FALSE)","v":{"$error":"#N/A"}},null,null,0,0]
[{"$f":"VLOOKUP(B2209,'(1) Project Reference Item List'!$B$2:$C$1000,2,FALSE)","v":{"$error":"#N/A"}},null,null,null,null,null,null,null,null,null,null,{"$f":"VLOOKUP(B2209,'(1) Project Reference Item List'!$B$2:$D$1000,3,FALSE)","v":{"$error":"#N/A"}},null,null,0,0]
[{"$f":"VLOOKUP(B2210,'(1) Project Reference Item List'!$B$2:$C$1000,2,FALSE)","v":{"$error":"#N/A"}},null,null,null,null,null,null,null,null,null,null,{"$f":"VLOOKUP(B2210,'(1) Project Reference Item List'!$B$2:$D$1000,3,FALSE)","v":{"$error":"#N/A"}},null,null,0,0]
[{"$f":"VLOOKUP(B2211,'(1) Project Reference Item List'!$B$2:$C$1000,2,FALSE)","v":{"$error":"#N/A"}},null,null,null,null,null,null,null,null,null,null,{"$f":"VLOOKUP(B2211,'(1) Project Reference Item List'!$B$2:$D$1000,3,FALSE)","v":{"$error":"#N/A"}},null,null,0,0]
[{"$f":"VLOOKUP(B2212,'(1) Project Reference Item List'!$B$2:$C$1000,2,FALSE)","v":{"$error":"#N/A"}},null,null,null,null,null,null,null,null,null,null,{"$f":"VLOOKUP(B2212,'(1) Project Reference Item List'!$B$2:$D$1000,3,FALSE)","v":{"$error":"#N/A"}},null,null,0,0]
[{"$f":"VLOOKUP(B2213,'(1) Project Reference Item List'!$B$2:$C$1000,2,FALSE)","v":{"$error":"#N/A"}},null,null,null,null,null,null,null,null,null,null,{"$f":"VLOOKUP(B2213,'(1) Project Reference Item List'!$B$2:$D$1000,3,FALSE)","v":{"$error":"#N/A"}},null,null,0,0]
[{"$f":"VLOOKUP(B2214,'(1) Project Reference Item List'!$B$2:$C$1000,2,FALSE)","v":{"$error":"#N/A"}},null,null,null,null,null,null,null,null,null,null,{"$f":"VLOOKUP(B2214,'(1) Project Reference Item List'!$B$2:$D$1000,3,FALSE)","v":{"$error":"#N/A"}},null,null,0,0]
[{"$f":"VLOOKUP(B2215,'(1) Project Reference Item List'!$B$2:$C$1000,2,FALSE)","v":{"$error":"#N/A"}},null,null,null,null,null,null,null,null,null,null,{"$f":"VLOOKUP(B2215,'(1) Project Reference Item List'!$B$2:$D$1000,3,FALSE)","v":{"$error":"#N/A"}},null,null,0,0]
[{"$f":"VLOOKUP(B2216,'(1) Project Reference Item List'!$B$2:$C$1000,2,FALSE)","v":{"$error":"#N/A"}},null,null,null,null,null,null,null,null,null,null,{"$f":"VLOOKUP(B2216,'(1) Project Reference Item List'!$B$2:$D$1000,3,FALSE)","v":{"$error":"#N/A"}},null,null,0,0]
[{"$f":"VLOOKUP(B2217,'(1) Project Reference Item List'!$B$2:$C$1000,2,FALSE)","v":{"$error":"#N/A"}},null,null,null,null,null,null,null,null,null,null,{"$f":"VLOOKUP(B2217,'(1) Project Reference Item List'!$B$2:$D$1000,3,FALSE)","v":{"$error":"#N/A"}},null,null,0,0]
[{"$f":"VLOOKUP(B2218,'(1) Project Reference Item List'!$B$2:$C$1000,2,FALSE)","v":{"$error":"#N/A"}},null,null,null,null,null,null,null,null,null,null,{"$f":"VLOOKUP(B2218,'(1) Project Reference Item List'!$B$2:$D$1000,3,FALSE)","v":{"$error":"#N/A"}},null,null,0,0]
[{"$f":"VLOOKUP(B2219,'(1) Project Reference Item List'!$B$2:$C$1000,2,FALSE)","v":{"$error":"#N/A"}},null,null,null,null,null,null,null,null,null,null,{"$f":"VLOOKUP(B2219,'(1) Project Reference Item List'!$B$2:$D$1000,3,FALSE)","v":{"$error":"#N/A"}},null,null,0,0]
[{"$f":"VLOOKUP(B2220,'(1) Project Reference Item List'!$B$2:$C$1000,2,FALSE)","v":{"$error":"#N/A"}},null,null,null,null,null,null,null,null,null,null,{"$f":"VLOOKUP(B2220,'(1) Project Reference Item List'!$B$2:$D$1000,3,FALSE)","v":{"$error":"#N/A"}},null,null,0,0]
[{"$f":"VLOOKUP(B2221,'(1) Project Reference Item List'!$B$2:$C$1000,2,FALSE)","v":{"$error":"#N/A"}},null,null,null,null,null,null,null,null,null,null,{"$f":"VLOOKUP(B2221,'(1) Project Reference Item List'!$B$2:$D$1000,3,FALSE)","v":{"$error":"#N/A"}},null,null,0,0]
[{"$f":"VLOOKUP(B2222,'(1) Project Reference Item List'!$B$2:$C$1000,2,FALSE)","v":{"$error":"#N/A"}},null,null,null,null,null,null,null,null,null,null,{"$f":"VLOOKUP(B2222,'(1) Project Reference Item List'!$B$2:$D$1000,3,FALSE)","v":{"$error":"#N/A"}},null,null,0,0]
[{"$f":"VLOOKUP(B2223,'(1) Project Reference Item List'!$B$2:$C$1000,2,FALSE)","v":{"$error":"#N/A"}},null,null,null,null,null,null,null,null,null,null,{"$f":"VLOOKUP(B2223,'(1) Project Reference Item List'!$B$2:$D$1000,3,FALSE)","v":{"$error":"#N/A"}},null,null,0,0]
[{"$f":"VLOOKUP(B2224,'(1) Project Reference Item List'!$B$2:$C$1000,2,FALSE)","v":{"$error":"#N/A"}},null,null,null,null,null,null,null,null,null,null,{"$f":"VLOOKUP(B2224,'(1) Project Reference Item List'!$B$2:$D$1000,3,FALSE)","v":{"$error":"#N/A"}},null,null,0,0]
[{"$f":"VLOOKUP(B2225,'(1) Project Reference Item List'!$B$2:$C$1000,2,FALSE)","v":{"$error":"#N/A"}},null,null,null,null,null,null,null,null,null,null,{"$f":"VLOOKUP(B2225,'(1) Project Reference Item List'!$B$2:$D$1000,3,FALSE)","v":{"$error":"#N/A"}},null,null,0,0]
[{"$f":"VLOOKUP(B2226,'(1) Project Reference Item List'!$B$2:$C$1000,2,FALSE)","v":{"$error":"#N/A"}},null,null,null,null,null,null,null,null,null,null,{"$f":"VLOOKUP(B2226,'(1) Project Reference Item List'!$B$2:$D$1000,3,FALSE)","v":{"$error":"#N/A"}},null,null,0,0]
[{"$f":"VLOOKUP(B2227,'(1) Project Reference Item List'!$B$2:$C$1000,2,FALSE)","v":{"$error":"#N/A"}},null,null,null,null,null,null,null,null,null,null,{"$f":"VLOOKUP(B2227,'(1) Project Reference Item List'!$B$2:$D$1000,3,FALSE)","v":{"$error":"#N/A"}},null,null,0,0]
[{"$f":"VLOOKUP(B2228,'(1) Project Reference Item List'!$B$2:$C$1000,2,FALSE)","v":{"$error":"#N/A"}},null,null,null,null,null,null,null,null,null,null,{"$f":"VLOOKUP(B2228,'(1) Project Reference Item List'!$B$2:$D$1000,3,FALSE)","v":{"$error":"#N/A"}},null,null,0,0]
[{"$f":"VLOOKUP(B2229,'(1) Project Reference Item List'!$B$2:$C$1000,2,FALSE)","v":{"$error":"#N/A"}},null,null,null,null,null,null,null,null,null,null,{"$f":"VLOOKUP(B2229,'(1) Project Reference Item List'!$B$2:$D$1000,3,FALSE)","v":{"$error":"#N/A"}},null,null,0,0]
[{"$f":"VLOOKUP(B2230,'(1) Project Reference Item List'!$B$2:$C$1000,2,FALSE)","v":{"$error":"#N/A"}},null,null,null,null,null,null,null,null,null,null,{"$f":"VLOOKUP(B2230,'(1) Project Reference Item List'!$B$2:$D$1000,3,FALSE)","v":{"$error":"#N/A"}},null,null,0,0]
[{"$f":"VLOOKUP(B2231,'(1) Project Reference Item List'!$B$2:$C$1000,2,FALSE)","v":{"$error":"#N/A"}},null,null,null,null,null,null,null,null,null,null,{"$f":"VLOOKUP(B2231,'(1) Project Reference Item List'!$B$2:$D$1000,3,FALSE)","v":{"$error":"#N/A"}},null,null,0,0]
[{"$f":"VLOOKUP(B2232,'(1) Project Reference Item List'!$B$2:$C$1000,2,FALSE)","v":{"$error":"#N/A"}},null,null,null,null,null,null,null,null,null,null,{"$f":"VLOOKUP(B2232,'(1) Project Reference Item List'!$B$2:$D$1000,3,FALSE)","v":{"$error":"#N/A"}},null,null,0,0]
[{"$f":"VLOOKUP(B2233,'(1) Project Reference Item List'!$B$2:$C$1000,2,FALSE)","v":{"$error":"#N/A"}},null,null,null,null,null,null,null,null,null,null,{"$f":"VLOOKUP(B2233,'(1) Project Reference Item List'!$B$2:$D$1000,3,FALSE)","v":{"$error":"#N/A"}},null,null,0,0]
[{"$f":"VLOOKUP(B2234,'(1) Project Reference Item List'!$B$2:$C$1000,2,FALSE)","v":{"$error":"#N/A"}},null,null,null,null,null,null,null,null,null,null,{"$f":"VLOOKUP(B2234,'(1) Project Reference Item List'!$B$2:$D$1000,3,FALSE)","v":{"$error":"#N/A"}},null,null,0,0]
[{"$f":"VLOOKUP(B2235,'(1) Project Reference Item List'!$B$2:$C$1000,2,FALSE)","v":{"$error":"#N/A"}},null,null,null,null,null,null,null,null,null,null,{"$f":"VLOOKUP(B2235,'(1) Project Reference Item List'!$B$2:$D$1000,3,FALSE)","v":{"$error":"#N/A"}},null,null,0,0]
[{"$f":"VLOOKUP(B2236,'(1) Project Reference Item List'!$B$2:$C$1000,2,FALSE)","v":{"$error":"#N/A"}},null,null,null,null,null,null,null,null,null,null,{"$f":"VLOOKUP(B2236,'(1) Project Reference Item List'!$B$2:$D$1000,3,FALSE)","v":{"$error":"#N/A"}},null,null,0,0]
[{"$f":"VLOOKUP(B2237,'(1) Project Reference Item List'!$B$2:$C$1000,2,FALSE)","v":{"$error":"#N/A"}},null,null,null,null,null,null,null,null,null,null,{"$f":"VLOOKUP(B2237,'(1) Project Reference Item List'!$B$2:$D$1000,3,FALSE)","v":{"$error":"#N/A"}},null,null,0,0]
[{"$f":"VLOOKUP(B2238,'(1) Project Reference Item List'!$B$2:$C$1000,2,FALSE)","v":{"$error":"#N/A"}},null,null,null,null,null,null,null,null,null,null,{"$f":"VLOOKUP(B2238,'(1) Project Reference Item List'!$B$2:$D$1000,3,FALSE)","v":{"$error":"#N/A"}},null,null,0,0]
[{"$f":"VLOOKUP(B2239,'(1) Project Reference Item List'!$B$2:$C$1000,2,FALSE)","v":{"$error":"#N/A"}},null,null,null,null,null,null,null,null,null,null,{"$f":"VLOOKUP(B2239,'(1) Project Reference Item List'!$B$2:$D$1000,3,FALSE)","v":{"$error":"#N/A"}},null,null,0,0]
[{"$f":"VLOOKUP(B2240,'(1) Project Reference Item List'!$B$2:$C$1000,2,FALSE)","v":{"$error":"#N/A"}},null,null,null,null,null,null,null,null,null,null,{"$f":"VLOOKUP(B2240,'(1) Project Reference Item List'!$B$2:$D$1000,3,FALSE)","v":{"$error":"#N/A"}},null,null,0,0]
[{"$f":"VLOOKUP(B2241,'(1) Project Reference Item List'!$B$2:$C$1000,2,FALSE)","v":{"$error":"#N/A"}},null,null,null,null,null,null,null,null,null,null,{"$f":"VLOOKUP(B2241,'(1) Project Reference Item List'!$B$2:$D$1000,3,FALSE)","v":{"$error":"#N/A"}},null,null,0,0]
[{"$f":"VLOOKUP(B2242,'(1) Project Reference Item List'!$B$2:$C$1000,2,FALSE)","v":{"$error":"#N/A"}},null,null,null,null,null,null,null,null,null,null,{"$f":"VLOOKUP(B2242,'(1) Project Reference Item List'!$B$2:$D$1000,3,FALSE)","v":{"$error":"#N/A"}},null,null,0,0]
[{"$f":"VLOOKUP(B2243,'(1) Project Reference Item List'!$B$2:$C$1000,2,FALSE)","v":{"$error":"#N/A"}},null,null,null,null,null,null,null,null,null,null,{"$f":"VLOOKUP(B2243,'(1) Project Reference Item List'!$B$2:$D$1000,3,FALSE)","v":{"$error":"#N/A"}},null,null,0,0]
[{"$f":"VLOOKUP(B2244,'(1) Project Reference Item List'!$B$2:$C$1000,2,FALSE)","v":{"$error":"#N/A"}},null,null,null,null,null,null,null,null,null,null,{"$f":"VLOOKUP(B2244,'(1) Project Reference Item List'!$B$2:$D$1000,3,FALSE)","v":{"$error":"#N/A"}},null,null,0,0]
[{"$f":"VLOOKUP(B2245,'(1) Project Reference Item List'!$B$2:$C$1000,2,FALSE)","v":{"$error":"#N/A"}},null,null,null,null,null,null,null,null,null,null,{"$f":"VLOOKUP(B2245,'(1) Project Reference Item List'!$B$2:$D$1000,3,FALSE)","v":{"$error":"#N/A"}},null,null,0,0]
[{"$f":"VLOOKUP(B2246,'(1) Project Reference Item List'!$B$2:$C$1000,2,FALSE)","v":{"$error":"#N/A"}},null,null,null,null,null,null,null,null,null,null,{"$f":"VLOOKUP(B2246,'(1) Project Reference Item List'!$B$2:$D$1000,3,FALSE)","v":{"$error":"#N/A"}},null,null,{"$f":"IF(J2246=0,J2246,J2246*N2246)","v":0},{"$f":"(M2246-O2246)","v":0}]
[{"$f":"VLOOKUP(B2247,'(1) Project Reference Item List'!$B$2:$C$1000,2,FALSE)","v":{"$error":"#N/A"}},null,null,null,null,null,null,null,null,null,null,{"$f":"VLOOKUP(B2247,'(1) Project Reference Item List'!$B$2:$D$1000,3,FALSE)","v":{"$error":"#N/A"}},null,null,0,0]
[{"$f":"VLOOKUP(B2248,'(1) Project Reference Item List'!$B$2:$C$1000,2,FALSE)","v":{"$error":"#N/A"}},null,null,null,null,null,null,null,null,null,null,{"$f":"VLOOKUP(B2248,'(1) Project Reference Item List'!$B$2:$D$1000,3,FALSE)","v":{"$error":"#N/A"}},null,null,0,0]
[{"$f":"VLOOKUP(B2249,'(1) Project Reference Item List'!$B$2:$C$1000,2,FALSE)","v":{"$error":"#N/A"}},null,null,null,null,null,null,null,null,null,null,{"$f":"VLOOKUP(B2249,'(1) Project Reference Item List'!$B$2:$D$1000,3,FALSE)","v":{"$error":"#N/A"}},null,null,0,0]
[{"$f":"VLOOKUP(B2250,'(1) Project Reference Item List'!$B$2:$C$1000,2,FALSE)","v":{"$error":"#N/A"}},null,null,null,null,null,null,null,null,null,null,{"$f":"VLOOKUP(B2250,'(1) Project Reference Item List'!$B$2:$D$1000,3,FALSE)","v":{"$error":"#N/A"}},null,null,0,0]
[{"$f":"VLOOKUP(B2251,'(1) Project Reference Item List'!$B$2:$C$1000,2,FALSE)","v":{"$error":"#N/A"}},null,null,null,null,null,null,null,null,null,null,{"$f":"VLOOKUP(B2251,'(1) Project Reference Item List'!$B$2:$D$1000,3,FALSE)","v":{"$error":"#N/A"}},null,null,0,0]
[{"$f":"VLOOKUP(B2252,'(1) Project Reference Item List'!$B$2:$C$1000,2,FALSE)","v":{"$error":"#N/A"}},null,null,null,null,null,null,null,null,null,null,{"$f":"VLOOKUP(B2252,'(1) Project Reference Item List'!$B$2:$D$1000,3,FALSE)","v":{"$error":"#N/A"}},null,null,0,0]
[{"$f":"VLOOKUP(B2253,'(1) Project Reference Item List'!$B$2:$C$1000,2,FALSE)","v":{"$error":"#N/A"}},null,null,null,null,null,null,null,null,null,null,{"$f":"VLOOKUP(B2253,'(1) Project Reference Item List'!$B$2:$D$1000,3,FALSE)","v":{"$error":"#N/A"}},null,null,0,0]
[{"$f":"VLOOKUP(B2254,'(1) Project Reference Item List'!$B$2:$C$1000,2,FALSE)","v":{"$error":"#N/A"}},null,null,null,null,null,null,null,null,null,null,{"$f":"VLOOKUP(B2254,'(1) Project Reference Item List'!$B$2:$D$1000,3,FALSE)","v":{"$error":"#N/A"}},null,null,0,0]
[{"$f":"VLOOKUP(B2255,'(1) Project Reference Item List'!$B$2:$C$1000,2,FALSE)","v":{"$error":"#N/A"}},null,null,null,null,null,null,null,null,null,null,{"$f":"VLOOKUP(B2255,'(1) Project Reference Item List'!$B$2:$D$1000,3,FALSE)","v":{"$error":"#N/A"}},null,null,0,0]
[{"$f":"VLOOKUP(B2256,'(1) Project Reference Item List'!$B$2:$C$1000,2,FALSE)","v":{"$error":"#N/A"}},null,null,null,null,null,null,null,null,null,null,{"$f":"VLOOKUP(B2256,'(1) Project Reference Item List'!$B$2:$D$1000,3,FALSE)","v":{"$error":"#N/A"}},null,null,0,0]
[{"$f":"VLOOKUP(B2257,'(1) Project Reference Item List'!$B$2:$C$1000,2,FALSE)","v":{"$error":"#N/A"}},null,null,null,null,null,null,null,null,null,null,{"$f":"VLOOKUP(B2257,'(1) Project Reference Item List'!$B$2:$D$1000,3,FALSE)","v":{"$error":"#N/A"}},null,null,0,0]
[{"$f":"VLOOKUP(B2258,'(1) Project Reference Item List'!$B$2:$C$1000,2,FALSE)","v":{"$error":"#N/A"}},null,null,null,null,null,null,null,null,null,null,{"$f":"VLOOKUP(B2258,'(1) Project Reference Item List'!$B$2:$D$1000,3,FALSE)","v":{"$error":"#N/A"}},null,null,0,0]
[{"$f":"VLOOKUP(B2259,'(1) Project Reference Item List'!$B$2:$C$1000,2,FALSE)","v":{"$error":"#N/A"}},null,null,null,null,null,null,null,null,null,null,{"$f":"VLOOKUP(B2259,'(1) Project Reference Item List'!$B$2:$D$1000,3,FALSE)","v":{"$error":"#N/A"}},null,null,0,0]
[{"$f":"VLOOKUP(B2260,'(1) Project Reference Item List'!$B$2:$C$1000,2,FALSE)","v":{"$error":"#N/A"}},null,null,null,null,null,null,null,null,null,null,{"$f":"VLOOKUP(B2260,'(1) Project Reference Item List'!$B$2:$D$1000,3,FALSE)","v":{"$error":"#N/A"}},null,null,0,0]
[{"$f":"VLOOKUP(B2261,'(1) Project Reference Item List'!$B$2:$C$1000,2,FALSE)","v":{"$error":"#N/A"}},null,null,null,null,null,null,null,null,null,null,{"$f":"VLOOKUP(B2261,'(1) Project Reference Item List'!$B$2:$D$1000,3,FALSE)","v":{"$error":"#N/A"}},null,null,0,0]
[{"$f":"VLOOKUP(B2262,'(1) Project Reference Item List'!$B$2:$C$1000,2,FALSE)","v":{"$error":"#N/A"}},null,null,null,null,null,null,null,null,null,null,{"$f":"VLOOKUP(B2262,'(1) Project Reference Item List'!$B$2:$D$1000,3,FALSE)","v":{"$error":"#N/A"}},null,null,0,0]
[{"$f":"VLOOKUP(B2263,'(1) Project Reference Item List'!$B$2:$C$1000,2,FALSE)","v":{"$error":"#N/A"}},null,null,null,null,null,null,null,null,null,null,{"$f":"VLOOKUP(B2263,'(1) Project Reference Item List'!$B$2:$D$1000,3,FALSE)","v":{"$error":"#N/A"}},null,null,0,0]
[{"$f":"VLOOKUP(B2264,'(1) Project Reference Item List'!$B$2:$C$1000,2,FALSE)","v":{"$error":"#N/A"}},null,null,null,null,null,null,null,null,null,null,{"$f":"VLOOKUP(B2264,'(1) Project Reference Item List'!$B$2:$D$1000,3,FALSE)","v":{"$error":"#N/A"}},null,null,0,0]
[{"$f":"VLOOKUP(B2265,'(1) Project Reference Item List'!$B$2:$C$1000,2,FALSE)","v":{"$error":"#N/A"}},null,null,null,null,null,null,null,null,null,null,{"$f":"VLOOKUP(B2265,'(1) Project Reference Item List'!$B$2:$D$1000,3,FALSE)","v":{"$error":"#N/A"}},null,null,0,0]
[{"$f":"VLOOKUP(B2266,'(1) Project Reference Item List'!$B$2:$C$1000,2,FALSE)","v":{"$error":"#N/A"}},null,null,null,null,null,null,null,null,null,null,{"$f":"VLOOKUP(B2266,'(1) Project Reference Item List'!$B$2:$D$1000,3,FALSE)","v":{"$error":"#N/A"}},null,null,0,0]
[{"$f":"VLOOKUP(B2267,'(1) Project Reference Item List'!$B$2:$C$1000,2,FALSE)","v":{"$error":"#N/A"}},null,null,null,null,null,null,null,null,null,null,{"$f":"VLOOKUP(B2267,'(1) Project Reference Item List'!$B$2:$D$1000,3,FALSE)","v":{"$error":"#N/A"}},null,null,0,0]
[{"$f":"VLOOKUP(B2268,'(1) Project Reference Item List'!$B$2:$C$1000,2,FALSE)","v":{"$error":"#N/A"}},null,null,null,null,null,null,null,null,null,null,{"$f":"VLOOKUP(B2268,'(1) Project Reference Item List'!$B$2:$D$1000,3,FALSE)","v":{"$error":"#N/A"}},null,null,0,0]
[{"$f":"VLOOKUP(B2269,'(1) Project Reference Item List'!$B$2:$C$1000,2,FALSE)","v":{"$error":"#N/A"}},null,null,null,null,null,null,null,null,null,null,{"$f":"VLOOKUP(B2269,'(1) Project Reference Item List'!$B$2:$D$1000,3,FALSE)","v":{"$error":"#N/A"}},null,null,0,0]
[{"$f":"VLOOKUP(B2270,'(1) Project Reference Item List'!$B$2:$C$1000,2,FALSE)","v":{"$error":"#N/A"}},null,null,null,null,null,null,null,null,null,null,{"$f":"VLOOKUP(B2270,'(1) Project Reference Item List'!$B$2:$D$1000,3,FALSE)","v":{"$error":"#N/A"}},null,null,0,0]
[{"$f":"VLOOKUP(B2271,'(1) Project Reference Item List'!$B$2:$C$1000,2,FALSE)","v":{"$error":"#N/A"}},null,null,null,null,null,null,null,null,null,null,{"$f":"VLOOKUP(B2271,'(1) Project Reference Item List'!$B$2:$D$1000,3,FALSE)","v":{"$error":"#N/A"}},null,null,0,0]
[{"$f":"VLOOKUP(B2272,'(1) Project Reference Item List'!$B$2:$C$1000,2,FALSE)","v":{"$error":"#N/A"}},null,null,null,null,null,null,null,null,null,null,{"$f":"VLOOKUP(B2272,'(1) Project Reference Item List'!$B$2:$D$1000,3,FALSE)","v":{"$error":"#N/A"}},null,null,0,0]
[{"$f":"VLOOKUP(B2273,'(1) Project Reference Item List'!$B$2:$C$1000,2,FALSE)","v":{"$error":"#N/A"}},null,null,null,null,null,null,null,null,null,null,{"$f":"VLOOKUP(B2273,'(1) Project Reference Item List'!$B$2:$D$1000,3,FALSE)","v":{"$error":"#N/A"}},null,null,0,0]
[{"$f":"VLOOKUP(B2274,'(1) Project Reference Item List'!$B$2:$C$1000,2,FALSE)","v":{"$error":"#N/A"}},null,null,null,null,null,null,null,null,null,null,{"$f":"VLOOKUP(B2274,'(1) Project Reference Item List'!$B$2:$D$1000,3,FALSE)","v":{"$error":"#N/A"}},null,null,0,0]
[{"$f":"VLOOKUP(B2275,'(1) Project Reference Item List'!$B$2:$C$1000,2,FALSE)","v":{"$error":"#N/A"}},null,null,null,null,null,null,null,null,null,null,{"$f":"VLOOKUP(B2275,'(1) Project Reference Item List'!$B$2:$D$1000,3,FALSE)","v":{"$error":"#N/A"}},null,null,0,0]
[{"$f":"VLOOKUP(B2276,'(1) Project Reference Item List'!$B$2:$C$1000,2,FALSE)","v":{"$error":"#N/A"}},null,null,null,null,null,null,null,null,null,null,{"$f":"VLOOKUP(B2276,'(1) Project Reference Item List'!$B$2:$D$1000,3,FALSE)","v":{"$error":"#N/A"}},null,null,0,0]
[{"$f":"VLOOKUP(B2277,'(1) Project Reference Item List'!$B$2:$C$1000,2,FALSE)","v":{"$error":"#N/A"}},null,null,null,null,null,null,null,null,null,null,{"$f":"VLOOKUP(B2277,'(1) Project Reference Item List'!$B$2:$D$1000,3,FALSE)","v":{"$error":"#N/A"}},null,null,0,0]
[{"$f":"VLOOKUP(B2278,'(1) Project Reference Item List'!$B$2:$C$1000,2,FALSE)","v":{"$error":"#N/A"}},null,null,null,null,null,null,null,null,null,null,{"$f":"VLOOKUP(B2278,'(1) Project Reference Item List'!$B$2:$D$1000,3,FALSE)","v":{"$error":"#N/A"}},null,null,0,0]
[{"$f":"VLOOKUP(B2279,'(1) Project Reference Item List'!$B$2:$C$1000,2,FALSE)","v":{"$error":"#N/A"}},null,null,null,null,null,null,null,null,null,null,{"$f":"VLOOKUP(B2279,'(1) Project Reference Item List'!$B$2:$D$1000,3,FALSE)","v":{"$error":"#N/A"}},null,null,0,0]
[{"$f":"VLOOKUP(B2280,'(1) Project Reference Item List'!$B$2:$C$1000,2,FALSE)","v":{"$error":"#N/A"}},null,null,null,null,null,null,null,null,null,null,{"$f":"VLOOKUP(B2280,'(1) Project Reference Item List'!$B$2:$D$1000,3,FALSE)","v":{"$error":"#N/A"}},null,null,0,0]
[{"$f":"VLOOKUP(B2281,'(1) Project Reference Item List'!$B$2:$C$1000,2,FALSE)","v":{"$error":"#N/A"}},null,null,null,null,null,null,null,null,null,null,{"$f":"VLOOKUP(B2281,'(1) Project Reference Item List'!$B$2:$D$1000,3,FALSE)","v":{"$error":"#N/A"}},null,null,0,0]
[{"$f":"VLOOKUP(B2282,'(1) Project Reference Item List'!$B$2:$C$1000,2,FALSE)","v":{"$error":"#N/A"}},null,null,null,null,null,null,null,null,null,null,{"$f":"VLOOKUP(B2282,'(1) Project Reference Item List'!$B$2:$D$1000,3,FALSE)","v":{"$error":"#N/A"}},null,null,0,0]
[{"$f":"VLOOKUP(B2283,'(1) Project Reference Item List'!$B$2:$C$1000,2,FALSE)","v":{"$error":"#N/A"}},null,null,null,null,null,null,null,null,null,null,{"$f":"VLOOKUP(B2283,'(1) Project Reference Item List'!$B$2:$D$1000,3,FALSE)","v":{"$error":"#N/A"}},null,null,0,0]
[{"$f":"VLOOKUP(B2284,'(1) Project Reference Item List'!$B$2:$C$1000,2,FALSE)","v":{"$error":"#N/A"}},null,null,null,null,null,null,null,null,null,null,{"$f":"VLOOKUP(B2284,'(1) Project Reference Item List'!$B$2:$D$1000,3,FALSE)","v":{"$error":"#N/A"}},null,null,0,0]
[{"$f":"VLOOKUP(B2285,'(1) Project Reference Item List'!$B$2:$C$1000,2,FALSE)","v":{"$error":"#N/A"}},null,null,null,null,null,null,null,null,null,null,{"$f":"VLOOKUP(B2285,'(1) Project Reference Item List'!$B$2:$D$1000,3,FALSE)","v":{"$error":"#N/A"}},null,null,0,0]
[{"$f":"VLOOKUP(B2286,'(1) Project Reference Item List'!$B$2:$C$1000,2,FALSE)","v":{"$error":"#N/A"}},null,null,null,null,null,null,null,null,null,null,{"$f":"VLOOKUP(B2286,'(1) Project Reference Item List'!$B$2:$D$1000,3,FALSE)","v":{"$error":"#N/A"}},null,null,0,0]
[{"$f":"VLOOKUP(B2287,'(1) Project Reference Item List'!$B$2:$C$1000,2,FALSE)","v":{"$error":"#N/A"}},null,null,null,null,null,null,null,null,null,null,{"$f":"VLOOKUP(B2287,'(1) Project Reference Item List'!$B$2:$D$1000,3,FALSE)","v":{"$error":"#N/A"}},null,null,0,0]
[{"$f":"VLOOKUP(B2288,'(1) Project Reference Item List'!$B$2:$C$1000,2,FALSE)","v":{"$error":"#N/A"}},null,null,null,null,null,null,null,null,null,null,{"$f":"VLOOKUP(B2288,'(1) Project Reference Item List'!$B$2:$D$1000,3,FALSE)","v":{"$error":"#N/A"}},null,null,0,0]
[{"$f":"VLOOKUP(B2289,'(1) Project Reference Item List'!$B$2:$C$1000,2,FALSE)","v":{"$error":"#N/A"}},null,null,null,null,null,null,null,null,null,null,{"$f":"VLOOKUP(B2289,'(1) Project Reference Item List'!$B$2:$D$1000,3,FALSE)","v":{"$error":"#N/A"}},null,null,0,0]
[{"$f":"VLOOKUP(B2290,'(1) Project Reference Item List'!$B$2:$C$1000,2,FALSE)","v":{"$error":"#N/A"}},null,null,null,null,null,null,null,null,null,null,{"$f":"VLOOKUP(B2290,'(1) Project Reference Item List'!$B$2:$D$1000,3,FALSE)","v":{"$error":"#N/A"}},null,null,0,0]
[{"$f":"VLOOKUP(B2291,'(1) Project Reference Item List'!$B$2:$C$1000,2,FALSE)","v":{"$error":"#N/A"}},null,null,null,null,null,null,null,null,null,null,{"$f":"VLOOKUP(B2291,'(1) Project Reference Item List'!$B$2:$D$1000,3,FALSE)","v":{"$error":"#N/A"}},null,null,0,0]
[{"$f":"VLOOKUP(B2292,'(1) Project Reference Item List'!$B$2:$C$1000,2,FALSE)","v":{"$error":"#N/A"}},null,null,null,null,null,null,null,null,null,null,{"$f":"VLOOKUP(B2292,'(1) Project Reference Item List'!$B$2:$D$1000,3,FALSE)","v":{"$error":"#N/A"}},null,null,0,0]
[{"$f":"VLOOKUP(B2293,'(1) Project Reference Item List'!$B$2:$C$1000,2,FALSE)","v":{"$error":"#N/A"}},null,null,null,null,null,null,null,null,null,null,{"$f":"VLOOKUP(B2293,'(1) Project Reference Item List'!$B$2:$D$1000,3,FALSE)","v":{"$error":"#N/A"}},null,null,0,0]
[{"$f":"VLOOKUP(B2294,'(1) Project Reference Item List'!$B$2:$C$1000,2,FALSE)","v":{"$error":"#N/A"}},null,null,null,null,null,null,null,null,null,null,{"$f":"VLOOKUP(B2294,'(1) Project Reference Item List'!$B$2:$D$1000,3,FALSE)","v":{"$error":"#N/A"}},null,null,0,0]
[{"$f":"VLOOKUP(B2295,'(1) Project Reference Item List'!$B$2:$C$1000,2,FALSE)","v":{"$error":"#N/A"}},null,null,null,null,null,null,null,null,null,null,{"$f":"VLOOKUP(B2295,'(1) Project Reference Item List'!$B$2:$D$1000,3,FALSE)","v":{"$error":"#N/A"}},null,null,0,0]
[{"$f":"VLOOKUP(B2296,'(1) Project Reference Item List'!$B$2:$C$1000,2,FALSE)","v":{"$error":"#N/A"}},null,null,null,null,null,null,null,null,null,null,{"$f":"VLOOKUP(B2296,'(1) Project Reference Item List'!$B$2:$D$1000,3,FALSE)","v":{"$error":"#N/A"}},null,null,0,0]
[{"$f":"VLOOKUP(B2297,'(1) Project Reference Item List'!$B$2:$C$1000,2,FALSE)","v":{"$error":"#N/A"}},null,null,null,null,null,null,null,null,null,null,{"$f":"VLOOKUP(B2297,'(1) Project Reference Item List'!$B$2:$D$1000,3,FALSE)","v":{"$error":"#N/A"}},null,null,0,0]
[{"$f":"VLOOKUP(B2298,'(1) Project Reference Item List'!$B$2:$C$1000,2,FALSE)","v":{"$error":"#N/A"}},null,null,null,null,null,null,null,null,null,null,{"$f":"VLOOKUP(B2298,'(1) Project Reference Item List'!$B$2:$D$1000,3,FALSE)","v":{"$error":"#N/A"}},null,null,0,0]
[{"$f":"VLOOKUP(B2299,'(1) Project Reference Item List'!$B$2:$C$1000,2,FALSE)","v":{"$error":"#N/A"}},null,null,null,null,null,null,null,null,null,null,{"$f":"VLOOKUP(B2299,'(1) Project Reference Item List'!$B$2:$D$1000,3,FALSE)","v":{"$error":"#N/A"}},null,null,0,0]
[{"$f":"VLOOKUP(B2300,'(1) Project Reference Item List'!$B$2:$C$1000,2,FALSE)","v":{"$error":"#N/A"}},null,null,null,null,null,null,null,null,null,null,{"$f":"VLOOKUP(B2300,'(1) Project Reference Item List'!$B$2:$D$1000,3,FALSE)","v":{"$error":"#N/A"}},null,null,0,0]
[{"$f":"VLOOKUP(B2301,'(1) Project Reference Item List'!$B$2:$C$1000,2,FALSE)","v":{"$error":"#N/A"}},null,null,null,null,null,null,null,null,null,null,{"$f":"VLOOKUP(B2301,'(1) Project Reference Item List'!$B$2:$D$1000,3,FALSE)","v":{"$error":"#N/A"}},null,null,0,0]
[{"$f":"VLOOKUP(B2302,'(1) Project Reference Item List'!$B$2:$C$1000,2,FALSE)","v":{"$error":"#N/A"}},null,null,null,null,null,null,null,null,null,null,{"$f":"VLOOKUP(B2302,'(1) Project Reference Item List'!$B$2:$D$1000,3,FALSE)","v":{"$error":"#N/A"}},null,null,0,0]
[{"$f":"VLOOKUP(B2303,'(1) Project Reference Item List'!$B$2:$C$1000,2,FALSE)","v":{"$error":"#N/A"}},null,null,null,null,null,null,null,null,null,null,{"$f":"VLOOKUP(B2303,'(1) Project Reference Item List'!$B$2:$D$1000,3,FALSE)","v":{"$error":"#N/A"}},null,null,0,0]
[{"$f":"VLOOKUP(B2304,'(1) Project Reference Item List'!$B$2:$C$1000,2,FALSE)","v":{"$error":"#N/A"}},null,null,null,null,null,null,null,null,null,null,{"$f":"VLOOKUP(B2304,'(1) Project Reference Item List'!$B$2:$D$1000,3,FALSE)","v":{"$error":"#N/A"}},null,null,0,0]
[{"$f":"VLOOKUP(B2305,'(1) Project Reference Item List'!$B$2:$C$1000,2,FALSE)","v":{"$error":"#N/A"}},null,null,null,null,null,null,null,null,null,null,{"$f":"VLOOKUP(B2305,'(1) Project Reference Item List'!$B$2:$D$1000,3,FALSE)","v":{"$error":"#N/A"}},null,null,0,0]
[{"$f":"VLOOKUP(B2306,'(1) Project Reference Item List'!$B$2:$C$1000,2,FALSE)","v":{"$error":"#N/A"}},null,null,null,null,null,null,null,null,null,null,{"$f":"VLOOKUP(B2306,'(1) Project Reference Item List'!$B$2:$D$1000,3,FALSE)","v":{"$error":"#N/A"}},null,null,0,0]
[{"$f":"VLOOKUP(B2307,'(1) Project Reference Item List'!$B$2:$C$1000,2,FALSE)","v":{"$error":"#N/A"}},null,null,null,null,null,null,null,null,null,null,{"$f":"VLOOKUP(B2307,'(1) Project Reference Item List'!$B$2:$D$1000,3,FALSE)","v":{"$error":"#N/A"}},null,null,0,0]
[{"$f":"VLOOKUP(B2308,'(1) Project Reference Item List'!$B$2:$C$1000,2,FALSE)","v":{"$error":"#N/A"}},null,null,null,null,null,null,null,null,null,null,{"$f":"VLOOKUP(B2308,'(1) Project Reference Item List'!$B$2:$D$1000,3,FALSE)","v":{"$error":"#N/A"}},null,null,0,0]
[{"$f":"VLOOKUP(B2309,'(1) Project Reference Item List'!$B$2:$C$1000,2,FALSE)","v":{"$error":"#N/A"}},null,null,null,null,null,null,null,null,null,null,{"$f":"VLOOKUP(B2309,'(1) Project Reference Item List'!$B$2:$D$1000,3,FALSE)","v":{"$error":"#N/A"}},null,null,0,0]
[{"$f":"VLOOKUP(B2310,'(1) Project Reference Item List'!$B$2:$C$1000,2,FALSE)","v":{"$error":"#N/A"}},null,null,null,null,null,null,null,null,null,null,{"$f":"VLOOKUP(B2310,'(1) Project Reference Item List'!$B$2:$D$1000,3,FALSE)","v":{"$error":"#N/A"}},null,null,{"$f":"IF(J2310=0,J2310,J2310*N2310)","v":0},{"$f":"(M2310-O2310)","v":0}]
[{"$f":"VLOOKUP(B2311,'(1) Project Reference Item List'!$B$2:$C$1000,2,FALSE)","v":{"$error":"#N/A"}},null,null,null,null,null,null,null,null,null,null,{"$f":"VLOOKUP(B2311,'(1) Project Reference Item List'!$B$2:$D$1000,3,FALSE)","v":{"$error":"#N/A"}},null,null,0,0]
[{"$f":"VLOOKUP(B2312,'(1) Project Reference Item List'!$B$2:$C$1000,2,FALSE)","v":{"$error":"#N/A"}},null,null,null,null,null,null,null,null,null,null,{"$f":"VLOOKUP(B2312,'(1) Project Reference Item List'!$B$2:$D$1000,3,FALSE)","v":{"$error":"#N/A"}},null,null,0,0]
[{"$f":"VLOOKUP(B2313,'(1) Project Reference Item List'!$B$2:$C$1000,2,FALSE)","v":{"$error":"#N/A"}},null,null,null,null,null,null,null,null,null,null,{"$f":"VLOOKUP(B2313,'(1) Project Reference Item List'!$B$2:$D$1000,3,FALSE)","v":{"$error":"#N/A"}},null,null,0,0]
[{"$f":"VLOOKUP(B2314,'(1) Project Reference Item List'!$B$2:$C$1000,2,FALSE)","v":{"$error":"#N/A"}},null,null,null,null,null,null,null,null,null,null,{"$f":"VLOOKUP(B2314,'(1) Project Reference Item List'!$B$2:$D$1000,3,FALSE)","v":{"$error":"#N/A"}},null,null,0,0]
[{"$f":"VLOOKUP(B2315,'(1) Project Reference Item List'!$B$2:$C$1000,2,FALSE)","v":{"$error":"#N/A"}},null,null,null,null,null,null,null,null,null,null,{"$f":"VLOOKUP(B2315,'(1) Project Reference Item List'!$B$2:$D$1000,3,FALSE)","v":{"$error":"#N/A"}},null,null,0,0]
[{"$f":"VLOOKUP(B2316,'(1) Project Reference Item List'!$B$2:$C$1000,2,FALSE)","v":{"$error":"#N/A"}},null,null,null,null,null,null,null,null,null,null,{"$f":"VLOOKUP(B2316,'(1) Project Reference Item List'!$B$2:$D$1000,3,FALSE)","v":{"$error":"#N/A"}},null,null,0,0]
[{"$f":"VLOOKUP(B2317,'(1) Project Reference Item List'!$B$2:$C$1000,2,FALSE)","v":{"$error":"#N/A"}},null,null,null,null,null,null,null,null,null,null,{"$f":"VLOOKUP(B2317,'(1) Project Reference Item List'!$B$2:$D$1000,3,FALSE)","v":{"$error":"#N/A"}},null,null,0,0]
[{"$f":"VLOOKUP(B2318,'(1) Project Reference Item List'!$B$2:$C$1000,2,FALSE)","v":{"$error":"#N/A"}},null,null,null,null,null,null,null,null,null,null,{"$f":"VLOOKUP(B2318,'(1) Project Reference Item List'!$B$2:$D$1000,3,FALSE)","v":{"$error":"#N/A"}},null,null,0,0]
[{"$f":"VLOOKUP(B2319,'(1) Project Reference Item List'!$B$2:$C$1000,2,FALSE)","v":{"$error":"#N/A"}},null,null,null,null,null,null,null,null,null,null,{"$f":"VLOOKUP(B2319,'(1) Project Reference Item List'!$B$2:$D$1000,3,FALSE)","v":{"$error":"#N/A"}},null,null,0,0]
[{"$f":"VLOOKUP(B2320,'(1) Project Reference Item List'!$B$2:$C$1000,2,FALSE)","v":{"$error":"#N/A"}},null,null,null,null,null,null,null,null,null,null,{"$f":"VLOOKUP(B2320,'(1) Project Reference Item List'!$B$2:$D$1000,3,FALSE)","v":{"$error":"#N/A"}},null,null,0,0]
[{"$f":"VLOOKUP(B2321,'(1) Project Reference Item List'!$B$2:$C$1000,2,FALSE)","v":{"$error":"#N/A"}},null,null,null,null,null,null,null,null,null,null,{"$f":"VLOOKUP(B2321,'(1) Project Reference Item List'!$B$2:$D$1000,3,FALSE)","v":{"$error":"#N/A"}},null,null,0,0]
[{"$f":"VLOOKUP(B2322,'(1) Project Reference Item List'!$B$2:$C$1000,2,FALSE)","v":{"$error":"#N/A"}},null,null,null,null,null,null,null,null,null,null,{"$f":"VLOOKUP(B2322,'(1) Project Reference Item List'!$B$2:$D$1000,3,FALSE)","v":{"$error":"#N/A"}},null,null,0,0]
[{"$f":"VLOOKUP(B2323,'(1) Project Reference Item List'!$B$2:$C$1000,2,FALSE)","v":{"$error":"#N/A"}},null,null,null,null,null,null,null,null,null,null,{"$f":"VLOOKUP(B2323,'(1) Project Reference Item List'!$B$2:$D$1000,3,FALSE)","v":{"$error":"#N/A"}},null,null,0,0]
[{"$f":"VLOOKUP(B2324,'(1) Project Reference Item List'!$B$2:$C$1000,2,FALSE)","v":{"$error":"#N/A"}},null,null,null,null,null,null,null,null,null,null,{"$f":"VLOOKUP(B2324,'(1) Project Reference Item List'!$B$2:$D$1000,3,FALSE)","v":{"$error":"#N/A"}},null,null,0,0]
[{"$f":"VLOOKUP(B2325,'(1) Project Reference Item List'!$B$2:$C$1000,2,FALSE)","v":{"$error":"#N/A"}},null,null,null,null,null,null,null,null,null,null,{"$f":"VLOOKUP(B2325,'(1) Project Reference Item List'!$B$2:$D$1000,3,FALSE)","v":{"$error":"#N/A"}},null,null,0,0]
[{"$f":"VLOOKUP(B2326,'(1) Project Reference Item List'!$B$2:$C$1000,2,FALSE)","v":{"$error":"#N/A"}},null,null,null,null,null,null,null,null,null,null,{"$f":"VLOOKUP(B2326,'(1) Project Reference Item List'!$B$2:$D$1000,3,FALSE)","v":{"$error":"#N/A"}},null,null,0,0]
[{"$f":"VLOOKUP(B2327,'(1) Project Reference Item List'!$B$2:$C$1000,2,FALSE)","v":{"$error":"#N/A"}},null,null,null,null,null,null,null,null,null,null,{"$f":"VLOOKUP(B2327,'(1) Project Reference Item List'!$B$2:$D$1000,3,FALSE)","v":{"$error":"#N/A"}},null,null,0,0]
[{"$f":"VLOOKUP(B2328,'(1) Project Reference Item List'!$B$2:$C$1000,2,FALSE)","v":{"$error":"#N/A"}},null,null,null,null,null,null,null,null,null,null,{"$f":"VLOOKUP(B2328,'(1) Project Reference Item List'!$B$2:$D$1000,3,FALSE)","v":{"$error":"#N/A"}},null,null,0,0]
[{"$f":"VLOOKUP(B2329,'(1) Project Reference Item List'!$B$2:$C$1000,2,FALSE)","v":{"$error":"#N/A"}},null,null,null,null,null,null,null,null,null,null,{"$f":"VLOOKUP(B2329,'(1) Project Reference Item List'!$B$2:$D$1000,3,FALSE)","v":{"$error":"#N/A"}},null,null,0,0]
[{"$f":"VLOOKUP(B2330,'(1) Project Reference Item List'!$B$2:$C$1000,2,FALSE)","v":{"$error":"#N/A"}},null,null,null,null,null,null,null,null,null,null,{"$f":"VLOOKUP(B2330,'(1) Project Reference Item List'!$B$2:$D$1000,3,FALSE)","v":{"$error":"#N/A"}},null,null,0,0]
[{"$f":"VLOOKUP(B2331,'(1) Project Reference Item List'!$B$2:$C$1000,2,FALSE)","v":{"$error":"#N/A"}},null,null,null,null,null,null,null,null,null,null,{"$f":"VLOOKUP(B2331,'(1) Project Reference Item List'!$B$2:$D$1000,3,FALSE)","v":{"$error":"#N/A"}},null,null,0,0]
[{"$f":"VLOOKUP(B2332,'(1) Project Reference Item List'!$B$2:$C$1000,2,FALSE)","v":{"$error":"#N/A"}},null,null,null,null,null,null,null,null,null,null,{"$f":"VLOOKUP(B2332,'(1) Project Reference Item List'!$B$2:$D$1000,3,FALSE)","v":{"$error":"#N/A"}},null,null,0,0]
[{"$f":"VLOOKUP(B2333,'(1) Project Reference Item List'!$B$2:$C$1000,2,FALSE)","v":{"$error":"#N/A"}},null,null,null,null,null,null,null,null,null,null,{"$f":"VLOOKUP(B2333,'(1) Project Reference Item List'!$B$2:$D$1000,3,FALSE)","v":{"$error":"#N/A"}},null,null,0,0]
[{"$f":"VLOOKUP(B2334,'(1) Project Reference Item List'!$B$2:$C$1000,2,FALSE)","v":{"$error":"#N/A"}},null,null,null,null,null,null,null,null,null,null,{"$f":"VLOOKUP(B2334,'(1) Project Reference Item List'!$B$2:$D$1000,3,FALSE)","v":{"$error":"#N/A"}},null,null,0,0]
[{"$f":"VLOOKUP(B2335,'(1) Project Reference Item List'!$B$2:$C$1000,2,FALSE)","v":{"$error":"#N/A"}},null,null,null,null,null,null,null,null,null,null,{"$f":"VLOOKUP(B2335,'(1) Project Reference Item List'!$B$2:$D$1000,3,FALSE)","v":{"$error":"#N/A"}},null,null,0,0]
[{"$f":"VLOOKUP(B2336,'(1) Project Reference Item List'!$B$2:$C$1000,2,FALSE)","v":{"$error":"#N/A"}},null,null,null,null,null,null,null,null,null,null,{"$f":"VLOOKUP(B2336,'(1) Project Reference Item List'!$B$2:$D$1000,3,FALSE)","v":{"$error":"#N/A"}},null,null,0,0]
[{"$f":"VLOOKUP(B2337,'(1) Project Reference Item List'!$B$2:$C$1000,2,FALSE)","v":{"$error":"#N/A"}},null,null,null,null,null,null,null,null,null,null,{"$f":"VLOOKUP(B2337,'(1) Project Reference Item List'!$B$2:$D$1000,3,FALSE)","v":{"$error":"#N/A"}},null,null,0,0]
[{"$f":"VLOOKUP(B2338,'(1) Project Reference Item List'!$B$2:$C$1000,2,FALSE)","v":{"$error":"#N/A"}},null,null,null,null,null,null,null,null,null,null,{"$f":"VLOOKUP(B2338,'(1) Project Reference Item List'!$B$2:$D$1000,3,FALSE)","v":{"$error":"#N/A"}},null,null,0,0]
[{"$f":"VLOOKUP(B2339,'(1) Project Reference Item List'!$B$2:$C$1000,2,FALSE)","v":{"$error":"#N/A"}},null,null,null,null,null,null,null,null,null,null,{"$f":"VLOOKUP(B2339,'(1) Project Reference Item List'!$B$2:$D$1000,3,FALSE)","v":{"$error":"#N/A"}},null,null,0,0]
[{"$f":"VLOOKUP(B2340,'(1) Project Reference Item List'!$B$2:$C$1000,2,FALSE)","v":{"$error":"#N/A"}},null,null,null,null,null,null,null,null,null,null,{"$f":"VLOOKUP(B2340,'(1) Project Reference Item List'!$B$2:$D$1000,3,FALSE)","v":{"$error":"#N/A"}},null,null,0,0]
[{"$f":"VLOOKUP(B2341,'(1) Project Reference Item List'!$B$2:$C$1000,2,FALSE)","v":{"$error":"#N/A"}},null,null,null,null,null,null,null,null,null,null,{"$f":"VLOOKUP(B2341,'(1) Project Reference Item List'!$B$2:$D$1000,3,FALSE)","v":{"$error":"#N/A"}},null,null,0,0]
[{"$f":"VLOOKUP(B2342,'(1) Project Reference Item List'!$B$2:$C$1000,2,FALSE)","v":{"$error":"#N/A"}},null,null,null,null,null,null,null,null,null,null,{"$f":"VLOOKUP(B2342,'(1) Project Reference Item List'!$B$2:$D$1000,3,FALSE)","v":{"$error":"#N/A"}},null,null,0,0]
[{"$f":"VLOOKUP(B2343,'(1) Project Reference Item List'!$B$2:$C$1000,2,FALSE)","v":{"$error":"#N/A"}},null,null,null,null,null,null,null,null,null,null,{"$f":"VLOOKUP(B2343,'(1) Project Reference Item List'!$B$2:$D$1000,3,FALSE)","v":{"$error":"#N/A"}},null,null,0,0]
[{"$f":"VLOOKUP(B2344,'(1) Project Reference Item List'!$B$2:$C$1000,2,FALSE)","v":{"$error":"#N/A"}},null,null,null,null,null,null,null,null,null,null,{"$f":"VLOOKUP(B2344,'(1) Project Reference Item List'!$B$2:$D$1000,3,FALSE)","v":{"$error":"#N/A"}},null,null,0,0]
[{"$f":"VLOOKUP(B2345,'(1) Project Reference Item List'!$B$2:$C$1000,2,FALSE)","v":{"$error":"#N/A"}},null,null,null,null,null,null,null,null,null,null,{"$f":"VLOOKUP(B2345,'(1) Project Reference Item List'!$B$2:$D$1000,3,FALSE)","v":{"$error":"#N/A"}},null,null,0,0]
[{"$f":"VLOOKUP(B2346,'(1) Project Reference Item List'!$B$2:$C$1000,2,FALSE)","v":{"$error":"#N/A"}},null,null,null,null,null,null,null,null,null,null,{"$f":"VLOOKUP(B2346,'(1) Project Reference Item List'!$B$2:$D$1000,3,FALSE)","v":{"$error":"#N/A"}},null,null,0,0]
[{"$f":"VLOOKUP(B2347,'(1) Project Reference Item List'!$B$2:$C$1000,2,FALSE)","v":{"$error":"#N/A"}},null,null,null,null,null,null,null,null,null,null,{"$f":"VLOOKUP(B2347,'(1) Project Reference Item List'!$B$2:$D$1000,3,FALSE)","v":{"$error":"#N/A"}},null,null,0,0]
[{"$f":"VLOOKUP(B2348,'(1) Project Reference Item List'!$B$2:$C$1000,2,FALSE)","v":{"$error":"#N/A"}},null,null,null,null,null,null,null,null,null,null,{"$f":"VLOOKUP(B2348,'(1) Project Reference Item List'!$B$2:$D$1000,3,FALSE)","v":{"$error":"#N/A"}},null,null,0,0]
[{"$f":"VLOOKUP(B2349,'(1) Project Reference Item List'!$B$2:$C$1000,2,FALSE)","v":{"$error":"#N/A"}},null,null,null,null,null,null,null,null,null,null,{"$f":"VLOOKUP(B2349,'(1) Project Reference Item List'!$B$2:$D$1000,3,FALSE)","v":{"$error":"#N/A"}},null,null,0,0]
[{"$f":"VLOOKUP(B2350,'(1) Project Reference Item List'!$B$2:$C$1000,2,FALSE)","v":{"$error":"#N/A"}},null,null,null,null,null,null,null,null,null,null,{"$f":"VLOOKUP(B2350,'(1) Project Reference Item List'!$B$2:$D$1000,3,FALSE)","v":{"$error":"#N/A"}},null,null,0,0]
[{"$f":"VLOOKUP(B2351,'(1) Project Reference Item List'!$B$2:$C$1000,2,FALSE)","v":{"$error":"#N/A"}},null,null,null,null,null,null,null,null,null,null,{"$f":"VLOOKUP(B2351,'(1) Project Reference Item List'!$B$2:$D$1000,3,FALSE)","v":{"$error":"#N/A"}},null,null,0,0]
[{"$f":"VLOOKUP(B2352,'(1) Project Reference Item List'!$B$2:$C$1000,2,FALSE)","v":{"$error":"#N/A"}},null,null,null,null,null,null,null,null,null,null,{"$f":"VLOOKUP(B2352,'(1) Project Reference Item List'!$B$2:$D$1000,3,FALSE)","v":{"$error":"#N/A"}},null,null,0,0]
[{"$f":"VLOOKUP(B2353,'(1) Project Reference Item List'!$B$2:$C$1000,2,FALSE)","v":{"$error":"#N/A"}},null,null,null,null,null,null,null,null,null,null,{"$f":"VLOOKUP(B2353,'(1) Project Reference Item List'!$B$2:$D$1000,3,FALSE)","v":{"$error":"#N/A"}},null,null,0,0]
[{"$f":"VLOOKUP(B2354,'(1) Project Reference Item List'!$B$2:$C$1000,2,FALSE)","v":{"$error":"#N/A"}},null,null,null,null,null,null,null,null,null,null,{"$f":"VLOOKUP(B2354,'(1) Project Reference Item List'!$B$2:$D$1000,3,FALSE)","v":{"$error":"#N/A"}},null,null,0,0]
[{"$f":"VLOOKUP(B2355,'(1) Project Reference Item List'!$B$2:$C$1000,2,FALSE)","v":{"$error":"#N/A"}},null,null,null,null,null,null,null,null,null,null,{"$f":"VLOOKUP(B2355,'(1) Project Reference Item List'!$B$2:$D$1000,3,FALSE)","v":{"$error":"#N/A"}},null,null,0,0]
[{"$f":"VLOOKUP(B2356,'(1) Project Reference Item List'!$B$2:$C$1000,2,FALSE)","v":{"$error":"#N/A"}},null,null,null,null,null,null,null,null,null,null,{"$f":"VLOOKUP(B2356,'(1) Project Reference Item List'!$B$2:$D$1000,3,FALSE)","v":{"$error":"#N/A"}},null,null,0,0]
[{"$f":"VLOOKUP(B2357,'(1) Project Reference Item List'!$B$2:$C$1000,2,FALSE)","v":{"$error":"#N/A"}},null,null,null,null,null,null,null,null,null,null,{"$f":"VLOOKUP(B2357,'(1) Project Reference Item List'!$B$2:$D$1000,3,FALSE)","v":{"$error":"#N/A"}},null,null,0,0]
[{"$f":"VLOOKUP(B2358,'(1) Project Reference Item List'!$B$2:$C$1000,2,FALSE)","v":{"$error":"#N/A"}},null,null,null,null,null,null,null,null,null,null,{"$f":"VLOOKUP(B2358,'(1) Project Reference Item List'!$B$2:$D$1000,3,FALSE)","v":{"$error":"#N/A"}},null,null,0,0]
[{"$f":"VLOOKUP(B2359,'(1) Project Reference Item List'!$B$2:$C$1000,2,FALSE)","v":{"$error":"#N/A"}},null,null,null,null,null,null,null,null,null,null,{"$f":"VLOOKUP(B2359,'(1) Project Reference Item List'!$B$2:$D$1000,3,FALSE)","v":{"$error":"#N/A"}},null,null,0,0]
[{"$f":"VLOOKUP(B2360,'(1) Project Reference Item List'!$B$2:$C$1000,2,FALSE)","v":{"$error":"#N/A"}},null,null,null,null,null,null,null,null,null,null,{"$f":"VLOOKUP(B2360,'(1) Project Reference Item List'!$B$2:$D$1000,3,FALSE)","v":{"$error":"#N/A"}},null,null,0,0]
[{"$f":"VLOOKUP(B2361,'(1) Project Reference Item List'!$B$2:$C$1000,2,FALSE)","v":{"$error":"#N/A"}},null,null,null,null,null,null,null,null,null,null,{"$f":"VLOOKUP(B2361,'(1) Project Reference Item List'!$B$2:$D$1000,3,FALSE)","v":{"$error":"#N/A"}},null,null,0,0]
[{"$f":"VLOOKUP(B2362,'(1) Project Reference Item List'!$B$2:$C$1000,2,FALSE)","v":{"$error":"#N/A"}},null,null,null,null,null,null,null,null,null,null,{"$f":"VLOOKUP(B2362,'(1) Project Reference Item List'!$B$2:$D$1000,3,FALSE)","v":{"$error":"#N/A"}},null,null,0,0]
[{"$f":"VLOOKUP(B2363,'(1) Project Reference Item List'!$B$2:$C$1000,2,FALSE)","v":{"$error":"#N/A"}},null,null,null,null,null,null,null,null,null,null,{"$f":"VLOOKUP(B2363,'(1) Project Reference Item List'!$B$2:$D$1000,3,FALSE)","v":{"$error":"#N/A"}},null,null,0,0]
[{"$f":"VLOOKUP(B2364,'(1) Project Reference Item List'!$B$2:$C$1000,2,FALSE)","v":{"$error":"#N/A"}},null,null,null,null,null,null,null,null,null,null,{"$f":"VLOOKUP(B2364,'(1) Project Reference Item List'!$B$2:$D$1000,3,FALSE)","v":{"$error":"#N/A"}},null,null,0,0]
[{"$f":"VLOOKUP(B2365,'(1) Project Reference Item List'!$B$2:$C$1000,2,FALSE)","v":{"$error":"#N/A"}},null,null,null,null,null,null,null,null,null,null,{"$f":"VLOOKUP(B2365,'(1) Project Reference Item List'!$B$2:$D$1000,3,FALSE)","v":{"$error":"#N/A"}},null,null,0,0]
[{"$f":"VLOOKUP(B2366,'(1) Project Reference Item List'!$B$2:$C$1000,2,FALSE)","v":{"$error":"#N/A"}},null,null,null,null,null,null,null,null,null,null,{"$f":"VLOOKUP(B2366,'(1) Project Reference Item List'!$B$2:$D$1000,3,FALSE)","v":{"$error":"#N/A"}},null,null,0,0]
[{"$f":"VLOOKUP(B2367,'(1) Project Reference Item List'!$B$2:$C$1000,2,FALSE)","v":{"$error":"#N/A"}},null,null,null,null,null,null,null,null,null,null,{"$f":"VLOOKUP(B2367,'(1) Project Reference Item List'!$B$2:$D$1000,3,FALSE)","v":{"$error":"#N/A"}},null,null,0,0]
[{"$f":"VLOOKUP(B2368,'(1) Project Reference Item List'!$B$2:$C$1000,2,FALSE)","v":{"$error":"#N/A"}},null,null,null,null,null,null,null,null,null,null,{"$f":"VLOOKUP(B2368,'(1) Project Reference Item List'!$B$2:$D$1000,3,FALSE)","v":{"$error":"#N/A"}},null,null,0,0]
[{"$f":"VLOOKUP(B2369,'(1) Project Reference Item List'!$B$2:$C$1000,2,FALSE)","v":{"$error":"#N/A"}},null,null,null,null,null,null,null,null,null,null,{"$f":"VLOOKUP(B2369,'(1) Project Reference Item List'!$B$2:$D$1000,3,FALSE)","v":{"$error":"#N/A"}},null,null,0,0]
[{"$f":"VLOOKUP(B2370,'(1) Project Reference Item List'!$B$2:$C$1000,2,FALSE)","v":{"$error":"#N/A"}},null,null,null,null,null,null,null,null,null,null,{"$f":"VLOOKUP(B2370,'(1) Project Reference Item List'!$B$2:$D$1000,3,FALSE)","v":{"$error":"#N/A"}},null,null,0,0]
[{"$f":"VLOOKUP(B2371,'(1) Project Reference Item List'!$B$2:$C$1000,2,FALSE)","v":{"$error":"#N/A"}},null,null,null,null,null,null,null,null,null,null,{"$f":"VLOOKUP(B2371,'(1) Project Reference Item List'!$B$2:$D$1000,3,FALSE)","v":{"$error":"#N/A"}},null,null,0,0]
[{"$f":"VLOOKUP(B2372,'(1) Project Reference Item List'!$B$2:$C$1000,2,FALSE)","v":{"$error":"#N/A"}},null,null,null,null,null,null,null,null,null,null,{"$f":"VLOOKUP(B2372,'(1) Project Reference Item List'!$B$2:$D$1000,3,FALSE)","v":{"$error":"#N/A"}},null,null,0,0]
[{"$f":"VLOOKUP(B2373,'(1) Project Reference Item List'!$B$2:$C$1000,2,FALSE)","v":{"$error":"#N/A"}},null,null,null,null,null,null,null,null,null,null,{"$f":"VLOOKUP(B2373,'(1) Project Reference Item List'!$B$2:$D$1000,3,FALSE)","v":{"$error":"#N/A"}},null,null,0,0]
[{"$f":"VLOOKUP(B2374,'(1) Project Reference Item List'!$B$2:$C$1000,2,FALSE)","v":{"$error":"#N/A"}},null,null,null,null,null,null,null,null,null,null,{"$f":"VLOOKUP(B2374,'(1) Project Reference Item List'!$B$2:$D$1000,3,FALSE)","v":{"$error":"#N/A"}},null,null,{"$f":"IF(J2374=0,J2374,J2374*N2374)","v":0},{"$f":"(M2374-O2374)","v":0}]
[{"$f":"VLOOKUP(B2375,'(1) Project Reference Item List'!$B$2:$C$1000,2,FALSE)","v":{"$error":"#N/A"}},null,null,null,null,null,null,null,null,null,null,{"$f":"VLOOKUP(B2375,'(1) Project Reference Item List'!$B$2:$D$1000,3,FALSE)","v":{"$error":"#N/A"}},null,null,0,0]
[{"$f":"VLOOKUP(B2376,'(1) Project Reference Item List'!$B$2:$C$1000,2,FALSE)","v":{"$error":"#N/A"}},null,null,null,null,null,null,null,null,null,null,{"$f":"VLOOKUP(B2376,'(1) Project Reference Item List'!$B$2:$D$1000,3,FALSE)","v":{"$error":"#N/A"}},null,null,0,0]
[{"$f":"VLOOKUP(B2377,'(1) Project Reference Item List'!$B$2:$C$1000,2,FALSE)","v":{"$error":"#N/A"}},null,null,null,null,null,null,null,null,null,null,{"$f":"VLOOKUP(B2377,'(1) Project Reference Item List'!$B$2:$D$1000,3,FALSE)","v":{"$error":"#N/A"}},null,null,0,0]
[{"$f":"VLOOKUP(B2378,'(1) Project Reference Item List'!$B$2:$C$1000,2,FALSE)","v":{"$error":"#N/A"}},null,null,null,null,null,null,null,null,null,null,{"$f":"VLOOKUP(B2378,'(1) Project Reference Item List'!$B$2:$D$1000,3,FALSE)","v":{"$error":"#N/A"}},null,null,0,0]
[{"$f":"VLOOKUP(B2379,'(1) Project Reference Item List'!$B$2:$C$1000,2,FALSE)","v":{"$error":"#N/A"}},null,null,null,null,null,null,null,null,null,null,{"$f":"VLOOKUP(B2379,'(1) Project Reference Item List'!$B$2:$D$1000,3,FALSE)","v":{"$error":"#N/A"}},null,null,0,0]
[{"$f":"VLOOKUP(B2380,'(1) Project Reference Item List'!$B$2:$C$1000,2,FALSE)","v":{"$error":"#N/A"}},null,null,null,null,null,null,null,null,null,null,{"$f":"VLOOKUP(B2380,'(1) Project Reference Item List'!$B$2:$D$1000,3,FALSE)","v":{"$error":"#N/A"}},null,null,0,0]
[{"$f":"VLOOKUP(B2381,'(1) Project Reference Item List'!$B$2:$C$1000,2,FALSE)","v":{"$error":"#N/A"}},null,null,null,null,null,null,null,null,null,null,{"$f":"VLOOKUP(B2381,'(1) Project Reference Item List'!$B$2:$D$1000,3,FALSE)","v":{"$error":"#N/A"}},null,null,0,0]
[{"$f":"VLOOKUP(B2382,'(1) Project Reference Item List'!$B$2:$C$1000,2,FALSE)","v":{"$error":"#N/A"}},null,null,null,null,null,null,null,null,null,null,{"$f":"VLOOKUP(B2382,'(1) Project Reference Item List'!$B$2:$D$1000,3,FALSE)","v":{"$error":"#N/A"}},null,null,0,0]
[{"$f":"VLOOKUP(B2383,'(1) Project Reference Item List'!$B$2:$C$1000,2,FALSE)","v":{"$error":"#N/A"}},null,null,null,null,null,null,null,null,null,null,{"$f":"VLOOKUP(B2383,'(1) Project Reference Item List'!$B$2:$D$1000,3,FALSE)","v":{"$error":"#N/A"}},null,null,0,0]
[{"$f":"VLOOKUP(B2384,'(1) Project Reference Item List'!$B$2:$C$1000,2,FALSE)","v":{"$error":"#N/A"}},null,null,null,null,null,null,null,null,null,null,{"$f":"VLOOKUP(B2384,'(1) Project Reference Item List'!$B$2:$D$1000,3,FALSE)","v":{"$error":"#N/A"}},null,null,0,0]
[{"$f":"VLOOKUP(B2385,'(1) Project Reference Item List'!$B$2:$C$1000,2,FALSE)","v":{"$error":"#N/A"}},null,null,null,null,null,null,null,null,null,null,{"$f":"VLOOKUP(B2385,'(1) Project Reference Item List'!$B$2:$D$1000,3,FALSE)","v":{"$error":"#N/A"}},null,null,0,0]
[{"$f":"VLOOKUP(B2386,'(1) Project Reference Item List'!$B$2:$C$1000,2,FALSE)","v":{"$error":"#N/A"}},null,null,null,null,null,null,null,null,null,null,{"$f":"VLOOKUP(B2386,'(1) Project Reference Item List'!$B$2:$D$1000,3,FALSE)","v":{"$error":"#N/A"}},null,null,0,0]
[{"$f":"VLOOKUP(B2387,'(1) Project Reference Item List'!$B$2:$C$1000,2,FALSE)","v":{"$error":"#N/A"}},null,null,null,null,null,null,null,null,null,null,{"$f":"VLOOKUP(B2387,'(1) Project Reference Item List'!$B$2:$D$1000,3,FALSE)","v":{"$error":"#N/A"}},null,null,0,0]
[{"$f":"VLOOKUP(B2388,'(1) Project Reference Item List'!$B$2:$C$1000,2,FALSE)","v":{"$error":"#N/A"}},null,null,null,null,null,null,null,null,null,null,{"$f":"VLOOKUP(B2388,'(1) Project Reference Item List'!$B$2:$D$1000,3,FALSE)","v":{"$error":"#N/A"}},null,null,0,0]
[{"$f":"VLOOKUP(B2389,'(1) Project Reference Item List'!$B$2:$C$1000,2,FALSE)","v":{"$error":"#N/A"}},null,null,null,null,null,null,null,null,null,null,{"$f":"VLOOKUP(B2389,'(1) Project Reference Item List'!$B$2:$D$1000,3,FALSE)","v":{"$error":"#N/A"}},null,null,0,0]
[{"$f":"VLOOKUP(B2390,'(1) Project Reference Item List'!$B$2:$C$1000,2,FALSE)","v":{"$error":"#N/A"}},null,null,null,null,null,null,null,null,null,null,{"$f":"VLOOKUP(B2390,'(1) Project Reference Item List'!$B$2:$D$1000,3,FALSE)","v":{"$error":"#N/A"}},null,null,0,0]
[{"$f":"VLOOKUP(B2391,'(1) Project Reference Item List'!$B$2:$C$1000,2,FALSE)","v":{"$error":"#N/A"}},null,null,null,null,null,null,null,null,null,null,{"$f":"VLOOKUP(B2391,'(1) Project Reference Item List'!$B$2:$D$1000,3,FALSE)","v":{"$error":"#N/A"}},null,null,0,0]
[{"$f":"VLOOKUP(B2392,'(1) Project Reference Item List'!$B$2:$C$1000,2,FALSE)","v":{"$error":"#N/A"}},null,null,null,null,null,null,null,null,null,null,{"$f":"VLOOKUP(B2392,'(1) Project Reference Item List'!$B$2:$D$1000,3,FALSE)","v":{"$error":"#N/A"}},null,null,0,0]
[{"$f":"VLOOKUP(B2393,'(1) Project Reference Item List'!$B$2:$C$1000,2,FALSE)","v":{"$error":"#N/A"}},null,null,null,null,null,null,null,null,null,null,{"$f":"VLOOKUP(B2393,'(1) Project Reference Item List'!$B$2:$D$1000,3,FALSE)","v":{"$error":"#N/A"}},null,null,0,0]
[{"$f":"VLOOKUP(B2394,'(1) Project Reference Item List'!$B$2:$C$1000,2,FALSE)","v":{"$error":"#N/A"}},null,null,null,null,null,null,null,null,null,null,{"$f":"VLOOKUP(B2394,'(1) Project Reference Item List'!$B$2:$D$1000,3,FALSE)","v":{"$error":"#N/A"}},null,null,0,0]
[{"$f":"VLOOKUP(B2395,'(1) Project Reference Item List'!$B$2:$C$1000,2,FALSE)","v":{"$error":"#N/A"}},null,null,null,null,null,null,null,null,null,null,{"$f":"VLOOKUP(B2395,'(1) Project Reference Item List'!$B$2:$D$1000,3,FALSE)","v":{"$error":"#N/A"}},null,null,0,0]
[{"$f":"VLOOKUP(B2396,'(1) Project Reference Item List'!$B$2:$C$1000,2,FALSE)","v":{"$error":"#N/A"}},null,null,null,null,null,null,null,null,null,null,{"$f":"VLOOKUP(B2396,'(1) Project Reference Item List'!$B$2:$D$1000,3,FALSE)","v":{"$error":"#N/A"}},null,null,0,0]
[{"$f":"VLOOKUP(B2397,'(1) Project Reference Item List'!$B$2:$C$1000,2,FALSE)","v":{"$error":"#N/A"}},null,null,null,null,null,null,null,null,null,null,{"$f":"VLOOKUP(B2397,'(1) Project Reference Item List'!$B$2:$D$1000,3,FALSE)","v":{"$error":"#N/A"}},null,null,0,0]
[{"$f":"VLOOKUP(B2398,'(1) Project Reference Item List'!$B$2:$C$1000,2,FALSE)","v":{"$error":"#N/A"}},null,null,null,null,null,null,null,null,null,null,{"$f":"VLOOKUP(B2398,'(1) Project Reference Item List'!$B$2:$D$1000,3,FALSE)","v":{"$error":"#N/A"}},null,null,0,0]
[{"$f":"VLOOKUP(B2399,'(1) Project Reference Item List'!$B$2:$C$1000,2,FALSE)","v":{"$error":"#N/A"}},null,null,null,null,null,null,null,null,null,null,{"$f":"VLOOKUP(B2399,'(1) Project Reference Item List'!$B$2:$D$1000,3,FALSE)","v":{"$error":"#N/A"}},null,null,0,0]
[{"$f":"VLOOKUP(B2400,'(1) Project Reference Item List'!$B$2:$C$1000,2,FALSE)","v":{"$error":"#N/A"}},null,null,null,null,null,null,null,null,null,null,{"$f":"VLOOKUP(B2400,'(1) Project Reference Item List'!$B$2:$D$1000,3,FALSE)","v":{"$error":"#N/A"}},null,null,0,0]
[{"$f":"VLOOKUP(B2401,'(1) Project Reference Item List'!$B$2:$C$1000,2,FALSE)","v":{"$error":"#N/A"}},null,null,null,null,null,null,null,null,null,null,{"$f":"VLOOKUP(B2401,'(1) Project Reference Item List'!$B$2:$D$1000,3,FALSE)","v":{"$error":"#N/A"}},null,null,0,0]
[{"$f":"VLOOKUP(B2402,'(1) Project Reference Item List'!$B$2:$C$1000,2,FALSE)","v":{"$error":"#N/A"}},null,null,null,null,null,null,null,null,null,null,{"$f":"VLOOKUP(B2402,'(1) Project Reference Item List'!$B$2:$D$1000,3,FALSE)","v":{"$error":"#N/A"}},null,null,0,0]
[{"$f":"VLOOKUP(B2403,'(1) Project Reference Item List'!$B$2:$C$1000,2,FALSE)","v":{"$error":"#N/A"}},null,null,null,null,null,null,null,null,null,null,{"$f":"VLOOKUP(B2403,'(1) Project Reference Item List'!$B$2:$D$1000,3,FALSE)","v":{"$error":"#N/A"}},null,null,0,0]
[{"$f":"VLOOKUP(B2404,'(1) Project Reference Item List'!$B$2:$C$1000,2,FALSE)","v":{"$error":"#N/A"}},null,null,null,null,null,null,null,null,null,null,{"$f":"VLOOKUP(B2404,'(1) Project Reference Item List'!$B$2:$D$1000,3,FALSE)","v":{"$error":"#N/A"}},null,null,0,0]
[{"$f":"VLOOKUP(B2405,'(1) Project Reference Item List'!$B$2:$C$1000,2,FALSE)","v":{"$error":"#N/A"}},null,null,null,null,null,null,null,null,null,null,{"$f":"VLOOKUP(B2405,'(1) Project Reference Item List'!$B$2:$D$1000,3,FALSE)","v":{"$error":"#N/A"}},null,null,0,0]
[{"$f":"VLOOKUP(B2406,'(1) Project Reference Item List'!$B$2:$C$1000,2,FALSE)","v":{"$error":"#N/A"}},null,null,null,null,null,null,null,null,null,null,{"$f":"VLOOKUP(B2406,'(1) Project Reference Item List'!$B$2:$D$1000,3,FALSE)","v":{"$error":"#N/A"}},null,null,0,0]
[{"$f":"VLOOKUP(B2407,'(1) Project Reference Item List'!$B$2:$C$1000,2,FALSE)","v":{"$error":"#N/A"}},null,null,null,null,null,null,null,null,null,null,{"$f":"VLOOKUP(B2407,'(1) Project Reference Item List'!$B$2:$D$1000,3,FALSE)","v":{"$error":"#N/A"}},null,null,0,0]
[{"$f":"VLOOKUP(B2408,'(1) Project Reference Item List'!$B$2:$C$1000,2,FALSE)","v":{"$error":"#N/A"}},null,null,null,null,null,null,null,null,null,null,{"$f":"VLOOKUP(B2408,'(1) Project Reference Item List'!$B$2:$D$1000,3,FALSE)","v":{"$error":"#N/A"}},null,null,0,0]
[{"$f":"VLOOKUP(B2409,'(1) Project Reference Item List'!$B$2:$C$1000,2,FALSE)","v":{"$error":"#N/A"}},null,null,null,null,null,null,null,null,null,null,{"$f":"VLOOKUP(B2409,'(1) Project Reference Item List'!$B$2:$D$1000,3,FALSE)","v":{"$error":"#N/A"}},null,null,0,0]
[{"$f":"VLOOKUP(B2410,'(1) Project Reference Item List'!$B$2:$C$1000,2,FALSE)","v":{"$error":"#N/A"}},null,null,null,null,null,null,null,null,null,null,{"$f":"VLOOKUP(B2410,'(1) Project Reference Item List'!$B$2:$D$1000,3,FALSE)","v":{"$error":"#N/A"}},null,null,0,0]
[{"$f":"VLOOKUP(B2411,'(1) Project Reference Item List'!$B$2:$C$1000,2,FALSE)","v":{"$error":"#N/A"}},null,null,null,null,null,null,null,null,null,null,{"$f":"VLOOKUP(B2411,'(1) Project Reference Item List'!$B$2:$D$1000,3,FALSE)","v":{"$error":"#N/A"}},null,null,0,0]
[{"$f":"VLOOKUP(B2412,'(1) Project Reference Item List'!$B$2:$C$1000,2,FALSE)","v":{"$error":"#N/A"}},null,null,null,null,null,null,null,null,null,null,{"$f":"VLOOKUP(B2412,'(1) Project Reference Item List'!$B$2:$D$1000,3,FALSE)","v":{"$error":"#N/A"}},null,null,0,0]
[{"$f":"VLOOKUP(B2413,'(1) Project Reference Item List'!$B$2:$C$1000,2,FALSE)","v":{"$error":"#N/A"}},null,null,null,null,null,null,null,null,null,null,{"$f":"VLOOKUP(B2413,'(1) Project Reference Item List'!$B$2:$D$1000,3,FALSE)","v":{"$error":"#N/A"}},null,null,0,0]
[{"$f":"VLOOKUP(B2414,'(1) Project Reference Item List'!$B$2:$C$1000,2,FALSE)","v":{"$error":"#N/A"}},null,null,null,null,null,null,null,null,null,null,{"$f":"VLOOKUP(B2414,'(1) Project Reference Item List'!$B$2:$D$1000,3,FALSE)","v":{"$error":"#N/A"}},null,null,0,0]
[{"$f":"VLOOKUP(B2415,'(1) Project Reference Item List'!$B$2:$C$1000,2,FALSE)","v":{"$error":"#N/A"}},null,null,null,null,null,null,null,null,null,null,{"$f":"VLOOKUP(B2415,'(1) Project Reference Item List'!$B$2:$D$1000,3,FALSE)","v":{"$error":"#N/A"}},null,null,0,0]
[{"$f":"VLOOKUP(B2416,'(1) Project Reference Item List'!$B$2:$C$1000,2,FALSE)","v":{"$error":"#N/A"}},null,null,null,null,null,null,null,null,null,null,{"$f":"VLOOKUP(B2416,'(1) Project Reference Item List'!$B$2:$D$1000,3,FALSE)","v":{"$error":"#N/A"}},null,null,0,0]
[{"$f":"VLOOKUP(B2417,'(1) Project Reference Item List'!$B$2:$C$1000,2,FALSE)","v":{"$error":"#N/A"}},null,null,null,null,null,null,null,null,null,null,{"$f":"VLOOKUP(B2417,'(1) Project Reference Item List'!$B$2:$D$1000,3,FALSE)","v":{"$error":"#N/A"}},null,null,0,0]
[{"$f":"VLOOKUP(B2418,'(1) Project Reference Item List'!$B$2:$C$1000,2,FALSE)","v":{"$error":"#N/A"}},null,null,null,null,null,null,null,null,null,null,{"$f":"VLOOKUP(B2418,'(1) Project Reference Item List'!$B$2:$D$1000,3,FALSE)","v":{"$error":"#N/A"}},null,null,0,0]
[{"$f":"VLOOKUP(B2419,'(1) Project Reference Item List'!$B$2:$C$1000,2,FALSE)","v":{"$error":"#N/A"}},null,null,null,null,null,null,null,null,null,null,{"$f":"VLOOKUP(B2419,'(1) Project Reference Item List'!$B$2:$D$1000,3,FALSE)","v":{"$error":"#N/A"}},null,null,0,0]
[{"$f":"VLOOKUP(B2420,'(1) Project Reference Item List'!$B$2:$C$1000,2,FALSE)","v":{"$error":"#N/A"}},null,null,null,null,null,null,null,null,null,null,{"$f":"VLOOKUP(B2420,'(1) Project Reference Item List'!$B$2:$D$1000,3,FALSE)","v":{"$error":"#N/A"}},null,null,0,0]
[{"$f":"VLOOKUP(B2421,'(1) Project Reference Item List'!$B$2:$C$1000,2,FALSE)","v":{"$error":"#N/A"}},null,null,null,null,null,null,null,null,null,null,{"$f":"VLOOKUP(B2421,'(1) Project Reference Item List'!$B$2:$D$1000,3,FALSE)","v":{"$error":"#N/A"}},null,null,0,0]
[{"$f":"VLOOKUP(B2422,'(1) Project Reference Item List'!$B$2:$C$1000,2,FALSE)","v":{"$error":"#N/A"}},null,null,null,null,null,null,null,null,null,null,{"$f":"VLOOKUP(B2422,'(1) Project Reference Item List'!$B$2:$D$1000,3,FALSE)","v":{"$error":"#N/A"}},null,null,0,0]
[{"$f":"VLOOKUP(B2423,'(1) Project Reference Item List'!$B$2:$C$1000,2,FALSE)","v":{"$error":"#N/A"}},null,null,null,null,null,null,null,null,null,null,{"$f":"VLOOKUP(B2423,'(1) Project Reference Item List'!$B$2:$D$1000,3,FALSE)","v":{"$error":"#N/A"}},null,null,0,0]
[{"$f":"VLOOKUP(B2424,'(1) Project Reference Item List'!$B$2:$C$1000,2,FALSE)","v":{"$error":"#N/A"}},null,null,null,null,null,null,null,null,null,null,{"$f":"VLOOKUP(B2424,'(1) Project Reference Item List'!$B$2:$D$1000,3,FALSE)","v":{"$error":"#N/A"}},null,null,0,0]
[{"$f":"VLOOKUP(B2425,'(1) Project Reference Item List'!$B$2:$C$1000,2,FALSE)","v":{"$error":"#N/A"}},null,null,null,null,null,null,null,null,null,null,{"$f":"VLOOKUP(B2425,'(1) Project Reference Item List'!$B$2:$D$1000,3,FALSE)","v":{"$error":"#N/A"}},null,null,0,0]
[{"$f":"VLOOKUP(B2426,'(1) Project Reference Item List'!$B$2:$C$1000,2,FALSE)","v":{"$error":"#N/A"}},null,null,null,null,null,null,null,null,null,null,{"$f":"VLOOKUP(B2426,'(1) Project Reference Item List'!$B$2:$D$1000,3,FALSE)","v":{"$error":"#N/A"}},null,null,0,0]
[{"$f":"VLOOKUP(B2427,'(1) Project Reference Item List'!$B$2:$C$1000,2,FALSE)","v":{"$error":"#N/A"}},null,null,null,null,null,null,null,null,null,null,{"$f":"VLOOKUP(B2427,'(1) Project Reference Item List'!$B$2:$D$1000,3,FALSE)","v":{"$error":"#N/A"}},null,null,0,0]
[{"$f":"VLOOKUP(B2428,'(1) Project Reference Item List'!$B$2:$C$1000,2,FALSE)","v":{"$error":"#N/A"}},null,null,null,null,null,null,null,null,null,null,{"$f":"VLOOKUP(B2428,'(1) Project Reference Item List'!$B$2:$D$1000,3,FALSE)","v":{"$error":"#N/A"}},null,null,0,0]
[{"$f":"VLOOKUP(B2429,'(1) Project Reference Item List'!$B$2:$C$1000,2,FALSE)","v":{"$error":"#N/A"}},null,null,null,null,null,null,null,null,null,null,{"$f":"VLOOKUP(B2429,'(1) Project Reference Item List'!$B$2:$D$1000,3,FALSE)","v":{"$error":"#N/A"}},null,null,0,0]
[{"$f":"VLOOKUP(B2430,'(1) Project Reference Item List'!$B$2:$C$1000,2,FALSE)","v":{"$error":"#N/A"}},null,null,null,null,null,null,null,null,null,null,{"$f":"VLOOKUP(B2430,'(1) Project Reference Item List'!$B$2:$D$1000,3,FALSE)","v":{"$error":"#N/A"}},null,null,0,0]
[{"$f":"VLOOKUP(B2431,'(1) Project Reference Item List'!$B$2:$C$1000,2,FALSE)","v":{"$error":"#N/A"}},null,null,null,null,null,null,null,null,null,null,{"$f":"VLOOKUP(B2431,'(1) Project Reference Item List'!$B$2:$D$1000,3,FALSE)","v":{"$error":"#N/A"}},null,null,0,0]
[{"$f":"VLOOKUP(B2432,'(1) Project Reference Item List'!$B$2:$C$1000,2,FALSE)","v":{"$error":"#N/A"}},null,null,null,null,null,null,null,null,null,null,{"$f":"VLOOKUP(B2432,'(1) Project Reference Item List'!$B$2:$D$1000,3,FALSE)","v":{"$error":"#N/A"}},null,null,0,0]
[{"$f":"VLOOKUP(B2433,'(1) Project Reference Item List'!$B$2:$C$1000,2,FALSE)","v":{"$error":"#N/A"}},null,null,null,null,null,null,null,null,null,null,{"$f":"VLOOKUP(B2433,'(1) Project Reference Item List'!$B$2:$D$1000,3,FALSE)","v":{"$error":"#N/A"}},null,null,0,0]
[{"$f":"VLOOKUP(B2434,'(1) Project Reference Item List'!$B$2:$C$1000,2,FALSE)","v":{"$error":"#N/A"}},null,null,null,null,null,null,null,null,null,null,{"$f":"VLOOKUP(B2434,'(1) Project Reference Item List'!$B$2:$D$1000,3,FALSE)","v":{"$error":"#N/A"}},null,null,0,0]
[{"$f":"VLOOKUP(B2435,'(1) Project Reference Item List'!$B$2:$C$1000,2,FALSE)","v":{"$error":"#N/A"}},null,null,null,null,null,null,null,null,null,null,{"$f":"VLOOKUP(B2435,'(1) Project Reference Item List'!$B$2:$D$1000,3,FALSE)","v":{"$error":"#N/A"}},null,null,0,0]
[{"$f":"VLOOKUP(B2436,'(1) Project Reference Item List'!$B$2:$C$1000,2,FALSE)","v":{"$error":"#N/A"}},null,null,null,null,null,null,null,null,null,null,{"$f":"VLOOKUP(B2436,'(1) Project Reference Item List'!$B$2:$D$1000,3,FALSE)","v":{"$error":"#N/A"}},null,null,0,0]
[{"$f":"VLOOKUP(B2437,'(1) Project Reference Item List'!$B$2:$C$1000,2,FALSE)","v":{"$error":"#N/A"}},null,null,null,null,null,null,null,null,null,null,{"$f":"VLOOKUP(B2437,'(1) Project Reference Item List'!$B$2:$D$1000,3,FALSE)","v":{"$error":"#N/A"}},null,null,0,0]
[{"$f":"VLOOKUP(B2438,'(1) Project Reference Item List'!$B$2:$C$1000,2,FALSE)","v":{"$error":"#N/A"}},null,null,null,null,null,null,null,null,null,null,{"$f":"VLOOKUP(B2438,'(1) Project Reference Item List'!$B$2:$D$1000,3,FALSE)","v":{"$error":"#N/A"}},null,null,{"$f":"IF(J2438=0,J2438,J2438*N2438)","v":0},{"$f":"(M2438-O2438)","v":0}]
[{"$f":"VLOOKUP(B2439,'(1) Project Reference Item List'!$B$2:$C$1000,2,FALSE)","v":{"$error":"#N/A"}},null,null,null,null,null,null,null,null,null,null,{"$f":"VLOOKUP(B2439,'(1) Project Reference Item List'!$B$2:$D$1000,3,FALSE)","v":{"$error":"#N/A"}},null,null,0,0]
[{"$f":"VLOOKUP(B2440,'(1) Project Reference Item List'!$B$2:$C$1000,2,FALSE)","v":{"$error":"#N/A"}},null,null,null,null,null,null,null,null,null,null,{"$f":"VLOOKUP(B2440,'(1) Project Reference Item List'!$B$2:$D$1000,3,FALSE)","v":{"$error":"#N/A"}},null,null,0,0]
[{"$f":"VLOOKUP(B2441,'(1) Project Reference Item List'!$B$2:$C$1000,2,FALSE)","v":{"$error":"#N/A"}},null,null,null,null,null,null,null,null,null,null,{"$f":"VLOOKUP(B2441,'(1) Project Reference Item List'!$B$2:$D$1000,3,FALSE)","v":{"$error":"#N/A"}},null,null,0,0]
[{"$f":"VLOOKUP(B2442,'(1) Project Reference Item List'!$B$2:$C$1000,2,FALSE)","v":{"$error":"#N/A"}},null,null,null,null,null,null,null,null,null,null,{"$f":"VLOOKUP(B2442,'(1) Project Reference Item List'!$B$2:$D$1000,3,FALSE)","v":{"$error":"#N/A"}},null,null,0,0]
[{"$f":"VLOOKUP(B2443,'(1) Project Reference Item List'!$B$2:$C$1000,2,FALSE)","v":{"$error":"#N/A"}},null,null,null,null,null,null,null,null,null,null,{"$f":"VLOOKUP(B2443,'(1) Project Reference Item List'!$B$2:$D$1000,3,FALSE)","v":{"$error":"#N/A"}},null,null,0,0]
[{"$f":"VLOOKUP(B2444,'(1) Project Reference Item List'!$B$2:$C$1000,2,FALSE)","v":{"$error":"#N/A"}},null,null,null,null,null,null,null,null,null,null,{"$f":"VLOOKUP(B2444,'(1) Project Reference Item List'!$B$2:$D$1000,3,FALSE)","v":{"$error":"#N/A"}},null,null,0,0]
[{"$f":"VLOOKUP(B2445,'(1) Project Reference Item List'!$B$2:$C$1000,2,FALSE)","v":{"$error":"#N/A"}},null,null,null,null,null,null,null,null,null,null,{"$f":"VLOOKUP(B2445,'(1) Project Reference Item List'!$B$2:$D$1000,3,FALSE)","v":{"$error":"#N/A"}},null,null,0,0]
[{"$f":"VLOOKUP(B2446,'(1) Project Reference Item List'!$B$2:$C$1000,2,FALSE)","v":{"$error":"#N/A"}},null,null,null,null,null,null,null,null,null,null,{"$f":"VLOOKUP(B2446,'(1) Project Reference Item List'!$B$2:$D$1000,3,FALSE)","v":{"$error":"#N/A"}},null,null,0,0]
[{"$f":"VLOOKUP(B2447,'(1) Project Reference Item List'!$B$2:$C$1000,2,FALSE)","v":{"$error":"#N/A"}},null,null,null,null,null,null,null,null,null,null,{"$f":"VLOOKUP(B2447,'(1) Project Reference Item List'!$B$2:$D$1000,3,FALSE)","v":{"$error":"#N/A"}},null,null,0,0]
[{"$f":"VLOOKUP(B2448,'(1) Project Reference Item List'!$B$2:$C$1000,2,FALSE)","v":{"$error":"#N/A"}},null,null,null,null,null,null,null,null,null,null,{"$f":"VLOOKUP(B2448,'(1) Project Reference Item List'!$B$2:$D$1000,3,FALSE)","v":{"$error":"#N/A"}},null,null,0,0]
[{"$f":"VLOOKUP(B2449,'(1) Project Reference Item List'!$B$2:$C$1000,2,FALSE)","v":{"$error":"#N/A"}},null,null,null,null,null,null,null,null,null,null,{"$f":"VLOOKUP(B2449,'(1) Project Reference Item List'!$B$2:$D$1000,3,FALSE)","v":{"$error":"#N/A"}},null,null,0,0]
[{"$f":"VLOOKUP(B2450,'(1) Project Reference Item List'!$B$2:$C$1000,2,FALSE)","v":{"$error":"#N/A"}},null,null,null,null,null,null,null,null,null,null,{"$f":"VLOOKUP(B2450,'(1) Project Reference Item List'!$B$2:$D$1000,3,FALSE)","v":{"$error":"#N/A"}},null,null,0,0]
[{"$f":"VLOOKUP(B2451,'(1) Project Reference Item List'!$B$2:$C$1000,2,FALSE)","v":{"$error":"#N/A"}},null,null,null,null,null,null,null,null,null,null,{"$f":"VLOOKUP(B2451,'(1) Project Reference Item List'!$B$2:$D$1000,3,FALSE)","v":{"$error":"#N/A"}},null,null,0,0]
[{"$f":"VLOOKUP(B2452,'(1) Project Reference Item List'!$B$2:$C$1000,2,FALSE)","v":{"$error":"#N/A"}},null,null,null,null,null,null,null,null,null,null,{"$f":"VLOOKUP(B2452,'(1) Project Reference Item List'!$B$2:$D$1000,3,FALSE)","v":{"$error":"#N/A"}},null,null,0,0]
[{"$f":"VLOOKUP(B2453,'(1) Project Reference Item List'!$B$2:$C$1000,2,FALSE)","v":{"$error":"#N/A"}},null,null,null,null,null,null,null,null,null,null,{"$f":"VLOOKUP(B2453,'(1) Project Reference Item List'!$B$2:$D$1000,3,FALSE)","v":{"$error":"#N/A"}},null,null,0,0]
[{"$f":"VLOOKUP(B2454,'(1) Project Reference Item List'!$B$2:$C$1000,2,FALSE)","v":{"$error":"#N/A"}},null,null,null,null,null,null,null,null,null,null,{"$f":"VLOOKUP(B2454,'(1) Project Reference Item List'!$B$2:$D$1000,3,FALSE)","v":{"$error":"#N/A"}},null,null,0,0]
[{"$f":"VLOOKUP(B2455,'(1) Project Reference Item List'!$B$2:$C$1000,2,FALSE)","v":{"$error":"#N/A"}},null,null,null,null,null,null,null,null,null,null,{"$f":"VLOOKUP(B2455,'(1) Project Reference Item List'!$B$2:$D$1000,3,FALSE)","v":{"$error":"#N/A"}},null,null,0,0]
[{"$f":"VLOOKUP(B2456,'(1) Project Reference Item List'!$B$2:$C$1000,2,FALSE)","v":{"$error":"#N/A"}},null,null,null,null,null,null,null,null,null,null,{"$f":"VLOOKUP(B2456,'(1) Project Reference Item List'!$B$2:$D$1000,3,FALSE)","v":{"$error":"#N/A"}},null,null,0,0]
[{"$f":"VLOOKUP(B2457,'(1) Project Reference Item List'!$B$2:$C$1000,2,FALSE)","v":{"$error":"#N/A"}},null,null,null,null,null,null,null,null,null,null,{"$f":"VLOOKUP(B2457,'(1) Project Reference Item List'!$B$2:$D$1000,3,FALSE)","v":{"$error":"#N/A"}},null,null,0,0]
[{"$f":"VLOOKUP(B2458,'(1) Project Reference Item List'!$B$2:$C$1000,2,FALSE)","v":{"$error":"#N/A"}},null,null,null,null,null,null,null,null,null,null,{"$f":"VLOOKUP(B2458,'(1) Project Reference Item List'!$B$2:$D$1000,3,FALSE)","v":{"$error":"#N/A"}},null,null,0,0]
[{"$f":"VLOOKUP(B2459,'(1) Project Reference Item List'!$B$2:$C$1000,2,FALSE)","v":{"$error":"#N/A"}},null,null,null,null,null,null,null,null,null,null,{"$f":"VLOOKUP(B2459,'(1) Project Reference Item List'!$B$2:$D$1000,3,FALSE)","v":{"$error":"#N/A"}},null,null,0,0]
[{"$f":"VLOOKUP(B2460,'(1) Project Reference Item List'!$B$2:$C$1000,2,FALSE)","v":{"$error":"#N/A"}},null,null,null,null,null,null,null,null,null,null,{"$f":"VLOOKUP(B2460,'(1) Project Reference Item List'!$B$2:$D$1000,3,FALSE)","v":{"$error":"#N/A"}},null,null,0,0]
[{"$f":"VLOOKUP(B2461,'(1) Project Reference Item List'!$B$2:$C$1000,2,FALSE)","v":{"$error":"#N/A"}},null,null,null,null,null,null,null,null,null,null,{"$f":"VLOOKUP(B2461,'(1) Project Reference Item List'!$B$2:$D$1000,3,FALSE)","v":{"$error":"#N/A"}},null,null,0,0]
[{"$f":"VLOOKUP(B2462,'(1) Project Reference Item List'!$B$2:$C$1000,2,FALSE)","v":{"$error":"#N/A"}},null,null,null,null,null,null,null,null,null,null,{"$f":"VLOOKUP(B2462,'(1) Project Reference Item List'!$B$2:$D$1000,3,FALSE)","v":{"$error":"#N/A"}},null,null,0,0]
[{"$f":"VLOOKUP(B2463,'(1) Project Reference Item List'!$B$2:$C$1000,2,FALSE)","v":{"$error":"#N/A"}},null,null,null,null,null,null,null,null,null,null,{"$f":"VLOOKUP(B2463,'(1) Project Reference Item List'!$B$2:$D$1000,3,FALSE)","v":{"$error":"#N/A"}},null,null,0,0]
[{"$f":"VLOOKUP(B2464,'(1) Project Reference Item List'!$B$2:$C$1000,2,FALSE)","v":{"$error":"#N/A"}},null,null,null,null,null,null,null,null,null,null,{"$f":"VLOOKUP(B2464,'(1) Project Reference Item List'!$B$2:$D$1000,3,FALSE)","v":{"$error":"#N/A"}},null,null,0,0]
[{"$f":"VLOOKUP(B2465,'(1) Project Reference Item List'!$B$2:$C$1000,2,FALSE)","v":{"$error":"#N/A"}},null,null,null,null,null,null,null,null,null,null,{"$f":"VLOOKUP(B2465,'(1) Project Reference Item List'!$B$2:$D$1000,3,FALSE)","v":{"$error":"#N/A"}},null,null,0,0]
[{"$f":"VLOOKUP(B2466,'(1) Project Reference Item List'!$B$2:$C$1000,2,FALSE)","v":{"$error":"#N/A"}},null,null,null,null,null,null,null,null,null,null,{"$f":"VLOOKUP(B2466,'(1) Project Reference Item List'!$B$2:$D$1000,3,FALSE)","v":{"$error":"#N/A"}},null,null,0,0]
[{"$f":"VLOOKUP(B2467,'(1) Project Reference Item List'!$B$2:$C$1000,2,FALSE)","v":{"$error":"#N/A"}},null,null,null,null,null,null,null,null,null,null,{"$f":"VLOOKUP(B2467,'(1) Project Reference Item List'!$B$2:$D$1000,3,FALSE)","v":{"$error":"#N/A"}},null,null,0,0]
[{"$f":"VLOOKUP(B2468,'(1) Project Reference Item List'!$B$2:$C$1000,2,FALSE)","v":{"$error":"#N/A"}},null,null,null,null,null,null,null,null,null,null,{"$f":"VLOOKUP(B2468,'(1) Project Reference Item List'!$B$2:$D$1000,3,FALSE)","v":{"$error":"#N/A"}},null,null,0,0]
[{"$f":"VLOOKUP(B2469,'(1) Project Reference Item List'!$B$2:$C$1000,2,FALSE)","v":{"$error":"#N/A"}},null,null,null,null,null,null,null,null,null,null,{"$f":"VLOOKUP(B2469,'(1) Project Reference Item List'!$B$2:$D$1000,3,FALSE)","v":{"$error":"#N/A"}},null,null,0,0]
[{"$f":"VLOOKUP(B2470,'(1) Project Reference Item List'!$B$2:$C$1000,2,FALSE)","v":{"$error":"#N/A"}},null,null,null,null,null,null,null,null,null,null,{"$f":"VLOOKUP(B2470,'(1) Project Reference Item List'!$B$2:$D$1000,3,FALSE)","v":{"$error":"#N/A"}},null,null,0,0]
[{"$f":"VLOOKUP(B2471,'(1) Project Reference Item List'!$B$2:$C$1000,2,FALSE)","v":{"$error":"#N/A"}},null,null,null,null,null,null,null,null,null,null,{"$f":"VLOOKUP(B2471,'(1) Project Reference Item List'!$B$2:$D$1000,3,FALSE)","v":{"$error":"#N/A"}},null,null,0,0]
[{"$f":"VLOOKUP(B2472,'(1) Project Reference Item List'!$B$2:$C$1000,2,FALSE)","v":{"$error":"#N/A"}},null,null,null,null,null,null,null,null,null,null,{"$f":"VLOOKUP(B2472,'(1) Project Reference Item List'!$B$2:$D$1000,3,FALSE)","v":{"$error":"#N/A"}},null,null,0,0]
[{"$f":"VLOOKUP(B2473,'(1) Project Reference Item List'!$B$2:$C$1000,2,FALSE)","v":{"$error":"#N/A"}},null,null,null,null,null,null,null,null,null,null,{"$f":"VLOOKUP(B2473,'(1) Project Reference Item List'!$B$2:$D$1000,3,FALSE)","v":{"$error":"#N/A"}},null,null,0,0]
[{"$f":"VLOOKUP(B2474,'(1) Project Reference Item List'!$B$2:$C$1000,2,FALSE)","v":{"$error":"#N/A"}},null,null,null,null,null,null,null,null,null,null,{"$f":"VLOOKUP(B2474,'(1) Project Reference Item List'!$B$2:$D$1000,3,FALSE)","v":{"$error":"#N/A"}},null,null,0,0]
[{"$f":"VLOOKUP(B2475,'(1) Project Reference Item List'!$B$2:$C$1000,2,FALSE)","v":{"$error":"#N/A"}},null,null,null,null,null,null,null,null,null,null,{"$f":"VLOOKUP(B2475,'(1) Project Reference Item List'!$B$2:$D$1000,3,FALSE)","v":{"$error":"#N/A"}},null,null,0,0]
[{"$f":"VLOOKUP(B2476,'(1) Project Reference Item List'!$B$2:$C$1000,2,FALSE)","v":{"$error":"#N/A"}},null,null,null,null,null,null,null,null,null,null,{"$f":"VLOOKUP(B2476,'(1) Project Reference Item List'!$B$2:$D$1000,3,FALSE)","v":{"$error":"#N/A"}},null,null,0,0]
[{"$f":"VLOOKUP(B2477,'(1) Project Reference Item List'!$B$2:$C$1000,2,FALSE)","v":{"$error":"#N/A"}},null,null,null,null,null,null,null,null,null,null,{"$f":"VLOOKUP(B2477,'(1) Project Reference Item List'!$B$2:$D$1000,3,FALSE)","v":{"$error":"#N/A"}},null,null,0,0]
[{"$f":"VLOOKUP(B2478,'(1) Project Reference Item List'!$B$2:$C$1000,2,FALSE)","v":{"$error":"#N/A"}},null,null,null,null,null,null,null,null,null,null,{"$f":"VLOOKUP(B2478,'(1) Project Reference Item List'!$B$2:$D$1000,3,FALSE)","v":{"$error":"#N/A"}},null,null,0,0]
[{"$f":"VLOOKUP(B2479,'(1) Project Reference Item List'!$B$2:$C$1000,2,FALSE)","v":{"$error":"#N/A"}},null,null,null,null,null,null,null,null,null,null,{"$f":"VLOOKUP(B2479,'(1) Project Reference Item List'!$B$2:$D$1000,3,FALSE)","v":{"$error":"#N/A"}},null,null,0,0]
[{"$f":"VLOOKUP(B2480,'(1) Project Reference Item List'!$B$2:$C$1000,2,FALSE)","v":{"$error":"#N/A"}},null,null,null,null,null,null,null,null,null,null,{"$f":"VLOOKUP(B2480,'(1) Project Reference Item List'!$B$2:$D$1000,3,FALSE)","v":{"$error":"#N/A"}},null,null,0,0]
[{"$f":"VLOOKUP(B2481,'(1) Project Reference Item List'!$B$2:$C$1000,2,FALSE)","v":{"$error":"#N/A"}},null,null,null,null,null,null,null,null,null,null,{"$f":"VLOOKUP(B2481,'(1) Project Reference Item List'!$B$2:$D$1000,3,FALSE)","v":{"$error":"#N/A"}},null,null,0,0]
[{"$f":"VLOOKUP(B2482,'(1) Project Reference Item List'!$B$2:$C$1000,2,FALSE)","v":{"$error":"#N/A"}},null,null,null,null,null,null,null,null,null,null,{"$f":"VLOOKUP(B2482,'(1) Project Reference Item List'!$B$2:$D$1000,3,FALSE)","v":{"$error":"#N/A"}},null,null,0,0]
[{"$f":"VLOOKUP(B2483,'(1) Project Reference Item List'!$B$2:$C$1000,2,FALSE)","v":{"$error":"#N/A"}},null,null,null,null,null,null,null,null,null,null,{"$f":"VLOOKUP(B2483,'(1) Project Reference Item List'!$B$2:$D$1000,3,FALSE)","v":{"$error":"#N/A"}},null,null,0,0]
[{"$f":"VLOOKUP(B2484,'(1) Project Reference Item List'!$B$2:$C$1000,2,FALSE)","v":{"$error":"#N/A"}},null,null,null,null,null,null,null,null,null,null,{"$f":"VLOOKUP(B2484,'(1) Project Reference Item List'!$B$2:$D$1000,3,FALSE)","v":{"$error":"#N/A"}},null,null,0,0]
[{"$f":"VLOOKUP(B2485,'(1) Project Reference Item List'!$B$2:$C$1000,2,FALSE)","v":{"$error":"#N/A"}},null,null,null,null,null,null,null,null,null,null,{"$f":"VLOOKUP(B2485,'(1) Project Reference Item List'!$B$2:$D$1000,3,FALSE)","v":{"$error":"#N/A"}},null,null,0,0]
[{"$f":"VLOOKUP(B2486,'(1) Project Reference Item List'!$B$2:$C$1000,2,FALSE)","v":{"$error":"#N/A"}},null,null,null,null,null,null,null,null,null,null,{"$f":"VLOOKUP(B2486,'(1) Project Reference Item List'!$B$2:$D$1000,3,FALSE)","v":{"$error":"#N/A"}},null,null,0,0]
[{"$f":"VLOOKUP(B2487,'(1) Project Reference Item List'!$B$2:$C$1000,2,FALSE)","v":{"$error":"#N/A"}},null,null,null,null,null,null,null,null,null,null,{"$f":"VLOOKUP(B2487,'(1) Project Reference Item List'!$B$2:$D$1000,3,FALSE)","v":{"$error":"#N/A"}},null,null,0,0]
[{"$f":"VLOOKUP(B2488,'(1) Project Reference Item List'!$B$2:$C$1000,2,FALSE)","v":{"$error":"#N/A"}},null,null,null,null,null,null,null,null,null,null,{"$f":"VLOOKUP(B2488,'(1) Project Reference Item List'!$B$2:$D$1000,3,FALSE)","v":{"$error":"#N/A"}},null,null,0,0]
[{"$f":"VLOOKUP(B2489,'(1) Project Reference Item List'!$B$2:$C$1000,2,FALSE)","v":{"$error":"#N/A"}},null,null,null,null,null,null,null,null,null,null,{"$f":"VLOOKUP(B2489,'(1) Project Reference Item List'!$B$2:$D$1000,3,FALSE)","v":{"$error":"#N/A"}},null,null,0,0]
[{"$f":"VLOOKUP(B2490,'(1) Project Reference Item List'!$B$2:$C$1000,2,FALSE)","v":{"$error":"#N/A"}},null,null,null,null,null,null,null,null,null,null,{"$f":"VLOOKUP(B2490,'(1) Project Reference Item List'!$B$2:$D$1000,3,FALSE)","v":{"$error":"#N/A"}},null,null,0,0]
[{"$f":"VLOOKUP(B2491,'(1) Project Reference Item List'!$B$2:$C$1000,2,FALSE)","v":{"$error":"#N/A"}},null,null,null,null,null,null,null,null,null,null,{"$f":"VLOOKUP(B2491,'(1) Project Reference Item List'!$B$2:$D$1000,3,FALSE)","v":{"$error":"#N/A"}},null,null,0,0]
[{"$f":"VLOOKUP(B2492,'(1) Project Reference Item List'!$B$2:$C$1000,2,FALSE)","v":{"$error":"#N/A"}},null,null,null,null,null,null,null,null,null,null,{"$f":"VLOOKUP(B2492,'(1) Project Reference Item List'!$B$2:$D$1000,3,FALSE)","v":{"$error":"#N/A"}},null,null,0,0]
[{"$f":"VLOOKUP(B2493,'(1) Project Reference Item List'!$B$2:$C$1000,2,FALSE)","v":{"$error":"#N/A"}},null,null,null,null,null,null,null,null,null,null,{"$f":"VLOOKUP(B2493,'(1) Project Reference Item List'!$B$2:$D$1000,3,FALSE)","v":{"$error":"#N/A"}},null,null,0,0]
[{"$f":"VLOOKUP(B2494,'(1) Project Reference Item List'!$B$2:$C$1000,2,FALSE)","v":{"$error":"#N/A"}},null,null,null,null,null,null,null,null,null,null,{"$f":"VLOOKUP(B2494,'(1) Project Reference Item List'!$B$2:$D$1000,3,FALSE)","v":{"$error":"#N/A"}},null,null,0,0]
[{"$f":"VLOOKUP(B2495,'(1) Project Reference Item List'!$B$2:$C$1000,2,FALSE)","v":{"$error":"#N/A"}},null,null,null,null,null,null,null,null,null,null,{"$f":"VLOOKUP(B2495,'(1) Project Reference Item List'!$B$2:$D$1000,3,FALSE)","v":{"$error":"#N/A"}},null,null,0,0]
[{"$f":"VLOOKUP(B2496,'(1) Project Reference Item List'!$B$2:$C$1000,2,FALSE)","v":{"$error":"#N/A"}},null,null,null,null,null,null,null,null,null,null,{"$f":"VLOOKUP(B2496,'(1) Project Reference Item List'!$B$2:$D$1000,3,FALSE)","v":{"$error":"#N/A"}},null,null,0,0]
[{"$f":"VLOOKUP(B2497,'(1) Project Reference Item List'!$B$2:$C$1000,2,FALSE)","v":{"$error":"#N/A"}},null,null,null,null,null,null,null,null,null,null,{"$f":"VLOOKUP(B2497,'(1) Project Reference Item List'!$B$2:$D$1000,3,FALSE)","v":{"$error":"#N/A"}},null,null,0,0]
[{"$f":"VLOOKUP(B2498,'(1) Project Reference Item List'!$B$2:$C$1000,2,FALSE)","v":{"$error":"#N/A"}},null,null,null,null,null,null,null,null,null,null,{"$f":"VLOOKUP(B2498,'(1) Project Reference Item List'!$B$2:$D$1000,3,FALSE)","v":{"$error":"#N/A"}},null,null,0,0]
[{"$f":"VLOOKUP(B2499,'(1) Project Reference Item List'!$B$2:$C$1000,2,FALSE)","v":{"$error":"#N/A"}},null,null,null,null,null,null,null,null,null,null,{"$f":"VLOOKUP(B2499,'(1) Project Reference Item List'!$B$2:$D$1000,3,FALSE)","v":{"$error":"#N/A"}},null,null,0,0]
[{"$f":"VLOOKUP(B2500,'(1) Project Reference Item List'!$B$2:$C$1000,2,FALSE)","v":{"$error":"#N/A"}},null,null,null,null,null,null,null,null,null,null,{"$f":"VLOOKUP(B2500,'(1) Project Reference Item List'!$B$2:$D$1000,3,FALSE)","v":{"$error":"#N/A"}},null,null,0,0]
[{"$f":"VLOOKUP(B2501,'(1) Project Reference Item List'!$B$2:$C$1000,2,FALSE)","v":{"$error":"#N/A"}},null,null,null,null,null,null,null,null,null,null,{"$f":"VLOOKUP(B2501,'(1) Project Reference Item List'!$B$2:$D$1000,3,FALSE)","v":{"$error":"#N/A"}},null,null,0,0]
[{"$f":"VLOOKUP(B2502,'(1) Project Reference Item List'!$B$2:$C$1000,2,FALSE)","v":{"$error":"#N/A"}},null,null,null,null,null,null,null,null,null,null,{"$f":"VLOOKUP(B2502,'(1) Project Reference Item List'!$B$2:$D$1000,3,FALSE)","v":{"$error":"#N/A"}},null,null,{"$f":"IF(J2502=0,J2502,J2502*N2502)","v":0},{"$f":"(M2502-O2502)","v":0}]
[{"$f":"VLOOKUP(B2503,'(1) Project Reference Item List'!$B$2:$C$1000,2,FALSE)","v":{"$error":"#N/A"}},null,null,null,null,null,null,null,null,null,null,{"$f":"VLOOKUP(B2503,'(1) Project Reference Item List'!$B$2:$D$1000,3,FALSE)","v":{"$error":"#N/A"}},null,null,0,0]
[{"$f":"VLOOKUP(B2504,'(1) Project Reference Item List'!$B$2:$C$1000,2,FALSE)","v":{"$error":"#N/A"}},null,null,null,null,null,null,null,null,null,null,{"$f":"VLOOKUP(B2504,'(1) Project Reference Item List'!$B$2:$D$1000,3,FALSE)","v":{"$error":"#N/A"}},null,null,0,0]
[{"$f":"VLOOKUP(B2505,'(1) Project Reference Item List'!$B$2:$C$1000,2,FALSE)","v":{"$error":"#N/A"}},null,null,null,null,null,null,null,null,null,null,{"$f":"VLOOKUP(B2505,'(1) Project Reference Item List'!$B$2:$D$1000,3,FALSE)","v":{"$error":"#N/A"}},null,null,0,0]
[{"$f":"VLOOKUP(B2506,'(1) Project Reference Item List'!$B$2:$C$1000,2,FALSE)","v":{"$error":"#N/A"}},null,null,null,null,null,null,null,null,null,null,{"$f":"VLOOKUP(B2506,'(1) Project Reference Item List'!$B$2:$D$1000,3,FALSE)","v":{"$error":"#N/A"}},null,null,0,0]
[{"$f":"VLOOKUP(B2507,'(1) Project Reference Item List'!$B$2:$C$1000,2,FALSE)","v":{"$error":"#N/A"}},null,null,null,null,null,null,null,null,null,null,{"$f":"VLOOKUP(B2507,'(1) Project Reference Item List'!$B$2:$D$1000,3,FALSE)","v":{"$error":"#N/A"}},null,null,0,0]
[{"$f":"VLOOKUP(B2508,'(1) Project Reference Item List'!$B$2:$C$1000,2,FALSE)","v":{"$error":"#N/A"}},null,null,null,null,null,null,null,null,null,null,{"$f":"VLOOKUP(B2508,'(1) Project Reference Item List'!$B$2:$D$1000,3,FALSE)","v":{"$error":"#N/A"}},null,null,0,0]
[{"$f":"VLOOKUP(B2509,'(1) Project Reference Item List'!$B$2:$C$1000,2,FALSE)","v":{"$error":"#N/A"}},null,null,null,null,null,null,null,null,null,null,{"$f":"VLOOKUP(B2509,'(1) Project Reference Item List'!$B$2:$D$1000,3,FALSE)","v":{"$error":"#N/A"}},null,null,0,0]
[{"$f":"VLOOKUP(B2510,'(1) Project Reference Item List'!$B$2:$C$1000,2,FALSE)","v":{"$error":"#N/A"}},null,null,null,null,null,null,null,null,null,null,{"$f":"VLOOKUP(B2510,'(1) Project Reference Item List'!$B$2:$D$1000,3,FALSE)","v":{"$error":"#N/A"}},null,null,0,0]
[{"$f":"VLOOKUP(B2511,'(1) Project Reference Item List'!$B$2:$C$1000,2,FALSE)","v":{"$error":"#N/A"}},null,null,null,null,null,null,null,null,null,null,{"$f":"VLOOKUP(B2511,'(1) Project Reference Item List'!$B$2:$D$1000,3,FALSE)","v":{"$error":"#N/A"}},null,null,0,0]
[{"$f":"VLOOKUP(B2512,'(1) Project Reference Item List'!$B$2:$C$1000,2,FALSE)","v":{"$error":"#N/A"}},null,null,null,null,null,null,null,null,null,null,{"$f":"VLOOKUP(B2512,'(1) Project Reference Item List'!$B$2:$D$1000,3,FALSE)","v":{"$error":"#N/A"}},null,null,0,0]
[{"$f":"VLOOKUP(B2513,'(1) Project Reference Item List'!$B$2:$C$1000,2,FALSE)","v":{"$error":"#N/A"}},null,null,null,null,null,null,null,null,null,null,{"$f":"VLOOKUP(B2513,'(1) Project Reference Item List'!$B$2:$D$1000,3,FALSE)","v":{"$error":"#N/A"}},null,null,0,0]
[{"$f":"VLOOKUP(B2514,'(1) Project Reference Item List'!$B$2:$C$1000,2,FALSE)","v":{"$error":"#N/A"}},null,null,null,null,null,null,null,null,null,null,{"$f":"VLOOKUP(B2514,'(1) Project Reference Item List'!$B$2:$D$1000,3,FALSE)","v":{"$error":"#N/A"}},null,null,0,0]
[{"$f":"VLOOKUP(B2515,'(1) Project Reference Item List'!$B$2:$C$1000,2,FALSE)","v":{"$error":"#N/A"}},null,null,null,null,null,null,null,null,null,null,{"$f":"VLOOKUP(B2515,'(1) Project Reference Item List'!$B$2:$D$1000,3,FALSE)","v":{"$error":"#N/A"}},null,null,0,0]
[{"$f":"VLOOKUP(B2516,'(1) Project Reference Item List'!$B$2:$C$1000,2,FALSE)","v":{"$error":"#N/A"}},null,null,null,null,null,null,null,null,null,null,{"$f":"VLOOKUP(B2516,'(1) Project Reference Item List'!$B$2:$D$1000,3,FALSE)","v":{"$error":"#N/A"}},null,null,0,0]
[{"$f":"VLOOKUP(B2517,'(1) Project Reference Item List'!$B$2:$C$1000,2,FALSE)","v":{"$error":"#N/A"}},null,null,null,null,null,null,null,null,null,null,{"$f":"VLOOKUP(B2517,'(1) Project Reference Item List'!$B$2:$D$1000,3,FALSE)","v":{"$error":"#N/A"}},null,null,0,0]
[{"$f":"VLOOKUP(B2518,'(1) Project Reference Item List'!$B$2:$C$1000,2,FALSE)","v":{"$error":"#N/A"}},null,null,null,null,null,null,null,null,null,null,{"$f":"VLOOKUP(B2518,'(1) Project Reference Item List'!$B$2:$D$1000,3,FALSE)","v":{"$error":"#N/A"}},null,null,0,0]
[{"$f":"VLOOKUP(B2519,'(1) Project Reference Item List'!$B$2:$C$1000,2,FALSE)","v":{"$error":"#N/A"}},null,null,null,null,null,null,null,null,null,null,{"$f":"VLOOKUP(B2519,'(1) Project Reference Item List'!$B$2:$D$1000,3,FALSE)","v":{"$error":"#N/A"}},null,null,0,0]
[{"$f":"VLOOKUP(B2520,'(1) Project Reference Item List'!$B$2:$C$1000,2,FALSE)","v":{"$error":"#N/A"}},null,null,null,null,null,null,null,null,null,null,{"$f":"VLOOKUP(B2520,'(1) Project Reference Item List'!$B$2:$D$1000,3,FALSE)","v":{"$error":"#N/A"}},null,null,0,0]
[{"$f":"VLOOKUP(B2521,'(1) Project Reference Item List'!$B$2:$C$1000,2,FALSE)","v":{"$error":"#N/A"}},null,null,null,null,null,null,null,null,null,null,{"$f":"VLOOKUP(B2521,'(1) Project Reference Item List'!$B$2:$D$1000,3,FALSE)","v":{"$error":"#N/A"}},null,null,0,0]
[{"$f":"VLOOKUP(B2522,'(1) Project Reference Item List'!$B$2:$C$1000,2,FALSE)","v":{"$error":"#N/A"}},null,null,null,null,null,null,null,null,null,null,{"$f":"VLOOKUP(B2522,'(1) Project Reference Item List'!$B$2:$D$1000,3,FALSE)","v":{"$error":"#N/A"}},null,null,0,0]
[{"$f":"VLOOKUP(B2523,'(1) Project Reference Item List'!$B$2:$C$1000,2,FALSE)","v":{"$error":"#N/A"}},null,null,null,null,null,null,null,null,null,null,{"$f":"VLOOKUP(B2523,'(1) Project Reference Item List'!$B$2:$D$1000,3,FALSE)","v":{"$error":"#N/A"}},null,null,0,0]
[{"$f":"VLOOKUP(B2524,'(1) Project Reference Item List'!$B$2:$C$1000,2,FALSE)","v":{"$error":"#N/A"}},null,null,null,null,null,null,null,null,null,null,{"$f":"VLOOKUP(B2524,'(1) Project Reference Item List'!$B$2:$D$1000,3,FALSE)","v":{"$error":"#N/A"}},null,null,0,0]
[{"$f":"VLOOKUP(B2525,'(1) Project Reference Item List'!$B$2:$C$1000,2,FALSE)","v":{"$error":"#N/A"}},null,null,null,null,null,null,null,null,null,null,{"$f":"VLOOKUP(B2525,'(1) Project Reference Item List'!$B$2:$D$1000,3,FALSE)","v":{"$error":"#N/A"}},null,null,0,0]
[{"$f":"VLOOKUP(B2526,'(1) Project Reference Item List'!$B$2:$C$1000,2,FALSE)","v":{"$error":"#N/A"}},null,null,null,null,null,null,null,null,null,null,{"$f":"VLOOKUP(B2526,'(1) Project Reference Item List'!$B$2:$D$1000,3,FALSE)","v":{"$error":"#N/A"}},null,null,0,0]
[{"$f":"VLOOKUP(B2527,'(1) Project Reference Item List'!$B$2:$C$1000,2,FALSE)","v":{"$error":"#N/A"}},null,null,null,null,null,null,null,null,null,null,{"$f":"VLOOKUP(B2527,'(1) Project Reference Item List'!$B$2:$D$1000,3,FALSE)","v":{"$error":"#N/A"}},null,null,0,0]
[{"$f":"VLOOKUP(B2528,'(1) Project Reference Item List'!$B$2:$C$1000,2,FALSE)","v":{"$error":"#N/A"}},null,null,null,null,null,null,null,null,null,null,{"$f":"VLOOKUP(B2528,'(1) Project Reference Item List'!$B$2:$D$1000,3,FALSE)","v":{"$error":"#N/A"}},null,null,0,0]
[{"$f":"VLOOKUP(B2529,'(1) Project Reference Item List'!$B$2:$C$1000,2,FALSE)","v":{"$error":"#N/A"}},null,null,null,null,null,null,null,null,null,null,{"$f":"VLOOKUP(B2529,'(1) Project Reference Item List'!$B$2:$D$1000,3,FALSE)","v":{"$error":"#N/A"}},null,null,0,0]
[{"$f":"VLOOKUP(B2530,'(1) Project Reference Item List'!$B$2:$C$1000,2,FALSE)","v":{"$error":"#N/A"}},null,null,null,null,null,null,null,null,null,null,{"$f":"VLOOKUP(B2530,'(1) Project Reference Item List'!$B$2:$D$1000,3,FALSE)","v":{"$error":"#N/A"}},null,null,0,0]
[{"$f":"VLOOKUP(B2531,'(1) Project Reference Item List'!$B$2:$C$1000,2,FALSE)","v":{"$error":"#N/A"}},null,null,null,null,null,null,null,null,null,null,{"$f":"VLOOKUP(B2531,'(1) Project Reference Item List'!$B$2:$D$1000,3,FALSE)","v":{"$error":"#N/A"}},null,null,0,0]
[{"$f":"VLOOKUP(B2532,'(1) Project Reference Item List'!$B$2:$C$1000,2,FALSE)","v":{"$error":"#N/A"}},null,null,null,null,null,null,null,null,null,null,{"$f":"VLOOKUP(B2532,'(1) Project Reference Item List'!$B$2:$D$1000,3,FALSE)","v":{"$error":"#N/A"}},null,null,0,0]
[{"$f":"VLOOKUP(B2533,'(1) Project Reference Item List'!$B$2:$C$1000,2,FALSE)","v":{"$error":"#N/A"}},null,null,null,null,null,null,null,null,null,null,{"$f":"VLOOKUP(B2533,'(1) Project Reference Item List'!$B$2:$D$1000,3,FALSE)","v":{"$error":"#N/A"}},null,null,0,0]
[{"$f":"VLOOKUP(B2534,'(1) Project Reference Item List'!$B$2:$C$1000,2,FALSE)","v":{"$error":"#N/A"}},null,null,null,null,null,null,null,null,null,null,{"$f":"VLOOKUP(B2534,'(1) Project Reference Item List'!$B$2:$D$1000,3,FALSE)","v":{"$error":"#N/A"}},null,null,0,0]
[{"$f":"VLOOKUP(B2535,'(1) Project Reference Item List'!$B$2:$C$1000,2,FALSE)","v":{"$error":"#N/A"}},null,null,null,null,null,null,null,null,null,null,{"$f":"VLOOKUP(B2535,'(1) Project Reference Item List'!$B$2:$D$1000,3,FALSE)","v":{"$error":"#N/A"}},null,null,0,0]
[{"$f":"VLOOKUP(B2536,'(1) Project Reference Item List'!$B$2:$C$1000,2,FALSE)","v":{"$error":"#N/A"}},null,null,null,null,null,null,null,null,null,null,{"$f":"VLOOKUP(B2536,'(1) Project Reference Item List'!$B$2:$D$1000,3,FALSE)","v":{"$error":"#N/A"}},null,null,0,0]
[{"$f":"VLOOKUP(B2537,'(1) Project Reference Item List'!$B$2:$C$1000,2,FALSE)","v":{"$error":"#N/A"}},null,null,null,null,null,null,null,null,null,null,{"$f":"VLOOKUP(B2537,'(1) Project Reference Item List'!$B$2:$D$1000,3,FALSE)","v":{"$error":"#N/A"}},null,null,0,0]
[{"$f":"VLOOKUP(B2538,'(1) Project Reference Item List'!$B$2:$C$1000,2,FALSE)","v":{"$error":"#N/A"}},null,null,null,null,null,null,null,null,null,null,{"$f":"VLOOKUP(B2538,'(1) Project Reference Item List'!$B$2:$D$1000,3,FALSE)","v":{"$error":"#N/A"}},null,null,0,0]
[{"$f":"VLOOKUP(B2539,'(1) Project Reference Item List'!$B$2:$C$1000,2,FALSE)","v":{"$error":"#N/A"}},null,null,null,null,null,null,null,null,null,null,{"$f":"VLOOKUP(B2539,'(1) Project Reference Item List'!$B$2:$D$1000,3,FALSE)","v":{"$error":"#N/A"}},null,null,0,0]
[{"$f":"VLOOKUP(B2540,'(1) Project Reference Item List'!$B$2:$C$1000,2,FALSE)","v":{"$error":"#N/A"}},null,null,null,null,null,null,null,null,null,null,{"$f":"VLOOKUP(B2540,'(1) Project Reference Item List'!$B$2:$D$1000,3,FALSE)","v":{"$error":"#N/A"}},null,null,0,0]
[{"$f":"VLOOKUP(B2541,'(1) Project Reference Item List'!$B$2:$C$1000,2,FALSE)","v":{"$error":"#N/A"}},null,null,null,null,null,null,null,null,null,null,{"$f":"VLOOKUP(B2541,'(1) Project Reference Item List'!$B$2:$D$1000,3,FALSE)","v":{"$error":"#N/A"}},null,null,0,0]
[{"$f":"VLOOKUP(B2542,'(1) Project Reference Item List'!$B$2:$C$1000,2,FALSE)","v":{"$error":"#N/A"}},null,null,null,null,null,null,null,null,null,null,{"$f":"VLOOKUP(B2542,'(1) Project Reference Item List'!$B$2:$D$1000,3,FALSE)","v":{"$error":"#N/A"}},null,null,0,0]
[{"$f":"VLOOKUP(B2543,'(1) Project Reference Item List'!$B$2:$C$1000,2,FALSE)","v":{"$error":"#N/A"}},null,null,null,null,null,null,null,null,null,null,{"$f":"VLOOKUP(B2543,'(1) Project Reference Item List'!$B$2:$D$1000,3,FALSE)","v":{"$error":"#N/A"}},null,null,0,0]
[{"$f":"VLOOKUP(B2544,'(1) Project Reference Item List'!$B$2:$C$1000,2,FALSE)","v":{"$error":"#N/A"}},null,null,null,null,null,null,null,null,null,null,{"$f":"VLOOKUP(B2544,'(1) Project Reference Item List'!$B$2:$D$1000,3,FALSE)","v":{"$error":"#N/A"}},null,null,0,0]
[{"$f":"VLOOKUP(B2545,'(1) Project Reference Item List'!$B$2:$C$1000,2,FALSE)","v":{"$error":"#N/A"}},null,null,null,null,null,null,null,null,null,null,{"$f":"VLOOKUP(B2545,'(1) Project Reference Item List'!$B$2:$D$1000,3,FALSE)","v":{"$error":"#N/A"}},null,null,0,0]
[{"$f":"VLOOKUP(B2546,'(1) Project Reference Item List'!$B$2:$C$1000,2,FALSE)","v":{"$error":"#N/A"}},null,null,null,null,null,null,null,null,null,null,{"$f":"VLOOKUP(B2546,'(1) Project Reference Item List'!$B$2:$D$1000,3,FALSE)","v":{"$error":"#N/A"}},null,null,0,0]
[{"$f":"VLOOKUP(B2547,'(1) Project Reference Item List'!$B$2:$C$1000,2,FALSE)","v":{"$error":"#N/A"}},null,null,null,null,null,null,null,null,null,null,{"$f":"VLOOKUP(B2547,'(1) Project Reference Item List'!$B$2:$D$1000,3,FALSE)","v":{"$error":"#N/A"}},null,null,0,0]
[{"$f":"VLOOKUP(B2548,'(1) Project Reference Item List'!$B$2:$C$1000,2,FALSE)","v":{"$error":"#N/A"}},null,null,null,null,null,null,null,null,null,null,{"$f":"VLOOKUP(B2548,'(1) Project Reference Item List'!$B$2:$D$1000,3,FALSE)","v":{"$error":"#N/A"}},null,null,0,0]
[{"$f":"VLOOKUP(B2549,'(1) Project Reference Item List'!$B$2:$C$1000,2,FALSE)","v":{"$error":"#N/A"}},null,null,null,null,null,null,null,null,null,null,{"$f":"VLOOKUP(B2549,'(1) Project Reference Item List'!$B$2:$D$1000,3,FALSE)","v":{"$error":"#N/A"}},null,null,0,0]
[{"$f":"VLOOKUP(B2550,'(1) Project Reference Item List'!$B$2:$C$1000,2,FALSE)","v":{"$error":"#N/A"}},null,null,null,null,null,null,null,null,null,null,{"$f":"VLOOKUP(B2550,'(1) Project Reference Item List'!$B$2:$D$1000,3,FALSE)","v":{"$error":"#N/A"}},null,null,0,0]
[{"$f":"VLOOKUP(B2551,'(1) Project Reference Item List'!$B$2:$C$1000,2,FALSE)","v":{"$error":"#N/A"}},null,null,null,null,null,null,null,null,null,null,{"$f":"VLOOKUP(B2551,'(1) Project Reference Item List'!$B$2:$D$1000,3,FALSE)","v":{"$error":"#N/A"}},null,null,0,0]
[{"$f":"VLOOKUP(B2552,'(1) Project Reference Item List'!$B$2:$C$1000,2,FALSE)","v":{"$error":"#N/A"}},null,null,null,null,null,null,null,null,null,null,{"$f":"VLOOKUP(B2552,'(1) Project Reference Item List'!$B$2:$D$1000,3,FALSE)","v":{"$error":"#N/A"}},null,null,0,0]
[{"$f":"VLOOKUP(B2553,'(1) Project Reference Item List'!$B$2:$C$1000,2,FALSE)","v":{"$error":"#N/A"}},null,null,null,null,null,null,null,null,null,null,{"$f":"VLOOKUP(B2553,'(1) Project Reference Item List'!$B$2:$D$1000,3,FALSE)","v":{"$error":"#N/A"}},null,null,0,0]
[{"$f":"VLOOKUP(B2554,'(1) Project Reference Item List'!$B$2:$C$1000,2,FALSE)","v":{"$error":"#N/A"}},null,null,null,null,null,null,null,null,null,null,{"$f":"VLOOKUP(B2554,'(1) Project Reference Item List'!$B$2:$D$1000,3,FALSE)","v":{"$error":"#N/A"}},null,null,0,0]
[{"$f":"VLOOKUP(B2555,'(1) Project Reference Item List'!$B$2:$C$1000,2,FALSE)","v":{"$error":"#N/A"}},null,null,null,null,null,null,null,null,null,null,{"$f":"VLOOKUP(B2555,'(1) Project Reference Item List'!$B$2:$D$1000,3,FALSE)","v":{"$error":"#N/A"}},null,null,0,0]
[{"$f":"VLOOKUP(B2556,'(1) Project Reference Item List'!$B$2:$C$1000,2,FALSE)","v":{"$error":"#N/A"}},null,null,null,null,null,null,null,null,null,null,{"$f":"VLOOKUP(B2556,'(1) Project Reference Item List'!$B$2:$D$1000,3,FALSE)","v":{"$error":"#N/A"}},null,null,0,0]
[{"$f":"VLOOKUP(B2557,'(1) Project Reference Item List'!$B$2:$C$1000,2,FALSE)","v":{"$error":"#N/A"}},null,null,null,null,null,null,null,null,null,null,{"$f":"VLOOKUP(B2557,'(1) Project Reference Item List'!$B$2:$D$1000,3,FALSE)","v":{"$error":"#N/A"}},null,null,0,0]
[{"$f":"VLOOKUP(B2558,'(1) Project Reference Item List'!$B$2:$C$1000,2,FALSE)","v":{"$error":"#N/A"}},null,null,null,null,null,null,null,null,null,null,{"$f":"VLOOKUP(B2558,'(1) Project Reference Item List'!$B$2:$D$1000,3,FALSE)","v":{"$error":"#N/A"}},null,null,0,0]
[{"$f":"VLOOKUP(B2559,'(1) Project Reference Item List'!$B$2:$C$1000,2,FALSE)","v":{"$error":"#N/A"}},null,null,null,null,null,null,null,null,null,null,{"$f":"VLOOKUP(B2559,'(1) Project Reference Item List'!$B$2:$D$1000,3,FALSE)","v":{"$error":"#N/A"}},null,null,0,0]
[{"$f":"VLOOKUP(B2560,'(1) Project Reference Item List'!$B$2:$C$1000,2,FALSE)","v":{"$error":"#N/A"}},null,null,null,null,null,null,null,null,null,null,{"$f":"VLOOKUP(B2560,'(1) Project Reference Item List'!$B$2:$D$1000,3,FALSE)","v":{"$error":"#N/A"}},null,null,0,0]
[{"$f":"VLOOKUP(B2561,'(1) Project Reference Item List'!$B$2:$C$1000,2,FALSE)","v":{"$error":"#N/A"}},null,null,null,null,null,null,null,null,null,null,{"$f":"VLOOKUP(B2561,'(1) Project Reference Item List'!$B$2:$D$1000,3,FALSE)","v":{"$error":"#N/A"}},null,null,0,0]
[{"$f":"VLOOKUP(B2562,'(1) Project Reference Item List'!$B$2:$C$1000,2,FALSE)","v":{"$error":"#N/A"}},null,null,null,null,null,null,null,null,null,null,{"$f":"VLOOKUP(B2562,'(1) Project Reference Item List'!$B$2:$D$1000,3,FALSE)","v":{"$error":"#N/A"}},null,null,0,0]
[{"$f":"VLOOKUP(B2563,'(1) Project Reference Item List'!$B$2:$C$1000,2,FALSE)","v":{"$error":"#N/A"}},null,null,null,null,null,null,null,null,null,null,{"$f":"VLOOKUP(B2563,'(1) Project Reference Item List'!$B$2:$D$1000,3,FALSE)","v":{"$error":"#N/A"}},null,null,0,0]
[{"$f":"VLOOKUP(B2564,'(1) Project Reference Item List'!$B$2:$C$1000,2,FALSE)","v":{"$error":"#N/A"}},null,null,null,null,null,null,null,null,null,null,{"$f":"VLOOKUP(B2564,'(1) Project Reference Item List'!$B$2:$D$1000,3,FALSE)","v":{"$error":"#N/A"}},null,null,0,0]
[{"$f":"VLOOKUP(B2565,'(1) Project Reference Item List'!$B$2:$C$1000,2,FALSE)","v":{"$error":"#N/A"}},null,null,null,null,null,null,null,null,null,null,{"$f":"VLOOKUP(B2565,'(1) Project Reference Item List'!$B$2:$D$1000,3,FALSE)","v":{"$error":"#N/A"}},null,null,0,0]
[{"$f":"VLOOKUP(B2566,'(1) Project Reference Item List'!$B$2:$C$1000,2,FALSE)","v":{"$error":"#N/A"}},null,null,null,null,null,null,null,null,null,null,{"$f":"VLOOKUP(B2566,'(1) Project Reference Item List'!$B$2:$D$1000,3,FALSE)","v":{"$error":"#N/A"}},null,null,{"$f":"IF(J2566=0,J2566,J2566*N2566)","v":0},{"$f":"(M2566-O2566)","v":0}]
[{"$f":"VLOOKUP(B2567,'(1) Project Reference Item List'!$B$2:$C$1000,2,FALSE)","v":{"$error":"#N/A"}},null,null,null,null,null,null,null,null,null,null,{"$f":"VLOOKUP(B2567,'(1) Project Reference Item List'!$B$2:$D$1000,3,FALSE)","v":{"$error":"#N/A"}},null,null,0,0]
[{"$f":"VLOOKUP(B2568,'(1) Project Reference Item List'!$B$2:$C$1000,2,FALSE)","v":{"$error":"#N/A"}},null,null,null,null,null,null,null,null,null,null,{"$f":"VLOOKUP(B2568,'(1) Project Reference Item List'!$B$2:$D$1000,3,FALSE)","v":{"$error":"#N/A"}},null,null,0,0]
[{"$f":"VLOOKUP(B2569,'(1) Project Reference Item List'!$B$2:$C$1000,2,FALSE)","v":{"$error":"#N/A"}},null,null,null,null,null,null,null,null,null,null,{"$f":"VLOOKUP(B2569,'(1) Project Reference Item List'!$B$2:$D$1000,3,FALSE)","v":{"$error":"#N/A"}},null,null,0,0]
[{"$f":"VLOOKUP(B2570,'(1) Project Reference Item List'!$B$2:$C$1000,2,FALSE)","v":{"$error":"#N/A"}},null,null,null,null,null,null,null,null,null,null,{"$f":"VLOOKUP(B2570,'(1) Project Reference Item List'!$B$2:$D$1000,3,FALSE)","v":{"$error":"#N/A"}},null,null,0,0]
[{"$f":"VLOOKUP(B2571,'(1) Project Reference Item List'!$B$2:$C$1000,2,FALSE)","v":{"$error":"#N/A"}},null,null,null,null,null,null,null,null,null,null,{"$f":"VLOOKUP(B2571,'(1) Project Reference Item List'!$B$2:$D$1000,3,FALSE)","v":{"$error":"#N/A"}},null,null,0,0]
[{"$f":"VLOOKUP(B2572,'(1) Project Reference Item List'!$B$2:$C$1000,2,FALSE)","v":{"$error":"#N/A"}},null,null,null,null,null,null,null,null,null,null,{"$f":"VLOOKUP(B2572,'(1) Project Reference Item List'!$B$2:$D$1000,3,FALSE)","v":{"$error":"#N/A"}},null,null,0,0]
[{"$f":"VLOOKUP(B2573,'(1) Project Reference Item List'!$B$2:$C$1000,2,FALSE)","v":{"$error":"#N/A"}},null,null,null,null,null,null,null,null,null,null,{"$f":"VLOOKUP(B2573,'(1) Project Reference Item List'!$B$2:$D$1000,3,FALSE)","v":{"$error":"#N/A"}},null,null,0,0]
[{"$f":"VLOOKUP(B2574,'(1) Project Reference Item List'!$B$2:$C$1000,2,FALSE)","v":{"$error":"#N/A"}},null,null,null,null,null,null,null,null,null,null,{"$f":"VLOOKUP(B2574,'(1) Project Reference Item List'!$B$2:$D$1000,3,FALSE)","v":{"$error":"#N/A"}},null,null,0,0]
[{"$f":"VLOOKUP(B2575,'(1) Project Reference Item List'!$B$2:$C$1000,2,FALSE)","v":{"$error":"#N/A"}},null,null,null,null,null,null,null,null,null,null,{"$f":"VLOOKUP(B2575,'(1) Project Reference Item List'!$B$2:$D$1000,3,FALSE)","v":{"$error":"#N/A"}},null,null,0,0]
[{"$f":"VLOOKUP(B2576,'(1) Project Reference Item List'!$B$2:$C$1000,2,FALSE)","v":{"$error":"#N/A"}},null,null,null,null,null,null,null,null,null,null,{"$f":"VLOOKUP(B2576,'(1) Project Reference Item List'!$B$2:$D$1000,3,FALSE)","v":{"$error":"#N/A"}},null,null,0,0]
[{"$f":"VLOOKUP(B2577,'(1) Project Reference Item List'!$B$2:$C$1000,2,FALSE)","v":{"$error":"#N/A"}},null,null,null,null,null,null,null,null,null,null,{"$f":"VLOOKUP(B2577,'(1) Project Reference Item List'!$B$2:$D$1000,3,FALSE)","v":{"$error":"#N/A"}},null,null,0,0]
[{"$f":"VLOOKUP(B2578,'(1) Project Reference Item List'!$B$2:$C$1000,2,FALSE)","v":{"$error":"#N/A"}},null,null,null,null,null,null,null,null,null,null,{"$f":"VLOOKUP(B2578,'(1) Project Reference Item List'!$B$2:$D$1000,3,FALSE)","v":{"$error":"#N/A"}},null,null,0,0]
[{"$f":"VLOOKUP(B2579,'(1) Project Reference Item List'!$B$2:$C$1000,2,FALSE)","v":{"$error":"#N/A"}},null,null,null,null,null,null,null,null,null,null,{"$f":"VLOOKUP(B2579,'(1) Project Reference Item List'!$B$2:$D$1000,3,FALSE)","v":{"$error":"#N/A"}},null,null,0,0]
[{"$f":"VLOOKUP(B2580,'(1) Project Reference Item List'!$B$2:$C$1000,2,FALSE)","v":{"$error":"#N/A"}},null,null,null,null,null,null,null,null,null,null,{"$f":"VLOOKUP(B2580,'(1) Project Reference Item List'!$B$2:$D$1000,3,FALSE)","v":{"$error":"#N/A"}},null,null,0,0]
[{"$f":"VLOOKUP(B2581,'(1) Project Reference Item List'!$B$2:$C$1000,2,FALSE)","v":{"$error":"#N/A"}},null,null,null,null,null,null,null,null,null,null,{"$f":"VLOOKUP(B2581,'(1) Project Reference Item List'!$B$2:$D$1000,3,FALSE)","v":{"$error":"#N/A"}},null,null,0,0]
[{"$f":"VLOOKUP(B2582,'(1) Project Reference Item List'!$B$2:$C$1000,2,FALSE)","v":{"$error":"#N/A"}},null,null,null,null,null,null,null,null,null,null,{"$f":"VLOOKUP(B2582,'(1) Project Reference Item List'!$B$2:$D$1000,3,FALSE)","v":{"$error":"#N/A"}},null,null,0,0]
[{"$f":"VLOOKUP(B2583,'(1) Project Reference Item List'!$B$2:$C$1000,2,FALSE)","v":{"$error":"#N/A"}},null,null,null,null,null,null,null,null,null,null,{"$f":"VLOOKUP(B2583,'(1) Project Reference Item List'!$B$2:$D$1000,3,FALSE)","v":{"$error":"#N/A"}},null,null,0,0]
[{"$f":"VLOOKUP(B2584,'(1) Project Reference Item List'!$B$2:$C$1000,2,FALSE)","v":{"$error":"#N/A"}},null,null,null,null,null,null,null,null,null,null,{"$f":"VLOOKUP(B2584,'(1) Project Reference Item List'!$B$2:$D$1000,3,FALSE)","v":{"$error":"#N/A"}},null,null,0,0]
[{"$f":"VLOOKUP(B2585,'(1) Project Reference Item List'!$B$2:$C$1000,2,FALSE)","v":{"$error":"#N/A"}},null,null,null,null,null,null,null,null,null,null,{"$f":"VLOOKUP(B2585,'(1) Project Reference Item List'!$B$2:$D$1000,3,FALSE)","v":{"$error":"#N/A"}},null,null,0,0]
[{"$f":"VLOOKUP(B2586,'(1) Project Reference Item List'!$B$2:$C$1000,2,FALSE)","v":{"$error":"#N/A"}},null,null,null,null,null,null,null,null,null,null,{"$f":"VLOOKUP(B2586,'(1) Project Reference Item List'!$B$2:$D$1000,3,FALSE)","v":{"$error":"#N/A"}},null,null,0,0]
[{"$f":"VLOOKUP(B2587,'(1) Project Reference Item List'!$B$2:$C$1000,2,FALSE)","v":{"$error":"#N/A"}},null,null,null,null,null,null,null,null,null,null,{"$f":"VLOOKUP(B2587,'(1) Project Reference Item List'!$B$2:$D$1000,3,FALSE)","v":{"$error":"#N/A"}},null,null,0,0]
[{"$f":"VLOOKUP(B2588,'(1) Project Reference Item List'!$B$2:$C$1000,2,FALSE)","v":{"$error":"#N/A"}},null,null,null,null,null,null,null,null,null,null,{"$f":"VLOOKUP(B2588,'(1) Project Reference Item List'!$B$2:$D$1000,3,FALSE)","v":{"$error":"#N/A"}},null,null,0,0]
[{"$f":"VLOOKUP(B2589,'(1) Project Reference Item List'!$B$2:$C$1000,2,FALSE)","v":{"$error":"#N/A"}},null,null,null,null,null,null,null,null,null,null,{"$f":"VLOOKUP(B2589,'(1) Project Reference Item List'!$B$2:$D$1000,3,FALSE)","v":{"$error":"#N/A"}},null,null,0,0]
[{"$f":"VLOOKUP(B2590,'(1) Project Reference Item List'!$B$2:$C$1000,2,FALSE)","v":{"$error":"#N/A"}},null,null,null,null,null,null,null,null,null,null,{"$f":"VLOOKUP(B2590,'(1) Project Reference Item List'!$B$2:$D$1000,3,FALSE)","v":{"$error":"#N/A"}},null,null,0,0]
[{"$f":"VLOOKUP(B2591,'(1) Project Reference Item List'!$B$2:$C$1000,2,FALSE)","v":{"$error":"#N/A"}},null,null,null,null,null,null,null,null,null,null,{"$f":"VLOOKUP(B2591,'(1) Project Reference Item List'!$B$2:$D$1000,3,FALSE)","v":{"$error":"#N/A"}},null,null,0,0]
[{"$f":"VLOOKUP(B2592,'(1) Project Reference Item List'!$B$2:$C$1000,2,FALSE)","v":{"$error":"#N/A"}},null,null,null,null,null,null,null,null,null,null,{"$f":"VLOOKUP(B2592,'(1) Project Reference Item List'!$B$2:$D$1000,3,FALSE)","v":{"$error":"#N/A"}},null,null,0,0]
[{"$f":"VLOOKUP(B2593,'(1) Project Reference Item List'!$B$2:$C$1000,2,FALSE)","v":{"$error":"#N/A"}},null,null,null,null,null,null,null,null,null,null,{"$f":"VLOOKUP(B2593,'(1) Project Reference Item List'!$B$2:$D$1000,3,FALSE)","v":{"$error":"#N/A"}},null,null,0,0]
[{"$f":"VLOOKUP(B2594,'(1) Project Reference Item List'!$B$2:$C$1000,2,FALSE)","v":{"$error":"#N/A"}},null,null,null,null,null,null,null,null,null,null,{"$f":"VLOOKUP(B2594,'(1) Project Reference Item List'!$B$2:$D$1000,3,FALSE)","v":{"$error":"#N/A"}},null,null,0,0]
[{"$f":"VLOOKUP(B2595,'(1) Project Reference Item List'!$B$2:$C$1000,2,FALSE)","v":{"$error":"#N/A"}},null,null,null,null,null,null,null,null,null,null,{"$f":"VLOOKUP(B2595,'(1) Project Reference Item List'!$B$2:$D$1000,3,FALSE)","v":{"$error":"#N/A"}},null,null,0,0]
[{"$f":"VLOOKUP(B2596,'(1) Project Reference Item List'!$B$2:$C$1000,2,FALSE)","v":{"$error":"#N/A"}},null,null,null,null,null,null,null,null,null,null,{"$f":"VLOOKUP(B2596,'(1) Project Reference Item List'!$B$2:$D$1000,3,FALSE)","v":{"$error":"#N/A"}},null,null,0,0]
[{"$f":"VLOOKUP(B2597,'(1) Project Reference Item List'!$B$2:$C$1000,2,FALSE)","v":{"$error":"#N/A"}},null,null,null,null,null,null,null,null,null,null,{"$f":"VLOOKUP(B2597,'(1) Project Reference Item List'!$B$2:$D$1000,3,FALSE)","v":{"$error":"#N/A"}},null,null,0,0]
[{"$f":"VLOOKUP(B2598,'(1) Project Reference Item List'!$B$2:$C$1000,2,FALSE)","v":{"$error":"#N/A"}},null,null,null,null,null,null,null,null,null,null,{"$f":"VLOOKUP(B2598,'(1) Project Reference Item List'!$B$2:$D$1000,3,FALSE)","v":{"$error":"#N/A"}},null,null,0,0]
[{"$f":"VLOOKUP(B2599,'(1) Project Reference Item List'!$B$2:$C$1000,2,FALSE)","v":{"$error":"#N/A"}},null,null,null,null,null,null,null,null,null,null,{"$f":"VLOOKUP(B2599,'(1) Project Reference Item List'!$B$2:$D$1000,3,FALSE)","v":{"$error":"#N/A"}},null,null,0,0]
[{"$f":"VLOOKUP(B2600,'(1) Project Reference Item List'!$B$2:$C$1000,2,FALSE)","v":{"$error":"#N/A"}},null,null,null,null,null,null,null,null,null,null,{"$f":"VLOOKUP(B2600,'(1) Project Reference Item List'!$B$2:$D$1000,3,FALSE)","v":{"$error":"#N/A"}},null,null,0,0]
[{"$f":"VLOOKUP(B2601,'(1) Project Reference Item List'!$B$2:$C$1000,2,FALSE)","v":{"$error":"#N/A"}},null,null,null,null,null,null,null,null,null,null,{"$f":"VLOOKUP(B2601,'(1) Project Reference Item List'!$B$2:$D$1000,3,FALSE)","v":{"$error":"#N/A"}},null,null,0,0]
[{"$f":"VLOOKUP(B2602,'(1) Project Reference Item List'!$B$2:$C$1000,2,FALSE)","v":{"$error":"#N/A"}},null,null,null,null,null,null,null,null,null,null,{"$f":"VLOOKUP(B2602,'(1) Project Reference Item List'!$B$2:$D$1000,3,FALSE)","v":{"$error":"#N/A"}},null,null,0,0]
[{"$f":"VLOOKUP(B2603,'(1) Project Reference Item List'!$B$2:$C$1000,2,FALSE)","v":{"$error":"#N/A"}},null,null,null,null,null,null,null,null,null,null,{"$f":"VLOOKUP(B2603,'(1) Project Reference Item List'!$B$2:$D$1000,3,FALSE)","v":{"$error":"#N/A"}},null,null,0,0]
[{"$f":"VLOOKUP(B2604,'(1) Project Reference Item List'!$B$2:$C$1000,2,FALSE)","v":{"$error":"#N/A"}},null,null,null,null,null,null,null,null,null,null,{"$f":"VLOOKUP(B2604,'(1) Project Reference Item List'!$B$2:$D$1000,3,FALSE)","v":{"$error":"#N/A"}},null,null,0,0]
[{"$f":"VLOOKUP(B2605,'(1) Project Reference Item List'!$B$2:$C$1000,2,FALSE)","v":{"$error":"#N/A"}},null,null,null,null,null,null,null,null,null,null,{"$f":"VLOOKUP(B2605,'(1) Project Reference Item List'!$B$2:$D$1000,3,FALSE)","v":{"$error":"#N/A"}},null,null,0,0]
[{"$f":"VLOOKUP(B2606,'(1) Project Reference Item List'!$B$2:$C$1000,2,FALSE)","v":{"$error":"#N/A"}},null,null,null,null,null,null,null,null,null,null,{"$f":"VLOOKUP(B2606,'(1) Project Reference Item List'!$B$2:$D$1000,3,FALSE)","v":{"$error":"#N/A"}},null,null,0,0]
[{"$f":"VLOOKUP(B2607,'(1) Project Reference Item List'!$B$2:$C$1000,2,FALSE)","v":{"$error":"#N/A"}},null,null,null,null,null,null,null,null,null,null,{"$f":"VLOOKUP(B2607,'(1) Project Reference Item List'!$B$2:$D$1000,3,FALSE)","v":{"$error":"#N/A"}},null,null,0,0]
[{"$f":"VLOOKUP(B2608,'(1) Project Reference Item List'!$B$2:$C$1000,2,FALSE)","v":{"$error":"#N/A"}},null,null,null,null,null,null,null,null,null,null,{"$f":"VLOOKUP(B2608,'(1) Project Reference Item List'!$B$2:$D$1000,3,FALSE)","v":{"$error":"#N/A"}},null,null,0,0]
[{"$f":"VLOOKUP(B2609,'(1) Project Reference Item List'!$B$2:$C$1000,2,FALSE)","v":{"$error":"#N/A"}},null,null,null,null,null,null,null,null,null,null,{"$f":"VLOOKUP(B2609,'(1) Project Reference Item List'!$B$2:$D$1000,3,FALSE)","v":{"$error":"#N/A"}},null,null,0,0]
[{"$f":"VLOOKUP(B2610,'(1) Project Reference Item List'!$B$2:$C$1000,2,FALSE)","v":{"$error":"#N/A"}},null,null,null,null,null,null,null,null,null,null,{"$f":"VLOOKUP(B2610,'(1) Project Reference Item List'!$B$2:$D$1000,3,FALSE)","v":{"$error":"#N/A"}},null,null,0,0]
[{"$f":"VLOOKUP(B2611,'(1) Project Reference Item List'!$B$2:$C$1000,2,FALSE)","v":{"$error":"#N/A"}},null,null,null,null,null,null,null,null,null,null,{"$f":"VLOOKUP(B2611,'(1) Project Reference Item List'!$B$2:$D$1000,3,FALSE)","v":{"$error":"#N/A"}},null,null,0,0]
[{"$f":"VLOOKUP(B2612,'(1) Project Reference Item List'!$B$2:$C$1000,2,FALSE)","v":{"$error":"#N/A"}},null,null,null,null,null,null,null,null,null,null,{"$f":"VLOOKUP(B2612,'(1) Project Reference Item List'!$B$2:$D$1000,3,FALSE)","v":{"$error":"#N/A"}},null,null,0,0]
[{"$f":"VLOOKUP(B2613,'(1) Project Reference Item List'!$B$2:$C$1000,2,FALSE)","v":{"$error":"#N/A"}},null,null,null,null,null,null,null,null,null,null,{"$f":"VLOOKUP(B2613,'(1) Project Reference Item List'!$B$2:$D$1000,3,FALSE)","v":{"$error":"#N/A"}},null,null,0,0]
[{"$f":"VLOOKUP(B2614,'(1) Project Reference Item List'!$B$2:$C$1000,2,FALSE)","v":{"$error":"#N/A"}},null,null,null,null,null,null,null,null,null,null,{"$f":"VLOOKUP(B2614,'(1) Project Reference Item List'!$B$2:$D$1000,3,FALSE)","v":{"$error":"#N/A"}},null,null,0,0]
[{"$f":"VLOOKUP(B2615,'(1) Project Reference Item List'!$B$2:$C$1000,2,FALSE)","v":{"$error":"#N/A"}},null,null,null,null,null,null,null,null,null,null,{"$f":"VLOOKUP(B2615,'(1) Project Reference Item List'!$B$2:$D$1000,3,FALSE)","v":{"$error":"#N/A"}},null,null,0,0]
[{"$f":"VLOOKUP(B2616,'(1) Project Reference Item List'!$B$2:$C$1000,2,FALSE)","v":{"$error":"#N/A"}},null,null,null,null,null,null,null,null,null,null,{"$f":"VLOOKUP(B2616,'(1) Project Reference Item List'!$B$2:$D$1000,3,FALSE)","v":{"$error":"#N/A"}},null,null,0,0]
[{"$f":"VLOOKUP(B2617,'(1) Project Reference Item List'!$B$2:$C$1000,2,FALSE)","v":{"$error":"#N/A"}},null,null,null,null,null,null,null,null,null,null,{"$f":"VLOOKUP(B2617,'(1) Project Reference Item List'!$B$2:$D$1000,3,FALSE)","v":{"$error":"#N/A"}},null,null,0,0]
[{"$f":"VLOOKUP(B2618,'(1) Project Reference Item List'!$B$2:$C$1000,2,FALSE)","v":{"$error":"#N/A"}},null,null,null,null,null,null,null,null,null,null,{"$f":"VLOOKUP(B2618,'(1) Project Reference Item List'!$B$2:$D$1000,3,FALSE)","v":{"$error":"#N/A"}},null,null,0,0]
[{"$f":"VLOOKUP(B2619,'(1) Project Reference Item List'!$B$2:$C$1000,2,FALSE)","v":{"$error":"#N/A"}},null,null,null,null,null,null,null,null,null,null,{"$f":"VLOOKUP(B2619,'(1) Project Reference Item List'!$B$2:$D$1000,3,FALSE)","v":{"$error":"#N/A"}},null,null,0,0]
[{"$f":"VLOOKUP(B2620,'(1) Project Reference Item List'!$B$2:$C$1000,2,FALSE)","v":{"$error":"#N/A"}},null,null,null,null,null,null,null,null,null,null,{"$f":"VLOOKUP(B2620,'(1) Project Reference Item List'!$B$2:$D$1000,3,FALSE)","v":{"$error":"#N/A"}},null,null,0,0]
[{"$f":"VLOOKUP(B2621,'(1) Project Reference Item List'!$B$2:$C$1000,2,FALSE)","v":{"$error":"#N/A"}},null,null,null,null,null,null,null,null,null,null,{"$f":"VLOOKUP(B2621,'(1) Project Reference Item List'!$B$2:$D$1000,3,FALSE)","v":{"$error":"#N/A"}},null,null,0,0]
[{"$f":"VLOOKUP(B2622,'(1) Project Reference Item List'!$B$2:$C$1000,2,FALSE)","v":{"$error":"#N/A"}},null,null,null,null,null,null,null,null,null,null,{"$f":"VLOOKUP(B2622,'(1) Project Reference Item List'!$B$2:$D$1000,3,FALSE)","v":{"$error":"#N/A"}},null,null,0,0]
[{"$f":"VLOOKUP(B2623,'(1) Project Reference Item List'!$B$2:$C$1000,2,FALSE)","v":{"$error":"#N/A"}},null,null,null,null,null,null,null,null,null,null,{"$f":"VLOOKUP(B2623,'(1) Project Reference Item List'!$B$2:$D$1000,3,FALSE)","v":{"$error":"#N/A"}},null,null,0,0]
[{"$f":"VLOOKUP(B2624,'(1) Project Reference Item List'!$B$2:$C$1000,2,FALSE)","v":{"$error":"#N/A"}},null,null,null,null,null,null,null,null,null,null,{"$f":"VLOOKUP(B2624,'(1) Project Reference Item List'!$B$2:$D$1000,3,FALSE)","v":{"$error":"#N/A"}},null,null,0,0]
[{"$f":"VLOOKUP(B2625,'(1) Project Reference Item List'!$B$2:$C$1000,2,FALSE)","v":{"$error":"#N/A"}},null,null,null,null,null,null,null,null,null,null,{"$f":"VLOOKUP(B2625,'(1) Project Reference Item List'!$B$2:$D$1000,3,FALSE)","v":{"$error":"#N/A"}},null,null,0,0]
[{"$f":"VLOOKUP(B2626,'(1) Project Reference Item List'!$B$2:$C$1000,2,FALSE)","v":{"$error":"#N/A"}},null,null,null,null,null,null,null,null,null,null,{"$f":"VLOOKUP(B2626,'(1) Project Reference Item List'!$B$2:$D$1000,3,FALSE)","v":{"$error":"#N/A"}},null,null,0,0]
[{"$f":"VLOOKUP(B2627,'(1) Project Reference Item List'!$B$2:$C$1000,2,FALSE)","v":{"$error":"#N/A"}},null,null,null,null,null,null,null,null,null,null,{"$f":"VLOOKUP(B2627,'(1) Project Reference Item List'!$B$2:$D$1000,3,FALSE)","v":{"$error":"#N/A"}},null,null,0,0]
[{"$f":"VLOOKUP(B2628,'(1) Project Reference Item List'!$B$2:$C$1000,2,FALSE)","v":{"$error":"#N/A"}},null,null,null,null,null,null,null,null,null,null,{"$f":"VLOOKUP(B2628,'(1) Project Reference Item List'!$B$2:$D$1000,3,FALSE)","v":{"$error":"#N/A"}},null,null,0,0]
[{"$f":"VLOOKUP(B2629,'(1) Project Reference Item List'!$B$2:$C$1000,2,FALSE)","v":{"$error":"#N/A"}},null,null,null,null,null,null,null,null,null,null,{"$f":"VLOOKUP(B2629,'(1) Project Reference Item List'!$B$2:$D$1000,3,FALSE)","v":{"$error":"#N/A"}},null,null,0,0]
[{"$f":"VLOOKUP(B2630,'(1) Project Reference Item List'!$B$2:$C$1000,2,FALSE)","v":{"$error":"#N/A"}},null,null,null,null,null,null,null,null,null,null,{"$f":"VLOOKUP(B2630,'(1) Project Reference Item List'!$B$2:$D$1000,3,FALSE)","v":{"$error":"#N/A"}},null,null,{"$f":"IF(J2630=0,J2630,J2630*N2630)","v":0},{"$f":"(M2630-O2630)","v":0}]
[{"$f":"VLOOKUP(B2631,'(1) Project Reference Item List'!$B$2:$C$1000,2,FALSE)","v":{"$error":"#N/A"}},null,null,null,null,null,null,null,null,null,null,{"$f":"VLOOKUP(B2631,'(1) Project Reference Item List'!$B$2:$D$1000,3,FALSE)","v":{"$error":"#N/A"}},null,null,0,0]
[{"$f":"VLOOKUP(B2632,'(1) Project Reference Item List'!$B$2:$C$1000,2,FALSE)","v":{"$error":"#N/A"}},null,null,null,null,null,null,null,null,null,null,{"$f":"VLOOKUP(B2632,'(1) Project Reference Item List'!$B$2:$D$1000,3,FALSE)","v":{"$error":"#N/A"}},null,null,0,0]
[{"$f":"VLOOKUP(B2633,'(1) Project Reference Item List'!$B$2:$C$1000,2,FALSE)","v":{"$error":"#N/A"}},null,null,null,null,null,null,null,null,null,null,{"$f":"VLOOKUP(B2633,'(1) Project Reference Item List'!$B$2:$D$1000,3,FALSE)","v":{"$error":"#N/A"}},null,null,0,0]
[{"$f":"VLOOKUP(B2634,'(1) Project Reference Item List'!$B$2:$C$1000,2,FALSE)","v":{"$error":"#N/A"}},null,null,null,null,null,null,null,null,null,null,{"$f":"VLOOKUP(B2634,'(1) Project Reference Item List'!$B$2:$D$1000,3,FALSE)","v":{"$error":"#N/A"}},null,null,0,0]
[{"$f":"VLOOKUP(B2635,'(1) Project Reference Item List'!$B$2:$C$1000,2,FALSE)","v":{"$error":"#N/A"}},null,null,null,null,null,null,null,null,null,null,{"$f":"VLOOKUP(B2635,'(1) Project Reference Item List'!$B$2:$D$1000,3,FALSE)","v":{"$error":"#N/A"}},null,null,0,0]
[{"$f":"VLOOKUP(B2636,'(1) Project Reference Item List'!$B$2:$C$1000,2,FALSE)","v":{"$error":"#N/A"}},null,null,null,null,null,null,null,null,null,null,{"$f":"VLOOKUP(B2636,'(1) Project Reference Item List'!$B$2:$D$1000,3,FALSE)","v":{"$error":"#N/A"}},null,null,0,0]
[{"$f":"VLOOKUP(B2637,'(1) Project Reference Item List'!$B$2:$C$1000,2,FALSE)","v":{"$error":"#N/A"}},null,null,null,null,null,null,null,null,null,null,{"$f":"VLOOKUP(B2637,'(1) Project Reference Item List'!$B$2:$D$1000,3,FALSE)","v":{"$error":"#N/A"}},null,null,0,0]
[{"$f":"VLOOKUP(B2638,'(1) Project Reference Item List'!$B$2:$C$1000,2,FALSE)","v":{"$error":"#N/A"}},null,null,null,null,null,null,null,null,null,null,{"$f":"VLOOKUP(B2638,'(1) Project Reference Item List'!$B$2:$D$1000,3,FALSE)","v":{"$error":"#N/A"}},null,null,0,0]
[{"$f":"VLOOKUP(B2639,'(1) Project Reference Item List'!$B$2:$C$1000,2,FALSE)","v":{"$error":"#N/A"}},null,null,null,null,null,null,null,null,null,null,{"$f":"VLOOKUP(B2639,'(1) Project Reference Item List'!$B$2:$D$1000,3,FALSE)","v":{"$error":"#N/A"}},null,null,0,0]
[{"$f":"VLOOKUP(B2640,'(1) Project Reference Item List'!$B$2:$C$1000,2,FALSE)","v":{"$error":"#N/A"}},null,null,null,null,null,null,null,null,null,null,{"$f":"VLOOKUP(B2640,'(1) Project Reference Item List'!$B$2:$D$1000,3,FALSE)","v":{"$error":"#N/A"}},null,null,0,0]
[{"$f":"VLOOKUP(B2641,'(1) Project Reference Item List'!$B$2:$C$1000,2,FALSE)","v":{"$error":"#N/A"}},null,null,null,null,null,null,null,null,null,null,{"$f":"VLOOKUP(B2641,'(1) Project Reference Item List'!$B$2:$D$1000,3,FALSE)","v":{"$error":"#N/A"}},null,null,0,0]
[{"$f":"VLOOKUP(B2642,'(1) Project Reference Item List'!$B$2:$C$1000,2,FALSE)","v":{"$error":"#N/A"}},null,null,null,null,null,null,null,null,null,null,{"$f":"VLOOKUP(B2642,'(1) Project Reference Item List'!$B$2:$D$1000,3,FALSE)","v":{"$error":"#N/A"}},null,null,0,0]
[{"$f":"VLOOKUP(B2643,'(1) Project Reference Item List'!$B$2:$C$1000,2,FALSE)","v":{"$error":"#N/A"}},null,null,null,null,null,null,null,null,null,null,{"$f":"VLOOKUP(B2643,'(1) Project Reference Item List'!$B$2:$D$1000,3,FALSE)","v":{"$error":"#N/A"}},null,null,0,0]
[{"$f":"VLOOKUP(B2644,'(1) Project Reference Item List'!$B$2:$C$1000,2,FALSE)","v":{"$error":"#N/A"}},null,null,null,null,null,null,null,null,null,null,{"$f":"VLOOKUP(B2644,'(1) Project Reference Item List'!$B$2:$D$1000,3,FALSE)","v":{"$error":"#N/A"}},null,null,0,0]
[{"$f":"VLOOKUP(B2645,'(1) Project Reference Item List'!$B$2:$C$1000,2,FALSE)","v":{"$error":"#N/A"}},null,null,null,null,null,null,null,null,null,null,{"$f":"VLOOKUP(B2645,'(1) Project Reference Item List'!$B$2:$D$1000,3,FALSE)","v":{"$error":"#N/A"}},null,null,0,0]
[{"$f":"VLOOKUP(B2646,'(1) Project Reference Item List'!$B$2:$C$1000,2,FALSE)","v":{"$error":"#N/A"}},null,null,null,null,null,null,null,null,null,null,{"$f":"VLOOKUP(B2646,'(1) Project Reference Item List'!$B$2:$D$1000,3,FALSE)","v":{"$error":"#N/A"}},null,null,0,0]
[{"$f":"VLOOKUP(B2647,'(1) Project Reference Item List'!$B$2:$C$1000,2,FALSE)","v":{"$error":"#N/A"}},null,null,null,null,null,null,null,null,null,null,{"$f":"VLOOKUP(B2647,'(1) Project Reference Item List'!$B$2:$D$1000,3,FALSE)","v":{"$error":"#N/A"}},null,null,0,0]
[{"$f":"VLOOKUP(B2648,'(1) Project Reference Item List'!$B$2:$C$1000,2,FALSE)","v":{"$error":"#N/A"}},null,null,null,null,null,null,null,null,null,null,{"$f":"VLOOKUP(B2648,'(1) Project Reference Item List'!$B$2:$D$1000,3,FALSE)","v":{"$error":"#N/A"}},null,null,0,0]
[{"$f":"VLOOKUP(B2649,'(1) Project Reference Item List'!$B$2:$C$1000,2,FALSE)","v":{"$error":"#N/A"}},null,null,null,null,null,null,null,null,null,null,{"$f":"VLOOKUP(B2649,'(1) Project Reference Item List'!$B$2:$D$1000,3,FALSE)","v":{"$error":"#N/A"}},null,null,0,0]
[{"$f":"VLOOKUP(B2650,'(1) Project Reference Item List'!$B$2:$C$1000,2,FALSE)","v":{"$error":"#N/A"}},null,null,null,null,null,null,null,null,null,null,{"$f":"VLOOKUP(B2650,'(1) Project Reference Item List'!$B$2:$D$1000,3,FALSE)","v":{"$error":"#N/A"}},null,null,0,0]
[{"$f":"VLOOKUP(B2651,'(1) Project Reference Item List'!$B$2:$C$1000,2,FALSE)","v":{"$error":"#N/A"}},null,null,null,null,null,null,null,null,null,null,{"$f":"VLOOKUP(B2651,'(1) Project Reference Item List'!$B$2:$D$1000,3,FALSE)","v":{"$error":"#N/A"}},null,null,0,0]
[{"$f":"VLOOKUP(B2652,'(1) Project Reference Item List'!$B$2:$C$1000,2,FALSE)","v":{"$error":"#N/A"}},null,null,null,null,null,null,null,null,null,null,{"$f":"VLOOKUP(B2652,'(1) Project Reference Item List'!$B$2:$D$1000,3,FALSE)","v":{"$error":"#N/A"}},null,null,0,0]
[{"$f":"VLOOKUP(B2653,'(1) Project Reference Item List'!$B$2:$C$1000,2,FALSE)","v":{"$error":"#N/A"}},null,null,null,null,null,null,null,null,null,null,{"$f":"VLOOKUP(B2653,'(1) Project Reference Item List'!$B$2:$D$1000,3,FALSE)","v":{"$error":"#N/A"}},null,null,0,0]
[{"$f":"VLOOKUP(B2654,'(1) Project Reference Item List'!$B$2:$C$1000,2,FALSE)","v":{"$error":"#N/A"}},null,null,null,null,null,null,null,null,null,null,{"$f":"VLOOKUP(B2654,'(1) Project Reference Item List'!$B$2:$D$1000,3,FALSE)","v":{"$error":"#N/A"}},null,null,0,0]
[{"$f":"VLOOKUP(B2655,'(1) Project Reference Item List'!$B$2:$C$1000,2,FALSE)","v":{"$error":"#N/A"}},null,null,null,null,null,null,null,null,null,null,{"$f":"VLOOKUP(B2655,'(1) Project Reference Item List'!$B$2:$D$1000,3,FALSE)","v":{"$error":"#N/A"}},null,null,0,0]
[{"$f":"VLOOKUP(B2656,'(1) Project Reference Item List'!$B$2:$C$1000,2,FALSE)","v":{"$error":"#N/A"}},null,null,null,null,null,null,null,null,null,null,{"$f":"VLOOKUP(B2656,'(1) Project Reference Item List'!$B$2:$D$1000,3,FALSE)","v":{"$error":"#N/A"}},null,null,0,0]
[{"$f":"VLOOKUP(B2657,'(1) Project Reference Item List'!$B$2:$C$1000,2,FALSE)","v":{"$error":"#N/A"}},null,null,null,null,null,null,null,null,null,null,{"$f":"VLOOKUP(B2657,'(1) Project Reference Item List'!$B$2:$D$1000,3,FALSE)","v":{"$error":"#N/A"}},null,null,0,0]
[{"$f":"VLOOKUP(B2658,'(1) Project Reference Item List'!$B$2:$C$1000,2,FALSE)","v":{"$error":"#N/A"}},null,null,null,null,null,null,null,null,null,null,{"$f":"VLOOKUP(B2658,'(1) Project Reference Item List'!$B$2:$D$1000,3,FALSE)","v":{"$error":"#N/A"}},null,null,0,0]
[{"$f":"VLOOKUP(B2659,'(1) Project Reference Item List'!$B$2:$C$1000,2,FALSE)","v":{"$error":"#N/A"}},null,null,null,null,null,null,null,null,null,null,{"$f":"VLOOKUP(B2659,'(1) Project Reference Item List'!$B$2:$D$1000,3,FALSE)","v":{"$error":"#N/A"}},null,null,0,0]
[{"$f":"VLOOKUP(B2660,'(1) Project Reference Item List'!$B$2:$C$1000,2,FALSE)","v":{"$error":"#N/A"}},null,null,null,null,null,null,null,null,null,null,{"$f":"VLOOKUP(B2660,'(1) Project Reference Item List'!$B$2:$D$1000,3,FALSE)","v":{"$error":"#N/A"}},null,null,0,0]
[{"$f":"VLOOKUP(B2661,'(1) Project Reference Item List'!$B$2:$C$1000,2,FALSE)","v":{"$error":"#N/A"}},null,null,null,null,null,null,null,null,null,null,{"$f":"VLOOKUP(B2661,'(1) Project Reference Item List'!$B$2:$D$1000,3,FALSE)","v":{"$error":"#N/A"}},null,null,0,0]
[{"$f":"VLOOKUP(B2662,'(1) Project Reference Item List'!$B$2:$C$1000,2,FALSE)","v":{"$error":"#N/A"}},null,null,null,null,null,null,null,null,null,null,{"$f":"VLOOKUP(B2662,'(1) Project Reference Item List'!$B$2:$D$1000,3,FALSE)","v":{"$error":"#N/A"}},null,null,0,0]
[{"$f":"VLOOKUP(B2663,'(1) Project Reference Item List'!$B$2:$C$1000,2,FALSE)","v":{"$error":"#N/A"}},null,null,null,null,null,null,null,null,null,null,{"$f":"VLOOKUP(B2663,'(1) Project Reference Item List'!$B$2:$D$1000,3,FALSE)","v":{"$error":"#N/A"}},null,null,0,0]
[{"$f":"VLOOKUP(B2664,'(1) Project Reference Item List'!$B$2:$C$1000,2,FALSE)","v":{"$error":"#N/A"}},null,null,null,null,null,null,null,null,null,null,{"$f":"VLOOKUP(B2664,'(1) Project Reference Item List'!$B$2:$D$1000,3,FALSE)","v":{"$error":"#N/A"}},null,null,0,0]
[{"$f":"VLOOKUP(B2665,'(1) Project Reference Item List'!$B$2:$C$1000,2,FALSE)","v":{"$error":"#N/A"}},null,null,null,null,null,null,null,null,null,null,{"$f":"VLOOKUP(B2665,'(1) Project Reference Item List'!$B$2:$D$1000,3,FALSE)","v":{"$error":"#N/A"}},null,null,0,0]
[{"$f":"VLOOKUP(B2666,'(1) Project Reference Item List'!$B$2:$C$1000,2,FALSE)","v":{"$error":"#N/A"}},null,null,null,null,null,null,null,null,null,null,{"$f":"VLOOKUP(B2666,'(1) Project Reference Item List'!$B$2:$D$1000,3,FALSE)","v":{"$error":"#N/A"}},null,null,0,0]
[{"$f":"VLOOKUP(B2667,'(1) Project Reference Item List'!$B$2:$C$1000,2,FALSE)","v":{"$error":"#N/A"}},null,null,null,null,null,null,null,null,null,null,{"$f":"VLOOKUP(B2667,'(1) Project Reference Item List'!$B$2:$D$1000,3,FALSE)","v":{"$error":"#N/A"}},null,null,0,0]
[{"$f":"VLOOKUP(B2668,'(1) Project Reference Item List'!$B$2:$C$1000,2,FALSE)","v":{"$error":"#N/A"}},null,null,null,null,null,null,null,null,null,null,{"$f":"VLOOKUP(B2668,'(1) Project Reference Item List'!$B$2:$D$1000,3,FALSE)","v":{"$error":"#N/A"}},null,null,0,0]
[{"$f":"VLOOKUP(B2669,'(1) Project Reference Item List'!$B$2:$C$1000,2,FALSE)","v":{"$error":"#N/A"}},null,null,null,null,null,null,null,null,null,null,{"$f":"VLOOKUP(B2669,'(1) Project Reference Item List'!$B$2:$D$1000,3,FALSE)","v":{"$error":"#N/A"}},null,null,0,0]
[{"$f":"VLOOKUP(B2670,'(1) Project Reference Item List'!$B$2:$C$1000,2,FALSE)","v":{"$error":"#N/A"}},null,null,null,null,null,null,null,null,null,null,{"$f":"VLOOKUP(B2670,'(1) Project Reference Item List'!$B$2:$D$1000,3,FALSE)","v":{"$error":"#N/A"}},null,null,0,0]
[{"$f":"VLOOKUP(B2671,'(1) Project Reference Item List'!$B$2:$C$1000,2,FALSE)","v":{"$error":"#N/A"}},null,null,null,null,null,null,null,null,null,null,{"$f":"VLOOKUP(B2671,'(1) Project Reference Item List'!$B$2:$D$1000,3,FALSE)","v":{"$error":"#N/A"}},null,null,0,0]
[{"$f":"VLOOKUP(B2672,'(1) Project Reference Item List'!$B$2:$C$1000,2,FALSE)","v":{"$error":"#N/A"}},null,null,null,null,null,null,null,null,null,null,{"$f":"VLOOKUP(B2672,'(1) Project Reference Item List'!$B$2:$D$1000,3,FALSE)","v":{"$error":"#N/A"}},null,null,0,0]
[{"$f":"VLOOKUP(B2673,'(1) Project Reference Item List'!$B$2:$C$1000,2,FALSE)","v":{"$error":"#N/A"}},null,null,null,null,null,null,null,null,null,null,{"$f":"VLOOKUP(B2673,'(1) Project Reference Item List'!$B$2:$D$1000,3,FALSE)","v":{"$error":"#N/A"}},null,null,0,0]
[{"$f":"VLOOKUP(B2674,'(1) Project Reference Item List'!$B$2:$C$1000,2,FALSE)","v":{"$error":"#N/A"}},null,null,null,null,null,null,null,null,null,null,{"$f":"VLOOKUP(B2674,'(1) Project Reference Item List'!$B$2:$D$1000,3,FALSE)","v":{"$error":"#N/A"}},null,null,0,0]
[{"$f":"VLOOKUP(B2675,'(1) Project Reference Item List'!$B$2:$C$1000,2,FALSE)","v":{"$error":"#N/A"}},null,null,null,null,null,null,null,null,null,null,{"$f":"VLOOKUP(B2675,'(1) Project Reference Item List'!$B$2:$D$1000,3,FALSE)","v":{"$error":"#N/A"}},null,null,0,0]
[{"$f":"VLOOKUP(B2676,'(1) Project Reference Item List'!$B$2:$C$1000,2,FALSE)","v":{"$error":"#N/A"}},null,null,null,null,null,null,null,null,null,null,{"$f":"VLOOKUP(B2676,'(1) Project Reference Item List'!$B$2:$D$1000,3,FALSE)","v":{"$error":"#N/A"}},null,null,0,0]
[{"$f":"VLOOKUP(B2677,'(1) Project Reference Item List'!$B$2:$C$1000,2,FALSE)","v":{"$error":"#N/A"}},null,null,null,null,null,null,null,null,null,null,{"$f":"VLOOKUP(B2677,'(1) Project Reference Item List'!$B$2:$D$1000,3,FALSE)","v":{"$error":"#N/A"}},null,null,0,0]
[{"$f":"VLOOKUP(B2678,'(1) Project Reference Item List'!$B$2:$C$1000,2,FALSE)","v":{"$error":"#N/A"}},null,null,null,null,null,null,null,null,null,null,{"$f":"VLOOKUP(B2678,'(1) Project Reference Item List'!$B$2:$D$1000,3,FALSE)","v":{"$error":"#N/A"}},null,null,0,0]
[{"$f":"VLOOKUP(B2679,'(1) Project Reference Item List'!$B$2:$C$1000,2,FALSE)","v":{"$error":"#N/A"}},null,null,null,null,null,null,null,null,null,null,{"$f":"VLOOKUP(B2679,'(1) Project Reference Item List'!$B$2:$D$1000,3,FALSE)","v":{"$error":"#N/A"}},null,null,0,0]
[{"$f":"VLOOKUP(B2680,'(1) Project Reference Item List'!$B$2:$C$1000,2,FALSE)","v":{"$error":"#N/A"}},null,null,null,null,null,null,null,null,null,null,{"$f":"VLOOKUP(B2680,'(1) Project Reference Item List'!$B$2:$D$1000,3,FALSE)","v":{"$error":"#N/A"}},null,null,0,0]
[{"$f":"VLOOKUP(B2681,'(1) Project Reference Item List'!$B$2:$C$1000,2,FALSE)","v":{"$error":"#N/A"}},null,null,null,null,null,null,null,null,null,null,{"$f":"VLOOKUP(B2681,'(1) Project Reference Item List'!$B$2:$D$1000,3,FALSE)","v":{"$error":"#N/A"}},null,null,0,0]
[{"$f":"VLOOKUP(B2682,'(1) Project Reference Item List'!$B$2:$C$1000,2,FALSE)","v":{"$error":"#N/A"}},null,null,null,null,null,null,null,null,null,null,{"$f":"VLOOKUP(B2682,'(1) Project Reference Item List'!$B$2:$D$1000,3,FALSE)","v":{"$error":"#N/A"}},null,null,0,0]
[{"$f":"VLOOKUP(B2683,'(1) Project Reference Item List'!$B$2:$C$1000,2,FALSE)","v":{"$error":"#N/A"}},null,null,null,null,null,null,null,null,null,null,{"$f":"VLOOKUP(B2683,'(1) Project Reference Item List'!$B$2:$D$1000,3,FALSE)","v":{"$error":"#N/A"}},null,null,0,0]
[{"$f":"VLOOKUP(B2684,'(1) Project Reference Item List'!$B$2:$C$1000,2,FALSE)","v":{"$error":"#N/A"}},null,null,null,null,null,null,null,null,null,null,{"$f":"VLOOKUP(B2684,'(1) Project Reference Item List'!$B$2:$D$1000,3,FALSE)","v":{"$error":"#N/A"}},null,null,0,0]
[{"$f":"VLOOKUP(B2685,'(1) Project Reference Item List'!$B$2:$C$1000,2,FALSE)","v":{"$error":"#N/A"}},null,null,null,null,null,null,null,null,null,null,{"$f":"VLOOKUP(B2685,'(1) Project Reference Item List'!$B$2:$D$1000,3,FALSE)","v":{"$error":"#N/A"}},null,null,0,0]
[{"$f":"VLOOKUP(B2686,'(1) Project Reference Item List'!$B$2:$C$1000,2,FALSE)","v":{"$error":"#N/A"}},null,null,null,null,null,null,null,null,null,null,{"$f":"VLOOKUP(B2686,'(1) Project Reference Item List'!$B$2:$D$1000,3,FALSE)","v":{"$error":"#N/A"}},null,null,0,0]
[{"$f":"VLOOKUP(B2687,'(1) Project Reference Item List'!$B$2:$C$1000,2,FALSE)","v":{"$error":"#N/A"}},null,null,null,null,null,null,null,null,null,null,{"$f":"VLOOKUP(B2687,'(1) Project Reference Item List'!$B$2:$D$1000,3,FALSE)","v":{"$error":"#N/A"}},null,null,0,0]
[{"$f":"VLOOKUP(B2688,'(1) Project Reference Item List'!$B$2:$C$1000,2,FALSE)","v":{"$error":"#N/A"}},null,null,null,null,null,null,null,null,null,null,{"$f":"VLOOKUP(B2688,'(1) Project Reference Item List'!$B$2:$D$1000,3,FALSE)","v":{"$error":"#N/A"}},null,null,0,0]
[{"$f":"VLOOKUP(B2689,'(1) Project Reference Item List'!$B$2:$C$1000,2,FALSE)","v":{"$error":"#N/A"}},null,null,null,null,null,null,null,null,null,null,{"$f":"VLOOKUP(B2689,'(1) Project Reference Item List'!$B$2:$D$1000,3,FALSE)","v":{"$error":"#N/A"}},null,null,0,0]
[{"$f":"VLOOKUP(B2690,'(1) Project Reference Item List'!$B$2:$C$1000,2,FALSE)","v":{"$error":"#N/A"}},null,null,null,null,null,null,null,null,null,null,{"$f":"VLOOKUP(B2690,'(1) Project Reference Item List'!$B$2:$D$1000,3,FALSE)","v":{"$error":"#N/A"}},null,null,0,0]
[{"$f":"VLOOKUP(B2691,'(1) Project Reference Item List'!$B$2:$C$1000,2,FALSE)","v":{"$error":"#N/A"}},null,null,null,null,null,null,null,null,null,null,{"$f":"VLOOKUP(B2691,'(1) Project Reference Item List'!$B$2:$D$1000,3,FALSE)","v":{"$error":"#N/A"}},null,null,0,0]
[{"$f":"VLOOKUP(B2692,'(1) Project Reference Item List'!$B$2:$C$1000,2,FALSE)","v":{"$error":"#N/A"}},null,null,null,null,null,null,null,null,null,null,{"$f":"VLOOKUP(B2692,'(1) Project Reference Item List'!$B$2:$D$1000,3,FALSE)","v":{"$error":"#N/A"}},null,null,0,0]
[{"$f":"VLOOKUP(B2693,'(1) Project Reference Item List'!$B$2:$C$1000,2,FALSE)","v":{"$error":"#N/A"}},null,null,null,null,null,null,null,null,null,null,{"$f":"VLOOKUP(B2693,'(1) Project Reference Item List'!$B$2:$D$1000,3,FALSE)","v":{"$error":"#N/A"}},null,null,0,0]
[{"$f":"VLOOKUP(B2694,'(1) Project Reference Item List'!$B$2:$C$1000,2,FALSE)","v":{"$error":"#N/A"}},null,null,null,null,null,null,null,null,null,null,{"$f":"VLOOKUP(B2694,'(1) Project Reference Item List'!$B$2:$D$1000,3,FALSE)","v":{"$error":"#N/A"}},null,null,{"$f":"IF(J2694=0,J2694,J2694*N2694)","v":0},{"$f":"(M2694-O2694)","v":0}]
[{"$f":"VLOOKUP(B2695,'(1) Project Reference Item List'!$B$2:$C$1000,2,FALSE)","v":{"$error":"#N/A"}},null,null,null,null,null,null,null,null,null,null,{"$f":"VLOOKUP(B2695,'(1) Project Reference Item List'!$B$2:$D$1000,3,FALSE)","v":{"$error":"#N/A"}},null,null,0,0]
[{"$f":"VLOOKUP(B2696,'(1) Project Reference Item List'!$B$2:$C$1000,2,FALSE)","v":{"$error":"#N/A"}},null,null,null,null,null,null,null,null,null,null,{"$f":"VLOOKUP(B2696,'(1) Project Reference Item List'!$B$2:$D$1000,3,FALSE)","v":{"$error":"#N/A"}},null,null,0,0]
[{"$f":"VLOOKUP(B2697,'(1) Project Reference Item List'!$B$2:$C$1000,2,FALSE)","v":{"$error":"#N/A"}},null,null,null,null,null,null,null,null,null,null,{"$f":"VLOOKUP(B2697,'(1) Project Reference Item List'!$B$2:$D$1000,3,FALSE)","v":{"$error":"#N/A"}},null,null,0,0]
[{"$f":"VLOOKUP(B2698,'(1) Project Reference Item List'!$B$2:$C$1000,2,FALSE)","v":{"$error":"#N/A"}},null,null,null,null,null,null,null,null,null,null,{"$f":"VLOOKUP(B2698,'(1) Project Reference Item List'!$B$2:$D$1000,3,FALSE)","v":{"$error":"#N/A"}},null,null,0,0]
[{"$f":"VLOOKUP(B2699,'(1) Project Reference Item List'!$B$2:$C$1000,2,FALSE)","v":{"$error":"#N/A"}},null,null,null,null,null,null,null,null,null,null,{"$f":"VLOOKUP(B2699,'(1) Project Reference Item List'!$B$2:$D$1000,3,FALSE)","v":{"$error":"#N/A"}},null,null,0,0]
[{"$f":"VLOOKUP(B2700,'(1) Project Reference Item List'!$B$2:$C$1000,2,FALSE)","v":{"$error":"#N/A"}},null,null,null,null,null,null,null,null,null,null,{"$f":"VLOOKUP(B2700,'(1) Project Reference Item List'!$B$2:$D$1000,3,FALSE)","v":{"$error":"#N/A"}},null,null,0,0]
[{"$f":"VLOOKUP(B2701,'(1) Project Reference Item List'!$B$2:$C$1000,2,FALSE)","v":{"$error":"#N/A"}},null,null,null,null,null,null,null,null,null,null,{"$f":"VLOOKUP(B2701,'(1) Project Reference Item List'!$B$2:$D$1000,3,FALSE)","v":{"$error":"#N/A"}},null,null,0,0]
[{"$f":"VLOOKUP(B2702,'(1) Project Reference Item List'!$B$2:$C$1000,2,FALSE)","v":{"$error":"#N/A"}},null,null,null,null,null,null,null,null,null,null,{"$f":"VLOOKUP(B2702,'(1) Project Reference Item List'!$B$2:$D$1000,3,FALSE)","v":{"$error":"#N/A"}},null,null,0,0]
[{"$f":"VLOOKUP(B2703,'(1) Project Reference Item List'!$B$2:$C$1000,2,FALSE)","v":{"$error":"#N/A"}},null,null,null,null,null,null,null,null,null,null,{"$f":"VLOOKUP(B2703,'(1) Project Reference Item List'!$B$2:$D$1000,3,FALSE)","v":{"$error":"#N/A"}},null,null,0,0]
[{"$f":"VLOOKUP(B2704,'(1) Project Reference Item List'!$B$2:$C$1000,2,FALSE)","v":{"$error":"#N/A"}},null,null,null,null,null,null,null,null,null,null,{"$f":"VLOOKUP(B2704,'(1) Project Reference Item List'!$B$2:$D$1000,3,FALSE)","v":{"$error":"#N/A"}},null,null,0,0]
[{"$f":"VLOOKUP(B2705,'(1) Project Reference Item List'!$B$2:$C$1000,2,FALSE)","v":{"$error":"#N/A"}},null,null,null,null,null,null,null,null,null,null,{"$f":"VLOOKUP(B2705,'(1) Project Reference Item List'!$B$2:$D$1000,3,FALSE)","v":{"$error":"#N/A"}},null,null,0,0]
[{"$f":"VLOOKUP(B2706,'(1) Project Reference Item List'!$B$2:$C$1000,2,FALSE)","v":{"$error":"#N/A"}},null,null,null,null,null,null,null,null,null,null,{"$f":"VLOOKUP(B2706,'(1) Project Reference Item List'!$B$2:$D$1000,3,FALSE)","v":{"$error":"#N/A"}},null,null,0,0]
[{"$f":"VLOOKUP(B2707,'(1) Project Reference Item List'!$B$2:$C$1000,2,FALSE)","v":{"$error":"#N/A"}},null,null,null,null,null,null,null,null,null,null,{"$f":"VLOOKUP(B2707,'(1) Project Reference Item List'!$B$2:$D$1000,3,FALSE)","v":{"$error":"#N/A"}},null,null,0,0]
[{"$f":"VLOOKUP(B2708,'(1) Project Reference Item List'!$B$2:$C$1000,2,FALSE)","v":{"$error":"#N/A"}},null,null,null,null,null,null,null,null,null,null,{"$f":"VLOOKUP(B2708,'(1) Project Reference Item List'!$B$2:$D$1000,3,FALSE)","v":{"$error":"#N/A"}},null,null,0,0]
[{"$f":"VLOOKUP(B2709,'(1) Project Reference Item List'!$B$2:$C$1000,2,FALSE)","v":{"$error":"#N/A"}},null,null,null,null,null,null,null,null,null,null,{"$f":"VLOOKUP(B2709,'(1) Project Reference Item List'!$B$2:$D$1000,3,FALSE)","v":{"$error":"#N/A"}},null,null,0,0]
[{"$f":"VLOOKUP(B2710,'(1) Project Reference Item List'!$B$2:$C$1000,2,FALSE)","v":{"$error":"#N/A"}},null,null,null,null,null,null,null,null,null,null,{"$f":"VLOOKUP(B2710,'(1) Project Reference Item List'!$B$2:$D$1000,3,FALSE)","v":{"$error":"#N/A"}},null,null,0,0]
[{"$f":"VLOOKUP(B2711,'(1) Project Reference Item List'!$B$2:$C$1000,2,FALSE)","v":{"$error":"#N/A"}},null,null,null,null,null,null,null,null,null,null,{"$f":"VLOOKUP(B2711,'(1) Project Reference Item List'!$B$2:$D$1000,3,FALSE)","v":{"$error":"#N/A"}},null,null,0,0]
[{"$f":"VLOOKUP(B2712,'(1) Project Reference Item List'!$B$2:$C$1000,2,FALSE)","v":{"$error":"#N/A"}},null,null,null,null,null,null,null,null,null,null,{"$f":"VLOOKUP(B2712,'(1) Project Reference Item List'!$B$2:$D$1000,3,FALSE)","v":{"$error":"#N/A"}},null,null,0,0]
[{"$f":"VLOOKUP(B2713,'(1) Project Reference Item List'!$B$2:$C$1000,2,FALSE)","v":{"$error":"#N/A"}},null,null,null,null,null,null,null,null,null,null,{"$f":"VLOOKUP(B2713,'(1) Project Reference Item List'!$B$2:$D$1000,3,FALSE)","v":{"$error":"#N/A"}},null,null,0,0]
[{"$f":"VLOOKUP(B2714,'(1) Project Reference Item List'!$B$2:$C$1000,2,FALSE)","v":{"$error":"#N/A"}},null,null,null,null,null,null,null,null,null,null,{"$f":"VLOOKUP(B2714,'(1) Project Reference Item List'!$B$2:$D$1000,3,FALSE)","v":{"$error":"#N/A"}},null,null,0,0]
[{"$f":"VLOOKUP(B2715,'(1) Project Reference Item List'!$B$2:$C$1000,2,FALSE)","v":{"$error":"#N/A"}},null,null,null,null,null,null,null,null,null,null,{"$f":"VLOOKUP(B2715,'(1) Project Reference Item List'!$B$2:$D$1000,3,FALSE)","v":{"$error":"#N/A"}},null,null,0,0]
[{"$f":"VLOOKUP(B2716,'(1) Project Reference Item List'!$B$2:$C$1000,2,FALSE)","v":{"$error":"#N/A"}},null,null,null,null,null,null,null,null,null,null,{"$f":"VLOOKUP(B2716,'(1) Project Reference Item List'!$B$2:$D$1000,3,FALSE)","v":{"$error":"#N/A"}},null,null,0,0]
[{"$f":"VLOOKUP(B2717,'(1) Project Reference Item List'!$B$2:$C$1000,2,FALSE)","v":{"$error":"#N/A"}},null,null,null,null,null,null,null,null,null,null,{"$f":"VLOOKUP(B2717,'(1) Project Reference Item List'!$B$2:$D$1000,3,FALSE)","v":{"$error":"#N/A"}},null,null,0,0]
[{"$f":"VLOOKUP(B2718,'(1) Project Reference Item List'!$B$2:$C$1000,2,FALSE)","v":{"$error":"#N/A"}},null,null,null,null,null,null,null,null,null,null,{"$f":"VLOOKUP(B2718,'(1) Project Reference Item List'!$B$2:$D$1000,3,FALSE)","v":{"$error":"#N/A"}},null,null,0,0]
[{"$f":"VLOOKUP(B2719,'(1) Project Reference Item List'!$B$2:$C$1000,2,FALSE)","v":{"$error":"#N/A"}},null,null,null,null,null,null,null,null,null,null,{"$f":"VLOOKUP(B2719,'(1) Project Reference Item List'!$B$2:$D$1000,3,FALSE)","v":{"$error":"#N/A"}},null,null,0,0]
[{"$f":"VLOOKUP(B2720,'(1) Project Reference Item List'!$B$2:$C$1000,2,FALSE)","v":{"$error":"#N/A"}},null,null,null,null,null,null,null,null,null,null,{"$f":"VLOOKUP(B2720,'(1) Project Reference Item List'!$B$2:$D$1000,3,FALSE)","v":{"$error":"#N/A"}},null,null,0,0]
[{"$f":"VLOOKUP(B2721,'(1) Project Reference Item List'!$B$2:$C$1000,2,FALSE)","v":{"$error":"#N/A"}},null,null,null,null,null,null,null,null,null,null,{"$f":"VLOOKUP(B2721,'(1) Project Reference Item List'!$B$2:$D$1000,3,FALSE)","v":{"$error":"#N/A"}},null,null,0,0]
[{"$f":"VLOOKUP(B2722,'(1) Project Reference Item List'!$B$2:$C$1000,2,FALSE)","v":{"$error":"#N/A"}},null,null,null,null,null,null,null,null,null,null,{"$f":"VLOOKUP(B2722,'(1) Project Reference Item List'!$B$2:$D$1000,3,FALSE)","v":{"$error":"#N/A"}},null,null,0,0]
[{"$f":"VLOOKUP(B2723,'(1) Project Reference Item List'!$B$2:$C$1000,2,FALSE)","v":{"$error":"#N/A"}},null,null,null,null,null,null,null,null,null,null,{"$f":"VLOOKUP(B2723,'(1) Project Reference Item List'!$B$2:$D$1000,3,FALSE)","v":{"$error":"#N/A"}},null,null,0,0]
[{"$f":"VLOOKUP(B2724,'(1) Project Reference Item List'!$B$2:$C$1000,2,FALSE)","v":{"$error":"#N/A"}},null,null,null,null,null,null,null,null,null,null,{"$f":"VLOOKUP(B2724,'(1) Project Reference Item List'!$B$2:$D$1000,3,FALSE)","v":{"$error":"#N/A"}},null,null,0,0]
[{"$f":"VLOOKUP(B2725,'(1) Project Reference Item List'!$B$2:$C$1000,2,FALSE)","v":{"$error":"#N/A"}},null,null,null,null,null,null,null,null,null,null,{"$f":"VLOOKUP(B2725,'(1) Project Reference Item List'!$B$2:$D$1000,3,FALSE)","v":{"$error":"#N/A"}},null,null,0,0]
[{"$f":"VLOOKUP(B2726,'(1) Project Reference Item List'!$B$2:$C$1000,2,FALSE)","v":{"$error":"#N/A"}},null,null,null,null,null,null,null,null,null,null,{"$f":"VLOOKUP(B2726,'(1) Project Reference Item List'!$B$2:$D$1000,3,FALSE)","v":{"$error":"#N/A"}},null,null,0,0]
[{"$f":"VLOOKUP(B2727,'(1) Project Reference Item List'!$B$2:$C$1000,2,FALSE)","v":{"$error":"#N/A"}},null,null,null,null,null,null,null,null,null,null,{"$f":"VLOOKUP(B2727,'(1) Project Reference Item List'!$B$2:$D$1000,3,FALSE)","v":{"$error":"#N/A"}},null,null,0,0]
[{"$f":"VLOOKUP(B2728,'(1) Project Reference Item List'!$B$2:$C$1000,2,FALSE)","v":{"$error":"#N/A"}},null,null,null,null,null,null,null,null,null,null,{"$f":"VLOOKUP(B2728,'(1) Project Reference Item List'!$B$2:$D$1000,3,FALSE)","v":{"$error":"#N/A"}},null,null,0,0]
[{"$f":"VLOOKUP(B2729,'(1) Project Reference Item List'!$B$2:$C$1000,2,FALSE)","v":{"$error":"#N/A"}},null,null,null,null,null,null,null,null,null,null,{"$f":"VLOOKUP(B2729,'(1) Project Reference Item List'!$B$2:$D$1000,3,FALSE)","v":{"$error":"#N/A"}},null,null,0,0]
[{"$f":"VLOOKUP(B2730,'(1) Project Reference Item List'!$B$2:$C$1000,2,FALSE)","v":{"$error":"#N/A"}},null,null,null,null,null,null,null,null,null,null,{"$f":"VLOOKUP(B2730,'(1) Project Reference Item List'!$B$2:$D$1000,3,FALSE)","v":{"$error":"#N/A"}},null,null,0,0]
[{"$f":"VLOOKUP(B2731,'(1) Project Reference Item List'!$B$2:$C$1000,2,FALSE)","v":{"$error":"#N/A"}},null,null,null,null,null,null,null,null,null,null,{"$f":"VLOOKUP(B2731,'(1) Project Reference Item List'!$B$2:$D$1000,3,FALSE)","v":{"$error":"#N/A"}},null,null,0,0]
[{"$f":"VLOOKUP(B2732,'(1) Project Reference Item List'!$B$2:$C$1000,2,FALSE)","v":{"$error":"#N/A"}},null,null,null,null,null,null,null,null,null,null,{"$f":"VLOOKUP(B2732,'(1) Project Reference Item List'!$B$2:$D$1000,3,FALSE)","v":{"$error":"#N/A"}},null,null,0,0]
[{"$f":"VLOOKUP(B2733,'(1) Project Reference Item List'!$B$2:$C$1000,2,FALSE)","v":{"$error":"#N/A"}},null,null,null,null,null,null,null,null,null,null,{"$f":"VLOOKUP(B2733,'(1) Project Reference Item List'!$B$2:$D$1000,3,FALSE)","v":{"$error":"#N/A"}},null,null,0,0]
[{"$f":"VLOOKUP(B2734,'(1) Project Reference Item List'!$B$2:$C$1000,2,FALSE)","v":{"$error":"#N/A"}},null,null,null,null,null,null,null,null,null,null,{"$f":"VLOOKUP(B2734,'(1) Project Reference Item List'!$B$2:$D$1000,3,FALSE)","v":{"$error":"#N/A"}},null,null,0,0]
[{"$f":"VLOOKUP(B2735,'(1) Project Reference Item List'!$B$2:$C$1000,2,FALSE)","v":{"$error":"#N/A"}},null,null,null,null,null,null,null,null,null,null,{"$f":"VLOOKUP(B2735,'(1) Project Reference Item List'!$B$2:$D$1000,3,FALSE)","v":{"$error":"#N/A"}},null,null,0,0]
[{"$f":"VLOOKUP(B2736,'(1) Project Reference Item List'!$B$2:$C$1000,2,FALSE)","v":{"$error":"#N/A"}},null,null,null,null,null,null,null,null,null,null,{"$f":"VLOOKUP(B2736,'(1) Project Reference Item List'!$B$2:$D$1000,3,FALSE)","v":{"$error":"#N/A"}},null,null,0,0]
[{"$f":"VLOOKUP(B2737,'(1) Project Reference Item List'!$B$2:$C$1000,2,FALSE)","v":{"$error":"#N/A"}},null,null,null,null,null,null,null,null,null,null,{"$f":"VLOOKUP(B2737,'(1) Project Reference Item List'!$B$2:$D$1000,3,FALSE)","v":{"$error":"#N/A"}},null,null,0,0]
[{"$f":"VLOOKUP(B2738,'(1) Project Reference Item List'!$B$2:$C$1000,2,FALSE)","v":{"$error":"#N/A"}},null,null,null,null,null,null,null,null,null,null,{"$f":"VLOOKUP(B2738,'(1) Project Reference Item List'!$B$2:$D$1000,3,FALSE)","v":{"$error":"#N/A"}},null,null,0,0]
[{"$f":"VLOOKUP(B2739,'(1) Project Reference Item List'!$B$2:$C$1000,2,FALSE)","v":{"$error":"#N/A"}},null,null,null,null,null,null,null,null,null,null,{"$f":"VLOOKUP(B2739,'(1) Project Reference Item List'!$B$2:$D$1000,3,FALSE)","v":{"$error":"#N/A"}},null,null,0,0]
[{"$f":"VLOOKUP(B2740,'(1) Project Reference Item List'!$B$2:$C$1000,2,FALSE)","v":{"$error":"#N/A"}},null,null,null,null,null,null,null,null,null,null,{"$f":"VLOOKUP(B2740,'(1) Project Reference Item List'!$B$2:$D$1000,3,FALSE)","v":{"$error":"#N/A"}},null,null,0,0]
[{"$f":"VLOOKUP(B2741,'(1) Project Reference Item List'!$B$2:$C$1000,2,FALSE)","v":{"$error":"#N/A"}},null,null,null,null,null,null,null,null,null,null,{"$f":"VLOOKUP(B2741,'(1) Project Reference Item List'!$B$2:$D$1000,3,FALSE)","v":{"$error":"#N/A"}},null,null,0,0]
[{"$f":"VLOOKUP(B2742,'(1) Project Reference Item List'!$B$2:$C$1000,2,FALSE)","v":{"$error":"#N/A"}},null,null,null,null,null,null,null,null,null,null,{"$f":"VLOOKUP(B2742,'(1) Project Reference Item List'!$B$2:$D$1000,3,FALSE)","v":{"$error":"#N/A"}},null,null,0,0]
[{"$f":"VLOOKUP(B2743,'(1) Project Reference Item List'!$B$2:$C$1000,2,FALSE)","v":{"$error":"#N/A"}},null,null,null,null,null,null,null,null,null,null,{"$f":"VLOOKUP(B2743,'(1) Project Reference Item List'!$B$2:$D$1000,3,FALSE)","v":{"$error":"#N/A"}},null,null,0,0]
[{"$f":"VLOOKUP(B2744,'(1) Project Reference Item List'!$B$2:$C$1000,2,FALSE)","v":{"$error":"#N/A"}},null,null,null,null,null,null,null,null,null,null,{"$f":"VLOOKUP(B2744,'(1) Project Reference Item List'!$B$2:$D$1000,3,FALSE)","v":{"$error":"#N/A"}},null,null,0,0]
[{"$f":"VLOOKUP(B2745,'(1) Project Reference Item List'!$B$2:$C$1000,2,FALSE)","v":{"$error":"#N/A"}},null,null,null,null,null,null,null,null,null,null,{"$f":"VLOOKUP(B2745,'(1) Project Reference Item List'!$B$2:$D$1000,3,FALSE)","v":{"$error":"#N/A"}},null,null,0,0]
[{"$f":"VLOOKUP(B2746,'(1) Project Reference Item List'!$B$2:$C$1000,2,FALSE)","v":{"$error":"#N/A"}},null,null,null,null,null,null,null,null,null,null,{"$f":"VLOOKUP(B2746,'(1) Project Reference Item List'!$B$2:$D$1000,3,FALSE)","v":{"$error":"#N/A"}},null,null,0,0]
[{"$f":"VLOOKUP(B2747,'(1) Project Reference Item List'!$B$2:$C$1000,2,FALSE)","v":{"$error":"#N/A"}},null,null,null,null,null,null,null,null,null,null,{"$f":"VLOOKUP(B2747,'(1) Project Reference Item List'!$B$2:$D$1000,3,FALSE)","v":{"$error":"#N/A"}},null,null,0,0]
[{"$f":"VLOOKUP(B2748,'(1) Project Reference Item List'!$B$2:$C$1000,2,FALSE)","v":{"$error":"#N/A"}},null,null,null,null,null,null,null,null,null,null,{"$f":"VLOOKUP(B2748,'(1) Project Reference Item List'!$B$2:$D$1000,3,FALSE)","v":{"$error":"#N/A"}},null,null,0,0]
[{"$f":"VLOOKUP(B2749,'(1) Project Reference Item List'!$B$2:$C$1000,2,FALSE)","v":{"$error":"#N/A"}},null,null,null,null,null,null,null,null,null,null,{"$f":"VLOOKUP(B2749,'(1) Project Reference Item List'!$B$2:$D$1000,3,FALSE)","v":{"$error":"#N/A"}},null,null,0,0]
[{"$f":"VLOOKUP(B2750,'(1) Project Reference Item List'!$B$2:$C$1000,2,FALSE)","v":{"$error":"#N/A"}},null,null,null,null,null,null,null,null,null,null,{"$f":"VLOOKUP(B2750,'(1) Project Reference Item List'!$B$2:$D$1000,3,FALSE)","v":{"$error":"#N/A"}},null,null,0,0]
[{"$f":"VLOOKUP(B2751,'(1) Project Reference Item List'!$B$2:$C$1000,2,FALSE)","v":{"$error":"#N/A"}},null,null,null,null,null,null,null,null,null,null,{"$f":"VLOOKUP(B2751,'(1) Project Reference Item List'!$B$2:$D$1000,3,FALSE)","v":{"$error":"#N/A"}},null,null,0,0]
[{"$f":"VLOOKUP(B2752,'(1) Project Reference Item List'!$B$2:$C$1000,2,FALSE)","v":{"$error":"#N/A"}},null,null,null,null,null,null,null,null,null,null,{"$f":"VLOOKUP(B2752,'(1) Project Reference Item List'!$B$2:$D$1000,3,FALSE)","v":{"$error":"#N/A"}},null,null,0,0]
[{"$f":"VLOOKUP(B2753,'(1) Project Reference Item List'!$B$2:$C$1000,2,FALSE)","v":{"$error":"#N/A"}},null,null,null,null,null,null,null,null,null,null,{"$f":"VLOOKUP(B2753,'(1) Project Reference Item List'!$B$2:$D$1000,3,FALSE)","v":{"$error":"#N/A"}},null,null,0,0]
[{"$f":"VLOOKUP(B2754,'(1) Project Reference Item List'!$B$2:$C$1000,2,FALSE)","v":{"$error":"#N/A"}},null,null,null,null,null,null,null,null,null,null,{"$f":"VLOOKUP(B2754,'(1) Project Reference Item List'!$B$2:$D$1000,3,FALSE)","v":{"$error":"#N/A"}},null,null,0,0]
[{"$f":"VLOOKUP(B2755,'(1) Project Reference Item List'!$B$2:$C$1000,2,FALSE)","v":{"$error":"#N/A"}},null,null,null,null,null,null,null,null,null,null,{"$f":"VLOOKUP(B2755,'(1) Project Reference Item List'!$B$2:$D$1000,3,FALSE)","v":{"$error":"#N/A"}},null,null,0,0]
[{"$f":"VLOOKUP(B2756,'(1) Project Reference Item List'!$B$2:$C$1000,2,FALSE)","v":{"$error":"#N/A"}},null,null,null,null,null,null,null,null,null,null,{"$f":"VLOOKUP(B2756,'(1) Project Reference Item List'!$B$2:$D$1000,3,FALSE)","v":{"$error":"#N/A"}},null,null,0,0]
[{"$f":"VLOOKUP(B2757,'(1) Project Reference Item List'!$B$2:$C$1000,2,FALSE)","v":{"$error":"#N/A"}},null,null,null,null,null,null,null,null,null,null,{"$f":"VLOOKUP(B2757,'(1) Project Reference Item List'!$B$2:$D$1000,3,FALSE)","v":{"$error":"#N/A"}},null,null,0,0]
[{"$f":"VLOOKUP(B2758,'(1) Project Reference Item List'!$B$2:$C$1000,2,FALSE)","v":{"$error":"#N/A"}},null,null,null,null,null,null,null,null,null,null,{"$f":"VLOOKUP(B2758,'(1) Project Reference Item List'!$B$2:$D$1000,3,FALSE)","v":{"$error":"#N/A"}},null,null,{"$f":"IF(J2758=0,J2758,J2758*N2758)","v":0},{"$f":"(M2758-O2758)","v":0}]
[{"$f":"VLOOKUP(B2759,'(1) Project Reference Item List'!$B$2:$C$1000,2,FALSE)","v":{"$error":"#N/A"}},null,null,null,null,null,null,null,null,null,null,{"$f":"VLOOKUP(B2759,'(1) Project Reference Item List'!$B$2:$D$1000,3,FALSE)","v":{"$error":"#N/A"}},null,null,0,0]
[{"$f":"VLOOKUP(B2760,'(1) Project Reference Item List'!$B$2:$C$1000,2,FALSE)","v":{"$error":"#N/A"}},null,null,null,null,null,null,null,null,null,null,{"$f":"VLOOKUP(B2760,'(1) Project Reference Item List'!$B$2:$D$1000,3,FALSE)","v":{"$error":"#N/A"}},null,null,0,0]
[{"$f":"VLOOKUP(B2761,'(1) Project Reference Item List'!$B$2:$C$1000,2,FALSE)","v":{"$error":"#N/A"}},null,null,null,null,null,null,null,null,null,null,{"$f":"VLOOKUP(B2761,'(1) Project Reference Item List'!$B$2:$D$1000,3,FALSE)","v":{"$error":"#N/A"}},null,null,0,0]
[{"$f":"VLOOKUP(B2762,'(1) Project Reference Item List'!$B$2:$C$1000,2,FALSE)","v":{"$error":"#N/A"}},null,null,null,null,null,null,null,null,null,null,{"$f":"VLOOKUP(B2762,'(1) Project Reference Item List'!$B$2:$D$1000,3,FALSE)","v":{"$error":"#N/A"}},null,null,0,0]
[{"$f":"VLOOKUP(B2763,'(1) Project Reference Item List'!$B$2:$C$1000,2,FALSE)","v":{"$error":"#N/A"}},null,null,null,null,null,null,null,null,null,null,{"$f":"VLOOKUP(B2763,'(1) Project Reference Item List'!$B$2:$D$1000,3,FALSE)","v":{"$error":"#N/A"}},null,null,0,0]
[{"$f":"VLOOKUP(B2764,'(1) Project Reference Item List'!$B$2:$C$1000,2,FALSE)","v":{"$error":"#N/A"}},null,null,null,null,null,null,null,null,null,null,{"$f":"VLOOKUP(B2764,'(1) Project Reference Item List'!$B$2:$D$1000,3,FALSE)","v":{"$error":"#N/A"}},null,null,0,0]
[{"$f":"VLOOKUP(B2765,'(1) Project Reference Item List'!$B$2:$C$1000,2,FALSE)","v":{"$error":"#N/A"}},null,null,null,null,null,null,null,null,null,null,{"$f":"VLOOKUP(B2765,'(1) Project Reference Item List'!$B$2:$D$1000,3,FALSE)","v":{"$error":"#N/A"}},null,null,0,0]
[{"$f":"VLOOKUP(B2766,'(1) Project Reference Item List'!$B$2:$C$1000,2,FALSE)","v":{"$error":"#N/A"}},null,null,null,null,null,null,null,null,null,null,{"$f":"VLOOKUP(B2766,'(1) Project Reference Item List'!$B$2:$D$1000,3,FALSE)","v":{"$error":"#N/A"}},null,null,0,0]
[{"$f":"VLOOKUP(B2767,'(1) Project Reference Item List'!$B$2:$C$1000,2,FALSE)","v":{"$error":"#N/A"}},null,null,null,null,null,null,null,null,null,null,{"$f":"VLOOKUP(B2767,'(1) Project Reference Item List'!$B$2:$D$1000,3,FALSE)","v":{"$error":"#N/A"}},null,null,0,0]
[{"$f":"VLOOKUP(B2768,'(1) Project Reference Item List'!$B$2:$C$1000,2,FALSE)","v":{"$error":"#N/A"}},null,null,null,null,null,null,null,null,null,null,{"$f":"VLOOKUP(B2768,'(1) Project Reference Item List'!$B$2:$D$1000,3,FALSE)","v":{"$error":"#N/A"}},null,null,0,0]
[{"$f":"VLOOKUP(B2769,'(1) Project Reference Item List'!$B$2:$C$1000,2,FALSE)","v":{"$error":"#N/A"}},null,null,null,null,null,null,null,null,null,null,{"$f":"VLOOKUP(B2769,'(1) Project Reference Item List'!$B$2:$D$1000,3,FALSE)","v":{"$error":"#N/A"}},null,null,0,0]
[{"$f":"VLOOKUP(B2770,'(1) Project Reference Item List'!$B$2:$C$1000,2,FALSE)","v":{"$error":"#N/A"}},null,null,null,null,null,null,null,null,null,null,{"$f":"VLOOKUP(B2770,'(1) Project Reference Item List'!$B$2:$D$1000,3,FALSE)","v":{"$error":"#N/A"}},null,null,0,0]
[{"$f":"VLOOKUP(B2771,'(1) Project Reference Item List'!$B$2:$C$1000,2,FALSE)","v":{"$error":"#N/A"}},null,null,null,null,null,null,null,null,null,null,{"$f":"VLOOKUP(B2771,'(1) Project Reference Item List'!$B$2:$D$1000,3,FALSE)","v":{"$error":"#N/A"}},null,null,0,0]
[{"$f":"VLOOKUP(B2772,'(1) Project Reference Item List'!$B$2:$C$1000,2,FALSE)","v":{"$error":"#N/A"}},null,null,null,null,null,null,null,null,null,null,{"$f":"VLOOKUP(B2772,'(1) Project Reference Item List'!$B$2:$D$1000,3,FALSE)","v":{"$error":"#N/A"}},null,null,0,0]
[{"$f":"VLOOKUP(B2773,'(1) Project Reference Item List'!$B$2:$C$1000,2,FALSE)","v":{"$error":"#N/A"}},null,null,null,null,null,null,null,null,null,null,{"$f":"VLOOKUP(B2773,'(1) Project Reference Item List'!$B$2:$D$1000,3,FALSE)","v":{"$error":"#N/A"}},null,null,0,0]
[{"$f":"VLOOKUP(B2774,'(1) Project Reference Item List'!$B$2:$C$1000,2,FALSE)","v":{"$error":"#N/A"}},null,null,null,null,null,null,null,null,null,null,{"$f":"VLOOKUP(B2774,'(1) Project Reference Item List'!$B$2:$D$1000,3,FALSE)","v":{"$error":"#N/A"}},null,null,0,0]
[{"$f":"VLOOKUP(B2775,'(1) Project Reference Item List'!$B$2:$C$1000,2,FALSE)","v":{"$error":"#N/A"}},null,null,null,null,null,null,null,null,null,null,{"$f":"VLOOKUP(B2775,'(1) Project Reference Item List'!$B$2:$D$1000,3,FALSE)","v":{"$error":"#N/A"}},null,null,0,0]
[{"$f":"VLOOKUP(B2776,'(1) Project Reference Item List'!$B$2:$C$1000,2,FALSE)","v":{"$error":"#N/A"}},null,null,null,null,null,null,null,null,null,null,{"$f":"VLOOKUP(B2776,'(1) Project Reference Item List'!$B$2:$D$1000,3,FALSE)","v":{"$error":"#N/A"}},null,null,0,0]
[{"$f":"VLOOKUP(B2777,'(1) Project Reference Item List'!$B$2:$C$1000,2,FALSE)","v":{"$error":"#N/A"}},null,null,null,null,null,null,null,null,null,null,{"$f":"VLOOKUP(B2777,'(1) Project Reference Item List'!$B$2:$D$1000,3,FALSE)","v":{"$error":"#N/A"}},null,null,0,0]
[{"$f":"VLOOKUP(B2778,'(1) Project Reference Item List'!$B$2:$C$1000,2,FALSE)","v":{"$error":"#N/A"}},null,null,null,null,null,null,null,null,null,null,{"$f":"VLOOKUP(B2778,'(1) Project Reference Item List'!$B$2:$D$1000,3,FALSE)","v":{"$error":"#N/A"}},null,null,0,0]
[{"$f":"VLOOKUP(B2779,'(1) Project Reference Item List'!$B$2:$C$1000,2,FALSE)","v":{"$error":"#N/A"}},null,null,null,null,null,null,null,null,null,null,{"$f":"VLOOKUP(B2779,'(1) Project Reference Item List'!$B$2:$D$1000,3,FALSE)","v":{"$error":"#N/A"}},null,null,0,0]
[{"$f":"VLOOKUP(B2780,'(1) Project Reference Item List'!$B$2:$C$1000,2,FALSE)","v":{"$error":"#N/A"}},null,null,null,null,null,null,null,null,null,null,{"$f":"VLOOKUP(B2780,'(1) Project Reference Item List'!$B$2:$D$1000,3,FALSE)","v":{"$error":"#N/A"}},null,null,0,0]
[{"$f":"VLOOKUP(B2781,'(1) Project Reference Item List'!$B$2:$C$1000,2,FALSE)","v":{"$error":"#N/A"}},null,null,null,null,null,null,null,null,null,null,{"$f":"VLOOKUP(B2781,'(1) Project Reference Item List'!$B$2:$D$1000,3,FALSE)","v":{"$error":"#N/A"}},null,null,0,0]
[{"$f":"VLOOKUP(B2782,'(1) Project Reference Item List'!$B$2:$C$1000,2,FALSE)","v":{"$error":"#N/A"}},null,null,null,null,null,null,null,null,null,null,{"$f":"VLOOKUP(B2782,'(1) Project Reference Item List'!$B$2:$D$1000,3,FALSE)","v":{"$error":"#N/A"}},null,null,0,0]
[{"$f":"VLOOKUP(B2783,'(1) Project Reference Item List'!$B$2:$C$1000,2,FALSE)","v":{"$error":"#N/A"}},null,null,null,null,null,null,null,null,null,null,{"$f":"VLOOKUP(B2783,'(1) Project Reference Item List'!$B$2:$D$1000,3,FALSE)","v":{"$error":"#N/A"}},null,null,0,0]
[{"$f":"VLOOKUP(B2784,'(1) Project Reference Item List'!$B$2:$C$1000,2,FALSE)","v":{"$error":"#N/A"}},null,null,null,null,null,null,null,null,null,null,{"$f":"VLOOKUP(B2784,'(1) Project Reference Item List'!$B$2:$D$1000,3,FALSE)","v":{"$error":"#N/A"}},null,null,0,0]
[{"$f":"VLOOKUP(B2785,'(1) Project Reference Item List'!$B$2:$C$1000,2,FALSE)","v":{"$error":"#N/A"}},null,null,null,null,null,null,null,null,null,null,{"$f":"VLOOKUP(B2785,'(1) Project Reference Item List'!$B$2:$D$1000,3,FALSE)","v":{"$error":"#N/A"}},null,null,0,0]
[{"$f":"VLOOKUP(B2786,'(1) Project Reference Item List'!$B$2:$C$1000,2,FALSE)","v":{"$error":"#N/A"}},null,null,null,null,null,null,null,null,null,null,{"$f":"VLOOKUP(B2786,'(1) Project Reference Item List'!$B$2:$D$1000,3,FALSE)","v":{"$error":"#N/A"}},null,null,0,0]
[{"$f":"VLOOKUP(B2787,'(1) Project Reference Item List'!$B$2:$C$1000,2,FALSE)","v":{"$error":"#N/A"}},null,null,null,null,null,null,null,null,null,null,{"$f":"VLOOKUP(B2787,'(1) Project Reference Item List'!$B$2:$D$1000,3,FALSE)","v":{"$error":"#N/A"}},null,null,0,0]
[{"$f":"VLOOKUP(B2788,'(1) Project Reference Item List'!$B$2:$C$1000,2,FALSE)","v":{"$error":"#N/A"}},null,null,null,null,null,null,null,null,null,null,{"$f":"VLOOKUP(B2788,'(1) Project Reference Item List'!$B$2:$D$1000,3,FALSE)","v":{"$error":"#N/A"}},null,null,0,0]
[{"$f":"VLOOKUP(B2789,'(1) Project Reference Item List'!$B$2:$C$1000,2,FALSE)","v":{"$error":"#N/A"}},null,null,null,null,null,null,null,null,null,null,{"$f":"VLOOKUP(B2789,'(1) Project Reference Item List'!$B$2:$D$1000,3,FALSE)","v":{"$error":"#N/A"}},null,null,0,0]
[{"$f":"VLOOKUP(B2790,'(1) Project Reference Item List'!$B$2:$C$1000,2,FALSE)","v":{"$error":"#N/A"}},null,null,null,null,null,null,null,null,null,null,{"$f":"VLOOKUP(B2790,'(1) Project Reference Item List'!$B$2:$D$1000,3,FALSE)","v":{"$error":"#N/A"}},null,null,0,0]
[{"$f":"VLOOKUP(B2791,'(1) Project Reference Item List'!$B$2:$C$1000,2,FALSE)","v":{"$error":"#N/A"}},null,null,null,null,null,null,null,null,null,null,{"$f":"VLOOKUP(B2791,'(1) Project Reference Item List'!$B$2:$D$1000,3,FALSE)","v":{"$error":"#N/A"}},null,null,0,0]
[{"$f":"VLOOKUP(B2792,'(1) Project Reference Item List'!$B$2:$C$1000,2,FALSE)","v":{"$error":"#N/A"}},null,null,null,null,null,null,null,null,null,null,{"$f":"VLOOKUP(B2792,'(1) Project Reference Item List'!$B$2:$D$1000,3,FALSE)","v":{"$error":"#N/A"}},null,null,0,0]
[{"$f":"VLOOKUP(B2793,'(1) Project Reference Item List'!$B$2:$C$1000,2,FALSE)","v":{"$error":"#N/A"}},null,null,null,null,null,null,null,null,null,null,{"$f":"VLOOKUP(B2793,'(1) Project Reference Item List'!$B$2:$D$1000,3,FALSE)","v":{"$error":"#N/A"}},null,null,0,0]
[{"$f":"VLOOKUP(B2794,'(1) Project Reference Item List'!$B$2:$C$1000,2,FALSE)","v":{"$error":"#N/A"}},null,null,null,null,null,null,null,null,null,null,{"$f":"VLOOKUP(B2794,'(1) Project Reference Item List'!$B$2:$D$1000,3,FALSE)","v":{"$error":"#N/A"}},null,null,0,0]
[{"$f":"VLOOKUP(B2795,'(1) Project Reference Item List'!$B$2:$C$1000,2,FALSE)","v":{"$error":"#N/A"}},null,null,null,null,null,null,null,null,null,null,{"$f":"VLOOKUP(B2795,'(1) Project Reference Item List'!$B$2:$D$1000,3,FALSE)","v":{"$error":"#N/A"}},null,null,0,0]
[{"$f":"VLOOKUP(B2796,'(1) Project Reference Item List'!$B$2:$C$1000,2,FALSE)","v":{"$error":"#N/A"}},null,null,null,null,null,null,null,null,null,null,{"$f":"VLOOKUP(B2796,'(1) Project Reference Item List'!$B$2:$D$1000,3,FALSE)","v":{"$error":"#N/A"}},null,null,0,0]
[{"$f":"VLOOKUP(B2797,'(1) Project Reference Item List'!$B$2:$C$1000,2,FALSE)","v":{"$error":"#N/A"}},null,null,null,null,null,null,null,null,null,null,{"$f":"VLOOKUP(B2797,'(1) Project Reference Item List'!$B$2:$D$1000,3,FALSE)","v":{"$error":"#N/A"}},null,null,0,0]
[{"$f":"VLOOKUP(B2798,'(1) Project Reference Item List'!$B$2:$C$1000,2,FALSE)","v":{"$error":"#N/A"}},null,null,null,null,null,null,null,null,null,null,{"$f":"VLOOKUP(B2798,'(1) Project Reference Item List'!$B$2:$D$1000,3,FALSE)","v":{"$error":"#N/A"}},null,null,0,0]
[{"$f":"VLOOKUP(B2799,'(1) Project Reference Item List'!$B$2:$C$1000,2,FALSE)","v":{"$error":"#N/A"}},null,null,null,null,null,null,null,null,null,null,{"$f":"VLOOKUP(B2799,'(1) Project Reference Item List'!$B$2:$D$1000,3,FALSE)","v":{"$error":"#N/A"}},null,null,0,0]
[{"$f":"VLOOKUP(B2800,'(1) Project Reference Item List'!$B$2:$C$1000,2,FALSE)","v":{"$error":"#N/A"}},null,null,null,null,null,null,null,null,null,null,{"$f":"VLOOKUP(B2800,'(1) Project Reference Item List'!$B$2:$D$1000,3,FALSE)","v":{"$error":"#N/A"}},null,null,0,0]
[{"$f":"VLOOKUP(B2801,'(1) Project Reference Item List'!$B$2:$C$1000,2,FALSE)","v":{"$error":"#N/A"}},null,null,null,null,null,null,null,null,null,null,{"$f":"VLOOKUP(B2801,'(1) Project Reference Item List'!$B$2:$D$1000,3,FALSE)","v":{"$error":"#N/A"}},null,null,0,0]
[{"$f":"VLOOKUP(B2802,'(1) Project Reference Item List'!$B$2:$C$1000,2,FALSE)","v":{"$error":"#N/A"}},null,null,null,null,null,null,null,null,null,null,{"$f":"VLOOKUP(B2802,'(1) Project Reference Item List'!$B$2:$D$1000,3,FALSE)","v":{"$error":"#N/A"}},null,null,0,0]
[{"$f":"VLOOKUP(B2803,'(1) Project Reference Item List'!$B$2:$C$1000,2,FALSE)","v":{"$error":"#N/A"}},null,null,null,null,null,null,null,null,null,null,{"$f":"VLOOKUP(B2803,'(1) Project Reference Item List'!$B$2:$D$1000,3,FALSE)","v":{"$error":"#N/A"}},null,null,0,0]
[{"$f":"VLOOKUP(B2804,'(1) Project Reference Item List'!$B$2:$C$1000,2,FALSE)","v":{"$error":"#N/A"}},null,null,null,null,null,null,null,null,null,null,{"$f":"VLOOKUP(B2804,'(1) Project Reference Item List'!$B$2:$D$1000,3,FALSE)","v":{"$error":"#N/A"}},null,null,0,0]
[{"$f":"VLOOKUP(B2805,'(1) Project Reference Item List'!$B$2:$C$1000,2,FALSE)","v":{"$error":"#N/A"}},null,null,null,null,null,null,null,null,null,null,{"$f":"VLOOKUP(B2805,'(1) Project Reference Item List'!$B$2:$D$1000,3,FALSE)","v":{"$error":"#N/A"}},null,null,0,0]
[{"$f":"VLOOKUP(B2806,'(1) Project Reference Item List'!$B$2:$C$1000,2,FALSE)","v":{"$error":"#N/A"}},null,null,null,null,null,null,null,null,null,null,{"$f":"VLOOKUP(B2806,'(1) Project Reference Item List'!$B$2:$D$1000,3,FALSE)","v":{"$error":"#N/A"}},null,null,0,0]
[{"$f":"VLOOKUP(B2807,'(1) Project Reference Item List'!$B$2:$C$1000,2,FALSE)","v":{"$error":"#N/A"}},null,null,null,null,null,null,null,null,null,null,{"$f":"VLOOKUP(B2807,'(1) Project Reference Item List'!$B$2:$D$1000,3,FALSE)","v":{"$error":"#N/A"}},null,null,0,0]
[{"$f":"VLOOKUP(B2808,'(1) Project Reference Item List'!$B$2:$C$1000,2,FALSE)","v":{"$error":"#N/A"}},null,null,null,null,null,null,null,null,null,null,{"$f":"VLOOKUP(B2808,'(1) Project Reference Item List'!$B$2:$D$1000,3,FALSE)","v":{"$error":"#N/A"}},null,null,0,0]
[{"$f":"VLOOKUP(B2809,'(1) Project Reference Item List'!$B$2:$C$1000,2,FALSE)","v":{"$error":"#N/A"}},null,null,null,null,null,null,null,null,null,null,{"$f":"VLOOKUP(B2809,'(1) Project Reference Item List'!$B$2:$D$1000,3,FALSE)","v":{"$error":"#N/A"}},null,null,0,0]
[{"$f":"VLOOKUP(B2810,'(1) Project Reference Item List'!$B$2:$C$1000,2,FALSE)","v":{"$error":"#N/A"}},null,null,null,null,null,null,null,null,null,null,{"$f":"VLOOKUP(B2810,'(1) Project Reference Item List'!$B$2:$D$1000,3,FALSE)","v":{"$error":"#N/A"}},null,null,0,0]
[{"$f":"VLOOKUP(B2811,'(1) Project Reference Item List'!$B$2:$C$1000,2,FALSE)","v":{"$error":"#N/A"}},null,null,null,null,null,null,null,null,null,null,{"$f":"VLOOKUP(B2811,'(1) Project Reference Item List'!$B$2:$D$1000,3,FALSE)","v":{"$error":"#N/A"}},null,null,0,0]
[{"$f":"VLOOKUP(B2812,'(1) Project Reference Item List'!$B$2:$C$1000,2,FALSE)","v":{"$error":"#N/A"}},null,null,null,null,null,null,null,null,null,null,{"$f":"VLOOKUP(B2812,'(1) Project Reference Item List'!$B$2:$D$1000,3,FALSE)","v":{"$error":"#N/A"}},null,null,0,0]
[{"$f":"VLOOKUP(B2813,'(1) Project Reference Item List'!$B$2:$C$1000,2,FALSE)","v":{"$error":"#N/A"}},null,null,null,null,null,null,null,null,null,null,{"$f":"VLOOKUP(B2813,'(1) Project Reference Item List'!$B$2:$D$1000,3,FALSE)","v":{"$error":"#N/A"}},null,null,0,0]
[{"$f":"VLOOKUP(B2814,'(1) Project Reference Item List'!$B$2:$C$1000,2,FALSE)","v":{"$error":"#N/A"}},null,null,null,null,null,null,null,null,null,null,{"$f":"VLOOKUP(B2814,'(1) Project Reference Item List'!$B$2:$D$1000,3,FALSE)","v":{"$error":"#N/A"}},null,null,0,0]
[{"$f":"VLOOKUP(B2815,'(1) Project Reference Item List'!$B$2:$C$1000,2,FALSE)","v":{"$error":"#N/A"}},null,null,null,null,null,null,null,null,null,null,{"$f":"VLOOKUP(B2815,'(1) Project Reference Item List'!$B$2:$D$1000,3,FALSE)","v":{"$error":"#N/A"}},null,null,0,0]
[{"$f":"VLOOKUP(B2816,'(1) Project Reference Item List'!$B$2:$C$1000,2,FALSE)","v":{"$error":"#N/A"}},null,null,null,null,null,null,null,null,null,null,{"$f":"VLOOKUP(B2816,'(1) Project Reference Item List'!$B$2:$D$1000,3,FALSE)","v":{"$error":"#N/A"}},null,null,0,0]
[{"$f":"VLOOKUP(B2817,'(1) Project Reference Item List'!$B$2:$C$1000,2,FALSE)","v":{"$error":"#N/A"}},null,null,null,null,null,null,null,null,null,null,{"$f":"VLOOKUP(B2817,'(1) Project Reference Item List'!$B$2:$D$1000,3,FALSE)","v":{"$error":"#N/A"}},null,null,0,0]
[{"$f":"VLOOKUP(B2818,'(1) Project Reference Item List'!$B$2:$C$1000,2,FALSE)","v":{"$error":"#N/A"}},null,null,null,null,null,null,null,null,null,null,{"$f":"VLOOKUP(B2818,'(1) Project Reference Item List'!$B$2:$D$1000,3,FALSE)","v":{"$error":"#N/A"}},null,null,0,0]
[{"$f":"VLOOKUP(B2819,'(1) Project Reference Item List'!$B$2:$C$1000,2,FALSE)","v":{"$error":"#N/A"}},null,null,null,null,null,null,null,null,null,null,{"$f":"VLOOKUP(B2819,'(1) Project Reference Item List'!$B$2:$D$1000,3,FALSE)","v":{"$error":"#N/A"}},null,null,0,0]
[{"$f":"VLOOKUP(B2820,'(1) Project Reference Item List'!$B$2:$C$1000,2,FALSE)","v":{"$error":"#N/A"}},null,null,null,null,null,null,null,null,null,null,{"$f":"VLOOKUP(B2820,'(1) Project Reference Item List'!$B$2:$D$1000,3,FALSE)","v":{"$error":"#N/A"}},null,null,0,0]
[{"$f":"VLOOKUP(B2821,'(1) Project Reference Item List'!$B$2:$C$1000,2,FALSE)","v":{"$error":"#N/A"}},null,null,null,null,null,null,null,null,null,null,{"$f":"VLOOKUP(B2821,'(1) Project Reference Item List'!$B$2:$D$1000,3,FALSE)","v":{"$error":"#N/A"}},null,null,0,0]
[{"$f":"VLOOKUP(B2822,'(1) Project Reference Item List'!$B$2:$C$1000,2,FALSE)","v":{"$error":"#N/A"}},null,null,null,null,null,null,null,null,null,null,{"$f":"VLOOKUP(B2822,'(1) Project Reference Item List'!$B$2:$D$1000,3,FALSE)","v":{"$error":"#N/A"}},null,null,{"$f":"IF(J2822=0,J2822,J2822*N2822)","v":0},{"$f":"(M2822-O2822)","v":0}]
[{"$f":"VLOOKUP(B2823,'(1) Project Reference Item List'!$B$2:$C$1000,2,FALSE)","v":{"$error":"#N/A"}},null,null,null,null,null,null,null,null,null,null,{"$f":"VLOOKUP(B2823,'(1) Project Reference Item List'!$B$2:$D$1000,3,FALSE)","v":{"$error":"#N/A"}},null,null,0,0]
[{"$f":"VLOOKUP(B2824,'(1) Project Reference Item List'!$B$2:$C$1000,2,FALSE)","v":{"$error":"#N/A"}},null,null,null,null,null,null,null,null,null,null,{"$f":"VLOOKUP(B2824,'(1) Project Reference Item List'!$B$2:$D$1000,3,FALSE)","v":{"$error":"#N/A"}},null,null,0,0]
[{"$f":"VLOOKUP(B2825,'(1) Project Reference Item List'!$B$2:$C$1000,2,FALSE)","v":{"$error":"#N/A"}},null,null,null,null,null,null,null,null,null,null,{"$f":"VLOOKUP(B2825,'(1) Project Reference Item List'!$B$2:$D$1000,3,FALSE)","v":{"$error":"#N/A"}},null,null,0,0]
[{"$f":"VLOOKUP(B2826,'(1) Project Reference Item List'!$B$2:$C$1000,2,FALSE)","v":{"$error":"#N/A"}},null,null,null,null,null,null,null,null,null,null,{"$f":"VLOOKUP(B2826,'(1) Project Reference Item List'!$B$2:$D$1000,3,FALSE)","v":{"$error":"#N/A"}},null,null,0,0]
[{"$f":"VLOOKUP(B2827,'(1) Project Reference Item List'!$B$2:$C$1000,2,FALSE)","v":{"$error":"#N/A"}},null,null,null,null,null,null,null,null,null,null,{"$f":"VLOOKUP(B2827,'(1) Project Reference Item List'!$B$2:$D$1000,3,FALSE)","v":{"$error":"#N/A"}},null,null,0,0]
[{"$f":"VLOOKUP(B2828,'(1) Project Reference Item List'!$B$2:$C$1000,2,FALSE)","v":{"$error":"#N/A"}},null,null,null,null,null,null,null,null,null,null,{"$f":"VLOOKUP(B2828,'(1) Project Reference Item List'!$B$2:$D$1000,3,FALSE)","v":{"$error":"#N/A"}},null,null,0,0]
[{"$f":"VLOOKUP(B2829,'(1) Project Reference Item List'!$B$2:$C$1000,2,FALSE)","v":{"$error":"#N/A"}},null,null,null,null,null,null,null,null,null,null,{"$f":"VLOOKUP(B2829,'(1) Project Reference Item List'!$B$2:$D$1000,3,FALSE)","v":{"$error":"#N/A"}},null,null,0,0]
[{"$f":"VLOOKUP(B2830,'(1) Project Reference Item List'!$B$2:$C$1000,2,FALSE)","v":{"$error":"#N/A"}},null,null,null,null,null,null,null,null,null,null,{"$f":"VLOOKUP(B2830,'(1) Project Reference Item List'!$B$2:$D$1000,3,FALSE)","v":{"$error":"#N/A"}},null,null,0,0]
[{"$f":"VLOOKUP(B2831,'(1) Project Reference Item List'!$B$2:$C$1000,2,FALSE)","v":{"$error":"#N/A"}},null,null,null,null,null,null,null,null,null,null,{"$f":"VLOOKUP(B2831,'(1) Project Reference Item List'!$B$2:$D$1000,3,FALSE)","v":{"$error":"#N/A"}},null,null,0,0]
[{"$f":"VLOOKUP(B2832,'(1) Project Reference Item List'!$B$2:$C$1000,2,FALSE)","v":{"$error":"#N/A"}},null,null,null,null,null,null,null,null,null,null,{"$f":"VLOOKUP(B2832,'(1) Project Reference Item List'!$B$2:$D$1000,3,FALSE)","v":{"$error":"#N/A"}},null,null,0,0]
[{"$f":"VLOOKUP(B2833,'(1) Project Reference Item List'!$B$2:$C$1000,2,FALSE)","v":{"$error":"#N/A"}},null,null,null,null,null,null,null,null,null,null,{"$f":"VLOOKUP(B2833,'(1) Project Reference Item List'!$B$2:$D$1000,3,FALSE)","v":{"$error":"#N/A"}},null,null,0,0]
[{"$f":"VLOOKUP(B2834,'(1) Project Reference Item List'!$B$2:$C$1000,2,FALSE)","v":{"$error":"#N/A"}},null,null,null,null,null,null,null,null,null,null,{"$f":"VLOOKUP(B2834,'(1) Project Reference Item List'!$B$2:$D$1000,3,FALSE)","v":{"$error":"#N/A"}},null,null,0,0]
[{"$f":"VLOOKUP(B2835,'(1) Project Reference Item List'!$B$2:$C$1000,2,FALSE)","v":{"$error":"#N/A"}},null,null,null,null,null,null,null,null,null,null,{"$f":"VLOOKUP(B2835,'(1) Project Reference Item List'!$B$2:$D$1000,3,FALSE)","v":{"$error":"#N/A"}},null,null,0,0]
[{"$f":"VLOOKUP(B2836,'(1) Project Reference Item List'!$B$2:$C$1000,2,FALSE)","v":{"$error":"#N/A"}},null,null,null,null,null,null,null,null,null,null,{"$f":"VLOOKUP(B2836,'(1) Project Reference Item List'!$B$2:$D$1000,3,FALSE)","v":{"$error":"#N/A"}},null,null,0,0]
[{"$f":"VLOOKUP(B2837,'(1) Project Reference Item List'!$B$2:$C$1000,2,FALSE)","v":{"$error":"#N/A"}},null,null,null,null,null,null,null,null,null,null,{"$f":"VLOOKUP(B2837,'(1) Project Reference Item List'!$B$2:$D$1000,3,FALSE)","v":{"$error":"#N/A"}},null,null,0,0]
[{"$f":"VLOOKUP(B2838,'(1) Project Reference Item List'!$B$2:$C$1000,2,FALSE)","v":{"$error":"#N/A"}},null,null,null,null,null,null,null,null,null,null,{"$f":"VLOOKUP(B2838,'(1) Project Reference Item List'!$B$2:$D$1000,3,FALSE)","v":{"$error":"#N/A"}},null,null,0,0]
[{"$f":"VLOOKUP(B2839,'(1) Project Reference Item List'!$B$2:$C$1000,2,FALSE)","v":{"$error":"#N/A"}},null,null,null,null,null,null,null,null,null,null,{"$f":"VLOOKUP(B2839,'(1) Project Reference Item List'!$B$2:$D$1000,3,FALSE)","v":{"$error":"#N/A"}},null,null,0,0]
[{"$f":"VLOOKUP(B2840,'(1) Project Reference Item List'!$B$2:$C$1000,2,FALSE)","v":{"$error":"#N/A"}},null,null,null,null,null,null,null,null,null,null,{"$f":"VLOOKUP(B2840,'(1) Project Reference Item List'!$B$2:$D$1000,3,FALSE)","v":{"$error":"#N/A"}},null,null,0,0]
[{"$f":"VLOOKUP(B2841,'(1) Project Reference Item List'!$B$2:$C$1000,2,FALSE)","v":{"$error":"#N/A"}},null,null,null,null,null,null,null,null,null,null,{"$f":"VLOOKUP(B2841,'(1) Project Reference Item List'!$B$2:$D$1000,3,FALSE)","v":{"$error":"#N/A"}},null,null,0,0]
[{"$f":"VLOOKUP(B2842,'(1) Project Reference Item List'!$B$2:$C$1000,2,FALSE)","v":{"$error":"#N/A"}},null,null,null,null,null,null,null,null,null,null,{"$f":"VLOOKUP(B2842,'(1) Project Reference Item List'!$B$2:$D$1000,3,FALSE)","v":{"$error":"#N/A"}},null,null,0,0]
[{"$f":"VLOOKUP(B2843,'(1) Project Reference Item List'!$B$2:$C$1000,2,FALSE)","v":{"$error":"#N/A"}},null,null,null,null,null,null,null,null,null,null,{"$f":"VLOOKUP(B2843,'(1) Project Reference Item List'!$B$2:$D$1000,3,FALSE)","v":{"$error":"#N/A"}},null,null,0,0]
[{"$f":"VLOOKUP(B2844,'(1) Project Reference Item List'!$B$2:$C$1000,2,FALSE)","v":{"$error":"#N/A"}},null,null,null,null,null,null,null,null,null,null,{"$f":"VLOOKUP(B2844,'(1) Project Reference Item List'!$B$2:$D$1000,3,FALSE)","v":{"$error":"#N/A"}},null,null,0,0]
[{"$f":"VLOOKUP(B2845,'(1) Project Reference Item List'!$B$2:$C$1000,2,FALSE)","v":{"$error":"#N/A"}},null,null,null,null,null,null,null,null,null,null,{"$f":"VLOOKUP(B2845,'(1) Project Reference Item List'!$B$2:$D$1000,3,FALSE)","v":{"$error":"#N/A"}},null,null,0,0]
[{"$f":"VLOOKUP(B2846,'(1) Project Reference Item List'!$B$2:$C$1000,2,FALSE)","v":{"$error":"#N/A"}},null,null,null,null,null,null,null,null,null,null,{"$f":"VLOOKUP(B2846,'(1) Project Reference Item List'!$B$2:$D$1000,3,FALSE)","v":{"$error":"#N/A"}},null,null,0,0]
[{"$f":"VLOOKUP(B2847,'(1) Project Reference Item List'!$B$2:$C$1000,2,FALSE)","v":{"$error":"#N/A"}},null,null,null,null,null,null,null,null,null,null,{"$f":"VLOOKUP(B2847,'(1) Project Reference Item List'!$B$2:$D$1000,3,FALSE)","v":{"$error":"#N/A"}},null,null,0,0]
[{"$f":"VLOOKUP(B2848,'(1) Project Reference Item List'!$B$2:$C$1000,2,FALSE)","v":{"$error":"#N/A"}},null,null,null,null,null,null,null,null,null,null,{"$f":"VLOOKUP(B2848,'(1) Project Reference Item List'!$B$2:$D$1000,3,FALSE)","v":{"$error":"#N/A"}},null,null,0,0]
[{"$f":"VLOOKUP(B2849,'(1) Project Reference Item List'!$B$2:$C$1000,2,FALSE)","v":{"$error":"#N/A"}},null,null,null,null,null,null,null,null,null,null,{"$f":"VLOOKUP(B2849,'(1) Project Reference Item List'!$B$2:$D$1000,3,FALSE)","v":{"$error":"#N/A"}},null,null,0,0]
[{"$f":"VLOOKUP(B2850,'(1) Project Reference Item List'!$B$2:$C$1000,2,FALSE)","v":{"$error":"#N/A"}},null,null,null,null,null,null,null,null,null,null,{"$f":"VLOOKUP(B2850,'(1) Project Reference Item List'!$B$2:$D$1000,3,FALSE)","v":{"$error":"#N/A"}},null,null,0,0]
[{"$f":"VLOOKUP(B2851,'(1) Project Reference Item List'!$B$2:$C$1000,2,FALSE)","v":{"$error":"#N/A"}},null,null,null,null,null,null,null,null,null,null,{"$f":"VLOOKUP(B2851,'(1) Project Reference Item List'!$B$2:$D$1000,3,FALSE)","v":{"$error":"#N/A"}},null,null,0,0]
[{"$f":"VLOOKUP(B2852,'(1) Project Reference Item List'!$B$2:$C$1000,2,FALSE)","v":{"$error":"#N/A"}},null,null,null,null,null,null,null,null,null,null,{"$f":"VLOOKUP(B2852,'(1) Project Reference Item List'!$B$2:$D$1000,3,FALSE)","v":{"$error":"#N/A"}},null,null,0,0]
[{"$f":"VLOOKUP(B2853,'(1) Project Reference Item List'!$B$2:$C$1000,2,FALSE)","v":{"$error":"#N/A"}},null,null,null,null,null,null,null,null,null,null,{"$f":"VLOOKUP(B2853,'(1) Project Reference Item List'!$B$2:$D$1000,3,FALSE)","v":{"$error":"#N/A"}},null,null,0,0]
[{"$f":"VLOOKUP(B2854,'(1) Project Reference Item List'!$B$2:$C$1000,2,FALSE)","v":{"$error":"#N/A"}},null,null,null,null,null,null,null,null,null,null,{"$f":"VLOOKUP(B2854,'(1) Project Reference Item List'!$B$2:$D$1000,3,FALSE)","v":{"$error":"#N/A"}},null,null,0,0]
[{"$f":"VLOOKUP(B2855,'(1) Project Reference Item List'!$B$2:$C$1000,2,FALSE)","v":{"$error":"#N/A"}},null,null,null,null,null,null,null,null,null,null,{"$f":"VLOOKUP(B2855,'(1) Project Reference Item List'!$B$2:$D$1000,3,FALSE)","v":{"$error":"#N/A"}},null,null,0,0]
[{"$f":"VLOOKUP(B2856,'(1) Project Reference Item List'!$B$2:$C$1000,2,FALSE)","v":{"$error":"#N/A"}},null,null,null,null,null,null,null,null,null,null,{"$f":"VLOOKUP(B2856,'(1) Project Reference Item List'!$B$2:$D$1000,3,FALSE)","v":{"$error":"#N/A"}},null,null,0,0]
[{"$f":"VLOOKUP(B2857,'(1) Project Reference Item List'!$B$2:$C$1000,2,FALSE)","v":{"$error":"#N/A"}},null,null,null,null,null,null,null,null,null,null,{"$f":"VLOOKUP(B2857,'(1) Project Reference Item List'!$B$2:$D$1000,3,FALSE)","v":{"$error":"#N/A"}},null,null,0,0]
[{"$f":"VLOOKUP(B2858,'(1) Project Reference Item List'!$B$2:$C$1000,2,FALSE)","v":{"$error":"#N/A"}},null,null,null,null,null,null,null,null,null,null,{"$f":"VLOOKUP(B2858,'(1) Project Reference Item List'!$B$2:$D$1000,3,FALSE)","v":{"$error":"#N/A"}},null,null,0,0]
[{"$f":"VLOOKUP(B2859,'(1) Project Reference Item List'!$B$2:$C$1000,2,FALSE)","v":{"$error":"#N/A"}},null,null,null,null,null,null,null,null,null,null,{"$f":"VLOOKUP(B2859,'(1) Project Reference Item List'!$B$2:$D$1000,3,FALSE)","v":{"$error":"#N/A"}},null,null,0,0]
[{"$f":"VLOOKUP(B2860,'(1) Project Reference Item List'!$B$2:$C$1000,2,FALSE)","v":{"$error":"#N/A"}},null,null,null,null,null,null,null,null,null,null,{"$f":"VLOOKUP(B2860,'(1) Project Reference Item List'!$B$2:$D$1000,3,FALSE)","v":{"$error":"#N/A"}},null,null,0,0]
[{"$f":"VLOOKUP(B2861,'(1) Project Reference Item List'!$B$2:$C$1000,2,FALSE)","v":{"$error":"#N/A"}},null,null,null,null,null,null,null,null,null,null,{"$f":"VLOOKUP(B2861,'(1) Project Reference Item List'!$B$2:$D$1000,3,FALSE)","v":{"$error":"#N/A"}},null,null,0,0]
[{"$f":"VLOOKUP(B2862,'(1) Project Reference Item List'!$B$2:$C$1000,2,FALSE)","v":{"$error":"#N/A"}},null,null,null,null,null,null,null,null,null,null,{"$f":"VLOOKUP(B2862,'(1) Project Reference Item List'!$B$2:$D$1000,3,FALSE)","v":{"$error":"#N/A"}},null,null,0,0]
[{"$f":"VLOOKUP(B2863,'(1) Project Reference Item List'!$B$2:$C$1000,2,FALSE)","v":{"$error":"#N/A"}},null,null,null,null,null,null,null,null,null,null,{"$f":"VLOOKUP(B2863,'(1) Project Reference Item List'!$B$2:$D$1000,3,FALSE)","v":{"$error":"#N/A"}},null,null,0,0]
[{"$f":"VLOOKUP(B2864,'(1) Project Reference Item List'!$B$2:$C$1000,2,FALSE)","v":{"$error":"#N/A"}},null,null,null,null,null,null,null,null,null,null,{"$f":"VLOOKUP(B2864,'(1) Project Reference Item List'!$B$2:$D$1000,3,FALSE)","v":{"$error":"#N/A"}},null,null,0,0]
[{"$f":"VLOOKUP(B2865,'(1) Project Reference Item List'!$B$2:$C$1000,2,FALSE)","v":{"$error":"#N/A"}},null,null,null,null,null,null,null,null,null,null,{"$f":"VLOOKUP(B2865,'(1) Project Reference Item List'!$B$2:$D$1000,3,FALSE)","v":{"$error":"#N/A"}},null,null,0,0]
[{"$f":"VLOOKUP(B2866,'(1) Project Reference Item List'!$B$2:$C$1000,2,FALSE)","v":{"$error":"#N/A"}},null,null,null,null,null,null,null,null,null,null,{"$f":"VLOOKUP(B2866,'(1) Project Reference Item List'!$B$2:$D$1000,3,FALSE)","v":{"$error":"#N/A"}},null,null,0,0]
[{"$f":"VLOOKUP(B2867,'(1) Project Reference Item List'!$B$2:$C$1000,2,FALSE)","v":{"$error":"#N/A"}},null,null,null,null,null,null,null,null,null,null,{"$f":"VLOOKUP(B2867,'(1) Project Reference Item List'!$B$2:$D$1000,3,FALSE)","v":{"$error":"#N/A"}},null,null,0,0]
[{"$f":"VLOOKUP(B2868,'(1) Project Reference Item List'!$B$2:$C$1000,2,FALSE)","v":{"$error":"#N/A"}},null,null,null,null,null,null,null,null,null,null,{"$f":"VLOOKUP(B2868,'(1) Project Reference Item List'!$B$2:$D$1000,3,FALSE)","v":{"$error":"#N/A"}},null,null,0,0]
[{"$f":"VLOOKUP(B2869,'(1) Project Reference Item List'!$B$2:$C$1000,2,FALSE)","v":{"$error":"#N/A"}},null,null,null,null,null,null,null,null,null,null,{"$f":"VLOOKUP(B2869,'(1) Project Reference Item List'!$B$2:$D$1000,3,FALSE)","v":{"$error":"#N/A"}},null,null,0,0]
[{"$f":"VLOOKUP(B2870,'(1) Project Reference Item List'!$B$2:$C$1000,2,FALSE)","v":{"$error":"#N/A"}},null,null,null,null,null,null,null,null,null,null,{"$f":"VLOOKUP(B2870,'(1) Project Reference Item List'!$B$2:$D$1000,3,FALSE)","v":{"$error":"#N/A"}},null,null,0,0]
[{"$f":"VLOOKUP(B2871,'(1) Project Reference Item List'!$B$2:$C$1000,2,FALSE)","v":{"$error":"#N/A"}},null,null,null,null,null,null,null,null,null,null,{"$f":"VLOOKUP(B2871,'(1) Project Reference Item List'!$B$2:$D$1000,3,FALSE)","v":{"$error":"#N/A"}},null,null,0,0]
[{"$f":"VLOOKUP(B2872,'(1) Project Reference Item List'!$B$2:$C$1000,2,FALSE)","v":{"$error":"#N/A"}},null,null,null,null,null,null,null,null,null,null,{"$f":"VLOOKUP(B2872,'(1) Project Reference Item List'!$B$2:$D$1000,3,FALSE)","v":{"$error":"#N/A"}},null,null,0,0]
[{"$f":"VLOOKUP(B2873,'(1) Project Reference Item List'!$B$2:$C$1000,2,FALSE)","v":{"$error":"#N/A"}},null,null,null,null,null,null,null,null,null,null,{"$f":"VLOOKUP(B2873,'(1) Project Reference Item List'!$B$2:$D$1000,3,FALSE)","v":{"$error":"#N/A"}},null,null,0,0]
[{"$f":"VLOOKUP(B2874,'(1) Project Reference Item List'!$B$2:$C$1000,2,FALSE)","v":{"$error":"#N/A"}},null,null,null,null,null,null,null,null,null,null,{"$f":"VLOOKUP(B2874,'(1) Project Reference Item List'!$B$2:$D$1000,3,FALSE)","v":{"$error":"#N/A"}},null,null,0,0]
[{"$f":"VLOOKUP(B2875,'(1) Project Reference Item List'!$B$2:$C$1000,2,FALSE)","v":{"$error":"#N/A"}},null,null,null,null,null,null,null,null,null,null,{"$f":"VLOOKUP(B2875,'(1) Project Reference Item List'!$B$2:$D$1000,3,FALSE)","v":{"$error":"#N/A"}},null,null,0,0]
[{"$f":"VLOOKUP(B2876,'(1) Project Reference Item List'!$B$2:$C$1000,2,FALSE)","v":{"$error":"#N/A"}},null,null,null,null,null,null,null,null,null,null,{"$f":"VLOOKUP(B2876,'(1) Project Reference Item List'!$B$2:$D$1000,3,FALSE)","v":{"$error":"#N/A"}},null,null,0,0]
[{"$f":"VLOOKUP(B2877,'(1) Project Reference Item List'!$B$2:$C$1000,2,FALSE)","v":{"$error":"#N/A"}},null,null,null,null,null,null,null,null,null,null,{"$f":"VLOOKUP(B2877,'(1) Project Reference Item List'!$B$2:$D$1000,3,FALSE)","v":{"$error":"#N/A"}},null,null,0,0]
[{"$f":"VLOOKUP(B2878,'(1) Project Reference Item List'!$B$2:$C$1000,2,FALSE)","v":{"$error":"#N/A"}},null,null,null,null,null,null,null,null,null,null,{"$f":"VLOOKUP(B2878,'(1) Project Reference Item List'!$B$2:$D$1000,3,FALSE)","v":{"$error":"#N/A"}},null,null,0,0]
[{"$f":"VLOOKUP(B2879,'(1) Project Reference Item List'!$B$2:$C$1000,2,FALSE)","v":{"$error":"#N/A"}},null,null,null,null,null,null,null,null,null,null,{"$f":"VLOOKUP(B2879,'(1) Project Reference Item List'!$B$2:$D$1000,3,FALSE)","v":{"$error":"#N/A"}},null,null,0,0]
[{"$f":"VLOOKUP(B2880,'(1) Project Reference Item List'!$B$2:$C$1000,2,FALSE)","v":{"$error":"#N/A"}},null,null,null,null,null,null,null,null,null,null,{"$f":"VLOOKUP(B2880,'(1) Project Reference Item List'!$B$2:$D$1000,3,FALSE)","v":{"$error":"#N/A"}},null,null,0,0]
[{"$f":"VLOOKUP(B2881,'(1) Project Reference Item List'!$B$2:$C$1000,2,FALSE)","v":{"$error":"#N/A"}},null,null,null,null,null,null,null,null,null,null,{"$f":"VLOOKUP(B2881,'(1) Project Reference Item List'!$B$2:$D$1000,3,FALSE)","v":{"$error":"#N/A"}},null,null,0,0]
[{"$f":"VLOOKUP(B2882,'(1) Project Reference Item List'!$B$2:$C$1000,2,FALSE)","v":{"$error":"#N/A"}},null,null,null,null,null,null,null,null,null,null,{"$f":"VLOOKUP(B2882,'(1) Project Reference Item List'!$B$2:$D$1000,3,FALSE)","v":{"$error":"#N/A"}},null,null,0,0]
[{"$f":"VLOOKUP(B2883,'(1) Project Reference Item List'!$B$2:$C$1000,2,FALSE)","v":{"$error":"#N/A"}},null,null,null,null,null,null,null,null,null,null,{"$f":"VLOOKUP(B2883,'(1) Project Reference Item List'!$B$2:$D$1000,3,FALSE)","v":{"$error":"#N/A"}},null,null,0,0]
[{"$f":"VLOOKUP(B2884,'(1) Project Reference Item List'!$B$2:$C$1000,2,FALSE)","v":{"$error":"#N/A"}},null,null,null,null,null,null,null,null,null,null,{"$f":"VLOOKUP(B2884,'(1) Project Reference Item List'!$B$2:$D$1000,3,FALSE)","v":{"$error":"#N/A"}},null,null,0,0]
[{"$f":"VLOOKUP(B2885,'(1) Project Reference Item List'!$B$2:$C$1000,2,FALSE)","v":{"$error":"#N/A"}},null,null,null,null,null,null,null,null,null,null,{"$f":"VLOOKUP(B2885,'(1) Project Reference Item List'!$B$2:$D$1000,3,FALSE)","v":{"$error":"#N/A"}},null,null,0,0]
[{"$f":"VLOOKUP(B2886,'(1) Project Reference Item List'!$B$2:$C$1000,2,FALSE)","v":{"$error":"#N/A"}},null,null,null,null,null,null,null,null,null,null,{"$f":"VLOOKUP(B2886,'(1) Project Reference Item List'!$B$2:$D$1000,3,FALSE)","v":{"$error":"#N/A"}},null,null,{"$f":"IF(J2886=0,J2886,J2886*N2886)","v":0},{"$f":"(M2886-O2886)","v":0}]
[{"$f":"VLOOKUP(B2887,'(1) Project Reference Item List'!$B$2:$C$1000,2,FALSE)","v":{"$error":"#N/A"}},null,null,null,null,null,null,null,null,null,null,{"$f":"VLOOKUP(B2887,'(1) Project Reference Item List'!$B$2:$D$1000,3,FALSE)","v":{"$error":"#N/A"}},null,null,0,0]
[{"$f":"VLOOKUP(B2888,'(1) Project Reference Item List'!$B$2:$C$1000,2,FALSE)","v":{"$error":"#N/A"}},null,null,null,null,null,null,null,null,null,null,{"$f":"VLOOKUP(B2888,'(1) Project Reference Item List'!$B$2:$D$1000,3,FALSE)","v":{"$error":"#N/A"}},null,null,0,0]
[{"$f":"VLOOKUP(B2889,'(1) Project Reference Item List'!$B$2:$C$1000,2,FALSE)","v":{"$error":"#N/A"}},null,null,null,null,null,null,null,null,null,null,{"$f":"VLOOKUP(B2889,'(1) Project Reference Item List'!$B$2:$D$1000,3,FALSE)","v":{"$error":"#N/A"}},null,null,0,0]
[{"$f":"VLOOKUP(B2890,'(1) Project Reference Item List'!$B$2:$C$1000,2,FALSE)","v":{"$error":"#N/A"}},null,null,null,null,null,null,null,null,null,null,{"$f":"VLOOKUP(B2890,'(1) Project Reference Item List'!$B$2:$D$1000,3,FALSE)","v":{"$error":"#N/A"}},null,null,0,0]
[{"$f":"VLOOKUP(B2891,'(1) Project Reference Item List'!$B$2:$C$1000,2,FALSE)","v":{"$error":"#N/A"}},null,null,null,null,null,null,null,null,null,null,{"$f":"VLOOKUP(B2891,'(1) Project Reference Item List'!$B$2:$D$1000,3,FALSE)","v":{"$error":"#N/A"}},null,null,0,0]
[{"$f":"VLOOKUP(B2892,'(1) Project Reference Item List'!$B$2:$C$1000,2,FALSE)","v":{"$error":"#N/A"}},null,null,null,null,null,null,null,null,null,null,{"$f":"VLOOKUP(B2892,'(1) Project Reference Item List'!$B$2:$D$1000,3,FALSE)","v":{"$error":"#N/A"}},null,null,0,0]
[{"$f":"VLOOKUP(B2893,'(1) Project Reference Item List'!$B$2:$C$1000,2,FALSE)","v":{"$error":"#N/A"}},null,null,null,null,null,null,null,null,null,null,{"$f":"VLOOKUP(B2893,'(1) Project Reference Item List'!$B$2:$D$1000,3,FALSE)","v":{"$error":"#N/A"}},null,null,0,0]
[{"$f":"VLOOKUP(B2894,'(1) Project Reference Item List'!$B$2:$C$1000,2,FALSE)","v":{"$error":"#N/A"}},null,null,null,null,null,null,null,null,null,null,{"$f":"VLOOKUP(B2894,'(1) Project Reference Item List'!$B$2:$D$1000,3,FALSE)","v":{"$error":"#N/A"}},null,null,0,0]
[{"$f":"VLOOKUP(B2895,'(1) Project Reference Item List'!$B$2:$C$1000,2,FALSE)","v":{"$error":"#N/A"}},null,null,null,null,null,null,null,null,null,null,{"$f":"VLOOKUP(B2895,'(1) Project Reference Item List'!$B$2:$D$1000,3,FALSE)","v":{"$error":"#N/A"}},null,null,0,0]
[{"$f":"VLOOKUP(B2896,'(1) Project Reference Item List'!$B$2:$C$1000,2,FALSE)","v":{"$error":"#N/A"}},null,null,null,null,null,null,null,null,null,null,{"$f":"VLOOKUP(B2896,'(1) Project Reference Item List'!$B$2:$D$1000,3,FALSE)","v":{"$error":"#N/A"}},null,null,0,0]
[{"$f":"VLOOKUP(B2897,'(1) Project Reference Item List'!$B$2:$C$1000,2,FALSE)","v":{"$error":"#N/A"}},null,null,null,null,null,null,null,null,null,null,{"$f":"VLOOKUP(B2897,'(1) Project Reference Item List'!$B$2:$D$1000,3,FALSE)","v":{"$error":"#N/A"}},null,null,0,0]
[{"$f":"VLOOKUP(B2898,'(1) Project Reference Item List'!$B$2:$C$1000,2,FALSE)","v":{"$error":"#N/A"}},null,null,null,null,null,null,null,null,null,null,{"$f":"VLOOKUP(B2898,'(1) Project Reference Item List'!$B$2:$D$1000,3,FALSE)","v":{"$error":"#N/A"}},null,null,0,0]
[{"$f":"VLOOKUP(B2899,'(1) Project Reference Item List'!$B$2:$C$1000,2,FALSE)","v":{"$error":"#N/A"}},null,null,null,null,null,null,null,null,null,null,{"$f":"VLOOKUP(B2899,'(1) Project Reference Item List'!$B$2:$D$1000,3,FALSE)","v":{"$error":"#N/A"}},null,null,0,0]
[{"$f":"VLOOKUP(B2900,'(1) Project Reference Item List'!$B$2:$C$1000,2,FALSE)","v":{"$error":"#N/A"}},null,null,null,null,null,null,null,null,null,null,{"$f":"VLOOKUP(B2900,'(1) Project Reference Item List'!$B$2:$D$1000,3,FALSE)","v":{"$error":"#N/A"}},null,null,0,0]
[{"$f":"VLOOKUP(B2901,'(1) Project Reference Item List'!$B$2:$C$1000,2,FALSE)","v":{"$error":"#N/A"}},null,null,null,null,null,null,null,null,null,null,{"$f":"VLOOKUP(B2901,'(1) Project Reference Item List'!$B$2:$D$1000,3,FALSE)","v":{"$error":"#N/A"}},null,null,0,0]
[{"$f":"VLOOKUP(B2902,'(1) Project Reference Item List'!$B$2:$C$1000,2,FALSE)","v":{"$error":"#N/A"}},null,null,null,null,null,null,null,null,null,null,{"$f":"VLOOKUP(B2902,'(1) Project Reference Item List'!$B$2:$D$1000,3,FALSE)","v":{"$error":"#N/A"}},null,null,0,0]
[{"$f":"VLOOKUP(B2903,'(1) Project Reference Item List'!$B$2:$C$1000,2,FALSE)","v":{"$error":"#N/A"}},null,null,null,null,null,null,null,null,null,null,{"$f":"VLOOKUP(B2903,'(1) Project Reference Item List'!$B$2:$D$1000,3,FALSE)","v":{"$error":"#N/A"}},null,null,0,0]
[{"$f":"VLOOKUP(B2904,'(1) Project Reference Item List'!$B$2:$C$1000,2,FALSE)","v":{"$error":"#N/A"}},null,null,null,null,null,null,null,null,null,null,{"$f":"VLOOKUP(B2904,'(1) Project Reference Item List'!$B$2:$D$1000,3,FALSE)","v":{"$error":"#N/A"}},null,null,0,0]
[{"$f":"VLOOKUP(B2905,'(1) Project Reference Item List'!$B$2:$C$1000,2,FALSE)","v":{"$error":"#N/A"}},null,null,null,null,null,null,null,null,null,null,{"$f":"VLOOKUP(B2905,'(1) Project Reference Item List'!$B$2:$D$1000,3,FALSE)","v":{"$error":"#N/A"}},null,null,0,0]
[{"$f":"VLOOKUP(B2906,'(1) Project Reference Item List'!$B$2:$C$1000,2,FALSE)","v":{"$error":"#N/A"}},null,null,null,null,null,null,null,null,null,null,{"$f":"VLOOKUP(B2906,'(1) Project Reference Item List'!$B$2:$D$1000,3,FALSE)","v":{"$error":"#N/A"}},null,null,0,0]
[{"$f":"VLOOKUP(B2907,'(1) Project Reference Item List'!$B$2:$C$1000,2,FALSE)","v":{"$error":"#N/A"}},null,null,null,null,null,null,null,null,null,null,{"$f":"VLOOKUP(B2907,'(1) Project Reference Item List'!$B$2:$D$1000,3,FALSE)","v":{"$error":"#N/A"}},null,null,0,0]
[{"$f":"VLOOKUP(B2908,'(1) Project Reference Item List'!$B$2:$C$1000,2,FALSE)","v":{"$error":"#N/A"}},null,null,null,null,null,null,null,null,null,null,{"$f":"VLOOKUP(B2908,'(1) Project Reference Item List'!$B$2:$D$1000,3,FALSE)","v":{"$error":"#N/A"}},null,null,0,0]
[{"$f":"VLOOKUP(B2909,'(1) Project Reference Item List'!$B$2:$C$1000,2,FALSE)","v":{"$error":"#N/A"}},null,null,null,null,null,null,null,null,null,null,{"$f":"VLOOKUP(B2909,'(1) Project Reference Item List'!$B$2:$D$1000,3,FALSE)","v":{"$error":"#N/A"}},null,null,0,0]
[{"$f":"VLOOKUP(B2910,'(1) Project Reference Item List'!$B$2:$C$1000,2,FALSE)","v":{"$error":"#N/A"}},null,null,null,null,null,null,null,null,null,null,{"$f":"VLOOKUP(B2910,'(1) Project Reference Item List'!$B$2:$D$1000,3,FALSE)","v":{"$error":"#N/A"}},null,null,0,0]
[{"$f":"VLOOKUP(B2911,'(1) Project Reference Item List'!$B$2:$C$1000,2,FALSE)","v":{"$error":"#N/A"}},null,null,null,null,null,null,null,null,null,null,{"$f":"VLOOKUP(B2911,'(1) Project Reference Item List'!$B$2:$D$1000,3,FALSE)","v":{"$error":"#N/A"}},null,null,0,0]
[{"$f":"VLOOKUP(B2912,'(1) Project Reference Item List'!$B$2:$C$1000,2,FALSE)","v":{"$error":"#N/A"}},null,null,null,null,null,null,null,null,null,null,{"$f":"VLOOKUP(B2912,'(1) Project Reference Item List'!$B$2:$D$1000,3,FALSE)","v":{"$error":"#N/A"}},null,null,0,0]
[{"$f":"VLOOKUP(B2913,'(1) Project Reference Item List'!$B$2:$C$1000,2,FALSE)","v":{"$error":"#N/A"}},null,null,null,null,null,null,null,null,null,null,{"$f":"VLOOKUP(B2913,'(1) Project Reference Item List'!$B$2:$D$1000,3,FALSE)","v":{"$error":"#N/A"}},null,null,0,0]
[{"$f":"VLOOKUP(B2914,'(1) Project Reference Item List'!$B$2:$C$1000,2,FALSE)","v":{"$error":"#N/A"}},null,null,null,null,null,null,null,null,null,null,{"$f":"VLOOKUP(B2914,'(1) Project Reference Item List'!$B$2:$D$1000,3,FALSE)","v":{"$error":"#N/A"}},null,null,0,0]
[{"$f":"VLOOKUP(B2915,'(1) Project Reference Item List'!$B$2:$C$1000,2,FALSE)","v":{"$error":"#N/A"}},null,null,null,null,null,null,null,null,null,null,{"$f":"VLOOKUP(B2915,'(1) Project Reference Item List'!$B$2:$D$1000,3,FALSE)","v":{"$error":"#N/A"}},null,null,0,0]
[{"$f":"VLOOKUP(B2916,'(1) Project Reference Item List'!$B$2:$C$1000,2,FALSE)","v":{"$error":"#N/A"}},null,null,null,null,null,null,null,null,null,null,{"$f":"VLOOKUP(B2916,'(1) Project Reference Item List'!$B$2:$D$1000,3,FALSE)","v":{"$error":"#N/A"}},null,null,0,0]
[{"$f":"VLOOKUP(B2917,'(1) Project Reference Item List'!$B$2:$C$1000,2,FALSE)","v":{"$error":"#N/A"}},null,null,null,null,null,null,null,null,null,null,{"$f":"VLOOKUP(B2917,'(1) Project Reference Item List'!$B$2:$D$1000,3,FALSE)","v":{"$error":"#N/A"}},null,null,0,0]
[{"$f":"VLOOKUP(B2918,'(1) Project Reference Item List'!$B$2:$C$1000,2,FALSE)","v":{"$error":"#N/A"}},null,null,null,null,null,null,null,null,null,null,{"$f":"VLOOKUP(B2918,'(1) Project Reference Item List'!$B$2:$D$1000,3,FALSE)","v":{"$error":"#N/A"}},null,null,0,0]
[{"$f":"VLOOKUP(B2919,'(1) Project Reference Item List'!$B$2:$C$1000,2,FALSE)","v":{"$error":"#N/A"}},null,null,null,null,null,null,null,null,null,null,{"$f":"VLOOKUP(B2919,'(1) Project Reference Item List'!$B$2:$D$1000,3,FALSE)","v":{"$error":"#N/A"}},null,null,0,0]
[{"$f":"VLOOKUP(B2920,'(1) Project Reference Item List'!$B$2:$C$1000,2,FALSE)","v":{"$error":"#N/A"}},null,null,null,null,null,null,null,null,null,null,{"$f":"VLOOKUP(B2920,'(1) Project Reference Item List'!$B$2:$D$1000,3,FALSE)","v":{"$error":"#N/A"}},null,null,0,0]
[{"$f":"VLOOKUP(B2921,'(1) Project Reference Item List'!$B$2:$C$1000,2,FALSE)","v":{"$error":"#N/A"}},null,null,null,null,null,null,null,null,null,null,{"$f":"VLOOKUP(B2921,'(1) Project Reference Item List'!$B$2:$D$1000,3,FALSE)","v":{"$error":"#N/A"}},null,null,0,0]
[{"$f":"VLOOKUP(B2922,'(1) Project Reference Item List'!$B$2:$C$1000,2,FALSE)","v":{"$error":"#N/A"}},null,null,null,null,null,null,null,null,null,null,{"$f":"VLOOKUP(B2922,'(1) Project Reference Item List'!$B$2:$D$1000,3,FALSE)","v":{"$error":"#N/A"}},null,null,0,0]
[{"$f":"VLOOKUP(B2923,'(1) Project Reference Item List'!$B$2:$C$1000,2,FALSE)","v":{"$error":"#N/A"}},null,null,null,null,null,null,null,null,null,null,{"$f":"VLOOKUP(B2923,'(1) Project Reference Item List'!$B$2:$D$1000,3,FALSE)","v":{"$error":"#N/A"}},null,null,0,0]
[{"$f":"VLOOKUP(B2924,'(1) Project Reference Item List'!$B$2:$C$1000,2,FALSE)","v":{"$error":"#N/A"}},null,null,null,null,null,null,null,null,null,null,{"$f":"VLOOKUP(B2924,'(1) Project Reference Item List'!$B$2:$D$1000,3,FALSE)","v":{"$error":"#N/A"}},null,null,0,0]
[{"$f":"VLOOKUP(B2925,'(1) Project Reference Item List'!$B$2:$C$1000,2,FALSE)","v":{"$error":"#N/A"}},null,null,null,null,null,null,null,null,null,null,{"$f":"VLOOKUP(B2925,'(1) Project Reference Item List'!$B$2:$D$1000,3,FALSE)","v":{"$error":"#N/A"}},null,null,0,0]
[{"$f":"VLOOKUP(B2926,'(1) Project Reference Item List'!$B$2:$C$1000,2,FALSE)","v":{"$error":"#N/A"}},null,null,null,null,null,null,null,null,null,null,{"$f":"VLOOKUP(B2926,'(1) Project Reference Item List'!$B$2:$D$1000,3,FALSE)","v":{"$error":"#N/A"}},null,null,0,0]
[{"$f":"VLOOKUP(B2927,'(1) Project Reference Item List'!$B$2:$C$1000,2,FALSE)","v":{"$error":"#N/A"}},null,null,null,null,null,null,null,null,null,null,{"$f":"VLOOKUP(B2927,'(1) Project Reference Item List'!$B$2:$D$1000,3,FALSE)","v":{"$error":"#N/A"}},null,null,0,0]
[{"$f":"VLOOKUP(B2928,'(1) Project Reference Item List'!$B$2:$C$1000,2,FALSE)","v":{"$error":"#N/A"}},null,null,null,null,null,null,null,null,null,null,{"$f":"VLOOKUP(B2928,'(1) Project Reference Item List'!$B$2:$D$1000,3,FALSE)","v":{"$error":"#N/A"}},null,null,0,0]
[{"$f":"VLOOKUP(B2929,'(1) Project Reference Item List'!$B$2:$C$1000,2,FALSE)","v":{"$error":"#N/A"}},null,null,null,null,null,null,null,null,null,null,{"$f":"VLOOKUP(B2929,'(1) Project Reference Item List'!$B$2:$D$1000,3,FALSE)","v":{"$error":"#N/A"}},null,null,0,0]
[{"$f":"VLOOKUP(B2930,'(1) Project Reference Item List'!$B$2:$C$1000,2,FALSE)","v":{"$error":"#N/A"}},null,null,null,null,null,null,null,null,null,null,{"$f":"VLOOKUP(B2930,'(1) Project Reference Item List'!$B$2:$D$1000,3,FALSE)","v":{"$error":"#N/A"}},null,null,0,0]
[{"$f":"VLOOKUP(B2931,'(1) Project Reference Item List'!$B$2:$C$1000,2,FALSE)","v":{"$error":"#N/A"}},null,null,null,null,null,null,null,null,null,null,{"$f":"VLOOKUP(B2931,'(1) Project Reference Item List'!$B$2:$D$1000,3,FALSE)","v":{"$error":"#N/A"}},null,null,0,0]
[{"$f":"VLOOKUP(B2932,'(1) Project Reference Item List'!$B$2:$C$1000,2,FALSE)","v":{"$error":"#N/A"}},null,null,null,null,null,null,null,null,null,null,{"$f":"VLOOKUP(B2932,'(1) Project Reference Item List'!$B$2:$D$1000,3,FALSE)","v":{"$error":"#N/A"}},null,null,0,0]
[{"$f":"VLOOKUP(B2933,'(1) Project Reference Item List'!$B$2:$C$1000,2,FALSE)","v":{"$error":"#N/A"}},null,null,null,null,null,null,null,null,null,null,{"$f":"VLOOKUP(B2933,'(1) Project Reference Item List'!$B$2:$D$1000,3,FALSE)","v":{"$error":"#N/A"}},null,null,0,0]
[{"$f":"VLOOKUP(B2934,'(1) Project Reference Item List'!$B$2:$C$1000,2,FALSE)","v":{"$error":"#N/A"}},null,null,null,null,null,null,null,null,null,null,{"$f":"VLOOKUP(B2934,'(1) Project Reference Item List'!$B$2:$D$1000,3,FALSE)","v":{"$error":"#N/A"}},null,null,0,0]
[{"$f":"VLOOKUP(B2935,'(1) Project Reference Item List'!$B$2:$C$1000,2,FALSE)","v":{"$error":"#N/A"}},null,null,null,null,null,null,null,null,null,null,{"$f":"VLOOKUP(B2935,'(1) Project Reference Item List'!$B$2:$D$1000,3,FALSE)","v":{"$error":"#N/A"}},null,null,0,0]
[{"$f":"VLOOKUP(B2936,'(1) Project Reference Item List'!$B$2:$C$1000,2,FALSE)","v":{"$error":"#N/A"}},null,null,null,null,null,null,null,null,null,null,{"$f":"VLOOKUP(B2936,'(1) Project Reference Item List'!$B$2:$D$1000,3,FALSE)","v":{"$error":"#N/A"}},null,null,0,0]
[{"$f":"VLOOKUP(B2937,'(1) Project Reference Item List'!$B$2:$C$1000,2,FALSE)","v":{"$error":"#N/A"}},null,null,null,null,null,null,null,null,null,null,{"$f":"VLOOKUP(B2937,'(1) Project Reference Item List'!$B$2:$D$1000,3,FALSE)","v":{"$error":"#N/A"}},null,null,0,0]
[{"$f":"VLOOKUP(B2938,'(1) Project Reference Item List'!$B$2:$C$1000,2,FALSE)","v":{"$error":"#N/A"}},null,null,null,null,null,null,null,null,null,null,{"$f":"VLOOKUP(B2938,'(1) Project Reference Item List'!$B$2:$D$1000,3,FALSE)","v":{"$error":"#N/A"}},null,null,0,0]
[{"$f":"VLOOKUP(B2939,'(1) Project Reference Item List'!$B$2:$C$1000,2,FALSE)","v":{"$error":"#N/A"}},null,null,null,null,null,null,null,null,null,null,{"$f":"VLOOKUP(B2939,'(1) Project Reference Item List'!$B$2:$D$1000,3,FALSE)","v":{"$error":"#N/A"}},null,null,0,0]
[{"$f":"VLOOKUP(B2940,'(1) Project Reference Item List'!$B$2:$C$1000,2,FALSE)","v":{"$error":"#N/A"}},null,null,null,null,null,null,null,null,null,null,{"$f":"VLOOKUP(B2940,'(1) Project Reference Item List'!$B$2:$D$1000,3,FALSE)","v":{"$error":"#N/A"}},null,null,0,0]
[{"$f":"VLOOKUP(B2941,'(1) Project Reference Item List'!$B$2:$C$1000,2,FALSE)","v":{"$error":"#N/A"}},null,null,null,null,null,null,null,null,null,null,{"$f":"VLOOKUP(B2941,'(1) Project Reference Item List'!$B$2:$D$1000,3,FALSE)","v":{"$error":"#N/A"}},null,null,0,0]
[{"$f":"VLOOKUP(B2942,'(1) Project Reference Item List'!$B$2:$C$1000,2,FALSE)","v":{"$error":"#N/A"}},null,null,null,null,null,null,null,null,null,null,{"$f":"VLOOKUP(B2942,'(1) Project Reference Item List'!$B$2:$D$1000,3,FALSE)","v":{"$error":"#N/A"}},null,null,0,0]
[{"$f":"VLOOKUP(B2943,'(1) Project Reference Item List'!$B$2:$C$1000,2,FALSE)","v":{"$error":"#N/A"}},null,null,null,null,null,null,null,null,null,null,{"$f":"VLOOKUP(B2943,'(1) Project Reference Item List'!$B$2:$D$1000,3,FALSE)","v":{"$error":"#N/A"}},null,null,0,0]
[{"$f":"VLOOKUP(B2944,'(1) Project Reference Item List'!$B$2:$C$1000,2,FALSE)","v":{"$error":"#N/A"}},null,null,null,null,null,null,null,null,null,null,{"$f":"VLOOKUP(B2944,'(1) Project Reference Item List'!$B$2:$D$1000,3,FALSE)","v":{"$error":"#N/A"}},null,null,0,0]
[{"$f":"VLOOKUP(B2945,'(1) Project Reference Item List'!$B$2:$C$1000,2,FALSE)","v":{"$error":"#N/A"}},null,null,null,null,null,null,null,null,null,null,{"$f":"VLOOKUP(B2945,'(1) Project Reference Item List'!$B$2:$D$1000,3,FALSE)","v":{"$error":"#N/A"}},null,null,0,0]
[{"$f":"VLOOKUP(B2946,'(1) Project Reference Item List'!$B$2:$C$1000,2,FALSE)","v":{"$error":"#N/A"}},null,null,null,null,null,null,null,null,null,null,{"$f":"VLOOKUP(B2946,'(1) Project Reference Item List'!$B$2:$D$1000,3,FALSE)","v":{"$error":"#N/A"}},null,null,0,0]
[{"$f":"VLOOKUP(B2947,'(1) Project Reference Item List'!$B$2:$C$1000,2,FALSE)","v":{"$error":"#N/A"}},null,null,null,null,null,null,null,null,null,null,{"$f":"VLOOKUP(B2947,'(1) Project Reference Item List'!$B$2:$D$1000,3,FALSE)","v":{"$error":"#N/A"}},null,null,0,0]
[{"$f":"VLOOKUP(B2948,'(1) Project Reference Item List'!$B$2:$C$1000,2,FALSE)","v":{"$error":"#N/A"}},null,null,null,null,null,null,null,null,null,null,{"$f":"VLOOKUP(B2948,'(1) Project Reference Item List'!$B$2:$D$1000,3,FALSE)","v":{"$error":"#N/A"}},null,null,0,0]
[{"$f":"VLOOKUP(B2949,'(1) Project Reference Item List'!$B$2:$C$1000,2,FALSE)","v":{"$error":"#N/A"}},null,null,null,null,null,null,null,null,null,null,{"$f":"VLOOKUP(B2949,'(1) Project Reference Item List'!$B$2:$D$1000,3,FALSE)","v":{"$error":"#N/A"}},null,null,0,0]
[{"$f":"VLOOKUP(B2950,'(1) Project Reference Item List'!$B$2:$C$1000,2,FALSE)","v":{"$error":"#N/A"}},null,null,null,null,null,null,null,null,null,null,{"$f":"VLOOKUP(B2950,'(1) Project Reference Item List'!$B$2:$D$1000,3,FALSE)","v":{"$error":"#N/A"}},null,null,{"$f":"IF(J2950=0,J2950,J2950*N2950)","v":0},{"$f":"(M2950-O2950)","v":0}]
[{"$f":"VLOOKUP(B2951,'(1) Project Reference Item List'!$B$2:$C$1000,2,FALSE)","v":{"$error":"#N/A"}},null,null,null,null,null,null,null,null,null,null,{"$f":"VLOOKUP(B2951,'(1) Project Reference Item List'!$B$2:$D$1000,3,FALSE)","v":{"$error":"#N/A"}},null,null,0,0]
[{"$f":"VLOOKUP(B2952,'(1) Project Reference Item List'!$B$2:$C$1000,2,FALSE)","v":{"$error":"#N/A"}},null,null,null,null,null,null,null,null,null,null,{"$f":"VLOOKUP(B2952,'(1) Project Reference Item List'!$B$2:$D$1000,3,FALSE)","v":{"$error":"#N/A"}},null,null,0,0]
[{"$f":"VLOOKUP(B2953,'(1) Project Reference Item List'!$B$2:$C$1000,2,FALSE)","v":{"$error":"#N/A"}},null,null,null,null,null,null,null,null,null,null,{"$f":"VLOOKUP(B2953,'(1) Project Reference Item List'!$B$2:$D$1000,3,FALSE)","v":{"$error":"#N/A"}},null,null,0,0]
[{"$f":"VLOOKUP(B2954,'(1) Project Reference Item List'!$B$2:$C$1000,2,FALSE)","v":{"$error":"#N/A"}},null,null,null,null,null,null,null,null,null,null,{"$f":"VLOOKUP(B2954,'(1) Project Reference Item List'!$B$2:$D$1000,3,FALSE)","v":{"$error":"#N/A"}},null,null,0,0]
[{"$f":"VLOOKUP(B2955,'(1) Project Reference Item List'!$B$2:$C$1000,2,FALSE)","v":{"$error":"#N/A"}},null,null,null,null,null,null,null,null,null,null,{"$f":"VLOOKUP(B2955,'(1) Project Reference Item List'!$B$2:$D$1000,3,FALSE)","v":{"$error":"#N/A"}},null,null,0,0]
[{"$f":"VLOOKUP(B2956,'(1) Project Reference Item List'!$B$2:$C$1000,2,FALSE)","v":{"$error":"#N/A"}},null,null,null,null,null,null,null,null,null,null,{"$f":"VLOOKUP(B2956,'(1) Project Reference Item List'!$B$2:$D$1000,3,FALSE)","v":{"$error":"#N/A"}},null,null,0,0]
[{"$f":"VLOOKUP(B2957,'(1) Project Reference Item List'!$B$2:$C$1000,2,FALSE)","v":{"$error":"#N/A"}},null,null,null,null,null,null,null,null,null,null,{"$f":"VLOOKUP(B2957,'(1) Project Reference Item List'!$B$2:$D$1000,3,FALSE)","v":{"$error":"#N/A"}},null,null,0,0]
[{"$f":"VLOOKUP(B2958,'(1) Project Reference Item List'!$B$2:$C$1000,2,FALSE)","v":{"$error":"#N/A"}},null,null,null,null,null,null,null,null,null,null,{"$f":"VLOOKUP(B2958,'(1) Project Reference Item List'!$B$2:$D$1000,3,FALSE)","v":{"$error":"#N/A"}},null,null,0,0]
[{"$f":"VLOOKUP(B2959,'(1) Project Reference Item List'!$B$2:$C$1000,2,FALSE)","v":{"$error":"#N/A"}},null,null,null,null,null,null,null,null,null,null,{"$f":"VLOOKUP(B2959,'(1) Project Reference Item List'!$B$2:$D$1000,3,FALSE)","v":{"$error":"#N/A"}},null,null,0,0]
[{"$f":"VLOOKUP(B2960,'(1) Project Reference Item List'!$B$2:$C$1000,2,FALSE)","v":{"$error":"#N/A"}},null,null,null,null,null,null,null,null,null,null,{"$f":"VLOOKUP(B2960,'(1) Project Reference Item List'!$B$2:$D$1000,3,FALSE)","v":{"$error":"#N/A"}},null,null,0,0]
[{"$f":"VLOOKUP(B2961,'(1) Project Reference Item List'!$B$2:$C$1000,2,FALSE)","v":{"$error":"#N/A"}},null,null,null,null,null,null,null,null,null,null,{"$f":"VLOOKUP(B2961,'(1) Project Reference Item List'!$B$2:$D$1000,3,FALSE)","v":{"$error":"#N/A"}},null,null,0,0]
[{"$f":"VLOOKUP(B2962,'(1) Project Reference Item List'!$B$2:$C$1000,2,FALSE)","v":{"$error":"#N/A"}},null,null,null,null,null,null,null,null,null,null,{"$f":"VLOOKUP(B2962,'(1) Project Reference Item List'!$B$2:$D$1000,3,FALSE)","v":{"$error":"#N/A"}},null,null,0,0]
[{"$f":"VLOOKUP(B2963,'(1) Project Reference Item List'!$B$2:$C$1000,2,FALSE)","v":{"$error":"#N/A"}},null,null,null,null,null,null,null,null,null,null,{"$f":"VLOOKUP(B2963,'(1) Project Reference Item List'!$B$2:$D$1000,3,FALSE)","v":{"$error":"#N/A"}},null,null,0,0]
[{"$f":"VLOOKUP(B2964,'(1) Project Reference Item List'!$B$2:$C$1000,2,FALSE)","v":{"$error":"#N/A"}},null,null,null,null,null,null,null,null,null,null,{"$f":"VLOOKUP(B2964,'(1) Project Reference Item List'!$B$2:$D$1000,3,FALSE)","v":{"$error":"#N/A"}},null,null,0,0]
[{"$f":"VLOOKUP(B2965,'(1) Project Reference Item List'!$B$2:$C$1000,2,FALSE)","v":{"$error":"#N/A"}},null,null,null,null,null,null,null,null,null,null,{"$f":"VLOOKUP(B2965,'(1) Project Reference Item List'!$B$2:$D$1000,3,FALSE)","v":{"$error":"#N/A"}},null,null,0,0]
[{"$f":"VLOOKUP(B2966,'(1) Project Reference Item List'!$B$2:$C$1000,2,FALSE)","v":{"$error":"#N/A"}},null,null,null,null,null,null,null,null,null,null,{"$f":"VLOOKUP(B2966,'(1) Project Reference Item List'!$B$2:$D$1000,3,FALSE)","v":{"$error":"#N/A"}},null,null,0,0]
[{"$f":"VLOOKUP(B2967,'(1) Project Reference Item List'!$B$2:$C$1000,2,FALSE)","v":{"$error":"#N/A"}},null,null,null,null,null,null,null,null,null,null,{"$f":"VLOOKUP(B2967,'(1) Project Reference Item List'!$B$2:$D$1000,3,FALSE)","v":{"$error":"#N/A"}},null,null,0,0]
[{"$f":"VLOOKUP(B2968,'(1) Project Reference Item List'!$B$2:$C$1000,2,FALSE)","v":{"$error":"#N/A"}},null,null,null,null,null,null,null,null,null,null,{"$f":"VLOOKUP(B2968,'(1) Project Reference Item List'!$B$2:$D$1000,3,FALSE)","v":{"$error":"#N/A"}},null,null,0,0]
[{"$f":"VLOOKUP(B2969,'(1) Project Reference Item List'!$B$2:$C$1000,2,FALSE)","v":{"$error":"#N/A"}},null,null,null,null,null,null,null,null,null,null,{"$f":"VLOOKUP(B2969,'(1) Project Reference Item List'!$B$2:$D$1000,3,FALSE)","v":{"$error":"#N/A"}},null,null,0,0]
[{"$f":"VLOOKUP(B2970,'(1) Project Reference Item List'!$B$2:$C$1000,2,FALSE)","v":{"$error":"#N/A"}},null,null,null,null,null,null,null,null,null,null,{"$f":"VLOOKUP(B2970,'(1) Project Reference Item List'!$B$2:$D$1000,3,FALSE)","v":{"$error":"#N/A"}},null,null,0,0]
[{"$f":"VLOOKUP(B2971,'(1) Project Reference Item List'!$B$2:$C$1000,2,FALSE)","v":{"$error":"#N/A"}},null,null,null,null,null,null,null,null,null,null,{"$f":"VLOOKUP(B2971,'(1) Project Reference Item List'!$B$2:$D$1000,3,FALSE)","v":{"$error":"#N/A"}},null,null,0,0]
[{"$f":"VLOOKUP(B2972,'(1) Project Reference Item List'!$B$2:$C$1000,2,FALSE)","v":{"$error":"#N/A"}},null,null,null,null,null,null,null,null,null,null,{"$f":"VLOOKUP(B2972,'(1) Project Reference Item List'!$B$2:$D$1000,3,FALSE)","v":{"$error":"#N/A"}},null,null,0,0]
[{"$f":"VLOOKUP(B2973,'(1) Project Reference Item List'!$B$2:$C$1000,2,FALSE)","v":{"$error":"#N/A"}},null,null,null,null,null,null,null,null,null,null,{"$f":"VLOOKUP(B2973,'(1) Project Reference Item List'!$B$2:$D$1000,3,FALSE)","v":{"$error":"#N/A"}},null,null,0,0]
[{"$f":"VLOOKUP(B2974,'(1) Project Reference Item List'!$B$2:$C$1000,2,FALSE)","v":{"$error":"#N/A"}},null,null,null,null,null,null,null,null,null,null,{"$f":"VLOOKUP(B2974,'(1) Project Reference Item List'!$B$2:$D$1000,3,FALSE)","v":{"$error":"#N/A"}},null,null,0,0]
[{"$f":"VLOOKUP(B2975,'(1) Project Reference Item List'!$B$2:$C$1000,2,FALSE)","v":{"$error":"#N/A"}},null,null,null,null,null,null,null,null,null,null,{"$f":"VLOOKUP(B2975,'(1) Project Reference Item List'!$B$2:$D$1000,3,FALSE)","v":{"$error":"#N/A"}},null,null,0,0]
[{"$f":"VLOOKUP(B2976,'(1) Project Reference Item List'!$B$2:$C$1000,2,FALSE)","v":{"$error":"#N/A"}},null,null,null,null,null,null,null,null,null,null,{"$f":"VLOOKUP(B2976,'(1) Project Reference Item List'!$B$2:$D$1000,3,FALSE)","v":{"$error":"#N/A"}},null,null,0,0]
[{"$f":"VLOOKUP(B2977,'(1) Project Reference Item List'!$B$2:$C$1000,2,FALSE)","v":{"$error":"#N/A"}},null,null,null,null,null,null,null,null,null,null,{"$f":"VLOOKUP(B2977,'(1) Project Reference Item List'!$B$2:$D$1000,3,FALSE)","v":{"$error":"#N/A"}},null,null,0,0]
[{"$f":"VLOOKUP(B2978,'(1) Project Reference Item List'!$B$2:$C$1000,2,FALSE)","v":{"$error":"#N/A"}},null,null,null,null,null,null,null,null,null,null,{"$f":"VLOOKUP(B2978,'(1) Project Reference Item List'!$B$2:$D$1000,3,FALSE)","v":{"$error":"#N/A"}},null,null,0,0]
[{"$f":"VLOOKUP(B2979,'(1) Project Reference Item List'!$B$2:$C$1000,2,FALSE)","v":{"$error":"#N/A"}},null,null,null,null,null,null,null,null,null,null,{"$f":"VLOOKUP(B2979,'(1) Project Reference Item List'!$B$2:$D$1000,3,FALSE)","v":{"$error":"#N/A"}},null,null,0,0]
[{"$f":"VLOOKUP(B2980,'(1) Project Reference Item List'!$B$2:$C$1000,2,FALSE)","v":{"$error":"#N/A"}},null,null,null,null,null,null,null,null,null,null,{"$f":"VLOOKUP(B2980,'(1) Project Reference Item List'!$B$2:$D$1000,3,FALSE)","v":{"$error":"#N/A"}},null,null,0,0]
[{"$f":"VLOOKUP(B2981,'(1) Project Reference Item List'!$B$2:$C$1000,2,FALSE)","v":{"$error":"#N/A"}},null,null,null,null,null,null,null,null,null,null,{"$f":"VLOOKUP(B2981,'(1) Project Reference Item List'!$B$2:$D$1000,3,FALSE)","v":{"$error":"#N/A"}},null,null,0,0]
[{"$f":"VLOOKUP(B2982,'(1) Project Reference Item List'!$B$2:$C$1000,2,FALSE)","v":{"$error":"#N/A"}},null,null,null,null,null,null,null,null,null,null,{"$f":"VLOOKUP(B2982,'(1) Project Reference Item List'!$B$2:$D$1000,3,FALSE)","v":{"$error":"#N/A"}},null,null,0,0]
[{"$f":"VLOOKUP(B2983,'(1) Project Reference Item List'!$B$2:$C$1000,2,FALSE)","v":{"$error":"#N/A"}},null,null,null,null,null,null,null,null,null,null,{"$f":"VLOOKUP(B2983,'(1) Project Reference Item List'!$B$2:$D$1000,3,FALSE)","v":{"$error":"#N/A"}},null,null,0,0]
[{"$f":"VLOOKUP(B2984,'(1) Project Reference Item List'!$B$2:$C$1000,2,FALSE)","v":{"$error":"#N/A"}},null,null,null,null,null,null,null,null,null,null,{"$f":"VLOOKUP(B2984,'(1) Project Reference Item List'!$B$2:$D$1000,3,FALSE)","v":{"$error":"#N/A"}},null,null,0,0]
[{"$f":"VLOOKUP(B2985,'(1) Project Reference Item List'!$B$2:$C$1000,2,FALSE)","v":{"$error":"#N/A"}},null,null,null,null,null,null,null,null,null,null,{"$f":"VLOOKUP(B2985,'(1) Project Reference Item List'!$B$2:$D$1000,3,FALSE)","v":{"$error":"#N/A"}},null,null,0,0]
[{"$f":"VLOOKUP(B2986,'(1) Project Reference Item List'!$B$2:$C$1000,2,FALSE)","v":{"$error":"#N/A"}},null,null,null,null,null,null,null,null,null,null,{"$f":"VLOOKUP(B2986,'(1) Project Reference Item List'!$B$2:$D$1000,3,FALSE)","v":{"$error":"#N/A"}},null,null,0,0]
[{"$f":"VLOOKUP(B2987,'(1) Project Reference Item List'!$B$2:$C$1000,2,FALSE)","v":{"$error":"#N/A"}},null,null,null,null,null,null,null,null,null,null,{"$f":"VLOOKUP(B2987,'(1) Project Reference Item List'!$B$2:$D$1000,3,FALSE)","v":{"$error":"#N/A"}},null,null,0,0]
[{"$f":"VLOOKUP(B2988,'(1) Project Reference Item List'!$B$2:$C$1000,2,FALSE)","v":{"$error":"#N/A"}},null,null,null,null,null,null,null,null,null,null,{"$f":"VLOOKUP(B2988,'(1) Project Reference Item List'!$B$2:$D$1000,3,FALSE)","v":{"$error":"#N/A"}},null,null,0,0]
[{"$f":"VLOOKUP(B2989,'(1) Project Reference Item List'!$B$2:$C$1000,2,FALSE)","v":{"$error":"#N/A"}},null,null,null,null,null,null,null,null,null,null,{"$f":"VLOOKUP(B2989,'(1) Project Reference Item List'!$B$2:$D$1000,3,FALSE)","v":{"$error":"#N/A"}},null,null,0,0]
[{"$f":"VLOOKUP(B2990,'(1) Project Reference Item List'!$B$2:$C$1000,2,FALSE)","v":{"$error":"#N/A"}},null,null,null,null,null,null,null,null,null,null,{"$f":"VLOOKUP(B2990,'(1) Project Reference Item List'!$B$2:$D$1000,3,FALSE)","v":{"$error":"#N/A"}},null,null,0,0]
[{"$f":"VLOOKUP(B2991,'(1) Project Reference Item List'!$B$2:$C$1000,2,FALSE)","v":{"$error":"#N/A"}},null,null,null,null,null,null,null,null,null,null,{"$f":"VLOOKUP(B2991,'(1) Project Reference Item List'!$B$2:$D$1000,3,FALSE)","v":{"$error":"#N/A"}},null,null,0,0]
[{"$f":"VLOOKUP(B2992,'(1) Project Reference Item List'!$B$2:$C$1000,2,FALSE)","v":{"$error":"#N/A"}},null,null,null,null,null,null,null,null,null,null,{"$f":"VLOOKUP(B2992,'(1) Project Reference Item List'!$B$2:$D$1000,3,FALSE)","v":{"$error":"#N/A"}},null,null,0,0]
[{"$f":"VLOOKUP(B2993,'(1) Project Reference Item List'!$B$2:$C$1000,2,FALSE)","v":{"$error":"#N/A"}},null,null,null,null,null,null,null,null,null,null,{"$f":"VLOOKUP(B2993,'(1) Project Reference Item List'!$B$2:$D$1000,3,FALSE)","v":{"$error":"#N/A"}},null,null,0,0]
[{"$f":"VLOOKUP(B2994,'(1) Project Reference Item List'!$B$2:$C$1000,2,FALSE)","v":{"$error":"#N/A"}},null,null,null,null,null,null,null,null,null,null,{"$f":"VLOOKUP(B2994,'(1) Project Reference Item List'!$B$2:$D$1000,3,FALSE)","v":{"$error":"#N/A"}},null,null,0,0]
[{"$f":"VLOOKUP(B2995,'(1) Project Reference Item List'!$B$2:$C$1000,2,FALSE)","v":{"$error":"#N/A"}},null,null,null,null,null,null,null,null,null,null,{"$f":"VLOOKUP(B2995,'(1) Project Reference Item List'!$B$2:$D$1000,3,FALSE)","v":{"$error":"#N/A"}},null,null,0,0]
[{"$f":"VLOOKUP(B2996,'(1) Project Reference Item List'!$B$2:$C$1000,2,FALSE)","v":{"$error":"#N/A"}},null,null,null,null,null,null,null,null,null,null,{"$f":"VLOOKUP(B2996,'(1) Project Reference Item List'!$B$2:$D$1000,3,FALSE)","v":{"$error":"#N/A"}},null,null,0,0]
[{"$f":"VLOOKUP(B2997,'(1) Project Reference Item List'!$B$2:$C$1000,2,FALSE)","v":{"$error":"#N/A"}},null,null,null,null,null,null,null,null,null,null,{"$f":"VLOOKUP(B2997,'(1) Project Reference Item List'!$B$2:$D$1000,3,FALSE)","v":{"$error":"#N/A"}},null,null,0,0]
[{"$f":"VLOOKUP(B2998,'(1) Project Reference Item List'!$B$2:$C$1000,2,FALSE)","v":{"$error":"#N/A"}},null,null,null,null,null,null,null,null,null,null,{"$f":"VLOOKUP(B2998,'(1) Project Reference Item List'!$B$2:$D$1000,3,FALSE)","v":{"$error":"#N/A"}},null,null,0,0]
[{"$f":"VLOOKUP(B2999,'(1) Project Reference Item List'!$B$2:$C$1000,2,FALSE)","v":{"$error":"#N/A"}},null,null,null,null,null,null,null,null,null,null,{"$f":"VLOOKUP(B2999,'(1) Project Reference Item List'!$B$2:$D$1000,3,FALSE)","v":{"$error":"#N/A"}},null,null,0,0]
[{"$f":"VLOOKUP(B3000,'(1) Project Reference Item List'!$B$2:$C$1000,2,FALSE)","v":{"$error":"#N/A"}},null,null,null,null,null,null,null,null,null,null,{"$f":"VLOOKUP(B3000,'(1) Project Reference Item List'!$B$2:$D$1000,3,FALSE)","v":{"$error":"#N/A"}},null,null,0,0]
[{"$f":"VLOOKUP(B3001,'(1) Project Reference Item List'!$B$2:$C$1000,2,FALSE)","v":{"$error":"#N/A"}},null,null,null,null,null,null,null,null,null,null,{"$f":"VLOOKUP(B3001,'(1) Project Reference Item List'!$B$2:$D$1000,3,FALSE)","v":{"$error":"#N/A"}},null,null,0,0]
[{"$f":"VLOOKUP(B3002,'(1) Project Reference Item List'!$B$2:$C$1000,2,FALSE)","v":{"$error":"#N/A"}},null,null,null,null,null,null,null,null,null,null,{"$f":"VLOOKUP(B3002,'(1) Project Reference Item List'!$B$2:$D$1000,3,FALSE)","v":{"$error":"#N/A"}},null,null,0,0]
[{"$f":"VLOOKUP(B3003,'(1) Project Reference Item List'!$B$2:$C$1000,2,FALSE)","v":{"$error":"#N/A"}},null,null,null,null,null,null,null,null,null,null,{"$f":"VLOOKUP(B3003,'(1) Project Reference Item List'!$B$2:$D$1000,3,FALSE)","v":{"$error":"#N/A"}},null,null,0,0]
[{"$f":"VLOOKUP(B3004,'(1) Project Reference Item List'!$B$2:$C$1000,2,FALSE)","v":{"$error":"#N/A"}},null,null,null,null,null,null,null,null,null,null,{"$f":"VLOOKUP(B3004,'(1) Project Reference Item List'!$B$2:$D$1000,3,FALSE)","v":{"$error":"#N/A"}},null,null,0,0]
[{"$f":"VLOOKUP(B3005,'(1) Project Reference Item List'!$B$2:$C$1000,2,FALSE)","v":{"$error":"#N/A"}},null,null,null,null,null,null,null,null,null,null,{"$f":"VLOOKUP(B3005,'(1) Project Reference Item List'!$B$2:$D$1000,3,FALSE)","v":{"$error":"#N/A"}},null,null,0,0]
[{"$f":"VLOOKUP(B3006,'(1) Project Reference Item List'!$B$2:$C$1000,2,FALSE)","v":{"$error":"#N/A"}},null,null,null,null,null,null,null,null,null,null,{"$f":"VLOOKUP(B3006,'(1) Project Reference Item List'!$B$2:$D$1000,3,FALSE)","v":{"$error":"#N/A"}},null,null,0,0]
[{"$f":"VLOOKUP(B3007,'(1) Project Reference Item List'!$B$2:$C$1000,2,FALSE)","v":{"$error":"#N/A"}},null,null,null,null,null,null,null,null,null,null,{"$f":"VLOOKUP(B3007,'(1) Project Reference Item List'!$B$2:$D$1000,3,FALSE)","v":{"$error":"#N/A"}},null,null,0,0]
[{"$f":"VLOOKUP(B3008,'(1) Project Reference Item List'!$B$2:$C$1000,2,FALSE)","v":{"$error":"#N/A"}},null,null,null,null,null,null,null,null,null,null,{"$f":"VLOOKUP(B3008,'(1) Project Reference Item List'!$B$2:$D$1000,3,FALSE)","v":{"$error":"#N/A"}},null,null,0,0]
[{"$f":"VLOOKUP(B3009,'(1) Project Reference Item List'!$B$2:$C$1000,2,FALSE)","v":{"$error":"#N/A"}},null,null,null,null,null,null,null,null,null,null,{"$f":"VLOOKUP(B3009,'(1) Project Reference Item List'!$B$2:$D$1000,3,FALSE)","v":{"$error":"#N/A"}},null,null,0,0]
[{"$f":"VLOOKUP(B3010,'(1) Project Reference Item List'!$B$2:$C$1000,2,FALSE)","v":{"$error":"#N/A"}},null,null,null,null,null,null,null,null,null,null,{"$f":"VLOOKUP(B3010,'(1) Project Reference Item List'!$B$2:$D$1000,3,FALSE)","v":{"$error":"#N/A"}},null,null,0,0]
[{"$f":"VLOOKUP(B3011,'(1) Project Reference Item List'!$B$2:$C$1000,2,FALSE)","v":{"$error":"#N/A"}},null,null,null,null,null,null,null,null,null,null,{"$f":"VLOOKUP(B3011,'(1) Project Reference Item List'!$B$2:$D$1000,3,FALSE)","v":{"$error":"#N/A"}},null,null,0,0]
[{"$f":"VLOOKUP(B3012,'(1) Project Reference Item List'!$B$2:$C$1000,2,FALSE)","v":{"$error":"#N/A"}},null,null,null,null,null,null,null,null,null,null,{"$f":"VLOOKUP(B3012,'(1) Project Reference Item List'!$B$2:$D$1000,3,FALSE)","v":{"$error":"#N/A"}},null,null,0,0]
[{"$f":"VLOOKUP(B3013,'(1) Project Reference Item List'!$B$2:$C$1000,2,FALSE)","v":{"$error":"#N/A"}},null,null,null,null,null,null,null,null,null,null,{"$f":"VLOOKUP(B3013,'(1) Project Reference Item List'!$B$2:$D$1000,3,FALSE)","v":{"$error":"#N/A"}},null,null,0,0]
[{"$f":"VLOOKUP(B3014,'(1) Project Reference Item List'!$B$2:$C$1000,2,FALSE)","v":{"$error":"#N/A"}},null,null,null,null,null,null,null,null,null,null,{"$f":"VLOOKUP(B3014,'(1) Project Reference Item List'!$B$2:$D$1000,3,FALSE)","v":{"$error":"#N/A"}},null,null,{"$f":"IF(J3014=0,J3014,J3014*N3014)","v":0},{"$f":"(M3014-O3014)","v":0}]
[{"$f":"VLOOKUP(B3015,'(1) Project Reference Item List'!$B$2:$C$1000,2,FALSE)","v":{"$error":"#N/A"}},null,null,null,null,null,null,null,null,null,null,{"$f":"VLOOKUP(B3015,'(1) Project Reference Item List'!$B$2:$D$1000,3,FALSE)","v":{"$error":"#N/A"}},null,null,0,0]
[{"$f":"VLOOKUP(B3016,'(1) Project Reference Item List'!$B$2:$C$1000,2,FALSE)","v":{"$error":"#N/A"}},null,null,null,null,null,null,null,null,null,null,{"$f":"VLOOKUP(B3016,'(1) Project Reference Item List'!$B$2:$D$1000,3,FALSE)","v":{"$error":"#N/A"}},null,null,0,0]
[{"$f":"VLOOKUP(B3017,'(1) Project Reference Item List'!$B$2:$C$1000,2,FALSE)","v":{"$error":"#N/A"}},null,null,null,null,null,null,null,null,null,null,{"$f":"VLOOKUP(B3017,'(1) Project Reference Item List'!$B$2:$D$1000,3,FALSE)","v":{"$error":"#N/A"}},null,null,0,0]
[{"$f":"VLOOKUP(B3018,'(1) Project Reference Item List'!$B$2:$C$1000,2,FALSE)","v":{"$error":"#N/A"}},null,null,null,null,null,null,null,null,null,null,{"$f":"VLOOKUP(B3018,'(1) Project Reference Item List'!$B$2:$D$1000,3,FALSE)","v":{"$error":"#N/A"}},null,null,0,0]
[{"$f":"VLOOKUP(B3019,'(1) Project Reference Item List'!$B$2:$C$1000,2,FALSE)","v":{"$error":"#N/A"}},null,null,null,null,null,null,null,null,null,null,{"$f":"VLOOKUP(B3019,'(1) Project Reference Item List'!$B$2:$D$1000,3,FALSE)","v":{"$error":"#N/A"}},null,null,0,0]
[{"$f":"VLOOKUP(B3020,'(1) Project Reference Item List'!$B$2:$C$1000,2,FALSE)","v":{"$error":"#N/A"}},null,null,null,null,null,null,null,null,null,null,{"$f":"VLOOKUP(B3020,'(1) Project Reference Item List'!$B$2:$D$1000,3,FALSE)","v":{"$error":"#N/A"}},null,null,0,0]
[{"$f":"VLOOKUP(B3021,'(1) Project Reference Item List'!$B$2:$C$1000,2,FALSE)","v":{"$error":"#N/A"}},null,null,null,null,null,null,null,null,null,null,{"$f":"VLOOKUP(B3021,'(1) Project Reference Item List'!$B$2:$D$1000,3,FALSE)","v":{"$error":"#N/A"}},null,null,0,0]
[{"$f":"VLOOKUP(B3022,'(1) Project Reference Item List'!$B$2:$C$1000,2,FALSE)","v":{"$error":"#N/A"}},null,null,null,null,null,null,null,null,null,null,{"$f":"VLOOKUP(B3022,'(1) Project Reference Item List'!$B$2:$D$1000,3,FALSE)","v":{"$error":"#N/A"}},null,null,0,0]
[{"$f":"VLOOKUP(B3023,'(1) Project Reference Item List'!$B$2:$C$1000,2,FALSE)","v":{"$error":"#N/A"}},null,null,null,null,null,null,null,null,null,null,{"$f":"VLOOKUP(B3023,'(1) Project Reference Item List'!$B$2:$D$1000,3,FALSE)","v":{"$error":"#N/A"}},null,null,0,0]
[{"$f":"VLOOKUP(B3024,'(1) Project Reference Item List'!$B$2:$C$1000,2,FALSE)","v":{"$error":"#N/A"}},null,null,null,null,null,null,null,null,null,null,{"$f":"VLOOKUP(B3024,'(1) Project Reference Item List'!$B$2:$D$1000,3,FALSE)","v":{"$error":"#N/A"}},null,null,0,0]
[{"$f":"VLOOKUP(B3025,'(1) Project Reference Item List'!$B$2:$C$1000,2,FALSE)","v":{"$error":"#N/A"}},null,null,null,null,null,null,null,null,null,null,{"$f":"VLOOKUP(B3025,'(1) Project Reference Item List'!$B$2:$D$1000,3,FALSE)","v":{"$error":"#N/A"}},null,null,0,0]
[{"$f":"VLOOKUP(B3026,'(1) Project Reference Item List'!$B$2:$C$1000,2,FALSE)","v":{"$error":"#N/A"}},null,null,null,null,null,null,null,null,null,null,{"$f":"VLOOKUP(B3026,'(1) Project Reference Item List'!$B$2:$D$1000,3,FALSE)","v":{"$error":"#N/A"}},null,null,0,0]
[{"$f":"VLOOKUP(B3027,'(1) Project Reference Item List'!$B$2:$C$1000,2,FALSE)","v":{"$error":"#N/A"}},null,null,null,null,null,null,null,null,null,null,{"$f":"VLOOKUP(B3027,'(1) Project Reference Item List'!$B$2:$D$1000,3,FALSE)","v":{"$error":"#N/A"}},null,null,0,0]
[{"$f":"VLOOKUP(B3028,'(1) Project Reference Item List'!$B$2:$C$1000,2,FALSE)","v":{"$error":"#N/A"}},null,null,null,null,null,null,null,null,null,null,{"$f":"VLOOKUP(B3028,'(1) Project Reference Item List'!$B$2:$D$1000,3,FALSE)","v":{"$error":"#N/A"}},null,null,0,0]
[{"$f":"VLOOKUP(B3029,'(1) Project Reference Item List'!$B$2:$C$1000,2,FALSE)","v":{"$error":"#N/A"}},null,null,null,null,null,null,null,null,null,null,{"$f":"VLOOKUP(B3029,'(1) Project Reference Item List'!$B$2:$D$1000,3,FALSE)","v":{"$error":"#N/A"}},null,null,0,0]
[{"$f":"VLOOKUP(B3030,'(1) Project Reference Item List'!$B$2:$C$1000,2,FALSE)","v":{"$error":"#N/A"}},null,null,null,null,null,null,null,null,null,null,{"$f":"VLOOKUP(B3030,'(1) Project Reference Item List'!$B$2:$D$1000,3,FALSE)","v":{"$error":"#N/A"}},null,null,0,0]
[{"$f":"VLOOKUP(B3031,'(1) Project Reference Item List'!$B$2:$C$1000,2,FALSE)","v":{"$error":"#N/A"}},null,null,null,null,null,null,null,null,null,null,{"$f":"VLOOKUP(B3031,'(1) Project Reference Item List'!$B$2:$D$1000,3,FALSE)","v":{"$error":"#N/A"}},null,null,0,0]
[{"$f":"VLOOKUP(B3032,'(1) Project Reference Item List'!$B$2:$C$1000,2,FALSE)","v":{"$error":"#N/A"}},null,null,null,null,null,null,null,null,null,null,{"$f":"VLOOKUP(B3032,'(1) Project Reference Item List'!$B$2:$D$1000,3,FALSE)","v":{"$error":"#N/A"}},null,null,0,0]
[{"$f":"VLOOKUP(B3033,'(1) Project Reference Item List'!$B$2:$C$1000,2,FALSE)","v":{"$error":"#N/A"}},null,null,null,null,null,null,null,null,null,null,{"$f":"VLOOKUP(B3033,'(1) Project Reference Item List'!$B$2:$D$1000,3,FALSE)","v":{"$error":"#N/A"}},null,null,0,0]
[{"$f":"VLOOKUP(B3034,'(1) Project Reference Item List'!$B$2:$C$1000,2,FALSE)","v":{"$error":"#N/A"}},null,null,null,null,null,null,null,null,null,null,{"$f":"VLOOKUP(B3034,'(1) Project Reference Item List'!$B$2:$D$1000,3,FALSE)","v":{"$error":"#N/A"}},null,null,0,0]
[{"$f":"VLOOKUP(B3035,'(1) Project Reference Item List'!$B$2:$C$1000,2,FALSE)","v":{"$error":"#N/A"}},null,null,null,null,null,null,null,null,null,null,{"$f":"VLOOKUP(B3035,'(1) Project Reference Item List'!$B$2:$D$1000,3,FALSE)","v":{"$error":"#N/A"}},null,null,0,0]
[{"$f":"VLOOKUP(B3036,'(1) Project Reference Item List'!$B$2:$C$1000,2,FALSE)","v":{"$error":"#N/A"}},null,null,null,null,null,null,null,null,null,null,{"$f":"VLOOKUP(B3036,'(1) Project Reference Item List'!$B$2:$D$1000,3,FALSE)","v":{"$error":"#N/A"}},null,null,0,0]
[{"$f":"VLOOKUP(B3037,'(1) Project Reference Item List'!$B$2:$C$1000,2,FALSE)","v":{"$error":"#N/A"}},null,null,null,null,null,null,null,null,null,null,{"$f":"VLOOKUP(B3037,'(1) Project Reference Item List'!$B$2:$D$1000,3,FALSE)","v":{"$error":"#N/A"}},null,null,0,0]
[{"$f":"VLOOKUP(B3038,'(1) Project Reference Item List'!$B$2:$C$1000,2,FALSE)","v":{"$error":"#N/A"}},null,null,null,null,null,null,null,null,null,null,{"$f":"VLOOKUP(B3038,'(1) Project Reference Item List'!$B$2:$D$1000,3,FALSE)","v":{"$error":"#N/A"}},null,null,0,0]
[{"$f":"VLOOKUP(B3039,'(1) Project Reference Item List'!$B$2:$C$1000,2,FALSE)","v":{"$error":"#N/A"}},null,null,null,null,null,null,null,null,null,null,{"$f":"VLOOKUP(B3039,'(1) Project Reference Item List'!$B$2:$D$1000,3,FALSE)","v":{"$error":"#N/A"}},null,null,0,0]
[{"$f":"VLOOKUP(B3040,'(1) Project Reference Item List'!$B$2:$C$1000,2,FALSE)","v":{"$error":"#N/A"}},null,null,null,null,null,null,null,null,null,null,{"$f":"VLOOKUP(B3040,'(1) Project Reference Item List'!$B$2:$D$1000,3,FALSE)","v":{"$error":"#N/A"}},null,null,0,0]
[{"$f":"VLOOKUP(B3041,'(1) Project Reference Item List'!$B$2:$C$1000,2,FALSE)","v":{"$error":"#N/A"}},null,null,null,null,null,null,null,null,null,null,{"$f":"VLOOKUP(B3041,'(1) Project Reference Item List'!$B$2:$D$1000,3,FALSE)","v":{"$error":"#N/A"}},null,null,0,0]
[{"$f":"VLOOKUP(B3042,'(1) Project Reference Item List'!$B$2:$C$1000,2,FALSE)","v":{"$error":"#N/A"}},null,null,null,null,null,null,null,null,null,null,{"$f":"VLOOKUP(B3042,'(1) Project Reference Item List'!$B$2:$D$1000,3,FALSE)","v":{"$error":"#N/A"}},null,null,0,0]
[{"$f":"VLOOKUP(B3043,'(1) Project Reference Item List'!$B$2:$C$1000,2,FALSE)","v":{"$error":"#N/A"}},null,null,null,null,null,null,null,null,null,null,{"$f":"VLOOKUP(B3043,'(1) Project Reference Item List'!$B$2:$D$1000,3,FALSE)","v":{"$error":"#N/A"}},null,null,0,0]
[{"$f":"VLOOKUP(B3044,'(1) Project Reference Item List'!$B$2:$C$1000,2,FALSE)","v":{"$error":"#N/A"}},null,null,null,null,null,null,null,null,null,null,{"$f":"VLOOKUP(B3044,'(1) Project Reference Item List'!$B$2:$D$1000,3,FALSE)","v":{"$error":"#N/A"}},null,null,0,0]
[{"$f":"VLOOKUP(B3045,'(1) Project Reference Item List'!$B$2:$C$1000,2,FALSE)","v":{"$error":"#N/A"}},null,null,null,null,null,null,null,null,null,null,{"$f":"VLOOKUP(B3045,'(1) Project Reference Item List'!$B$2:$D$1000,3,FALSE)","v":{"$error":"#N/A"}},null,null,0,0]
[{"$f":"VLOOKUP(B3046,'(1) Project Reference Item List'!$B$2:$C$1000,2,FALSE)","v":{"$error":"#N/A"}},null,null,null,null,null,null,null,null,null,null,{"$f":"VLOOKUP(B3046,'(1) Project Reference Item List'!$B$2:$D$1000,3,FALSE)","v":{"$error":"#N/A"}},null,null,0,0]
[{"$f":"VLOOKUP(B3047,'(1) Project Reference Item List'!$B$2:$C$1000,2,FALSE)","v":{"$error":"#N/A"}},null,null,null,null,null,null,null,null,null,null,{"$f":"VLOOKUP(B3047,'(1) Project Reference Item List'!$B$2:$D$1000,3,FALSE)","v":{"$error":"#N/A"}},null,null,0,0]
[{"$f":"VLOOKUP(B3048,'(1) Project Reference Item List'!$B$2:$C$1000,2,FALSE)","v":{"$error":"#N/A"}},null,null,null,null,null,null,null,null,null,null,{"$f":"VLOOKUP(B3048,'(1) Project Reference Item List'!$B$2:$D$1000,3,FALSE)","v":{"$error":"#N/A"}},null,null,0,0]
[{"$f":"VLOOKUP(B3049,'(1) Project Reference Item List'!$B$2:$C$1000,2,FALSE)","v":{"$error":"#N/A"}},null,null,null,null,null,null,null,null,null,null,{"$f":"VLOOKUP(B3049,'(1) Project Reference Item List'!$B$2:$D$1000,3,FALSE)","v":{"$error":"#N/A"}},null,null,0,0]
[{"$f":"VLOOKUP(B3050,'(1) Project Reference Item List'!$B$2:$C$1000,2,FALSE)","v":{"$error":"#N/A"}},null,null,null,null,null,null,null,null,null,null,{"$f":"VLOOKUP(B3050,'(1) Project Reference Item List'!$B$2:$D$1000,3,FALSE)","v":{"$error":"#N/A"}},null,null,0,0]
[{"$f":"VLOOKUP(B3051,'(1) Project Reference Item List'!$B$2:$C$1000,2,FALSE)","v":{"$error":"#N/A"}},null,null,null,null,null,null,null,null,null,null,{"$f":"VLOOKUP(B3051,'(1) Project Reference Item List'!$B$2:$D$1000,3,FALSE)","v":{"$error":"#N/A"}},null,null,0,0]
[{"$f":"VLOOKUP(B3052,'(1) Project Reference Item List'!$B$2:$C$1000,2,FALSE)","v":{"$error":"#N/A"}},null,null,null,null,null,null,null,null,null,null,{"$f":"VLOOKUP(B3052,'(1) Project Reference Item List'!$B$2:$D$1000,3,FALSE)","v":{"$error":"#N/A"}},null,null,0,0]
[{"$f":"VLOOKUP(B3053,'(1) Project Reference Item List'!$B$2:$C$1000,2,FALSE)","v":{"$error":"#N/A"}},null,null,null,null,null,null,null,null,null,null,{"$f":"VLOOKUP(B3053,'(1) Project Reference Item List'!$B$2:$D$1000,3,FALSE)","v":{"$error":"#N/A"}},null,null,0,0]
[{"$f":"VLOOKUP(B3054,'(1) Project Reference Item List'!$B$2:$C$1000,2,FALSE)","v":{"$error":"#N/A"}},null,null,null,null,null,null,null,null,null,null,{"$f":"VLOOKUP(B3054,'(1) Project Reference Item List'!$B$2:$D$1000,3,FALSE)","v":{"$error":"#N/A"}},null,null,0,0]
[{"$f":"VLOOKUP(B3055,'(1) Project Reference Item List'!$B$2:$C$1000,2,FALSE)","v":{"$error":"#N/A"}},null,null,null,null,null,null,null,null,null,null,{"$f":"VLOOKUP(B3055,'(1) Project Reference Item List'!$B$2:$D$1000,3,FALSE)","v":{"$error":"#N/A"}},null,null,0,0]
[{"$f":"VLOOKUP(B3056,'(1) Project Reference Item List'!$B$2:$C$1000,2,FALSE)","v":{"$error":"#N/A"}},null,null,null,null,null,null,null,null,null,null,{"$f":"VLOOKUP(B3056,'(1) Project Reference Item List'!$B$2:$D$1000,3,FALSE)","v":{"$error":"#N/A"}},null,null,0,0]
[{"$f":"VLOOKUP(B3057,'(1) Project Reference Item List'!$B$2:$C$1000,2,FALSE)","v":{"$error":"#N/A"}},null,null,null,null,null,null,null,null,null,null,{"$f":"VLOOKUP(B3057,'(1) Project Reference Item List'!$B$2:$D$1000,3,FALSE)","v":{"$error":"#N/A"}},null,null,0,0]
[{"$f":"VLOOKUP(B3058,'(1) Project Reference Item List'!$B$2:$C$1000,2,FALSE)","v":{"$error":"#N/A"}},null,null,null,null,null,null,null,null,null,null,{"$f":"VLOOKUP(B3058,'(1) Project Reference Item List'!$B$2:$D$1000,3,FALSE)","v":{"$error":"#N/A"}},null,null,0,0]
[{"$f":"VLOOKUP(B3059,'(1) Project Reference Item List'!$B$2:$C$1000,2,FALSE)","v":{"$error":"#N/A"}},null,null,null,null,null,null,null,null,null,null,{"$f":"VLOOKUP(B3059,'(1) Project Reference Item List'!$B$2:$D$1000,3,FALSE)","v":{"$error":"#N/A"}},null,null,0,0]
[{"$f":"VLOOKUP(B3060,'(1) Project Reference Item List'!$B$2:$C$1000,2,FALSE)","v":{"$error":"#N/A"}},null,null,null,null,null,null,null,null,null,null,{"$f":"VLOOKUP(B3060,'(1) Project Reference Item List'!$B$2:$D$1000,3,FALSE)","v":{"$error":"#N/A"}},null,null,0,0]
[{"$f":"VLOOKUP(B3061,'(1) Project Reference Item List'!$B$2:$C$1000,2,FALSE)","v":{"$error":"#N/A"}},null,null,null,null,null,null,null,null,null,null,{"$f":"VLOOKUP(B3061,'(1) Project Reference Item List'!$B$2:$D$1000,3,FALSE)","v":{"$error":"#N/A"}},null,null,0,0]
[{"$f":"VLOOKUP(B3062,'(1) Project Reference Item List'!$B$2:$C$1000,2,FALSE)","v":{"$error":"#N/A"}},null,null,null,null,null,null,null,null,null,null,{"$f":"VLOOKUP(B3062,'(1) Project Reference Item List'!$B$2:$D$1000,3,FALSE)","v":{"$error":"#N/A"}},null,null,0,0]
[{"$f":"VLOOKUP(B3063,'(1) Project Reference Item List'!$B$2:$C$1000,2,FALSE)","v":{"$error":"#N/A"}},null,null,null,null,null,null,null,null,null,null,{"$f":"VLOOKUP(B3063,'(1) Project Reference Item List'!$B$2:$D$1000,3,FALSE)","v":{"$error":"#N/A"}},null,null,0,0]
[{"$f":"VLOOKUP(B3064,'(1) Project Reference Item List'!$B$2:$C$1000,2,FALSE)","v":{"$error":"#N/A"}},null,null,null,null,null,null,null,null,null,null,{"$f":"VLOOKUP(B3064,'(1) Project Reference Item List'!$B$2:$D$1000,3,FALSE)","v":{"$error":"#N/A"}},null,null,0,0]
[{"$f":"VLOOKUP(B3065,'(1) Project Reference Item List'!$B$2:$C$1000,2,FALSE)","v":{"$error":"#N/A"}},null,null,null,null,null,null,null,null,null,null,{"$f":"VLOOKUP(B3065,'(1) Project Reference Item List'!$B$2:$D$1000,3,FALSE)","v":{"$error":"#N/A"}},null,null,0,0]
[{"$f":"VLOOKUP(B3066,'(1) Project Reference Item List'!$B$2:$C$1000,2,FALSE)","v":{"$error":"#N/A"}},null,null,null,null,null,null,null,null,null,null,{"$f":"VLOOKUP(B3066,'(1) Project Reference Item List'!$B$2:$D$1000,3,FALSE)","v":{"$error":"#N/A"}},null,null,0,0]
[{"$f":"VLOOKUP(B3067,'(1) Project Reference Item List'!$B$2:$C$1000,2,FALSE)","v":{"$error":"#N/A"}},null,null,null,null,null,null,null,null,null,null,{"$f":"VLOOKUP(B3067,'(1) Project Reference Item List'!$B$2:$D$1000,3,FALSE)","v":{"$error":"#N/A"}},null,null,0,0]
[{"$f":"VLOOKUP(B3068,'(1) Project Reference Item List'!$B$2:$C$1000,2,FALSE)","v":{"$error":"#N/A"}},null,null,null,null,null,null,null,null,null,null,{"$f":"VLOOKUP(B3068,'(1) Project Reference Item List'!$B$2:$D$1000,3,FALSE)","v":{"$error":"#N/A"}},null,null,0,0]
[{"$f":"VLOOKUP(B3069,'(1) Project Reference Item List'!$B$2:$C$1000,2,FALSE)","v":{"$error":"#N/A"}},null,null,null,null,null,null,null,null,null,null,{"$f":"VLOOKUP(B3069,'(1) Project Reference Item List'!$B$2:$D$1000,3,FALSE)","v":{"$error":"#N/A"}},null,null,0,0]
[{"$f":"VLOOKUP(B3070,'(1) Project Reference Item List'!$B$2:$C$1000,2,FALSE)","v":{"$error":"#N/A"}},null,null,null,null,null,null,null,null,null,null,{"$f":"VLOOKUP(B3070,'(1) Project Reference Item List'!$B$2:$D$1000,3,FALSE)","v":{"$error":"#N/A"}},null,null,0,0]
[{"$f":"VLOOKUP(B3071,'(1) Project Reference Item List'!$B$2:$C$1000,2,FALSE)","v":{"$error":"#N/A"}},null,null,null,null,null,null,null,null,null,null,{"$f":"VLOOKUP(B3071,'(1) Project Reference Item List'!$B$2:$D$1000,3,FALSE)","v":{"$error":"#N/A"}},null,null,0,0]
[{"$f":"VLOOKUP(B3072,'(1) Project Reference Item List'!$B$2:$C$1000,2,FALSE)","v":{"$error":"#N/A"}},null,null,null,null,null,null,null,null,null,null,{"$f":"VLOOKUP(B3072,'(1) Project Reference Item List'!$B$2:$D$1000,3,FALSE)","v":{"$error":"#N/A"}},null,null,0,0]
[{"$f":"VLOOKUP(B3073,'(1) Project Reference Item List'!$B$2:$C$1000,2,FALSE)","v":{"$error":"#N/A"}},null,null,null,null,null,null,null,null,null,null,{"$f":"VLOOKUP(B3073,'(1) Project Reference Item List'!$B$2:$D$1000,3,FALSE)","v":{"$error":"#N/A"}},null,null,0,0]
[{"$f":"VLOOKUP(B3074,'(1) Project Reference Item List'!$B$2:$C$1000,2,FALSE)","v":{"$error":"#N/A"}},null,null,null,null,null,null,null,null,null,null,{"$f":"VLOOKUP(B3074,'(1) Project Reference Item List'!$B$2:$D$1000,3,FALSE)","v":{"$error":"#N/A"}},null,null,0,0]
[{"$f":"VLOOKUP(B3075,'(1) Project Reference Item List'!$B$2:$C$1000,2,FALSE)","v":{"$error":"#N/A"}},null,null,null,null,null,null,null,null,null,null,{"$f":"VLOOKUP(B3075,'(1) Project Reference Item List'!$B$2:$D$1000,3,FALSE)","v":{"$error":"#N/A"}},null,null,0,0]
[{"$f":"VLOOKUP(B3076,'(1) Project Reference Item List'!$B$2:$C$1000,2,FALSE)","v":{"$error":"#N/A"}},null,null,null,null,null,null,null,null,null,null,{"$f":"VLOOKUP(B3076,'(1) Project Reference Item List'!$B$2:$D$1000,3,FALSE)","v":{"$error":"#N/A"}},null,null,0,0]
[{"$f":"VLOOKUP(B3077,'(1) Project Reference Item List'!$B$2:$C$1000,2,FALSE)","v":{"$error":"#N/A"}},null,null,null,null,null,null,null,null,null,null,{"$f":"VLOOKUP(B3077,'(1) Project Reference Item List'!$B$2:$D$1000,3,FALSE)","v":{"$error":"#N/A"}},null,null,0,0]
[{"$f":"VLOOKUP(B3078,'(1) Project Reference Item List'!$B$2:$C$1000,2,FALSE)","v":{"$error":"#N/A"}},null,null,null,null,null,null,null,null,null,null,{"$f":"VLOOKUP(B3078,'(1) Project Reference Item List'!$B$2:$D$1000,3,FALSE)","v":{"$error":"#N/A"}},null,null,{"$f":"IF(J3078=0,J3078,J3078*N3078)","v":0},{"$f":"(M3078-O3078)","v":0}]
[{"$f":"VLOOKUP(B3079,'(1) Project Reference Item List'!$B$2:$C$1000,2,FALSE)","v":{"$error":"#N/A"}},null,null,null,null,null,null,null,null,null,null,{"$f":"VLOOKUP(B3079,'(1) Project Reference Item List'!$B$2:$D$1000,3,FALSE)","v":{"$error":"#N/A"}},null,null,0,0]
[{"$f":"VLOOKUP(B3080,'(1) Project Reference Item List'!$B$2:$C$1000,2,FALSE)","v":{"$error":"#N/A"}},null,null,null,null,null,null,null,null,null,null,{"$f":"VLOOKUP(B3080,'(1) Project Reference Item List'!$B$2:$D$1000,3,FALSE)","v":{"$error":"#N/A"}},null,null,0,0]
[{"$f":"VLOOKUP(B3081,'(1) Project Reference Item List'!$B$2:$C$1000,2,FALSE)","v":{"$error":"#N/A"}},null,null,null,null,null,null,null,null,null,null,{"$f":"VLOOKUP(B3081,'(1) Project Reference Item List'!$B$2:$D$1000,3,FALSE)","v":{"$error":"#N/A"}},null,null,0,0]
[{"$f":"VLOOKUP(B3082,'(1) Project Reference Item List'!$B$2:$C$1000,2,FALSE)","v":{"$error":"#N/A"}},null,null,null,null,null,null,null,null,null,null,{"$f":"VLOOKUP(B3082,'(1) Project Reference Item List'!$B$2:$D$1000,3,FALSE)","v":{"$error":"#N/A"}},null,null,0,0]
[{"$f":"VLOOKUP(B3083,'(1) Project Reference Item List'!$B$2:$C$1000,2,FALSE)","v":{"$error":"#N/A"}},null,null,null,null,null,null,null,null,null,null,{"$f":"VLOOKUP(B3083,'(1) Project Reference Item List'!$B$2:$D$1000,3,FALSE)","v":{"$error":"#N/A"}},null,null,0,0]
[{"$f":"VLOOKUP(B3084,'(1) Project Reference Item List'!$B$2:$C$1000,2,FALSE)","v":{"$error":"#N/A"}},null,null,null,null,null,null,null,null,null,null,{"$f":"VLOOKUP(B3084,'(1) Project Reference Item List'!$B$2:$D$1000,3,FALSE)","v":{"$error":"#N/A"}},null,null,0,0]
[{"$f":"VLOOKUP(B3085,'(1) Project Reference Item List'!$B$2:$C$1000,2,FALSE)","v":{"$error":"#N/A"}},null,null,null,null,null,null,null,null,null,null,{"$f":"VLOOKUP(B3085,'(1) Project Reference Item List'!$B$2:$D$1000,3,FALSE)","v":{"$error":"#N/A"}},null,null,0,0]
[{"$f":"VLOOKUP(B3086,'(1) Project Reference Item List'!$B$2:$C$1000,2,FALSE)","v":{"$error":"#N/A"}},null,null,null,null,null,null,null,null,null,null,{"$f":"VLOOKUP(B3086,'(1) Project Reference Item List'!$B$2:$D$1000,3,FALSE)","v":{"$error":"#N/A"}},null,null,0,0]
[{"$f":"VLOOKUP(B3087,'(1) Project Reference Item List'!$B$2:$C$1000,2,FALSE)","v":{"$error":"#N/A"}},null,null,null,null,null,null,null,null,null,null,{"$f":"VLOOKUP(B3087,'(1) Project Reference Item List'!$B$2:$D$1000,3,FALSE)","v":{"$error":"#N/A"}},null,null,0,0]
[{"$f":"VLOOKUP(B3088,'(1) Project Reference Item List'!$B$2:$C$1000,2,FALSE)","v":{"$error":"#N/A"}},null,null,null,null,null,null,null,null,null,null,{"$f":"VLOOKUP(B3088,'(1) Project Reference Item List'!$B$2:$D$1000,3,FALSE)","v":{"$error":"#N/A"}},null,null,0,0]
[{"$f":"VLOOKUP(B3089,'(1) Project Reference Item List'!$B$2:$C$1000,2,FALSE)","v":{"$error":"#N/A"}},null,null,null,null,null,null,null,null,null,null,{"$f":"VLOOKUP(B3089,'(1) Project Reference Item List'!$B$2:$D$1000,3,FALSE)","v":{"$error":"#N/A"}},null,null,0,0]
[{"$f":"VLOOKUP(B3090,'(1) Project Reference Item List'!$B$2:$C$1000,2,FALSE)","v":{"$error":"#N/A"}},null,null,null,null,null,null,null,null,null,null,{"$f":"VLOOKUP(B3090,'(1) Project Reference Item List'!$B$2:$D$1000,3,FALSE)","v":{"$error":"#N/A"}},null,null,0,0]
[{"$f":"VLOOKUP(B3091,'(1) Project Reference Item List'!$B$2:$C$1000,2,FALSE)","v":{"$error":"#N/A"}},null,null,null,null,null,null,null,null,null,null,{"$f":"VLOOKUP(B3091,'(1) Project Reference Item List'!$B$2:$D$1000,3,FALSE)","v":{"$error":"#N/A"}},null,null,0,0]
[{"$f":"VLOOKUP(B3092,'(1) Project Reference Item List'!$B$2:$C$1000,2,FALSE)","v":{"$error":"#N/A"}},null,null,null,null,null,null,null,null,null,null,{"$f":"VLOOKUP(B3092,'(1) Project Reference Item List'!$B$2:$D$1000,3,FALSE)","v":{"$error":"#N/A"}},null,null,0,0]
[{"$f":"VLOOKUP(B3093,'(1) Project Reference Item List'!$B$2:$C$1000,2,FALSE)","v":{"$error":"#N/A"}},null,null,null,null,null,null,null,null,null,null,{"$f":"VLOOKUP(B3093,'(1) Project Reference Item List'!$B$2:$D$1000,3,FALSE)","v":{"$error":"#N/A"}},null,null,0,0]
[{"$f":"VLOOKUP(B3094,'(1) Project Reference Item List'!$B$2:$C$1000,2,FALSE)","v":{"$error":"#N/A"}},null,null,null,null,null,null,null,null,null,null,{"$f":"VLOOKUP(B3094,'(1) Project Reference Item List'!$B$2:$D$1000,3,FALSE)","v":{"$error":"#N/A"}},null,null,0,0]
[{"$f":"VLOOKUP(B3095,'(1) Project Reference Item List'!$B$2:$C$1000,2,FALSE)","v":{"$error":"#N/A"}},null,null,null,null,null,null,null,null,null,null,{"$f":"VLOOKUP(B3095,'(1) Project Reference Item List'!$B$2:$D$1000,3,FALSE)","v":{"$error":"#N/A"}},null,null,0,0]
[{"$f":"VLOOKUP(B3096,'(1) Project Reference Item List'!$B$2:$C$1000,2,FALSE)","v":{"$error":"#N/A"}},null,null,null,null,null,null,null,null,null,null,{"$f":"VLOOKUP(B3096,'(1) Project Reference Item List'!$B$2:$D$1000,3,FALSE)","v":{"$error":"#N/A"}},null,null,0,0]
[{"$f":"VLOOKUP(B3097,'(1) Project Reference Item List'!$B$2:$C$1000,2,FALSE)","v":{"$error":"#N/A"}},null,null,null,null,null,null,null,null,null,null,{"$f":"VLOOKUP(B3097,'(1) Project Reference Item List'!$B$2:$D$1000,3,FALSE)","v":{"$error":"#N/A"}},null,null,0,0]
[{"$f":"VLOOKUP(B3098,'(1) Project Reference Item List'!$B$2:$C$1000,2,FALSE)","v":{"$error":"#N/A"}},null,null,null,null,null,null,null,null,null,null,{"$f":"VLOOKUP(B3098,'(1) Project Reference Item List'!$B$2:$D$1000,3,FALSE)","v":{"$error":"#N/A"}},null,null,0,0]
[{"$f":"VLOOKUP(B3099,'(1) Project Reference Item List'!$B$2:$C$1000,2,FALSE)","v":{"$error":"#N/A"}},null,null,null,null,null,null,null,null,null,null,{"$f":"VLOOKUP(B3099,'(1) Project Reference Item List'!$B$2:$D$1000,3,FALSE)","v":{"$error":"#N/A"}},null,null,0,0]
[{"$f":"VLOOKUP(B3100,'(1) Project Reference Item List'!$B$2:$C$1000,2,FALSE)","v":{"$error":"#N/A"}},null,null,null,null,null,null,null,null,null,null,{"$f":"VLOOKUP(B3100,'(1) Project Reference Item List'!$B$2:$D$1000,3,FALSE)","v":{"$error":"#N/A"}},null,null,0,0]
[{"$f":"VLOOKUP(B3101,'(1) Project Reference Item List'!$B$2:$C$1000,2,FALSE)","v":{"$error":"#N/A"}},null,null,null,null,null,null,null,null,null,null,{"$f":"VLOOKUP(B3101,'(1) Project Reference Item List'!$B$2:$D$1000,3,FALSE)","v":{"$error":"#N/A"}},null,null,0,0]
[{"$f":"VLOOKUP(B3102,'(1) Project Reference Item List'!$B$2:$C$1000,2,FALSE)","v":{"$error":"#N/A"}},null,null,null,null,null,null,null,null,null,null,{"$f":"VLOOKUP(B3102,'(1) Project Reference Item List'!$B$2:$D$1000,3,FALSE)","v":{"$error":"#N/A"}},null,null,0,0]
[{"$f":"VLOOKUP(B3103,'(1) Project Reference Item List'!$B$2:$C$1000,2,FALSE)","v":{"$error":"#N/A"}},null,null,null,null,null,null,null,null,null,null,{"$f":"VLOOKUP(B3103,'(1) Project Reference Item List'!$B$2:$D$1000,3,FALSE)","v":{"$error":"#N/A"}},null,null,0,0]
[{"$f":"VLOOKUP(B3104,'(1) Project Reference Item List'!$B$2:$C$1000,2,FALSE)","v":{"$error":"#N/A"}},null,null,null,null,null,null,null,null,null,null,{"$f":"VLOOKUP(B3104,'(1) Project Reference Item List'!$B$2:$D$1000,3,FALSE)","v":{"$error":"#N/A"}},null,null,0,0]
[{"$f":"VLOOKUP(B3105,'(1) Project Reference Item List'!$B$2:$C$1000,2,FALSE)","v":{"$error":"#N/A"}},null,null,null,null,null,null,null,null,null,null,{"$f":"VLOOKUP(B3105,'(1) Project Reference Item List'!$B$2:$D$1000,3,FALSE)","v":{"$error":"#N/A"}},null,null,0,0]
[{"$f":"VLOOKUP(B3106,'(1) Project Reference Item List'!$B$2:$C$1000,2,FALSE)","v":{"$error":"#N/A"}},null,null,null,null,null,null,null,null,null,null,{"$f":"VLOOKUP(B3106,'(1) Project Reference Item List'!$B$2:$D$1000,3,FALSE)","v":{"$error":"#N/A"}},null,null,0,0]
[{"$f":"VLOOKUP(B3107,'(1) Project Reference Item List'!$B$2:$C$1000,2,FALSE)","v":{"$error":"#N/A"}},null,null,null,null,null,null,null,null,null,null,{"$f":"VLOOKUP(B3107,'(1) Project Reference Item List'!$B$2:$D$1000,3,FALSE)","v":{"$error":"#N/A"}},null,null,0,0]
[{"$f":"VLOOKUP(B3108,'(1) Project Reference Item List'!$B$2:$C$1000,2,FALSE)","v":{"$error":"#N/A"}},null,null,null,null,null,null,null,null,null,null,{"$f":"VLOOKUP(B3108,'(1) Project Reference Item List'!$B$2:$D$1000,3,FALSE)","v":{"$error":"#N/A"}},null,null,0,0]
[{"$f":"VLOOKUP(B3109,'(1) Project Reference Item List'!$B$2:$C$1000,2,FALSE)","v":{"$error":"#N/A"}},null,null,null,null,null,null,null,null,null,null,{"$f":"VLOOKUP(B3109,'(1) Project Reference Item List'!$B$2:$D$1000,3,FALSE)","v":{"$error":"#N/A"}},null,null,0,0]
[{"$f":"VLOOKUP(B3110,'(1) Project Reference Item List'!$B$2:$C$1000,2,FALSE)","v":{"$error":"#N/A"}},null,null,null,null,null,null,null,null,null,null,{"$f":"VLOOKUP(B3110,'(1) Project Reference Item List'!$B$2:$D$1000,3,FALSE)","v":{"$error":"#N/A"}},null,null,0,0]
[{"$f":"VLOOKUP(B3111,'(1) Project Reference Item List'!$B$2:$C$1000,2,FALSE)","v":{"$error":"#N/A"}},null,null,null,null,null,null,null,null,null,null,{"$f":"VLOOKUP(B3111,'(1) Project Reference Item List'!$B$2:$D$1000,3,FALSE)","v":{"$error":"#N/A"}},null,null,0,0]
[{"$f":"VLOOKUP(B3112,'(1) Project Reference Item List'!$B$2:$C$1000,2,FALSE)","v":{"$error":"#N/A"}},null,null,null,null,null,null,null,null,null,null,{"$f":"VLOOKUP(B3112,'(1) Project Reference Item List'!$B$2:$D$1000,3,FALSE)","v":{"$error":"#N/A"}},null,null,0,0]
[{"$f":"VLOOKUP(B3113,'(1) Project Reference Item List'!$B$2:$C$1000,2,FALSE)","v":{"$error":"#N/A"}},null,null,null,null,null,null,null,null,null,null,{"$f":"VLOOKUP(B3113,'(1) Project Reference Item List'!$B$2:$D$1000,3,FALSE)","v":{"$error":"#N/A"}},null,null,0,0]
[{"$f":"VLOOKUP(B3114,'(1) Project Reference Item List'!$B$2:$C$1000,2,FALSE)","v":{"$error":"#N/A"}},null,null,null,null,null,null,null,null,null,null,{"$f":"VLOOKUP(B3114,'(1) Project Reference Item List'!$B$2:$D$1000,3,FALSE)","v":{"$error":"#N/A"}},null,null,0,0]
[{"$f":"VLOOKUP(B3115,'(1) Project Reference Item List'!$B$2:$C$1000,2,FALSE)","v":{"$error":"#N/A"}},null,null,null,null,null,null,null,null,null,null,{"$f":"VLOOKUP(B3115,'(1) Project Reference Item List'!$B$2:$D$1000,3,FALSE)","v":{"$error":"#N/A"}},null,null,0,0]
[{"$f":"VLOOKUP(B3116,'(1) Project Reference Item List'!$B$2:$C$1000,2,FALSE)","v":{"$error":"#N/A"}},null,null,null,null,null,null,null,null,null,null,{"$f":"VLOOKUP(B3116,'(1) Project Reference Item List'!$B$2:$D$1000,3,FALSE)","v":{"$error":"#N/A"}},null,null,0,0]
[{"$f":"VLOOKUP(B3117,'(1) Project Reference Item List'!$B$2:$C$1000,2,FALSE)","v":{"$error":"#N/A"}},null,null,null,null,null,null,null,null,null,null,{"$f":"VLOOKUP(B3117,'(1) Project Reference Item List'!$B$2:$D$1000,3,FALSE)","v":{"$error":"#N/A"}},null,null,0,0]
[{"$f":"VLOOKUP(B3118,'(1) Project Reference Item List'!$B$2:$C$1000,2,FALSE)","v":{"$error":"#N/A"}},null,null,null,null,null,null,null,null,null,null,{"$f":"VLOOKUP(B3118,'(1) Project Reference Item List'!$B$2:$D$1000,3,FALSE)","v":{"$error":"#N/A"}},null,null,0,0]
[{"$f":"VLOOKUP(B3119,'(1) Project Reference Item List'!$B$2:$C$1000,2,FALSE)","v":{"$error":"#N/A"}},null,null,null,null,null,null,null,null,null,null,{"$f":"VLOOKUP(B3119,'(1) Project Reference Item List'!$B$2:$D$1000,3,FALSE)","v":{"$error":"#N/A"}},null,null,0,0]
[{"$f":"VLOOKUP(B3120,'(1) Project Reference Item List'!$B$2:$C$1000,2,FALSE)","v":{"$error":"#N/A"}},null,null,null,null,null,null,null,null,null,null,{"$f":"VLOOKUP(B3120,'(1) Project Reference Item List'!$B$2:$D$1000,3,FALSE)","v":{"$error":"#N/A"}},null,null,0,0]
[{"$f":"VLOOKUP(B3121,'(1) Project Reference Item List'!$B$2:$C$1000,2,FALSE)","v":{"$error":"#N/A"}},null,null,null,null,null,null,null,null,null,null,{"$f":"VLOOKUP(B3121,'(1) Project Reference Item List'!$B$2:$D$1000,3,FALSE)","v":{"$error":"#N/A"}},null,null,0,0]
[{"$f":"VLOOKUP(B3122,'(1) Project Reference Item List'!$B$2:$C$1000,2,FALSE)","v":{"$error":"#N/A"}},null,null,null,null,null,null,null,null,null,null,{"$f":"VLOOKUP(B3122,'(1) Project Reference Item List'!$B$2:$D$1000,3,FALSE)","v":{"$error":"#N/A"}},null,null,0,0]
[{"$f":"VLOOKUP(B3123,'(1) Project Reference Item List'!$B$2:$C$1000,2,FALSE)","v":{"$error":"#N/A"}},null,null,null,null,null,null,null,null,null,null,{"$f":"VLOOKUP(B3123,'(1) Project Reference Item List'!$B$2:$D$1000,3,FALSE)","v":{"$error":"#N/A"}},null,null,0,0]
[{"$f":"VLOOKUP(B3124,'(1) Project Reference Item List'!$B$2:$C$1000,2,FALSE)","v":{"$error":"#N/A"}},null,null,null,null,null,null,null,null,null,null,{"$f":"VLOOKUP(B3124,'(1) Project Reference Item List'!$B$2:$D$1000,3,FALSE)","v":{"$error":"#N/A"}},null,null,0,0]
[{"$f":"VLOOKUP(B3125,'(1) Project Reference Item List'!$B$2:$C$1000,2,FALSE)","v":{"$error":"#N/A"}},null,null,null,null,null,null,null,null,null,null,{"$f":"VLOOKUP(B3125,'(1) Project Reference Item List'!$B$2:$D$1000,3,FALSE)","v":{"$error":"#N/A"}},null,null,0,0]
[{"$f":"VLOOKUP(B3126,'(1) Project Reference Item List'!$B$2:$C$1000,2,FALSE)","v":{"$error":"#N/A"}},null,null,null,null,null,null,null,null,null,null,{"$f":"VLOOKUP(B3126,'(1) Project Reference Item List'!$B$2:$D$1000,3,FALSE)","v":{"$error":"#N/A"}},null,null,0,0]
[{"$f":"VLOOKUP(B3127,'(1) Project Reference Item List'!$B$2:$C$1000,2,FALSE)","v":{"$error":"#N/A"}},null,null,null,null,null,null,null,null,null,null,{"$f":"VLOOKUP(B3127,'(1) Project Reference Item List'!$B$2:$D$1000,3,FALSE)","v":{"$error":"#N/A"}},null,null,0,0]
[{"$f":"VLOOKUP(B3128,'(1) Project Reference Item List'!$B$2:$C$1000,2,FALSE)","v":{"$error":"#N/A"}},null,null,null,null,null,null,null,null,null,null,{"$f":"VLOOKUP(B3128,'(1) Project Reference Item List'!$B$2:$D$1000,3,FALSE)","v":{"$error":"#N/A"}},null,null,0,0]
[{"$f":"VLOOKUP(B3129,'(1) Project Reference Item List'!$B$2:$C$1000,2,FALSE)","v":{"$error":"#N/A"}},null,null,null,null,null,null,null,null,null,null,{"$f":"VLOOKUP(B3129,'(1) Project Reference Item List'!$B$2:$D$1000,3,FALSE)","v":{"$error":"#N/A"}},null,null,0,0]
[{"$f":"VLOOKUP(B3130,'(1) Project Reference Item List'!$B$2:$C$1000,2,FALSE)","v":{"$error":"#N/A"}},null,null,null,null,null,null,null,null,null,null,{"$f":"VLOOKUP(B3130,'(1) Project Reference Item List'!$B$2:$D$1000,3,FALSE)","v":{"$error":"#N/A"}},null,null,0,0]
[{"$f":"VLOOKUP(B3131,'(1) Project Reference Item List'!$B$2:$C$1000,2,FALSE)","v":{"$error":"#N/A"}},null,null,null,null,null,null,null,null,null,null,{"$f":"VLOOKUP(B3131,'(1) Project Reference Item List'!$B$2:$D$1000,3,FALSE)","v":{"$error":"#N/A"}},null,null,0,0]
[{"$f":"VLOOKUP(B3132,'(1) Project Reference Item List'!$B$2:$C$1000,2,FALSE)","v":{"$error":"#N/A"}},null,null,null,null,null,null,null,null,null,null,{"$f":"VLOOKUP(B3132,'(1) Project Reference Item List'!$B$2:$D$1000,3,FALSE)","v":{"$error":"#N/A"}},null,null,0,0]
[{"$f":"VLOOKUP(B3133,'(1) Project Reference Item List'!$B$2:$C$1000,2,FALSE)","v":{"$error":"#N/A"}},null,null,null,null,null,null,null,null,null,null,{"$f":"VLOOKUP(B3133,'(1) Project Reference Item List'!$B$2:$D$1000,3,FALSE)","v":{"$error":"#N/A"}},null,null,0,0]
[{"$f":"VLOOKUP(B3134,'(1) Project Reference Item List'!$B$2:$C$1000,2,FALSE)","v":{"$error":"#N/A"}},null,null,null,null,null,null,null,null,null,null,{"$f":"VLOOKUP(B3134,'(1) Project Reference Item List'!$B$2:$D$1000,3,FALSE)","v":{"$error":"#N/A"}},null,null,0,0]
[{"$f":"VLOOKUP(B3135,'(1) Project Reference Item List'!$B$2:$C$1000,2,FALSE)","v":{"$error":"#N/A"}},null,null,null,null,null,null,null,null,null,null,{"$f":"VLOOKUP(B3135,'(1) Project Reference Item List'!$B$2:$D$1000,3,FALSE)","v":{"$error":"#N/A"}},null,null,0,0]
[{"$f":"VLOOKUP(B3136,'(1) Project Reference Item List'!$B$2:$C$1000,2,FALSE)","v":{"$error":"#N/A"}},null,null,null,null,null,null,null,null,null,null,{"$f":"VLOOKUP(B3136,'(1) Project Reference Item List'!$B$2:$D$1000,3,FALSE)","v":{"$error":"#N/A"}},null,null,0,0]
[{"$f":"VLOOKUP(B3137,'(1) Project Reference Item List'!$B$2:$C$1000,2,FALSE)","v":{"$error":"#N/A"}},null,null,null,null,null,null,null,null,null,null,{"$f":"VLOOKUP(B3137,'(1) Project Reference Item List'!$B$2:$D$1000,3,FALSE)","v":{"$error":"#N/A"}},null,null,0,0]
[{"$f":"VLOOKUP(B3138,'(1) Project Reference Item List'!$B$2:$C$1000,2,FALSE)","v":{"$error":"#N/A"}},null,null,null,null,null,null,null,null,null,null,{"$f":"VLOOKUP(B3138,'(1) Project Reference Item List'!$B$2:$D$1000,3,FALSE)","v":{"$error":"#N/A"}},null,null,0,0]
[{"$f":"VLOOKUP(B3139,'(1) Project Reference Item List'!$B$2:$C$1000,2,FALSE)","v":{"$error":"#N/A"}},null,null,null,null,null,null,null,null,null,null,{"$f":"VLOOKUP(B3139,'(1) Project Reference Item List'!$B$2:$D$1000,3,FALSE)","v":{"$error":"#N/A"}},null,null,0,0]
[{"$f":"VLOOKUP(B3140,'(1) Project Reference Item List'!$B$2:$C$1000,2,FALSE)","v":{"$error":"#N/A"}},null,null,null,null,null,null,null,null,null,null,{"$f":"VLOOKUP(B3140,'(1) Project Reference Item List'!$B$2:$D$1000,3,FALSE)","v":{"$error":"#N/A"}},null,null,0,0]
[{"$f":"VLOOKUP(B3141,'(1) Project Reference Item List'!$B$2:$C$1000,2,FALSE)","v":{"$error":"#N/A"}},null,null,null,null,null,null,null,null,null,null,{"$f":"VLOOKUP(B3141,'(1) Project Reference Item List'!$B$2:$D$1000,3,FALSE)","v":{"$error":"#N/A"}},null,null,0,0]
[{"$f":"VLOOKUP(B3142,'(1) Project Reference Item List'!$B$2:$C$1000,2,FALSE)","v":{"$error":"#N/A"}},null,null,null,null,null,null,null,null,null,null,{"$f":"VLOOKUP(B3142,'(1) Project Reference Item List'!$B$2:$D$1000,3,FALSE)","v":{"$error":"#N/A"}},null,null,{"$f":"IF(J3142=0,J3142,J3142*N3142)","v":0},{"$f":"(M3142-O3142)","v":0}]
[{"$f":"VLOOKUP(B3143,'(1) Project Reference Item List'!$B$2:$C$1000,2,FALSE)","v":{"$error":"#N/A"}},null,null,null,null,null,null,null,null,null,null,{"$f":"VLOOKUP(B3143,'(1) Project Reference Item List'!$B$2:$D$1000,3,FALSE)","v":{"$error":"#N/A"}},null,null,0,0]
[{"$f":"VLOOKUP(B3144,'(1) Project Reference Item List'!$B$2:$C$1000,2,FALSE)","v":{"$error":"#N/A"}},null,null,null,null,null,null,null,null,null,null,{"$f":"VLOOKUP(B3144,'(1) Project Reference Item List'!$B$2:$D$1000,3,FALSE)","v":{"$error":"#N/A"}},null,null,0,0]
[{"$f":"VLOOKUP(B3145,'(1) Project Reference Item List'!$B$2:$C$1000,2,FALSE)","v":{"$error":"#N/A"}},null,null,null,null,null,null,null,null,null,null,{"$f":"VLOOKUP(B3145,'(1) Project Reference Item List'!$B$2:$D$1000,3,FALSE)","v":{"$error":"#N/A"}},null,null,0,0]
[{"$f":"VLOOKUP(B3146,'(1) Project Reference Item List'!$B$2:$C$1000,2,FALSE)","v":{"$error":"#N/A"}},null,null,null,null,null,null,null,null,null,null,{"$f":"VLOOKUP(B3146,'(1) Project Reference Item List'!$B$2:$D$1000,3,FALSE)","v":{"$error":"#N/A"}},null,null,0,0]
[{"$f":"VLOOKUP(B3147,'(1) Project Reference Item List'!$B$2:$C$1000,2,FALSE)","v":{"$error":"#N/A"}},null,null,null,null,null,null,null,null,null,null,{"$f":"VLOOKUP(B3147,'(1) Project Reference Item List'!$B$2:$D$1000,3,FALSE)","v":{"$error":"#N/A"}},null,null,0,0]
[{"$f":"VLOOKUP(B3148,'(1) Project Reference Item List'!$B$2:$C$1000,2,FALSE)","v":{"$error":"#N/A"}},null,null,null,null,null,null,null,null,null,null,{"$f":"VLOOKUP(B3148,'(1) Project Reference Item List'!$B$2:$D$1000,3,FALSE)","v":{"$error":"#N/A"}},null,null,0,0]
[{"$f":"VLOOKUP(B3149,'(1) Project Reference Item List'!$B$2:$C$1000,2,FALSE)","v":{"$error":"#N/A"}},null,null,null,null,null,null,null,null,null,null,{"$f":"VLOOKUP(B3149,'(1) Project Reference Item List'!$B$2:$D$1000,3,FALSE)","v":{"$error":"#N/A"}},null,null,0,0]
[{"$f":"VLOOKUP(B3150,'(1) Project Reference Item List'!$B$2:$C$1000,2,FALSE)","v":{"$error":"#N/A"}},null,null,null,null,null,null,null,null,null,null,{"$f":"VLOOKUP(B3150,'(1) Project Reference Item List'!$B$2:$D$1000,3,FALSE)","v":{"$error":"#N/A"}},null,null,0,0]
[{"$f":"VLOOKUP(B3151,'(1) Project Reference Item List'!$B$2:$C$1000,2,FALSE)","v":{"$error":"#N/A"}},null,null,null,null,null,null,null,null,null,null,{"$f":"VLOOKUP(B3151,'(1) Project Reference Item List'!$B$2:$D$1000,3,FALSE)","v":{"$error":"#N/A"}},null,null,0,0]
[{"$f":"VLOOKUP(B3152,'(1) Project Reference Item List'!$B$2:$C$1000,2,FALSE)","v":{"$error":"#N/A"}},null,null,null,null,null,null,null,null,null,null,{"$f":"VLOOKUP(B3152,'(1) Project Reference Item List'!$B$2:$D$1000,3,FALSE)","v":{"$error":"#N/A"}},null,null,0,0]
[{"$f":"VLOOKUP(B3153,'(1) Project Reference Item List'!$B$2:$C$1000,2,FALSE)","v":{"$error":"#N/A"}},null,null,null,null,null,null,null,null,null,null,{"$f":"VLOOKUP(B3153,'(1) Project Reference Item List'!$B$2:$D$1000,3,FALSE)","v":{"$error":"#N/A"}},null,null,0,0]
[{"$f":"VLOOKUP(B3154,'(1) Project Reference Item List'!$B$2:$C$1000,2,FALSE)","v":{"$error":"#N/A"}},null,null,null,null,null,null,null,null,null,null,{"$f":"VLOOKUP(B3154,'(1) Project Reference Item List'!$B$2:$D$1000,3,FALSE)","v":{"$error":"#N/A"}},null,null,0,0]
[{"$f":"VLOOKUP(B3155,'(1) Project Reference Item List'!$B$2:$C$1000,2,FALSE)","v":{"$error":"#N/A"}},null,null,null,null,null,null,null,null,null,null,{"$f":"VLOOKUP(B3155,'(1) Project Reference Item List'!$B$2:$D$1000,3,FALSE)","v":{"$error":"#N/A"}},null,null,0,0]
[{"$f":"VLOOKUP(B3156,'(1) Project Reference Item List'!$B$2:$C$1000,2,FALSE)","v":{"$error":"#N/A"}},null,null,null,null,null,null,null,null,null,null,{"$f":"VLOOKUP(B3156,'(1) Project Reference Item List'!$B$2:$D$1000,3,FALSE)","v":{"$error":"#N/A"}},null,null,0,0]
[{"$f":"VLOOKUP(B3157,'(1) Project Reference Item List'!$B$2:$C$1000,2,FALSE)","v":{"$error":"#N/A"}},null,null,null,null,null,null,null,null,null,null,{"$f":"VLOOKUP(B3157,'(1) Project Reference Item List'!$B$2:$D$1000,3,FALSE)","v":{"$error":"#N/A"}},null,null,0,0]
[{"$f":"VLOOKUP(B3158,'(1) Project Reference Item List'!$B$2:$C$1000,2,FALSE)","v":{"$error":"#N/A"}},null,null,null,null,null,null,null,null,null,null,{"$f":"VLOOKUP(B3158,'(1) Project Reference Item List'!$B$2:$D$1000,3,FALSE)","v":{"$error":"#N/A"}},null,null,0,0]
[{"$f":"VLOOKUP(B3159,'(1) Project Reference Item List'!$B$2:$C$1000,2,FALSE)","v":{"$error":"#N/A"}},null,null,null,null,null,null,null,null,null,null,{"$f":"VLOOKUP(B3159,'(1) Project Reference Item List'!$B$2:$D$1000,3,FALSE)","v":{"$error":"#N/A"}},null,null,0,0]
[{"$f":"VLOOKUP(B3160,'(1) Project Reference Item List'!$B$2:$C$1000,2,FALSE)","v":{"$error":"#N/A"}},null,null,null,null,null,null,null,null,null,null,{"$f":"VLOOKUP(B3160,'(1) Project Reference Item List'!$B$2:$D$1000,3,FALSE)","v":{"$error":"#N/A"}},null,null,0,0]
[{"$f":"VLOOKUP(B3161,'(1) Project Reference Item List'!$B$2:$C$1000,2,FALSE)","v":{"$error":"#N/A"}},null,null,null,null,null,null,null,null,null,null,{"$f":"VLOOKUP(B3161,'(1) Project Reference Item List'!$B$2:$D$1000,3,FALSE)","v":{"$error":"#N/A"}},null,null,0,0]
[{"$f":"VLOOKUP(B3162,'(1) Project Reference Item List'!$B$2:$C$1000,2,FALSE)","v":{"$error":"#N/A"}},null,null,null,null,null,null,null,null,null,null,{"$f":"VLOOKUP(B3162,'(1) Project Reference Item List'!$B$2:$D$1000,3,FALSE)","v":{"$error":"#N/A"}},null,null,0,0]
[{"$f":"VLOOKUP(B3163,'(1) Project Reference Item List'!$B$2:$C$1000,2,FALSE)","v":{"$error":"#N/A"}},null,null,null,null,null,null,null,null,null,null,{"$f":"VLOOKUP(B3163,'(1) Project Reference Item List'!$B$2:$D$1000,3,FALSE)","v":{"$error":"#N/A"}},null,null,0,0]
[{"$f":"VLOOKUP(B3164,'(1) Project Reference Item List'!$B$2:$C$1000,2,FALSE)","v":{"$error":"#N/A"}},null,null,null,null,null,null,null,null,null,null,{"$f":"VLOOKUP(B3164,'(1) Project Reference Item List'!$B$2:$D$1000,3,FALSE)","v":{"$error":"#N/A"}},null,null,0,0]
[{"$f":"VLOOKUP(B3165,'(1) Project Reference Item List'!$B$2:$C$1000,2,FALSE)","v":{"$error":"#N/A"}},null,null,null,null,null,null,null,null,null,null,{"$f":"VLOOKUP(B3165,'(1) Project Reference Item List'!$B$2:$D$1000,3,FALSE)","v":{"$error":"#N/A"}},null,null,0,0]
[{"$f":"VLOOKUP(B3166,'(1) Project Reference Item List'!$B$2:$C$1000,2,FALSE)","v":{"$error":"#N/A"}},null,null,null,null,null,null,null,null,null,null,{"$f":"VLOOKUP(B3166,'(1) Project Reference Item List'!$B$2:$D$1000,3,FALSE)","v":{"$error":"#N/A"}},null,null,0,0]
[{"$f":"VLOOKUP(B3167,'(1) Project Reference Item List'!$B$2:$C$1000,2,FALSE)","v":{"$error":"#N/A"}},null,null,null,null,null,null,null,null,null,null,{"$f":"VLOOKUP(B3167,'(1) Project Reference Item List'!$B$2:$D$1000,3,FALSE)","v":{"$error":"#N/A"}},null,null,0,0]
[{"$f":"VLOOKUP(B3168,'(1) Project Reference Item List'!$B$2:$C$1000,2,FALSE)","v":{"$error":"#N/A"}},null,null,null,null,null,null,null,null,null,null,{"$f":"VLOOKUP(B3168,'(1) Project Reference Item List'!$B$2:$D$1000,3,FALSE)","v":{"$error":"#N/A"}},null,null,0,0]
[{"$f":"VLOOKUP(B3169,'(1) Project Reference Item List'!$B$2:$C$1000,2,FALSE)","v":{"$error":"#N/A"}},null,null,null,null,null,null,null,null,null,null,{"$f":"VLOOKUP(B3169,'(1) Project Reference Item List'!$B$2:$D$1000,3,FALSE)","v":{"$error":"#N/A"}},null,null,0,0]
[{"$f":"VLOOKUP(B3170,'(1) Project Reference Item List'!$B$2:$C$1000,2,FALSE)","v":{"$error":"#N/A"}},null,null,null,null,null,null,null,null,null,null,{"$f":"VLOOKUP(B3170,'(1) Project Reference Item List'!$B$2:$D$1000,3,FALSE)","v":{"$error":"#N/A"}},null,null,0,0]
[{"$f":"VLOOKUP(B3171,'(1) Project Reference Item List'!$B$2:$C$1000,2,FALSE)","v":{"$error":"#N/A"}},null,null,null,null,null,null,null,null,null,null,{"$f":"VLOOKUP(B3171,'(1) Project Reference Item List'!$B$2:$D$1000,3,FALSE)","v":{"$error":"#N/A"}},null,null,0,0]
[{"$f":"VLOOKUP(B3172,'(1) Project Reference Item List'!$B$2:$C$1000,2,FALSE)","v":{"$error":"#N/A"}},null,null,null,null,null,null,null,null,null,null,{"$f":"VLOOKUP(B3172,'(1) Project Reference Item List'!$B$2:$D$1000,3,FALSE)","v":{"$error":"#N/A"}},null,null,0,0]
[{"$f":"VLOOKUP(B3173,'(1) Project Reference Item List'!$B$2:$C$1000,2,FALSE)","v":{"$error":"#N/A"}},null,null,null,null,null,null,null,null,null,null,{"$f":"VLOOKUP(B3173,'(1) Project Reference Item List'!$B$2:$D$1000,3,FALSE)","v":{"$error":"#N/A"}},null,null,0,0]
[{"$f":"VLOOKUP(B3174,'(1) Project Reference Item List'!$B$2:$C$1000,2,FALSE)","v":{"$error":"#N/A"}},null,null,null,null,null,null,null,null,null,null,{"$f":"VLOOKUP(B3174,'(1) Project Reference Item List'!$B$2:$D$1000,3,FALSE)","v":{"$error":"#N/A"}},null,null,0,0]
[{"$f":"VLOOKUP(B3175,'(1) Project Reference Item List'!$B$2:$C$1000,2,FALSE)","v":{"$error":"#N/A"}},null,null,null,null,null,null,null,null,null,null,{"$f":"VLOOKUP(B3175,'(1) Project Reference Item List'!$B$2:$D$1000,3,FALSE)","v":{"$error":"#N/A"}},null,null,0,0]
[{"$f":"VLOOKUP(B3176,'(1) Project Reference Item List'!$B$2:$C$1000,2,FALSE)","v":{"$error":"#N/A"}},null,null,null,null,null,null,null,null,null,null,{"$f":"VLOOKUP(B3176,'(1) Project Reference Item List'!$B$2:$D$1000,3,FALSE)","v":{"$error":"#N/A"}},null,null,0,0]
[{"$f":"VLOOKUP(B3177,'(1) Project Reference Item List'!$B$2:$C$1000,2,FALSE)","v":{"$error":"#N/A"}},null,null,null,null,null,null,null,null,null,null,{"$f":"VLOOKUP(B3177,'(1) Project Reference Item List'!$B$2:$D$1000,3,FALSE)","v":{"$error":"#N/A"}},null,null,0,0]
[{"$f":"VLOOKUP(B3178,'(1) Project Reference Item List'!$B$2:$C$1000,2,FALSE)","v":{"$error":"#N/A"}},null,null,null,null,null,null,null,null,null,null,{"$f":"VLOOKUP(B3178,'(1) Project Reference Item List'!$B$2:$D$1000,3,FALSE)","v":{"$error":"#N/A"}},null,null,0,0]
[{"$f":"VLOOKUP(B3179,'(1) Project Reference Item List'!$B$2:$C$1000,2,FALSE)","v":{"$error":"#N/A"}},null,null,null,null,null,null,null,null,null,null,{"$f":"VLOOKUP(B3179,'(1) Project Reference Item List'!$B$2:$D$1000,3,FALSE)","v":{"$error":"#N/A"}},null,null,0,0]
[{"$f":"VLOOKUP(B3180,'(1) Project Reference Item List'!$B$2:$C$1000,2,FALSE)","v":{"$error":"#N/A"}},null,null,null,null,null,null,null,null,null,null,{"$f":"VLOOKUP(B3180,'(1) Project Reference Item List'!$B$2:$D$1000,3,FALSE)","v":{"$error":"#N/A"}},null,null,0,0]
[{"$f":"VLOOKUP(B3181,'(1) Project Reference Item List'!$B$2:$C$1000,2,FALSE)","v":{"$error":"#N/A"}},null,null,null,null,null,null,null,null,null,null,{"$f":"VLOOKUP(B3181,'(1) Project Reference Item List'!$B$2:$D$1000,3,FALSE)","v":{"$error":"#N/A"}},null,null,0,0]
[{"$f":"VLOOKUP(B3182,'(1) Project Reference Item List'!$B$2:$C$1000,2,FALSE)","v":{"$error":"#N/A"}},null,null,null,null,null,null,null,null,null,null,{"$f":"VLOOKUP(B3182,'(1) Project Reference Item List'!$B$2:$D$1000,3,FALSE)","v":{"$error":"#N/A"}},null,null,0,0]
[{"$f":"VLOOKUP(B3183,'(1) Project Reference Item List'!$B$2:$C$1000,2,FALSE)","v":{"$error":"#N/A"}},null,null,null,null,null,null,null,null,null,null,{"$f":"VLOOKUP(B3183,'(1) Project Reference Item List'!$B$2:$D$1000,3,FALSE)","v":{"$error":"#N/A"}},null,null,0,0]
[{"$f":"VLOOKUP(B3184,'(1) Project Reference Item List'!$B$2:$C$1000,2,FALSE)","v":{"$error":"#N/A"}},null,null,null,null,null,null,null,null,null,null,{"$f":"VLOOKUP(B3184,'(1) Project Reference Item List'!$B$2:$D$1000,3,FALSE)","v":{"$error":"#N/A"}},null,null,0,0]
[{"$f":"VLOOKUP(B3185,'(1) Project Reference Item List'!$B$2:$C$1000,2,FALSE)","v":{"$error":"#N/A"}},null,null,null,null,null,null,null,null,null,null,{"$f":"VLOOKUP(B3185,'(1) Project Reference Item List'!$B$2:$D$1000,3,FALSE)","v":{"$error":"#N/A"}},null,null,0,0]
[{"$f":"VLOOKUP(B3186,'(1) Project Reference Item List'!$B$2:$C$1000,2,FALSE)","v":{"$error":"#N/A"}},null,null,null,null,null,null,null,null,null,null,{"$f":"VLOOKUP(B3186,'(1) Project Reference Item List'!$B$2:$D$1000,3,FALSE)","v":{"$error":"#N/A"}},null,null,0,0]
[{"$f":"VLOOKUP(B3187,'(1) Project Reference Item List'!$B$2:$C$1000,2,FALSE)","v":{"$error":"#N/A"}},null,null,null,null,null,null,null,null,null,null,{"$f":"VLOOKUP(B3187,'(1) Project Reference Item List'!$B$2:$D$1000,3,FALSE)","v":{"$error":"#N/A"}},null,null,0,0]
[{"$f":"VLOOKUP(B3188,'(1) Project Reference Item List'!$B$2:$C$1000,2,FALSE)","v":{"$error":"#N/A"}},null,null,null,null,null,null,null,null,null,null,{"$f":"VLOOKUP(B3188,'(1) Project Reference Item List'!$B$2:$D$1000,3,FALSE)","v":{"$error":"#N/A"}},null,null,0,0]
[{"$f":"VLOOKUP(B3189,'(1) Project Reference Item List'!$B$2:$C$1000,2,FALSE)","v":{"$error":"#N/A"}},null,null,null,null,null,null,null,null,null,null,{"$f":"VLOOKUP(B3189,'(1) Project Reference Item List'!$B$2:$D$1000,3,FALSE)","v":{"$error":"#N/A"}},null,null,0,0]
[{"$f":"VLOOKUP(B3190,'(1) Project Reference Item List'!$B$2:$C$1000,2,FALSE)","v":{"$error":"#N/A"}},null,null,null,null,null,null,null,null,null,null,{"$f":"VLOOKUP(B3190,'(1) Project Reference Item List'!$B$2:$D$1000,3,FALSE)","v":{"$error":"#N/A"}},null,null,0,0]
[{"$f":"VLOOKUP(B3191,'(1) Project Reference Item List'!$B$2:$C$1000,2,FALSE)","v":{"$error":"#N/A"}},null,null,null,null,null,null,null,null,null,null,{"$f":"VLOOKUP(B3191,'(1) Project Reference Item List'!$B$2:$D$1000,3,FALSE)","v":{"$error":"#N/A"}},null,null,0,0]
[{"$f":"VLOOKUP(B3192,'(1) Project Reference Item List'!$B$2:$C$1000,2,FALSE)","v":{"$error":"#N/A"}},null,null,null,null,null,null,null,null,null,null,{"$f":"VLOOKUP(B3192,'(1) Project Reference Item List'!$B$2:$D$1000,3,FALSE)","v":{"$error":"#N/A"}},null,null,0,0]
[{"$f":"VLOOKUP(B3193,'(1) Project Reference Item List'!$B$2:$C$1000,2,FALSE)","v":{"$error":"#N/A"}},null,null,null,null,null,null,null,null,null,null,{"$f":"VLOOKUP(B3193,'(1) Project Reference Item List'!$B$2:$D$1000,3,FALSE)","v":{"$error":"#N/A"}},null,null,0,0]
[{"$f":"VLOOKUP(B3194,'(1) Project Reference Item List'!$B$2:$C$1000,2,FALSE)","v":{"$error":"#N/A"}},null,null,null,null,null,null,null,null,null,null,{"$f":"VLOOKUP(B3194,'(1) Project Reference Item List'!$B$2:$D$1000,3,FALSE)","v":{"$error":"#N/A"}},null,null,0,0]
[{"$f":"VLOOKUP(B3195,'(1) Project Reference Item List'!$B$2:$C$1000,2,FALSE)","v":{"$error":"#N/A"}},null,null,null,null,null,null,null,null,null,null,{"$f":"VLOOKUP(B3195,'(1) Project Reference Item List'!$B$2:$D$1000,3,FALSE)","v":{"$error":"#N/A"}},null,null,0,0]
[{"$f":"VLOOKUP(B3196,'(1) Project Reference Item List'!$B$2:$C$1000,2,FALSE)","v":{"$error":"#N/A"}},null,null,null,null,null,null,null,null,null,null,{"$f":"VLOOKUP(B3196,'(1) Project Reference Item List'!$B$2:$D$1000,3,FALSE)","v":{"$error":"#N/A"}},null,null,0,0]
[{"$f":"VLOOKUP(B3197,'(1) Project Reference Item List'!$B$2:$C$1000,2,FALSE)","v":{"$error":"#N/A"}},null,null,null,null,null,null,null,null,null,null,{"$f":"VLOOKUP(B3197,'(1) Project Reference Item List'!$B$2:$D$1000,3,FALSE)","v":{"$error":"#N/A"}},null,null,0,0]
[{"$f":"VLOOKUP(B3198,'(1) Project Reference Item List'!$B$2:$C$1000,2,FALSE)","v":{"$error":"#N/A"}},null,null,null,null,null,null,null,null,null,null,{"$f":"VLOOKUP(B3198,'(1) Project Reference Item List'!$B$2:$D$1000,3,FALSE)","v":{"$error":"#N/A"}},null,null,0,0]
[{"$f":"VLOOKUP(B3199,'(1) Project Reference Item List'!$B$2:$C$1000,2,FALSE)","v":{"$error":"#N/A"}},null,null,null,null,null,null,null,null,null,null,{"$f":"VLOOKUP(B3199,'(1) Project Reference Item List'!$B$2:$D$1000,3,FALSE)","v":{"$error":"#N/A"}},null,null,0,0]
[{"$f":"VLOOKUP(B3200,'(1) Project Reference Item List'!$B$2:$C$1000,2,FALSE)","v":{"$error":"#N/A"}},null,null,null,null,null,null,null,null,null,null,{"$f":"VLOOKUP(B3200,'(1) Project Reference Item List'!$B$2:$D$1000,3,FALSE)","v":{"$error":"#N/A"}},null,null,0,0]
[{"$f":"VLOOKUP(B3201,'(1) Project Reference Item List'!$B$2:$C$1000,2,FALSE)","v":{"$error":"#N/A"}},null,null,null,null,null,null,null,null,null,null,{"$f":"VLOOKUP(B3201,'(1) Project Reference Item List'!$B$2:$D$1000,3,FALSE)","v":{"$error":"#N/A"}},null,null,0,0]
[{"$f":"VLOOKUP(B3202,'(1) Project Reference Item List'!$B$2:$C$1000,2,FALSE)","v":{"$error":"#N/A"}},null,null,null,null,null,null,null,null,null,null,{"$f":"VLOOKUP(B3202,'(1) Project Reference Item List'!$B$2:$D$1000,3,FALSE)","v":{"$error":"#N/A"}},null,null,0,0]
[{"$f":"VLOOKUP(B3203,'(1) Project Reference Item List'!$B$2:$C$1000,2,FALSE)","v":{"$error":"#N/A"}},null,null,null,null,null,null,null,null,null,null,{"$f":"VLOOKUP(B3203,'(1) Project Reference Item List'!$B$2:$D$1000,3,FALSE)","v":{"$error":"#N/A"}},null,null,0,0]
[{"$f":"VLOOKUP(B3204,'(1) Project Reference Item List'!$B$2:$C$1000,2,FALSE)","v":{"$error":"#N/A"}},null,null,null,null,null,null,null,null,null,null,{"$f":"VLOOKUP(B3204,'(1) Project Reference Item List'!$B$2:$D$1000,3,FALSE)","v":{"$error":"#N/A"}},null,null,0,0]
[{"$f":"VLOOKUP(B3205,'(1) Project Reference Item List'!$B$2:$C$1000,2,FALSE)","v":{"$error":"#N/A"}},null,null,null,null,null,null,null,null,null,null,{"$f":"VLOOKUP(B3205,'(1) Project Reference Item List'!$B$2:$D$1000,3,FALSE)","v":{"$error":"#N/A"}},null,null,0,0]
[{"$f":"VLOOKUP(B3206,'(1) Project Reference Item List'!$B$2:$C$1000,2,FALSE)","v":{"$error":"#N/A"}},null,null,null,null,null,null,null,null,null,null,{"$f":"VLOOKUP(B3206,'(1) Project Reference Item List'!$B$2:$D$1000,3,FALSE)","v":{"$error":"#N/A"}},null,null,{"$f":"IF(J3206=0,J3206,J3206*N3206)","v":0},{"$f":"(M3206-O3206)","v":0}]
[{"$f":"VLOOKUP(B3207,'(1) Project Reference Item List'!$B$2:$C$1000,2,FALSE)","v":{"$error":"#N/A"}},null,null,null,null,null,null,null,null,null,null,{"$f":"VLOOKUP(B3207,'(1) Project Reference Item List'!$B$2:$D$1000,3,FALSE)","v":{"$error":"#N/A"}},null,null,0,0]
[{"$f":"VLOOKUP(B3208,'(1) Project Reference Item List'!$B$2:$C$1000,2,FALSE)","v":{"$error":"#N/A"}},null,null,null,null,null,null,null,null,null,null,{"$f":"VLOOKUP(B3208,'(1) Project Reference Item List'!$B$2:$D$1000,3,FALSE)","v":{"$error":"#N/A"}},null,null,0,0]
[{"$f":"VLOOKUP(B3209,'(1) Project Reference Item List'!$B$2:$C$1000,2,FALSE)","v":{"$error":"#N/A"}},null,null,null,null,null,null,null,null,null,null,{"$f":"VLOOKUP(B3209,'(1) Project Reference Item List'!$B$2:$D$1000,3,FALSE)","v":{"$error":"#N/A"}},null,null,0,0]
[{"$f":"VLOOKUP(B3210,'(1) Project Reference Item List'!$B$2:$C$1000,2,FALSE)","v":{"$error":"#N/A"}},null,null,null,null,null,null,null,null,null,null,{"$f":"VLOOKUP(B3210,'(1) Project Reference Item List'!$B$2:$D$1000,3,FALSE)","v":{"$error":"#N/A"}},null,null,0,0]
[{"$f":"VLOOKUP(B3211,'(1) Project Reference Item List'!$B$2:$C$1000,2,FALSE)","v":{"$error":"#N/A"}},null,null,null,null,null,null,null,null,null,null,{"$f":"VLOOKUP(B3211,'(1) Project Reference Item List'!$B$2:$D$1000,3,FALSE)","v":{"$error":"#N/A"}},null,null,0,0]
[{"$f":"VLOOKUP(B3212,'(1) Project Reference Item List'!$B$2:$C$1000,2,FALSE)","v":{"$error":"#N/A"}},null,null,null,null,null,null,null,null,null,null,{"$f":"VLOOKUP(B3212,'(1) Project Reference Item List'!$B$2:$D$1000,3,FALSE)","v":{"$error":"#N/A"}},null,null,0,0]
[{"$f":"VLOOKUP(B3213,'(1) Project Reference Item List'!$B$2:$C$1000,2,FALSE)","v":{"$error":"#N/A"}},null,null,null,null,null,null,null,null,null,null,{"$f":"VLOOKUP(B3213,'(1) Project Reference Item List'!$B$2:$D$1000,3,FALSE)","v":{"$error":"#N/A"}},null,null,0,0]
[{"$f":"VLOOKUP(B3214,'(1) Project Reference Item List'!$B$2:$C$1000,2,FALSE)","v":{"$error":"#N/A"}},null,null,null,null,null,null,null,null,null,null,{"$f":"VLOOKUP(B3214,'(1) Project Reference Item List'!$B$2:$D$1000,3,FALSE)","v":{"$error":"#N/A"}},null,null,0,0]
[{"$f":"VLOOKUP(B3215,'(1) Project Reference Item List'!$B$2:$C$1000,2,FALSE)","v":{"$error":"#N/A"}},null,null,null,null,null,null,null,null,null,null,{"$f":"VLOOKUP(B3215,'(1) Project Reference Item List'!$B$2:$D$1000,3,FALSE)","v":{"$error":"#N/A"}},null,null,0,0]
[{"$f":"VLOOKUP(B3216,'(1) Project Reference Item List'!$B$2:$C$1000,2,FALSE)","v":{"$error":"#N/A"}},null,null,null,null,null,null,null,null,null,null,{"$f":"VLOOKUP(B3216,'(1) Project Reference Item List'!$B$2:$D$1000,3,FALSE)","v":{"$error":"#N/A"}},null,null,0,0]
[{"$f":"VLOOKUP(B3217,'(1) Project Reference Item List'!$B$2:$C$1000,2,FALSE)","v":{"$error":"#N/A"}},null,null,null,null,null,null,null,null,null,null,{"$f":"VLOOKUP(B3217,'(1) Project Reference Item List'!$B$2:$D$1000,3,FALSE)","v":{"$error":"#N/A"}},null,null,0,0]
[{"$f":"VLOOKUP(B3218,'(1) Project Reference Item List'!$B$2:$C$1000,2,FALSE)","v":{"$error":"#N/A"}},null,null,null,null,null,null,null,null,null,null,{"$f":"VLOOKUP(B3218,'(1) Project Reference Item List'!$B$2:$D$1000,3,FALSE)","v":{"$error":"#N/A"}},null,null,0,0]
[{"$f":"VLOOKUP(B3219,'(1) Project Reference Item List'!$B$2:$C$1000,2,FALSE)","v":{"$error":"#N/A"}},null,null,null,null,null,null,null,null,null,null,{"$f":"VLOOKUP(B3219,'(1) Project Reference Item List'!$B$2:$D$1000,3,FALSE)","v":{"$error":"#N/A"}},null,null,0,0]
[{"$f":"VLOOKUP(B3220,'(1) Project Reference Item List'!$B$2:$C$1000,2,FALSE)","v":{"$error":"#N/A"}},null,null,null,null,null,null,null,null,null,null,{"$f":"VLOOKUP(B3220,'(1) Project Reference Item List'!$B$2:$D$1000,3,FALSE)","v":{"$error":"#N/A"}},null,null,0,0]
[{"$f":"VLOOKUP(B3221,'(1) Project Reference Item List'!$B$2:$C$1000,2,FALSE)","v":{"$error":"#N/A"}},null,null,null,null,null,null,null,null,null,null,{"$f":"VLOOKUP(B3221,'(1) Project Reference Item List'!$B$2:$D$1000,3,FALSE)","v":{"$error":"#N/A"}},null,null,0,0]
[{"$f":"VLOOKUP(B3222,'(1) Project Reference Item List'!$B$2:$C$1000,2,FALSE)","v":{"$error":"#N/A"}},null,null,null,null,null,null,null,null,null,null,{"$f":"VLOOKUP(B3222,'(1) Project Reference Item List'!$B$2:$D$1000,3,FALSE)","v":{"$error":"#N/A"}},null,null,0,0]
[{"$f":"VLOOKUP(B3223,'(1) Project Reference Item List'!$B$2:$C$1000,2,FALSE)","v":{"$error":"#N/A"}},null,null,null,null,null,null,null,null,null,null,{"$f":"VLOOKUP(B3223,'(1) Project Reference Item List'!$B$2:$D$1000,3,FALSE)","v":{"$error":"#N/A"}},null,null,0,0]
[{"$f":"VLOOKUP(B3224,'(1) Project Reference Item List'!$B$2:$C$1000,2,FALSE)","v":{"$error":"#N/A"}},null,null,null,null,null,null,null,null,null,null,{"$f":"VLOOKUP(B3224,'(1) Project Reference Item List'!$B$2:$D$1000,3,FALSE)","v":{"$error":"#N/A"}},null,null,0,0]
[{"$f":"VLOOKUP(B3225,'(1) Project Reference Item List'!$B$2:$C$1000,2,FALSE)","v":{"$error":"#N/A"}},null,null,null,null,null,null,null,null,null,null,{"$f":"VLOOKUP(B3225,'(1) Project Reference Item List'!$B$2:$D$1000,3,FALSE)","v":{"$error":"#N/A"}},null,null,0,0]
[{"$f":"VLOOKUP(B3226,'(1) Project Reference Item List'!$B$2:$C$1000,2,FALSE)","v":{"$error":"#N/A"}},null,null,null,null,null,null,null,null,null,null,{"$f":"VLOOKUP(B3226,'(1) Project Reference Item List'!$B$2:$D$1000,3,FALSE)","v":{"$error":"#N/A"}},null,null,0,0]
[{"$f":"VLOOKUP(B3227,'(1) Project Reference Item List'!$B$2:$C$1000,2,FALSE)","v":{"$error":"#N/A"}},null,null,null,null,null,null,null,null,null,null,{"$f":"VLOOKUP(B3227,'(1) Project Reference Item List'!$B$2:$D$1000,3,FALSE)","v":{"$error":"#N/A"}},null,null,0,0]
[{"$f":"VLOOKUP(B3228,'(1) Project Reference Item List'!$B$2:$C$1000,2,FALSE)","v":{"$error":"#N/A"}},null,null,null,null,null,null,null,null,null,null,{"$f":"VLOOKUP(B3228,'(1) Project Reference Item List'!$B$2:$D$1000,3,FALSE)","v":{"$error":"#N/A"}},null,null,0,0]
[{"$f":"VLOOKUP(B3229,'(1) Project Reference Item List'!$B$2:$C$1000,2,FALSE)","v":{"$error":"#N/A"}},null,null,null,null,null,null,null,null,null,null,{"$f":"VLOOKUP(B3229,'(1) Project Reference Item List'!$B$2:$D$1000,3,FALSE)","v":{"$error":"#N/A"}},null,null,0,0]
[{"$f":"VLOOKUP(B3230,'(1) Project Reference Item List'!$B$2:$C$1000,2,FALSE)","v":{"$error":"#N/A"}},null,null,null,null,null,null,null,null,null,null,{"$f":"VLOOKUP(B3230,'(1) Project Reference Item List'!$B$2:$D$1000,3,FALSE)","v":{"$error":"#N/A"}},null,null,0,0]
[{"$f":"VLOOKUP(B3231,'(1) Project Reference Item List'!$B$2:$C$1000,2,FALSE)","v":{"$error":"#N/A"}},null,null,null,null,null,null,null,null,null,null,{"$f":"VLOOKUP(B3231,'(1) Project Reference Item List'!$B$2:$D$1000,3,FALSE)","v":{"$error":"#N/A"}},null,null,0,0]
[{"$f":"VLOOKUP(B3232,'(1) Project Reference Item List'!$B$2:$C$1000,2,FALSE)","v":{"$error":"#N/A"}},null,null,null,null,null,null,null,null,null,null,{"$f":"VLOOKUP(B3232,'(1) Project Reference Item List'!$B$2:$D$1000,3,FALSE)","v":{"$error":"#N/A"}},null,null,0,0]
[{"$f":"VLOOKUP(B3233,'(1) Project Reference Item List'!$B$2:$C$1000,2,FALSE)","v":{"$error":"#N/A"}},null,null,null,null,null,null,null,null,null,null,{"$f":"VLOOKUP(B3233,'(1) Project Reference Item List'!$B$2:$D$1000,3,FALSE)","v":{"$error":"#N/A"}},null,null,0,0]
[{"$f":"VLOOKUP(B3234,'(1) Project Reference Item List'!$B$2:$C$1000,2,FALSE)","v":{"$error":"#N/A"}},null,null,null,null,null,null,null,null,null,null,{"$f":"VLOOKUP(B3234,'(1) Project Reference Item List'!$B$2:$D$1000,3,FALSE)","v":{"$error":"#N/A"}},null,null,0,0]
[{"$f":"VLOOKUP(B3235,'(1) Project Reference Item List'!$B$2:$C$1000,2,FALSE)","v":{"$error":"#N/A"}},null,null,null,null,null,null,null,null,null,null,{"$f":"VLOOKUP(B3235,'(1) Project Reference Item List'!$B$2:$D$1000,3,FALSE)","v":{"$error":"#N/A"}},null,null,0,0]
[{"$f":"VLOOKUP(B3236,'(1) Project Reference Item List'!$B$2:$C$1000,2,FALSE)","v":{"$error":"#N/A"}},null,null,null,null,null,null,null,null,null,null,{"$f":"VLOOKUP(B3236,'(1) Project Reference Item List'!$B$2:$D$1000,3,FALSE)","v":{"$error":"#N/A"}},null,null,0,0]
[{"$f":"VLOOKUP(B3237,'(1) Project Reference Item List'!$B$2:$C$1000,2,FALSE)","v":{"$error":"#N/A"}},null,null,null,null,null,null,null,null,null,null,{"$f":"VLOOKUP(B3237,'(1) Project Reference Item List'!$B$2:$D$1000,3,FALSE)","v":{"$error":"#N/A"}},null,null,0,0]
[{"$f":"VLOOKUP(B3238,'(1) Project Reference Item List'!$B$2:$C$1000,2,FALSE)","v":{"$error":"#N/A"}},null,null,null,null,null,null,null,null,null,null,{"$f":"VLOOKUP(B3238,'(1) Project Reference Item List'!$B$2:$D$1000,3,FALSE)","v":{"$error":"#N/A"}},null,null,0,0]
[{"$f":"VLOOKUP(B3239,'(1) Project Reference Item List'!$B$2:$C$1000,2,FALSE)","v":{"$error":"#N/A"}},null,null,null,null,null,null,null,null,null,null,{"$f":"VLOOKUP(B3239,'(1) Project Reference Item List'!$B$2:$D$1000,3,FALSE)","v":{"$error":"#N/A"}},null,null,0,0]
[{"$f":"VLOOKUP(B3240,'(1) Project Reference Item List'!$B$2:$C$1000,2,FALSE)","v":{"$error":"#N/A"}},null,null,null,null,null,null,null,null,null,null,{"$f":"VLOOKUP(B3240,'(1) Project Reference Item List'!$B$2:$D$1000,3,FALSE)","v":{"$error":"#N/A"}},null,null,0,0]
[{"$f":"VLOOKUP(B3241,'(1) Project Reference Item List'!$B$2:$C$1000,2,FALSE)","v":{"$error":"#N/A"}},null,null,null,null,null,null,null,null,null,null,{"$f":"VLOOKUP(B3241,'(1) Project Reference Item List'!$B$2:$D$1000,3,FALSE)","v":{"$error":"#N/A"}},null,null,0,0]
[{"$f":"VLOOKUP(B3242,'(1) Project Reference Item List'!$B$2:$C$1000,2,FALSE)","v":{"$error":"#N/A"}},null,null,null,null,null,null,null,null,null,null,{"$f":"VLOOKUP(B3242,'(1) Project Reference Item List'!$B$2:$D$1000,3,FALSE)","v":{"$error":"#N/A"}},null,null,0,0]
[{"$f":"VLOOKUP(B3243,'(1) Project Reference Item List'!$B$2:$C$1000,2,FALSE)","v":{"$error":"#N/A"}},null,null,null,null,null,null,null,null,null,null,{"$f":"VLOOKUP(B3243,'(1) Project Reference Item List'!$B$2:$D$1000,3,FALSE)","v":{"$error":"#N/A"}},null,null,0,0]
[{"$f":"VLOOKUP(B3244,'(1) Project Reference Item List'!$B$2:$C$1000,2,FALSE)","v":{"$error":"#N/A"}},null,null,null,null,null,null,null,null,null,null,{"$f":"VLOOKUP(B3244,'(1) Project Reference Item List'!$B$2:$D$1000,3,FALSE)","v":{"$error":"#N/A"}},null,null,0,0]
[{"$f":"VLOOKUP(B3245,'(1) Project Reference Item List'!$B$2:$C$1000,2,FALSE)","v":{"$error":"#N/A"}},null,null,null,null,null,null,null,null,null,null,{"$f":"VLOOKUP(B3245,'(1) Project Reference Item List'!$B$2:$D$1000,3,FALSE)","v":{"$error":"#N/A"}},null,null,0,0]
[{"$f":"VLOOKUP(B3246,'(1) Project Reference Item List'!$B$2:$C$1000,2,FALSE)","v":{"$error":"#N/A"}},null,null,null,null,null,null,null,null,null,null,{"$f":"VLOOKUP(B3246,'(1) Project Reference Item List'!$B$2:$D$1000,3,FALSE)","v":{"$error":"#N/A"}},null,null,0,0]
[{"$f":"VLOOKUP(B3247,'(1) Project Reference Item List'!$B$2:$C$1000,2,FALSE)","v":{"$error":"#N/A"}},null,null,null,null,null,null,null,null,null,null,{"$f":"VLOOKUP(B3247,'(1) Project Reference Item List'!$B$2:$D$1000,3,FALSE)","v":{"$error":"#N/A"}},null,null,0,0]
[{"$f":"VLOOKUP(B3248,'(1) Project Reference Item List'!$B$2:$C$1000,2,FALSE)","v":{"$error":"#N/A"}},null,null,null,null,null,null,null,null,null,null,{"$f":"VLOOKUP(B3248,'(1) Project Reference Item List'!$B$2:$D$1000,3,FALSE)","v":{"$error":"#N/A"}},null,null,0,0]
[{"$f":"VLOOKUP(B3249,'(1) Project Reference Item List'!$B$2:$C$1000,2,FALSE)","v":{"$error":"#N/A"}},null,null,null,null,null,null,null,null,null,null,{"$f":"VLOOKUP(B3249,'(1) Project Reference Item List'!$B$2:$D$1000,3,FALSE)","v":{"$error":"#N/A"}},null,null,0,0]
[{"$f":"VLOOKUP(B3250,'(1) Project Reference Item List'!$B$2:$C$1000,2,FALSE)","v":{"$error":"#N/A"}},null,null,null,null,null,null,null,null,null,null,{"$f":"VLOOKUP(B3250,'(1) Project Reference Item List'!$B$2:$D$1000,3,FALSE)","v":{"$error":"#N/A"}},null,null,0,0]
[{"$f":"VLOOKUP(B3251,'(1) Project Reference Item List'!$B$2:$C$1000,2,FALSE)","v":{"$error":"#N/A"}},null,null,null,null,null,null,null,null,null,null,{"$f":"VLOOKUP(B3251,'(1) Project Reference Item List'!$B$2:$D$1000,3,FALSE)","v":{"$error":"#N/A"}},null,null,0,0]
[{"$f":"VLOOKUP(B3252,'(1) Project Reference Item List'!$B$2:$C$1000,2,FALSE)","v":{"$error":"#N/A"}},null,null,null,null,null,null,null,null,null,null,{"$f":"VLOOKUP(B3252,'(1) Project Reference Item List'!$B$2:$D$1000,3,FALSE)","v":{"$error":"#N/A"}},null,null,0,0]
[{"$f":"VLOOKUP(B3253,'(1) Project Reference Item List'!$B$2:$C$1000,2,FALSE)","v":{"$error":"#N/A"}},null,null,null,null,null,null,null,null,null,null,{"$f":"VLOOKUP(B3253,'(1) Project Reference Item List'!$B$2:$D$1000,3,FALSE)","v":{"$error":"#N/A"}},null,null,0,0]
[{"$f":"VLOOKUP(B3254,'(1) Project Reference Item List'!$B$2:$C$1000,2,FALSE)","v":{"$error":"#N/A"}},null,null,null,null,null,null,null,null,null,null,{"$f":"VLOOKUP(B3254,'(1) Project Reference Item List'!$B$2:$D$1000,3,FALSE)","v":{"$error":"#N/A"}},null,null,0,0]
[{"$f":"VLOOKUP(B3255,'(1) Project Reference Item List'!$B$2:$C$1000,2,FALSE)","v":{"$error":"#N/A"}},null,null,null,null,null,null,null,null,null,null,{"$f":"VLOOKUP(B3255,'(1) Project Reference Item List'!$B$2:$D$1000,3,FALSE)","v":{"$error":"#N/A"}},null,null,0,0]
[{"$f":"VLOOKUP(B3256,'(1) Project Reference Item List'!$B$2:$C$1000,2,FALSE)","v":{"$error":"#N/A"}},null,null,null,null,null,null,null,null,null,null,{"$f":"VLOOKUP(B3256,'(1) Project Reference Item List'!$B$2:$D$1000,3,FALSE)","v":{"$error":"#N/A"}},null,null,0,0]
[{"$f":"VLOOKUP(B3257,'(1) Project Reference Item List'!$B$2:$C$1000,2,FALSE)","v":{"$error":"#N/A"}},null,null,null,null,null,null,null,null,null,null,{"$f":"VLOOKUP(B3257,'(1) Project Reference Item List'!$B$2:$D$1000,3,FALSE)","v":{"$error":"#N/A"}},null,null,0,0]
[{"$f":"VLOOKUP(B3258,'(1) Project Reference Item List'!$B$2:$C$1000,2,FALSE)","v":{"$error":"#N/A"}},null,null,null,null,null,null,null,null,null,null,{"$f":"VLOOKUP(B3258,'(1) Project Reference Item List'!$B$2:$D$1000,3,FALSE)","v":{"$error":"#N/A"}},null,null,0,0]
[{"$f":"VLOOKUP(B3259,'(1) Project Reference Item List'!$B$2:$C$1000,2,FALSE)","v":{"$error":"#N/A"}},null,null,null,null,null,null,null,null,null,null,{"$f":"VLOOKUP(B3259,'(1) Project Reference Item List'!$B$2:$D$1000,3,FALSE)","v":{"$error":"#N/A"}},null,null,0,0]
[{"$f":"VLOOKUP(B3260,'(1) Project Reference Item List'!$B$2:$C$1000,2,FALSE)","v":{"$error":"#N/A"}},null,null,null,null,null,null,null,null,null,null,{"$f":"VLOOKUP(B3260,'(1) Project Reference Item List'!$B$2:$D$1000,3,FALSE)","v":{"$error":"#N/A"}},null,null,0,0]
[{"$f":"VLOOKUP(B3261,'(1) Project Reference Item List'!$B$2:$C$1000,2,FALSE)","v":{"$error":"#N/A"}},null,null,null,null,null,null,null,null,null,null,{"$f":"VLOOKUP(B3261,'(1) Project Reference Item List'!$B$2:$D$1000,3,FALSE)","v":{"$error":"#N/A"}},null,null,0,0]
[{"$f":"VLOOKUP(B3262,'(1) Project Reference Item List'!$B$2:$C$1000,2,FALSE)","v":{"$error":"#N/A"}},null,null,null,null,null,null,null,null,null,null,{"$f":"VLOOKUP(B3262,'(1) Project Reference Item List'!$B$2:$D$1000,3,FALSE)","v":{"$error":"#N/A"}},null,null,0,0]
[{"$f":"VLOOKUP(B3263,'(1) Project Reference Item List'!$B$2:$C$1000,2,FALSE)","v":{"$error":"#N/A"}},null,null,null,null,null,null,null,null,null,null,{"$f":"VLOOKUP(B3263,'(1) Project Reference Item List'!$B$2:$D$1000,3,FALSE)","v":{"$error":"#N/A"}},null,null,0,0]
[{"$f":"VLOOKUP(B3264,'(1) Project Reference Item List'!$B$2:$C$1000,2,FALSE)","v":{"$error":"#N/A"}},null,null,null,null,null,null,null,null,null,null,{"$f":"VLOOKUP(B3264,'(1) Project Reference Item List'!$B$2:$D$1000,3,FALSE)","v":{"$error":"#N/A"}},null,null,0,0]
[{"$f":"VLOOKUP(B3265,'(1) Project Reference Item List'!$B$2:$C$1000,2,FALSE)","v":{"$error":"#N/A"}},null,null,null,null,null,null,null,null,null,null,{"$f":"VLOOKUP(B3265,'(1) Project Reference Item List'!$B$2:$D$1000,3,FALSE)","v":{"$error":"#N/A"}},null,null,0,0]
[{"$f":"VLOOKUP(B3266,'(1) Project Reference Item List'!$B$2:$C$1000,2,FALSE)","v":{"$error":"#N/A"}},null,null,null,null,null,null,null,null,null,null,{"$f":"VLOOKUP(B3266,'(1) Project Reference Item List'!$B$2:$D$1000,3,FALSE)","v":{"$error":"#N/A"}},null,null,0,0]
[{"$f":"VLOOKUP(B3267,'(1) Project Reference Item List'!$B$2:$C$1000,2,FALSE)","v":{"$error":"#N/A"}},null,null,null,null,null,null,null,null,null,null,{"$f":"VLOOKUP(B3267,'(1) Project Reference Item List'!$B$2:$D$1000,3,FALSE)","v":{"$error":"#N/A"}},null,null,0,0]
[{"$f":"VLOOKUP(B3268,'(1) Project Reference Item List'!$B$2:$C$1000,2,FALSE)","v":{"$error":"#N/A"}},null,null,null,null,null,null,null,null,null,null,{"$f":"VLOOKUP(B3268,'(1) Project Reference Item List'!$B$2:$D$1000,3,FALSE)","v":{"$error":"#N/A"}},null,null,0,0]
[{"$f":"VLOOKUP(B3269,'(1) Project Reference Item List'!$B$2:$C$1000,2,FALSE)","v":{"$error":"#N/A"}},null,null,null,null,null,null,null,null,null,null,{"$f":"VLOOKUP(B3269,'(1) Project Reference Item List'!$B$2:$D$1000,3,FALSE)","v":{"$error":"#N/A"}},null,null,0,0]
[{"$f":"VLOOKUP(B3270,'(1) Project Reference Item List'!$B$2:$C$1000,2,FALSE)","v":{"$error":"#N/A"}},null,null,null,null,null,null,null,null,null,null,{"$f":"VLOOKUP(B3270,'(1) Project Reference Item List'!$B$2:$D$1000,3,FALSE)","v":{"$error":"#N/A"}},null,null,{"$f":"IF(J3270=0,J3270,J3270*N3270)","v":0},{"$f":"(M3270-O3270)","v":0}]
[{"$f":"VLOOKUP(B3271,'(1) Project Reference Item List'!$B$2:$C$1000,2,FALSE)","v":{"$error":"#N/A"}},null,null,null,null,null,null,null,null,null,null,{"$f":"VLOOKUP(B3271,'(1) Project Reference Item List'!$B$2:$D$1000,3,FALSE)","v":{"$error":"#N/A"}},null,null,0,0]
[{"$f":"VLOOKUP(B3272,'(1) Project Reference Item List'!$B$2:$C$1000,2,FALSE)","v":{"$error":"#N/A"}},null,null,null,null,null,null,null,null,null,null,{"$f":"VLOOKUP(B3272,'(1) Project Reference Item List'!$B$2:$D$1000,3,FALSE)","v":{"$error":"#N/A"}},null,null,0,0]
[{"$f":"VLOOKUP(B3273,'(1) Project Reference Item List'!$B$2:$C$1000,2,FALSE)","v":{"$error":"#N/A"}},null,null,null,null,null,null,null,null,null,null,{"$f":"VLOOKUP(B3273,'(1) Project Reference Item List'!$B$2:$D$1000,3,FALSE)","v":{"$error":"#N/A"}},null,null,0,0]
[{"$f":"VLOOKUP(B3274,'(1) Project Reference Item List'!$B$2:$C$1000,2,FALSE)","v":{"$error":"#N/A"}},null,null,null,null,null,null,null,null,null,null,{"$f":"VLOOKUP(B3274,'(1) Project Reference Item List'!$B$2:$D$1000,3,FALSE)","v":{"$error":"#N/A"}},null,null,0,0]
[{"$f":"VLOOKUP(B3275,'(1) Project Reference Item List'!$B$2:$C$1000,2,FALSE)","v":{"$error":"#N/A"}},null,null,null,null,null,null,null,null,null,null,{"$f":"VLOOKUP(B3275,'(1) Project Reference Item List'!$B$2:$D$1000,3,FALSE)","v":{"$error":"#N/A"}},null,null,0,0]
[{"$f":"VLOOKUP(B3276,'(1) Project Reference Item List'!$B$2:$C$1000,2,FALSE)","v":{"$error":"#N/A"}},null,null,null,null,null,null,null,null,null,null,{"$f":"VLOOKUP(B3276,'(1) Project Reference Item List'!$B$2:$D$1000,3,FALSE)","v":{"$error":"#N/A"}},null,null,0,0]
[{"$f":"VLOOKUP(B3277,'(1) Project Reference Item List'!$B$2:$C$1000,2,FALSE)","v":{"$error":"#N/A"}},null,null,null,null,null,null,null,null,null,null,{"$f":"VLOOKUP(B3277,'(1) Project Reference Item List'!$B$2:$D$1000,3,FALSE)","v":{"$error":"#N/A"}},null,null,0,0]
[{"$f":"VLOOKUP(B3278,'(1) Project Reference Item List'!$B$2:$C$1000,2,FALSE)","v":{"$error":"#N/A"}},null,null,null,null,null,null,null,null,null,null,{"$f":"VLOOKUP(B3278,'(1) Project Reference Item List'!$B$2:$D$1000,3,FALSE)","v":{"$error":"#N/A"}},null,null,0,0]
[{"$f":"VLOOKUP(B3279,'(1) Project Reference Item List'!$B$2:$C$1000,2,FALSE)","v":{"$error":"#N/A"}},null,null,null,null,null,null,null,null,null,null,{"$f":"VLOOKUP(B3279,'(1) Project Reference Item List'!$B$2:$D$1000,3,FALSE)","v":{"$error":"#N/A"}},null,null,0,0]
[{"$f":"VLOOKUP(B3280,'(1) Project Reference Item List'!$B$2:$C$1000,2,FALSE)","v":{"$error":"#N/A"}},null,null,null,null,null,null,null,null,null,null,{"$f":"VLOOKUP(B3280,'(1) Project Reference Item List'!$B$2:$D$1000,3,FALSE)","v":{"$error":"#N/A"}},null,null,0,0]
[{"$f":"VLOOKUP(B3281,'(1) Project Reference Item List'!$B$2:$C$1000,2,FALSE)","v":{"$error":"#N/A"}},null,null,null,null,null,null,null,null,null,null,{"$f":"VLOOKUP(B3281,'(1) Project Reference Item List'!$B$2:$D$1000,3,FALSE)","v":{"$error":"#N/A"}},null,null,0,0]
[{"$f":"VLOOKUP(B3282,'(1) Project Reference Item List'!$B$2:$C$1000,2,FALSE)","v":{"$error":"#N/A"}},null,null,null,null,null,null,null,null,null,null,{"$f":"VLOOKUP(B3282,'(1) Project Reference Item List'!$B$2:$D$1000,3,FALSE)","v":{"$error":"#N/A"}},null,null,0,0]
[{"$f":"VLOOKUP(B3283,'(1) Project Reference Item List'!$B$2:$C$1000,2,FALSE)","v":{"$error":"#N/A"}},null,null,null,null,null,null,null,null,null,null,{"$f":"VLOOKUP(B3283,'(1) Project Reference Item List'!$B$2:$D$1000,3,FALSE)","v":{"$error":"#N/A"}},null,null,0,0]
[{"$f":"VLOOKUP(B3284,'(1) Project Reference Item List'!$B$2:$C$1000,2,FALSE)","v":{"$error":"#N/A"}},null,null,null,null,null,null,null,null,null,null,{"$f":"VLOOKUP(B3284,'(1) Project Reference Item List'!$B$2:$D$1000,3,FALSE)","v":{"$error":"#N/A"}},null,null,0,0]
[{"$f":"VLOOKUP(B3285,'(1) Project Reference Item List'!$B$2:$C$1000,2,FALSE)","v":{"$error":"#N/A"}},null,null,null,null,null,null,null,null,null,null,{"$f":"VLOOKUP(B3285,'(1) Project Reference Item List'!$B$2:$D$1000,3,FALSE)","v":{"$error":"#N/A"}},null,null,0,0]
[{"$f":"VLOOKUP(B3286,'(1) Project Reference Item List'!$B$2:$C$1000,2,FALSE)","v":{"$error":"#N/A"}},null,null,null,null,null,null,null,null,null,null,{"$f":"VLOOKUP(B3286,'(1) Project Reference Item List'!$B$2:$D$1000,3,FALSE)","v":{"$error":"#N/A"}},null,null,0,0]
[{"$f":"VLOOKUP(B3287,'(1) Project Reference Item List'!$B$2:$C$1000,2,FALSE)","v":{"$error":"#N/A"}},null,null,null,null,null,null,null,null,null,null,{"$f":"VLOOKUP(B3287,'(1) Project Reference Item List'!$B$2:$D$1000,3,FALSE)","v":{"$error":"#N/A"}},null,null,0,0]
[{"$f":"VLOOKUP(B3288,'(1) Project Reference Item List'!$B$2:$C$1000,2,FALSE)","v":{"$error":"#N/A"}},null,null,null,null,null,null,null,null,null,null,{"$f":"VLOOKUP(B3288,'(1) Project Reference Item List'!$B$2:$D$1000,3,FALSE)","v":{"$error":"#N/A"}},null,null,0,0]
[{"$f":"VLOOKUP(B3289,'(1) Project Reference Item List'!$B$2:$C$1000,2,FALSE)","v":{"$error":"#N/A"}},null,null,null,null,null,null,null,null,null,null,{"$f":"VLOOKUP(B3289,'(1) Project Reference Item List'!$B$2:$D$1000,3,FALSE)","v":{"$error":"#N/A"}},null,null,0,0]
[{"$f":"VLOOKUP(B3290,'(1) Project Reference Item List'!$B$2:$C$1000,2,FALSE)","v":{"$error":"#N/A"}},null,null,null,null,null,null,null,null,null,null,{"$f":"VLOOKUP(B3290,'(1) Project Reference Item List'!$B$2:$D$1000,3,FALSE)","v":{"$error":"#N/A"}},null,null,0,0]
[{"$f":"VLOOKUP(B3291,'(1) Project Reference Item List'!$B$2:$C$1000,2,FALSE)","v":{"$error":"#N/A"}},null,null,null,null,null,null,null,null,null,null,{"$f":"VLOOKUP(B3291,'(1) Project Reference Item List'!$B$2:$D$1000,3,FALSE)","v":{"$error":"#N/A"}},null,null,0,0]
[{"$f":"VLOOKUP(B3292,'(1) Project Reference Item List'!$B$2:$C$1000,2,FALSE)","v":{"$error":"#N/A"}},null,null,null,null,null,null,null,null,null,null,{"$f":"VLOOKUP(B3292,'(1) Project Reference Item List'!$B$2:$D$1000,3,FALSE)","v":{"$error":"#N/A"}},null,null,0,0]
[{"$f":"VLOOKUP(B3293,'(1) Project Reference Item List'!$B$2:$C$1000,2,FALSE)","v":{"$error":"#N/A"}},null,null,null,null,null,null,null,null,null,null,{"$f":"VLOOKUP(B3293,'(1) Project Reference Item List'!$B$2:$D$1000,3,FALSE)","v":{"$error":"#N/A"}},null,null,0,0]
[{"$f":"VLOOKUP(B3294,'(1) Project Reference Item List'!$B$2:$C$1000,2,FALSE)","v":{"$error":"#N/A"}},null,null,null,null,null,null,null,null,null,null,{"$f":"VLOOKUP(B3294,'(1) Project Reference Item List'!$B$2:$D$1000,3,FALSE)","v":{"$error":"#N/A"}},null,null,0,0]
[{"$f":"VLOOKUP(B3295,'(1) Project Reference Item List'!$B$2:$C$1000,2,FALSE)","v":{"$error":"#N/A"}},null,null,null,null,null,null,null,null,null,null,{"$f":"VLOOKUP(B3295,'(1) Project Reference Item List'!$B$2:$D$1000,3,FALSE)","v":{"$error":"#N/A"}},null,null,0,0]
[{"$f":"VLOOKUP(B3296,'(1) Project Reference Item List'!$B$2:$C$1000,2,FALSE)","v":{"$error":"#N/A"}},null,null,null,null,null,null,null,null,null,null,{"$f":"VLOOKUP(B3296,'(1) Project Reference Item List'!$B$2:$D$1000,3,FALSE)","v":{"$error":"#N/A"}},null,null,0,0]
[{"$f":"VLOOKUP(B3297,'(1) Project Reference Item List'!$B$2:$C$1000,2,FALSE)","v":{"$error":"#N/A"}},null,null,null,null,null,null,null,null,null,null,{"$f":"VLOOKUP(B3297,'(1) Project Reference Item List'!$B$2:$D$1000,3,FALSE)","v":{"$error":"#N/A"}},null,null,0,0]
[{"$f":"VLOOKUP(B3298,'(1) Project Reference Item List'!$B$2:$C$1000,2,FALSE)","v":{"$error":"#N/A"}},null,null,null,null,null,null,null,null,null,null,{"$f":"VLOOKUP(B3298,'(1) Project Reference Item List'!$B$2:$D$1000,3,FALSE)","v":{"$error":"#N/A"}},null,null,0,0]
[{"$f":"VLOOKUP(B3299,'(1) Project Reference Item List'!$B$2:$C$1000,2,FALSE)","v":{"$error":"#N/A"}},null,null,null,null,null,null,null,null,null,null,{"$f":"VLOOKUP(B3299,'(1) Project Reference Item List'!$B$2:$D$1000,3,FALSE)","v":{"$error":"#N/A"}},null,null,0,0]
[{"$f":"VLOOKUP(B3300,'(1) Project Reference Item List'!$B$2:$C$1000,2,FALSE)","v":{"$error":"#N/A"}},null,null,null,null,null,null,null,null,null,null,{"$f":"VLOOKUP(B3300,'(1) Project Reference Item List'!$B$2:$D$1000,3,FALSE)","v":{"$error":"#N/A"}},null,null,0,0]
[{"$f":"VLOOKUP(B3301,'(1) Project Reference Item List'!$B$2:$C$1000,2,FALSE)","v":{"$error":"#N/A"}},null,null,null,null,null,null,null,null,null,null,{"$f":"VLOOKUP(B3301,'(1) Project Reference Item List'!$B$2:$D$1000,3,FALSE)","v":{"$error":"#N/A"}},null,null,0,0]
[{"$f":"VLOOKUP(B3302,'(1) Project Reference Item List'!$B$2:$C$1000,2,FALSE)","v":{"$error":"#N/A"}},null,null,null,null,null,null,null,null,null,null,{"$f":"VLOOKUP(B3302,'(1) Project Reference Item List'!$B$2:$D$1000,3,FALSE)","v":{"$error":"#N/A"}},null,null,0,0]
[{"$f":"VLOOKUP(B3303,'(1) Project Reference Item List'!$B$2:$C$1000,2,FALSE)","v":{"$error":"#N/A"}},null,null,null,null,null,null,null,null,null,null,{"$f":"VLOOKUP(B3303,'(1) Project Reference Item List'!$B$2:$D$1000,3,FALSE)","v":{"$error":"#N/A"}},null,null,0,0]
[{"$f":"VLOOKUP(B3304,'(1) Project Reference Item List'!$B$2:$C$1000,2,FALSE)","v":{"$error":"#N/A"}},null,null,null,null,null,null,null,null,null,null,{"$f":"VLOOKUP(B3304,'(1) Project Reference Item List'!$B$2:$D$1000,3,FALSE)","v":{"$error":"#N/A"}},null,null,0,0]
[{"$f":"VLOOKUP(B3305,'(1) Project Reference Item List'!$B$2:$C$1000,2,FALSE)","v":{"$error":"#N/A"}},null,null,null,null,null,null,null,null,null,null,{"$f":"VLOOKUP(B3305,'(1) Project Reference Item List'!$B$2:$D$1000,3,FALSE)","v":{"$error":"#N/A"}},null,null,0,0]
[{"$f":"VLOOKUP(B3306,'(1) Project Reference Item List'!$B$2:$C$1000,2,FALSE)","v":{"$error":"#N/A"}},null,null,null,null,null,null,null,null,null,null,{"$f":"VLOOKUP(B3306,'(1) Project Reference Item List'!$B$2:$D$1000,3,FALSE)","v":{"$error":"#N/A"}},null,null,0,0]
[{"$f":"VLOOKUP(B3307,'(1) Project Reference Item List'!$B$2:$C$1000,2,FALSE)","v":{"$error":"#N/A"}},null,null,null,null,null,null,null,null,null,null,{"$f":"VLOOKUP(B3307,'(1) Project Reference Item List'!$B$2:$D$1000,3,FALSE)","v":{"$error":"#N/A"}},null,null,0,0]
[{"$f":"VLOOKUP(B3308,'(1) Project Reference Item List'!$B$2:$C$1000,2,FALSE)","v":{"$error":"#N/A"}},null,null,null,null,null,null,null,null,null,null,{"$f":"VLOOKUP(B3308,'(1) Project Reference Item List'!$B$2:$D$1000,3,FALSE)","v":{"$error":"#N/A"}},null,null,0,0]
[{"$f":"VLOOKUP(B3309,'(1) Project Reference Item List'!$B$2:$C$1000,2,FALSE)","v":{"$error":"#N/A"}},null,null,null,null,null,null,null,null,null,null,{"$f":"VLOOKUP(B3309,'(1) Project Reference Item List'!$B$2:$D$1000,3,FALSE)","v":{"$error":"#N/A"}},null,null,0,0]
[{"$f":"VLOOKUP(B3310,'(1) Project Reference Item List'!$B$2:$C$1000,2,FALSE)","v":{"$error":"#N/A"}},null,null,null,null,null,null,null,null,null,null,{"$f":"VLOOKUP(B3310,'(1) Project Reference Item List'!$B$2:$D$1000,3,FALSE)","v":{"$error":"#N/A"}},null,null,0,0]
[{"$f":"VLOOKUP(B3311,'(1) Project Reference Item List'!$B$2:$C$1000,2,FALSE)","v":{"$error":"#N/A"}},null,null,null,null,null,null,null,null,null,null,{"$f":"VLOOKUP(B3311,'(1) Project Reference Item List'!$B$2:$D$1000,3,FALSE)","v":{"$error":"#N/A"}},null,null,0,0]
[{"$f":"VLOOKUP(B3312,'(1) Project Reference Item List'!$B$2:$C$1000,2,FALSE)","v":{"$error":"#N/A"}},null,null,null,null,null,null,null,null,null,null,{"$f":"VLOOKUP(B3312,'(1) Project Reference Item List'!$B$2:$D$1000,3,FALSE)","v":{"$error":"#N/A"}},null,null,0,0]
[{"$f":"VLOOKUP(B3313,'(1) Project Reference Item List'!$B$2:$C$1000,2,FALSE)","v":{"$error":"#N/A"}},null,null,null,null,null,null,null,null,null,null,{"$f":"VLOOKUP(B3313,'(1) Project Reference Item List'!$B$2:$D$1000,3,FALSE)","v":{"$error":"#N/A"}},null,null,0,0]
[{"$f":"VLOOKUP(B3314,'(1) Project Reference Item List'!$B$2:$C$1000,2,FALSE)","v":{"$error":"#N/A"}},null,null,null,null,null,null,null,null,null,null,{"$f":"VLOOKUP(B3314,'(1) Project Reference Item List'!$B$2:$D$1000,3,FALSE)","v":{"$error":"#N/A"}},null,null,0,0]
[{"$f":"VLOOKUP(B3315,'(1) Project Reference Item List'!$B$2:$C$1000,2,FALSE)","v":{"$error":"#N/A"}},null,null,null,null,null,null,null,null,null,null,{"$f":"VLOOKUP(B3315,'(1) Project Reference Item List'!$B$2:$D$1000,3,FALSE)","v":{"$error":"#N/A"}},null,null,0,0]
[{"$f":"VLOOKUP(B3316,'(1) Project Reference Item List'!$B$2:$C$1000,2,FALSE)","v":{"$error":"#N/A"}},null,null,null,null,null,null,null,null,null,null,{"$f":"VLOOKUP(B3316,'(1) Project Reference Item List'!$B$2:$D$1000,3,FALSE)","v":{"$error":"#N/A"}},null,null,0,0]
[{"$f":"VLOOKUP(B3317,'(1) Project Reference Item List'!$B$2:$C$1000,2,FALSE)","v":{"$error":"#N/A"}},null,null,null,null,null,null,null,null,null,null,{"$f":"VLOOKUP(B3317,'(1) Project Reference Item List'!$B$2:$D$1000,3,FALSE)","v":{"$error":"#N/A"}},null,null,0,0]
[{"$f":"VLOOKUP(B3318,'(1) Project Reference Item List'!$B$2:$C$1000,2,FALSE)","v":{"$error":"#N/A"}},null,null,null,null,null,null,null,null,null,null,{"$f":"VLOOKUP(B3318,'(1) Project Reference Item List'!$B$2:$D$1000,3,FALSE)","v":{"$error":"#N/A"}},null,null,0,0]
[{"$f":"VLOOKUP(B3319,'(1) Project Reference Item List'!$B$2:$C$1000,2,FALSE)","v":{"$error":"#N/A"}},null,null,null,null,null,null,null,null,null,null,{"$f":"VLOOKUP(B3319,'(1) Project Reference Item List'!$B$2:$D$1000,3,FALSE)","v":{"$error":"#N/A"}},null,null,0,0]
[{"$f":"VLOOKUP(B3320,'(1) Project Reference Item List'!$B$2:$C$1000,2,FALSE)","v":{"$error":"#N/A"}},null,null,null,null,null,null,null,null,null,null,{"$f":"VLOOKUP(B3320,'(1) Project Reference Item List'!$B$2:$D$1000,3,FALSE)","v":{"$error":"#N/A"}},null,null,0,0]
[{"$f":"VLOOKUP(B3321,'(1) Project Reference Item List'!$B$2:$C$1000,2,FALSE)","v":{"$error":"#N/A"}},null,null,null,null,null,null,null,null,null,null,{"$f":"VLOOKUP(B3321,'(1) Project Reference Item List'!$B$2:$D$1000,3,FALSE)","v":{"$error":"#N/A"}},null,null,0,0]
[{"$f":"VLOOKUP(B3322,'(1) Project Reference Item List'!$B$2:$C$1000,2,FALSE)","v":{"$error":"#N/A"}},null,null,null,null,null,null,null,null,null,null,{"$f":"VLOOKUP(B3322,'(1) Project Reference Item List'!$B$2:$D$1000,3,FALSE)","v":{"$error":"#N/A"}},null,null,0,0]
[{"$f":"VLOOKUP(B3323,'(1) Project Reference Item List'!$B$2:$C$1000,2,FALSE)","v":{"$error":"#N/A"}},null,null,null,null,null,null,null,null,null,null,{"$f":"VLOOKUP(B3323,'(1) Project Reference Item List'!$B$2:$D$1000,3,FALSE)","v":{"$error":"#N/A"}},null,null,0,0]
[{"$f":"VLOOKUP(B3324,'(1) Project Reference Item List'!$B$2:$C$1000,2,FALSE)","v":{"$error":"#N/A"}},null,null,null,null,null,null,null,null,null,null,{"$f":"VLOOKUP(B3324,'(1) Project Reference Item List'!$B$2:$D$1000,3,FALSE)","v":{"$error":"#N/A"}},null,null,0,0]
[{"$f":"VLOOKUP(B3325,'(1) Project Reference Item List'!$B$2:$C$1000,2,FALSE)","v":{"$error":"#N/A"}},null,null,null,null,null,null,null,null,null,null,{"$f":"VLOOKUP(B3325,'(1) Project Reference Item List'!$B$2:$D$1000,3,FALSE)","v":{"$error":"#N/A"}},null,null,0,0]
[{"$f":"VLOOKUP(B3326,'(1) Project Reference Item List'!$B$2:$C$1000,2,FALSE)","v":{"$error":"#N/A"}},null,null,null,null,null,null,null,null,null,null,{"$f":"VLOOKUP(B3326,'(1) Project Reference Item List'!$B$2:$D$1000,3,FALSE)","v":{"$error":"#N/A"}},null,null,0,0]
[{"$f":"VLOOKUP(B3327,'(1) Project Reference Item List'!$B$2:$C$1000,2,FALSE)","v":{"$error":"#N/A"}},null,null,null,null,null,null,null,null,null,null,{"$f":"VLOOKUP(B3327,'(1) Project Reference Item List'!$B$2:$D$1000,3,FALSE)","v":{"$error":"#N/A"}},null,null,0,0]
[{"$f":"VLOOKUP(B3328,'(1) Project Reference Item List'!$B$2:$C$1000,2,FALSE)","v":{"$error":"#N/A"}},null,null,null,null,null,null,null,null,null,null,{"$f":"VLOOKUP(B3328,'(1) Project Reference Item List'!$B$2:$D$1000,3,FALSE)","v":{"$error":"#N/A"}},null,null,0,0]
[{"$f":"VLOOKUP(B3329,'(1) Project Reference Item List'!$B$2:$C$1000,2,FALSE)","v":{"$error":"#N/A"}},null,null,null,null,null,null,null,null,null,null,{"$f":"VLOOKUP(B3329,'(1) Project Reference Item List'!$B$2:$D$1000,3,FALSE)","v":{"$error":"#N/A"}},null,null,0,0]
[{"$f":"VLOOKUP(B3330,'(1) Project Reference Item List'!$B$2:$C$1000,2,FALSE)","v":{"$error":"#N/A"}},null,null,null,null,null,null,null,null,null,null,{"$f":"VLOOKUP(B3330,'(1) Project Reference Item List'!$B$2:$D$1000,3,FALSE)","v":{"$error":"#N/A"}},null,null,0,0]
[{"$f":"VLOOKUP(B3331,'(1) Project Reference Item List'!$B$2:$C$1000,2,FALSE)","v":{"$error":"#N/A"}},null,null,null,null,null,null,null,null,null,null,{"$f":"VLOOKUP(B3331,'(1) Project Reference Item List'!$B$2:$D$1000,3,FALSE)","v":{"$error":"#N/A"}},null,null,0,0]
[{"$f":"VLOOKUP(B3332,'(1) Project Reference Item List'!$B$2:$C$1000,2,FALSE)","v":{"$error":"#N/A"}},null,null,null,null,null,null,null,null,null,null,{"$f":"VLOOKUP(B3332,'(1) Project Reference Item List'!$B$2:$D$1000,3,FALSE)","v":{"$error":"#N/A"}},null,null,0,0]
[{"$f":"VLOOKUP(B3333,'(1) Project Reference Item List'!$B$2:$C$1000,2,FALSE)","v":{"$error":"#N/A"}},null,null,null,null,null,null,null,null,null,null,{"$f":"VLOOKUP(B3333,'(1) Project Reference Item List'!$B$2:$D$1000,3,FALSE)","v":{"$error":"#N/A"}},null,null,0,0]
[{"$f":"VLOOKUP(B3334,'(1) Project Reference Item List'!$B$2:$C$1000,2,FALSE)","v":{"$error":"#N/A"}},null,null,null,null,null,null,null,null,null,null,{"$f":"VLOOKUP(B3334,'(1) Project Reference Item List'!$B$2:$D$1000,3,FALSE)","v":{"$error":"#N/A"}},null,null,{"$f":"IF(J3334=0,J3334,J3334*N3334)","v":0},{"$f":"(M3334-O3334)","v":0}]
[{"$f":"VLOOKUP(B3335,'(1) Project Reference Item List'!$B$2:$C$1000,2,FALSE)","v":{"$error":"#N/A"}},null,null,null,null,null,null,null,null,null,null,{"$f":"VLOOKUP(B3335,'(1) Project Reference Item List'!$B$2:$D$1000,3,FALSE)","v":{"$error":"#N/A"}},null,null,0,0]
[{"$f":"VLOOKUP(B3336,'(1) Project Reference Item List'!$B$2:$C$1000,2,FALSE)","v":{"$error":"#N/A"}},null,null,null,null,null,null,null,null,null,null,{"$f":"VLOOKUP(B3336,'(1) Project Reference Item List'!$B$2:$D$1000,3,FALSE)","v":{"$error":"#N/A"}},null,null,0,0]
[{"$f":"VLOOKUP(B3337,'(1) Project Reference Item List'!$B$2:$C$1000,2,FALSE)","v":{"$error":"#N/A"}},null,null,null,null,null,null,null,null,null,null,{"$f":"VLOOKUP(B3337,'(1) Project Reference Item List'!$B$2:$D$1000,3,FALSE)","v":{"$error":"#N/A"}},null,null,0,0]
[{"$f":"VLOOKUP(B3338,'(1) Project Reference Item List'!$B$2:$C$1000,2,FALSE)","v":{"$error":"#N/A"}},null,null,null,null,null,null,null,null,null,null,{"$f":"VLOOKUP(B3338,'(1) Project Reference Item List'!$B$2:$D$1000,3,FALSE)","v":{"$error":"#N/A"}},null,null,0,0]
[{"$f":"VLOOKUP(B3339,'(1) Project Reference Item List'!$B$2:$C$1000,2,FALSE)","v":{"$error":"#N/A"}},null,null,null,null,null,null,null,null,null,null,{"$f":"VLOOKUP(B3339,'(1) Project Reference Item List'!$B$2:$D$1000,3,FALSE)","v":{"$error":"#N/A"}},null,null,0,0]
[{"$f":"VLOOKUP(B3340,'(1) Project Reference Item List'!$B$2:$C$1000,2,FALSE)","v":{"$error":"#N/A"}},null,null,null,null,null,null,null,null,null,null,{"$f":"VLOOKUP(B3340,'(1) Project Reference Item List'!$B$2:$D$1000,3,FALSE)","v":{"$error":"#N/A"}},null,null,0,0]
[{"$f":"VLOOKUP(B3341,'(1) Project Reference Item List'!$B$2:$C$1000,2,FALSE)","v":{"$error":"#N/A"}},null,null,null,null,null,null,null,null,null,null,{"$f":"VLOOKUP(B3341,'(1) Project Reference Item List'!$B$2:$D$1000,3,FALSE)","v":{"$error":"#N/A"}},null,null,0,0]
[{"$f":"VLOOKUP(B3342,'(1) Project Reference Item List'!$B$2:$C$1000,2,FALSE)","v":{"$error":"#N/A"}},null,null,null,null,null,null,null,null,null,null,{"$f":"VLOOKUP(B3342,'(1) Project Reference Item List'!$B$2:$D$1000,3,FALSE)","v":{"$error":"#N/A"}},null,null,0,0]
[{"$f":"VLOOKUP(B3343,'(1) Project Reference Item List'!$B$2:$C$1000,2,FALSE)","v":{"$error":"#N/A"}},null,null,null,null,null,null,null,null,null,null,{"$f":"VLOOKUP(B3343,'(1) Project Reference Item List'!$B$2:$D$1000,3,FALSE)","v":{"$error":"#N/A"}},null,null,0,0]
[{"$f":"VLOOKUP(B3344,'(1) Project Reference Item List'!$B$2:$C$1000,2,FALSE)","v":{"$error":"#N/A"}},null,null,null,null,null,null,null,null,null,null,{"$f":"VLOOKUP(B3344,'(1) Project Reference Item List'!$B$2:$D$1000,3,FALSE)","v":{"$error":"#N/A"}},null,null,0,0]
[{"$f":"VLOOKUP(B3345,'(1) Project Reference Item List'!$B$2:$C$1000,2,FALSE)","v":{"$error":"#N/A"}},null,null,null,null,null,null,null,null,null,null,{"$f":"VLOOKUP(B3345,'(1) Project Reference Item List'!$B$2:$D$1000,3,FALSE)","v":{"$error":"#N/A"}},null,null,0,0]
[{"$f":"VLOOKUP(B3346,'(1) Project Reference Item List'!$B$2:$C$1000,2,FALSE)","v":{"$error":"#N/A"}},null,null,null,null,null,null,null,null,null,null,{"$f":"VLOOKUP(B3346,'(1) Project Reference Item List'!$B$2:$D$1000,3,FALSE)","v":{"$error":"#N/A"}},null,null,0,0]
[{"$f":"VLOOKUP(B3347,'(1) Project Reference Item List'!$B$2:$C$1000,2,FALSE)","v":{"$error":"#N/A"}},null,null,null,null,null,null,null,null,null,null,{"$f":"VLOOKUP(B3347,'(1) Project Reference Item List'!$B$2:$D$1000,3,FALSE)","v":{"$error":"#N/A"}},null,null,0,0]
[{"$f":"VLOOKUP(B3348,'(1) Project Reference Item List'!$B$2:$C$1000,2,FALSE)","v":{"$error":"#N/A"}},null,null,null,null,null,null,null,null,null,null,{"$f":"VLOOKUP(B3348,'(1) Project Reference Item List'!$B$2:$D$1000,3,FALSE)","v":{"$error":"#N/A"}},null,null,0,0]
[{"$f":"VLOOKUP(B3349,'(1) Project Reference Item List'!$B$2:$C$1000,2,FALSE)","v":{"$error":"#N/A"}},null,null,null,null,null,null,null,null,null,null,{"$f":"VLOOKUP(B3349,'(1) Project Reference Item List'!$B$2:$D$1000,3,FALSE)","v":{"$error":"#N/A"}},null,null,0,0]
[{"$f":"VLOOKUP(B3350,'(1) Project Reference Item List'!$B$2:$C$1000,2,FALSE)","v":{"$error":"#N/A"}},null,null,null,null,null,null,null,null,null,null,{"$f":"VLOOKUP(B3350,'(1) Project Reference Item List'!$B$2:$D$1000,3,FALSE)","v":{"$error":"#N/A"}},null,null,0,0]
[{"$f":"VLOOKUP(B3351,'(1) Project Reference Item List'!$B$2:$C$1000,2,FALSE)","v":{"$error":"#N/A"}},null,null,null,null,null,null,null,null,null,null,{"$f":"VLOOKUP(B3351,'(1) Project Reference Item List'!$B$2:$D$1000,3,FALSE)","v":{"$error":"#N/A"}},null,null,0,0]
[{"$f":"VLOOKUP(B3352,'(1) Project Reference Item List'!$B$2:$C$1000,2,FALSE)","v":{"$error":"#N/A"}},null,null,null,null,null,null,null,null,null,null,{"$f":"VLOOKUP(B3352,'(1) Project Reference Item List'!$B$2:$D$1000,3,FALSE)","v":{"$error":"#N/A"}},null,null,0,0]
[{"$f":"VLOOKUP(B3353,'(1) Project Reference Item List'!$B$2:$C$1000,2,FALSE)","v":{"$error":"#N/A"}},null,null,null,null,null,null,null,null,null,null,{"$f":"VLOOKUP(B3353,'(1) Project Reference Item List'!$B$2:$D$1000,3,FALSE)","v":{"$error":"#N/A"}},null,null,0,0]
[{"$f":"VLOOKUP(B3354,'(1) Project Reference Item List'!$B$2:$C$1000,2,FALSE)","v":{"$error":"#N/A"}},null,null,null,null,null,null,null,null,null,null,{"$f":"VLOOKUP(B3354,'(1) Project Reference Item List'!$B$2:$D$1000,3,FALSE)","v":{"$error":"#N/A"}},null,null,0,0]
[{"$f":"VLOOKUP(B3355,'(1) Project Reference Item List'!$B$2:$C$1000,2,FALSE)","v":{"$error":"#N/A"}},null,null,null,null,null,null,null,null,null,null,{"$f":"VLOOKUP(B3355,'(1) Project Reference Item List'!$B$2:$D$1000,3,FALSE)","v":{"$error":"#N/A"}},null,null,0,0]
[{"$f":"VLOOKUP(B3356,'(1) Project Reference Item List'!$B$2:$C$1000,2,FALSE)","v":{"$error":"#N/A"}},null,null,null,null,null,null,null,null,null,null,{"$f":"VLOOKUP(B3356,'(1) Project Reference Item List'!$B$2:$D$1000,3,FALSE)","v":{"$error":"#N/A"}},null,null,0,0]
[{"$f":"VLOOKUP(B3357,'(1) Project Reference Item List'!$B$2:$C$1000,2,FALSE)","v":{"$error":"#N/A"}},null,null,null,null,null,null,null,null,null,null,{"$f":"VLOOKUP(B3357,'(1) Project Reference Item List'!$B$2:$D$1000,3,FALSE)","v":{"$error":"#N/A"}},null,null,0,0]
[{"$f":"VLOOKUP(B3358,'(1) Project Reference Item List'!$B$2:$C$1000,2,FALSE)","v":{"$error":"#N/A"}},null,null,null,null,null,null,null,null,null,null,{"$f":"VLOOKUP(B3358,'(1) Project Reference Item List'!$B$2:$D$1000,3,FALSE)","v":{"$error":"#N/A"}},null,null,0,0]
[{"$f":"VLOOKUP(B3359,'(1) Project Reference Item List'!$B$2:$C$1000,2,FALSE)","v":{"$error":"#N/A"}},null,null,null,null,null,null,null,null,null,null,{"$f":"VLOOKUP(B3359,'(1) Project Reference Item List'!$B$2:$D$1000,3,FALSE)","v":{"$error":"#N/A"}},null,null,0,0]
[{"$f":"VLOOKUP(B3360,'(1) Project Reference Item List'!$B$2:$C$1000,2,FALSE)","v":{"$error":"#N/A"}},null,null,null,null,null,null,null,null,null,null,{"$f":"VLOOKUP(B3360,'(1) Project Reference Item List'!$B$2:$D$1000,3,FALSE)","v":{"$error":"#N/A"}},null,null,0,0]
[{"$f":"VLOOKUP(B3361,'(1) Project Reference Item List'!$B$2:$C$1000,2,FALSE)","v":{"$error":"#N/A"}},null,null,null,null,null,null,null,null,null,null,{"$f":"VLOOKUP(B3361,'(1) Project Reference Item List'!$B$2:$D$1000,3,FALSE)","v":{"$error":"#N/A"}},null,null,0,0]
[{"$f":"VLOOKUP(B3362,'(1) Project Reference Item List'!$B$2:$C$1000,2,FALSE)","v":{"$error":"#N/A"}},null,null,null,null,null,null,null,null,null,null,{"$f":"VLOOKUP(B3362,'(1) Project Reference Item List'!$B$2:$D$1000,3,FALSE)","v":{"$error":"#N/A"}},null,null,0,0]
[{"$f":"VLOOKUP(B3363,'(1) Project Reference Item List'!$B$2:$C$1000,2,FALSE)","v":{"$error":"#N/A"}},null,null,null,null,null,null,null,null,null,null,{"$f":"VLOOKUP(B3363,'(1) Project Reference Item List'!$B$2:$D$1000,3,FALSE)","v":{"$error":"#N/A"}},null,null,0,0]
[{"$f":"VLOOKUP(B3364,'(1) Project Reference Item List'!$B$2:$C$1000,2,FALSE)","v":{"$error":"#N/A"}},null,null,null,null,null,null,null,null,null,null,{"$f":"VLOOKUP(B3364,'(1) Project Reference Item List'!$B$2:$D$1000,3,FALSE)","v":{"$error":"#N/A"}},null,null,0,0]
[{"$f":"VLOOKUP(B3365,'(1) Project Reference Item List'!$B$2:$C$1000,2,FALSE)","v":{"$error":"#N/A"}},null,null,null,null,null,null,null,null,null,null,{"$f":"VLOOKUP(B3365,'(1) Project Reference Item List'!$B$2:$D$1000,3,FALSE)","v":{"$error":"#N/A"}},null,null,0,0]
[{"$f":"VLOOKUP(B3366,'(1) Project Reference Item List'!$B$2:$C$1000,2,FALSE)","v":{"$error":"#N/A"}},null,null,null,null,null,null,null,null,null,null,{"$f":"VLOOKUP(B3366,'(1) Project Reference Item List'!$B$2:$D$1000,3,FALSE)","v":{"$error":"#N/A"}},null,null,0,0]
[{"$f":"VLOOKUP(B3367,'(1) Project Reference Item List'!$B$2:$C$1000,2,FALSE)","v":{"$error":"#N/A"}},null,null,null,null,null,null,null,null,null,null,{"$f":"VLOOKUP(B3367,'(1) Project Reference Item List'!$B$2:$D$1000,3,FALSE)","v":{"$error":"#N/A"}},null,null,0,0]
[{"$f":"VLOOKUP(B3368,'(1) Project Reference Item List'!$B$2:$C$1000,2,FALSE)","v":{"$error":"#N/A"}},null,null,null,null,null,null,null,null,null,null,{"$f":"VLOOKUP(B3368,'(1) Project Reference Item List'!$B$2:$D$1000,3,FALSE)","v":{"$error":"#N/A"}},null,null,0,0]
[{"$f":"VLOOKUP(B3369,'(1) Project Reference Item List'!$B$2:$C$1000,2,FALSE)","v":{"$error":"#N/A"}},null,null,null,null,null,null,null,null,null,null,{"$f":"VLOOKUP(B3369,'(1) Project Reference Item List'!$B$2:$D$1000,3,FALSE)","v":{"$error":"#N/A"}},null,null,0,0]
[{"$f":"VLOOKUP(B3370,'(1) Project Reference Item List'!$B$2:$C$1000,2,FALSE)","v":{"$error":"#N/A"}},null,null,null,null,null,null,null,null,null,null,{"$f":"VLOOKUP(B3370,'(1) Project Reference Item List'!$B$2:$D$1000,3,FALSE)","v":{"$error":"#N/A"}},null,null,0,0]
[{"$f":"VLOOKUP(B3371,'(1) Project Reference Item List'!$B$2:$C$1000,2,FALSE)","v":{"$error":"#N/A"}},null,null,null,null,null,null,null,null,null,null,{"$f":"VLOOKUP(B3371,'(1) Project Reference Item List'!$B$2:$D$1000,3,FALSE)","v":{"$error":"#N/A"}},null,null,0,0]
[{"$f":"VLOOKUP(B3372,'(1) Project Reference Item List'!$B$2:$C$1000,2,FALSE)","v":{"$error":"#N/A"}},null,null,null,null,null,null,null,null,null,null,{"$f":"VLOOKUP(B3372,'(1) Project Reference Item List'!$B$2:$D$1000,3,FALSE)","v":{"$error":"#N/A"}},null,null,0,0]
[{"$f":"VLOOKUP(B3373,'(1) Project Reference Item List'!$B$2:$C$1000,2,FALSE)","v":{"$error":"#N/A"}},null,null,null,null,null,null,null,null,null,null,{"$f":"VLOOKUP(B3373,'(1) Project Reference Item List'!$B$2:$D$1000,3,FALSE)","v":{"$error":"#N/A"}},null,null,0,0]
[{"$f":"VLOOKUP(B3374,'(1) Project Reference Item List'!$B$2:$C$1000,2,FALSE)","v":{"$error":"#N/A"}},null,null,null,null,null,null,null,null,null,null,{"$f":"VLOOKUP(B3374,'(1) Project Reference Item List'!$B$2:$D$1000,3,FALSE)","v":{"$error":"#N/A"}},null,null,0,0]
[{"$f":"VLOOKUP(B3375,'(1) Project Reference Item List'!$B$2:$C$1000,2,FALSE)","v":{"$error":"#N/A"}},null,null,null,null,null,null,null,null,null,null,{"$f":"VLOOKUP(B3375,'(1) Project Reference Item List'!$B$2:$D$1000,3,FALSE)","v":{"$error":"#N/A"}},null,null,0,0]
[{"$f":"VLOOKUP(B3376,'(1) Project Reference Item List'!$B$2:$C$1000,2,FALSE)","v":{"$error":"#N/A"}},null,null,null,null,null,null,null,null,null,null,{"$f":"VLOOKUP(B3376,'(1) Project Reference Item List'!$B$2:$D$1000,3,FALSE)","v":{"$error":"#N/A"}},null,null,0,0]
[{"$f":"VLOOKUP(B3377,'(1) Project Reference Item List'!$B$2:$C$1000,2,FALSE)","v":{"$error":"#N/A"}},null,null,null,null,null,null,null,null,null,null,{"$f":"VLOOKUP(B3377,'(1) Project Reference Item List'!$B$2:$D$1000,3,FALSE)","v":{"$error":"#N/A"}},null,null,0,0]
[{"$f":"VLOOKUP(B3378,'(1) Project Reference Item List'!$B$2:$C$1000,2,FALSE)","v":{"$error":"#N/A"}},null,null,null,null,null,null,null,null,null,null,{"$f":"VLOOKUP(B3378,'(1) Project Reference Item List'!$B$2:$D$1000,3,FALSE)","v":{"$error":"#N/A"}},null,null,0,0]
[{"$f":"VLOOKUP(B3379,'(1) Project Reference Item List'!$B$2:$C$1000,2,FALSE)","v":{"$error":"#N/A"}},null,null,null,null,null,null,null,null,null,null,{"$f":"VLOOKUP(B3379,'(1) Project Reference Item List'!$B$2:$D$1000,3,FALSE)","v":{"$error":"#N/A"}},null,null,0,0]
[{"$f":"VLOOKUP(B3380,'(1) Project Reference Item List'!$B$2:$C$1000,2,FALSE)","v":{"$error":"#N/A"}},null,null,null,null,null,null,null,null,null,null,{"$f":"VLOOKUP(B3380,'(1) Project Reference Item List'!$B$2:$D$1000,3,FALSE)","v":{"$error":"#N/A"}},null,null,0,0]
[{"$f":"VLOOKUP(B3381,'(1) Project Reference Item List'!$B$2:$C$1000,2,FALSE)","v":{"$error":"#N/A"}},null,null,null,null,null,null,null,null,null,null,{"$f":"VLOOKUP(B3381,'(1) Project Reference Item List'!$B$2:$D$1000,3,FALSE)","v":{"$error":"#N/A"}},null,null,0,0]
[{"$f":"VLOOKUP(B3382,'(1) Project Reference Item List'!$B$2:$C$1000,2,FALSE)","v":{"$error":"#N/A"}},null,null,null,null,null,null,null,null,null,null,{"$f":"VLOOKUP(B3382,'(1) Project Reference Item List'!$B$2:$D$1000,3,FALSE)","v":{"$error":"#N/A"}},null,null,0,0]
[{"$f":"VLOOKUP(B3383,'(1) Project Reference Item List'!$B$2:$C$1000,2,FALSE)","v":{"$error":"#N/A"}},null,null,null,null,null,null,null,null,null,null,{"$f":"VLOOKUP(B3383,'(1) Project Reference Item List'!$B$2:$D$1000,3,FALSE)","v":{"$error":"#N/A"}},null,null,0,0]
[{"$f":"VLOOKUP(B3384,'(1) Project Reference Item List'!$B$2:$C$1000,2,FALSE)","v":{"$error":"#N/A"}},null,null,null,null,null,null,null,null,null,null,{"$f":"VLOOKUP(B3384,'(1) Project Reference Item List'!$B$2:$D$1000,3,FALSE)","v":{"$error":"#N/A"}},null,null,0,0]
[{"$f":"VLOOKUP(B3385,'(1) Project Reference Item List'!$B$2:$C$1000,2,FALSE)","v":{"$error":"#N/A"}},null,null,null,null,null,null,null,null,null,null,{"$f":"VLOOKUP(B3385,'(1) Project Reference Item List'!$B$2:$D$1000,3,FALSE)","v":{"$error":"#N/A"}},null,null,0,0]
[{"$f":"VLOOKUP(B3386,'(1) Project Reference Item List'!$B$2:$C$1000,2,FALSE)","v":{"$error":"#N/A"}},null,null,null,null,null,null,null,null,null,null,{"$f":"VLOOKUP(B3386,'(1) Project Reference Item List'!$B$2:$D$1000,3,FALSE)","v":{"$error":"#N/A"}},null,null,0,0]
[{"$f":"VLOOKUP(B3387,'(1) Project Reference Item List'!$B$2:$C$1000,2,FALSE)","v":{"$error":"#N/A"}},null,null,null,null,null,null,null,null,null,null,{"$f":"VLOOKUP(B3387,'(1) Project Reference Item List'!$B$2:$D$1000,3,FALSE)","v":{"$error":"#N/A"}},null,null,0,0]
[{"$f":"VLOOKUP(B3388,'(1) Project Reference Item List'!$B$2:$C$1000,2,FALSE)","v":{"$error":"#N/A"}},null,null,null,null,null,null,null,null,null,null,{"$f":"VLOOKUP(B3388,'(1) Project Reference Item List'!$B$2:$D$1000,3,FALSE)","v":{"$error":"#N/A"}},null,null,0,0]
[{"$f":"VLOOKUP(B3389,'(1) Project Reference Item List'!$B$2:$C$1000,2,FALSE)","v":{"$error":"#N/A"}},null,null,null,null,null,null,null,null,null,null,{"$f":"VLOOKUP(B3389,'(1) Project Reference Item List'!$B$2:$D$1000,3,FALSE)","v":{"$error":"#N/A"}},null,null,0,0]
[{"$f":"VLOOKUP(B3390,'(1) Project Reference Item List'!$B$2:$C$1000,2,FALSE)","v":{"$error":"#N/A"}},null,null,null,null,null,null,null,null,null,null,{"$f":"VLOOKUP(B3390,'(1) Project Reference Item List'!$B$2:$D$1000,3,FALSE)","v":{"$error":"#N/A"}},null,null,0,0]
[{"$f":"VLOOKUP(B3391,'(1) Project Reference Item List'!$B$2:$C$1000,2,FALSE)","v":{"$error":"#N/A"}},null,null,null,null,null,null,null,null,null,null,{"$f":"VLOOKUP(B3391,'(1) Project Reference Item List'!$B$2:$D$1000,3,FALSE)","v":{"$error":"#N/A"}},null,null,0,0]
[{"$f":"VLOOKUP(B3392,'(1) Project Reference Item List'!$B$2:$C$1000,2,FALSE)","v":{"$error":"#N/A"}},null,null,null,null,null,null,null,null,null,null,{"$f":"VLOOKUP(B3392,'(1) Project Reference Item List'!$B$2:$D$1000,3,FALSE)","v":{"$error":"#N/A"}},null,null,0,0]
[{"$f":"VLOOKUP(B3393,'(1) Project Reference Item List'!$B$2:$C$1000,2,FALSE)","v":{"$error":"#N/A"}},null,null,null,null,null,null,null,null,null,null,{"$f":"VLOOKUP(B3393,'(1) Project Reference Item List'!$B$2:$D$1000,3,FALSE)","v":{"$error":"#N/A"}},null,null,0,0]
[{"$f":"VLOOKUP(B3394,'(1) Project Reference Item List'!$B$2:$C$1000,2,FALSE)","v":{"$error":"#N/A"}},null,null,null,null,null,null,null,null,null,null,{"$f":"VLOOKUP(B3394,'(1) Project Reference Item List'!$B$2:$D$1000,3,FALSE)","v":{"$error":"#N/A"}},null,null,0,0]
[{"$f":"VLOOKUP(B3395,'(1) Project Reference Item List'!$B$2:$C$1000,2,FALSE)","v":{"$error":"#N/A"}},null,null,null,null,null,null,null,null,null,null,{"$f":"VLOOKUP(B3395,'(1) Project Reference Item List'!$B$2:$D$1000,3,FALSE)","v":{"$error":"#N/A"}},null,null,0,0]
[{"$f":"VLOOKUP(B3396,'(1) Project Reference Item List'!$B$2:$C$1000,2,FALSE)","v":{"$error":"#N/A"}},null,null,null,null,null,null,null,null,null,null,{"$f":"VLOOKUP(B3396,'(1) Project Reference Item List'!$B$2:$D$1000,3,FALSE)","v":{"$error":"#N/A"}},null,null,0,0]
[{"$f":"VLOOKUP(B3397,'(1) Project Reference Item List'!$B$2:$C$1000,2,FALSE)","v":{"$error":"#N/A"}},null,null,null,null,null,null,null,null,null,null,{"$f":"VLOOKUP(B3397,'(1) Project Reference Item List'!$B$2:$D$1000,3,FALSE)","v":{"$error":"#N/A"}},null,null,0,0]
[{"$f":"VLOOKUP(B3398,'(1) Project Reference Item List'!$B$2:$C$1000,2,FALSE)","v":{"$error":"#N/A"}},null,null,null,null,null,null,null,null,null,null,{"$f":"VLOOKUP(B3398,'(1) Project Reference Item List'!$B$2:$D$1000,3,FALSE)","v":{"$error":"#N/A"}},null,null,{"$f":"IF(J3398=0,J3398,J3398*N3398)","v":0},{"$f":"(M3398-O3398)","v":0}]
[{"$f":"VLOOKUP(B3399,'(1) Project Reference Item List'!$B$2:$C$1000,2,FALSE)","v":{"$error":"#N/A"}},null,null,null,null,null,null,null,null,null,null,{"$f":"VLOOKUP(B3399,'(1) Project Reference Item List'!$B$2:$D$1000,3,FALSE)","v":{"$error":"#N/A"}},null,null,0,0]
[{"$f":"VLOOKUP(B3400,'(1) Project Reference Item List'!$B$2:$C$1000,2,FALSE)","v":{"$error":"#N/A"}},null,null,null,null,null,null,null,null,null,null,{"$f":"VLOOKUP(B3400,'(1) Project Reference Item List'!$B$2:$D$1000,3,FALSE)","v":{"$error":"#N/A"}},null,null,0,0]
[{"$f":"VLOOKUP(B3401,'(1) Project Reference Item List'!$B$2:$C$1000,2,FALSE)","v":{"$error":"#N/A"}},null,null,null,null,null,null,null,null,null,null,{"$f":"VLOOKUP(B3401,'(1) Project Reference Item List'!$B$2:$D$1000,3,FALSE)","v":{"$error":"#N/A"}},null,null,0,0]
[{"$f":"VLOOKUP(B3402,'(1) Project Reference Item List'!$B$2:$C$1000,2,FALSE)","v":{"$error":"#N/A"}},null,null,null,null,null,null,null,null,null,null,{"$f":"VLOOKUP(B3402,'(1) Project Reference Item List'!$B$2:$D$1000,3,FALSE)","v":{"$error":"#N/A"}},null,null,0,0]
[{"$f":"VLOOKUP(B3403,'(1) Project Reference Item List'!$B$2:$C$1000,2,FALSE)","v":{"$error":"#N/A"}},null,null,null,null,null,null,null,null,null,null,{"$f":"VLOOKUP(B3403,'(1) Project Reference Item List'!$B$2:$D$1000,3,FALSE)","v":{"$error":"#N/A"}},null,null,0,0]
[{"$f":"VLOOKUP(B3404,'(1) Project Reference Item List'!$B$2:$C$1000,2,FALSE)","v":{"$error":"#N/A"}},null,null,null,null,null,null,null,null,null,null,{"$f":"VLOOKUP(B3404,'(1) Project Reference Item List'!$B$2:$D$1000,3,FALSE)","v":{"$error":"#N/A"}},null,null,0,0]
[{"$f":"VLOOKUP(B3405,'(1) Project Reference Item List'!$B$2:$C$1000,2,FALSE)","v":{"$error":"#N/A"}},null,null,null,null,null,null,null,null,null,null,{"$f":"VLOOKUP(B3405,'(1) Project Reference Item List'!$B$2:$D$1000,3,FALSE)","v":{"$error":"#N/A"}},null,null,0,0]
[{"$f":"VLOOKUP(B3406,'(1) Project Reference Item List'!$B$2:$C$1000,2,FALSE)","v":{"$error":"#N/A"}},null,null,null,null,null,null,null,null,null,null,{"$f":"VLOOKUP(B3406,'(1) Project Reference Item List'!$B$2:$D$1000,3,FALSE)","v":{"$error":"#N/A"}},null,null,0,0]
[{"$f":"VLOOKUP(B3407,'(1) Project Reference Item List'!$B$2:$C$1000,2,FALSE)","v":{"$error":"#N/A"}},null,null,null,null,null,null,null,null,null,null,{"$f":"VLOOKUP(B3407,'(1) Project Reference Item List'!$B$2:$D$1000,3,FALSE)","v":{"$error":"#N/A"}},null,null,0,0]
[{"$f":"VLOOKUP(B3408,'(1) Project Reference Item List'!$B$2:$C$1000,2,FALSE)","v":{"$error":"#N/A"}},null,null,null,null,null,null,null,null,null,null,{"$f":"VLOOKUP(B3408,'(1) Project Reference Item List'!$B$2:$D$1000,3,FALSE)","v":{"$error":"#N/A"}},null,null,0,0]
[{"$f":"VLOOKUP(B3409,'(1) Project Reference Item List'!$B$2:$C$1000,2,FALSE)","v":{"$error":"#N/A"}},null,null,null,null,null,null,null,null,null,null,{"$f":"VLOOKUP(B3409,'(1) Project Reference Item List'!$B$2:$D$1000,3,FALSE)","v":{"$error":"#N/A"}},null,null,0,0]
[{"$f":"VLOOKUP(B3410,'(1) Project Reference Item List'!$B$2:$C$1000,2,FALSE)","v":{"$error":"#N/A"}},null,null,null,null,null,null,null,null,null,null,{"$f":"VLOOKUP(B3410,'(1) Project Reference Item List'!$B$2:$D$1000,3,FALSE)","v":{"$error":"#N/A"}},null,null,0,0]
[{"$f":"VLOOKUP(B3411,'(1) Project Reference Item List'!$B$2:$C$1000,2,FALSE)","v":{"$error":"#N/A"}},null,null,null,null,null,null,null,null,null,null,{"$f":"VLOOKUP(B3411,'(1) Project Reference Item List'!$B$2:$D$1000,3,FALSE)","v":{"$error":"#N/A"}},null,null,0,0]
[{"$f":"VLOOKUP(B3412,'(1) Project Reference Item List'!$B$2:$C$1000,2,FALSE)","v":{"$error":"#N/A"}},null,null,null,null,null,null,null,null,null,null,{"$f":"VLOOKUP(B3412,'(1) Project Reference Item List'!$B$2:$D$1000,3,FALSE)","v":{"$error":"#N/A"}},null,null,0,0]
[{"$f":"VLOOKUP(B3413,'(1) Project Reference Item List'!$B$2:$C$1000,2,FALSE)","v":{"$error":"#N/A"}},null,null,null,null,null,null,null,null,null,null,{"$f":"VLOOKUP(B3413,'(1) Project Reference Item List'!$B$2:$D$1000,3,FALSE)","v":{"$error":"#N/A"}},null,null,0,0]
[{"$f":"VLOOKUP(B3414,'(1) Project Reference Item List'!$B$2:$C$1000,2,FALSE)","v":{"$error":"#N/A"}},null,null,null,null,null,null,null,null,null,null,{"$f":"VLOOKUP(B3414,'(1) Project Reference Item List'!$B$2:$D$1000,3,FALSE)","v":{"$error":"#N/A"}},null,null,0,0]
[{"$f":"VLOOKUP(B3415,'(1) Project Reference Item List'!$B$2:$C$1000,2,FALSE)","v":{"$error":"#N/A"}},null,null,null,null,null,null,null,null,null,null,{"$f":"VLOOKUP(B3415,'(1) Project Reference Item List'!$B$2:$D$1000,3,FALSE)","v":{"$error":"#N/A"}},null,null,0,0]
[{"$f":"VLOOKUP(B3416,'(1) Project Reference Item List'!$B$2:$C$1000,2,FALSE)","v":{"$error":"#N/A"}},null,null,null,null,null,null,null,null,null,null,{"$f":"VLOOKUP(B3416,'(1) Project Reference Item List'!$B$2:$D$1000,3,FALSE)","v":{"$error":"#N/A"}},null,null,0,0]
[{"$f":"VLOOKUP(B3417,'(1) Project Reference Item List'!$B$2:$C$1000,2,FALSE)","v":{"$error":"#N/A"}},null,null,null,null,null,null,null,null,null,null,{"$f":"VLOOKUP(B3417,'(1) Project Reference Item List'!$B$2:$D$1000,3,FALSE)","v":{"$error":"#N/A"}},null,null,0,0]
[{"$f":"VLOOKUP(B3418,'(1) Project Reference Item List'!$B$2:$C$1000,2,FALSE)","v":{"$error":"#N/A"}},null,null,null,null,null,null,null,null,null,null,{"$f":"VLOOKUP(B3418,'(1) Project Reference Item List'!$B$2:$D$1000,3,FALSE)","v":{"$error":"#N/A"}},null,null,0,0]
[{"$f":"VLOOKUP(B3419,'(1) Project Reference Item List'!$B$2:$C$1000,2,FALSE)","v":{"$error":"#N/A"}},null,null,null,null,null,null,null,null,null,null,{"$f":"VLOOKUP(B3419,'(1) Project Reference Item List'!$B$2:$D$1000,3,FALSE)","v":{"$error":"#N/A"}},null,null,0,0]
[{"$f":"VLOOKUP(B3420,'(1) Project Reference Item List'!$B$2:$C$1000,2,FALSE)","v":{"$error":"#N/A"}},null,null,null,null,null,null,null,null,null,null,{"$f":"VLOOKUP(B3420,'(1) Project Reference Item List'!$B$2:$D$1000,3,FALSE)","v":{"$error":"#N/A"}},null,null,0,0]
[{"$f":"VLOOKUP(B3421,'(1) Project Reference Item List'!$B$2:$C$1000,2,FALSE)","v":{"$error":"#N/A"}},null,null,null,null,null,null,null,null,null,null,{"$f":"VLOOKUP(B3421,'(1) Project Reference Item List'!$B$2:$D$1000,3,FALSE)","v":{"$error":"#N/A"}},null,null,0,0]
[{"$f":"VLOOKUP(B3422,'(1) Project Reference Item List'!$B$2:$C$1000,2,FALSE)","v":{"$error":"#N/A"}},null,null,null,null,null,null,null,null,null,null,{"$f":"VLOOKUP(B3422,'(1) Project Reference Item List'!$B$2:$D$1000,3,FALSE)","v":{"$error":"#N/A"}},null,null,0,0]
[{"$f":"VLOOKUP(B3423,'(1) Project Reference Item List'!$B$2:$C$1000,2,FALSE)","v":{"$error":"#N/A"}},null,null,null,null,null,null,null,null,null,null,{"$f":"VLOOKUP(B3423,'(1) Project Reference Item List'!$B$2:$D$1000,3,FALSE)","v":{"$error":"#N/A"}},null,null,0,0]
[{"$f":"VLOOKUP(B3424,'(1) Project Reference Item List'!$B$2:$C$1000,2,FALSE)","v":{"$error":"#N/A"}},null,null,null,null,null,null,null,null,null,null,{"$f":"VLOOKUP(B3424,'(1) Project Reference Item List'!$B$2:$D$1000,3,FALSE)","v":{"$error":"#N/A"}},null,null,0,0]
[{"$f":"VLOOKUP(B3425,'(1) Project Reference Item List'!$B$2:$C$1000,2,FALSE)","v":{"$error":"#N/A"}},null,null,null,null,null,null,null,null,null,null,{"$f":"VLOOKUP(B3425,'(1) Project Reference Item List'!$B$2:$D$1000,3,FALSE)","v":{"$error":"#N/A"}},null,null,0,0]
[{"$f":"VLOOKUP(B3426,'(1) Project Reference Item List'!$B$2:$C$1000,2,FALSE)","v":{"$error":"#N/A"}},null,null,null,null,null,null,null,null,null,null,{"$f":"VLOOKUP(B3426,'(1) Project Reference Item List'!$B$2:$D$1000,3,FALSE)","v":{"$error":"#N/A"}},null,null,0,0]
[{"$f":"VLOOKUP(B3427,'(1) Project Reference Item List'!$B$2:$C$1000,2,FALSE)","v":{"$error":"#N/A"}},null,null,null,null,null,null,null,null,null,null,{"$f":"VLOOKUP(B3427,'(1) Project Reference Item List'!$B$2:$D$1000,3,FALSE)","v":{"$error":"#N/A"}},null,null,0,0]
[{"$f":"VLOOKUP(B3428,'(1) Project Reference Item List'!$B$2:$C$1000,2,FALSE)","v":{"$error":"#N/A"}},null,null,null,null,null,null,null,null,null,null,{"$f":"VLOOKUP(B3428,'(1) Project Reference Item List'!$B$2:$D$1000,3,FALSE)","v":{"$error":"#N/A"}},null,null,0,0]
[{"$f":"VLOOKUP(B3429,'(1) Project Reference Item List'!$B$2:$C$1000,2,FALSE)","v":{"$error":"#N/A"}},null,null,null,null,null,null,null,null,null,null,{"$f":"VLOOKUP(B3429,'(1) Project Reference Item List'!$B$2:$D$1000,3,FALSE)","v":{"$error":"#N/A"}},null,null,0,0]
[{"$f":"VLOOKUP(B3430,'(1) Project Reference Item List'!$B$2:$C$1000,2,FALSE)","v":{"$error":"#N/A"}},null,null,null,null,null,null,null,null,null,null,{"$f":"VLOOKUP(B3430,'(1) Project Reference Item List'!$B$2:$D$1000,3,FALSE)","v":{"$error":"#N/A"}},null,null,0,0]
[{"$f":"VLOOKUP(B3431,'(1) Project Reference Item List'!$B$2:$C$1000,2,FALSE)","v":{"$error":"#N/A"}},null,null,null,null,null,null,null,null,null,null,{"$f":"VLOOKUP(B3431,'(1) Project Reference Item List'!$B$2:$D$1000,3,FALSE)","v":{"$error":"#N/A"}},null,null,0,0]
[{"$f":"VLOOKUP(B3432,'(1) Project Reference Item List'!$B$2:$C$1000,2,FALSE)","v":{"$error":"#N/A"}},null,null,null,null,null,null,null,null,null,null,{"$f":"VLOOKUP(B3432,'(1) Project Reference Item List'!$B$2:$D$1000,3,FALSE)","v":{"$error":"#N/A"}},null,null,0,0]
[{"$f":"VLOOKUP(B3433,'(1) Project Reference Item List'!$B$2:$C$1000,2,FALSE)","v":{"$error":"#N/A"}},null,null,null,null,null,null,null,null,null,null,{"$f":"VLOOKUP(B3433,'(1) Project Reference Item List'!$B$2:$D$1000,3,FALSE)","v":{"$error":"#N/A"}},null,null,0,0]
[{"$f":"VLOOKUP(B3434,'(1) Project Reference Item List'!$B$2:$C$1000,2,FALSE)","v":{"$error":"#N/A"}},null,null,null,null,null,null,null,null,null,null,{"$f":"VLOOKUP(B3434,'(1) Project Reference Item List'!$B$2:$D$1000,3,FALSE)","v":{"$error":"#N/A"}},null,null,0,0]
[{"$f":"VLOOKUP(B3435,'(1) Project Reference Item List'!$B$2:$C$1000,2,FALSE)","v":{"$error":"#N/A"}},null,null,null,null,null,null,null,null,null,null,{"$f":"VLOOKUP(B3435,'(1) Project Reference Item List'!$B$2:$D$1000,3,FALSE)","v":{"$error":"#N/A"}},null,null,0,0]
[{"$f":"VLOOKUP(B3436,'(1) Project Reference Item List'!$B$2:$C$1000,2,FALSE)","v":{"$error":"#N/A"}},null,null,null,null,null,null,null,null,null,null,{"$f":"VLOOKUP(B3436,'(1) Project Reference Item List'!$B$2:$D$1000,3,FALSE)","v":{"$error":"#N/A"}},null,null,0,0]
[{"$f":"VLOOKUP(B3437,'(1) Project Reference Item List'!$B$2:$C$1000,2,FALSE)","v":{"$error":"#N/A"}},null,null,null,null,null,null,null,null,null,null,{"$f":"VLOOKUP(B3437,'(1) Project Reference Item List'!$B$2:$D$1000,3,FALSE)","v":{"$error":"#N/A"}},null,null,0,0]
[{"$f":"VLOOKUP(B3438,'(1) Project Reference Item List'!$B$2:$C$1000,2,FALSE)","v":{"$error":"#N/A"}},null,null,null,null,null,null,null,null,null,null,{"$f":"VLOOKUP(B3438,'(1) Project Reference Item List'!$B$2:$D$1000,3,FALSE)","v":{"$error":"#N/A"}},null,null,0,0]
[{"$f":"VLOOKUP(B3439,'(1) Project Reference Item List'!$B$2:$C$1000,2,FALSE)","v":{"$error":"#N/A"}},null,null,null,null,null,null,null,null,null,null,{"$f":"VLOOKUP(B3439,'(1) Project Reference Item List'!$B$2:$D$1000,3,FALSE)","v":{"$error":"#N/A"}},null,null,0,0]
[{"$f":"VLOOKUP(B3440,'(1) Project Reference Item List'!$B$2:$C$1000,2,FALSE)","v":{"$error":"#N/A"}},null,null,null,null,null,null,null,null,null,null,{"$f":"VLOOKUP(B3440,'(1) Project Reference Item List'!$B$2:$D$1000,3,FALSE)","v":{"$error":"#N/A"}},null,null,0,0]
[{"$f":"VLOOKUP(B3441,'(1) Project Reference Item List'!$B$2:$C$1000,2,FALSE)","v":{"$error":"#N/A"}},null,null,null,null,null,null,null,null,null,null,{"$f":"VLOOKUP(B3441,'(1) Project Reference Item List'!$B$2:$D$1000,3,FALSE)","v":{"$error":"#N/A"}},null,null,0,0]
[{"$f":"VLOOKUP(B3442,'(1) Project Reference Item List'!$B$2:$C$1000,2,FALSE)","v":{"$error":"#N/A"}},null,null,null,null,null,null,null,null,null,null,{"$f":"VLOOKUP(B3442,'(1) Project Reference Item List'!$B$2:$D$1000,3,FALSE)","v":{"$error":"#N/A"}},null,null,0,0]
[{"$f":"VLOOKUP(B3443,'(1) Project Reference Item List'!$B$2:$C$1000,2,FALSE)","v":{"$error":"#N/A"}},null,null,null,null,null,null,null,null,null,null,{"$f":"VLOOKUP(B3443,'(1) Project Reference Item List'!$B$2:$D$1000,3,FALSE)","v":{"$error":"#N/A"}},null,null,0,0]
[{"$f":"VLOOKUP(B3444,'(1) Project Reference Item List'!$B$2:$C$1000,2,FALSE)","v":{"$error":"#N/A"}},null,null,null,null,null,null,null,null,null,null,{"$f":"VLOOKUP(B3444,'(1) Project Reference Item List'!$B$2:$D$1000,3,FALSE)","v":{"$error":"#N/A"}},null,null,0,0]
[{"$f":"VLOOKUP(B3445,'(1) Project Reference Item List'!$B$2:$C$1000,2,FALSE)","v":{"$error":"#N/A"}},null,null,null,null,null,null,null,null,null,null,{"$f":"VLOOKUP(B3445,'(1) Project Reference Item List'!$B$2:$D$1000,3,FALSE)","v":{"$error":"#N/A"}},null,null,0,0]
[{"$f":"VLOOKUP(B3446,'(1) Project Reference Item List'!$B$2:$C$1000,2,FALSE)","v":{"$error":"#N/A"}},null,null,null,null,null,null,null,null,null,null,{"$f":"VLOOKUP(B3446,'(1) Project Reference Item List'!$B$2:$D$1000,3,FALSE)","v":{"$error":"#N/A"}},null,null,0,0]
[{"$f":"VLOOKUP(B3447,'(1) Project Reference Item List'!$B$2:$C$1000,2,FALSE)","v":{"$error":"#N/A"}},null,null,null,null,null,null,null,null,null,null,{"$f":"VLOOKUP(B3447,'(1) Project Reference Item List'!$B$2:$D$1000,3,FALSE)","v":{"$error":"#N/A"}},null,null,0,0]
[{"$f":"VLOOKUP(B3448,'(1) Project Reference Item List'!$B$2:$C$1000,2,FALSE)","v":{"$error":"#N/A"}},null,null,null,null,null,null,null,null,null,null,{"$f":"VLOOKUP(B3448,'(1) Project Reference Item List'!$B$2:$D$1000,3,FALSE)","v":{"$error":"#N/A"}},null,null,0,0]
[{"$f":"VLOOKUP(B3449,'(1) Project Reference Item List'!$B$2:$C$1000,2,FALSE)","v":{"$error":"#N/A"}},null,null,null,null,null,null,null,null,null,null,{"$f":"VLOOKUP(B3449,'(1) Project Reference Item List'!$B$2:$D$1000,3,FALSE)","v":{"$error":"#N/A"}},null,null,0,0]
[{"$f":"VLOOKUP(B3450,'(1) Project Reference Item List'!$B$2:$C$1000,2,FALSE)","v":{"$error":"#N/A"}},null,null,null,null,null,null,null,null,null,null,{"$f":"VLOOKUP(B3450,'(1) Project Reference Item List'!$B$2:$D$1000,3,FALSE)","v":{"$error":"#N/A"}},null,null,0,0]
[{"$f":"VLOOKUP(B3451,'(1) Project Reference Item List'!$B$2:$C$1000,2,FALSE)","v":{"$error":"#N/A"}},null,null,null,null,null,null,null,null,null,null,{"$f":"VLOOKUP(B3451,'(1) Project Reference Item List'!$B$2:$D$1000,3,FALSE)","v":{"$error":"#N/A"}},null,null,0,0]
[{"$f":"VLOOKUP(B3452,'(1) Project Reference Item List'!$B$2:$C$1000,2,FALSE)","v":{"$error":"#N/A"}},null,null,null,null,null,null,null,null,null,null,{"$f":"VLOOKUP(B3452,'(1) Project Reference Item List'!$B$2:$D$1000,3,FALSE)","v":{"$error":"#N/A"}},null,null,0,0]
[{"$f":"VLOOKUP(B3453,'(1) Project Reference Item List'!$B$2:$C$1000,2,FALSE)","v":{"$error":"#N/A"}},null,null,null,null,null,null,null,null,null,null,{"$f":"VLOOKUP(B3453,'(1) Project Reference Item List'!$B$2:$D$1000,3,FALSE)","v":{"$error":"#N/A"}},null,null,0,0]
[{"$f":"VLOOKUP(B3454,'(1) Project Reference Item List'!$B$2:$C$1000,2,FALSE)","v":{"$error":"#N/A"}},null,null,null,null,null,null,null,null,null,null,{"$f":"VLOOKUP(B3454,'(1) Project Reference Item List'!$B$2:$D$1000,3,FALSE)","v":{"$error":"#N/A"}},null,null,0,0]
[{"$f":"VLOOKUP(B3455,'(1) Project Reference Item List'!$B$2:$C$1000,2,FALSE)","v":{"$error":"#N/A"}},null,null,null,null,null,null,null,null,null,null,{"$f":"VLOOKUP(B3455,'(1) Project Reference Item List'!$B$2:$D$1000,3,FALSE)","v":{"$error":"#N/A"}},null,null,0,0]
[{"$f":"VLOOKUP(B3456,'(1) Project Reference Item List'!$B$2:$C$1000,2,FALSE)","v":{"$error":"#N/A"}},null,null,null,null,null,null,null,null,null,null,{"$f":"VLOOKUP(B3456,'(1) Project Reference Item List'!$B$2:$D$1000,3,FALSE)","v":{"$error":"#N/A"}},null,null,0,0]
[{"$f":"VLOOKUP(B3457,'(1) Project Reference Item List'!$B$2:$C$1000,2,FALSE)","v":{"$error":"#N/A"}},null,null,null,null,null,null,null,null,null,null,{"$f":"VLOOKUP(B3457,'(1) Project Reference Item List'!$B$2:$D$1000,3,FALSE)","v":{"$error":"#N/A"}},null,null,0,0]
[{"$f":"VLOOKUP(B3458,'(1) Project Reference Item List'!$B$2:$C$1000,2,FALSE)","v":{"$error":"#N/A"}},null,null,null,null,null,null,null,null,null,null,{"$f":"VLOOKUP(B3458,'(1) Project Reference Item List'!$B$2:$D$1000,3,FALSE)","v":{"$error":"#N/A"}},null,null,0,0]
[{"$f":"VLOOKUP(B3459,'(1) Project Reference Item List'!$B$2:$C$1000,2,FALSE)","v":{"$error":"#N/A"}},null,null,null,null,null,null,null,null,null,null,{"$f":"VLOOKUP(B3459,'(1) Project Reference Item List'!$B$2:$D$1000,3,FALSE)","v":{"$error":"#N/A"}},null,null,0,0]
[{"$f":"VLOOKUP(B3460,'(1) Project Reference Item List'!$B$2:$C$1000,2,FALSE)","v":{"$error":"#N/A"}},null,null,null,null,null,null,null,null,null,null,{"$f":"VLOOKUP(B3460,'(1) Project Reference Item List'!$B$2:$D$1000,3,FALSE)","v":{"$error":"#N/A"}},null,null,0,0]
[{"$f":"VLOOKUP(B3461,'(1) Project Reference Item List'!$B$2:$C$1000,2,FALSE)","v":{"$error":"#N/A"}},null,null,null,null,null,null,null,null,null,null,{"$f":"VLOOKUP(B3461,'(1) Project Reference Item List'!$B$2:$D$1000,3,FALSE)","v":{"$error":"#N/A"}},null,null,0,0]
[{"$f":"VLOOKUP(B3462,'(1) Project Reference Item List'!$B$2:$C$1000,2,FALSE)","v":{"$error":"#N/A"}},null,null,null,null,null,null,null,null,null,null,{"$f":"VLOOKUP(B3462,'(1) Project Reference Item List'!$B$2:$D$1000,3,FALSE)","v":{"$error":"#N/A"}},null,null,{"$f":"IF(J3462=0,J3462,J3462*N3462)","v":0},{"$f":"(M3462-O3462)","v":0}]
[{"$f":"VLOOKUP(B3463,'(1) Project Reference Item List'!$B$2:$C$1000,2,FALSE)","v":{"$error":"#N/A"}},null,null,null,null,null,null,null,null,null,null,{"$f":"VLOOKUP(B3463,'(1) Project Reference Item List'!$B$2:$D$1000,3,FALSE)","v":{"$error":"#N/A"}},null,null,0,0]
[{"$f":"VLOOKUP(B3464,'(1) Project Reference Item List'!$B$2:$C$1000,2,FALSE)","v":{"$error":"#N/A"}},null,null,null,null,null,null,null,null,null,null,{"$f":"VLOOKUP(B3464,'(1) Project Reference Item List'!$B$2:$D$1000,3,FALSE)","v":{"$error":"#N/A"}},null,null,0,0]
[{"$f":"VLOOKUP(B3465,'(1) Project Reference Item List'!$B$2:$C$1000,2,FALSE)","v":{"$error":"#N/A"}},null,null,null,null,null,null,null,null,null,null,{"$f":"VLOOKUP(B3465,'(1) Project Reference Item List'!$B$2:$D$1000,3,FALSE)","v":{"$error":"#N/A"}},null,null,0,0]
[{"$f":"VLOOKUP(B3466,'(1) Project Reference Item List'!$B$2:$C$1000,2,FALSE)","v":{"$error":"#N/A"}},null,null,null,null,null,null,null,null,null,null,{"$f":"VLOOKUP(B3466,'(1) Project Reference Item List'!$B$2:$D$1000,3,FALSE)","v":{"$error":"#N/A"}},null,null,0,0]
[{"$f":"VLOOKUP(B3467,'(1) Project Reference Item List'!$B$2:$C$1000,2,FALSE)","v":{"$error":"#N/A"}},null,null,null,null,null,null,null,null,null,null,{"$f":"VLOOKUP(B3467,'(1) Project Reference Item List'!$B$2:$D$1000,3,FALSE)","v":{"$error":"#N/A"}},null,null,0,0]
[{"$f":"VLOOKUP(B3468,'(1) Project Reference Item List'!$B$2:$C$1000,2,FALSE)","v":{"$error":"#N/A"}},null,null,null,null,null,null,null,null,null,null,{"$f":"VLOOKUP(B3468,'(1) Project Reference Item List'!$B$2:$D$1000,3,FALSE)","v":{"$error":"#N/A"}},null,null,0,0]
[{"$f":"VLOOKUP(B3469,'(1) Project Reference Item List'!$B$2:$C$1000,2,FALSE)","v":{"$error":"#N/A"}},null,null,null,null,null,null,null,null,null,null,{"$f":"VLOOKUP(B3469,'(1) Project Reference Item List'!$B$2:$D$1000,3,FALSE)","v":{"$error":"#N/A"}},null,null,0,0]
[{"$f":"VLOOKUP(B3470,'(1) Project Reference Item List'!$B$2:$C$1000,2,FALSE)","v":{"$error":"#N/A"}},null,null,null,null,null,null,null,null,null,null,{"$f":"VLOOKUP(B3470,'(1) Project Reference Item List'!$B$2:$D$1000,3,FALSE)","v":{"$error":"#N/A"}},null,null,0,0]
[{"$f":"VLOOKUP(B3471,'(1) Project Reference Item List'!$B$2:$C$1000,2,FALSE)","v":{"$error":"#N/A"}},null,null,null,null,null,null,null,null,null,null,{"$f":"VLOOKUP(B3471,'(1) Project Reference Item List'!$B$2:$D$1000,3,FALSE)","v":{"$error":"#N/A"}},null,null,0,0]
[{"$f":"VLOOKUP(B3472,'(1) Project Reference Item List'!$B$2:$C$1000,2,FALSE)","v":{"$error":"#N/A"}},null,null,null,null,null,null,null,null,null,null,{"$f":"VLOOKUP(B3472,'(1) Project Reference Item List'!$B$2:$D$1000,3,FALSE)","v":{"$error":"#N/A"}},null,null,0,0]
[{"$f":"VLOOKUP(B3473,'(1) Project Reference Item List'!$B$2:$C$1000,2,FALSE)","v":{"$error":"#N/A"}},null,null,null,null,null,null,null,null,null,null,{"$f":"VLOOKUP(B3473,'(1) Project Reference Item List'!$B$2:$D$1000,3,FALSE)","v":{"$error":"#N/A"}},null,null,0,0]
[{"$f":"VLOOKUP(B3474,'(1) Project Reference Item List'!$B$2:$C$1000,2,FALSE)","v":{"$error":"#N/A"}},null,null,null,null,null,null,null,null,null,null,{"$f":"VLOOKUP(B3474,'(1) Project Reference Item List'!$B$2:$D$1000,3,FALSE)","v":{"$error":"#N/A"}},null,null,0,0]
[{"$f":"VLOOKUP(B3475,'(1) Project Reference Item List'!$B$2:$C$1000,2,FALSE)","v":{"$error":"#N/A"}},null,null,null,null,null,null,null,null,null,null,{"$f":"VLOOKUP(B3475,'(1) Project Reference Item List'!$B$2:$D$1000,3,FALSE)","v":{"$error":"#N/A"}},null,null,0,0]
[{"$f":"VLOOKUP(B3476,'(1) Project Reference Item List'!$B$2:$C$1000,2,FALSE)","v":{"$error":"#N/A"}},null,null,null,null,null,null,null,null,null,null,{"$f":"VLOOKUP(B3476,'(1) Project Reference Item List'!$B$2:$D$1000,3,FALSE)","v":{"$error":"#N/A"}},null,null,0,0]
[{"$f":"VLOOKUP(B3477,'(1) Project Reference Item List'!$B$2:$C$1000,2,FALSE)","v":{"$error":"#N/A"}},null,null,null,null,null,null,null,null,null,null,{"$f":"VLOOKUP(B3477,'(1) Project Reference Item List'!$B$2:$D$1000,3,FALSE)","v":{"$error":"#N/A"}},null,null,0,0]
[{"$f":"VLOOKUP(B3478,'(1) Project Reference Item List'!$B$2:$C$1000,2,FALSE)","v":{"$error":"#N/A"}},null,null,null,null,null,null,null,null,null,null,{"$f":"VLOOKUP(B3478,'(1) Project Reference Item List'!$B$2:$D$1000,3,FALSE)","v":{"$error":"#N/A"}},null,null,0,0]
[{"$f":"VLOOKUP(B3479,'(1) Project Reference Item List'!$B$2:$C$1000,2,FALSE)","v":{"$error":"#N/A"}},null,null,null,null,null,null,null,null,null,null,{"$f":"VLOOKUP(B3479,'(1) Project Reference Item List'!$B$2:$D$1000,3,FALSE)","v":{"$error":"#N/A"}},null,null,0,0]
[{"$f":"VLOOKUP(B3480,'(1) Project Reference Item List'!$B$2:$C$1000,2,FALSE)","v":{"$error":"#N/A"}},null,null,null,null,null,null,null,null,null,null,{"$f":"VLOOKUP(B3480,'(1) Project Reference Item List'!$B$2:$D$1000,3,FALSE)","v":{"$error":"#N/A"}},null,null,0,0]
[{"$f":"VLOOKUP(B3481,'(1) Project Reference Item List'!$B$2:$C$1000,2,FALSE)","v":{"$error":"#N/A"}},null,null,null,null,null,null,null,null,null,null,{"$f":"VLOOKUP(B3481,'(1) Project Reference Item List'!$B$2:$D$1000,3,FALSE)","v":{"$error":"#N/A"}},null,null,0,0]
[{"$f":"VLOOKUP(B3482,'(1) Project Reference Item List'!$B$2:$C$1000,2,FALSE)","v":{"$error":"#N/A"}},null,null,null,null,null,null,null,null,null,null,{"$f":"VLOOKUP(B3482,'(1) Project Reference Item List'!$B$2:$D$1000,3,FALSE)","v":{"$error":"#N/A"}},null,null,0,0]
[{"$f":"VLOOKUP(B3483,'(1) Project Reference Item List'!$B$2:$C$1000,2,FALSE)","v":{"$error":"#N/A"}},null,null,null,null,null,null,null,null,null,null,{"$f":"VLOOKUP(B3483,'(1) Project Reference Item List'!$B$2:$D$1000,3,FALSE)","v":{"$error":"#N/A"}},null,null,0,0]
[{"$f":"VLOOKUP(B3484,'(1) Project Reference Item List'!$B$2:$C$1000,2,FALSE)","v":{"$error":"#N/A"}},null,null,null,null,null,null,null,null,null,null,{"$f":"VLOOKUP(B3484,'(1) Project Reference Item List'!$B$2:$D$1000,3,FALSE)","v":{"$error":"#N/A"}},null,null,0,0]
[{"$f":"VLOOKUP(B3485,'(1) Project Reference Item List'!$B$2:$C$1000,2,FALSE)","v":{"$error":"#N/A"}},null,null,null,null,null,null,null,null,null,null,{"$f":"VLOOKUP(B3485,'(1) Project Reference Item List'!$B$2:$D$1000,3,FALSE)","v":{"$error":"#N/A"}},null,null,0,0]
[{"$f":"VLOOKUP(B3486,'(1) Project Reference Item List'!$B$2:$C$1000,2,FALSE)","v":{"$error":"#N/A"}},null,null,null,null,null,null,null,null,null,null,{"$f":"VLOOKUP(B3486,'(1) Project Reference Item List'!$B$2:$D$1000,3,FALSE)","v":{"$error":"#N/A"}},null,null,0,0]
[{"$f":"VLOOKUP(B3487,'(1) Project Reference Item List'!$B$2:$C$1000,2,FALSE)","v":{"$error":"#N/A"}},null,null,null,null,null,null,null,null,null,null,{"$f":"VLOOKUP(B3487,'(1) Project Reference Item List'!$B$2:$D$1000,3,FALSE)","v":{"$error":"#N/A"}},null,null,0,0]
[{"$f":"VLOOKUP(B3488,'(1) Project Reference Item List'!$B$2:$C$1000,2,FALSE)","v":{"$error":"#N/A"}},null,null,null,null,null,null,null,null,null,null,{"$f":"VLOOKUP(B3488,'(1) Project Reference Item List'!$B$2:$D$1000,3,FALSE)","v":{"$error":"#N/A"}},null,null,0,0]
[{"$f":"VLOOKUP(B3489,'(1) Project Reference Item List'!$B$2:$C$1000,2,FALSE)","v":{"$error":"#N/A"}},null,null,null,null,null,null,null,null,null,null,{"$f":"VLOOKUP(B3489,'(1) Project Reference Item List'!$B$2:$D$1000,3,FALSE)","v":{"$error":"#N/A"}},null,null,0,0]
[{"$f":"VLOOKUP(B3490,'(1) Project Reference Item List'!$B$2:$C$1000,2,FALSE)","v":{"$error":"#N/A"}},null,null,null,null,null,null,null,null,null,null,{"$f":"VLOOKUP(B3490,'(1) Project Reference Item List'!$B$2:$D$1000,3,FALSE)","v":{"$error":"#N/A"}},null,null,0,0]
[{"$f":"VLOOKUP(B3491,'(1) Project Reference Item List'!$B$2:$C$1000,2,FALSE)","v":{"$error":"#N/A"}},null,null,null,null,null,null,null,null,null,null,{"$f":"VLOOKUP(B3491,'(1) Project Reference Item List'!$B$2:$D$1000,3,FALSE)","v":{"$error":"#N/A"}},null,null,0,0]
[{"$f":"VLOOKUP(B3492,'(1) Project Reference Item List'!$B$2:$C$1000,2,FALSE)","v":{"$error":"#N/A"}},null,null,null,null,null,null,null,null,null,null,{"$f":"VLOOKUP(B3492,'(1) Project Reference Item List'!$B$2:$D$1000,3,FALSE)","v":{"$error":"#N/A"}},null,null,0,0]
[{"$f":"VLOOKUP(B3493,'(1) Project Reference Item List'!$B$2:$C$1000,2,FALSE)","v":{"$error":"#N/A"}},null,null,null,null,null,null,null,null,null,null,{"$f":"VLOOKUP(B3493,'(1) Project Reference Item List'!$B$2:$D$1000,3,FALSE)","v":{"$error":"#N/A"}},null,null,0,0]
[{"$f":"VLOOKUP(B3494,'(1) Project Reference Item List'!$B$2:$C$1000,2,FALSE)","v":{"$error":"#N/A"}},null,null,null,null,null,null,null,null,null,null,{"$f":"VLOOKUP(B3494,'(1) Project Reference Item List'!$B$2:$D$1000,3,FALSE)","v":{"$error":"#N/A"}},null,null,0,0]
[{"$f":"VLOOKUP(B3495,'(1) Project Reference Item List'!$B$2:$C$1000,2,FALSE)","v":{"$error":"#N/A"}},null,null,null,null,null,null,null,null,null,null,{"$f":"VLOOKUP(B3495,'(1) Project Reference Item List'!$B$2:$D$1000,3,FALSE)","v":{"$error":"#N/A"}},null,null,0,0]
[{"$f":"VLOOKUP(B3496,'(1) Project Reference Item List'!$B$2:$C$1000,2,FALSE)","v":{"$error":"#N/A"}},null,null,null,null,null,null,null,null,null,null,{"$f":"VLOOKUP(B3496,'(1) Project Reference Item List'!$B$2:$D$1000,3,FALSE)","v":{"$error":"#N/A"}},null,null,0,0]
[{"$f":"VLOOKUP(B3497,'(1) Project Reference Item List'!$B$2:$C$1000,2,FALSE)","v":{"$error":"#N/A"}},null,null,null,null,null,null,null,null,null,null,{"$f":"VLOOKUP(B3497,'(1) Project Reference Item List'!$B$2:$D$1000,3,FALSE)","v":{"$error":"#N/A"}},null,null,0,0]
[{"$f":"VLOOKUP(B3498,'(1) Project Reference Item List'!$B$2:$C$1000,2,FALSE)","v":{"$error":"#N/A"}},null,null,null,null,null,null,null,null,null,null,{"$f":"VLOOKUP(B3498,'(1) Project Reference Item List'!$B$2:$D$1000,3,FALSE)","v":{"$error":"#N/A"}},null,null,0,0]
[{"$f":"VLOOKUP(B3499,'(1) Project Reference Item List'!$B$2:$C$1000,2,FALSE)","v":{"$error":"#N/A"}},null,null,null,null,null,null,null,null,null,null,{"$f":"VLOOKUP(B3499,'(1) Project Reference Item List'!$B$2:$D$1000,3,FALSE)","v":{"$error":"#N/A"}},null,null,0,0]
[{"$f":"VLOOKUP(B3500,'(1) Project Reference Item List'!$B$2:$C$1000,2,FALSE)","v":{"$error":"#N/A"}},null,null,null,null,null,null,null,null,null,null,{"$f":"VLOOKUP(B3500,'(1) Project Reference Item List'!$B$2:$D$1000,3,FALSE)","v":{"$error":"#N/A"}},null,null,0,0]
[{"$f":"VLOOKUP(B3501,'(1) Project Reference Item List'!$B$2:$C$1000,2,FALSE)","v":{"$error":"#N/A"}},null,null,null,null,null,null,null,null,null,null,{"$f":"VLOOKUP(B3501,'(1) Project Reference Item List'!$B$2:$D$1000,3,FALSE)","v":{"$error":"#N/A"}},null,null,0,0]
[{"$f":"VLOOKUP(B3502,'(1) Project Reference Item List'!$B$2:$C$1000,2,FALSE)","v":{"$error":"#N/A"}},null,null,null,null,null,null,null,null,null,null,{"$f":"VLOOKUP(B3502,'(1) Project Reference Item List'!$B$2:$D$1000,3,FALSE)","v":{"$error":"#N/A"}},null,null,0,0]
[{"$f":"VLOOKUP(B3503,'(1) Project Reference Item List'!$B$2:$C$1000,2,FALSE)","v":{"$error":"#N/A"}},null,null,null,null,null,null,null,null,null,null,{"$f":"VLOOKUP(B3503,'(1) Project Reference Item List'!$B$2:$D$1000,3,FALSE)","v":{"$error":"#N/A"}},null,null,0,0]
[{"$f":"VLOOKUP(B3504,'(1) Project Reference Item List'!$B$2:$C$1000,2,FALSE)","v":{"$error":"#N/A"}},null,null,null,null,null,null,null,null,null,null,{"$f":"VLOOKUP(B3504,'(1) Project Reference Item List'!$B$2:$D$1000,3,FALSE)","v":{"$error":"#N/A"}},null,null,0,0]
[{"$f":"VLOOKUP(B3505,'(1) Project Reference Item List'!$B$2:$C$1000,2,FALSE)","v":{"$error":"#N/A"}},null,null,null,null,null,null,null,null,null,null,{"$f":"VLOOKUP(B3505,'(1) Project Reference Item List'!$B$2:$D$1000,3,FALSE)","v":{"$error":"#N/A"}},null,null,0,0]
[{"$f":"VLOOKUP(B3506,'(1) Project Reference Item List'!$B$2:$C$1000,2,FALSE)","v":{"$error":"#N/A"}},null,null,null,null,null,null,null,null,null,null,{"$f":"VLOOKUP(B3506,'(1) Project Reference Item List'!$B$2:$D$1000,3,FALSE)","v":{"$error":"#N/A"}},null,null,0,0]
[{"$f":"VLOOKUP(B3507,'(1) Project Reference Item List'!$B$2:$C$1000,2,FALSE)","v":{"$error":"#N/A"}},null,null,null,null,null,null,null,null,null,null,{"$f":"VLOOKUP(B3507,'(1) Project Reference Item List'!$B$2:$D$1000,3,FALSE)","v":{"$error":"#N/A"}},null,null,0,0]
[{"$f":"VLOOKUP(B3508,'(1) Project Reference Item List'!$B$2:$C$1000,2,FALSE)","v":{"$error":"#N/A"}},null,null,null,null,null,null,null,null,null,null,{"$f":"VLOOKUP(B3508,'(1) Project Reference Item List'!$B$2:$D$1000,3,FALSE)","v":{"$error":"#N/A"}},null,null,0,0]
[{"$f":"VLOOKUP(B3509,'(1) Project Reference Item List'!$B$2:$C$1000,2,FALSE)","v":{"$error":"#N/A"}},null,null,null,null,null,null,null,null,null,null,{"$f":"VLOOKUP(B3509,'(1) Project Reference Item List'!$B$2:$D$1000,3,FALSE)","v":{"$error":"#N/A"}},null,null,0,0]
[{"$f":"VLOOKUP(B3510,'(1) Project Reference Item List'!$B$2:$C$1000,2,FALSE)","v":{"$error":"#N/A"}},null,null,null,null,null,null,null,null,null,null,{"$f":"VLOOKUP(B3510,'(1) Project Reference Item List'!$B$2:$D$1000,3,FALSE)","v":{"$error":"#N/A"}},null,null,0,0]
[{"$f":"VLOOKUP(B3511,'(1) Project Reference Item List'!$B$2:$C$1000,2,FALSE)","v":{"$error":"#N/A"}},null,null,null,null,null,null,null,null,null,null,{"$f":"VLOOKUP(B3511,'(1) Project Reference Item List'!$B$2:$D$1000,3,FALSE)","v":{"$error":"#N/A"}},null,null,0,0]
[{"$f":"VLOOKUP(B3512,'(1) Project Reference Item List'!$B$2:$C$1000,2,FALSE)","v":{"$error":"#N/A"}},null,null,null,null,null,null,null,null,null,null,{"$f":"VLOOKUP(B3512,'(1) Project Reference Item List'!$B$2:$D$1000,3,FALSE)","v":{"$error":"#N/A"}},null,null,0,0]
[{"$f":"VLOOKUP(B3513,'(1) Project Reference Item List'!$B$2:$C$1000,2,FALSE)","v":{"$error":"#N/A"}},null,null,null,null,null,null,null,null,null,null,{"$f":"VLOOKUP(B3513,'(1) Project Reference Item List'!$B$2:$D$1000,3,FALSE)","v":{"$error":"#N/A"}},null,null,0,0]
[{"$f":"VLOOKUP(B3514,'(1) Project Reference Item List'!$B$2:$C$1000,2,FALSE)","v":{"$error":"#N/A"}},null,null,null,null,null,null,null,null,null,null,{"$f":"VLOOKUP(B3514,'(1) Project Reference Item List'!$B$2:$D$1000,3,FALSE)","v":{"$error":"#N/A"}},null,null,0,0]
[{"$f":"VLOOKUP(B3515,'(1) Project Reference Item List'!$B$2:$C$1000,2,FALSE)","v":{"$error":"#N/A"}},null,null,null,null,null,null,null,null,null,null,{"$f":"VLOOKUP(B3515,'(1) Project Reference Item List'!$B$2:$D$1000,3,FALSE)","v":{"$error":"#N/A"}},null,null,0,0]
[{"$f":"VLOOKUP(B3516,'(1) Project Reference Item List'!$B$2:$C$1000,2,FALSE)","v":{"$error":"#N/A"}},null,null,null,null,null,null,null,null,null,null,{"$f":"VLOOKUP(B3516,'(1) Project Reference Item List'!$B$2:$D$1000,3,FALSE)","v":{"$error":"#N/A"}},null,null,0,0]
[{"$f":"VLOOKUP(B3517,'(1) Project Reference Item List'!$B$2:$C$1000,2,FALSE)","v":{"$error":"#N/A"}},null,null,null,null,null,null,null,null,null,null,{"$f":"VLOOKUP(B3517,'(1) Project Reference Item List'!$B$2:$D$1000,3,FALSE)","v":{"$error":"#N/A"}},null,null,0,0]
[{"$f":"VLOOKUP(B3518,'(1) Project Reference Item List'!$B$2:$C$1000,2,FALSE)","v":{"$error":"#N/A"}},null,null,null,null,null,null,null,null,null,null,{"$f":"VLOOKUP(B3518,'(1) Project Reference Item List'!$B$2:$D$1000,3,FALSE)","v":{"$error":"#N/A"}},null,null,0,0]
[{"$f":"VLOOKUP(B3519,'(1) Project Reference Item List'!$B$2:$C$1000,2,FALSE)","v":{"$error":"#N/A"}},null,null,null,null,null,null,null,null,null,null,{"$f":"VLOOKUP(B3519,'(1) Project Reference Item List'!$B$2:$D$1000,3,FALSE)","v":{"$error":"#N/A"}},null,null,0,0]
[{"$f":"VLOOKUP(B3520,'(1) Project Reference Item List'!$B$2:$C$1000,2,FALSE)","v":{"$error":"#N/A"}},null,null,null,null,null,null,null,null,null,null,{"$f":"VLOOKUP(B3520,'(1) Project Reference Item List'!$B$2:$D$1000,3,FALSE)","v":{"$error":"#N/A"}},null,null,0,0]
[{"$f":"VLOOKUP(B3521,'(1) Project Reference Item List'!$B$2:$C$1000,2,FALSE)","v":{"$error":"#N/A"}},null,null,null,null,null,null,null,null,null,null,{"$f":"VLOOKUP(B3521,'(1) Project Reference Item List'!$B$2:$D$1000,3,FALSE)","v":{"$error":"#N/A"}},null,null,0,0]
[{"$f":"VLOOKUP(B3522,'(1) Project Reference Item List'!$B$2:$C$1000,2,FALSE)","v":{"$error":"#N/A"}},null,null,null,null,null,null,null,null,null,null,{"$f":"VLOOKUP(B3522,'(1) Project Reference Item List'!$B$2:$D$1000,3,FALSE)","v":{"$error":"#N/A"}},null,null,0,0]
[{"$f":"VLOOKUP(B3523,'(1) Project Reference Item List'!$B$2:$C$1000,2,FALSE)","v":{"$error":"#N/A"}},null,null,null,null,null,null,null,null,null,null,{"$f":"VLOOKUP(B3523,'(1) Project Reference Item List'!$B$2:$D$1000,3,FALSE)","v":{"$error":"#N/A"}},null,null,0,0]
[{"$f":"VLOOKUP(B3524,'(1) Project Reference Item List'!$B$2:$C$1000,2,FALSE)","v":{"$error":"#N/A"}},null,null,null,null,null,null,null,null,null,null,{"$f":"VLOOKUP(B3524,'(1) Project Reference Item List'!$B$2:$D$1000,3,FALSE)","v":{"$error":"#N/A"}},null,null,0,0]
[{"$f":"VLOOKUP(B3525,'(1) Project Reference Item List'!$B$2:$C$1000,2,FALSE)","v":{"$error":"#N/A"}},null,null,null,null,null,null,null,null,null,null,{"$f":"VLOOKUP(B3525,'(1) Project Reference Item List'!$B$2:$D$1000,3,FALSE)","v":{"$error":"#N/A"}},null,null,0,0]
[{"$f":"VLOOKUP(B3526,'(1) Project Reference Item List'!$B$2:$C$1000,2,FALSE)","v":{"$error":"#N/A"}},null,null,null,null,null,null,null,null,null,null,{"$f":"VLOOKUP(B3526,'(1) Project Reference Item List'!$B$2:$D$1000,3,FALSE)","v":{"$error":"#N/A"}},null,null,{"$f":"IF(J3526=0,J3526,J3526*N3526)","v":0},{"$f":"(M3526-O3526)","v":0}]
[{"$f":"VLOOKUP(B3527,'(1) Project Reference Item List'!$B$2:$C$1000,2,FALSE)","v":{"$error":"#N/A"}},null,null,null,null,null,null,null,null,null,null,{"$f":"VLOOKUP(B3527,'(1) Project Reference Item List'!$B$2:$D$1000,3,FALSE)","v":{"$error":"#N/A"}},null,null,0,0]
[{"$f":"VLOOKUP(B3528,'(1) Project Reference Item List'!$B$2:$C$1000,2,FALSE)","v":{"$error":"#N/A"}},null,null,null,null,null,null,null,null,null,null,{"$f":"VLOOKUP(B3528,'(1) Project Reference Item List'!$B$2:$D$1000,3,FALSE)","v":{"$error":"#N/A"}},null,null,0,0]
[{"$f":"VLOOKUP(B3529,'(1) Project Reference Item List'!$B$2:$C$1000,2,FALSE)","v":{"$error":"#N/A"}},null,null,null,null,null,null,null,null,null,null,{"$f":"VLOOKUP(B3529,'(1) Project Reference Item List'!$B$2:$D$1000,3,FALSE)","v":{"$error":"#N/A"}},null,null,0,0]
[{"$f":"VLOOKUP(B3530,'(1) Project Reference Item List'!$B$2:$C$1000,2,FALSE)","v":{"$error":"#N/A"}},null,null,null,null,null,null,null,null,null,null,{"$f":"VLOOKUP(B3530,'(1) Project Reference Item List'!$B$2:$D$1000,3,FALSE)","v":{"$error":"#N/A"}},null,null,0,0]
[{"$f":"VLOOKUP(B3531,'(1) Project Reference Item List'!$B$2:$C$1000,2,FALSE)","v":{"$error":"#N/A"}},null,null,null,null,null,null,null,null,null,null,{"$f":"VLOOKUP(B3531,'(1) Project Reference Item List'!$B$2:$D$1000,3,FALSE)","v":{"$error":"#N/A"}},null,null,0,0]
[{"$f":"VLOOKUP(B3532,'(1) Project Reference Item List'!$B$2:$C$1000,2,FALSE)","v":{"$error":"#N/A"}},null,null,null,null,null,null,null,null,null,null,{"$f":"VLOOKUP(B3532,'(1) Project Reference Item List'!$B$2:$D$1000,3,FALSE)","v":{"$error":"#N/A"}},null,null,0,0]
[{"$f":"VLOOKUP(B3533,'(1) Project Reference Item List'!$B$2:$C$1000,2,FALSE)","v":{"$error":"#N/A"}},null,null,null,null,null,null,null,null,null,null,{"$f":"VLOOKUP(B3533,'(1) Project Reference Item List'!$B$2:$D$1000,3,FALSE)","v":{"$error":"#N/A"}},null,null,0,0]
[{"$f":"VLOOKUP(B3534,'(1) Project Reference Item List'!$B$2:$C$1000,2,FALSE)","v":{"$error":"#N/A"}},null,null,null,null,null,null,null,null,null,null,{"$f":"VLOOKUP(B3534,'(1) Project Reference Item List'!$B$2:$D$1000,3,FALSE)","v":{"$error":"#N/A"}},null,null,0,0]
[{"$f":"VLOOKUP(B3535,'(1) Project Reference Item List'!$B$2:$C$1000,2,FALSE)","v":{"$error":"#N/A"}},null,null,null,null,null,null,null,null,null,null,{"$f":"VLOOKUP(B3535,'(1) Project Reference Item List'!$B$2:$D$1000,3,FALSE)","v":{"$error":"#N/A"}},null,null,0,0]
[{"$f":"VLOOKUP(B3536,'(1) Project Reference Item List'!$B$2:$C$1000,2,FALSE)","v":{"$error":"#N/A"}},null,null,null,null,null,null,null,null,null,null,{"$f":"VLOOKUP(B3536,'(1) Project Reference Item List'!$B$2:$D$1000,3,FALSE)","v":{"$error":"#N/A"}},null,null,0,0]
[{"$f":"VLOOKUP(B3537,'(1) Project Reference Item List'!$B$2:$C$1000,2,FALSE)","v":{"$error":"#N/A"}},null,null,null,null,null,null,null,null,null,null,{"$f":"VLOOKUP(B3537,'(1) Project Reference Item List'!$B$2:$D$1000,3,FALSE)","v":{"$error":"#N/A"}},null,null,0,0]
[{"$f":"VLOOKUP(B3538,'(1) Project Reference Item List'!$B$2:$C$1000,2,FALSE)","v":{"$error":"#N/A"}},null,null,null,null,null,null,null,null,null,null,{"$f":"VLOOKUP(B3538,'(1) Project Reference Item List'!$B$2:$D$1000,3,FALSE)","v":{"$error":"#N/A"}},null,null,0,0]
[{"$f":"VLOOKUP(B3539,'(1) Project Reference Item List'!$B$2:$C$1000,2,FALSE)","v":{"$error":"#N/A"}},null,null,null,null,null,null,null,null,null,null,{"$f":"VLOOKUP(B3539,'(1) Project Reference Item List'!$B$2:$D$1000,3,FALSE)","v":{"$error":"#N/A"}},null,null,0,0]
[{"$f":"VLOOKUP(B3540,'(1) Project Reference Item List'!$B$2:$C$1000,2,FALSE)","v":{"$error":"#N/A"}},null,null,null,null,null,null,null,null,null,null,{"$f":"VLOOKUP(B3540,'(1) Project Reference Item List'!$B$2:$D$1000,3,FALSE)","v":{"$error":"#N/A"}},null,null,0,0]
[{"$f":"VLOOKUP(B3541,'(1) Project Reference Item List'!$B$2:$C$1000,2,FALSE)","v":{"$error":"#N/A"}},null,null,null,null,null,null,null,null,null,null,{"$f":"VLOOKUP(B3541,'(1) Project Reference Item List'!$B$2:$D$1000,3,FALSE)","v":{"$error":"#N/A"}},null,null,0,0]
[{"$f":"VLOOKUP(B3542,'(1) Project Reference Item List'!$B$2:$C$1000,2,FALSE)","v":{"$error":"#N/A"}},null,null,null,null,null,null,null,null,null,null,{"$f":"VLOOKUP(B3542,'(1) Project Reference Item List'!$B$2:$D$1000,3,FALSE)","v":{"$error":"#N/A"}},null,null,0,0]
[{"$f":"VLOOKUP(B3543,'(1) Project Reference Item List'!$B$2:$C$1000,2,FALSE)","v":{"$error":"#N/A"}},null,null,null,null,null,null,null,null,null,null,{"$f":"VLOOKUP(B3543,'(1) Project Reference Item List'!$B$2:$D$1000,3,FALSE)","v":{"$error":"#N/A"}},null,null,0,0]
[{"$f":"VLOOKUP(B3544,'(1) Project Reference Item List'!$B$2:$C$1000,2,FALSE)","v":{"$error":"#N/A"}},null,null,null,null,null,null,null,null,null,null,{"$f":"VLOOKUP(B3544,'(1) Project Reference Item List'!$B$2:$D$1000,3,FALSE)","v":{"$error":"#N/A"}},null,null,0,0]
[{"$f":"VLOOKUP(B3545,'(1) Project Reference Item List'!$B$2:$C$1000,2,FALSE)","v":{"$error":"#N/A"}},null,null,null,null,null,null,null,null,null,null,{"$f":"VLOOKUP(B3545,'(1) Project Reference Item List'!$B$2:$D$1000,3,FALSE)","v":{"$error":"#N/A"}},null,null,0,0]
[{"$f":"VLOOKUP(B3546,'(1) Project Reference Item List'!$B$2:$C$1000,2,FALSE)","v":{"$error":"#N/A"}},null,null,null,null,null,null,null,null,null,null,{"$f":"VLOOKUP(B3546,'(1) Project Reference Item List'!$B$2:$D$1000,3,FALSE)","v":{"$error":"#N/A"}},null,null,0,0]
[{"$f":"VLOOKUP(B3547,'(1) Project Reference Item List'!$B$2:$C$1000,2,FALSE)","v":{"$error":"#N/A"}},null,null,null,null,null,null,null,null,null,null,{"$f":"VLOOKUP(B3547,'(1) Project Reference Item List'!$B$2:$D$1000,3,FALSE)","v":{"$error":"#N/A"}},null,null,0,0]
[{"$f":"VLOOKUP(B3548,'(1) Project Reference Item List'!$B$2:$C$1000,2,FALSE)","v":{"$error":"#N/A"}},null,null,null,null,null,null,null,null,null,null,{"$f":"VLOOKUP(B3548,'(1) Project Reference Item List'!$B$2:$D$1000,3,FALSE)","v":{"$error":"#N/A"}},null,null,0,0]
[{"$f":"VLOOKUP(B3549,'(1) Project Reference Item List'!$B$2:$C$1000,2,FALSE)","v":{"$error":"#N/A"}},null,null,null,null,null,null,null,null,null,null,{"$f":"VLOOKUP(B3549,'(1) Project Reference Item List'!$B$2:$D$1000,3,FALSE)","v":{"$error":"#N/A"}},null,null,0,0]
[{"$f":"VLOOKUP(B3550,'(1) Project Reference Item List'!$B$2:$C$1000,2,FALSE)","v":{"$error":"#N/A"}},null,null,null,null,null,null,null,null,null,null,{"$f":"VLOOKUP(B3550,'(1) Project Reference Item List'!$B$2:$D$1000,3,FALSE)","v":{"$error":"#N/A"}},null,null,0,0]
[{"$f":"VLOOKUP(B3551,'(1) Project Reference Item List'!$B$2:$C$1000,2,FALSE)","v":{"$error":"#N/A"}},null,null,null,null,null,null,null,null,null,null,{"$f":"VLOOKUP(B3551,'(1) Project Reference Item List'!$B$2:$D$1000,3,FALSE)","v":{"$error":"#N/A"}},null,null,0,0]
[{"$f":"VLOOKUP(B3552,'(1) Project Reference Item List'!$B$2:$C$1000,2,FALSE)","v":{"$error":"#N/A"}},null,null,null,null,null,null,null,null,null,null,{"$f":"VLOOKUP(B3552,'(1) Project Reference Item List'!$B$2:$D$1000,3,FALSE)","v":{"$error":"#N/A"}},null,null,0,0]
[{"$f":"VLOOKUP(B3553,'(1) Project Reference Item List'!$B$2:$C$1000,2,FALSE)","v":{"$error":"#N/A"}},null,null,null,null,null,null,null,null,null,null,{"$f":"VLOOKUP(B3553,'(1) Project Reference Item List'!$B$2:$D$1000,3,FALSE)","v":{"$error":"#N/A"}},null,null,0,0]
[{"$f":"VLOOKUP(B3554,'(1) Project Reference Item List'!$B$2:$C$1000,2,FALSE)","v":{"$error":"#N/A"}},null,null,null,null,null,null,null,null,null,null,{"$f":"VLOOKUP(B3554,'(1) Project Reference Item List'!$B$2:$D$1000,3,FALSE)","v":{"$error":"#N/A"}},null,null,0,0]
[{"$f":"VLOOKUP(B3555,'(1) Project Reference Item List'!$B$2:$C$1000,2,FALSE)","v":{"$error":"#N/A"}},null,null,null,null,null,null,null,null,null,null,{"$f":"VLOOKUP(B3555,'(1) Project Reference Item List'!$B$2:$D$1000,3,FALSE)","v":{"$error":"#N/A"}},null,null,0,0]
[{"$f":"VLOOKUP(B3556,'(1) Project Reference Item List'!$B$2:$C$1000,2,FALSE)","v":{"$error":"#N/A"}},null,null,null,null,null,null,null,null,null,null,{"$f":"VLOOKUP(B3556,'(1) Project Reference Item List'!$B$2:$D$1000,3,FALSE)","v":{"$error":"#N/A"}},null,null,0,0]
[{"$f":"VLOOKUP(B3557,'(1) Project Reference Item List'!$B$2:$C$1000,2,FALSE)","v":{"$error":"#N/A"}},null,null,null,null,null,null,null,null,null,null,{"$f":"VLOOKUP(B3557,'(1) Project Reference Item List'!$B$2:$D$1000,3,FALSE)","v":{"$error":"#N/A"}},null,null,0,0]
[{"$f":"VLOOKUP(B3558,'(1) Project Reference Item List'!$B$2:$C$1000,2,FALSE)","v":{"$error":"#N/A"}},null,null,null,null,null,null,null,null,null,null,{"$f":"VLOOKUP(B3558,'(1) Project Reference Item List'!$B$2:$D$1000,3,FALSE)","v":{"$error":"#N/A"}},null,null,0,0]
[{"$f":"VLOOKUP(B3559,'(1) Project Reference Item List'!$B$2:$C$1000,2,FALSE)","v":{"$error":"#N/A"}},null,null,null,null,null,null,null,null,null,null,{"$f":"VLOOKUP(B3559,'(1) Project Reference Item List'!$B$2:$D$1000,3,FALSE)","v":{"$error":"#N/A"}},null,null,0,0]
[{"$f":"VLOOKUP(B3560,'(1) Project Reference Item List'!$B$2:$C$1000,2,FALSE)","v":{"$error":"#N/A"}},null,null,null,null,null,null,null,null,null,null,{"$f":"VLOOKUP(B3560,'(1) Project Reference Item List'!$B$2:$D$1000,3,FALSE)","v":{"$error":"#N/A"}},null,null,0,0]
[{"$f":"VLOOKUP(B3561,'(1) Project Reference Item List'!$B$2:$C$1000,2,FALSE)","v":{"$error":"#N/A"}},null,null,null,null,null,null,null,null,null,null,{"$f":"VLOOKUP(B3561,'(1) Project Reference Item List'!$B$2:$D$1000,3,FALSE)","v":{"$error":"#N/A"}},null,null,0,0]
[{"$f":"VLOOKUP(B3562,'(1) Project Reference Item List'!$B$2:$C$1000,2,FALSE)","v":{"$error":"#N/A"}},null,null,null,null,null,null,null,null,null,null,{"$f":"VLOOKUP(B3562,'(1) Project Reference Item List'!$B$2:$D$1000,3,FALSE)","v":{"$error":"#N/A"}},null,null,0,0]
[{"$f":"VLOOKUP(B3563,'(1) Project Reference Item List'!$B$2:$C$1000,2,FALSE)","v":{"$error":"#N/A"}},null,null,null,null,null,null,null,null,null,null,{"$f":"VLOOKUP(B3563,'(1) Project Reference Item List'!$B$2:$D$1000,3,FALSE)","v":{"$error":"#N/A"}},null,null,0,0]
[{"$f":"VLOOKUP(B3564,'(1) Project Reference Item List'!$B$2:$C$1000,2,FALSE)","v":{"$error":"#N/A"}},null,null,null,null,null,null,null,null,null,null,{"$f":"VLOOKUP(B3564,'(1) Project Reference Item List'!$B$2:$D$1000,3,FALSE)","v":{"$error":"#N/A"}},null,null,0,0]
[{"$f":"VLOOKUP(B3565,'(1) Project Reference Item List'!$B$2:$C$1000,2,FALSE)","v":{"$error":"#N/A"}},null,null,null,null,null,null,null,null,null,null,{"$f":"VLOOKUP(B3565,'(1) Project Reference Item List'!$B$2:$D$1000,3,FALSE)","v":{"$error":"#N/A"}},null,null,0,0]
[{"$f":"VLOOKUP(B3566,'(1) Project Reference Item List'!$B$2:$C$1000,2,FALSE)","v":{"$error":"#N/A"}},null,null,null,null,null,null,null,null,null,null,{"$f":"VLOOKUP(B3566,'(1) Project Reference Item List'!$B$2:$D$1000,3,FALSE)","v":{"$error":"#N/A"}},null,null,0,0]
[{"$f":"VLOOKUP(B3567,'(1) Project Reference Item List'!$B$2:$C$1000,2,FALSE)","v":{"$error":"#N/A"}},null,null,null,null,null,null,null,null,null,null,{"$f":"VLOOKUP(B3567,'(1) Project Reference Item List'!$B$2:$D$1000,3,FALSE)","v":{"$error":"#N/A"}},null,null,0,0]
[{"$f":"VLOOKUP(B3568,'(1) Project Reference Item List'!$B$2:$C$1000,2,FALSE)","v":{"$error":"#N/A"}},null,null,null,null,null,null,null,null,null,null,{"$f":"VLOOKUP(B3568,'(1) Project Reference Item List'!$B$2:$D$1000,3,FALSE)","v":{"$error":"#N/A"}},null,null,0,0]
[{"$f":"VLOOKUP(B3569,'(1) Project Reference Item List'!$B$2:$C$1000,2,FALSE)","v":{"$error":"#N/A"}},null,null,null,null,null,null,null,null,null,null,{"$f":"VLOOKUP(B3569,'(1) Project Reference Item List'!$B$2:$D$1000,3,FALSE)","v":{"$error":"#N/A"}},null,null,0,0]
[{"$f":"VLOOKUP(B3570,'(1) Project Reference Item List'!$B$2:$C$1000,2,FALSE)","v":{"$error":"#N/A"}},null,null,null,null,null,null,null,null,null,null,{"$f":"VLOOKUP(B3570,'(1) Project Reference Item List'!$B$2:$D$1000,3,FALSE)","v":{"$error":"#N/A"}},null,null,0,0]
[{"$f":"VLOOKUP(B3571,'(1) Project Reference Item List'!$B$2:$C$1000,2,FALSE)","v":{"$error":"#N/A"}},null,null,null,null,null,null,null,null,null,null,{"$f":"VLOOKUP(B3571,'(1) Project Reference Item List'!$B$2:$D$1000,3,FALSE)","v":{"$error":"#N/A"}},null,null,0,0]
[{"$f":"VLOOKUP(B3572,'(1) Project Reference Item List'!$B$2:$C$1000,2,FALSE)","v":{"$error":"#N/A"}},null,null,null,null,null,null,null,null,null,null,{"$f":"VLOOKUP(B3572,'(1) Project Reference Item List'!$B$2:$D$1000,3,FALSE)","v":{"$error":"#N/A"}},null,null,0,0]
[{"$f":"VLOOKUP(B3573,'(1) Project Reference Item List'!$B$2:$C$1000,2,FALSE)","v":{"$error":"#N/A"}},null,null,null,null,null,null,null,null,null,null,{"$f":"VLOOKUP(B3573,'(1) Project Reference Item List'!$B$2:$D$1000,3,FALSE)","v":{"$error":"#N/A"}},null,null,0,0]
[{"$f":"VLOOKUP(B3574,'(1) Project Reference Item List'!$B$2:$C$1000,2,FALSE)","v":{"$error":"#N/A"}},null,null,null,null,null,null,null,null,null,null,{"$f":"VLOOKUP(B3574,'(1) Project Reference Item List'!$B$2:$D$1000,3,FALSE)","v":{"$error":"#N/A"}},null,null,0,0]
[{"$f":"VLOOKUP(B3575,'(1) Project Reference Item List'!$B$2:$C$1000,2,FALSE)","v":{"$error":"#N/A"}},null,null,null,null,null,null,null,null,null,null,{"$f":"VLOOKUP(B3575,'(1) Project Reference Item List'!$B$2:$D$1000,3,FALSE)","v":{"$error":"#N/A"}},null,null,0,0]
[{"$f":"VLOOKUP(B3576,'(1) Project Reference Item List'!$B$2:$C$1000,2,FALSE)","v":{"$error":"#N/A"}},null,null,null,null,null,null,null,null,null,null,{"$f":"VLOOKUP(B3576,'(1) Project Reference Item List'!$B$2:$D$1000,3,FALSE)","v":{"$error":"#N/A"}},null,null,0,0]
[{"$f":"VLOOKUP(B3577,'(1) Project Reference Item List'!$B$2:$C$1000,2,FALSE)","v":{"$error":"#N/A"}},null,null,null,null,null,null,null,null,null,null,{"$f":"VLOOKUP(B3577,'(1) Project Reference Item List'!$B$2:$D$1000,3,FALSE)","v":{"$error":"#N/A"}},null,null,0,0]
[{"$f":"VLOOKUP(B3578,'(1) Project Reference Item List'!$B$2:$C$1000,2,FALSE)","v":{"$error":"#N/A"}},null,null,null,null,null,null,null,null,null,null,{"$f":"VLOOKUP(B3578,'(1) Project Reference Item List'!$B$2:$D$1000,3,FALSE)","v":{"$error":"#N/A"}},null,null,0,0]
[{"$f":"VLOOKUP(B3579,'(1) Project Reference Item List'!$B$2:$C$1000,2,FALSE)","v":{"$error":"#N/A"}},null,null,null,null,null,null,null,null,null,null,{"$f":"VLOOKUP(B3579,'(1) Project Reference Item List'!$B$2:$D$1000,3,FALSE)","v":{"$error":"#N/A"}},null,null,0,0]
[{"$f":"VLOOKUP(B3580,'(1) Project Reference Item List'!$B$2:$C$1000,2,FALSE)","v":{"$error":"#N/A"}},null,null,null,null,null,null,null,null,null,null,{"$f":"VLOOKUP(B3580,'(1) Project Reference Item List'!$B$2:$D$1000,3,FALSE)","v":{"$error":"#N/A"}},null,null,0,0]
[{"$f":"VLOOKUP(B3581,'(1) Project Reference Item List'!$B$2:$C$1000,2,FALSE)","v":{"$error":"#N/A"}},null,null,null,null,null,null,null,null,null,null,{"$f":"VLOOKUP(B3581,'(1) Project Reference Item List'!$B$2:$D$1000,3,FALSE)","v":{"$error":"#N/A"}},null,null,0,0]
[{"$f":"VLOOKUP(B3582,'(1) Project Reference Item List'!$B$2:$C$1000,2,FALSE)","v":{"$error":"#N/A"}},null,null,null,null,null,null,null,null,null,null,{"$f":"VLOOKUP(B3582,'(1) Project Reference Item List'!$B$2:$D$1000,3,FALSE)","v":{"$error":"#N/A"}},null,null,0,0]
[{"$f":"VLOOKUP(B3583,'(1) Project Reference Item List'!$B$2:$C$1000,2,FALSE)","v":{"$error":"#N/A"}},null,null,null,null,null,null,null,null,null,null,{"$f":"VLOOKUP(B3583,'(1) Project Reference Item List'!$B$2:$D$1000,3,FALSE)","v":{"$error":"#N/A"}},null,null,0,0]
[{"$f":"VLOOKUP(B3584,'(1) Project Reference Item List'!$B$2:$C$1000,2,FALSE)","v":{"$error":"#N/A"}},null,null,null,null,null,null,null,null,null,null,{"$f":"VLOOKUP(B3584,'(1) Project Reference Item List'!$B$2:$D$1000,3,FALSE)","v":{"$error":"#N/A"}},null,null,0,0]
[{"$f":"VLOOKUP(B3585,'(1) Project Reference Item List'!$B$2:$C$1000,2,FALSE)","v":{"$error":"#N/A"}},null,null,null,null,null,null,null,null,null,null,{"$f":"VLOOKUP(B3585,'(1) Project Reference Item List'!$B$2:$D$1000,3,FALSE)","v":{"$error":"#N/A"}},null,null,0,0]
[{"$f":"VLOOKUP(B3586,'(1) Project Reference Item List'!$B$2:$C$1000,2,FALSE)","v":{"$error":"#N/A"}},null,null,null,null,null,null,null,null,null,null,{"$f":"VLOOKUP(B3586,'(1) Project Reference Item List'!$B$2:$D$1000,3,FALSE)","v":{"$error":"#N/A"}},null,null,0,0]
[{"$f":"VLOOKUP(B3587,'(1) Project Reference Item List'!$B$2:$C$1000,2,FALSE)","v":{"$error":"#N/A"}},null,null,null,null,null,null,null,null,null,null,{"$f":"VLOOKUP(B3587,'(1) Project Reference Item List'!$B$2:$D$1000,3,FALSE)","v":{"$error":"#N/A"}},null,null,0,0]
[{"$f":"VLOOKUP(B3588,'(1) Project Reference Item List'!$B$2:$C$1000,2,FALSE)","v":{"$error":"#N/A"}},null,null,null,null,null,null,null,null,null,null,{"$f":"VLOOKUP(B3588,'(1) Project Reference Item List'!$B$2:$D$1000,3,FALSE)","v":{"$error":"#N/A"}},null,null,0,0]
[{"$f":"VLOOKUP(B3589,'(1) Project Reference Item List'!$B$2:$C$1000,2,FALSE)","v":{"$error":"#N/A"}},null,null,null,null,null,null,null,null,null,null,{"$f":"VLOOKUP(B3589,'(1) Project Reference Item List'!$B$2:$D$1000,3,FALSE)","v":{"$error":"#N/A"}},null,null,0,0]
[{"$f":"VLOOKUP(B3590,'(1) Project Reference Item List'!$B$2:$C$1000,2,FALSE)","v":{"$error":"#N/A"}},null,null,null,null,null,null,null,null,null,null,{"$f":"VLOOKUP(B3590,'(1) Project Reference Item List'!$B$2:$D$1000,3,FALSE)","v":{"$error":"#N/A"}},null,null,{"$f":"IF(J3590=0,J3590,J3590*N3590)","v":0},{"$f":"(M3590-O3590)","v":0}]
[{"$f":"VLOOKUP(B3591,'(1) Project Reference Item List'!$B$2:$C$1000,2,FALSE)","v":{"$error":"#N/A"}},null,null,null,null,null,null,null,null,null,null,{"$f":"VLOOKUP(B3591,'(1) Project Reference Item List'!$B$2:$D$1000,3,FALSE)","v":{"$error":"#N/A"}},null,null,0,0]
[{"$f":"VLOOKUP(B3592,'(1) Project Reference Item List'!$B$2:$C$1000,2,FALSE)","v":{"$error":"#N/A"}},null,null,null,null,null,null,null,null,null,null,{"$f":"VLOOKUP(B3592,'(1) Project Reference Item List'!$B$2:$D$1000,3,FALSE)","v":{"$error":"#N/A"}},null,null,0,0]
[{"$f":"VLOOKUP(B3593,'(1) Project Reference Item List'!$B$2:$C$1000,2,FALSE)","v":{"$error":"#N/A"}},null,null,null,null,null,null,null,null,null,null,{"$f":"VLOOKUP(B3593,'(1) Project Reference Item List'!$B$2:$D$1000,3,FALSE)","v":{"$error":"#N/A"}},null,null,0,0]
[{"$f":"VLOOKUP(B3594,'(1) Project Reference Item List'!$B$2:$C$1000,2,FALSE)","v":{"$error":"#N/A"}},null,null,null,null,null,null,null,null,null,null,{"$f":"VLOOKUP(B3594,'(1) Project Reference Item List'!$B$2:$D$1000,3,FALSE)","v":{"$error":"#N/A"}},null,null,0,0]
[{"$f":"VLOOKUP(B3595,'(1) Project Reference Item List'!$B$2:$C$1000,2,FALSE)","v":{"$error":"#N/A"}},null,null,null,null,null,null,null,null,null,null,{"$f":"VLOOKUP(B3595,'(1) Project Reference Item List'!$B$2:$D$1000,3,FALSE)","v":{"$error":"#N/A"}},null,null,0,0]
[{"$f":"VLOOKUP(B3596,'(1) Project Reference Item List'!$B$2:$C$1000,2,FALSE)","v":{"$error":"#N/A"}},null,null,null,null,null,null,null,null,null,null,{"$f":"VLOOKUP(B3596,'(1) Project Reference Item List'!$B$2:$D$1000,3,FALSE)","v":{"$error":"#N/A"}},null,null,0,0]
[{"$f":"VLOOKUP(B3597,'(1) Project Reference Item List'!$B$2:$C$1000,2,FALSE)","v":{"$error":"#N/A"}},null,null,null,null,null,null,null,null,null,null,{"$f":"VLOOKUP(B3597,'(1) Project Reference Item List'!$B$2:$D$1000,3,FALSE)","v":{"$error":"#N/A"}},null,null,0,0]
[{"$f":"VLOOKUP(B3598,'(1) Project Reference Item List'!$B$2:$C$1000,2,FALSE)","v":{"$error":"#N/A"}},null,null,null,null,null,null,null,null,null,null,{"$f":"VLOOKUP(B3598,'(1) Project Reference Item List'!$B$2:$D$1000,3,FALSE)","v":{"$error":"#N/A"}},null,null,0,0]
[{"$f":"VLOOKUP(B3599,'(1) Project Reference Item List'!$B$2:$C$1000,2,FALSE)","v":{"$error":"#N/A"}},null,null,null,null,null,null,null,null,null,null,{"$f":"VLOOKUP(B3599,'(1) Project Reference Item List'!$B$2:$D$1000,3,FALSE)","v":{"$error":"#N/A"}},null,null,0,0]
[{"$f":"VLOOKUP(B3600,'(1) Project Reference Item List'!$B$2:$C$1000,2,FALSE)","v":{"$error":"#N/A"}},null,null,null,null,null,null,null,null,null,null,{"$f":"VLOOKUP(B3600,'(1) Project Reference Item List'!$B$2:$D$1000,3,FALSE)","v":{"$error":"#N/A"}},null,null,0,0]
[{"$f":"VLOOKUP(B3601,'(1) Project Reference Item List'!$B$2:$C$1000,2,FALSE)","v":{"$error":"#N/A"}},null,null,null,null,null,null,null,null,null,null,{"$f":"VLOOKUP(B3601,'(1) Project Reference Item List'!$B$2:$D$1000,3,FALSE)","v":{"$error":"#N/A"}},null,null,0,0]
[{"$f":"VLOOKUP(B3602,'(1) Project Reference Item List'!$B$2:$C$1000,2,FALSE)","v":{"$error":"#N/A"}},null,null,null,null,null,null,null,null,null,null,{"$f":"VLOOKUP(B3602,'(1) Project Reference Item List'!$B$2:$D$1000,3,FALSE)","v":{"$error":"#N/A"}},null,null,0,0]
[{"$f":"VLOOKUP(B3603,'(1) Project Reference Item List'!$B$2:$C$1000,2,FALSE)","v":{"$error":"#N/A"}},null,null,null,null,null,null,null,null,null,null,{"$f":"VLOOKUP(B3603,'(1) Project Reference Item List'!$B$2:$D$1000,3,FALSE)","v":{"$error":"#N/A"}},null,null,0,0]
[{"$f":"VLOOKUP(B3604,'(1) Project Reference Item List'!$B$2:$C$1000,2,FALSE)","v":{"$error":"#N/A"}},null,null,null,null,null,null,null,null,null,null,{"$f":"VLOOKUP(B3604,'(1) Project Reference Item List'!$B$2:$D$1000,3,FALSE)","v":{"$error":"#N/A"}},null,null,0,0]
[{"$f":"VLOOKUP(B3605,'(1) Project Reference Item List'!$B$2:$C$1000,2,FALSE)","v":{"$error":"#N/A"}},null,null,null,null,null,null,null,null,null,null,{"$f":"VLOOKUP(B3605,'(1) Project Reference Item List'!$B$2:$D$1000,3,FALSE)","v":{"$error":"#N/A"}},null,null,0,0]
[{"$f":"VLOOKUP(B3606,'(1) Project Reference Item List'!$B$2:$C$1000,2,FALSE)","v":{"$error":"#N/A"}},null,null,null,null,null,null,null,null,null,null,{"$f":"VLOOKUP(B3606,'(1) Project Reference Item List'!$B$2:$D$1000,3,FALSE)","v":{"$error":"#N/A"}},null,null,0,0]
[{"$f":"VLOOKUP(B3607,'(1) Project Reference Item List'!$B$2:$C$1000,2,FALSE)","v":{"$error":"#N/A"}},null,null,null,null,null,null,null,null,null,null,{"$f":"VLOOKUP(B3607,'(1) Project Reference Item List'!$B$2:$D$1000,3,FALSE)","v":{"$error":"#N/A"}},null,null,0,0]
[{"$f":"VLOOKUP(B3608,'(1) Project Reference Item List'!$B$2:$C$1000,2,FALSE)","v":{"$error":"#N/A"}},null,null,null,null,null,null,null,null,null,null,{"$f":"VLOOKUP(B3608,'(1) Project Reference Item List'!$B$2:$D$1000,3,FALSE)","v":{"$error":"#N/A"}},null,null,0,0]
[{"$f":"VLOOKUP(B3609,'(1) Project Reference Item List'!$B$2:$C$1000,2,FALSE)","v":{"$error":"#N/A"}},null,null,null,null,null,null,null,null,null,null,{"$f":"VLOOKUP(B3609,'(1) Project Reference Item List'!$B$2:$D$1000,3,FALSE)","v":{"$error":"#N/A"}},null,null,0,0]
[{"$f":"VLOOKUP(B3610,'(1) Project Reference Item List'!$B$2:$C$1000,2,FALSE)","v":{"$error":"#N/A"}},null,null,null,null,null,null,null,null,null,null,{"$f":"VLOOKUP(B3610,'(1) Project Reference Item List'!$B$2:$D$1000,3,FALSE)","v":{"$error":"#N/A"}},null,null,0,0]
[{"$f":"VLOOKUP(B3611,'(1) Project Reference Item List'!$B$2:$C$1000,2,FALSE)","v":{"$error":"#N/A"}},null,null,null,null,null,null,null,null,null,null,{"$f":"VLOOKUP(B3611,'(1) Project Reference Item List'!$B$2:$D$1000,3,FALSE)","v":{"$error":"#N/A"}},null,null,0,0]
[{"$f":"VLOOKUP(B3612,'(1) Project Reference Item List'!$B$2:$C$1000,2,FALSE)","v":{"$error":"#N/A"}},null,null,null,null,null,null,null,null,null,null,{"$f":"VLOOKUP(B3612,'(1) Project Reference Item List'!$B$2:$D$1000,3,FALSE)","v":{"$error":"#N/A"}},null,null,0,0]
[{"$f":"VLOOKUP(B3613,'(1) Project Reference Item List'!$B$2:$C$1000,2,FALSE)","v":{"$error":"#N/A"}},null,null,null,null,null,null,null,null,null,null,{"$f":"VLOOKUP(B3613,'(1) Project Reference Item List'!$B$2:$D$1000,3,FALSE)","v":{"$error":"#N/A"}},null,null,0,0]
[{"$f":"VLOOKUP(B3614,'(1) Project Reference Item List'!$B$2:$C$1000,2,FALSE)","v":{"$error":"#N/A"}},null,null,null,null,null,null,null,null,null,null,{"$f":"VLOOKUP(B3614,'(1) Project Reference Item List'!$B$2:$D$1000,3,FALSE)","v":{"$error":"#N/A"}},null,null,0,0]
[{"$f":"VLOOKUP(B3615,'(1) Project Reference Item List'!$B$2:$C$1000,2,FALSE)","v":{"$error":"#N/A"}},null,null,null,null,null,null,null,null,null,null,{"$f":"VLOOKUP(B3615,'(1) Project Reference Item List'!$B$2:$D$1000,3,FALSE)","v":{"$error":"#N/A"}},null,null,0,0]
[{"$f":"VLOOKUP(B3616,'(1) Project Reference Item List'!$B$2:$C$1000,2,FALSE)","v":{"$error":"#N/A"}},null,null,null,null,null,null,null,null,null,null,{"$f":"VLOOKUP(B3616,'(1) Project Reference Item List'!$B$2:$D$1000,3,FALSE)","v":{"$error":"#N/A"}},null,null,0,0]
[{"$f":"VLOOKUP(B3617,'(1) Project Reference Item List'!$B$2:$C$1000,2,FALSE)","v":{"$error":"#N/A"}},null,null,null,null,null,null,null,null,null,null,{"$f":"VLOOKUP(B3617,'(1) Project Reference Item List'!$B$2:$D$1000,3,FALSE)","v":{"$error":"#N/A"}},null,null,0,0]
[{"$f":"VLOOKUP(B3618,'(1) Project Reference Item List'!$B$2:$C$1000,2,FALSE)","v":{"$error":"#N/A"}},null,null,null,null,null,null,null,null,null,null,{"$f":"VLOOKUP(B3618,'(1) Project Reference Item List'!$B$2:$D$1000,3,FALSE)","v":{"$error":"#N/A"}},null,null,0,0]
[{"$f":"VLOOKUP(B3619,'(1) Project Reference Item List'!$B$2:$C$1000,2,FALSE)","v":{"$error":"#N/A"}},null,null,null,null,null,null,null,null,null,null,{"$f":"VLOOKUP(B3619,'(1) Project Reference Item List'!$B$2:$D$1000,3,FALSE)","v":{"$error":"#N/A"}},null,null,0,0]
[{"$f":"VLOOKUP(B3620,'(1) Project Reference Item List'!$B$2:$C$1000,2,FALSE)","v":{"$error":"#N/A"}},null,null,null,null,null,null,null,null,null,null,{"$f":"VLOOKUP(B3620,'(1) Project Reference Item List'!$B$2:$D$1000,3,FALSE)","v":{"$error":"#N/A"}},null,null,0,0]
[{"$f":"VLOOKUP(B3621,'(1) Project Reference Item List'!$B$2:$C$1000,2,FALSE)","v":{"$error":"#N/A"}},null,null,null,null,null,null,null,null,null,null,{"$f":"VLOOKUP(B3621,'(1) Project Reference Item List'!$B$2:$D$1000,3,FALSE)","v":{"$error":"#N/A"}},null,null,0,0]
[{"$f":"VLOOKUP(B3622,'(1) Project Reference Item List'!$B$2:$C$1000,2,FALSE)","v":{"$error":"#N/A"}},null,null,null,null,null,null,null,null,null,null,{"$f":"VLOOKUP(B3622,'(1) Project Reference Item List'!$B$2:$D$1000,3,FALSE)","v":{"$error":"#N/A"}},null,null,0,0]
[{"$f":"VLOOKUP(B3623,'(1) Project Reference Item List'!$B$2:$C$1000,2,FALSE)","v":{"$error":"#N/A"}},null,null,null,null,null,null,null,null,null,null,{"$f":"VLOOKUP(B3623,'(1) Project Reference Item List'!$B$2:$D$1000,3,FALSE)","v":{"$error":"#N/A"}},null,null,0,0]
[{"$f":"VLOOKUP(B3624,'(1) Project Reference Item List'!$B$2:$C$1000,2,FALSE)","v":{"$error":"#N/A"}},null,null,null,null,null,null,null,null,null,null,{"$f":"VLOOKUP(B3624,'(1) Project Reference Item List'!$B$2:$D$1000,3,FALSE)","v":{"$error":"#N/A"}},null,null,0,0]
[{"$f":"VLOOKUP(B3625,'(1) Project Reference Item List'!$B$2:$C$1000,2,FALSE)","v":{"$error":"#N/A"}},null,null,null,null,null,null,null,null,null,null,{"$f":"VLOOKUP(B3625,'(1) Project Reference Item List'!$B$2:$D$1000,3,FALSE)","v":{"$error":"#N/A"}},null,null,0,0]
[{"$f":"VLOOKUP(B3626,'(1) Project Reference Item List'!$B$2:$C$1000,2,FALSE)","v":{"$error":"#N/A"}},null,null,null,null,null,null,null,null,null,null,{"$f":"VLOOKUP(B3626,'(1) Project Reference Item List'!$B$2:$D$1000,3,FALSE)","v":{"$error":"#N/A"}},null,null,0,0]
[{"$f":"VLOOKUP(B3627,'(1) Project Reference Item List'!$B$2:$C$1000,2,FALSE)","v":{"$error":"#N/A"}},null,null,null,null,null,null,null,null,null,null,{"$f":"VLOOKUP(B3627,'(1) Project Reference Item List'!$B$2:$D$1000,3,FALSE)","v":{"$error":"#N/A"}},null,null,0,0]
[{"$f":"VLOOKUP(B3628,'(1) Project Reference Item List'!$B$2:$C$1000,2,FALSE)","v":{"$error":"#N/A"}},null,null,null,null,null,null,null,null,null,null,{"$f":"VLOOKUP(B3628,'(1) Project Reference Item List'!$B$2:$D$1000,3,FALSE)","v":{"$error":"#N/A"}},null,null,0,0]
[{"$f":"VLOOKUP(B3629,'(1) Project Reference Item List'!$B$2:$C$1000,2,FALSE)","v":{"$error":"#N/A"}},null,null,null,null,null,null,null,null,null,null,{"$f":"VLOOKUP(B3629,'(1) Project Reference Item List'!$B$2:$D$1000,3,FALSE)","v":{"$error":"#N/A"}},null,null,0,0]
[{"$f":"VLOOKUP(B3630,'(1) Project Reference Item List'!$B$2:$C$1000,2,FALSE)","v":{"$error":"#N/A"}},null,null,null,null,null,null,null,null,null,null,{"$f":"VLOOKUP(B3630,'(1) Project Reference Item List'!$B$2:$D$1000,3,FALSE)","v":{"$error":"#N/A"}},null,null,0,0]
[{"$f":"VLOOKUP(B3631,'(1) Project Reference Item List'!$B$2:$C$1000,2,FALSE)","v":{"$error":"#N/A"}},null,null,null,null,null,null,null,null,null,null,{"$f":"VLOOKUP(B3631,'(1) Project Reference Item List'!$B$2:$D$1000,3,FALSE)","v":{"$error":"#N/A"}},null,null,0,0]
[{"$f":"VLOOKUP(B3632,'(1) Project Reference Item List'!$B$2:$C$1000,2,FALSE)","v":{"$error":"#N/A"}},null,null,null,null,null,null,null,null,null,null,{"$f":"VLOOKUP(B3632,'(1) Project Reference Item List'!$B$2:$D$1000,3,FALSE)","v":{"$error":"#N/A"}},null,null,0,0]
[{"$f":"VLOOKUP(B3633,'(1) Project Reference Item List'!$B$2:$C$1000,2,FALSE)","v":{"$error":"#N/A"}},null,null,null,null,null,null,null,null,null,null,{"$f":"VLOOKUP(B3633,'(1) Project Reference Item List'!$B$2:$D$1000,3,FALSE)","v":{"$error":"#N/A"}},null,null,0,0]
[{"$f":"VLOOKUP(B3634,'(1) Project Reference Item List'!$B$2:$C$1000,2,FALSE)","v":{"$error":"#N/A"}},null,null,null,null,null,null,null,null,null,null,{"$f":"VLOOKUP(B3634,'(1) Project Reference Item List'!$B$2:$D$1000,3,FALSE)","v":{"$error":"#N/A"}},null,null,0,0]
[{"$f":"VLOOKUP(B3635,'(1) Project Reference Item List'!$B$2:$C$1000,2,FALSE)","v":{"$error":"#N/A"}},null,null,null,null,null,null,null,null,null,null,{"$f":"VLOOKUP(B3635,'(1) Project Reference Item List'!$B$2:$D$1000,3,FALSE)","v":{"$error":"#N/A"}},null,null,0,0]
[{"$f":"VLOOKUP(B3636,'(1) Project Reference Item List'!$B$2:$C$1000,2,FALSE)","v":{"$error":"#N/A"}},null,null,null,null,null,null,null,null,null,null,{"$f":"VLOOKUP(B3636,'(1) Project Reference Item List'!$B$2:$D$1000,3,FALSE)","v":{"$error":"#N/A"}},null,null,0,0]
[{"$f":"VLOOKUP(B3637,'(1) Project Reference Item List'!$B$2:$C$1000,2,FALSE)","v":{"$error":"#N/A"}},null,null,null,null,null,null,null,null,null,null,{"$f":"VLOOKUP(B3637,'(1) Project Reference Item List'!$B$2:$D$1000,3,FALSE)","v":{"$error":"#N/A"}},null,null,0,0]
[{"$f":"VLOOKUP(B3638,'(1) Project Reference Item List'!$B$2:$C$1000,2,FALSE)","v":{"$error":"#N/A"}},null,null,null,null,null,null,null,null,null,null,{"$f":"VLOOKUP(B3638,'(1) Project Reference Item List'!$B$2:$D$1000,3,FALSE)","v":{"$error":"#N/A"}},null,null,0,0]
[{"$f":"VLOOKUP(B3639,'(1) Project Reference Item List'!$B$2:$C$1000,2,FALSE)","v":{"$error":"#N/A"}},null,null,null,null,null,null,null,null,null,null,{"$f":"VLOOKUP(B3639,'(1) Project Reference Item List'!$B$2:$D$1000,3,FALSE)","v":{"$error":"#N/A"}},null,null,0,0]
[{"$f":"VLOOKUP(B3640,'(1) Project Reference Item List'!$B$2:$C$1000,2,FALSE)","v":{"$error":"#N/A"}},null,null,null,null,null,null,null,null,null,null,{"$f":"VLOOKUP(B3640,'(1) Project Reference Item List'!$B$2:$D$1000,3,FALSE)","v":{"$error":"#N/A"}},null,null,0,0]
[{"$f":"VLOOKUP(B3641,'(1) Project Reference Item List'!$B$2:$C$1000,2,FALSE)","v":{"$error":"#N/A"}},null,null,null,null,null,null,null,null,null,null,{"$f":"VLOOKUP(B3641,'(1) Project Reference Item List'!$B$2:$D$1000,3,FALSE)","v":{"$error":"#N/A"}},null,null,0,0]
[{"$f":"VLOOKUP(B3642,'(1) Project Reference Item List'!$B$2:$C$1000,2,FALSE)","v":{"$error":"#N/A"}},null,null,null,null,null,null,null,null,null,null,{"$f":"VLOOKUP(B3642,'(1) Project Reference Item List'!$B$2:$D$1000,3,FALSE)","v":{"$error":"#N/A"}},null,null,0,0]
[{"$f":"VLOOKUP(B3643,'(1) Project Reference Item List'!$B$2:$C$1000,2,FALSE)","v":{"$error":"#N/A"}},null,null,null,null,null,null,null,null,null,null,{"$f":"VLOOKUP(B3643,'(1) Project Reference Item List'!$B$2:$D$1000,3,FALSE)","v":{"$error":"#N/A"}},null,null,0,0]
[{"$f":"VLOOKUP(B3644,'(1) Project Reference Item List'!$B$2:$C$1000,2,FALSE)","v":{"$error":"#N/A"}},null,null,null,null,null,null,null,null,null,null,{"$f":"VLOOKUP(B3644,'(1) Project Reference Item List'!$B$2:$D$1000,3,FALSE)","v":{"$error":"#N/A"}},null,null,0,0]
[{"$f":"VLOOKUP(B3645,'(1) Project Reference Item List'!$B$2:$C$1000,2,FALSE)","v":{"$error":"#N/A"}},null,null,null,null,null,null,null,null,null,null,{"$f":"VLOOKUP(B3645,'(1) Project Reference Item List'!$B$2:$D$1000,3,FALSE)","v":{"$error":"#N/A"}},null,null,0,0]
[{"$f":"VLOOKUP(B3646,'(1) Project Reference Item List'!$B$2:$C$1000,2,FALSE)","v":{"$error":"#N/A"}},null,null,null,null,null,null,null,null,null,null,{"$f":"VLOOKUP(B3646,'(1) Project Reference Item List'!$B$2:$D$1000,3,FALSE)","v":{"$error":"#N/A"}},null,null,0,0]
[{"$f":"VLOOKUP(B3647,'(1) Project Reference Item List'!$B$2:$C$1000,2,FALSE)","v":{"$error":"#N/A"}},null,null,null,null,null,null,null,null,null,null,{"$f":"VLOOKUP(B3647,'(1) Project Reference Item List'!$B$2:$D$1000,3,FALSE)","v":{"$error":"#N/A"}},null,null,0,0]
[{"$f":"VLOOKUP(B3648,'(1) Project Reference Item List'!$B$2:$C$1000,2,FALSE)","v":{"$error":"#N/A"}},null,null,null,null,null,null,null,null,null,null,{"$f":"VLOOKUP(B3648,'(1) Project Reference Item List'!$B$2:$D$1000,3,FALSE)","v":{"$error":"#N/A"}},null,null,0,0]
[{"$f":"VLOOKUP(B3649,'(1) Project Reference Item List'!$B$2:$C$1000,2,FALSE)","v":{"$error":"#N/A"}},null,null,null,null,null,null,null,null,null,null,{"$f":"VLOOKUP(B3649,'(1) Project Reference Item List'!$B$2:$D$1000,3,FALSE)","v":{"$error":"#N/A"}},null,null,0,0]
[{"$f":"VLOOKUP(B3650,'(1) Project Reference Item List'!$B$2:$C$1000,2,FALSE)","v":{"$error":"#N/A"}},null,null,null,null,null,null,null,null,null,null,{"$f":"VLOOKUP(B3650,'(1) Project Reference Item List'!$B$2:$D$1000,3,FALSE)","v":{"$error":"#N/A"}},null,null,0,0]
[{"$f":"VLOOKUP(B3651,'(1) Project Reference Item List'!$B$2:$C$1000,2,FALSE)","v":{"$error":"#N/A"}},null,null,null,null,null,null,null,null,null,null,{"$f":"VLOOKUP(B3651,'(1) Project Reference Item List'!$B$2:$D$1000,3,FALSE)","v":{"$error":"#N/A"}},null,null,0,0]
[{"$f":"VLOOKUP(B3652,'(1) Project Reference Item List'!$B$2:$C$1000,2,FALSE)","v":{"$error":"#N/A"}},null,null,null,null,null,null,null,null,null,null,{"$f":"VLOOKUP(B3652,'(1) Project Reference Item List'!$B$2:$D$1000,3,FALSE)","v":{"$error":"#N/A"}},null,null,0,0]
[{"$f":"VLOOKUP(B3653,'(1) Project Reference Item List'!$B$2:$C$1000,2,FALSE)","v":{"$error":"#N/A"}},null,null,null,null,null,null,null,null,null,null,{"$f":"VLOOKUP(B3653,'(1) Project Reference Item List'!$B$2:$D$1000,3,FALSE)","v":{"$error":"#N/A"}},null,null,0,0]
[{"$f":"VLOOKUP(B3654,'(1) Project Reference Item List'!$B$2:$C$1000,2,FALSE)","v":{"$error":"#N/A"}},null,null,null,null,null,null,null,null,null,null,{"$f":"VLOOKUP(B3654,'(1) Project Reference Item List'!$B$2:$D$1000,3,FALSE)","v":{"$error":"#N/A"}},null,null,{"$f":"IF(J3654=0,J3654,J3654*N3654)","v":0},{"$f":"(M3654-O3654)","v":0}]
[{"$f":"VLOOKUP(B3655,'(1) Project Reference Item List'!$B$2:$C$1000,2,FALSE)","v":{"$error":"#N/A"}},null,null,null,null,null,null,null,null,null,null,{"$f":"VLOOKUP(B3655,'(1) Project Reference Item List'!$B$2:$D$1000,3,FALSE)","v":{"$error":"#N/A"}},null,null,0,0]
[{"$f":"VLOOKUP(B3656,'(1) Project Reference Item List'!$B$2:$C$1000,2,FALSE)","v":{"$error":"#N/A"}},null,null,null,null,null,null,null,null,null,null,{"$f":"VLOOKUP(B3656,'(1) Project Reference Item List'!$B$2:$D$1000,3,FALSE)","v":{"$error":"#N/A"}},null,null,0,0]
[{"$f":"VLOOKUP(B3657,'(1) Project Reference Item List'!$B$2:$C$1000,2,FALSE)","v":{"$error":"#N/A"}},null,null,null,null,null,null,null,null,null,null,{"$f":"VLOOKUP(B3657,'(1) Project Reference Item List'!$B$2:$D$1000,3,FALSE)","v":{"$error":"#N/A"}},null,null,0,0]
[{"$f":"VLOOKUP(B3658,'(1) Project Reference Item List'!$B$2:$C$1000,2,FALSE)","v":{"$error":"#N/A"}},null,null,null,null,null,null,null,null,null,null,{"$f":"VLOOKUP(B3658,'(1) Project Reference Item List'!$B$2:$D$1000,3,FALSE)","v":{"$error":"#N/A"}},null,null,0,0]
[{"$f":"VLOOKUP(B3659,'(1) Project Reference Item List'!$B$2:$C$1000,2,FALSE)","v":{"$error":"#N/A"}},null,null,null,null,null,null,null,null,null,null,{"$f":"VLOOKUP(B3659,'(1) Project Reference Item List'!$B$2:$D$1000,3,FALSE)","v":{"$error":"#N/A"}},null,null,0,0]
[{"$f":"VLOOKUP(B3660,'(1) Project Reference Item List'!$B$2:$C$1000,2,FALSE)","v":{"$error":"#N/A"}},null,null,null,null,null,null,null,null,null,null,{"$f":"VLOOKUP(B3660,'(1) Project Reference Item List'!$B$2:$D$1000,3,FALSE)","v":{"$error":"#N/A"}},null,null,0,0]
[{"$f":"VLOOKUP(B3661,'(1) Project Reference Item List'!$B$2:$C$1000,2,FALSE)","v":{"$error":"#N/A"}},null,null,null,null,null,null,null,null,null,null,{"$f":"VLOOKUP(B3661,'(1) Project Reference Item List'!$B$2:$D$1000,3,FALSE)","v":{"$error":"#N/A"}},null,null,0,0]
[{"$f":"VLOOKUP(B3662,'(1) Project Reference Item List'!$B$2:$C$1000,2,FALSE)","v":{"$error":"#N/A"}},null,null,null,null,null,null,null,null,null,null,{"$f":"VLOOKUP(B3662,'(1) Project Reference Item List'!$B$2:$D$1000,3,FALSE)","v":{"$error":"#N/A"}},null,null,0,0]
[{"$f":"VLOOKUP(B3663,'(1) Project Reference Item List'!$B$2:$C$1000,2,FALSE)","v":{"$error":"#N/A"}},null,null,null,null,null,null,null,null,null,null,{"$f":"VLOOKUP(B3663,'(1) Project Reference Item List'!$B$2:$D$1000,3,FALSE)","v":{"$error":"#N/A"}},null,null,0,0]
[{"$f":"VLOOKUP(B3664,'(1) Project Reference Item List'!$B$2:$C$1000,2,FALSE)","v":{"$error":"#N/A"}},null,null,null,null,null,null,null,null,null,null,{"$f":"VLOOKUP(B3664,'(1) Project Reference Item List'!$B$2:$D$1000,3,FALSE)","v":{"$error":"#N/A"}},null,null,0,0]
[{"$f":"VLOOKUP(B3665,'(1) Project Reference Item List'!$B$2:$C$1000,2,FALSE)","v":{"$error":"#N/A"}},null,null,null,null,null,null,null,null,null,null,{"$f":"VLOOKUP(B3665,'(1) Project Reference Item List'!$B$2:$D$1000,3,FALSE)","v":{"$error":"#N/A"}},null,null,0,0]
[{"$f":"VLOOKUP(B3666,'(1) Project Reference Item List'!$B$2:$C$1000,2,FALSE)","v":{"$error":"#N/A"}},null,null,null,null,null,null,null,null,null,null,{"$f":"VLOOKUP(B3666,'(1) Project Reference Item List'!$B$2:$D$1000,3,FALSE)","v":{"$error":"#N/A"}},null,null,0,0]
[{"$f":"VLOOKUP(B3667,'(1) Project Reference Item List'!$B$2:$C$1000,2,FALSE)","v":{"$error":"#N/A"}},null,null,null,null,null,null,null,null,null,null,{"$f":"VLOOKUP(B3667,'(1) Project Reference Item List'!$B$2:$D$1000,3,FALSE)","v":{"$error":"#N/A"}},null,null,0,0]
[{"$f":"VLOOKUP(B3668,'(1) Project Reference Item List'!$B$2:$C$1000,2,FALSE)","v":{"$error":"#N/A"}},null,null,null,null,null,null,null,null,null,null,{"$f":"VLOOKUP(B3668,'(1) Project Reference Item List'!$B$2:$D$1000,3,FALSE)","v":{"$error":"#N/A"}},null,null,0,0]
[{"$f":"VLOOKUP(B3669,'(1) Project Reference Item List'!$B$2:$C$1000,2,FALSE)","v":{"$error":"#N/A"}},null,null,null,null,null,null,null,null,null,null,{"$f":"VLOOKUP(B3669,'(1) Project Reference Item List'!$B$2:$D$1000,3,FALSE)","v":{"$error":"#N/A"}},null,null,0,0]
[{"$f":"VLOOKUP(B3670,'(1) Project Reference Item List'!$B$2:$C$1000,2,FALSE)","v":{"$error":"#N/A"}},null,null,null,null,null,null,null,null,null,null,{"$f":"VLOOKUP(B3670,'(1) Project Reference Item List'!$B$2:$D$1000,3,FALSE)","v":{"$error":"#N/A"}},null,null,0,0]
[{"$f":"VLOOKUP(B3671,'(1) Project Reference Item List'!$B$2:$C$1000,2,FALSE)","v":{"$error":"#N/A"}},null,null,null,null,null,null,null,null,null,null,{"$f":"VLOOKUP(B3671,'(1) Project Reference Item List'!$B$2:$D$1000,3,FALSE)","v":{"$error":"#N/A"}},null,null,0,0]
[{"$f":"VLOOKUP(B3672,'(1) Project Reference Item List'!$B$2:$C$1000,2,FALSE)","v":{"$error":"#N/A"}},null,null,null,null,null,null,null,null,null,null,{"$f":"VLOOKUP(B3672,'(1) Project Reference Item List'!$B$2:$D$1000,3,FALSE)","v":{"$error":"#N/A"}},null,null,0,0]
[{"$f":"VLOOKUP(B3673,'(1) Project Reference Item List'!$B$2:$C$1000,2,FALSE)","v":{"$error":"#N/A"}},null,null,null,null,null,null,null,null,null,null,{"$f":"VLOOKUP(B3673,'(1) Project Reference Item List'!$B$2:$D$1000,3,FALSE)","v":{"$error":"#N/A"}},null,null,0,0]
[{"$f":"VLOOKUP(B3674,'(1) Project Reference Item List'!$B$2:$C$1000,2,FALSE)","v":{"$error":"#N/A"}},null,null,null,null,null,null,null,null,null,null,{"$f":"VLOOKUP(B3674,'(1) Project Reference Item List'!$B$2:$D$1000,3,FALSE)","v":{"$error":"#N/A"}},null,null,0,0]
[{"$f":"VLOOKUP(B3675,'(1) Project Reference Item List'!$B$2:$C$1000,2,FALSE)","v":{"$error":"#N/A"}},null,null,null,null,null,null,null,null,null,null,{"$f":"VLOOKUP(B3675,'(1) Project Reference Item List'!$B$2:$D$1000,3,FALSE)","v":{"$error":"#N/A"}},null,null,0,0]
[{"$f":"VLOOKUP(B3676,'(1) Project Reference Item List'!$B$2:$C$1000,2,FALSE)","v":{"$error":"#N/A"}},null,null,null,null,null,null,null,null,null,null,{"$f":"VLOOKUP(B3676,'(1) Project Reference Item List'!$B$2:$D$1000,3,FALSE)","v":{"$error":"#N/A"}},null,null,0,0]
[{"$f":"VLOOKUP(B3677,'(1) Project Reference Item List'!$B$2:$C$1000,2,FALSE)","v":{"$error":"#N/A"}},null,null,null,null,null,null,null,null,null,null,{"$f":"VLOOKUP(B3677,'(1) Project Reference Item List'!$B$2:$D$1000,3,FALSE)","v":{"$error":"#N/A"}},null,null,0,0]
[{"$f":"VLOOKUP(B3678,'(1) Project Reference Item List'!$B$2:$C$1000,2,FALSE)","v":{"$error":"#N/A"}},null,null,null,null,null,null,null,null,null,null,{"$f":"VLOOKUP(B3678,'(1) Project Reference Item List'!$B$2:$D$1000,3,FALSE)","v":{"$error":"#N/A"}},null,null,0,0]
[{"$f":"VLOOKUP(B3679,'(1) Project Reference Item List'!$B$2:$C$1000,2,FALSE)","v":{"$error":"#N/A"}},null,null,null,null,null,null,null,null,null,null,{"$f":"VLOOKUP(B3679,'(1) Project Reference Item List'!$B$2:$D$1000,3,FALSE)","v":{"$error":"#N/A"}},null,null,0,0]
[{"$f":"VLOOKUP(B3680,'(1) Project Reference Item List'!$B$2:$C$1000,2,FALSE)","v":{"$error":"#N/A"}},null,null,null,null,null,null,null,null,null,null,{"$f":"VLOOKUP(B3680,'(1) Project Reference Item List'!$B$2:$D$1000,3,FALSE)","v":{"$error":"#N/A"}},null,null,0,0]
[{"$f":"VLOOKUP(B3681,'(1) Project Reference Item List'!$B$2:$C$1000,2,FALSE)","v":{"$error":"#N/A"}},null,null,null,null,null,null,null,null,null,null,{"$f":"VLOOKUP(B3681,'(1) Project Reference Item List'!$B$2:$D$1000,3,FALSE)","v":{"$error":"#N/A"}},null,null,0,0]
[{"$f":"VLOOKUP(B3682,'(1) Project Reference Item List'!$B$2:$C$1000,2,FALSE)","v":{"$error":"#N/A"}},null,null,null,null,null,null,null,null,null,null,{"$f":"VLOOKUP(B3682,'(1) Project Reference Item List'!$B$2:$D$1000,3,FALSE)","v":{"$error":"#N/A"}},null,null,0,0]
[{"$f":"VLOOKUP(B3683,'(1) Project Reference Item List'!$B$2:$C$1000,2,FALSE)","v":{"$error":"#N/A"}},null,null,null,null,null,null,null,null,null,null,{"$f":"VLOOKUP(B3683,'(1) Project Reference Item List'!$B$2:$D$1000,3,FALSE)","v":{"$error":"#N/A"}},null,null,0,0]
[{"$f":"VLOOKUP(B3684,'(1) Project Reference Item List'!$B$2:$C$1000,2,FALSE)","v":{"$error":"#N/A"}},null,null,null,null,null,null,null,null,null,null,{"$f":"VLOOKUP(B3684,'(1) Project Reference Item List'!$B$2:$D$1000,3,FALSE)","v":{"$error":"#N/A"}},null,null,0,0]
[{"$f":"VLOOKUP(B3685,'(1) Project Reference Item List'!$B$2:$C$1000,2,FALSE)","v":{"$error":"#N/A"}},null,null,null,null,null,null,null,null,null,null,{"$f":"VLOOKUP(B3685,'(1) Project Reference Item List'!$B$2:$D$1000,3,FALSE)","v":{"$error":"#N/A"}},null,null,0,0]
[{"$f":"VLOOKUP(B3686,'(1) Project Reference Item List'!$B$2:$C$1000,2,FALSE)","v":{"$error":"#N/A"}},null,null,null,null,null,null,null,null,null,null,{"$f":"VLOOKUP(B3686,'(1) Project Reference Item List'!$B$2:$D$1000,3,FALSE)","v":{"$error":"#N/A"}},null,null,0,0]
[{"$f":"VLOOKUP(B3687,'(1) Project Reference Item List'!$B$2:$C$1000,2,FALSE)","v":{"$error":"#N/A"}},null,null,null,null,null,null,null,null,null,null,{"$f":"VLOOKUP(B3687,'(1) Project Reference Item List'!$B$2:$D$1000,3,FALSE)","v":{"$error":"#N/A"}},null,null,0,0]
[{"$f":"VLOOKUP(B3688,'(1) Project Reference Item List'!$B$2:$C$1000,2,FALSE)","v":{"$error":"#N/A"}},null,null,null,null,null,null,null,null,null,null,{"$f":"VLOOKUP(B3688,'(1) Project Reference Item List'!$B$2:$D$1000,3,FALSE)","v":{"$error":"#N/A"}},null,null,0,0]
[{"$f":"VLOOKUP(B3689,'(1) Project Reference Item List'!$B$2:$C$1000,2,FALSE)","v":{"$error":"#N/A"}},null,null,null,null,null,null,null,null,null,null,{"$f":"VLOOKUP(B3689,'(1) Project Reference Item List'!$B$2:$D$1000,3,FALSE)","v":{"$error":"#N/A"}},null,null,0,0]
[{"$f":"VLOOKUP(B3690,'(1) Project Reference Item List'!$B$2:$C$1000,2,FALSE)","v":{"$error":"#N/A"}},null,null,null,null,null,null,null,null,null,null,{"$f":"VLOOKUP(B3690,'(1) Project Reference Item List'!$B$2:$D$1000,3,FALSE)","v":{"$error":"#N/A"}},null,null,0,0]
[{"$f":"VLOOKUP(B3691,'(1) Project Reference Item List'!$B$2:$C$1000,2,FALSE)","v":{"$error":"#N/A"}},null,null,null,null,null,null,null,null,null,null,{"$f":"VLOOKUP(B3691,'(1) Project Reference Item List'!$B$2:$D$1000,3,FALSE)","v":{"$error":"#N/A"}},null,null,0,0]
[{"$f":"VLOOKUP(B3692,'(1) Project Reference Item List'!$B$2:$C$1000,2,FALSE)","v":{"$error":"#N/A"}},null,null,null,null,null,null,null,null,null,null,{"$f":"VLOOKUP(B3692,'(1) Project Reference Item List'!$B$2:$D$1000,3,FALSE)","v":{"$error":"#N/A"}},null,null,0,0]
[{"$f":"VLOOKUP(B3693,'(1) Project Reference Item List'!$B$2:$C$1000,2,FALSE)","v":{"$error":"#N/A"}},null,null,null,null,null,null,null,null,null,null,{"$f":"VLOOKUP(B3693,'(1) Project Reference Item List'!$B$2:$D$1000,3,FALSE)","v":{"$error":"#N/A"}},null,null,0,0]
[{"$f":"VLOOKUP(B3694,'(1) Project Reference Item List'!$B$2:$C$1000,2,FALSE)","v":{"$error":"#N/A"}},null,null,null,null,null,null,null,null,null,null,{"$f":"VLOOKUP(B3694,'(1) Project Reference Item List'!$B$2:$D$1000,3,FALSE)","v":{"$error":"#N/A"}},null,null,0,0]
[{"$f":"VLOOKUP(B3695,'(1) Project Reference Item List'!$B$2:$C$1000,2,FALSE)","v":{"$error":"#N/A"}},null,null,null,null,null,null,null,null,null,null,{"$f":"VLOOKUP(B3695,'(1) Project Reference Item List'!$B$2:$D$1000,3,FALSE)","v":{"$error":"#N/A"}},null,null,0,0]
[{"$f":"VLOOKUP(B3696,'(1) Project Reference Item List'!$B$2:$C$1000,2,FALSE)","v":{"$error":"#N/A"}},null,null,null,null,null,null,null,null,null,null,{"$f":"VLOOKUP(B3696,'(1) Project Reference Item List'!$B$2:$D$1000,3,FALSE)","v":{"$error":"#N/A"}},null,null,0,0]
[{"$f":"VLOOKUP(B3697,'(1) Project Reference Item List'!$B$2:$C$1000,2,FALSE)","v":{"$error":"#N/A"}},null,null,null,null,null,null,null,null,null,null,{"$f":"VLOOKUP(B3697,'(1) Project Reference Item List'!$B$2:$D$1000,3,FALSE)","v":{"$error":"#N/A"}},null,null,0,0]
[{"$f":"VLOOKUP(B3698,'(1) Project Reference Item List'!$B$2:$C$1000,2,FALSE)","v":{"$error":"#N/A"}},null,null,null,null,null,null,null,null,null,null,{"$f":"VLOOKUP(B3698,'(1) Project Reference Item List'!$B$2:$D$1000,3,FALSE)","v":{"$error":"#N/A"}},null,null,0,0]
[{"$f":"VLOOKUP(B3699,'(1) Project Reference Item List'!$B$2:$C$1000,2,FALSE)","v":{"$error":"#N/A"}},null,null,null,null,null,null,null,null,null,null,{"$f":"VLOOKUP(B3699,'(1) Project Reference Item List'!$B$2:$D$1000,3,FALSE)","v":{"$error":"#N/A"}},null,null,0,0]
[{"$f":"VLOOKUP(B3700,'(1) Project Reference Item List'!$B$2:$C$1000,2,FALSE)","v":{"$error":"#N/A"}},null,null,null,null,null,null,null,null,null,null,{"$f":"VLOOKUP(B3700,'(1) Project Reference Item List'!$B$2:$D$1000,3,FALSE)","v":{"$error":"#N/A"}},null,null,0,0]
[{"$f":"VLOOKUP(B3701,'(1) Project Reference Item List'!$B$2:$C$1000,2,FALSE)","v":{"$error":"#N/A"}},null,null,null,null,null,null,null,null,null,null,{"$f":"VLOOKUP(B3701,'(1) Project Reference Item List'!$B$2:$D$1000,3,FALSE)","v":{"$error":"#N/A"}},null,null,0,0]
[{"$f":"VLOOKUP(B3702,'(1) Project Reference Item List'!$B$2:$C$1000,2,FALSE)","v":{"$error":"#N/A"}},null,null,null,null,null,null,null,null,null,null,{"$f":"VLOOKUP(B3702,'(1) Project Reference Item List'!$B$2:$D$1000,3,FALSE)","v":{"$error":"#N/A"}},null,null,0,0]
[{"$f":"VLOOKUP(B3703,'(1) Project Reference Item List'!$B$2:$C$1000,2,FALSE)","v":{"$error":"#N/A"}},null,null,null,null,null,null,null,null,null,null,{"$f":"VLOOKUP(B3703,'(1) Project Reference Item List'!$B$2:$D$1000,3,FALSE)","v":{"$error":"#N/A"}},null,null,0,0]
[{"$f":"VLOOKUP(B3704,'(1) Project Reference Item List'!$B$2:$C$1000,2,FALSE)","v":{"$error":"#N/A"}},null,null,null,null,null,null,null,null,null,null,{"$f":"VLOOKUP(B3704,'(1) Project Reference Item List'!$B$2:$D$1000,3,FALSE)","v":{"$error":"#N/A"}},null,null,0,0]
[{"$f":"VLOOKUP(B3705,'(1) Project Reference Item List'!$B$2:$C$1000,2,FALSE)","v":{"$error":"#N/A"}},null,null,null,null,null,null,null,null,null,null,{"$f":"VLOOKUP(B3705,'(1) Project Reference Item List'!$B$2:$D$1000,3,FALSE)","v":{"$error":"#N/A"}},null,null,0,0]
[{"$f":"VLOOKUP(B3706,'(1) Project Reference Item List'!$B$2:$C$1000,2,FALSE)","v":{"$error":"#N/A"}},null,null,null,null,null,null,null,null,null,null,{"$f":"VLOOKUP(B3706,'(1) Project Reference Item List'!$B$2:$D$1000,3,FALSE)","v":{"$error":"#N/A"}},null,null,0,0]
[{"$f":"VLOOKUP(B3707,'(1) Project Reference Item List'!$B$2:$C$1000,2,FALSE)","v":{"$error":"#N/A"}},null,null,null,null,null,null,null,null,null,null,{"$f":"VLOOKUP(B3707,'(1) Project Reference Item List'!$B$2:$D$1000,3,FALSE)","v":{"$error":"#N/A"}},null,null,0,0]
[{"$f":"VLOOKUP(B3708,'(1) Project Reference Item List'!$B$2:$C$1000,2,FALSE)","v":{"$error":"#N/A"}},null,null,null,null,null,null,null,null,null,null,{"$f":"VLOOKUP(B3708,'(1) Project Reference Item List'!$B$2:$D$1000,3,FALSE)","v":{"$error":"#N/A"}},null,null,0,0]
[{"$f":"VLOOKUP(B3709,'(1) Project Reference Item List'!$B$2:$C$1000,2,FALSE)","v":{"$error":"#N/A"}},null,null,null,null,null,null,null,null,null,null,{"$f":"VLOOKUP(B3709,'(1) Project Reference Item List'!$B$2:$D$1000,3,FALSE)","v":{"$error":"#N/A"}},null,null,0,0]
[{"$f":"VLOOKUP(B3710,'(1) Project Reference Item List'!$B$2:$C$1000,2,FALSE)","v":{"$error":"#N/A"}},null,null,null,null,null,null,null,null,null,null,{"$f":"VLOOKUP(B3710,'(1) Project Reference Item List'!$B$2:$D$1000,3,FALSE)","v":{"$error":"#N/A"}},null,null,0,0]
[{"$f":"VLOOKUP(B3711,'(1) Project Reference Item List'!$B$2:$C$1000,2,FALSE)","v":{"$error":"#N/A"}},null,null,null,null,null,null,null,null,null,null,{"$f":"VLOOKUP(B3711,'(1) Project Reference Item List'!$B$2:$D$1000,3,FALSE)","v":{"$error":"#N/A"}},null,null,0,0]
[{"$f":"VLOOKUP(B3712,'(1) Project Reference Item List'!$B$2:$C$1000,2,FALSE)","v":{"$error":"#N/A"}},null,null,null,null,null,null,null,null,null,null,{"$f":"VLOOKUP(B3712,'(1) Project Reference Item List'!$B$2:$D$1000,3,FALSE)","v":{"$error":"#N/A"}},null,null,0,0]
[{"$f":"VLOOKUP(B3713,'(1) Project Reference Item List'!$B$2:$C$1000,2,FALSE)","v":{"$error":"#N/A"}},null,null,null,null,null,null,null,null,null,null,{"$f":"VLOOKUP(B3713,'(1) Project Reference Item List'!$B$2:$D$1000,3,FALSE)","v":{"$error":"#N/A"}},null,null,0,0]
[{"$f":"VLOOKUP(B3714,'(1) Project Reference Item List'!$B$2:$C$1000,2,FALSE)","v":{"$error":"#N/A"}},null,null,null,null,null,null,null,null,null,null,{"$f":"VLOOKUP(B3714,'(1) Project Reference Item List'!$B$2:$D$1000,3,FALSE)","v":{"$error":"#N/A"}},null,null,0,0]
[{"$f":"VLOOKUP(B3715,'(1) Project Reference Item List'!$B$2:$C$1000,2,FALSE)","v":{"$error":"#N/A"}},null,null,null,null,null,null,null,null,null,null,{"$f":"VLOOKUP(B3715,'(1) Project Reference Item List'!$B$2:$D$1000,3,FALSE)","v":{"$error":"#N/A"}},null,null,0,0]
[{"$f":"VLOOKUP(B3716,'(1) Project Reference Item List'!$B$2:$C$1000,2,FALSE)","v":{"$error":"#N/A"}},null,null,null,null,null,null,null,null,null,null,{"$f":"VLOOKUP(B3716,'(1) Project Reference Item List'!$B$2:$D$1000,3,FALSE)","v":{"$error":"#N/A"}},null,null,0,0]
[{"$f":"VLOOKUP(B3717,'(1) Project Reference Item List'!$B$2:$C$1000,2,FALSE)","v":{"$error":"#N/A"}},null,null,null,null,null,null,null,null,null,null,{"$f":"VLOOKUP(B3717,'(1) Project Reference Item List'!$B$2:$D$1000,3,FALSE)","v":{"$error":"#N/A"}},null,null,0,0]
[{"$f":"VLOOKUP(B3718,'(1) Project Reference Item List'!$B$2:$C$1000,2,FALSE)","v":{"$error":"#N/A"}},null,null,null,null,null,null,null,null,null,null,{"$f":"VLOOKUP(B3718,'(1) Project Reference Item List'!$B$2:$D$1000,3,FALSE)","v":{"$error":"#N/A"}},null,null,{"$f":"IF(J3718=0,J3718,J3718*N3718)","v":0},{"$f":"(M3718-O3718)","v":0}]
[{"$f":"VLOOKUP(B3719,'(1) Project Reference Item List'!$B$2:$C$1000,2,FALSE)","v":{"$error":"#N/A"}},null,null,null,null,null,null,null,null,null,null,{"$f":"VLOOKUP(B3719,'(1) Project Reference Item List'!$B$2:$D$1000,3,FALSE)","v":{"$error":"#N/A"}},null,null,0,0]
[{"$f":"VLOOKUP(B3720,'(1) Project Reference Item List'!$B$2:$C$1000,2,FALSE)","v":{"$error":"#N/A"}},null,null,null,null,null,null,null,null,null,null,{"$f":"VLOOKUP(B3720,'(1) Project Reference Item List'!$B$2:$D$1000,3,FALSE)","v":{"$error":"#N/A"}},null,null,0,0]
[{"$f":"VLOOKUP(B3721,'(1) Project Reference Item List'!$B$2:$C$1000,2,FALSE)","v":{"$error":"#N/A"}},null,null,null,null,null,null,null,null,null,null,{"$f":"VLOOKUP(B3721,'(1) Project Reference Item List'!$B$2:$D$1000,3,FALSE)","v":{"$error":"#N/A"}},null,null,0,0]
[{"$f":"VLOOKUP(B3722,'(1) Project Reference Item List'!$B$2:$C$1000,2,FALSE)","v":{"$error":"#N/A"}},null,null,null,null,null,null,null,null,null,null,{"$f":"VLOOKUP(B3722,'(1) Project Reference Item List'!$B$2:$D$1000,3,FALSE)","v":{"$error":"#N/A"}},null,null,0,0]
[{"$f":"VLOOKUP(B3723,'(1) Project Reference Item List'!$B$2:$C$1000,2,FALSE)","v":{"$error":"#N/A"}},null,null,null,null,null,null,null,null,null,null,{"$f":"VLOOKUP(B3723,'(1) Project Reference Item List'!$B$2:$D$1000,3,FALSE)","v":{"$error":"#N/A"}},null,null,0,0]
[{"$f":"VLOOKUP(B3724,'(1) Project Reference Item List'!$B$2:$C$1000,2,FALSE)","v":{"$error":"#N/A"}},null,null,null,null,null,null,null,null,null,null,{"$f":"VLOOKUP(B3724,'(1) Project Reference Item List'!$B$2:$D$1000,3,FALSE)","v":{"$error":"#N/A"}},null,null,0,0]
[{"$f":"VLOOKUP(B3725,'(1) Project Reference Item List'!$B$2:$C$1000,2,FALSE)","v":{"$error":"#N/A"}},null,null,null,null,null,null,null,null,null,null,{"$f":"VLOOKUP(B3725,'(1) Project Reference Item List'!$B$2:$D$1000,3,FALSE)","v":{"$error":"#N/A"}},null,null,0,0]
[{"$f":"VLOOKUP(B3726,'(1) Project Reference Item List'!$B$2:$C$1000,2,FALSE)","v":{"$error":"#N/A"}},null,null,null,null,null,null,null,null,null,null,{"$f":"VLOOKUP(B3726,'(1) Project Reference Item List'!$B$2:$D$1000,3,FALSE)","v":{"$error":"#N/A"}},null,null,0,0]
[{"$f":"VLOOKUP(B3727,'(1) Project Reference Item List'!$B$2:$C$1000,2,FALSE)","v":{"$error":"#N/A"}},null,null,null,null,null,null,null,null,null,null,{"$f":"VLOOKUP(B3727,'(1) Project Reference Item List'!$B$2:$D$1000,3,FALSE)","v":{"$error":"#N/A"}},null,null,0,0]
[{"$f":"VLOOKUP(B3728,'(1) Project Reference Item List'!$B$2:$C$1000,2,FALSE)","v":{"$error":"#N/A"}},null,null,null,null,null,null,null,null,null,null,{"$f":"VLOOKUP(B3728,'(1) Project Reference Item List'!$B$2:$D$1000,3,FALSE)","v":{"$error":"#N/A"}},null,null,0,0]
[{"$f":"VLOOKUP(B3729,'(1) Project Reference Item List'!$B$2:$C$1000,2,FALSE)","v":{"$error":"#N/A"}},null,null,null,null,null,null,null,null,null,null,{"$f":"VLOOKUP(B3729,'(1) Project Reference Item List'!$B$2:$D$1000,3,FALSE)","v":{"$error":"#N/A"}},null,null,0,0]
[{"$f":"VLOOKUP(B3730,'(1) Project Reference Item List'!$B$2:$C$1000,2,FALSE)","v":{"$error":"#N/A"}},null,null,null,null,null,null,null,null,null,null,{"$f":"VLOOKUP(B3730,'(1) Project Reference Item List'!$B$2:$D$1000,3,FALSE)","v":{"$error":"#N/A"}},null,null,0,0]
[{"$f":"VLOOKUP(B3731,'(1) Project Reference Item List'!$B$2:$C$1000,2,FALSE)","v":{"$error":"#N/A"}},null,null,null,null,null,null,null,null,null,null,{"$f":"VLOOKUP(B3731,'(1) Project Reference Item List'!$B$2:$D$1000,3,FALSE)","v":{"$error":"#N/A"}},null,null,0,0]
[{"$f":"VLOOKUP(B3732,'(1) Project Reference Item List'!$B$2:$C$1000,2,FALSE)","v":{"$error":"#N/A"}},null,null,null,null,null,null,null,null,null,null,{"$f":"VLOOKUP(B3732,'(1) Project Reference Item List'!$B$2:$D$1000,3,FALSE)","v":{"$error":"#N/A"}},null,null,0,0]
[{"$f":"VLOOKUP(B3733,'(1) Project Reference Item List'!$B$2:$C$1000,2,FALSE)","v":{"$error":"#N/A"}},null,null,null,null,null,null,null,null,null,null,{"$f":"VLOOKUP(B3733,'(1) Project Reference Item List'!$B$2:$D$1000,3,FALSE)","v":{"$error":"#N/A"}},null,null,0,0]
[{"$f":"VLOOKUP(B3734,'(1) Project Reference Item List'!$B$2:$C$1000,2,FALSE)","v":{"$error":"#N/A"}},null,null,null,null,null,null,null,null,null,null,{"$f":"VLOOKUP(B3734,'(1) Project Reference Item List'!$B$2:$D$1000,3,FALSE)","v":{"$error":"#N/A"}},null,null,0,0]
[{"$f":"VLOOKUP(B3735,'(1) Project Reference Item List'!$B$2:$C$1000,2,FALSE)","v":{"$error":"#N/A"}},null,null,null,null,null,null,null,null,null,null,{"$f":"VLOOKUP(B3735,'(1) Project Reference Item List'!$B$2:$D$1000,3,FALSE)","v":{"$error":"#N/A"}},null,null,0,0]
[{"$f":"VLOOKUP(B3736,'(1) Project Reference Item List'!$B$2:$C$1000,2,FALSE)","v":{"$error":"#N/A"}},null,null,null,null,null,null,null,null,null,null,{"$f":"VLOOKUP(B3736,'(1) Project Reference Item List'!$B$2:$D$1000,3,FALSE)","v":{"$error":"#N/A"}},null,null,0,0]
[{"$f":"VLOOKUP(B3737,'(1) Project Reference Item List'!$B$2:$C$1000,2,FALSE)","v":{"$error":"#N/A"}},null,null,null,null,null,null,null,null,null,null,{"$f":"VLOOKUP(B3737,'(1) Project Reference Item List'!$B$2:$D$1000,3,FALSE)","v":{"$error":"#N/A"}},null,null,0,0]
[{"$f":"VLOOKUP(B3738,'(1) Project Reference Item List'!$B$2:$C$1000,2,FALSE)","v":{"$error":"#N/A"}},null,null,null,null,null,null,null,null,null,null,{"$f":"VLOOKUP(B3738,'(1) Project Reference Item List'!$B$2:$D$1000,3,FALSE)","v":{"$error":"#N/A"}},null,null,0,0]
[{"$f":"VLOOKUP(B3739,'(1) Project Reference Item List'!$B$2:$C$1000,2,FALSE)","v":{"$error":"#N/A"}},null,null,null,null,null,null,null,null,null,null,{"$f":"VLOOKUP(B3739,'(1) Project Reference Item List'!$B$2:$D$1000,3,FALSE)","v":{"$error":"#N/A"}},null,null,0,0]
[{"$f":"VLOOKUP(B3740,'(1) Project Reference Item List'!$B$2:$C$1000,2,FALSE)","v":{"$error":"#N/A"}},null,null,null,null,null,null,null,null,null,null,{"$f":"VLOOKUP(B3740,'(1) Project Reference Item List'!$B$2:$D$1000,3,FALSE)","v":{"$error":"#N/A"}},null,null,0,0]
[{"$f":"VLOOKUP(B3741,'(1) Project Reference Item List'!$B$2:$C$1000,2,FALSE)","v":{"$error":"#N/A"}},null,null,null,null,null,null,null,null,null,null,{"$f":"VLOOKUP(B3741,'(1) Project Reference Item List'!$B$2:$D$1000,3,FALSE)","v":{"$error":"#N/A"}},null,null,0,0]
[{"$f":"VLOOKUP(B3742,'(1) Project Reference Item List'!$B$2:$C$1000,2,FALSE)","v":{"$error":"#N/A"}},null,null,null,null,null,null,null,null,null,null,{"$f":"VLOOKUP(B3742,'(1) Project Reference Item List'!$B$2:$D$1000,3,FALSE)","v":{"$error":"#N/A"}},null,null,0,0]
[{"$f":"VLOOKUP(B3743,'(1) Project Reference Item List'!$B$2:$C$1000,2,FALSE)","v":{"$error":"#N/A"}},null,null,null,null,null,null,null,null,null,null,{"$f":"VLOOKUP(B3743,'(1) Project Reference Item List'!$B$2:$D$1000,3,FALSE)","v":{"$error":"#N/A"}},null,null,0,0]
[{"$f":"VLOOKUP(B3744,'(1) Project Reference Item List'!$B$2:$C$1000,2,FALSE)","v":{"$error":"#N/A"}},null,null,null,null,null,null,null,null,null,null,{"$f":"VLOOKUP(B3744,'(1) Project Reference Item List'!$B$2:$D$1000,3,FALSE)","v":{"$error":"#N/A"}},null,null,0,0]
[{"$f":"VLOOKUP(B3745,'(1) Project Reference Item List'!$B$2:$C$1000,2,FALSE)","v":{"$error":"#N/A"}},null,null,null,null,null,null,null,null,null,null,{"$f":"VLOOKUP(B3745,'(1) Project Reference Item List'!$B$2:$D$1000,3,FALSE)","v":{"$error":"#N/A"}},null,null,0,0]
[{"$f":"VLOOKUP(B3746,'(1) Project Reference Item List'!$B$2:$C$1000,2,FALSE)","v":{"$error":"#N/A"}},null,null,null,null,null,null,null,null,null,null,{"$f":"VLOOKUP(B3746,'(1) Project Reference Item List'!$B$2:$D$1000,3,FALSE)","v":{"$error":"#N/A"}},null,null,0,0]
[{"$f":"VLOOKUP(B3747,'(1) Project Reference Item List'!$B$2:$C$1000,2,FALSE)","v":{"$error":"#N/A"}},null,null,null,null,null,null,null,null,null,null,{"$f":"VLOOKUP(B3747,'(1) Project Reference Item List'!$B$2:$D$1000,3,FALSE)","v":{"$error":"#N/A"}},null,null,0,0]
[{"$f":"VLOOKUP(B3748,'(1) Project Reference Item List'!$B$2:$C$1000,2,FALSE)","v":{"$error":"#N/A"}},null,null,null,null,null,null,null,null,null,null,{"$f":"VLOOKUP(B3748,'(1) Project Reference Item List'!$B$2:$D$1000,3,FALSE)","v":{"$error":"#N/A"}},null,null,0,0]
[{"$f":"VLOOKUP(B3749,'(1) Project Reference Item List'!$B$2:$C$1000,2,FALSE)","v":{"$error":"#N/A"}},null,null,null,null,null,null,null,null,null,null,{"$f":"VLOOKUP(B3749,'(1) Project Reference Item List'!$B$2:$D$1000,3,FALSE)","v":{"$error":"#N/A"}},null,null,0,0]
[{"$f":"VLOOKUP(B3750,'(1) Project Reference Item List'!$B$2:$C$1000,2,FALSE)","v":{"$error":"#N/A"}},null,null,null,null,null,null,null,null,null,null,{"$f":"VLOOKUP(B3750,'(1) Project Reference Item List'!$B$2:$D$1000,3,FALSE)","v":{"$error":"#N/A"}},null,null,0,0]
[{"$f":"VLOOKUP(B3751,'(1) Project Reference Item List'!$B$2:$C$1000,2,FALSE)","v":{"$error":"#N/A"}},null,null,null,null,null,null,null,null,null,null,{"$f":"VLOOKUP(B3751,'(1) Project Reference Item List'!$B$2:$D$1000,3,FALSE)","v":{"$error":"#N/A"}},null,null,0,0]
[{"$f":"VLOOKUP(B3752,'(1) Project Reference Item List'!$B$2:$C$1000,2,FALSE)","v":{"$error":"#N/A"}},null,null,null,null,null,null,null,null,null,null,{"$f":"VLOOKUP(B3752,'(1) Project Reference Item List'!$B$2:$D$1000,3,FALSE)","v":{"$error":"#N/A"}},null,null,0,0]
[{"$f":"VLOOKUP(B3753,'(1) Project Reference Item List'!$B$2:$C$1000,2,FALSE)","v":{"$error":"#N/A"}},null,null,null,null,null,null,null,null,null,null,{"$f":"VLOOKUP(B3753,'(1) Project Reference Item List'!$B$2:$D$1000,3,FALSE)","v":{"$error":"#N/A"}},null,null,0,0]
[{"$f":"VLOOKUP(B3754,'(1) Project Reference Item List'!$B$2:$C$1000,2,FALSE)","v":{"$error":"#N/A"}},null,null,null,null,null,null,null,null,null,null,{"$f":"VLOOKUP(B3754,'(1) Project Reference Item List'!$B$2:$D$1000,3,FALSE)","v":{"$error":"#N/A"}},null,null,0,0]
[{"$f":"VLOOKUP(B3755,'(1) Project Reference Item List'!$B$2:$C$1000,2,FALSE)","v":{"$error":"#N/A"}},null,null,null,null,null,null,null,null,null,null,{"$f":"VLOOKUP(B3755,'(1) Project Reference Item List'!$B$2:$D$1000,3,FALSE)","v":{"$error":"#N/A"}},null,null,0,0]
[{"$f":"VLOOKUP(B3756,'(1) Project Reference Item List'!$B$2:$C$1000,2,FALSE)","v":{"$error":"#N/A"}},null,null,null,null,null,null,null,null,null,null,{"$f":"VLOOKUP(B3756,'(1) Project Reference Item List'!$B$2:$D$1000,3,FALSE)","v":{"$error":"#N/A"}},null,null,0,0]
[{"$f":"VLOOKUP(B3757,'(1) Project Reference Item List'!$B$2:$C$1000,2,FALSE)","v":{"$error":"#N/A"}},null,null,null,null,null,null,null,null,null,null,{"$f":"VLOOKUP(B3757,'(1) Project Reference Item List'!$B$2:$D$1000,3,FALSE)","v":{"$error":"#N/A"}},null,null,0,0]
[{"$f":"VLOOKUP(B3758,'(1) Project Reference Item List'!$B$2:$C$1000,2,FALSE)","v":{"$error":"#N/A"}},null,null,null,null,null,null,null,null,null,null,{"$f":"VLOOKUP(B3758,'(1) Project Reference Item List'!$B$2:$D$1000,3,FALSE)","v":{"$error":"#N/A"}},null,null,0,0]
[{"$f":"VLOOKUP(B3759,'(1) Project Reference Item List'!$B$2:$C$1000,2,FALSE)","v":{"$error":"#N/A"}},null,null,null,null,null,null,null,null,null,null,{"$f":"VLOOKUP(B3759,'(1) Project Reference Item List'!$B$2:$D$1000,3,FALSE)","v":{"$error":"#N/A"}},null,null,0,0]
[{"$f":"VLOOKUP(B3760,'(1) Project Reference Item List'!$B$2:$C$1000,2,FALSE)","v":{"$error":"#N/A"}},null,null,null,null,null,null,null,null,null,null,{"$f":"VLOOKUP(B3760,'(1) Project Reference Item List'!$B$2:$D$1000,3,FALSE)","v":{"$error":"#N/A"}},null,null,0,0]
[{"$f":"VLOOKUP(B3761,'(1) Project Reference Item List'!$B$2:$C$1000,2,FALSE)","v":{"$error":"#N/A"}},null,null,null,null,null,null,null,null,null,null,{"$f":"VLOOKUP(B3761,'(1) Project Reference Item List'!$B$2:$D$1000,3,FALSE)","v":{"$error":"#N/A"}},null,null,0,0]
[{"$f":"VLOOKUP(B3762,'(1) Project Reference Item List'!$B$2:$C$1000,2,FALSE)","v":{"$error":"#N/A"}},null,null,null,null,null,null,null,null,null,null,{"$f":"VLOOKUP(B3762,'(1) Project Reference Item List'!$B$2:$D$1000,3,FALSE)","v":{"$error":"#N/A"}},null,null,0,0]
[{"$f":"VLOOKUP(B3763,'(1) Project Reference Item List'!$B$2:$C$1000,2,FALSE)","v":{"$error":"#N/A"}},null,null,null,null,null,null,null,null,null,null,{"$f":"VLOOKUP(B3763,'(1) Project Reference Item List'!$B$2:$D$1000,3,FALSE)","v":{"$error":"#N/A"}},null,null,0,0]
[{"$f":"VLOOKUP(B3764,'(1) Project Reference Item List'!$B$2:$C$1000,2,FALSE)","v":{"$error":"#N/A"}},null,null,null,null,null,null,null,null,null,null,{"$f":"VLOOKUP(B3764,'(1) Project Reference Item List'!$B$2:$D$1000,3,FALSE)","v":{"$error":"#N/A"}},null,null,0,0]
[{"$f":"VLOOKUP(B3765,'(1) Project Reference Item List'!$B$2:$C$1000,2,FALSE)","v":{"$error":"#N/A"}},null,null,null,null,null,null,null,null,null,null,{"$f":"VLOOKUP(B3765,'(1) Project Reference Item List'!$B$2:$D$1000,3,FALSE)","v":{"$error":"#N/A"}},null,null,0,0]
[{"$f":"VLOOKUP(B3766,'(1) Project Reference Item List'!$B$2:$C$1000,2,FALSE)","v":{"$error":"#N/A"}},null,null,null,null,null,null,null,null,null,null,{"$f":"VLOOKUP(B3766,'(1) Project Reference Item List'!$B$2:$D$1000,3,FALSE)","v":{"$error":"#N/A"}},null,null,0,0]
[{"$f":"VLOOKUP(B3767,'(1) Project Reference Item List'!$B$2:$C$1000,2,FALSE)","v":{"$error":"#N/A"}},null,null,null,null,null,null,null,null,null,null,{"$f":"VLOOKUP(B3767,'(1) Project Reference Item List'!$B$2:$D$1000,3,FALSE)","v":{"$error":"#N/A"}},null,null,0,0]
[{"$f":"VLOOKUP(B3768,'(1) Project Reference Item List'!$B$2:$C$1000,2,FALSE)","v":{"$error":"#N/A"}},null,null,null,null,null,null,null,null,null,null,{"$f":"VLOOKUP(B3768,'(1) Project Reference Item List'!$B$2:$D$1000,3,FALSE)","v":{"$error":"#N/A"}},null,null,0,0]
[{"$f":"VLOOKUP(B3769,'(1) Project Reference Item List'!$B$2:$C$1000,2,FALSE)","v":{"$error":"#N/A"}},null,null,null,null,null,null,null,null,null,null,{"$f":"VLOOKUP(B3769,'(1) Project Reference Item List'!$B$2:$D$1000,3,FALSE)","v":{"$error":"#N/A"}},null,null,0,0]
[{"$f":"VLOOKUP(B3770,'(1) Project Reference Item List'!$B$2:$C$1000,2,FALSE)","v":{"$error":"#N/A"}},null,null,null,null,null,null,null,null,null,null,{"$f":"VLOOKUP(B3770,'(1) Project Reference Item List'!$B$2:$D$1000,3,FALSE)","v":{"$error":"#N/A"}},null,null,0,0]
[{"$f":"VLOOKUP(B3771,'(1) Project Reference Item List'!$B$2:$C$1000,2,FALSE)","v":{"$error":"#N/A"}},null,null,null,null,null,null,null,null,null,null,{"$f":"VLOOKUP(B3771,'(1) Project Reference Item List'!$B$2:$D$1000,3,FALSE)","v":{"$error":"#N/A"}},null,null,0,0]
[{"$f":"VLOOKUP(B3772,'(1) Project Reference Item List'!$B$2:$C$1000,2,FALSE)","v":{"$error":"#N/A"}},null,null,null,null,null,null,null,null,null,null,{"$f":"VLOOKUP(B3772,'(1) Project Reference Item List'!$B$2:$D$1000,3,FALSE)","v":{"$error":"#N/A"}},null,null,0,0]
[{"$f":"VLOOKUP(B3773,'(1) Project Reference Item List'!$B$2:$C$1000,2,FALSE)","v":{"$error":"#N/A"}},null,null,null,null,null,null,null,null,null,null,{"$f":"VLOOKUP(B3773,'(1) Project Reference Item List'!$B$2:$D$1000,3,FALSE)","v":{"$error":"#N/A"}},null,null,0,0]
[{"$f":"VLOOKUP(B3774,'(1) Project Reference Item List'!$B$2:$C$1000,2,FALSE)","v":{"$error":"#N/A"}},null,null,null,null,null,null,null,null,null,null,{"$f":"VLOOKUP(B3774,'(1) Project Reference Item List'!$B$2:$D$1000,3,FALSE)","v":{"$error":"#N/A"}},null,null,0,0]
[{"$f":"VLOOKUP(B3775,'(1) Project Reference Item List'!$B$2:$C$1000,2,FALSE)","v":{"$error":"#N/A"}},null,null,null,null,null,null,null,null,null,null,{"$f":"VLOOKUP(B3775,'(1) Project Reference Item List'!$B$2:$D$1000,3,FALSE)","v":{"$error":"#N/A"}},null,null,0,0]
[{"$f":"VLOOKUP(B3776,'(1) Project Reference Item List'!$B$2:$C$1000,2,FALSE)","v":{"$error":"#N/A"}},null,null,null,null,null,null,null,null,null,null,{"$f":"VLOOKUP(B3776,'(1) Project Reference Item List'!$B$2:$D$1000,3,FALSE)","v":{"$error":"#N/A"}},null,null,0,0]
[{"$f":"VLOOKUP(B3777,'(1) Project Reference Item List'!$B$2:$C$1000,2,FALSE)","v":{"$error":"#N/A"}},null,null,null,null,null,null,null,null,null,null,{"$f":"VLOOKUP(B3777,'(1) Project Reference Item List'!$B$2:$D$1000,3,FALSE)","v":{"$error":"#N/A"}},null,null,0,0]
[{"$f":"VLOOKUP(B3778,'(1) Project Reference Item List'!$B$2:$C$1000,2,FALSE)","v":{"$error":"#N/A"}},null,null,null,null,null,null,null,null,null,null,{"$f":"VLOOKUP(B3778,'(1) Project Reference Item List'!$B$2:$D$1000,3,FALSE)","v":{"$error":"#N/A"}},null,null,0,0]
[{"$f":"VLOOKUP(B3779,'(1) Project Reference Item List'!$B$2:$C$1000,2,FALSE)","v":{"$error":"#N/A"}},null,null,null,null,null,null,null,null,null,null,{"$f":"VLOOKUP(B3779,'(1) Project Reference Item List'!$B$2:$D$1000,3,FALSE)","v":{"$error":"#N/A"}},null,null,0,0]
[{"$f":"VLOOKUP(B3780,'(1) Project Reference Item List'!$B$2:$C$1000,2,FALSE)","v":{"$error":"#N/A"}},null,null,null,null,null,null,null,null,null,null,{"$f":"VLOOKUP(B3780,'(1) Project Reference Item List'!$B$2:$D$1000,3,FALSE)","v":{"$error":"#N/A"}},null,null,0,0]
[{"$f":"VLOOKUP(B3781,'(1) Project Reference Item List'!$B$2:$C$1000,2,FALSE)","v":{"$error":"#N/A"}},null,null,null,null,null,null,null,null,null,null,{"$f":"VLOOKUP(B3781,'(1) Project Reference Item List'!$B$2:$D$1000,3,FALSE)","v":{"$error":"#N/A"}},null,null,0,0]
[{"$f":"VLOOKUP(B3782,'(1) Project Reference Item List'!$B$2:$C$1000,2,FALSE)","v":{"$error":"#N/A"}},null,null,null,null,null,null,null,null,null,null,{"$f":"VLOOKUP(B3782,'(1) Project Reference Item List'!$B$2:$D$1000,3,FALSE)","v":{"$error":"#N/A"}},null,null,{"$f":"IF(J3782=0,J3782,J3782*N3782)","v":0},{"$f":"(M3782-O3782)","v":0}]
[{"$f":"VLOOKUP(B3783,'(1) Project Reference Item List'!$B$2:$C$1000,2,FALSE)","v":{"$error":"#N/A"}},null,null,null,null,null,null,null,null,null,null,{"$f":"VLOOKUP(B3783,'(1) Project Reference Item List'!$B$2:$D$1000,3,FALSE)","v":{"$error":"#N/A"}},null,null,0,0]
[{"$f":"VLOOKUP(B3784,'(1) Project Reference Item List'!$B$2:$C$1000,2,FALSE)","v":{"$error":"#N/A"}},null,null,null,null,null,null,null,null,null,null,{"$f":"VLOOKUP(B3784,'(1) Project Reference Item List'!$B$2:$D$1000,3,FALSE)","v":{"$error":"#N/A"}},null,null,0,0]
[{"$f":"VLOOKUP(B3785,'(1) Project Reference Item List'!$B$2:$C$1000,2,FALSE)","v":{"$error":"#N/A"}},null,null,null,null,null,null,null,null,null,null,{"$f":"VLOOKUP(B3785,'(1) Project Reference Item List'!$B$2:$D$1000,3,FALSE)","v":{"$error":"#N/A"}},null,null,0,0]
[{"$f":"VLOOKUP(B3786,'(1) Project Reference Item List'!$B$2:$C$1000,2,FALSE)","v":{"$error":"#N/A"}},null,null,null,null,null,null,null,null,null,null,{"$f":"VLOOKUP(B3786,'(1) Project Reference Item List'!$B$2:$D$1000,3,FALSE)","v":{"$error":"#N/A"}},null,null,0,0]
[{"$f":"VLOOKUP(B3787,'(1) Project Reference Item List'!$B$2:$C$1000,2,FALSE)","v":{"$error":"#N/A"}},null,null,null,null,null,null,null,null,null,null,{"$f":"VLOOKUP(B3787,'(1) Project Reference Item List'!$B$2:$D$1000,3,FALSE)","v":{"$error":"#N/A"}},null,null,0,0]
[{"$f":"VLOOKUP(B3788,'(1) Project Reference Item List'!$B$2:$C$1000,2,FALSE)","v":{"$error":"#N/A"}},null,null,null,null,null,null,null,null,null,null,{"$f":"VLOOKUP(B3788,'(1) Project Reference Item List'!$B$2:$D$1000,3,FALSE)","v":{"$error":"#N/A"}},null,null,0,0]
[{"$f":"VLOOKUP(B3789,'(1) Project Reference Item List'!$B$2:$C$1000,2,FALSE)","v":{"$error":"#N/A"}},null,null,null,null,null,null,null,null,null,null,{"$f":"VLOOKUP(B3789,'(1) Project Reference Item List'!$B$2:$D$1000,3,FALSE)","v":{"$error":"#N/A"}},null,null,0,0]
[{"$f":"VLOOKUP(B3790,'(1) Project Reference Item List'!$B$2:$C$1000,2,FALSE)","v":{"$error":"#N/A"}},null,null,null,null,null,null,null,null,null,null,{"$f":"VLOOKUP(B3790,'(1) Project Reference Item List'!$B$2:$D$1000,3,FALSE)","v":{"$error":"#N/A"}},null,null,0,0]
[{"$f":"VLOOKUP(B3791,'(1) Project Reference Item List'!$B$2:$C$1000,2,FALSE)","v":{"$error":"#N/A"}},null,null,null,null,null,null,null,null,null,null,{"$f":"VLOOKUP(B3791,'(1) Project Reference Item List'!$B$2:$D$1000,3,FALSE)","v":{"$error":"#N/A"}},null,null,0,0]
[{"$f":"VLOOKUP(B3792,'(1) Project Reference Item List'!$B$2:$C$1000,2,FALSE)","v":{"$error":"#N/A"}},null,null,null,null,null,null,null,null,null,null,{"$f":"VLOOKUP(B3792,'(1) Project Reference Item List'!$B$2:$D$1000,3,FALSE)","v":{"$error":"#N/A"}},null,null,0,0]
[{"$f":"VLOOKUP(B3793,'(1) Project Reference Item List'!$B$2:$C$1000,2,FALSE)","v":{"$error":"#N/A"}},null,null,null,null,null,null,null,null,null,null,{"$f":"VLOOKUP(B3793,'(1) Project Reference Item List'!$B$2:$D$1000,3,FALSE)","v":{"$error":"#N/A"}},null,null,0,0]
[{"$f":"VLOOKUP(B3794,'(1) Project Reference Item List'!$B$2:$C$1000,2,FALSE)","v":{"$error":"#N/A"}},null,null,null,null,null,null,null,null,null,null,{"$f":"VLOOKUP(B3794,'(1) Project Reference Item List'!$B$2:$D$1000,3,FALSE)","v":{"$error":"#N/A"}},null,null,0,0]
[{"$f":"VLOOKUP(B3795,'(1) Project Reference Item List'!$B$2:$C$1000,2,FALSE)","v":{"$error":"#N/A"}},null,null,null,null,null,null,null,null,null,null,{"$f":"VLOOKUP(B3795,'(1) Project Reference Item List'!$B$2:$D$1000,3,FALSE)","v":{"$error":"#N/A"}},null,null,0,0]
[{"$f":"VLOOKUP(B3796,'(1) Project Reference Item List'!$B$2:$C$1000,2,FALSE)","v":{"$error":"#N/A"}},null,null,null,null,null,null,null,null,null,null,{"$f":"VLOOKUP(B3796,'(1) Project Reference Item List'!$B$2:$D$1000,3,FALSE)","v":{"$error":"#N/A"}},null,null,0,0]
[{"$f":"VLOOKUP(B3797,'(1) Project Reference Item List'!$B$2:$C$1000,2,FALSE)","v":{"$error":"#N/A"}},null,null,null,null,null,null,null,null,null,null,{"$f":"VLOOKUP(B3797,'(1) Project Reference Item List'!$B$2:$D$1000,3,FALSE)","v":{"$error":"#N/A"}},null,null,0,0]
[{"$f":"VLOOKUP(B3798,'(1) Project Reference Item List'!$B$2:$C$1000,2,FALSE)","v":{"$error":"#N/A"}},null,null,null,null,null,null,null,null,null,null,{"$f":"VLOOKUP(B3798,'(1) Project Reference Item List'!$B$2:$D$1000,3,FALSE)","v":{"$error":"#N/A"}},null,null,0,0]
[{"$f":"VLOOKUP(B3799,'(1) Project Reference Item List'!$B$2:$C$1000,2,FALSE)","v":{"$error":"#N/A"}},null,null,null,null,null,null,null,null,null,null,{"$f":"VLOOKUP(B3799,'(1) Project Reference Item List'!$B$2:$D$1000,3,FALSE)","v":{"$error":"#N/A"}},null,null,0,0]
[{"$f":"VLOOKUP(B3800,'(1) Project Reference Item List'!$B$2:$C$1000,2,FALSE)","v":{"$error":"#N/A"}},null,null,null,null,null,null,null,null,null,null,{"$f":"VLOOKUP(B3800,'(1) Project Reference Item List'!$B$2:$D$1000,3,FALSE)","v":{"$error":"#N/A"}},null,null,0,0]
[{"$f":"VLOOKUP(B3801,'(1) Project Reference Item List'!$B$2:$C$1000,2,FALSE)","v":{"$error":"#N/A"}},null,null,null,null,null,null,null,null,null,null,{"$f":"VLOOKUP(B3801,'(1) Project Reference Item List'!$B$2:$D$1000,3,FALSE)","v":{"$error":"#N/A"}},null,null,0,0]
[{"$f":"VLOOKUP(B3802,'(1) Project Reference Item List'!$B$2:$C$1000,2,FALSE)","v":{"$error":"#N/A"}},null,null,null,null,null,null,null,null,null,null,{"$f":"VLOOKUP(B3802,'(1) Project Reference Item List'!$B$2:$D$1000,3,FALSE)","v":{"$error":"#N/A"}},null,null,0,0]
[{"$f":"VLOOKUP(B3803,'(1) Project Reference Item List'!$B$2:$C$1000,2,FALSE)","v":{"$error":"#N/A"}},null,null,null,null,null,null,null,null,null,null,{"$f":"VLOOKUP(B3803,'(1) Project Reference Item List'!$B$2:$D$1000,3,FALSE)","v":{"$error":"#N/A"}},null,null,0,0]
[{"$f":"VLOOKUP(B3804,'(1) Project Reference Item List'!$B$2:$C$1000,2,FALSE)","v":{"$error":"#N/A"}},null,null,null,null,null,null,null,null,null,null,{"$f":"VLOOKUP(B3804,'(1) Project Reference Item List'!$B$2:$D$1000,3,FALSE)","v":{"$error":"#N/A"}},null,null,0,0]
[{"$f":"VLOOKUP(B3805,'(1) Project Reference Item List'!$B$2:$C$1000,2,FALSE)","v":{"$error":"#N/A"}},null,null,null,null,null,null,null,null,null,null,{"$f":"VLOOKUP(B3805,'(1) Project Reference Item List'!$B$2:$D$1000,3,FALSE)","v":{"$error":"#N/A"}},null,null,0,0]
[{"$f":"VLOOKUP(B3806,'(1) Project Reference Item List'!$B$2:$C$1000,2,FALSE)","v":{"$error":"#N/A"}},null,null,null,null,null,null,null,null,null,null,{"$f":"VLOOKUP(B3806,'(1) Project Reference Item List'!$B$2:$D$1000,3,FALSE)","v":{"$error":"#N/A"}},null,null,0,0]
[{"$f":"VLOOKUP(B3807,'(1) Project Reference Item List'!$B$2:$C$1000,2,FALSE)","v":{"$error":"#N/A"}},null,null,null,null,null,null,null,null,null,null,{"$f":"VLOOKUP(B3807,'(1) Project Reference Item List'!$B$2:$D$1000,3,FALSE)","v":{"$error":"#N/A"}},null,null,0,0]
[{"$f":"VLOOKUP(B3808,'(1) Project Reference Item List'!$B$2:$C$1000,2,FALSE)","v":{"$error":"#N/A"}},null,null,null,null,null,null,null,null,null,null,{"$f":"VLOOKUP(B3808,'(1) Project Reference Item List'!$B$2:$D$1000,3,FALSE)","v":{"$error":"#N/A"}},null,null,0,0]
[{"$f":"VLOOKUP(B3809,'(1) Project Reference Item List'!$B$2:$C$1000,2,FALSE)","v":{"$error":"#N/A"}},null,null,null,null,null,null,null,null,null,null,{"$f":"VLOOKUP(B3809,'(1) Project Reference Item List'!$B$2:$D$1000,3,FALSE)","v":{"$error":"#N/A"}},null,null,0,0]
[{"$f":"VLOOKUP(B3810,'(1) Project Reference Item List'!$B$2:$C$1000,2,FALSE)","v":{"$error":"#N/A"}},null,null,null,null,null,null,null,null,null,null,{"$f":"VLOOKUP(B3810,'(1) Project Reference Item List'!$B$2:$D$1000,3,FALSE)","v":{"$error":"#N/A"}},null,null,0,0]
[{"$f":"VLOOKUP(B3811,'(1) Project Reference Item List'!$B$2:$C$1000,2,FALSE)","v":{"$error":"#N/A"}},null,null,null,null,null,null,null,null,null,null,{"$f":"VLOOKUP(B3811,'(1) Project Reference Item List'!$B$2:$D$1000,3,FALSE)","v":{"$error":"#N/A"}},null,null,0,0]
[{"$f":"VLOOKUP(B3812,'(1) Project Reference Item List'!$B$2:$C$1000,2,FALSE)","v":{"$error":"#N/A"}},null,null,null,null,null,null,null,null,null,null,{"$f":"VLOOKUP(B3812,'(1) Project Reference Item List'!$B$2:$D$1000,3,FALSE)","v":{"$error":"#N/A"}},null,null,0,0]
[{"$f":"VLOOKUP(B3813,'(1) Project Reference Item List'!$B$2:$C$1000,2,FALSE)","v":{"$error":"#N/A"}},null,null,null,null,null,null,null,null,null,null,{"$f":"VLOOKUP(B3813,'(1) Project Reference Item List'!$B$2:$D$1000,3,FALSE)","v":{"$error":"#N/A"}},null,null,0,0]
[{"$f":"VLOOKUP(B3814,'(1) Project Reference Item List'!$B$2:$C$1000,2,FALSE)","v":{"$error":"#N/A"}},null,null,null,null,null,null,null,null,null,null,{"$f":"VLOOKUP(B3814,'(1) Project Reference Item List'!$B$2:$D$1000,3,FALSE)","v":{"$error":"#N/A"}},null,null,0,0]
[{"$f":"VLOOKUP(B3815,'(1) Project Reference Item List'!$B$2:$C$1000,2,FALSE)","v":{"$error":"#N/A"}},null,null,null,null,null,null,null,null,null,null,{"$f":"VLOOKUP(B3815,'(1) Project Reference Item List'!$B$2:$D$1000,3,FALSE)","v":{"$error":"#N/A"}},null,null,0,0]
[{"$f":"VLOOKUP(B3816,'(1) Project Reference Item List'!$B$2:$C$1000,2,FALSE)","v":{"$error":"#N/A"}},null,null,null,null,null,null,null,null,null,null,{"$f":"VLOOKUP(B3816,'(1) Project Reference Item List'!$B$2:$D$1000,3,FALSE)","v":{"$error":"#N/A"}},null,null,0,0]
[{"$f":"VLOOKUP(B3817,'(1) Project Reference Item List'!$B$2:$C$1000,2,FALSE)","v":{"$error":"#N/A"}},null,null,null,null,null,null,null,null,null,null,{"$f":"VLOOKUP(B3817,'(1) Project Reference Item List'!$B$2:$D$1000,3,FALSE)","v":{"$error":"#N/A"}},null,null,0,0]
[{"$f":"VLOOKUP(B3818,'(1) Project Reference Item List'!$B$2:$C$1000,2,FALSE)","v":{"$error":"#N/A"}},null,null,null,null,null,null,null,null,null,null,{"$f":"VLOOKUP(B3818,'(1) Project Reference Item List'!$B$2:$D$1000,3,FALSE)","v":{"$error":"#N/A"}},null,null,0,0]
[{"$f":"VLOOKUP(B3819,'(1) Project Reference Item List'!$B$2:$C$1000,2,FALSE)","v":{"$error":"#N/A"}},null,null,null,null,null,null,null,null,null,null,{"$f":"VLOOKUP(B3819,'(1) Project Reference Item List'!$B$2:$D$1000,3,FALSE)","v":{"$error":"#N/A"}},null,null,0,0]
[{"$f":"VLOOKUP(B3820,'(1) Project Reference Item List'!$B$2:$C$1000,2,FALSE)","v":{"$error":"#N/A"}},null,null,null,null,null,null,null,null,null,null,{"$f":"VLOOKUP(B3820,'(1) Project Reference Item List'!$B$2:$D$1000,3,FALSE)","v":{"$error":"#N/A"}},null,null,0,0]
[{"$f":"VLOOKUP(B3821,'(1) Project Reference Item List'!$B$2:$C$1000,2,FALSE)","v":{"$error":"#N/A"}},null,null,null,null,null,null,null,null,null,null,{"$f":"VLOOKUP(B3821,'(1) Project Reference Item List'!$B$2:$D$1000,3,FALSE)","v":{"$error":"#N/A"}},null,null,0,0]
[{"$f":"VLOOKUP(B3822,'(1) Project Reference Item List'!$B$2:$C$1000,2,FALSE)","v":{"$error":"#N/A"}},null,null,null,null,null,null,null,null,null,null,{"$f":"VLOOKUP(B3822,'(1) Project Reference Item List'!$B$2:$D$1000,3,FALSE)","v":{"$error":"#N/A"}},null,null,0,0]
[{"$f":"VLOOKUP(B3823,'(1) Project Reference Item List'!$B$2:$C$1000,2,FALSE)","v":{"$error":"#N/A"}},null,null,null,null,null,null,null,null,null,null,{"$f":"VLOOKUP(B3823,'(1) Project Reference Item List'!$B$2:$D$1000,3,FALSE)","v":{"$error":"#N/A"}},null,null,0,0]
[{"$f":"VLOOKUP(B3824,'(1) Project Reference Item List'!$B$2:$C$1000,2,FALSE)","v":{"$error":"#N/A"}},null,null,null,null,null,null,null,null,null,null,{"$f":"VLOOKUP(B3824,'(1) Project Reference Item List'!$B$2:$D$1000,3,FALSE)","v":{"$error":"#N/A"}},null,null,0,0]
[{"$f":"VLOOKUP(B3825,'(1) Project Reference Item List'!$B$2:$C$1000,2,FALSE)","v":{"$error":"#N/A"}},null,null,null,null,null,null,null,null,null,null,{"$f":"VLOOKUP(B3825,'(1) Project Reference Item List'!$B$2:$D$1000,3,FALSE)","v":{"$error":"#N/A"}},null,null,0,0]
[{"$f":"VLOOKUP(B3826,'(1) Project Reference Item List'!$B$2:$C$1000,2,FALSE)","v":{"$error":"#N/A"}},null,null,null,null,null,null,null,null,null,null,{"$f":"VLOOKUP(B3826,'(1) Project Reference Item List'!$B$2:$D$1000,3,FALSE)","v":{"$error":"#N/A"}},null,null,0,0]
[{"$f":"VLOOKUP(B3827,'(1) Project Reference Item List'!$B$2:$C$1000,2,FALSE)","v":{"$error":"#N/A"}},null,null,null,null,null,null,null,null,null,null,{"$f":"VLOOKUP(B3827,'(1) Project Reference Item List'!$B$2:$D$1000,3,FALSE)","v":{"$error":"#N/A"}},null,null,0,0]
[{"$f":"VLOOKUP(B3828,'(1) Project Reference Item List'!$B$2:$C$1000,2,FALSE)","v":{"$error":"#N/A"}},null,null,null,null,null,null,null,null,null,null,{"$f":"VLOOKUP(B3828,'(1) Project Reference Item List'!$B$2:$D$1000,3,FALSE)","v":{"$error":"#N/A"}},null,null,0,0]
[{"$f":"VLOOKUP(B3829,'(1) Project Reference Item List'!$B$2:$C$1000,2,FALSE)","v":{"$error":"#N/A"}},null,null,null,null,null,null,null,null,null,null,{"$f":"VLOOKUP(B3829,'(1) Project Reference Item List'!$B$2:$D$1000,3,FALSE)","v":{"$error":"#N/A"}},null,null,0,0]
[{"$f":"VLOOKUP(B3830,'(1) Project Reference Item List'!$B$2:$C$1000,2,FALSE)","v":{"$error":"#N/A"}},null,null,null,null,null,null,null,null,null,null,{"$f":"VLOOKUP(B3830,'(1) Project Reference Item List'!$B$2:$D$1000,3,FALSE)","v":{"$error":"#N/A"}},null,null,0,0]
[{"$f":"VLOOKUP(B3831,'(1) Project Reference Item List'!$B$2:$C$1000,2,FALSE)","v":{"$error":"#N/A"}},null,null,null,null,null,null,null,null,null,null,{"$f":"VLOOKUP(B3831,'(1) Project Reference Item List'!$B$2:$D$1000,3,FALSE)","v":{"$error":"#N/A"}},null,null,0,0]
[{"$f":"VLOOKUP(B3832,'(1) Project Reference Item List'!$B$2:$C$1000,2,FALSE)","v":{"$error":"#N/A"}},null,null,null,null,null,null,null,null,null,null,{"$f":"VLOOKUP(B3832,'(1) Project Reference Item List'!$B$2:$D$1000,3,FALSE)","v":{"$error":"#N/A"}},null,null,0,0]
[{"$f":"VLOOKUP(B3833,'(1) Project Reference Item List'!$B$2:$C$1000,2,FALSE)","v":{"$error":"#N/A"}},null,null,null,null,null,null,null,null,null,null,{"$f":"VLOOKUP(B3833,'(1) Project Reference Item List'!$B$2:$D$1000,3,FALSE)","v":{"$error":"#N/A"}},null,null,0,0]
[{"$f":"VLOOKUP(B3834,'(1) Project Reference Item List'!$B$2:$C$1000,2,FALSE)","v":{"$error":"#N/A"}},null,null,null,null,null,null,null,null,null,null,{"$f":"VLOOKUP(B3834,'(1) Project Reference Item List'!$B$2:$D$1000,3,FALSE)","v":{"$error":"#N/A"}},null,null,0,0]
[{"$f":"VLOOKUP(B3835,'(1) Project Reference Item List'!$B$2:$C$1000,2,FALSE)","v":{"$error":"#N/A"}},null,null,null,null,null,null,null,null,null,null,{"$f":"VLOOKUP(B3835,'(1) Project Reference Item List'!$B$2:$D$1000,3,FALSE)","v":{"$error":"#N/A"}},null,null,0,0]
[{"$f":"VLOOKUP(B3836,'(1) Project Reference Item List'!$B$2:$C$1000,2,FALSE)","v":{"$error":"#N/A"}},null,null,null,null,null,null,null,null,null,null,{"$f":"VLOOKUP(B3836,'(1) Project Reference Item List'!$B$2:$D$1000,3,FALSE)","v":{"$error":"#N/A"}},null,null,0,0]
[{"$f":"VLOOKUP(B3837,'(1) Project Reference Item List'!$B$2:$C$1000,2,FALSE)","v":{"$error":"#N/A"}},null,null,null,null,null,null,null,null,null,null,{"$f":"VLOOKUP(B3837,'(1) Project Reference Item List'!$B$2:$D$1000,3,FALSE)","v":{"$error":"#N/A"}},null,null,0,0]
[{"$f":"VLOOKUP(B3838,'(1) Project Reference Item List'!$B$2:$C$1000,2,FALSE)","v":{"$error":"#N/A"}},null,null,null,null,null,null,null,null,null,null,{"$f":"VLOOKUP(B3838,'(1) Project Reference Item List'!$B$2:$D$1000,3,FALSE)","v":{"$error":"#N/A"}},null,null,0,0]
[{"$f":"VLOOKUP(B3839,'(1) Project Reference Item List'!$B$2:$C$1000,2,FALSE)","v":{"$error":"#N/A"}},null,null,null,null,null,null,null,null,null,null,{"$f":"VLOOKUP(B3839,'(1) Project Reference Item List'!$B$2:$D$1000,3,FALSE)","v":{"$error":"#N/A"}},null,null,0,0]
[{"$f":"VLOOKUP(B3840,'(1) Project Reference Item List'!$B$2:$C$1000,2,FALSE)","v":{"$error":"#N/A"}},null,null,null,null,null,null,null,null,null,null,{"$f":"VLOOKUP(B3840,'(1) Project Reference Item List'!$B$2:$D$1000,3,FALSE)","v":{"$error":"#N/A"}},null,null,0,0]
[{"$f":"VLOOKUP(B3841,'(1) Project Reference Item List'!$B$2:$C$1000,2,FALSE)","v":{"$error":"#N/A"}},null,null,null,null,null,null,null,null,null,null,{"$f":"VLOOKUP(B3841,'(1) Project Reference Item List'!$B$2:$D$1000,3,FALSE)","v":{"$error":"#N/A"}},null,null,0,0]
[{"$f":"VLOOKUP(B3842,'(1) Project Reference Item List'!$B$2:$C$1000,2,FALSE)","v":{"$error":"#N/A"}},null,null,null,null,null,null,null,null,null,null,{"$f":"VLOOKUP(B3842,'(1) Project Reference Item List'!$B$2:$D$1000,3,FALSE)","v":{"$error":"#N/A"}},null,null,0,0]
[{"$f":"VLOOKUP(B3843,'(1) Project Reference Item List'!$B$2:$C$1000,2,FALSE)","v":{"$error":"#N/A"}},null,null,null,null,null,null,null,null,null,null,{"$f":"VLOOKUP(B3843,'(1) Project Reference Item List'!$B$2:$D$1000,3,FALSE)","v":{"$error":"#N/A"}},null,null,0,0]
[{"$f":"VLOOKUP(B3844,'(1) Project Reference Item List'!$B$2:$C$1000,2,FALSE)","v":{"$error":"#N/A"}},null,null,null,null,null,null,null,null,null,null,{"$f":"VLOOKUP(B3844,'(1) Project Reference Item List'!$B$2:$D$1000,3,FALSE)","v":{"$error":"#N/A"}},null,null,0,0]
[{"$f":"VLOOKUP(B3845,'(1) Project Reference Item List'!$B$2:$C$1000,2,FALSE)","v":{"$error":"#N/A"}},null,null,null,null,null,null,null,null,null,null,{"$f":"VLOOKUP(B3845,'(1) Project Reference Item List'!$B$2:$D$1000,3,FALSE)","v":{"$error":"#N/A"}},null,null,0,0]
[{"$f":"VLOOKUP(B3846,'(1) Project Reference Item List'!$B$2:$C$1000,2,FALSE)","v":{"$error":"#N/A"}},null,null,null,null,null,null,null,null,null,null,{"$f":"VLOOKUP(B3846,'(1) Project Reference Item List'!$B$2:$D$1000,3,FALSE)","v":{"$error":"#N/A"}},null,null,{"$f":"IF(J3846=0,J3846,J3846*N3846)","v":0},{"$f":"(M3846-O3846)","v":0}]
[{"$f":"VLOOKUP(B3847,'(1) Project Reference Item List'!$B$2:$C$1000,2,FALSE)","v":{"$error":"#N/A"}},null,null,null,null,null,null,null,null,null,null,{"$f":"VLOOKUP(B3847,'(1) Project Reference Item List'!$B$2:$D$1000,3,FALSE)","v":{"$error":"#N/A"}},null,null,0,0]
[{"$f":"VLOOKUP(B3848,'(1) Project Reference Item List'!$B$2:$C$1000,2,FALSE)","v":{"$error":"#N/A"}},null,null,null,null,null,null,null,null,null,null,{"$f":"VLOOKUP(B3848,'(1) Project Reference Item List'!$B$2:$D$1000,3,FALSE)","v":{"$error":"#N/A"}},null,null,0,0]
[{"$f":"VLOOKUP(B3849,'(1) Project Reference Item List'!$B$2:$C$1000,2,FALSE)","v":{"$error":"#N/A"}},null,null,null,null,null,null,null,null,null,null,{"$f":"VLOOKUP(B3849,'(1) Project Reference Item List'!$B$2:$D$1000,3,FALSE)","v":{"$error":"#N/A"}},null,null,0,0]
[{"$f":"VLOOKUP(B3850,'(1) Project Reference Item List'!$B$2:$C$1000,2,FALSE)","v":{"$error":"#N/A"}},null,null,null,null,null,null,null,null,null,null,{"$f":"VLOOKUP(B3850,'(1) Project Reference Item List'!$B$2:$D$1000,3,FALSE)","v":{"$error":"#N/A"}},null,null,0,0]
[{"$f":"VLOOKUP(B3851,'(1) Project Reference Item List'!$B$2:$C$1000,2,FALSE)","v":{"$error":"#N/A"}},null,null,null,null,null,null,null,null,null,null,{"$f":"VLOOKUP(B3851,'(1) Project Reference Item List'!$B$2:$D$1000,3,FALSE)","v":{"$error":"#N/A"}},null,null,0,0]
[{"$f":"VLOOKUP(B3852,'(1) Project Reference Item List'!$B$2:$C$1000,2,FALSE)","v":{"$error":"#N/A"}},null,null,null,null,null,null,null,null,null,null,{"$f":"VLOOKUP(B3852,'(1) Project Reference Item List'!$B$2:$D$1000,3,FALSE)","v":{"$error":"#N/A"}},null,null,0,0]
[{"$f":"VLOOKUP(B3853,'(1) Project Reference Item List'!$B$2:$C$1000,2,FALSE)","v":{"$error":"#N/A"}},null,null,null,null,null,null,null,null,null,null,{"$f":"VLOOKUP(B3853,'(1) Project Reference Item List'!$B$2:$D$1000,3,FALSE)","v":{"$error":"#N/A"}},null,null,0,0]
[{"$f":"VLOOKUP(B3854,'(1) Project Reference Item List'!$B$2:$C$1000,2,FALSE)","v":{"$error":"#N/A"}},null,null,null,null,null,null,null,null,null,null,{"$f":"VLOOKUP(B3854,'(1) Project Reference Item List'!$B$2:$D$1000,3,FALSE)","v":{"$error":"#N/A"}},null,null,0,0]
[{"$f":"VLOOKUP(B3855,'(1) Project Reference Item List'!$B$2:$C$1000,2,FALSE)","v":{"$error":"#N/A"}},null,null,null,null,null,null,null,null,null,null,{"$f":"VLOOKUP(B3855,'(1) Project Reference Item List'!$B$2:$D$1000,3,FALSE)","v":{"$error":"#N/A"}},null,null,0,0]
[{"$f":"VLOOKUP(B3856,'(1) Project Reference Item List'!$B$2:$C$1000,2,FALSE)","v":{"$error":"#N/A"}},null,null,null,null,null,null,null,null,null,null,{"$f":"VLOOKUP(B3856,'(1) Project Reference Item List'!$B$2:$D$1000,3,FALSE)","v":{"$error":"#N/A"}},null,null,0,0]
[{"$f":"VLOOKUP(B3857,'(1) Project Reference Item List'!$B$2:$C$1000,2,FALSE)","v":{"$error":"#N/A"}},null,null,null,null,null,null,null,null,null,null,{"$f":"VLOOKUP(B3857,'(1) Project Reference Item List'!$B$2:$D$1000,3,FALSE)","v":{"$error":"#N/A"}},null,null,0,0]
[{"$f":"VLOOKUP(B3858,'(1) Project Reference Item List'!$B$2:$C$1000,2,FALSE)","v":{"$error":"#N/A"}},null,null,null,null,null,null,null,null,null,null,{"$f":"VLOOKUP(B3858,'(1) Project Reference Item List'!$B$2:$D$1000,3,FALSE)","v":{"$error":"#N/A"}},null,null,0,0]
[{"$f":"VLOOKUP(B3859,'(1) Project Reference Item List'!$B$2:$C$1000,2,FALSE)","v":{"$error":"#N/A"}},null,null,null,null,null,null,null,null,null,null,{"$f":"VLOOKUP(B3859,'(1) Project Reference Item List'!$B$2:$D$1000,3,FALSE)","v":{"$error":"#N/A"}},null,null,0,0]
[{"$f":"VLOOKUP(B3860,'(1) Project Reference Item List'!$B$2:$C$1000,2,FALSE)","v":{"$error":"#N/A"}},null,null,null,null,null,null,null,null,null,null,{"$f":"VLOOKUP(B3860,'(1) Project Reference Item List'!$B$2:$D$1000,3,FALSE)","v":{"$error":"#N/A"}},null,null,0,0]
[{"$f":"VLOOKUP(B3861,'(1) Project Reference Item List'!$B$2:$C$1000,2,FALSE)","v":{"$error":"#N/A"}},null,null,null,null,null,null,null,null,null,null,{"$f":"VLOOKUP(B3861,'(1) Project Reference Item List'!$B$2:$D$1000,3,FALSE)","v":{"$error":"#N/A"}},null,null,0,0]
[{"$f":"VLOOKUP(B3862,'(1) Project Reference Item List'!$B$2:$C$1000,2,FALSE)","v":{"$error":"#N/A"}},null,null,null,null,null,null,null,null,null,null,{"$f":"VLOOKUP(B3862,'(1) Project Reference Item List'!$B$2:$D$1000,3,FALSE)","v":{"$error":"#N/A"}},null,null,0,0]
[{"$f":"VLOOKUP(B3863,'(1) Project Reference Item List'!$B$2:$C$1000,2,FALSE)","v":{"$error":"#N/A"}},null,null,null,null,null,null,null,null,null,null,{"$f":"VLOOKUP(B3863,'(1) Project Reference Item List'!$B$2:$D$1000,3,FALSE)","v":{"$error":"#N/A"}},null,null,0,0]
[{"$f":"VLOOKUP(B3864,'(1) Project Reference Item List'!$B$2:$C$1000,2,FALSE)","v":{"$error":"#N/A"}},null,null,null,null,null,null,null,null,null,null,{"$f":"VLOOKUP(B3864,'(1) Project Reference Item List'!$B$2:$D$1000,3,FALSE)","v":{"$error":"#N/A"}},null,null,0,0]
[{"$f":"VLOOKUP(B3865,'(1) Project Reference Item List'!$B$2:$C$1000,2,FALSE)","v":{"$error":"#N/A"}},null,null,null,null,null,null,null,null,null,null,{"$f":"VLOOKUP(B3865,'(1) Project Reference Item List'!$B$2:$D$1000,3,FALSE)","v":{"$error":"#N/A"}},null,null,0,0]
[{"$f":"VLOOKUP(B3866,'(1) Project Reference Item List'!$B$2:$C$1000,2,FALSE)","v":{"$error":"#N/A"}},null,null,null,null,null,null,null,null,null,null,{"$f":"VLOOKUP(B3866,'(1) Project Reference Item List'!$B$2:$D$1000,3,FALSE)","v":{"$error":"#N/A"}},null,null,0,0]
[{"$f":"VLOOKUP(B3867,'(1) Project Reference Item List'!$B$2:$C$1000,2,FALSE)","v":{"$error":"#N/A"}},null,null,null,null,null,null,null,null,null,null,{"$f":"VLOOKUP(B3867,'(1) Project Reference Item List'!$B$2:$D$1000,3,FALSE)","v":{"$error":"#N/A"}},null,null,0,0]
[{"$f":"VLOOKUP(B3868,'(1) Project Reference Item List'!$B$2:$C$1000,2,FALSE)","v":{"$error":"#N/A"}},null,null,null,null,null,null,null,null,null,null,{"$f":"VLOOKUP(B3868,'(1) Project Reference Item List'!$B$2:$D$1000,3,FALSE)","v":{"$error":"#N/A"}},null,null,0,0]
[{"$f":"VLOOKUP(B3869,'(1) Project Reference Item List'!$B$2:$C$1000,2,FALSE)","v":{"$error":"#N/A"}},null,null,null,null,null,null,null,null,null,null,{"$f":"VLOOKUP(B3869,'(1) Project Reference Item List'!$B$2:$D$1000,3,FALSE)","v":{"$error":"#N/A"}},null,null,0,0]
[{"$f":"VLOOKUP(B3870,'(1) Project Reference Item List'!$B$2:$C$1000,2,FALSE)","v":{"$error":"#N/A"}},null,null,null,null,null,null,null,null,null,null,{"$f":"VLOOKUP(B3870,'(1) Project Reference Item List'!$B$2:$D$1000,3,FALSE)","v":{"$error":"#N/A"}},null,null,0,0]
[{"$f":"VLOOKUP(B3871,'(1) Project Reference Item List'!$B$2:$C$1000,2,FALSE)","v":{"$error":"#N/A"}},null,null,null,null,null,null,null,null,null,null,{"$f":"VLOOKUP(B3871,'(1) Project Reference Item List'!$B$2:$D$1000,3,FALSE)","v":{"$error":"#N/A"}},null,null,0,0]
[{"$f":"VLOOKUP(B3872,'(1) Project Reference Item List'!$B$2:$C$1000,2,FALSE)","v":{"$error":"#N/A"}},null,null,null,null,null,null,null,null,null,null,{"$f":"VLOOKUP(B3872,'(1) Project Reference Item List'!$B$2:$D$1000,3,FALSE)","v":{"$error":"#N/A"}},null,null,0,0]
[{"$f":"VLOOKUP(B3873,'(1) Project Reference Item List'!$B$2:$C$1000,2,FALSE)","v":{"$error":"#N/A"}},null,null,null,null,null,null,null,null,null,null,{"$f":"VLOOKUP(B3873,'(1) Project Reference Item List'!$B$2:$D$1000,3,FALSE)","v":{"$error":"#N/A"}},null,null,0,0]
[{"$f":"VLOOKUP(B3874,'(1) Project Reference Item List'!$B$2:$C$1000,2,FALSE)","v":{"$error":"#N/A"}},null,null,null,null,null,null,null,null,null,null,{"$f":"VLOOKUP(B3874,'(1) Project Reference Item List'!$B$2:$D$1000,3,FALSE)","v":{"$error":"#N/A"}},null,null,0,0]
[{"$f":"VLOOKUP(B3875,'(1) Project Reference Item List'!$B$2:$C$1000,2,FALSE)","v":{"$error":"#N/A"}},null,null,null,null,null,null,null,null,null,null,{"$f":"VLOOKUP(B3875,'(1) Project Reference Item List'!$B$2:$D$1000,3,FALSE)","v":{"$error":"#N/A"}},null,null,0,0]
[{"$f":"VLOOKUP(B3876,'(1) Project Reference Item List'!$B$2:$C$1000,2,FALSE)","v":{"$error":"#N/A"}},null,null,null,null,null,null,null,null,null,null,{"$f":"VLOOKUP(B3876,'(1) Project Reference Item List'!$B$2:$D$1000,3,FALSE)","v":{"$error":"#N/A"}},null,null,0,0]
[{"$f":"VLOOKUP(B3877,'(1) Project Reference Item List'!$B$2:$C$1000,2,FALSE)","v":{"$error":"#N/A"}},null,null,null,null,null,null,null,null,null,null,{"$f":"VLOOKUP(B3877,'(1) Project Reference Item List'!$B$2:$D$1000,3,FALSE)","v":{"$error":"#N/A"}},null,null,0,0]
[{"$f":"VLOOKUP(B3878,'(1) Project Reference Item List'!$B$2:$C$1000,2,FALSE)","v":{"$error":"#N/A"}},null,null,null,null,null,null,null,null,null,null,{"$f":"VLOOKUP(B3878,'(1) Project Reference Item List'!$B$2:$D$1000,3,FALSE)","v":{"$error":"#N/A"}},null,null,0,0]
[{"$f":"VLOOKUP(B3879,'(1) Project Reference Item List'!$B$2:$C$1000,2,FALSE)","v":{"$error":"#N/A"}},null,null,null,null,null,null,null,null,null,null,{"$f":"VLOOKUP(B3879,'(1) Project Reference Item List'!$B$2:$D$1000,3,FALSE)","v":{"$error":"#N/A"}},null,null,0,0]
[{"$f":"VLOOKUP(B3880,'(1) Project Reference Item List'!$B$2:$C$1000,2,FALSE)","v":{"$error":"#N/A"}},null,null,null,null,null,null,null,null,null,null,{"$f":"VLOOKUP(B3880,'(1) Project Reference Item List'!$B$2:$D$1000,3,FALSE)","v":{"$error":"#N/A"}},null,null,0,0]
[{"$f":"VLOOKUP(B3881,'(1) Project Reference Item List'!$B$2:$C$1000,2,FALSE)","v":{"$error":"#N/A"}},null,null,null,null,null,null,null,null,null,null,{"$f":"VLOOKUP(B3881,'(1) Project Reference Item List'!$B$2:$D$1000,3,FALSE)","v":{"$error":"#N/A"}},null,null,0,0]
[{"$f":"VLOOKUP(B3882,'(1) Project Reference Item List'!$B$2:$C$1000,2,FALSE)","v":{"$error":"#N/A"}},null,null,null,null,null,null,null,null,null,null,{"$f":"VLOOKUP(B3882,'(1) Project Reference Item List'!$B$2:$D$1000,3,FALSE)","v":{"$error":"#N/A"}},null,null,0,0]
[{"$f":"VLOOKUP(B3883,'(1) Project Reference Item List'!$B$2:$C$1000,2,FALSE)","v":{"$error":"#N/A"}},null,null,null,null,null,null,null,null,null,null,{"$f":"VLOOKUP(B3883,'(1) Project Reference Item List'!$B$2:$D$1000,3,FALSE)","v":{"$error":"#N/A"}},null,null,0,0]
[{"$f":"VLOOKUP(B3884,'(1) Project Reference Item List'!$B$2:$C$1000,2,FALSE)","v":{"$error":"#N/A"}},null,null,null,null,null,null,null,null,null,null,{"$f":"VLOOKUP(B3884,'(1) Project Reference Item List'!$B$2:$D$1000,3,FALSE)","v":{"$error":"#N/A"}},null,null,0,0]
[{"$f":"VLOOKUP(B3885,'(1) Project Reference Item List'!$B$2:$C$1000,2,FALSE)","v":{"$error":"#N/A"}},null,null,null,null,null,null,null,null,null,null,{"$f":"VLOOKUP(B3885,'(1) Project Reference Item List'!$B$2:$D$1000,3,FALSE)","v":{"$error":"#N/A"}},null,null,0,0]
[{"$f":"VLOOKUP(B3886,'(1) Project Reference Item List'!$B$2:$C$1000,2,FALSE)","v":{"$error":"#N/A"}},null,null,null,null,null,null,null,null,null,null,{"$f":"VLOOKUP(B3886,'(1) Project Reference Item List'!$B$2:$D$1000,3,FALSE)","v":{"$error":"#N/A"}},null,null,0,0]
[{"$f":"VLOOKUP(B3887,'(1) Project Reference Item List'!$B$2:$C$1000,2,FALSE)","v":{"$error":"#N/A"}},null,null,null,null,null,null,null,null,null,null,{"$f":"VLOOKUP(B3887,'(1) Project Reference Item List'!$B$2:$D$1000,3,FALSE)","v":{"$error":"#N/A"}},null,null,0,0]
[{"$f":"VLOOKUP(B3888,'(1) Project Reference Item List'!$B$2:$C$1000,2,FALSE)","v":{"$error":"#N/A"}},null,null,null,null,null,null,null,null,null,null,{"$f":"VLOOKUP(B3888,'(1) Project Reference Item List'!$B$2:$D$1000,3,FALSE)","v":{"$error":"#N/A"}},null,null,0,0]
[{"$f":"VLOOKUP(B3889,'(1) Project Reference Item List'!$B$2:$C$1000,2,FALSE)","v":{"$error":"#N/A"}},null,null,null,null,null,null,null,null,null,null,{"$f":"VLOOKUP(B3889,'(1) Project Reference Item List'!$B$2:$D$1000,3,FALSE)","v":{"$error":"#N/A"}},null,null,0,0]
[{"$f":"VLOOKUP(B3890,'(1) Project Reference Item List'!$B$2:$C$1000,2,FALSE)","v":{"$error":"#N/A"}},null,null,null,null,null,null,null,null,null,null,{"$f":"VLOOKUP(B3890,'(1) Project Reference Item List'!$B$2:$D$1000,3,FALSE)","v":{"$error":"#N/A"}},null,null,0,0]
[{"$f":"VLOOKUP(B3891,'(1) Project Reference Item List'!$B$2:$C$1000,2,FALSE)","v":{"$error":"#N/A"}},null,null,null,null,null,null,null,null,null,null,{"$f":"VLOOKUP(B3891,'(1) Project Reference Item List'!$B$2:$D$1000,3,FALSE)","v":{"$error":"#N/A"}},null,null,0,0]
[{"$f":"VLOOKUP(B3892,'(1) Project Reference Item List'!$B$2:$C$1000,2,FALSE)","v":{"$error":"#N/A"}},null,null,null,null,null,null,null,null,null,null,{"$f":"VLOOKUP(B3892,'(1) Project Reference Item List'!$B$2:$D$1000,3,FALSE)","v":{"$error":"#N/A"}},null,null,0,0]
[{"$f":"VLOOKUP(B3893,'(1) Project Reference Item List'!$B$2:$C$1000,2,FALSE)","v":{"$error":"#N/A"}},null,null,null,null,null,null,null,null,null,null,{"$f":"VLOOKUP(B3893,'(1) Project Reference Item List'!$B$2:$D$1000,3,FALSE)","v":{"$error":"#N/A"}},null,null,0,0]
[{"$f":"VLOOKUP(B3894,'(1) Project Reference Item List'!$B$2:$C$1000,2,FALSE)","v":{"$error":"#N/A"}},null,null,null,null,null,null,null,null,null,null,{"$f":"VLOOKUP(B3894,'(1) Project Reference Item List'!$B$2:$D$1000,3,FALSE)","v":{"$error":"#N/A"}},null,null,0,0]
[{"$f":"VLOOKUP(B3895,'(1) Project Reference Item List'!$B$2:$C$1000,2,FALSE)","v":{"$error":"#N/A"}},null,null,null,null,null,null,null,null,null,null,{"$f":"VLOOKUP(B3895,'(1) Project Reference Item List'!$B$2:$D$1000,3,FALSE)","v":{"$error":"#N/A"}},null,null,0,0]
[{"$f":"VLOOKUP(B3896,'(1) Project Reference Item List'!$B$2:$C$1000,2,FALSE)","v":{"$error":"#N/A"}},null,null,null,null,null,null,null,null,null,null,{"$f":"VLOOKUP(B3896,'(1) Project Reference Item List'!$B$2:$D$1000,3,FALSE)","v":{"$error":"#N/A"}},null,null,0,0]
[{"$f":"VLOOKUP(B3897,'(1) Project Reference Item List'!$B$2:$C$1000,2,FALSE)","v":{"$error":"#N/A"}},null,null,null,null,null,null,null,null,null,null,{"$f":"VLOOKUP(B3897,'(1) Project Reference Item List'!$B$2:$D$1000,3,FALSE)","v":{"$error":"#N/A"}},null,null,0,0]
[{"$f":"VLOOKUP(B3898,'(1) Project Reference Item List'!$B$2:$C$1000,2,FALSE)","v":{"$error":"#N/A"}},null,null,null,null,null,null,null,null,null,null,{"$f":"VLOOKUP(B3898,'(1) Project Reference Item List'!$B$2:$D$1000,3,FALSE)","v":{"$error":"#N/A"}},null,null,0,0]
[{"$f":"VLOOKUP(B3899,'(1) Project Reference Item List'!$B$2:$C$1000,2,FALSE)","v":{"$error":"#N/A"}},null,null,null,null,null,null,null,null,null,null,{"$f":"VLOOKUP(B3899,'(1) Project Reference Item List'!$B$2:$D$1000,3,FALSE)","v":{"$error":"#N/A"}},null,null,0,0]
[{"$f":"VLOOKUP(B3900,'(1) Project Reference Item List'!$B$2:$C$1000,2,FALSE)","v":{"$error":"#N/A"}},null,null,null,null,null,null,null,null,null,null,{"$f":"VLOOKUP(B3900,'(1) Project Reference Item List'!$B$2:$D$1000,3,FALSE)","v":{"$error":"#N/A"}},null,null,0,0]
[{"$f":"VLOOKUP(B3901,'(1) Project Reference Item List'!$B$2:$C$1000,2,FALSE)","v":{"$error":"#N/A"}},null,null,null,null,null,null,null,null,null,null,{"$f":"VLOOKUP(B3901,'(1) Project Reference Item List'!$B$2:$D$1000,3,FALSE)","v":{"$error":"#N/A"}},null,null,0,0]
[{"$f":"VLOOKUP(B3902,'(1) Project Reference Item List'!$B$2:$C$1000,2,FALSE)","v":{"$error":"#N/A"}},null,null,null,null,null,null,null,null,null,null,{"$f":"VLOOKUP(B3902,'(1) Project Reference Item List'!$B$2:$D$1000,3,FALSE)","v":{"$error":"#N/A"}},null,null,0,0]
[{"$f":"VLOOKUP(B3903,'(1) Project Reference Item List'!$B$2:$C$1000,2,FALSE)","v":{"$error":"#N/A"}},null,null,null,null,null,null,null,null,null,null,{"$f":"VLOOKUP(B3903,'(1) Project Reference Item List'!$B$2:$D$1000,3,FALSE)","v":{"$error":"#N/A"}},null,null,0,0]
[{"$f":"VLOOKUP(B3904,'(1) Project Reference Item List'!$B$2:$C$1000,2,FALSE)","v":{"$error":"#N/A"}},null,null,null,null,null,null,null,null,null,null,{"$f":"VLOOKUP(B3904,'(1) Project Reference Item List'!$B$2:$D$1000,3,FALSE)","v":{"$error":"#N/A"}},null,null,0,0]
[{"$f":"VLOOKUP(B3905,'(1) Project Reference Item List'!$B$2:$C$1000,2,FALSE)","v":{"$error":"#N/A"}},null,null,null,null,null,null,null,null,null,null,{"$f":"VLOOKUP(B3905,'(1) Project Reference Item List'!$B$2:$D$1000,3,FALSE)","v":{"$error":"#N/A"}},null,null,0,0]
[{"$f":"VLOOKUP(B3906,'(1) Project Reference Item List'!$B$2:$C$1000,2,FALSE)","v":{"$error":"#N/A"}},null,null,null,null,null,null,null,null,null,null,{"$f":"VLOOKUP(B3906,'(1) Project Reference Item List'!$B$2:$D$1000,3,FALSE)","v":{"$error":"#N/A"}},null,null,0,0]
[{"$f":"VLOOKUP(B3907,'(1) Project Reference Item List'!$B$2:$C$1000,2,FALSE)","v":{"$error":"#N/A"}},null,null,null,null,null,null,null,null,null,null,{"$f":"VLOOKUP(B3907,'(1) Project Reference Item List'!$B$2:$D$1000,3,FALSE)","v":{"$error":"#N/A"}},null,null,0,0]
[{"$f":"VLOOKUP(B3908,'(1) Project Reference Item List'!$B$2:$C$1000,2,FALSE)","v":{"$error":"#N/A"}},null,null,null,null,null,null,null,null,null,null,{"$f":"VLOOKUP(B3908,'(1) Project Reference Item List'!$B$2:$D$1000,3,FALSE)","v":{"$error":"#N/A"}},null,null,0,0]
[{"$f":"VLOOKUP(B3909,'(1) Project Reference Item List'!$B$2:$C$1000,2,FALSE)","v":{"$error":"#N/A"}},null,null,null,null,null,null,null,null,null,null,{"$f":"VLOOKUP(B3909,'(1) Project Reference Item List'!$B$2:$D$1000,3,FALSE)","v":{"$error":"#N/A"}},null,null,0,0]
[{"$f":"VLOOKUP(B3910,'(1) Project Reference Item List'!$B$2:$C$1000,2,FALSE)","v":{"$error":"#N/A"}},null,null,null,null,null,null,null,null,null,null,{"$f":"VLOOKUP(B3910,'(1) Project Reference Item List'!$B$2:$D$1000,3,FALSE)","v":{"$error":"#N/A"}},null,null,{"$f":"IF(J3910=0,J3910,J3910*N3910)","v":0},{"$f":"(M3910-O3910)","v":0}]
[{"$f":"VLOOKUP(B3911,'(1) Project Reference Item List'!$B$2:$C$1000,2,FALSE)","v":{"$error":"#N/A"}},null,null,null,null,null,null,null,null,null,null,{"$f":"VLOOKUP(B3911,'(1) Project Reference Item List'!$B$2:$D$1000,3,FALSE)","v":{"$error":"#N/A"}},null,null,0,0]
[{"$f":"VLOOKUP(B3912,'(1) Project Reference Item List'!$B$2:$C$1000,2,FALSE)","v":{"$error":"#N/A"}},null,null,null,null,null,null,null,null,null,null,{"$f":"VLOOKUP(B3912,'(1) Project Reference Item List'!$B$2:$D$1000,3,FALSE)","v":{"$error":"#N/A"}},null,null,0,0]
[{"$f":"VLOOKUP(B3913,'(1) Project Reference Item List'!$B$2:$C$1000,2,FALSE)","v":{"$error":"#N/A"}},null,null,null,null,null,null,null,null,null,null,{"$f":"VLOOKUP(B3913,'(1) Project Reference Item List'!$B$2:$D$1000,3,FALSE)","v":{"$error":"#N/A"}},null,null,0,0]
[{"$f":"VLOOKUP(B3914,'(1) Project Reference Item List'!$B$2:$C$1000,2,FALSE)","v":{"$error":"#N/A"}},null,null,null,null,null,null,null,null,null,null,{"$f":"VLOOKUP(B3914,'(1) Project Reference Item List'!$B$2:$D$1000,3,FALSE)","v":{"$error":"#N/A"}},null,null,0,0]
[{"$f":"VLOOKUP(B3915,'(1) Project Reference Item List'!$B$2:$C$1000,2,FALSE)","v":{"$error":"#N/A"}},null,null,null,null,null,null,null,null,null,null,{"$f":"VLOOKUP(B3915,'(1) Project Reference Item List'!$B$2:$D$1000,3,FALSE)","v":{"$error":"#N/A"}},null,null,0,0]
[{"$f":"VLOOKUP(B3916,'(1) Project Reference Item List'!$B$2:$C$1000,2,FALSE)","v":{"$error":"#N/A"}},null,null,null,null,null,null,null,null,null,null,{"$f":"VLOOKUP(B3916,'(1) Project Reference Item List'!$B$2:$D$1000,3,FALSE)","v":{"$error":"#N/A"}},null,null,0,0]
[{"$f":"VLOOKUP(B3917,'(1) Project Reference Item List'!$B$2:$C$1000,2,FALSE)","v":{"$error":"#N/A"}},null,null,null,null,null,null,null,null,null,null,{"$f":"VLOOKUP(B3917,'(1) Project Reference Item List'!$B$2:$D$1000,3,FALSE)","v":{"$error":"#N/A"}},null,null,0,0]
[{"$f":"VLOOKUP(B3918,'(1) Project Reference Item List'!$B$2:$C$1000,2,FALSE)","v":{"$error":"#N/A"}},null,null,null,null,null,null,null,null,null,null,{"$f":"VLOOKUP(B3918,'(1) Project Reference Item List'!$B$2:$D$1000,3,FALSE)","v":{"$error":"#N/A"}},null,null,0,0]
[{"$f":"VLOOKUP(B3919,'(1) Project Reference Item List'!$B$2:$C$1000,2,FALSE)","v":{"$error":"#N/A"}},null,null,null,null,null,null,null,null,null,null,{"$f":"VLOOKUP(B3919,'(1) Project Reference Item List'!$B$2:$D$1000,3,FALSE)","v":{"$error":"#N/A"}},null,null,0,0]
[{"$f":"VLOOKUP(B3920,'(1) Project Reference Item List'!$B$2:$C$1000,2,FALSE)","v":{"$error":"#N/A"}},null,null,null,null,null,null,null,null,null,null,{"$f":"VLOOKUP(B3920,'(1) Project Reference Item List'!$B$2:$D$1000,3,FALSE)","v":{"$error":"#N/A"}},null,null,0,0]
[{"$f":"VLOOKUP(B3921,'(1) Project Reference Item List'!$B$2:$C$1000,2,FALSE)","v":{"$error":"#N/A"}},null,null,null,null,null,null,null,null,null,null,{"$f":"VLOOKUP(B3921,'(1) Project Reference Item List'!$B$2:$D$1000,3,FALSE)","v":{"$error":"#N/A"}},null,null,0,0]
[{"$f":"VLOOKUP(B3922,'(1) Project Reference Item List'!$B$2:$C$1000,2,FALSE)","v":{"$error":"#N/A"}},null,null,null,null,null,null,null,null,null,null,{"$f":"VLOOKUP(B3922,'(1) Project Reference Item List'!$B$2:$D$1000,3,FALSE)","v":{"$error":"#N/A"}},null,null,0,0]
[{"$f":"VLOOKUP(B3923,'(1) Project Reference Item List'!$B$2:$C$1000,2,FALSE)","v":{"$error":"#N/A"}},null,null,null,null,null,null,null,null,null,null,{"$f":"VLOOKUP(B3923,'(1) Project Reference Item List'!$B$2:$D$1000,3,FALSE)","v":{"$error":"#N/A"}},null,null,0,0]
[{"$f":"VLOOKUP(B3924,'(1) Project Reference Item List'!$B$2:$C$1000,2,FALSE)","v":{"$error":"#N/A"}},null,null,null,null,null,null,null,null,null,null,{"$f":"VLOOKUP(B3924,'(1) Project Reference Item List'!$B$2:$D$1000,3,FALSE)","v":{"$error":"#N/A"}},null,null,0,0]
[{"$f":"VLOOKUP(B3925,'(1) Project Reference Item List'!$B$2:$C$1000,2,FALSE)","v":{"$error":"#N/A"}},null,null,null,null,null,null,null,null,null,null,{"$f":"VLOOKUP(B3925,'(1) Project Reference Item List'!$B$2:$D$1000,3,FALSE)","v":{"$error":"#N/A"}},null,null,0,0]
[{"$f":"VLOOKUP(B3926,'(1) Project Reference Item List'!$B$2:$C$1000,2,FALSE)","v":{"$error":"#N/A"}},null,null,null,null,null,null,null,null,null,null,{"$f":"VLOOKUP(B3926,'(1) Project Reference Item List'!$B$2:$D$1000,3,FALSE)","v":{"$error":"#N/A"}},null,null,0,0]
[{"$f":"VLOOKUP(B3927,'(1) Project Reference Item List'!$B$2:$C$1000,2,FALSE)","v":{"$error":"#N/A"}},null,null,null,null,null,null,null,null,null,null,{"$f":"VLOOKUP(B3927,'(1) Project Reference Item List'!$B$2:$D$1000,3,FALSE)","v":{"$error":"#N/A"}},null,null,0,0]
[{"$f":"VLOOKUP(B3928,'(1) Project Reference Item List'!$B$2:$C$1000,2,FALSE)","v":{"$error":"#N/A"}},null,null,null,null,null,null,null,null,null,null,{"$f":"VLOOKUP(B3928,'(1) Project Reference Item List'!$B$2:$D$1000,3,FALSE)","v":{"$error":"#N/A"}},null,null,0,0]
[{"$f":"VLOOKUP(B3929,'(1) Project Reference Item List'!$B$2:$C$1000,2,FALSE)","v":{"$error":"#N/A"}},null,null,null,null,null,null,null,null,null,null,{"$f":"VLOOKUP(B3929,'(1) Project Reference Item List'!$B$2:$D$1000,3,FALSE)","v":{"$error":"#N/A"}},null,null,0,0]
[{"$f":"VLOOKUP(B3930,'(1) Project Reference Item List'!$B$2:$C$1000,2,FALSE)","v":{"$error":"#N/A"}},null,null,null,null,null,null,null,null,null,null,{"$f":"VLOOKUP(B3930,'(1) Project Reference Item List'!$B$2:$D$1000,3,FALSE)","v":{"$error":"#N/A"}},null,null,0,0]
[{"$f":"VLOOKUP(B3931,'(1) Project Reference Item List'!$B$2:$C$1000,2,FALSE)","v":{"$error":"#N/A"}},null,null,null,null,null,null,null,null,null,null,{"$f":"VLOOKUP(B3931,'(1) Project Reference Item List'!$B$2:$D$1000,3,FALSE)","v":{"$error":"#N/A"}},null,null,0,0]
[{"$f":"VLOOKUP(B3932,'(1) Project Reference Item List'!$B$2:$C$1000,2,FALSE)","v":{"$error":"#N/A"}},null,null,null,null,null,null,null,null,null,null,{"$f":"VLOOKUP(B3932,'(1) Project Reference Item List'!$B$2:$D$1000,3,FALSE)","v":{"$error":"#N/A"}},null,null,0,0]
[{"$f":"VLOOKUP(B3933,'(1) Project Reference Item List'!$B$2:$C$1000,2,FALSE)","v":{"$error":"#N/A"}},null,null,null,null,null,null,null,null,null,null,{"$f":"VLOOKUP(B3933,'(1) Project Reference Item List'!$B$2:$D$1000,3,FALSE)","v":{"$error":"#N/A"}},null,null,0,0]
[{"$f":"VLOOKUP(B3934,'(1) Project Reference Item List'!$B$2:$C$1000,2,FALSE)","v":{"$error":"#N/A"}},null,null,null,null,null,null,null,null,null,null,{"$f":"VLOOKUP(B3934,'(1) Project Reference Item List'!$B$2:$D$1000,3,FALSE)","v":{"$error":"#N/A"}},null,null,0,0]
[{"$f":"VLOOKUP(B3935,'(1) Project Reference Item List'!$B$2:$C$1000,2,FALSE)","v":{"$error":"#N/A"}},null,null,null,null,null,null,null,null,null,null,{"$f":"VLOOKUP(B3935,'(1) Project Reference Item List'!$B$2:$D$1000,3,FALSE)","v":{"$error":"#N/A"}},null,null,0,0]
[{"$f":"VLOOKUP(B3936,'(1) Project Reference Item List'!$B$2:$C$1000,2,FALSE)","v":{"$error":"#N/A"}},null,null,null,null,null,null,null,null,null,null,{"$f":"VLOOKUP(B3936,'(1) Project Reference Item List'!$B$2:$D$1000,3,FALSE)","v":{"$error":"#N/A"}},null,null,0,0]
[{"$f":"VLOOKUP(B3937,'(1) Project Reference Item List'!$B$2:$C$1000,2,FALSE)","v":{"$error":"#N/A"}},null,null,null,null,null,null,null,null,null,null,{"$f":"VLOOKUP(B3937,'(1) Project Reference Item List'!$B$2:$D$1000,3,FALSE)","v":{"$error":"#N/A"}},null,null,0,0]
[{"$f":"VLOOKUP(B3938,'(1) Project Reference Item List'!$B$2:$C$1000,2,FALSE)","v":{"$error":"#N/A"}},null,null,null,null,null,null,null,null,null,null,{"$f":"VLOOKUP(B3938,'(1) Project Reference Item List'!$B$2:$D$1000,3,FALSE)","v":{"$error":"#N/A"}},null,null,0,0]
[{"$f":"VLOOKUP(B3939,'(1) Project Reference Item List'!$B$2:$C$1000,2,FALSE)","v":{"$error":"#N/A"}},null,null,null,null,null,null,null,null,null,null,{"$f":"VLOOKUP(B3939,'(1) Project Reference Item List'!$B$2:$D$1000,3,FALSE)","v":{"$error":"#N/A"}},null,null,0,0]
[{"$f":"VLOOKUP(B3940,'(1) Project Reference Item List'!$B$2:$C$1000,2,FALSE)","v":{"$error":"#N/A"}},null,null,null,null,null,null,null,null,null,null,{"$f":"VLOOKUP(B3940,'(1) Project Reference Item List'!$B$2:$D$1000,3,FALSE)","v":{"$error":"#N/A"}},null,null,0,0]
[{"$f":"VLOOKUP(B3941,'(1) Project Reference Item List'!$B$2:$C$1000,2,FALSE)","v":{"$error":"#N/A"}},null,null,null,null,null,null,null,null,null,null,{"$f":"VLOOKUP(B3941,'(1) Project Reference Item List'!$B$2:$D$1000,3,FALSE)","v":{"$error":"#N/A"}},null,null,0,0]
[{"$f":"VLOOKUP(B3942,'(1) Project Reference Item List'!$B$2:$C$1000,2,FALSE)","v":{"$error":"#N/A"}},null,null,null,null,null,null,null,null,null,null,{"$f":"VLOOKUP(B3942,'(1) Project Reference Item List'!$B$2:$D$1000,3,FALSE)","v":{"$error":"#N/A"}},null,null,0,0]
[{"$f":"VLOOKUP(B3943,'(1) Project Reference Item List'!$B$2:$C$1000,2,FALSE)","v":{"$error":"#N/A"}},null,null,null,null,null,null,null,null,null,null,{"$f":"VLOOKUP(B3943,'(1) Project Reference Item List'!$B$2:$D$1000,3,FALSE)","v":{"$error":"#N/A"}},null,null,0,0]
[{"$f":"VLOOKUP(B3944,'(1) Project Reference Item List'!$B$2:$C$1000,2,FALSE)","v":{"$error":"#N/A"}},null,null,null,null,null,null,null,null,null,null,{"$f":"VLOOKUP(B3944,'(1) Project Reference Item List'!$B$2:$D$1000,3,FALSE)","v":{"$error":"#N/A"}},null,null,0,0]
[{"$f":"VLOOKUP(B3945,'(1) Project Reference Item List'!$B$2:$C$1000,2,FALSE)","v":{"$error":"#N/A"}},null,null,null,null,null,null,null,null,null,null,{"$f":"VLOOKUP(B3945,'(1) Project Reference Item List'!$B$2:$D$1000,3,FALSE)","v":{"$error":"#N/A"}},null,null,0,0]
[{"$f":"VLOOKUP(B3946,'(1) Project Reference Item List'!$B$2:$C$1000,2,FALSE)","v":{"$error":"#N/A"}},null,null,null,null,null,null,null,null,null,null,{"$f":"VLOOKUP(B3946,'(1) Project Reference Item List'!$B$2:$D$1000,3,FALSE)","v":{"$error":"#N/A"}},null,null,0,0]
[{"$f":"VLOOKUP(B3947,'(1) Project Reference Item List'!$B$2:$C$1000,2,FALSE)","v":{"$error":"#N/A"}},null,null,null,null,null,null,null,null,null,null,{"$f":"VLOOKUP(B3947,'(1) Project Reference Item List'!$B$2:$D$1000,3,FALSE)","v":{"$error":"#N/A"}},null,null,0,0]
[{"$f":"VLOOKUP(B3948,'(1) Project Reference Item List'!$B$2:$C$1000,2,FALSE)","v":{"$error":"#N/A"}},null,null,null,null,null,null,null,null,null,null,{"$f":"VLOOKUP(B3948,'(1) Project Reference Item List'!$B$2:$D$1000,3,FALSE)","v":{"$error":"#N/A"}},null,null,0,0]
[{"$f":"VLOOKUP(B3949,'(1) Project Reference Item List'!$B$2:$C$1000,2,FALSE)","v":{"$error":"#N/A"}},null,null,null,null,null,null,null,null,null,null,{"$f":"VLOOKUP(B3949,'(1) Project Reference Item List'!$B$2:$D$1000,3,FALSE)","v":{"$error":"#N/A"}},null,null,0,0]
[{"$f":"VLOOKUP(B3950,'(1) Project Reference Item List'!$B$2:$C$1000,2,FALSE)","v":{"$error":"#N/A"}},null,null,null,null,null,null,null,null,null,null,{"$f":"VLOOKUP(B3950,'(1) Project Reference Item List'!$B$2:$D$1000,3,FALSE)","v":{"$error":"#N/A"}},null,null,0,0]
[{"$f":"VLOOKUP(B3951,'(1) Project Reference Item List'!$B$2:$C$1000,2,FALSE)","v":{"$error":"#N/A"}},null,null,null,null,null,null,null,null,null,null,{"$f":"VLOOKUP(B3951,'(1) Project Reference Item List'!$B$2:$D$1000,3,FALSE)","v":{"$error":"#N/A"}},null,null,0,0]
[{"$f":"VLOOKUP(B3952,'(1) Project Reference Item List'!$B$2:$C$1000,2,FALSE)","v":{"$error":"#N/A"}},null,null,null,null,null,null,null,null,null,null,{"$f":"VLOOKUP(B3952,'(1) Project Reference Item List'!$B$2:$D$1000,3,FALSE)","v":{"$error":"#N/A"}},null,null,0,0]
[{"$f":"VLOOKUP(B3953,'(1) Project Reference Item List'!$B$2:$C$1000,2,FALSE)","v":{"$error":"#N/A"}},null,null,null,null,null,null,null,null,null,null,{"$f":"VLOOKUP(B3953,'(1) Project Reference Item List'!$B$2:$D$1000,3,FALSE)","v":{"$error":"#N/A"}},null,null,0,0]
[{"$f":"VLOOKUP(B3954,'(1) Project Reference Item List'!$B$2:$C$1000,2,FALSE)","v":{"$error":"#N/A"}},null,null,null,null,null,null,null,null,null,null,{"$f":"VLOOKUP(B3954,'(1) Project Reference Item List'!$B$2:$D$1000,3,FALSE)","v":{"$error":"#N/A"}},null,null,0,0]
[{"$f":"VLOOKUP(B3955,'(1) Project Reference Item List'!$B$2:$C$1000,2,FALSE)","v":{"$error":"#N/A"}},null,null,null,null,null,null,null,null,null,null,{"$f":"VLOOKUP(B3955,'(1) Project Reference Item List'!$B$2:$D$1000,3,FALSE)","v":{"$error":"#N/A"}},null,null,0,0]
[{"$f":"VLOOKUP(B3956,'(1) Project Reference Item List'!$B$2:$C$1000,2,FALSE)","v":{"$error":"#N/A"}},null,null,null,null,null,null,null,null,null,null,{"$f":"VLOOKUP(B3956,'(1) Project Reference Item List'!$B$2:$D$1000,3,FALSE)","v":{"$error":"#N/A"}},null,null,0,0]
[{"$f":"VLOOKUP(B3957,'(1) Project Reference Item List'!$B$2:$C$1000,2,FALSE)","v":{"$error":"#N/A"}},null,null,null,null,null,null,null,null,null,null,{"$f":"VLOOKUP(B3957,'(1) Project Reference Item List'!$B$2:$D$1000,3,FALSE)","v":{"$error":"#N/A"}},null,null,0,0]
[{"$f":"VLOOKUP(B3958,'(1) Project Reference Item List'!$B$2:$C$1000,2,FALSE)","v":{"$error":"#N/A"}},null,null,null,null,null,null,null,null,null,null,{"$f":"VLOOKUP(B3958,'(1) Project Reference Item List'!$B$2:$D$1000,3,FALSE)","v":{"$error":"#N/A"}},null,null,0,0]
[{"$f":"VLOOKUP(B3959,'(1) Project Reference Item List'!$B$2:$C$1000,2,FALSE)","v":{"$error":"#N/A"}},null,null,null,null,null,null,null,null,null,null,{"$f":"VLOOKUP(B3959,'(1) Project Reference Item List'!$B$2:$D$1000,3,FALSE)","v":{"$error":"#N/A"}},null,null,0,0]
[{"$f":"VLOOKUP(B3960,'(1) Project Reference Item List'!$B$2:$C$1000,2,FALSE)","v":{"$error":"#N/A"}},null,null,null,null,null,null,null,null,null,null,{"$f":"VLOOKUP(B3960,'(1) Project Reference Item List'!$B$2:$D$1000,3,FALSE)","v":{"$error":"#N/A"}},null,null,0,0]
[{"$f":"VLOOKUP(B3961,'(1) Project Reference Item List'!$B$2:$C$1000,2,FALSE)","v":{"$error":"#N/A"}},null,null,null,null,null,null,null,null,null,null,{"$f":"VLOOKUP(B3961,'(1) Project Reference Item List'!$B$2:$D$1000,3,FALSE)","v":{"$error":"#N/A"}},null,null,0,0]
[{"$f":"VLOOKUP(B3962,'(1) Project Reference Item List'!$B$2:$C$1000,2,FALSE)","v":{"$error":"#N/A"}},null,null,null,null,null,null,null,null,null,null,{"$f":"VLOOKUP(B3962,'(1) Project Reference Item List'!$B$2:$D$1000,3,FALSE)","v":{"$error":"#N/A"}},null,null,0,0]
[{"$f":"VLOOKUP(B3963,'(1) Project Reference Item List'!$B$2:$C$1000,2,FALSE)","v":{"$error":"#N/A"}},null,null,null,null,null,null,null,null,null,null,{"$f":"VLOOKUP(B3963,'(1) Project Reference Item List'!$B$2:$D$1000,3,FALSE)","v":{"$error":"#N/A"}},null,null,0,0]
[{"$f":"VLOOKUP(B3964,'(1) Project Reference Item List'!$B$2:$C$1000,2,FALSE)","v":{"$error":"#N/A"}},null,null,null,null,null,null,null,null,null,null,{"$f":"VLOOKUP(B3964,'(1) Project Reference Item List'!$B$2:$D$1000,3,FALSE)","v":{"$error":"#N/A"}},null,null,0,0]
[{"$f":"VLOOKUP(B3965,'(1) Project Reference Item List'!$B$2:$C$1000,2,FALSE)","v":{"$error":"#N/A"}},null,null,null,null,null,null,null,null,null,null,{"$f":"VLOOKUP(B3965,'(1) Project Reference Item List'!$B$2:$D$1000,3,FALSE)","v":{"$error":"#N/A"}},null,null,0,0]
[{"$f":"VLOOKUP(B3966,'(1) Project Reference Item List'!$B$2:$C$1000,2,FALSE)","v":{"$error":"#N/A"}},null,null,null,null,null,null,null,null,null,null,{"$f":"VLOOKUP(B3966,'(1) Project Reference Item List'!$B$2:$D$1000,3,FALSE)","v":{"$error":"#N/A"}},null,null,0,0]
[{"$f":"VLOOKUP(B3967,'(1) Project Reference Item List'!$B$2:$C$1000,2,FALSE)","v":{"$error":"#N/A"}},null,null,null,null,null,null,null,null,null,null,{"$f":"VLOOKUP(B3967,'(1) Project Reference Item List'!$B$2:$D$1000,3,FALSE)","v":{"$error":"#N/A"}},null,null,0,0]
[{"$f":"VLOOKUP(B3968,'(1) Project Reference Item List'!$B$2:$C$1000,2,FALSE)","v":{"$error":"#N/A"}},null,null,null,null,null,null,null,null,null,null,{"$f":"VLOOKUP(B3968,'(1) Project Reference Item List'!$B$2:$D$1000,3,FALSE)","v":{"$error":"#N/A"}},null,null,0,0]
[{"$f":"VLOOKUP(B3969,'(1) Project Reference Item List'!$B$2:$C$1000,2,FALSE)","v":{"$error":"#N/A"}},null,null,null,null,null,null,null,null,null,null,{"$f":"VLOOKUP(B3969,'(1) Project Reference Item List'!$B$2:$D$1000,3,FALSE)","v":{"$error":"#N/A"}},null,null,0,0]
[{"$f":"VLOOKUP(B3970,'(1) Project Reference Item List'!$B$2:$C$1000,2,FALSE)","v":{"$error":"#N/A"}},null,null,null,null,null,null,null,null,null,null,{"$f":"VLOOKUP(B3970,'(1) Project Reference Item List'!$B$2:$D$1000,3,FALSE)","v":{"$error":"#N/A"}},null,null,0,0]
[{"$f":"VLOOKUP(B3971,'(1) Project Reference Item List'!$B$2:$C$1000,2,FALSE)","v":{"$error":"#N/A"}},null,null,null,null,null,null,null,null,null,null,{"$f":"VLOOKUP(B3971,'(1) Project Reference Item List'!$B$2:$D$1000,3,FALSE)","v":{"$error":"#N/A"}},null,null,0,0]
[{"$f":"VLOOKUP(B3972,'(1) Project Reference Item List'!$B$2:$C$1000,2,FALSE)","v":{"$error":"#N/A"}},null,null,null,null,null,null,null,null,null,null,{"$f":"VLOOKUP(B3972,'(1) Project Reference Item List'!$B$2:$D$1000,3,FALSE)","v":{"$error":"#N/A"}},null,null,0,0]
[{"$f":"VLOOKUP(B3973,'(1) Project Reference Item List'!$B$2:$C$1000,2,FALSE)","v":{"$error":"#N/A"}},null,null,null,null,null,null,null,null,null,null,{"$f":"VLOOKUP(B3973,'(1) Project Reference Item List'!$B$2:$D$1000,3,FALSE)","v":{"$error":"#N/A"}},null,null,0,0]
[{"$f":"VLOOKUP(B3974,'(1) Project Reference Item List'!$B$2:$C$1000,2,FALSE)","v":{"$error":"#N/A"}},null,null,null,null,null,null,null,null,null,null,{"$f":"VLOOKUP(B3974,'(1) Project Reference Item List'!$B$2:$D$1000,3,FALSE)","v":{"$error":"#N/A"}},null,null,{"$f":"IF(J3974=0,J3974,J3974*N3974)","v":0},{"$f":"(M3974-O3974)","v":0}]
[{"$f":"VLOOKUP(B3975,'(1) Project Reference Item List'!$B$2:$C$1000,2,FALSE)","v":{"$error":"#N/A"}},null,null,null,null,null,null,null,null,null,null,{"$f":"VLOOKUP(B3975,'(1) Project Reference Item List'!$B$2:$D$1000,3,FALSE)","v":{"$error":"#N/A"}},null,null,0,0]
[{"$f":"VLOOKUP(B3976,'(1) Project Reference Item List'!$B$2:$C$1000,2,FALSE)","v":{"$error":"#N/A"}},null,null,null,null,null,null,null,null,null,null,{"$f":"VLOOKUP(B3976,'(1) Project Reference Item List'!$B$2:$D$1000,3,FALSE)","v":{"$error":"#N/A"}},null,null,0,0]
[{"$f":"VLOOKUP(B3977,'(1) Project Reference Item List'!$B$2:$C$1000,2,FALSE)","v":{"$error":"#N/A"}},null,null,null,null,null,null,null,null,null,null,{"$f":"VLOOKUP(B3977,'(1) Project Reference Item List'!$B$2:$D$1000,3,FALSE)","v":{"$error":"#N/A"}},null,null,0,0]
[{"$f":"VLOOKUP(B3978,'(1) Project Reference Item List'!$B$2:$C$1000,2,FALSE)","v":{"$error":"#N/A"}},null,null,null,null,null,null,null,null,null,null,{"$f":"VLOOKUP(B3978,'(1) Project Reference Item List'!$B$2:$D$1000,3,FALSE)","v":{"$error":"#N/A"}},null,null,0,0]
[{"$f":"VLOOKUP(B3979,'(1) Project Reference Item List'!$B$2:$C$1000,2,FALSE)","v":{"$error":"#N/A"}},null,null,null,null,null,null,null,null,null,null,{"$f":"VLOOKUP(B3979,'(1) Project Reference Item List'!$B$2:$D$1000,3,FALSE)","v":{"$error":"#N/A"}},null,null,0,0]
[{"$f":"VLOOKUP(B3980,'(1) Project Reference Item List'!$B$2:$C$1000,2,FALSE)","v":{"$error":"#N/A"}},null,null,null,null,null,null,null,null,null,null,{"$f":"VLOOKUP(B3980,'(1) Project Reference Item List'!$B$2:$D$1000,3,FALSE)","v":{"$error":"#N/A"}},null,null,0,0]
[{"$f":"VLOOKUP(B3981,'(1) Project Reference Item List'!$B$2:$C$1000,2,FALSE)","v":{"$error":"#N/A"}},null,null,null,null,null,null,null,null,null,null,{"$f":"VLOOKUP(B3981,'(1) Project Reference Item List'!$B$2:$D$1000,3,FALSE)","v":{"$error":"#N/A"}},null,null,0,0]
[{"$f":"VLOOKUP(B3982,'(1) Project Reference Item List'!$B$2:$C$1000,2,FALSE)","v":{"$error":"#N/A"}},null,null,null,null,null,null,null,null,null,null,{"$f":"VLOOKUP(B3982,'(1) Project Reference Item List'!$B$2:$D$1000,3,FALSE)","v":{"$error":"#N/A"}},null,null,0,0]
[{"$f":"VLOOKUP(B3983,'(1) Project Reference Item List'!$B$2:$C$1000,2,FALSE)","v":{"$error":"#N/A"}},null,null,null,null,null,null,null,null,null,null,{"$f":"VLOOKUP(B3983,'(1) Project Reference Item List'!$B$2:$D$1000,3,FALSE)","v":{"$error":"#N/A"}},null,null,0,0]
[{"$f":"VLOOKUP(B3984,'(1) Project Reference Item List'!$B$2:$C$1000,2,FALSE)","v":{"$error":"#N/A"}},null,null,null,null,null,null,null,null,null,null,{"$f":"VLOOKUP(B3984,'(1) Project Reference Item List'!$B$2:$D$1000,3,FALSE)","v":{"$error":"#N/A"}},null,null,0,0]
[{"$f":"VLOOKUP(B3985,'(1) Project Reference Item List'!$B$2:$C$1000,2,FALSE)","v":{"$error":"#N/A"}},null,null,null,null,null,null,null,null,null,null,{"$f":"VLOOKUP(B3985,'(1) Project Reference Item List'!$B$2:$D$1000,3,FALSE)","v":{"$error":"#N/A"}},null,null,0,0]
[{"$f":"VLOOKUP(B3986,'(1) Project Reference Item List'!$B$2:$C$1000,2,FALSE)","v":{"$error":"#N/A"}},null,null,null,null,null,null,null,null,null,null,{"$f":"VLOOKUP(B3986,'(1) Project Reference Item List'!$B$2:$D$1000,3,FALSE)","v":{"$error":"#N/A"}},null,null,0,0]
[{"$f":"VLOOKUP(B3987,'(1) Project Reference Item List'!$B$2:$C$1000,2,FALSE)","v":{"$error":"#N/A"}},null,null,null,null,null,null,null,null,null,null,{"$f":"VLOOKUP(B3987,'(1) Project Reference Item List'!$B$2:$D$1000,3,FALSE)","v":{"$error":"#N/A"}},null,null,0,0]
[{"$f":"VLOOKUP(B3988,'(1) Project Reference Item List'!$B$2:$C$1000,2,FALSE)","v":{"$error":"#N/A"}},null,null,null,null,null,null,null,null,null,null,{"$f":"VLOOKUP(B3988,'(1) Project Reference Item List'!$B$2:$D$1000,3,FALSE)","v":{"$error":"#N/A"}},null,null,0,0]
[{"$f":"VLOOKUP(B3989,'(1) Project Reference Item List'!$B$2:$C$1000,2,FALSE)","v":{"$error":"#N/A"}},null,null,null,null,null,null,null,null,null,null,{"$f":"VLOOKUP(B3989,'(1) Project Reference Item List'!$B$2:$D$1000,3,FALSE)","v":{"$error":"#N/A"}},null,null,0,0]
[{"$f":"VLOOKUP(B3990,'(1) Project Reference Item List'!$B$2:$C$1000,2,FALSE)","v":{"$error":"#N/A"}},null,null,null,null,null,null,null,null,null,null,{"$f":"VLOOKUP(B3990,'(1) Project Reference Item List'!$B$2:$D$1000,3,FALSE)","v":{"$error":"#N/A"}},null,null,0,0]
[{"$f":"VLOOKUP(B3991,'(1) Project Reference Item List'!$B$2:$C$1000,2,FALSE)","v":{"$error":"#N/A"}},null,null,null,null,null,null,null,null,null,null,{"$f":"VLOOKUP(B3991,'(1) Project Reference Item List'!$B$2:$D$1000,3,FALSE)","v":{"$error":"#N/A"}},null,null,0,0]
[{"$f":"VLOOKUP(B3992,'(1) Project Reference Item List'!$B$2:$C$1000,2,FALSE)","v":{"$error":"#N/A"}},null,null,null,null,null,null,null,null,null,null,{"$f":"VLOOKUP(B3992,'(1) Project Reference Item List'!$B$2:$D$1000,3,FALSE)","v":{"$error":"#N/A"}},null,null,0,0]
[{"$f":"VLOOKUP(B3993,'(1) Project Reference Item List'!$B$2:$C$1000,2,FALSE)","v":{"$error":"#N/A"}},null,null,null,null,null,null,null,null,null,null,{"$f":"VLOOKUP(B3993,'(1) Project Reference Item List'!$B$2:$D$1000,3,FALSE)","v":{"$error":"#N/A"}},null,null,0,0]
[{"$f":"VLOOKUP(B3994,'(1) Project Reference Item List'!$B$2:$C$1000,2,FALSE)","v":{"$error":"#N/A"}},null,null,null,null,null,null,null,null,null,null,{"$f":"VLOOKUP(B3994,'(1) Project Reference Item List'!$B$2:$D$1000,3,FALSE)","v":{"$error":"#N/A"}},null,null,0,0]
[{"$f":"VLOOKUP(B3995,'(1) Project Reference Item List'!$B$2:$C$1000,2,FALSE)","v":{"$error":"#N/A"}},null,null,null,null,null,null,null,null,null,null,{"$f":"VLOOKUP(B3995,'(1) Project Reference Item List'!$B$2:$D$1000,3,FALSE)","v":{"$error":"#N/A"}},null,null,0,0]
[{"$f":"VLOOKUP(B3996,'(1) Project Reference Item List'!$B$2:$C$1000,2,FALSE)","v":{"$error":"#N/A"}},null,null,null,null,null,null,null,null,null,null,{"$f":"VLOOKUP(B3996,'(1) Project Reference Item List'!$B$2:$D$1000,3,FALSE)","v":{"$error":"#N/A"}},null,null,0,0]
[{"$f":"VLOOKUP(B3997,'(1) Project Reference Item List'!$B$2:$C$1000,2,FALSE)","v":{"$error":"#N/A"}},null,null,null,null,null,null,null,null,null,null,{"$f":"VLOOKUP(B3997,'(1) Project Reference Item List'!$B$2:$D$1000,3,FALSE)","v":{"$error":"#N/A"}},null,null,0,0]
[{"$f":"VLOOKUP(B3998,'(1) Project Reference Item List'!$B$2:$C$1000,2,FALSE)","v":{"$error":"#N/A"}},null,null,null,null,null,null,null,null,null,null,{"$f":"VLOOKUP(B3998,'(1) Project Reference Item List'!$B$2:$D$1000,3,FALSE)","v":{"$error":"#N/A"}},null,null,0,0]
[{"$f":"VLOOKUP(B3999,'(1) Project Reference Item List'!$B$2:$C$1000,2,FALSE)","v":{"$error":"#N/A"}},null,null,null,null,null,null,null,null,null,null,{"$f":"VLOOKUP(B3999,'(1) Project Reference Item List'!$B$2:$D$1000,3,FALSE)","v":{"$error":"#N/A"}},null,null,0,0]
[{"$f":"VLOOKUP(B4000,'(1) Project Reference Item List'!$B$2:$C$1000,2,FALSE)","v":{"$error":"#N/A"}},null,null,null,null,null,null,null,null,null,null,{"$f":"VLOOKUP(B4000,'(1) Project Reference Item List'!$B$2:$D$1000,3,FALSE)","v":{"$error":"#N/A"}},null,null,0,0]
[{"$f":"VLOOKUP(B4001,'(1) Project Reference Item List'!$B$2:$C$1000,2,FALSE)","v":{"$error":"#N/A"}},null,null,null,null,null,null,null,null,null,null,{"$f":"VLOOKUP(B4001,'(1) Project Reference Item List'!$B$2:$D$1000,3,FALSE)","v":{"$error":"#N/A"}},null,null,0,0]
[{"$f":"VLOOKUP(B4002,'(1) Project Reference Item List'!$B$2:$C$1000,2,FALSE)","v":{"$error":"#N/A"}},null,null,null,null,null,null,null,null,null,null,{"$f":"VLOOKUP(B4002,'(1) Project Reference Item List'!$B$2:$D$1000,3,FALSE)","v":{"$error":"#N/A"}},null,null,0,0]
[{"$f":"VLOOKUP(B4003,'(1) Project Reference Item List'!$B$2:$C$1000,2,FALSE)","v":{"$error":"#N/A"}},null,null,null,null,null,null,null,null,null,null,{"$f":"VLOOKUP(B4003,'(1) Project Reference Item List'!$B$2:$D$1000,3,FALSE)","v":{"$error":"#N/A"}},null,null,0,0]
[{"$f":"VLOOKUP(B4004,'(1) Project Reference Item List'!$B$2:$C$1000,2,FALSE)","v":{"$error":"#N/A"}},null,null,null,null,null,null,null,null,null,null,{"$f":"VLOOKUP(B4004,'(1) Project Reference Item List'!$B$2:$D$1000,3,FALSE)","v":{"$error":"#N/A"}},null,null,0,0]
[{"$f":"VLOOKUP(B4005,'(1) Project Reference Item List'!$B$2:$C$1000,2,FALSE)","v":{"$error":"#N/A"}},null,null,null,null,null,null,null,null,null,null,{"$f":"VLOOKUP(B4005,'(1) Project Reference Item List'!$B$2:$D$1000,3,FALSE)","v":{"$error":"#N/A"}},null,null,0,0]
[{"$f":"VLOOKUP(B4006,'(1) Project Reference Item List'!$B$2:$C$1000,2,FALSE)","v":{"$error":"#N/A"}},null,null,null,null,null,null,null,null,null,null,{"$f":"VLOOKUP(B4006,'(1) Project Reference Item List'!$B$2:$D$1000,3,FALSE)","v":{"$error":"#N/A"}},null,null,0,0]
[{"$f":"VLOOKUP(B4007,'(1) Project Reference Item List'!$B$2:$C$1000,2,FALSE)","v":{"$error":"#N/A"}},null,null,null,null,null,null,null,null,null,null,{"$f":"VLOOKUP(B4007,'(1) Project Reference Item List'!$B$2:$D$1000,3,FALSE)","v":{"$error":"#N/A"}},null,null,0,0]
[{"$f":"VLOOKUP(B4008,'(1) Project Reference Item List'!$B$2:$C$1000,2,FALSE)","v":{"$error":"#N/A"}},null,null,null,null,null,null,null,null,null,null,{"$f":"VLOOKUP(B4008,'(1) Project Reference Item List'!$B$2:$D$1000,3,FALSE)","v":{"$error":"#N/A"}},null,null,0,0]
[{"$f":"VLOOKUP(B4009,'(1) Project Reference Item List'!$B$2:$C$1000,2,FALSE)","v":{"$error":"#N/A"}},null,null,null,null,null,null,null,null,null,null,{"$f":"VLOOKUP(B4009,'(1) Project Reference Item List'!$B$2:$D$1000,3,FALSE)","v":{"$error":"#N/A"}},null,null,0,0]
[{"$f":"VLOOKUP(B4010,'(1) Project Reference Item List'!$B$2:$C$1000,2,FALSE)","v":{"$error":"#N/A"}},null,null,null,null,null,null,null,null,null,null,{"$f":"VLOOKUP(B4010,'(1) Project Reference Item List'!$B$2:$D$1000,3,FALSE)","v":{"$error":"#N/A"}},null,null,0,0]
[{"$f":"VLOOKUP(B4011,'(1) Project Reference Item List'!$B$2:$C$1000,2,FALSE)","v":{"$error":"#N/A"}},null,null,null,null,null,null,null,null,null,null,{"$f":"VLOOKUP(B4011,'(1) Project Reference Item List'!$B$2:$D$1000,3,FALSE)","v":{"$error":"#N/A"}},null,null,0,0]
[{"$f":"VLOOKUP(B4012,'(1) Project Reference Item List'!$B$2:$C$1000,2,FALSE)","v":{"$error":"#N/A"}},null,null,null,null,null,null,null,null,null,null,{"$f":"VLOOKUP(B4012,'(1) Project Reference Item List'!$B$2:$D$1000,3,FALSE)","v":{"$error":"#N/A"}},null,null,0,0]
[{"$f":"VLOOKUP(B4013,'(1) Project Reference Item List'!$B$2:$C$1000,2,FALSE)","v":{"$error":"#N/A"}},null,null,null,null,null,null,null,null,null,null,{"$f":"VLOOKUP(B4013,'(1) Project Reference Item List'!$B$2:$D$1000,3,FALSE)","v":{"$error":"#N/A"}},null,null,0,0]
[{"$f":"VLOOKUP(B4014,'(1) Project Reference Item List'!$B$2:$C$1000,2,FALSE)","v":{"$error":"#N/A"}},null,null,null,null,null,null,null,null,null,null,{"$f":"VLOOKUP(B4014,'(1) Project Reference Item List'!$B$2:$D$1000,3,FALSE)","v":{"$error":"#N/A"}},null,null,0,0]
[{"$f":"VLOOKUP(B4015,'(1) Project Reference Item List'!$B$2:$C$1000,2,FALSE)","v":{"$error":"#N/A"}},null,null,null,null,null,null,null,null,null,null,{"$f":"VLOOKUP(B4015,'(1) Project Reference Item List'!$B$2:$D$1000,3,FALSE)","v":{"$error":"#N/A"}},null,null,0,0]
[{"$f":"VLOOKUP(B4016,'(1) Project Reference Item List'!$B$2:$C$1000,2,FALSE)","v":{"$error":"#N/A"}},null,null,null,null,null,null,null,null,null,null,{"$f":"VLOOKUP(B4016,'(1) Project Reference Item List'!$B$2:$D$1000,3,FALSE)","v":{"$error":"#N/A"}},null,null,0,0]
[{"$f":"VLOOKUP(B4017,'(1) Project Reference Item List'!$B$2:$C$1000,2,FALSE)","v":{"$error":"#N/A"}},null,null,null,null,null,null,null,null,null,null,{"$f":"VLOOKUP(B4017,'(1) Project Reference Item List'!$B$2:$D$1000,3,FALSE)","v":{"$error":"#N/A"}},null,null,0,0]
[{"$f":"VLOOKUP(B4018,'(1) Project Reference Item List'!$B$2:$C$1000,2,FALSE)","v":{"$error":"#N/A"}},null,null,null,null,null,null,null,null,null,null,{"$f":"VLOOKUP(B4018,'(1) Project Reference Item List'!$B$2:$D$1000,3,FALSE)","v":{"$error":"#N/A"}},null,null,0,0]
[{"$f":"VLOOKUP(B4019,'(1) Project Reference Item List'!$B$2:$C$1000,2,FALSE)","v":{"$error":"#N/A"}},null,null,null,null,null,null,null,null,null,null,{"$f":"VLOOKUP(B4019,'(1) Project Reference Item List'!$B$2:$D$1000,3,FALSE)","v":{"$error":"#N/A"}},null,null,0,0]
[{"$f":"VLOOKUP(B4020,'(1) Project Reference Item List'!$B$2:$C$1000,2,FALSE)","v":{"$error":"#N/A"}},null,null,null,null,null,null,null,null,null,null,{"$f":"VLOOKUP(B4020,'(1) Project Reference Item List'!$B$2:$D$1000,3,FALSE)","v":{"$error":"#N/A"}},null,null,0,0]
[{"$f":"VLOOKUP(B4021,'(1) Project Reference Item List'!$B$2:$C$1000,2,FALSE)","v":{"$error":"#N/A"}},null,null,null,null,null,null,null,null,null,null,{"$f":"VLOOKUP(B4021,'(1) Project Reference Item List'!$B$2:$D$1000,3,FALSE)","v":{"$error":"#N/A"}},null,null,0,0]
[{"$f":"VLOOKUP(B4022,'(1) Project Reference Item List'!$B$2:$C$1000,2,FALSE)","v":{"$error":"#N/A"}},null,null,null,null,null,null,null,null,null,null,{"$f":"VLOOKUP(B4022,'(1) Project Reference Item List'!$B$2:$D$1000,3,FALSE)","v":{"$error":"#N/A"}},null,null,0,0]
[{"$f":"VLOOKUP(B4023,'(1) Project Reference Item List'!$B$2:$C$1000,2,FALSE)","v":{"$error":"#N/A"}},null,null,null,null,null,null,null,null,null,null,{"$f":"VLOOKUP(B4023,'(1) Project Reference Item List'!$B$2:$D$1000,3,FALSE)","v":{"$error":"#N/A"}},null,null,0,0]
[{"$f":"VLOOKUP(B4024,'(1) Project Reference Item List'!$B$2:$C$1000,2,FALSE)","v":{"$error":"#N/A"}},null,null,null,null,null,null,null,null,null,null,{"$f":"VLOOKUP(B4024,'(1) Project Reference Item List'!$B$2:$D$1000,3,FALSE)","v":{"$error":"#N/A"}},null,null,0,0]
[{"$f":"VLOOKUP(B4025,'(1) Project Reference Item List'!$B$2:$C$1000,2,FALSE)","v":{"$error":"#N/A"}},null,null,null,null,null,null,null,null,null,null,{"$f":"VLOOKUP(B4025,'(1) Project Reference Item List'!$B$2:$D$1000,3,FALSE)","v":{"$error":"#N/A"}},null,null,0,0]
[{"$f":"VLOOKUP(B4026,'(1) Project Reference Item List'!$B$2:$C$1000,2,FALSE)","v":{"$error":"#N/A"}},null,null,null,null,null,null,null,null,null,null,{"$f":"VLOOKUP(B4026,'(1) Project Reference Item List'!$B$2:$D$1000,3,FALSE)","v":{"$error":"#N/A"}},null,null,0,0]
[{"$f":"VLOOKUP(B4027,'(1) Project Reference Item List'!$B$2:$C$1000,2,FALSE)","v":{"$error":"#N/A"}},null,null,null,null,null,null,null,null,null,null,{"$f":"VLOOKUP(B4027,'(1) Project Reference Item List'!$B$2:$D$1000,3,FALSE)","v":{"$error":"#N/A"}},null,null,0,0]
[{"$f":"VLOOKUP(B4028,'(1) Project Reference Item List'!$B$2:$C$1000,2,FALSE)","v":{"$error":"#N/A"}},null,null,null,null,null,null,null,null,null,null,{"$f":"VLOOKUP(B4028,'(1) Project Reference Item List'!$B$2:$D$1000,3,FALSE)","v":{"$error":"#N/A"}},null,null,0,0]
[{"$f":"VLOOKUP(B4029,'(1) Project Reference Item List'!$B$2:$C$1000,2,FALSE)","v":{"$error":"#N/A"}},null,null,null,null,null,null,null,null,null,null,{"$f":"VLOOKUP(B4029,'(1) Project Reference Item List'!$B$2:$D$1000,3,FALSE)","v":{"$error":"#N/A"}},null,null,0,0]
[{"$f":"VLOOKUP(B4030,'(1) Project Reference Item List'!$B$2:$C$1000,2,FALSE)","v":{"$error":"#N/A"}},null,null,null,null,null,null,null,null,null,null,{"$f":"VLOOKUP(B4030,'(1) Project Reference Item List'!$B$2:$D$1000,3,FALSE)","v":{"$error":"#N/A"}},null,null,0,0]
[{"$f":"VLOOKUP(B4031,'(1) Project Reference Item List'!$B$2:$C$1000,2,FALSE)","v":{"$error":"#N/A"}},null,null,null,null,null,null,null,null,null,null,{"$f":"VLOOKUP(B4031,'(1) Project Reference Item List'!$B$2:$D$1000,3,FALSE)","v":{"$error":"#N/A"}},null,null,0,0]
[{"$f":"VLOOKUP(B4032,'(1) Project Reference Item List'!$B$2:$C$1000,2,FALSE)","v":{"$error":"#N/A"}},null,null,null,null,null,null,null,null,null,null,{"$f":"VLOOKUP(B4032,'(1) Project Reference Item List'!$B$2:$D$1000,3,FALSE)","v":{"$error":"#N/A"}},null,null,0,0]
[{"$f":"VLOOKUP(B4033,'(1) Project Reference Item List'!$B$2:$C$1000,2,FALSE)","v":{"$error":"#N/A"}},null,null,null,null,null,null,null,null,null,null,{"$f":"VLOOKUP(B4033,'(1) Project Reference Item List'!$B$2:$D$1000,3,FALSE)","v":{"$error":"#N/A"}},null,null,0,0]
[{"$f":"VLOOKUP(B4034,'(1) Project Reference Item List'!$B$2:$C$1000,2,FALSE)","v":{"$error":"#N/A"}},null,null,null,null,null,null,null,null,null,null,{"$f":"VLOOKUP(B4034,'(1) Project Reference Item List'!$B$2:$D$1000,3,FALSE)","v":{"$error":"#N/A"}},null,null,0,0]
[{"$f":"VLOOKUP(B4035,'(1) Project Reference Item List'!$B$2:$C$1000,2,FALSE)","v":{"$error":"#N/A"}},null,null,null,null,null,null,null,null,null,null,{"$f":"VLOOKUP(B4035,'(1) Project Reference Item List'!$B$2:$D$1000,3,FALSE)","v":{"$error":"#N/A"}},null,null,0,0]
[{"$f":"VLOOKUP(B4036,'(1) Project Reference Item List'!$B$2:$C$1000,2,FALSE)","v":{"$error":"#N/A"}},null,null,null,null,null,null,null,null,null,null,{"$f":"VLOOKUP(B4036,'(1) Project Reference Item List'!$B$2:$D$1000,3,FALSE)","v":{"$error":"#N/A"}},null,null,0,0]
[{"$f":"VLOOKUP(B4037,'(1) Project Reference Item List'!$B$2:$C$1000,2,FALSE)","v":{"$error":"#N/A"}},null,null,null,null,null,null,null,null,null,null,{"$f":"VLOOKUP(B4037,'(1) Project Reference Item List'!$B$2:$D$1000,3,FALSE)","v":{"$error":"#N/A"}},null,null,0,0]
[{"$f":"VLOOKUP(B4038,'(1) Project Reference Item List'!$B$2:$C$1000,2,FALSE)","v":{"$error":"#N/A"}},null,null,null,null,null,null,null,null,null,null,{"$f":"VLOOKUP(B4038,'(1) Project Reference Item List'!$B$2:$D$1000,3,FALSE)","v":{"$error":"#N/A"}},null,null,{"$f":"IF(J4038=0,J4038,J4038*N4038)","v":0},{"$f":"(M4038-O4038)","v":0}]
[{"$f":"VLOOKUP(B4039,'(1) Project Reference Item List'!$B$2:$C$1000,2,FALSE)","v":{"$error":"#N/A"}},null,null,null,null,null,null,null,null,null,null,{"$f":"VLOOKUP(B4039,'(1) Project Reference Item List'!$B$2:$D$1000,3,FALSE)","v":{"$error":"#N/A"}},null,null,0,0]
[{"$f":"VLOOKUP(B4040,'(1) Project Reference Item List'!$B$2:$C$1000,2,FALSE)","v":{"$error":"#N/A"}},null,null,null,null,null,null,null,null,null,null,{"$f":"VLOOKUP(B4040,'(1) Project Reference Item List'!$B$2:$D$1000,3,FALSE)","v":{"$error":"#N/A"}},null,null,0,0]
[{"$f":"VLOOKUP(B4041,'(1) Project Reference Item List'!$B$2:$C$1000,2,FALSE)","v":{"$error":"#N/A"}},null,null,null,null,null,null,null,null,null,null,{"$f":"VLOOKUP(B4041,'(1) Project Reference Item List'!$B$2:$D$1000,3,FALSE)","v":{"$error":"#N/A"}},null,null,0,0]
[{"$f":"VLOOKUP(B4042,'(1) Project Reference Item List'!$B$2:$C$1000,2,FALSE)","v":{"$error":"#N/A"}},null,null,null,null,null,null,null,null,null,null,{"$f":"VLOOKUP(B4042,'(1) Project Reference Item List'!$B$2:$D$1000,3,FALSE)","v":{"$error":"#N/A"}},null,null,0,0]
[{"$f":"VLOOKUP(B4043,'(1) Project Reference Item List'!$B$2:$C$1000,2,FALSE)","v":{"$error":"#N/A"}},null,null,null,null,null,null,null,null,null,null,{"$f":"VLOOKUP(B4043,'(1) Project Reference Item List'!$B$2:$D$1000,3,FALSE)","v":{"$error":"#N/A"}},null,null,0,0]
[{"$f":"VLOOKUP(B4044,'(1) Project Reference Item List'!$B$2:$C$1000,2,FALSE)","v":{"$error":"#N/A"}},null,null,null,null,null,null,null,null,null,null,{"$f":"VLOOKUP(B4044,'(1) Project Reference Item List'!$B$2:$D$1000,3,FALSE)","v":{"$error":"#N/A"}},null,null,0,0]
[{"$f":"VLOOKUP(B4045,'(1) Project Reference Item List'!$B$2:$C$1000,2,FALSE)","v":{"$error":"#N/A"}},null,null,null,null,null,null,null,null,null,null,{"$f":"VLOOKUP(B4045,'(1) Project Reference Item List'!$B$2:$D$1000,3,FALSE)","v":{"$error":"#N/A"}},null,null,0,0]
[{"$f":"VLOOKUP(B4046,'(1) Project Reference Item List'!$B$2:$C$1000,2,FALSE)","v":{"$error":"#N/A"}},null,null,null,null,null,null,null,null,null,null,{"$f":"VLOOKUP(B4046,'(1) Project Reference Item List'!$B$2:$D$1000,3,FALSE)","v":{"$error":"#N/A"}},null,null,0,0]
[{"$f":"VLOOKUP(B4047,'(1) Project Reference Item List'!$B$2:$C$1000,2,FALSE)","v":{"$error":"#N/A"}},null,null,null,null,null,null,null,null,null,null,{"$f":"VLOOKUP(B4047,'(1) Project Reference Item List'!$B$2:$D$1000,3,FALSE)","v":{"$error":"#N/A"}},null,null,0,0]
[{"$f":"VLOOKUP(B4048,'(1) Project Reference Item List'!$B$2:$C$1000,2,FALSE)","v":{"$error":"#N/A"}},null,null,null,null,null,null,null,null,null,null,{"$f":"VLOOKUP(B4048,'(1) Project Reference Item List'!$B$2:$D$1000,3,FALSE)","v":{"$error":"#N/A"}},null,null,0,0]
[{"$f":"VLOOKUP(B4049,'(1) Project Reference Item List'!$B$2:$C$1000,2,FALSE)","v":{"$error":"#N/A"}},null,null,null,null,null,null,null,null,null,null,{"$f":"VLOOKUP(B4049,'(1) Project Reference Item List'!$B$2:$D$1000,3,FALSE)","v":{"$error":"#N/A"}},null,null,0,0]
[{"$f":"VLOOKUP(B4050,'(1) Project Reference Item List'!$B$2:$C$1000,2,FALSE)","v":{"$error":"#N/A"}},null,null,null,null,null,null,null,null,null,null,{"$f":"VLOOKUP(B4050,'(1) Project Reference Item List'!$B$2:$D$1000,3,FALSE)","v":{"$error":"#N/A"}},null,null,0,0]
[{"$f":"VLOOKUP(B4051,'(1) Project Reference Item List'!$B$2:$C$1000,2,FALSE)","v":{"$error":"#N/A"}},null,null,null,null,null,null,null,null,null,null,{"$f":"VLOOKUP(B4051,'(1) Project Reference Item List'!$B$2:$D$1000,3,FALSE)","v":{"$error":"#N/A"}},null,null,0,0]
[{"$f":"VLOOKUP(B4052,'(1) Project Reference Item List'!$B$2:$C$1000,2,FALSE)","v":{"$error":"#N/A"}},null,null,null,null,null,null,null,null,null,null,{"$f":"VLOOKUP(B4052,'(1) Project Reference Item List'!$B$2:$D$1000,3,FALSE)","v":{"$error":"#N/A"}},null,null,0,0]
[{"$f":"VLOOKUP(B4053,'(1) Project Reference Item List'!$B$2:$C$1000,2,FALSE)","v":{"$error":"#N/A"}},null,null,null,null,null,null,null,null,null,null,{"$f":"VLOOKUP(B4053,'(1) Project Reference Item List'!$B$2:$D$1000,3,FALSE)","v":{"$error":"#N/A"}},null,null,0,0]
[{"$f":"VLOOKUP(B4054,'(1) Project Reference Item List'!$B$2:$C$1000,2,FALSE)","v":{"$error":"#N/A"}},null,null,null,null,null,null,null,null,null,null,{"$f":"VLOOKUP(B4054,'(1) Project Reference Item List'!$B$2:$D$1000,3,FALSE)","v":{"$error":"#N/A"}},null,null,0,0]
[{"$f":"VLOOKUP(B4055,'(1) Project Reference Item List'!$B$2:$C$1000,2,FALSE)","v":{"$error":"#N/A"}},null,null,null,null,null,null,null,null,null,null,{"$f":"VLOOKUP(B4055,'(1) Project Reference Item List'!$B$2:$D$1000,3,FALSE)","v":{"$error":"#N/A"}},null,null,0,0]
[{"$f":"VLOOKUP(B4056,'(1) Project Reference Item List'!$B$2:$C$1000,2,FALSE)","v":{"$error":"#N/A"}},null,null,null,null,null,null,null,null,null,null,{"$f":"VLOOKUP(B4056,'(1) Project Reference Item List'!$B$2:$D$1000,3,FALSE)","v":{"$error":"#N/A"}},null,null,0,0]
[{"$f":"VLOOKUP(B4057,'(1) Project Reference Item List'!$B$2:$C$1000,2,FALSE)","v":{"$error":"#N/A"}},null,null,null,null,null,null,null,null,null,null,{"$f":"VLOOKUP(B4057,'(1) Project Reference Item List'!$B$2:$D$1000,3,FALSE)","v":{"$error":"#N/A"}},null,null,0,0]
[{"$f":"VLOOKUP(B4058,'(1) Project Reference Item List'!$B$2:$C$1000,2,FALSE)","v":{"$error":"#N/A"}},null,null,null,null,null,null,null,null,null,null,{"$f":"VLOOKUP(B4058,'(1) Project Reference Item List'!$B$2:$D$1000,3,FALSE)","v":{"$error":"#N/A"}},null,null,0,0]
[{"$f":"VLOOKUP(B4059,'(1) Project Reference Item List'!$B$2:$C$1000,2,FALSE)","v":{"$error":"#N/A"}},null,null,null,null,null,null,null,null,null,null,{"$f":"VLOOKUP(B4059,'(1) Project Reference Item List'!$B$2:$D$1000,3,FALSE)","v":{"$error":"#N/A"}},null,null,0,0]
[{"$f":"VLOOKUP(B4060,'(1) Project Reference Item List'!$B$2:$C$1000,2,FALSE)","v":{"$error":"#N/A"}},null,null,null,null,null,null,null,null,null,null,{"$f":"VLOOKUP(B4060,'(1) Project Reference Item List'!$B$2:$D$1000,3,FALSE)","v":{"$error":"#N/A"}},null,null,0,0]
[{"$f":"VLOOKUP(B4061,'(1) Project Reference Item List'!$B$2:$C$1000,2,FALSE)","v":{"$error":"#N/A"}},null,null,null,null,null,null,null,null,null,null,{"$f":"VLOOKUP(B4061,'(1) Project Reference Item List'!$B$2:$D$1000,3,FALSE)","v":{"$error":"#N/A"}},null,null,0,0]
[{"$f":"VLOOKUP(B4062,'(1) Project Reference Item List'!$B$2:$C$1000,2,FALSE)","v":{"$error":"#N/A"}},null,null,null,null,null,null,null,null,null,null,{"$f":"VLOOKUP(B4062,'(1) Project Reference Item List'!$B$2:$D$1000,3,FALSE)","v":{"$error":"#N/A"}},null,null,0,0]
[{"$f":"VLOOKUP(B4063,'(1) Project Reference Item List'!$B$2:$C$1000,2,FALSE)","v":{"$error":"#N/A"}},null,null,null,null,null,null,null,null,null,null,{"$f":"VLOOKUP(B4063,'(1) Project Reference Item List'!$B$2:$D$1000,3,FALSE)","v":{"$error":"#N/A"}},null,null,0,0]
[{"$f":"VLOOKUP(B4064,'(1) Project Reference Item List'!$B$2:$C$1000,2,FALSE)","v":{"$error":"#N/A"}},null,null,null,null,null,null,null,null,null,null,{"$f":"VLOOKUP(B4064,'(1) Project Reference Item List'!$B$2:$D$1000,3,FALSE)","v":{"$error":"#N/A"}},null,null,0,0]
[{"$f":"VLOOKUP(B4065,'(1) Project Reference Item List'!$B$2:$C$1000,2,FALSE)","v":{"$error":"#N/A"}},null,null,null,null,null,null,null,null,null,null,{"$f":"VLOOKUP(B4065,'(1) Project Reference Item List'!$B$2:$D$1000,3,FALSE)","v":{"$error":"#N/A"}},null,null,0,0]
[{"$f":"VLOOKUP(B4066,'(1) Project Reference Item List'!$B$2:$C$1000,2,FALSE)","v":{"$error":"#N/A"}},null,null,null,null,null,null,null,null,null,null,{"$f":"VLOOKUP(B4066,'(1) Project Reference Item List'!$B$2:$D$1000,3,FALSE)","v":{"$error":"#N/A"}},null,null,0,0]
[{"$f":"VLOOKUP(B4067,'(1) Project Reference Item List'!$B$2:$C$1000,2,FALSE)","v":{"$error":"#N/A"}},null,null,null,null,null,null,null,null,null,null,{"$f":"VLOOKUP(B4067,'(1) Project Reference Item List'!$B$2:$D$1000,3,FALSE)","v":{"$error":"#N/A"}},null,null,0,0]
[{"$f":"VLOOKUP(B4068,'(1) Project Reference Item List'!$B$2:$C$1000,2,FALSE)","v":{"$error":"#N/A"}},null,null,null,null,null,null,null,null,null,null,{"$f":"VLOOKUP(B4068,'(1) Project Reference Item List'!$B$2:$D$1000,3,FALSE)","v":{"$error":"#N/A"}},null,null,0,0]
[{"$f":"VLOOKUP(B4069,'(1) Project Reference Item List'!$B$2:$C$1000,2,FALSE)","v":{"$error":"#N/A"}},null,null,null,null,null,null,null,null,null,null,{"$f":"VLOOKUP(B4069,'(1) Project Reference Item List'!$B$2:$D$1000,3,FALSE)","v":{"$error":"#N/A"}},null,null,0,0]
[{"$f":"VLOOKUP(B4070,'(1) Project Reference Item List'!$B$2:$C$1000,2,FALSE)","v":{"$error":"#N/A"}},null,null,null,null,null,null,null,null,null,null,{"$f":"VLOOKUP(B4070,'(1) Project Reference Item List'!$B$2:$D$1000,3,FALSE)","v":{"$error":"#N/A"}},null,null,0,0]
[{"$f":"VLOOKUP(B4071,'(1) Project Reference Item List'!$B$2:$C$1000,2,FALSE)","v":{"$error":"#N/A"}},null,null,null,null,null,null,null,null,null,null,{"$f":"VLOOKUP(B4071,'(1) Project Reference Item List'!$B$2:$D$1000,3,FALSE)","v":{"$error":"#N/A"}},null,null,0,0]
[{"$f":"VLOOKUP(B4072,'(1) Project Reference Item List'!$B$2:$C$1000,2,FALSE)","v":{"$error":"#N/A"}},null,null,null,null,null,null,null,null,null,null,{"$f":"VLOOKUP(B4072,'(1) Project Reference Item List'!$B$2:$D$1000,3,FALSE)","v":{"$error":"#N/A"}},null,null,0,0]
[{"$f":"VLOOKUP(B4073,'(1) Project Reference Item List'!$B$2:$C$1000,2,FALSE)","v":{"$error":"#N/A"}},null,null,null,null,null,null,null,null,null,null,{"$f":"VLOOKUP(B4073,'(1) Project Reference Item List'!$B$2:$D$1000,3,FALSE)","v":{"$error":"#N/A"}},null,null,0,0]
[{"$f":"VLOOKUP(B4074,'(1) Project Reference Item List'!$B$2:$C$1000,2,FALSE)","v":{"$error":"#N/A"}},null,null,null,null,null,null,null,null,null,null,{"$f":"VLOOKUP(B4074,'(1) Project Reference Item List'!$B$2:$D$1000,3,FALSE)","v":{"$error":"#N/A"}},null,null,0,0]
[{"$f":"VLOOKUP(B4075,'(1) Project Reference Item List'!$B$2:$C$1000,2,FALSE)","v":{"$error":"#N/A"}},null,null,null,null,null,null,null,null,null,null,{"$f":"VLOOKUP(B4075,'(1) Project Reference Item List'!$B$2:$D$1000,3,FALSE)","v":{"$error":"#N/A"}},null,null,0,0]
[{"$f":"VLOOKUP(B4076,'(1) Project Reference Item List'!$B$2:$C$1000,2,FALSE)","v":{"$error":"#N/A"}},null,null,null,null,null,null,null,null,null,null,{"$f":"VLOOKUP(B4076,'(1) Project Reference Item List'!$B$2:$D$1000,3,FALSE)","v":{"$error":"#N/A"}},null,null,0,0]
[{"$f":"VLOOKUP(B4077,'(1) Project Reference Item List'!$B$2:$C$1000,2,FALSE)","v":{"$error":"#N/A"}},null,null,null,null,null,null,null,null,null,null,{"$f":"VLOOKUP(B4077,'(1) Project Reference Item List'!$B$2:$D$1000,3,FALSE)","v":{"$error":"#N/A"}},null,null,0,0]
[{"$f":"VLOOKUP(B4078,'(1) Project Reference Item List'!$B$2:$C$1000,2,FALSE)","v":{"$error":"#N/A"}},null,null,null,null,null,null,null,null,null,null,{"$f":"VLOOKUP(B4078,'(1) Project Reference Item List'!$B$2:$D$1000,3,FALSE)","v":{"$error":"#N/A"}},null,null,0,0]
[{"$f":"VLOOKUP(B4079,'(1) Project Reference Item List'!$B$2:$C$1000,2,FALSE)","v":{"$error":"#N/A"}},null,null,null,null,null,null,null,null,null,null,{"$f":"VLOOKUP(B4079,'(1) Project Reference Item List'!$B$2:$D$1000,3,FALSE)","v":{"$error":"#N/A"}},null,null,0,0]
[{"$f":"VLOOKUP(B4080,'(1) Project Reference Item List'!$B$2:$C$1000,2,FALSE)","v":{"$error":"#N/A"}},null,null,null,null,null,null,null,null,null,null,{"$f":"VLOOKUP(B4080,'(1) Project Reference Item List'!$B$2:$D$1000,3,FALSE)","v":{"$error":"#N/A"}},null,null,0,0]
[{"$f":"VLOOKUP(B4081,'(1) Project Reference Item List'!$B$2:$C$1000,2,FALSE)","v":{"$error":"#N/A"}},null,null,null,null,null,null,null,null,null,null,{"$f":"VLOOKUP(B4081,'(1) Project Reference Item List'!$B$2:$D$1000,3,FALSE)","v":{"$error":"#N/A"}},null,null,0,0]
[{"$f":"VLOOKUP(B4082,'(1) Project Reference Item List'!$B$2:$C$1000,2,FALSE)","v":{"$error":"#N/A"}},null,null,null,null,null,null,null,null,null,null,{"$f":"VLOOKUP(B4082,'(1) Project Reference Item List'!$B$2:$D$1000,3,FALSE)","v":{"$error":"#N/A"}},null,null,0,0]
[{"$f":"VLOOKUP(B4083,'(1) Project Reference Item List'!$B$2:$C$1000,2,FALSE)","v":{"$error":"#N/A"}},null,null,null,null,null,null,null,null,null,null,{"$f":"VLOOKUP(B4083,'(1) Project Reference Item List'!$B$2:$D$1000,3,FALSE)","v":{"$error":"#N/A"}},null,null,0,0]
[{"$f":"VLOOKUP(B4084,'(1) Project Reference Item List'!$B$2:$C$1000,2,FALSE)","v":{"$error":"#N/A"}},null,null,null,null,null,null,null,null,null,null,{"$f":"VLOOKUP(B4084,'(1) Project Reference Item List'!$B$2:$D$1000,3,FALSE)","v":{"$error":"#N/A"}},null,null,0,0]
[{"$f":"VLOOKUP(B4085,'(1) Project Reference Item List'!$B$2:$C$1000,2,FALSE)","v":{"$error":"#N/A"}},null,null,null,null,null,null,null,null,null,null,{"$f":"VLOOKUP(B4085,'(1) Project Reference Item List'!$B$2:$D$1000,3,FALSE)","v":{"$error":"#N/A"}},null,null,0,0]
[{"$f":"VLOOKUP(B4086,'(1) Project Reference Item List'!$B$2:$C$1000,2,FALSE)","v":{"$error":"#N/A"}},null,null,null,null,null,null,null,null,null,null,{"$f":"VLOOKUP(B4086,'(1) Project Reference Item List'!$B$2:$D$1000,3,FALSE)","v":{"$error":"#N/A"}},null,null,0,0]
[{"$f":"VLOOKUP(B4087,'(1) Project Reference Item List'!$B$2:$C$1000,2,FALSE)","v":{"$error":"#N/A"}},null,null,null,null,null,null,null,null,null,null,{"$f":"VLOOKUP(B4087,'(1) Project Reference Item List'!$B$2:$D$1000,3,FALSE)","v":{"$error":"#N/A"}},null,null,0,0]
[{"$f":"VLOOKUP(B4088,'(1) Project Reference Item List'!$B$2:$C$1000,2,FALSE)","v":{"$error":"#N/A"}},null,null,null,null,null,null,null,null,null,null,{"$f":"VLOOKUP(B4088,'(1) Project Reference Item List'!$B$2:$D$1000,3,FALSE)","v":{"$error":"#N/A"}},null,null,0,0]
[{"$f":"VLOOKUP(B4089,'(1) Project Reference Item List'!$B$2:$C$1000,2,FALSE)","v":{"$error":"#N/A"}},null,null,null,null,null,null,null,null,null,null,{"$f":"VLOOKUP(B4089,'(1) Project Reference Item List'!$B$2:$D$1000,3,FALSE)","v":{"$error":"#N/A"}},null,null,0,0]
[{"$f":"VLOOKUP(B4090,'(1) Project Reference Item List'!$B$2:$C$1000,2,FALSE)","v":{"$error":"#N/A"}},null,null,null,null,null,null,null,null,null,null,{"$f":"VLOOKUP(B4090,'(1) Project Reference Item List'!$B$2:$D$1000,3,FALSE)","v":{"$error":"#N/A"}},null,null,0,0]
[{"$f":"VLOOKUP(B4091,'(1) Project Reference Item List'!$B$2:$C$1000,2,FALSE)","v":{"$error":"#N/A"}},null,null,null,null,null,null,null,null,null,null,{"$f":"VLOOKUP(B4091,'(1) Project Reference Item List'!$B$2:$D$1000,3,FALSE)","v":{"$error":"#N/A"}},null,null,0,0]
[{"$f":"VLOOKUP(B4092,'(1) Project Reference Item List'!$B$2:$C$1000,2,FALSE)","v":{"$error":"#N/A"}},null,null,null,null,null,null,null,null,null,null,{"$f":"VLOOKUP(B4092,'(1) Project Reference Item List'!$B$2:$D$1000,3,FALSE)","v":{"$error":"#N/A"}},null,null,0,0]
[{"$f":"VLOOKUP(B4093,'(1) Project Reference Item List'!$B$2:$C$1000,2,FALSE)","v":{"$error":"#N/A"}},null,null,null,null,null,null,null,null,null,null,{"$f":"VLOOKUP(B4093,'(1) Project Reference Item List'!$B$2:$D$1000,3,FALSE)","v":{"$error":"#N/A"}},null,null,0,0]
[{"$f":"VLOOKUP(B4094,'(1) Project Reference Item List'!$B$2:$C$1000,2,FALSE)","v":{"$error":"#N/A"}},null,null,null,null,null,null,null,null,null,null,{"$f":"VLOOKUP(B4094,'(1) Project Reference Item List'!$B$2:$D$1000,3,FALSE)","v":{"$error":"#N/A"}},null,null,0,0]
[{"$f":"VLOOKUP(B4095,'(1) Project Reference Item List'!$B$2:$C$1000,2,FALSE)","v":{"$error":"#N/A"}},null,null,null,null,null,null,null,null,null,null,{"$f":"VLOOKUP(B4095,'(1) Project Reference Item List'!$B$2:$D$1000,3,FALSE)","v":{"$error":"#N/A"}},null,null,0,0]
[{"$f":"VLOOKUP(B4096,'(1) Project Reference Item List'!$B$2:$C$1000,2,FALSE)","v":{"$error":"#N/A"}},null,null,null,null,null,null,null,null,null,null,{"$f":"VLOOKUP(B4096,'(1) Project Reference Item List'!$B$2:$D$1000,3,FALSE)","v":{"$error":"#N/A"}},null,null,0,0]
[{"$f":"VLOOKUP(B4097,'(1) Project Reference Item List'!$B$2:$C$1000,2,FALSE)","v":{"$error":"#N/A"}},null,null,null,null,null,null,null,null,null,null,{"$f":"VLOOKUP(B4097,'(1) Project Reference Item List'!$B$2:$D$1000,3,FALSE)","v":{"$error":"#N/A"}},null,null,0,0]
[{"$f":"VLOOKUP(B4098,'(1) Project Reference Item List'!$B$2:$C$1000,2,FALSE)","v":{"$error":"#N/A"}},null,null,null,null,null,null,null,null,null,null,{"$f":"VLOOKUP(B4098,'(1) Project Reference Item List'!$B$2:$D$1000,3,FALSE)","v":{"$error":"#N/A"}},null,null,0,0]
[{"$f":"VLOOKUP(B4099,'(1) Project Reference Item List'!$B$2:$C$1000,2,FALSE)","v":{"$error":"#N/A"}},null,null,null,null,null,null,null,null,null,null,{"$f":"VLOOKUP(B4099,'(1) Project Reference Item List'!$B$2:$D$1000,3,FALSE)","v":{"$error":"#N/A"}},null,null,0,0]
[{"$f":"VLOOKUP(B4100,'(1) Project Reference Item List'!$B$2:$C$1000,2,FALSE)","v":{"$error":"#N/A"}},null,null,null,null,null,null,null,null,null,null,{"$f":"VLOOKUP(B4100,'(1) Project Reference Item List'!$B$2:$D$1000,3,FALSE)","v":{"$error":"#N/A"}},null,null,0,0]
[{"$f":"VLOOKUP(B4101,'(1) Project Reference Item List'!$B$2:$C$1000,2,FALSE)","v":{"$error":"#N/A"}},null,null,null,null,null,null,null,null,null,null,{"$f":"VLOOKUP(B4101,'(1) Project Reference Item List'!$B$2:$D$1000,3,FALSE)","v":{"$error":"#N/A"}},null,null,0,0]
[{"$f":"VLOOKUP(B4102,'(1) Project Reference Item List'!$B$2:$C$1000,2,FALSE)","v":{"$error":"#N/A"}},null,null,null,null,null,null,null,null,null,null,{"$f":"VLOOKUP(B4102,'(1) Project Reference Item List'!$B$2:$D$1000,3,FALSE)","v":{"$error":"#N/A"}},null,null,{"$f":"IF(J4102=0,J4102,J4102*N4102)","v":0},{"$f":"(M4102-O4102)","v":0}]
[{"$f":"VLOOKUP(B4103,'(1) Project Reference Item List'!$B$2:$C$1000,2,FALSE)","v":{"$error":"#N/A"}},null,null,null,null,null,null,null,null,null,null,{"$f":"VLOOKUP(B4103,'(1) Project Reference Item List'!$B$2:$D$1000,3,FALSE)","v":{"$error":"#N/A"}},null,null,0,0]
[{"$f":"VLOOKUP(B4104,'(1) Project Reference Item List'!$B$2:$C$1000,2,FALSE)","v":{"$error":"#N/A"}},null,null,null,null,null,null,null,null,null,null,{"$f":"VLOOKUP(B4104,'(1) Project Reference Item List'!$B$2:$D$1000,3,FALSE)","v":{"$error":"#N/A"}},null,null,0,0]
[{"$f":"VLOOKUP(B4105,'(1) Project Reference Item List'!$B$2:$C$1000,2,FALSE)","v":{"$error":"#N/A"}},null,null,null,null,null,null,null,null,null,null,{"$f":"VLOOKUP(B4105,'(1) Project Reference Item List'!$B$2:$D$1000,3,FALSE)","v":{"$error":"#N/A"}},null,null,0,0]
[{"$f":"VLOOKUP(B4106,'(1) Project Reference Item List'!$B$2:$C$1000,2,FALSE)","v":{"$error":"#N/A"}},null,null,null,null,null,null,null,null,null,null,{"$f":"VLOOKUP(B4106,'(1) Project Reference Item List'!$B$2:$D$1000,3,FALSE)","v":{"$error":"#N/A"}},null,null,0,0]
[{"$f":"VLOOKUP(B4107,'(1) Project Reference Item List'!$B$2:$C$1000,2,FALSE)","v":{"$error":"#N/A"}},null,null,null,null,null,null,null,null,null,null,{"$f":"VLOOKUP(B4107,'(1) Project Reference Item List'!$B$2:$D$1000,3,FALSE)","v":{"$error":"#N/A"}},null,null,0,0]
[{"$f":"VLOOKUP(B4108,'(1) Project Reference Item List'!$B$2:$C$1000,2,FALSE)","v":{"$error":"#N/A"}},null,null,null,null,null,null,null,null,null,null,{"$f":"VLOOKUP(B4108,'(1) Project Reference Item List'!$B$2:$D$1000,3,FALSE)","v":{"$error":"#N/A"}},null,null,0,0]
[{"$f":"VLOOKUP(B4109,'(1) Project Reference Item List'!$B$2:$C$1000,2,FALSE)","v":{"$error":"#N/A"}},null,null,null,null,null,null,null,null,null,null,{"$f":"VLOOKUP(B4109,'(1) Project Reference Item List'!$B$2:$D$1000,3,FALSE)","v":{"$error":"#N/A"}},null,null,0,0]
[{"$f":"VLOOKUP(B4110,'(1) Project Reference Item List'!$B$2:$C$1000,2,FALSE)","v":{"$error":"#N/A"}},null,null,null,null,null,null,null,null,null,null,{"$f":"VLOOKUP(B4110,'(1) Project Reference Item List'!$B$2:$D$1000,3,FALSE)","v":{"$error":"#N/A"}},null,null,0,0]
[{"$f":"VLOOKUP(B4111,'(1) Project Reference Item List'!$B$2:$C$1000,2,FALSE)","v":{"$error":"#N/A"}},null,null,null,null,null,null,null,null,null,null,{"$f":"VLOOKUP(B4111,'(1) Project Reference Item List'!$B$2:$D$1000,3,FALSE)","v":{"$error":"#N/A"}},null,null,0,0]
[{"$f":"VLOOKUP(B4112,'(1) Project Reference Item List'!$B$2:$C$1000,2,FALSE)","v":{"$error":"#N/A"}},null,null,null,null,null,null,null,null,null,null,{"$f":"VLOOKUP(B4112,'(1) Project Reference Item List'!$B$2:$D$1000,3,FALSE)","v":{"$error":"#N/A"}},null,null,0,0]
[{"$f":"VLOOKUP(B4113,'(1) Project Reference Item List'!$B$2:$C$1000,2,FALSE)","v":{"$error":"#N/A"}},null,null,null,null,null,null,null,null,null,null,{"$f":"VLOOKUP(B4113,'(1) Project Reference Item List'!$B$2:$D$1000,3,FALSE)","v":{"$error":"#N/A"}},null,null,0,0]
[{"$f":"VLOOKUP(B4114,'(1) Project Reference Item List'!$B$2:$C$1000,2,FALSE)","v":{"$error":"#N/A"}},null,null,null,null,null,null,null,null,null,null,{"$f":"VLOOKUP(B4114,'(1) Project Reference Item List'!$B$2:$D$1000,3,FALSE)","v":{"$error":"#N/A"}},null,null,0,0]
[{"$f":"VLOOKUP(B4115,'(1) Project Reference Item List'!$B$2:$C$1000,2,FALSE)","v":{"$error":"#N/A"}},null,null,null,null,null,null,null,null,null,null,{"$f":"VLOOKUP(B4115,'(1) Project Reference Item List'!$B$2:$D$1000,3,FALSE)","v":{"$error":"#N/A"}},null,null,0,0]
[{"$f":"VLOOKUP(B4116,'(1) Project Reference Item List'!$B$2:$C$1000,2,FALSE)","v":{"$error":"#N/A"}},null,null,null,null,null,null,null,null,null,null,{"$f":"VLOOKUP(B4116,'(1) Project Reference Item List'!$B$2:$D$1000,3,FALSE)","v":{"$error":"#N/A"}},null,null,0,0]
[{"$f":"VLOOKUP(B4117,'(1) Project Reference Item List'!$B$2:$C$1000,2,FALSE)","v":{"$error":"#N/A"}},null,null,null,null,null,null,null,null,null,null,{"$f":"VLOOKUP(B4117,'(1) Project Reference Item List'!$B$2:$D$1000,3,FALSE)","v":{"$error":"#N/A"}},null,null,0,0]
[{"$f":"VLOOKUP(B4118,'(1) Project Reference Item List'!$B$2:$C$1000,2,FALSE)","v":{"$error":"#N/A"}},null,null,null,null,null,null,null,null,null,null,{"$f":"VLOOKUP(B4118,'(1) Project Reference Item List'!$B$2:$D$1000,3,FALSE)","v":{"$error":"#N/A"}},null,null,0,0]
[{"$f":"VLOOKUP(B4119,'(1) Project Reference Item List'!$B$2:$C$1000,2,FALSE)","v":{"$error":"#N/A"}},null,null,null,null,null,null,null,null,null,null,{"$f":"VLOOKUP(B4119,'(1) Project Reference Item List'!$B$2:$D$1000,3,FALSE)","v":{"$error":"#N/A"}},null,null,0,0]
[{"$f":"VLOOKUP(B4120,'(1) Project Reference Item List'!$B$2:$C$1000,2,FALSE)","v":{"$error":"#N/A"}},null,null,null,null,null,null,null,null,null,null,{"$f":"VLOOKUP(B4120,'(1) Project Reference Item List'!$B$2:$D$1000,3,FALSE)","v":{"$error":"#N/A"}},null,null,0,0]
[{"$f":"VLOOKUP(B4121,'(1) Project Reference Item List'!$B$2:$C$1000,2,FALSE)","v":{"$error":"#N/A"}},null,null,null,null,null,null,null,null,null,null,{"$f":"VLOOKUP(B4121,'(1) Project Reference Item List'!$B$2:$D$1000,3,FALSE)","v":{"$error":"#N/A"}},null,null,0,0]
[{"$f":"VLOOKUP(B4122,'(1) Project Reference Item List'!$B$2:$C$1000,2,FALSE)","v":{"$error":"#N/A"}},null,null,null,null,null,null,null,null,null,null,{"$f":"VLOOKUP(B4122,'(1) Project Reference Item List'!$B$2:$D$1000,3,FALSE)","v":{"$error":"#N/A"}},null,null,0,0]
[{"$f":"VLOOKUP(B4123,'(1) Project Reference Item List'!$B$2:$C$1000,2,FALSE)","v":{"$error":"#N/A"}},null,null,null,null,null,null,null,null,null,null,{"$f":"VLOOKUP(B4123,'(1) Project Reference Item List'!$B$2:$D$1000,3,FALSE)","v":{"$error":"#N/A"}},null,null,0,0]
[{"$f":"VLOOKUP(B4124,'(1) Project Reference Item List'!$B$2:$C$1000,2,FALSE)","v":{"$error":"#N/A"}},null,null,null,null,null,null,null,null,null,null,{"$f":"VLOOKUP(B4124,'(1) Project Reference Item List'!$B$2:$D$1000,3,FALSE)","v":{"$error":"#N/A"}},null,null,0,0]
[{"$f":"VLOOKUP(B4125,'(1) Project Reference Item List'!$B$2:$C$1000,2,FALSE)","v":{"$error":"#N/A"}},null,null,null,null,null,null,null,null,null,null,{"$f":"VLOOKUP(B4125,'(1) Project Reference Item List'!$B$2:$D$1000,3,FALSE)","v":{"$error":"#N/A"}},null,null,0,0]
[{"$f":"VLOOKUP(B4126,'(1) Project Reference Item List'!$B$2:$C$1000,2,FALSE)","v":{"$error":"#N/A"}},null,null,null,null,null,null,null,null,null,null,{"$f":"VLOOKUP(B4126,'(1) Project Reference Item List'!$B$2:$D$1000,3,FALSE)","v":{"$error":"#N/A"}},null,null,0,0]
[{"$f":"VLOOKUP(B4127,'(1) Project Reference Item List'!$B$2:$C$1000,2,FALSE)","v":{"$error":"#N/A"}},null,null,null,null,null,null,null,null,null,null,{"$f":"VLOOKUP(B4127,'(1) Project Reference Item List'!$B$2:$D$1000,3,FALSE)","v":{"$error":"#N/A"}},null,null,0,0]
[{"$f":"VLOOKUP(B4128,'(1) Project Reference Item List'!$B$2:$C$1000,2,FALSE)","v":{"$error":"#N/A"}},null,null,null,null,null,null,null,null,null,null,{"$f":"VLOOKUP(B4128,'(1) Project Reference Item List'!$B$2:$D$1000,3,FALSE)","v":{"$error":"#N/A"}},null,null,0,0]
[{"$f":"VLOOKUP(B4129,'(1) Project Reference Item List'!$B$2:$C$1000,2,FALSE)","v":{"$error":"#N/A"}},null,null,null,null,null,null,null,null,null,null,{"$f":"VLOOKUP(B4129,'(1) Project Reference Item List'!$B$2:$D$1000,3,FALSE)","v":{"$error":"#N/A"}},null,null,0,0]
[{"$f":"VLOOKUP(B4130,'(1) Project Reference Item List'!$B$2:$C$1000,2,FALSE)","v":{"$error":"#N/A"}},null,null,null,null,null,null,null,null,null,null,{"$f":"VLOOKUP(B4130,'(1) Project Reference Item List'!$B$2:$D$1000,3,FALSE)","v":{"$error":"#N/A"}},null,null,0,0]
[{"$f":"VLOOKUP(B4131,'(1) Project Reference Item List'!$B$2:$C$1000,2,FALSE)","v":{"$error":"#N/A"}},null,null,null,null,null,null,null,null,null,null,{"$f":"VLOOKUP(B4131,'(1) Project Reference Item List'!$B$2:$D$1000,3,FALSE)","v":{"$error":"#N/A"}},null,null,0,0]
[{"$f":"VLOOKUP(B4132,'(1) Project Reference Item List'!$B$2:$C$1000,2,FALSE)","v":{"$error":"#N/A"}},null,null,null,null,null,null,null,null,null,null,{"$f":"VLOOKUP(B4132,'(1) Project Reference Item List'!$B$2:$D$1000,3,FALSE)","v":{"$error":"#N/A"}},null,null,0,0]
[{"$f":"VLOOKUP(B4133,'(1) Project Reference Item List'!$B$2:$C$1000,2,FALSE)","v":{"$error":"#N/A"}},null,null,null,null,null,null,null,null,null,null,{"$f":"VLOOKUP(B4133,'(1) Project Reference Item List'!$B$2:$D$1000,3,FALSE)","v":{"$error":"#N/A"}},null,null,0,0]
[{"$f":"VLOOKUP(B4134,'(1) Project Reference Item List'!$B$2:$C$1000,2,FALSE)","v":{"$error":"#N/A"}},null,null,null,null,null,null,null,null,null,null,{"$f":"VLOOKUP(B4134,'(1) Project Reference Item List'!$B$2:$D$1000,3,FALSE)","v":{"$error":"#N/A"}},null,null,0,0]
[{"$f":"VLOOKUP(B4135,'(1) Project Reference Item List'!$B$2:$C$1000,2,FALSE)","v":{"$error":"#N/A"}},null,null,null,null,null,null,null,null,null,null,{"$f":"VLOOKUP(B4135,'(1) Project Reference Item List'!$B$2:$D$1000,3,FALSE)","v":{"$error":"#N/A"}},null,null,0,0]
[{"$f":"VLOOKUP(B4136,'(1) Project Reference Item List'!$B$2:$C$1000,2,FALSE)","v":{"$error":"#N/A"}},null,null,null,null,null,null,null,null,null,null,{"$f":"VLOOKUP(B4136,'(1) Project Reference Item List'!$B$2:$D$1000,3,FALSE)","v":{"$error":"#N/A"}},null,null,0,0]
[{"$f":"VLOOKUP(B4137,'(1) Project Reference Item List'!$B$2:$C$1000,2,FALSE)","v":{"$error":"#N/A"}},null,null,null,null,null,null,null,null,null,null,{"$f":"VLOOKUP(B4137,'(1) Project Reference Item List'!$B$2:$D$1000,3,FALSE)","v":{"$error":"#N/A"}},null,null,0,0]
[{"$f":"VLOOKUP(B4138,'(1) Project Reference Item List'!$B$2:$C$1000,2,FALSE)","v":{"$error":"#N/A"}},null,null,null,null,null,null,null,null,null,null,{"$f":"VLOOKUP(B4138,'(1) Project Reference Item List'!$B$2:$D$1000,3,FALSE)","v":{"$error":"#N/A"}},null,null,0,0]
[{"$f":"VLOOKUP(B4139,'(1) Project Reference Item List'!$B$2:$C$1000,2,FALSE)","v":{"$error":"#N/A"}},null,null,null,null,null,null,null,null,null,null,{"$f":"VLOOKUP(B4139,'(1) Project Reference Item List'!$B$2:$D$1000,3,FALSE)","v":{"$error":"#N/A"}},null,null,0,0]
[{"$f":"VLOOKUP(B4140,'(1) Project Reference Item List'!$B$2:$C$1000,2,FALSE)","v":{"$error":"#N/A"}},null,null,null,null,null,null,null,null,null,null,{"$f":"VLOOKUP(B4140,'(1) Project Reference Item List'!$B$2:$D$1000,3,FALSE)","v":{"$error":"#N/A"}},null,null,0,0]
[{"$f":"VLOOKUP(B4141,'(1) Project Reference Item List'!$B$2:$C$1000,2,FALSE)","v":{"$error":"#N/A"}},null,null,null,null,null,null,null,null,null,null,{"$f":"VLOOKUP(B4141,'(1) Project Reference Item List'!$B$2:$D$1000,3,FALSE)","v":{"$error":"#N/A"}},null,null,0,0]
[{"$f":"VLOOKUP(B4142,'(1) Project Reference Item List'!$B$2:$C$1000,2,FALSE)","v":{"$error":"#N/A"}},null,null,null,null,null,null,null,null,null,null,{"$f":"VLOOKUP(B4142,'(1) Project Reference Item List'!$B$2:$D$1000,3,FALSE)","v":{"$error":"#N/A"}},null,null,0,0]
[{"$f":"VLOOKUP(B4143,'(1) Project Reference Item List'!$B$2:$C$1000,2,FALSE)","v":{"$error":"#N/A"}},null,null,null,null,null,null,null,null,null,null,{"$f":"VLOOKUP(B4143,'(1) Project Reference Item List'!$B$2:$D$1000,3,FALSE)","v":{"$error":"#N/A"}},null,null,0,0]
[{"$f":"VLOOKUP(B4144,'(1) Project Reference Item List'!$B$2:$C$1000,2,FALSE)","v":{"$error":"#N/A"}},null,null,null,null,null,null,null,null,null,null,{"$f":"VLOOKUP(B4144,'(1) Project Reference Item List'!$B$2:$D$1000,3,FALSE)","v":{"$error":"#N/A"}},null,null,0,0]
[{"$f":"VLOOKUP(B4145,'(1) Project Reference Item List'!$B$2:$C$1000,2,FALSE)","v":{"$error":"#N/A"}},null,null,null,null,null,null,null,null,null,null,{"$f":"VLOOKUP(B4145,'(1) Project Reference Item List'!$B$2:$D$1000,3,FALSE)","v":{"$error":"#N/A"}},null,null,0,0]
[{"$f":"VLOOKUP(B4146,'(1) Project Reference Item List'!$B$2:$C$1000,2,FALSE)","v":{"$error":"#N/A"}},null,null,null,null,null,null,null,null,null,null,{"$f":"VLOOKUP(B4146,'(1) Project Reference Item List'!$B$2:$D$1000,3,FALSE)","v":{"$error":"#N/A"}},null,null,0,0]
[{"$f":"VLOOKUP(B4147,'(1) Project Reference Item List'!$B$2:$C$1000,2,FALSE)","v":{"$error":"#N/A"}},null,null,null,null,null,null,null,null,null,null,{"$f":"VLOOKUP(B4147,'(1) Project Reference Item List'!$B$2:$D$1000,3,FALSE)","v":{"$error":"#N/A"}},null,null,0,0]
[{"$f":"VLOOKUP(B4148,'(1) Project Reference Item List'!$B$2:$C$1000,2,FALSE)","v":{"$error":"#N/A"}},null,null,null,null,null,null,null,null,null,null,{"$f":"VLOOKUP(B4148,'(1) Project Reference Item List'!$B$2:$D$1000,3,FALSE)","v":{"$error":"#N/A"}},null,null,0,0]
[{"$f":"VLOOKUP(B4149,'(1) Project Reference Item List'!$B$2:$C$1000,2,FALSE)","v":{"$error":"#N/A"}},null,null,null,null,null,null,null,null,null,null,{"$f":"VLOOKUP(B4149,'(1) Project Reference Item List'!$B$2:$D$1000,3,FALSE)","v":{"$error":"#N/A"}},null,null,0,0]
[{"$f":"VLOOKUP(B4150,'(1) Project Reference Item List'!$B$2:$C$1000,2,FALSE)","v":{"$error":"#N/A"}},null,null,null,null,null,null,null,null,null,null,{"$f":"VLOOKUP(B4150,'(1) Project Reference Item List'!$B$2:$D$1000,3,FALSE)","v":{"$error":"#N/A"}},null,null,0,0]
[{"$f":"VLOOKUP(B4151,'(1) Project Reference Item List'!$B$2:$C$1000,2,FALSE)","v":{"$error":"#N/A"}},null,null,null,null,null,null,null,null,null,null,{"$f":"VLOOKUP(B4151,'(1) Project Reference Item List'!$B$2:$D$1000,3,FALSE)","v":{"$error":"#N/A"}},null,null,0,0]
[{"$f":"VLOOKUP(B4152,'(1) Project Reference Item List'!$B$2:$C$1000,2,FALSE)","v":{"$error":"#N/A"}},null,null,null,null,null,null,null,null,null,null,{"$f":"VLOOKUP(B4152,'(1) Project Reference Item List'!$B$2:$D$1000,3,FALSE)","v":{"$error":"#N/A"}},null,null,0,0]
[{"$f":"VLOOKUP(B4153,'(1) Project Reference Item List'!$B$2:$C$1000,2,FALSE)","v":{"$error":"#N/A"}},null,null,null,null,null,null,null,null,null,null,{"$f":"VLOOKUP(B4153,'(1) Project Reference Item List'!$B$2:$D$1000,3,FALSE)","v":{"$error":"#N/A"}},null,null,0,0]
[{"$f":"VLOOKUP(B4154,'(1) Project Reference Item List'!$B$2:$C$1000,2,FALSE)","v":{"$error":"#N/A"}},null,null,null,null,null,null,null,null,null,null,{"$f":"VLOOKUP(B4154,'(1) Project Reference Item List'!$B$2:$D$1000,3,FALSE)","v":{"$error":"#N/A"}},null,null,0,0]
[{"$f":"VLOOKUP(B4155,'(1) Project Reference Item List'!$B$2:$C$1000,2,FALSE)","v":{"$error":"#N/A"}},null,null,null,null,null,null,null,null,null,null,{"$f":"VLOOKUP(B4155,'(1) Project Reference Item List'!$B$2:$D$1000,3,FALSE)","v":{"$error":"#N/A"}},null,null,0,0]
[{"$f":"VLOOKUP(B4156,'(1) Project Reference Item List'!$B$2:$C$1000,2,FALSE)","v":{"$error":"#N/A"}},null,null,null,null,null,null,null,null,null,null,{"$f":"VLOOKUP(B4156,'(1) Project Reference Item List'!$B$2:$D$1000,3,FALSE)","v":{"$error":"#N/A"}},null,null,0,0]
[{"$f":"VLOOKUP(B4157,'(1) Project Reference Item List'!$B$2:$C$1000,2,FALSE)","v":{"$error":"#N/A"}},null,null,null,null,null,null,null,null,null,null,{"$f":"VLOOKUP(B4157,'(1) Project Reference Item List'!$B$2:$D$1000,3,FALSE)","v":{"$error":"#N/A"}},null,null,0,0]
[{"$f":"VLOOKUP(B4158,'(1) Project Reference Item List'!$B$2:$C$1000,2,FALSE)","v":{"$error":"#N/A"}},null,null,null,null,null,null,null,null,null,null,{"$f":"VLOOKUP(B4158,'(1) Project Reference Item List'!$B$2:$D$1000,3,FALSE)","v":{"$error":"#N/A"}},null,null,0,0]
[{"$f":"VLOOKUP(B4159,'(1) Project Reference Item List'!$B$2:$C$1000,2,FALSE)","v":{"$error":"#N/A"}},null,null,null,null,null,null,null,null,null,null,{"$f":"VLOOKUP(B4159,'(1) Project Reference Item List'!$B$2:$D$1000,3,FALSE)","v":{"$error":"#N/A"}},null,null,0,0]
[{"$f":"VLOOKUP(B4160,'(1) Project Reference Item List'!$B$2:$C$1000,2,FALSE)","v":{"$error":"#N/A"}},null,null,null,null,null,null,null,null,null,null,{"$f":"VLOOKUP(B4160,'(1) Project Reference Item List'!$B$2:$D$1000,3,FALSE)","v":{"$error":"#N/A"}},null,null,0,0]
[{"$f":"VLOOKUP(B4161,'(1) Project Reference Item List'!$B$2:$C$1000,2,FALSE)","v":{"$error":"#N/A"}},null,null,null,null,null,null,null,null,null,null,{"$f":"VLOOKUP(B4161,'(1) Project Reference Item List'!$B$2:$D$1000,3,FALSE)","v":{"$error":"#N/A"}},null,null,0,0]
[{"$f":"VLOOKUP(B4162,'(1) Project Reference Item List'!$B$2:$C$1000,2,FALSE)","v":{"$error":"#N/A"}},null,null,null,null,null,null,null,null,null,null,{"$f":"VLOOKUP(B4162,'(1) Project Reference Item List'!$B$2:$D$1000,3,FALSE)","v":{"$error":"#N/A"}},null,null,0,0]
[{"$f":"VLOOKUP(B4163,'(1) Project Reference Item List'!$B$2:$C$1000,2,FALSE)","v":{"$error":"#N/A"}},null,null,null,null,null,null,null,null,null,null,{"$f":"VLOOKUP(B4163,'(1) Project Reference Item List'!$B$2:$D$1000,3,FALSE)","v":{"$error":"#N/A"}},null,null,0,0]
[{"$f":"VLOOKUP(B4164,'(1) Project Reference Item List'!$B$2:$C$1000,2,FALSE)","v":{"$error":"#N/A"}},null,null,null,null,null,null,null,null,null,null,{"$f":"VLOOKUP(B4164,'(1) Project Reference Item List'!$B$2:$D$1000,3,FALSE)","v":{"$error":"#N/A"}},null,null,0,0]
[{"$f":"VLOOKUP(B4165,'(1) Project Reference Item List'!$B$2:$C$1000,2,FALSE)","v":{"$error":"#N/A"}},null,null,null,null,null,null,null,null,null,null,{"$f":"VLOOKUP(B4165,'(1) Project Reference Item List'!$B$2:$D$1000,3,FALSE)","v":{"$error":"#N/A"}},null,null,0,0]
[{"$f":"VLOOKUP(B4166,'(1) Project Reference Item List'!$B$2:$C$1000,2,FALSE)","v":{"$error":"#N/A"}},null,null,null,null,null,null,null,null,null,null,{"$f":"VLOOKUP(B4166,'(1) Project Reference Item List'!$B$2:$D$1000,3,FALSE)","v":{"$error":"#N/A"}},null,null,{"$f":"IF(J4166=0,J4166,J4166*N4166)","v":0},{"$f":"(M4166-O4166)","v":0}]
[{"$f":"VLOOKUP(B4167,'(1) Project Reference Item List'!$B$2:$C$1000,2,FALSE)","v":{"$error":"#N/A"}},null,null,null,null,null,null,null,null,null,null,{"$f":"VLOOKUP(B4167,'(1) Project Reference Item List'!$B$2:$D$1000,3,FALSE)","v":{"$error":"#N/A"}},null,null,0,0]
[{"$f":"VLOOKUP(B4168,'(1) Project Reference Item List'!$B$2:$C$1000,2,FALSE)","v":{"$error":"#N/A"}},null,null,null,null,null,null,null,null,null,null,{"$f":"VLOOKUP(B4168,'(1) Project Reference Item List'!$B$2:$D$1000,3,FALSE)","v":{"$error":"#N/A"}},null,null,0,0]
[{"$f":"VLOOKUP(B4169,'(1) Project Reference Item List'!$B$2:$C$1000,2,FALSE)","v":{"$error":"#N/A"}},null,null,null,null,null,null,null,null,null,null,{"$f":"VLOOKUP(B4169,'(1) Project Reference Item List'!$B$2:$D$1000,3,FALSE)","v":{"$error":"#N/A"}},null,null,0,0]
[{"$f":"VLOOKUP(B4170,'(1) Project Reference Item List'!$B$2:$C$1000,2,FALSE)","v":{"$error":"#N/A"}},null,null,null,null,null,null,null,null,null,null,{"$f":"VLOOKUP(B4170,'(1) Project Reference Item List'!$B$2:$D$1000,3,FALSE)","v":{"$error":"#N/A"}},null,null,0,0]
[{"$f":"VLOOKUP(B4171,'(1) Project Reference Item List'!$B$2:$C$1000,2,FALSE)","v":{"$error":"#N/A"}},null,null,null,null,null,null,null,null,null,null,{"$f":"VLOOKUP(B4171,'(1) Project Reference Item List'!$B$2:$D$1000,3,FALSE)","v":{"$error":"#N/A"}},null,null,0,0]
[{"$f":"VLOOKUP(B4172,'(1) Project Reference Item List'!$B$2:$C$1000,2,FALSE)","v":{"$error":"#N/A"}},null,null,null,null,null,null,null,null,null,null,{"$f":"VLOOKUP(B4172,'(1) Project Reference Item List'!$B$2:$D$1000,3,FALSE)","v":{"$error":"#N/A"}},null,null,0,0]
[{"$f":"VLOOKUP(B4173,'(1) Project Reference Item List'!$B$2:$C$1000,2,FALSE)","v":{"$error":"#N/A"}},null,null,null,null,null,null,null,null,null,null,{"$f":"VLOOKUP(B4173,'(1) Project Reference Item List'!$B$2:$D$1000,3,FALSE)","v":{"$error":"#N/A"}},null,null,0,0]
[{"$f":"VLOOKUP(B4174,'(1) Project Reference Item List'!$B$2:$C$1000,2,FALSE)","v":{"$error":"#N/A"}},null,null,null,null,null,null,null,null,null,null,{"$f":"VLOOKUP(B4174,'(1) Project Reference Item List'!$B$2:$D$1000,3,FALSE)","v":{"$error":"#N/A"}},null,null,0,0]
[{"$f":"VLOOKUP(B4175,'(1) Project Reference Item List'!$B$2:$C$1000,2,FALSE)","v":{"$error":"#N/A"}},null,null,null,null,null,null,null,null,null,null,{"$f":"VLOOKUP(B4175,'(1) Project Reference Item List'!$B$2:$D$1000,3,FALSE)","v":{"$error":"#N/A"}},null,null,0,0]
[{"$f":"VLOOKUP(B4176,'(1) Project Reference Item List'!$B$2:$C$1000,2,FALSE)","v":{"$error":"#N/A"}},null,null,null,null,null,null,null,null,null,null,{"$f":"VLOOKUP(B4176,'(1) Project Reference Item List'!$B$2:$D$1000,3,FALSE)","v":{"$error":"#N/A"}},null,null,0,0]
[{"$f":"VLOOKUP(B4177,'(1) Project Reference Item List'!$B$2:$C$1000,2,FALSE)","v":{"$error":"#N/A"}},null,null,null,null,null,null,null,null,null,null,{"$f":"VLOOKUP(B4177,'(1) Project Reference Item List'!$B$2:$D$1000,3,FALSE)","v":{"$error":"#N/A"}},null,null,0,0]
[{"$f":"VLOOKUP(B4178,'(1) Project Reference Item List'!$B$2:$C$1000,2,FALSE)","v":{"$error":"#N/A"}},null,null,null,null,null,null,null,null,null,null,{"$f":"VLOOKUP(B4178,'(1) Project Reference Item List'!$B$2:$D$1000,3,FALSE)","v":{"$error":"#N/A"}},null,null,0,0]
[{"$f":"VLOOKUP(B4179,'(1) Project Reference Item List'!$B$2:$C$1000,2,FALSE)","v":{"$error":"#N/A"}},null,null,null,null,null,null,null,null,null,null,{"$f":"VLOOKUP(B4179,'(1) Project Reference Item List'!$B$2:$D$1000,3,FALSE)","v":{"$error":"#N/A"}},null,null,0,0]
[{"$f":"VLOOKUP(B4180,'(1) Project Reference Item List'!$B$2:$C$1000,2,FALSE)","v":{"$error":"#N/A"}},null,null,null,null,null,null,null,null,null,null,{"$f":"VLOOKUP(B4180,'(1) Project Reference Item List'!$B$2:$D$1000,3,FALSE)","v":{"$error":"#N/A"}},null,null,0,0]
[{"$f":"VLOOKUP(B4181,'(1) Project Reference Item List'!$B$2:$C$1000,2,FALSE)","v":{"$error":"#N/A"}},null,null,null,null,null,null,null,null,null,null,{"$f":"VLOOKUP(B4181,'(1) Project Reference Item List'!$B$2:$D$1000,3,FALSE)","v":{"$error":"#N/A"}},null,null,0,0]
[{"$f":"VLOOKUP(B4182,'(1) Project Reference Item List'!$B$2:$C$1000,2,FALSE)","v":{"$error":"#N/A"}},null,null,null,null,null,null,null,null,null,null,{"$f":"VLOOKUP(B4182,'(1) Project Reference Item List'!$B$2:$D$1000,3,FALSE)","v":{"$error":"#N/A"}},null,null,0,0]
[{"$f":"VLOOKUP(B4183,'(1) Project Reference Item List'!$B$2:$C$1000,2,FALSE)","v":{"$error":"#N/A"}},null,null,null,null,null,null,null,null,null,null,{"$f":"VLOOKUP(B4183,'(1) Project Reference Item List'!$B$2:$D$1000,3,FALSE)","v":{"$error":"#N/A"}},null,null,0,0]
[{"$f":"VLOOKUP(B4184,'(1) Project Reference Item List'!$B$2:$C$1000,2,FALSE)","v":{"$error":"#N/A"}},null,null,null,null,null,null,null,null,null,null,{"$f":"VLOOKUP(B4184,'(1) Project Reference Item List'!$B$2:$D$1000,3,FALSE)","v":{"$error":"#N/A"}},null,null,0,0]
[{"$f":"VLOOKUP(B4185,'(1) Project Reference Item List'!$B$2:$C$1000,2,FALSE)","v":{"$error":"#N/A"}},null,null,null,null,null,null,null,null,null,null,{"$f":"VLOOKUP(B4185,'(1) Project Reference Item List'!$B$2:$D$1000,3,FALSE)","v":{"$error":"#N/A"}},null,null,0,0]
[{"$f":"VLOOKUP(B4186,'(1) Project Reference Item List'!$B$2:$C$1000,2,FALSE)","v":{"$error":"#N/A"}},null,null,null,null,null,null,null,null,null,null,{"$f":"VLOOKUP(B4186,'(1) Project Reference Item List'!$B$2:$D$1000,3,FALSE)","v":{"$error":"#N/A"}},null,null,0,0]
[{"$f":"VLOOKUP(B4187,'(1) Project Reference Item List'!$B$2:$C$1000,2,FALSE)","v":{"$error":"#N/A"}},null,null,null,null,null,null,null,null,null,null,{"$f":"VLOOKUP(B4187,'(1) Project Reference Item List'!$B$2:$D$1000,3,FALSE)","v":{"$error":"#N/A"}},null,null,0,0]
[{"$f":"VLOOKUP(B4188,'(1) Project Reference Item List'!$B$2:$C$1000,2,FALSE)","v":{"$error":"#N/A"}},null,null,null,null,null,null,null,null,null,null,{"$f":"VLOOKUP(B4188,'(1) Project Reference Item List'!$B$2:$D$1000,3,FALSE)","v":{"$error":"#N/A"}},null,null,0,0]
[{"$f":"VLOOKUP(B4189,'(1) Project Reference Item List'!$B$2:$C$1000,2,FALSE)","v":{"$error":"#N/A"}},null,null,null,null,null,null,null,null,null,null,{"$f":"VLOOKUP(B4189,'(1) Project Reference Item List'!$B$2:$D$1000,3,FALSE)","v":{"$error":"#N/A"}},null,null,0,0]
[{"$f":"VLOOKUP(B4190,'(1) Project Reference Item List'!$B$2:$C$1000,2,FALSE)","v":{"$error":"#N/A"}},null,null,null,null,null,null,null,null,null,null,{"$f":"VLOOKUP(B4190,'(1) Project Reference Item List'!$B$2:$D$1000,3,FALSE)","v":{"$error":"#N/A"}},null,null,0,0]
[{"$f":"VLOOKUP(B4191,'(1) Project Reference Item List'!$B$2:$C$1000,2,FALSE)","v":{"$error":"#N/A"}},null,null,null,null,null,null,null,null,null,null,{"$f":"VLOOKUP(B4191,'(1) Project Reference Item List'!$B$2:$D$1000,3,FALSE)","v":{"$error":"#N/A"}},null,null,0,0]
[{"$f":"VLOOKUP(B4192,'(1) Project Reference Item List'!$B$2:$C$1000,2,FALSE)","v":{"$error":"#N/A"}},null,null,null,null,null,null,null,null,null,null,{"$f":"VLOOKUP(B4192,'(1) Project Reference Item List'!$B$2:$D$1000,3,FALSE)","v":{"$error":"#N/A"}},null,null,0,0]
[{"$f":"VLOOKUP(B4193,'(1) Project Reference Item List'!$B$2:$C$1000,2,FALSE)","v":{"$error":"#N/A"}},null,null,null,null,null,null,null,null,null,null,{"$f":"VLOOKUP(B4193,'(1) Project Reference Item List'!$B$2:$D$1000,3,FALSE)","v":{"$error":"#N/A"}},null,null,0,0]
[{"$f":"VLOOKUP(B4194,'(1) Project Reference Item List'!$B$2:$C$1000,2,FALSE)","v":{"$error":"#N/A"}},null,null,null,null,null,null,null,null,null,null,{"$f":"VLOOKUP(B4194,'(1) Project Reference Item List'!$B$2:$D$1000,3,FALSE)","v":{"$error":"#N/A"}},null,null,0,0]
[{"$f":"VLOOKUP(B4195,'(1) Project Reference Item List'!$B$2:$C$1000,2,FALSE)","v":{"$error":"#N/A"}},null,null,null,null,null,null,null,null,null,null,{"$f":"VLOOKUP(B4195,'(1) Project Reference Item List'!$B$2:$D$1000,3,FALSE)","v":{"$error":"#N/A"}},null,null,0,0]
[{"$f":"VLOOKUP(B4196,'(1) Project Reference Item List'!$B$2:$C$1000,2,FALSE)","v":{"$error":"#N/A"}},null,null,null,null,null,null,null,null,null,null,{"$f":"VLOOKUP(B4196,'(1) Project Reference Item List'!$B$2:$D$1000,3,FALSE)","v":{"$error":"#N/A"}},null,null,0,0]
[{"$f":"VLOOKUP(B4197,'(1) Project Reference Item List'!$B$2:$C$1000,2,FALSE)","v":{"$error":"#N/A"}},null,null,null,null,null,null,null,null,null,null,{"$f":"VLOOKUP(B4197,'(1) Project Reference Item List'!$B$2:$D$1000,3,FALSE)","v":{"$error":"#N/A"}},null,null,0,0]
[{"$f":"VLOOKUP(B4198,'(1) Project Reference Item List'!$B$2:$C$1000,2,FALSE)","v":{"$error":"#N/A"}},null,null,null,null,null,null,null,null,null,null,{"$f":"VLOOKUP(B4198,'(1) Project Reference Item List'!$B$2:$D$1000,3,FALSE)","v":{"$error":"#N/A"}},null,null,0,0]
[{"$f":"VLOOKUP(B4199,'(1) Project Reference Item List'!$B$2:$C$1000,2,FALSE)","v":{"$error":"#N/A"}},null,null,null,null,null,null,null,null,null,null,{"$f":"VLOOKUP(B4199,'(1) Project Reference Item List'!$B$2:$D$1000,3,FALSE)","v":{"$error":"#N/A"}},null,null,0,0]
[{"$f":"VLOOKUP(B4200,'(1) Project Reference Item List'!$B$2:$C$1000,2,FALSE)","v":{"$error":"#N/A"}},null,null,null,null,null,null,null,null,null,null,{"$f":"VLOOKUP(B4200,'(1) Project Reference Item List'!$B$2:$D$1000,3,FALSE)","v":{"$error":"#N/A"}},null,null,0,0]
[{"$f":"VLOOKUP(B4201,'(1) Project Reference Item List'!$B$2:$C$1000,2,FALSE)","v":{"$error":"#N/A"}},null,null,null,null,null,null,null,null,null,null,{"$f":"VLOOKUP(B4201,'(1) Project Reference Item List'!$B$2:$D$1000,3,FALSE)","v":{"$error":"#N/A"}},null,null,0,0]
[{"$f":"VLOOKUP(B4202,'(1) Project Reference Item List'!$B$2:$C$1000,2,FALSE)","v":{"$error":"#N/A"}},null,null,null,null,null,null,null,null,null,null,{"$f":"VLOOKUP(B4202,'(1) Project Reference Item List'!$B$2:$D$1000,3,FALSE)","v":{"$error":"#N/A"}},null,null,0,0]
[{"$f":"VLOOKUP(B4203,'(1) Project Reference Item List'!$B$2:$C$1000,2,FALSE)","v":{"$error":"#N/A"}},null,null,null,null,null,null,null,null,null,null,{"$f":"VLOOKUP(B4203,'(1) Project Reference Item List'!$B$2:$D$1000,3,FALSE)","v":{"$error":"#N/A"}},null,null,0,0]
[{"$f":"VLOOKUP(B4204,'(1) Project Reference Item List'!$B$2:$C$1000,2,FALSE)","v":{"$error":"#N/A"}},null,null,null,null,null,null,null,null,null,null,{"$f":"VLOOKUP(B4204,'(1) Project Reference Item List'!$B$2:$D$1000,3,FALSE)","v":{"$error":"#N/A"}},null,null,0,0]
[{"$f":"VLOOKUP(B4205,'(1) Project Reference Item List'!$B$2:$C$1000,2,FALSE)","v":{"$error":"#N/A"}},null,null,null,null,null,null,null,null,null,null,{"$f":"VLOOKUP(B4205,'(1) Project Reference Item List'!$B$2:$D$1000,3,FALSE)","v":{"$error":"#N/A"}},null,null,0,0]
[{"$f":"VLOOKUP(B4206,'(1) Project Reference Item List'!$B$2:$C$1000,2,FALSE)","v":{"$error":"#N/A"}},null,null,null,null,null,null,null,null,null,null,{"$f":"VLOOKUP(B4206,'(1) Project Reference Item List'!$B$2:$D$1000,3,FALSE)","v":{"$error":"#N/A"}},null,null,0,0]
[{"$f":"VLOOKUP(B4207,'(1) Project Reference Item List'!$B$2:$C$1000,2,FALSE)","v":{"$error":"#N/A"}},null,null,null,null,null,null,null,null,null,null,{"$f":"VLOOKUP(B4207,'(1) Project Reference Item List'!$B$2:$D$1000,3,FALSE)","v":{"$error":"#N/A"}},null,null,0,0]
[{"$f":"VLOOKUP(B4208,'(1) Project Reference Item List'!$B$2:$C$1000,2,FALSE)","v":{"$error":"#N/A"}},null,null,null,null,null,null,null,null,null,null,{"$f":"VLOOKUP(B4208,'(1) Project Reference Item List'!$B$2:$D$1000,3,FALSE)","v":{"$error":"#N/A"}},null,null,0,0]
[{"$f":"VLOOKUP(B4209,'(1) Project Reference Item List'!$B$2:$C$1000,2,FALSE)","v":{"$error":"#N/A"}},null,null,null,null,null,null,null,null,null,null,{"$f":"VLOOKUP(B4209,'(1) Project Reference Item List'!$B$2:$D$1000,3,FALSE)","v":{"$error":"#N/A"}},null,null,0,0]
[{"$f":"VLOOKUP(B4210,'(1) Project Reference Item List'!$B$2:$C$1000,2,FALSE)","v":{"$error":"#N/A"}},null,null,null,null,null,null,null,null,null,null,{"$f":"VLOOKUP(B4210,'(1) Project Reference Item List'!$B$2:$D$1000,3,FALSE)","v":{"$error":"#N/A"}},null,null,0,0]
[{"$f":"VLOOKUP(B4211,'(1) Project Reference Item List'!$B$2:$C$1000,2,FALSE)","v":{"$error":"#N/A"}},null,null,null,null,null,null,null,null,null,null,{"$f":"VLOOKUP(B4211,'(1) Project Reference Item List'!$B$2:$D$1000,3,FALSE)","v":{"$error":"#N/A"}},null,null,0,0]
[{"$f":"VLOOKUP(B4212,'(1) Project Reference Item List'!$B$2:$C$1000,2,FALSE)","v":{"$error":"#N/A"}},null,null,null,null,null,null,null,null,null,null,{"$f":"VLOOKUP(B4212,'(1) Project Reference Item List'!$B$2:$D$1000,3,FALSE)","v":{"$error":"#N/A"}},null,null,0,0]
[{"$f":"VLOOKUP(B4213,'(1) Project Reference Item List'!$B$2:$C$1000,2,FALSE)","v":{"$error":"#N/A"}},null,null,null,null,null,null,null,null,null,null,{"$f":"VLOOKUP(B4213,'(1) Project Reference Item List'!$B$2:$D$1000,3,FALSE)","v":{"$error":"#N/A"}},null,null,0,0]
[{"$f":"VLOOKUP(B4214,'(1) Project Reference Item List'!$B$2:$C$1000,2,FALSE)","v":{"$error":"#N/A"}},null,null,null,null,null,null,null,null,null,null,{"$f":"VLOOKUP(B4214,'(1) Project Reference Item List'!$B$2:$D$1000,3,FALSE)","v":{"$error":"#N/A"}},null,null,0,0]
[{"$f":"VLOOKUP(B4215,'(1) Project Reference Item List'!$B$2:$C$1000,2,FALSE)","v":{"$error":"#N/A"}},null,null,null,null,null,null,null,null,null,null,{"$f":"VLOOKUP(B4215,'(1) Project Reference Item List'!$B$2:$D$1000,3,FALSE)","v":{"$error":"#N/A"}},null,null,0,0]
[{"$f":"VLOOKUP(B4216,'(1) Project Reference Item List'!$B$2:$C$1000,2,FALSE)","v":{"$error":"#N/A"}},null,null,null,null,null,null,null,null,null,null,{"$f":"VLOOKUP(B4216,'(1) Project Reference Item List'!$B$2:$D$1000,3,FALSE)","v":{"$error":"#N/A"}},null,null,0,0]
[{"$f":"VLOOKUP(B4217,'(1) Project Reference Item List'!$B$2:$C$1000,2,FALSE)","v":{"$error":"#N/A"}},null,null,null,null,null,null,null,null,null,null,{"$f":"VLOOKUP(B4217,'(1) Project Reference Item List'!$B$2:$D$1000,3,FALSE)","v":{"$error":"#N/A"}},null,null,0,0]
[{"$f":"VLOOKUP(B4218,'(1) Project Reference Item List'!$B$2:$C$1000,2,FALSE)","v":{"$error":"#N/A"}},null,null,null,null,null,null,null,null,null,null,{"$f":"VLOOKUP(B4218,'(1) Project Reference Item List'!$B$2:$D$1000,3,FALSE)","v":{"$error":"#N/A"}},null,null,0,0]
[{"$f":"VLOOKUP(B4219,'(1) Project Reference Item List'!$B$2:$C$1000,2,FALSE)","v":{"$error":"#N/A"}},null,null,null,null,null,null,null,null,null,null,{"$f":"VLOOKUP(B4219,'(1) Project Reference Item List'!$B$2:$D$1000,3,FALSE)","v":{"$error":"#N/A"}},null,null,0,0]
[{"$f":"VLOOKUP(B4220,'(1) Project Reference Item List'!$B$2:$C$1000,2,FALSE)","v":{"$error":"#N/A"}},null,null,null,null,null,null,null,null,null,null,{"$f":"VLOOKUP(B4220,'(1) Project Reference Item List'!$B$2:$D$1000,3,FALSE)","v":{"$error":"#N/A"}},null,null,0,0]
[{"$f":"VLOOKUP(B4221,'(1) Project Reference Item List'!$B$2:$C$1000,2,FALSE)","v":{"$error":"#N/A"}},null,null,null,null,null,null,null,null,null,null,{"$f":"VLOOKUP(B4221,'(1) Project Reference Item List'!$B$2:$D$1000,3,FALSE)","v":{"$error":"#N/A"}},null,null,0,0]
[{"$f":"VLOOKUP(B4222,'(1) Project Reference Item List'!$B$2:$C$1000,2,FALSE)","v":{"$error":"#N/A"}},null,null,null,null,null,null,null,null,null,null,{"$f":"VLOOKUP(B4222,'(1) Project Reference Item List'!$B$2:$D$1000,3,FALSE)","v":{"$error":"#N/A"}},null,null,0,0]
[{"$f":"VLOOKUP(B4223,'(1) Project Reference Item List'!$B$2:$C$1000,2,FALSE)","v":{"$error":"#N/A"}},null,null,null,null,null,null,null,null,null,null,{"$f":"VLOOKUP(B4223,'(1) Project Reference Item List'!$B$2:$D$1000,3,FALSE)","v":{"$error":"#N/A"}},null,null,0,0]
[{"$f":"VLOOKUP(B4224,'(1) Project Reference Item List'!$B$2:$C$1000,2,FALSE)","v":{"$error":"#N/A"}},null,null,null,null,null,null,null,null,null,null,{"$f":"VLOOKUP(B4224,'(1) Project Reference Item List'!$B$2:$D$1000,3,FALSE)","v":{"$error":"#N/A"}},null,null,0,0]
[{"$f":"VLOOKUP(B4225,'(1) Project Reference Item List'!$B$2:$C$1000,2,FALSE)","v":{"$error":"#N/A"}},null,null,null,null,null,null,null,null,null,null,{"$f":"VLOOKUP(B4225,'(1) Project Reference Item List'!$B$2:$D$1000,3,FALSE)","v":{"$error":"#N/A"}},null,null,0,0]
[{"$f":"VLOOKUP(B4226,'(1) Project Reference Item List'!$B$2:$C$1000,2,FALSE)","v":{"$error":"#N/A"}},null,null,null,null,null,null,null,null,null,null,{"$f":"VLOOKUP(B4226,'(1) Project Reference Item List'!$B$2:$D$1000,3,FALSE)","v":{"$error":"#N/A"}},null,null,0,0]
[{"$f":"VLOOKUP(B4227,'(1) Project Reference Item List'!$B$2:$C$1000,2,FALSE)","v":{"$error":"#N/A"}},null,null,null,null,null,null,null,null,null,null,{"$f":"VLOOKUP(B4227,'(1) Project Reference Item List'!$B$2:$D$1000,3,FALSE)","v":{"$error":"#N/A"}},null,null,0,0]
[{"$f":"VLOOKUP(B4228,'(1) Project Reference Item List'!$B$2:$C$1000,2,FALSE)","v":{"$error":"#N/A"}},null,null,null,null,null,null,null,null,null,null,{"$f":"VLOOKUP(B4228,'(1) Project Reference Item List'!$B$2:$D$1000,3,FALSE)","v":{"$error":"#N/A"}},null,null,0,0]
[{"$f":"VLOOKUP(B4229,'(1) Project Reference Item List'!$B$2:$C$1000,2,FALSE)","v":{"$error":"#N/A"}},null,null,null,null,null,null,null,null,null,null,{"$f":"VLOOKUP(B4229,'(1) Project Reference Item List'!$B$2:$D$1000,3,FALSE)","v":{"$error":"#N/A"}},null,null,0,0]
[{"$f":"VLOOKUP(B4230,'(1) Project Reference Item List'!$B$2:$C$1000,2,FALSE)","v":{"$error":"#N/A"}},null,null,null,null,null,null,null,null,null,null,{"$f":"VLOOKUP(B4230,'(1) Project Reference Item List'!$B$2:$D$1000,3,FALSE)","v":{"$error":"#N/A"}},null,null,{"$f":"IF(J4230=0,J4230,J4230*N4230)","v":0},{"$f":"(M4230-O4230)","v":0}]
[{"$f":"VLOOKUP(B4231,'(1) Project Reference Item List'!$B$2:$C$1000,2,FALSE)","v":{"$error":"#N/A"}},null,null,null,null,null,null,null,null,null,null,{"$f":"VLOOKUP(B4231,'(1) Project Reference Item List'!$B$2:$D$1000,3,FALSE)","v":{"$error":"#N/A"}},null,null,0,0]
[{"$f":"VLOOKUP(B4232,'(1) Project Reference Item List'!$B$2:$C$1000,2,FALSE)","v":{"$error":"#N/A"}},null,null,null,null,null,null,null,null,null,null,{"$f":"VLOOKUP(B4232,'(1) Project Reference Item List'!$B$2:$D$1000,3,FALSE)","v":{"$error":"#N/A"}},null,null,0,0]
[{"$f":"VLOOKUP(B4233,'(1) Project Reference Item List'!$B$2:$C$1000,2,FALSE)","v":{"$error":"#N/A"}},null,null,null,null,null,null,null,null,null,null,{"$f":"VLOOKUP(B4233,'(1) Project Reference Item List'!$B$2:$D$1000,3,FALSE)","v":{"$error":"#N/A"}},null,null,0,0]
[{"$f":"VLOOKUP(B4234,'(1) Project Reference Item List'!$B$2:$C$1000,2,FALSE)","v":{"$error":"#N/A"}},null,null,null,null,null,null,null,null,null,null,{"$f":"VLOOKUP(B4234,'(1) Project Reference Item List'!$B$2:$D$1000,3,FALSE)","v":{"$error":"#N/A"}},null,null,0,0]
[{"$f":"VLOOKUP(B4235,'(1) Project Reference Item List'!$B$2:$C$1000,2,FALSE)","v":{"$error":"#N/A"}},null,null,null,null,null,null,null,null,null,null,{"$f":"VLOOKUP(B4235,'(1) Project Reference Item List'!$B$2:$D$1000,3,FALSE)","v":{"$error":"#N/A"}},null,null,0,0]
[{"$f":"VLOOKUP(B4236,'(1) Project Reference Item List'!$B$2:$C$1000,2,FALSE)","v":{"$error":"#N/A"}},null,null,null,null,null,null,null,null,null,null,{"$f":"VLOOKUP(B4236,'(1) Project Reference Item List'!$B$2:$D$1000,3,FALSE)","v":{"$error":"#N/A"}},null,null,0,0]
[{"$f":"VLOOKUP(B4237,'(1) Project Reference Item List'!$B$2:$C$1000,2,FALSE)","v":{"$error":"#N/A"}},null,null,null,null,null,null,null,null,null,null,{"$f":"VLOOKUP(B4237,'(1) Project Reference Item List'!$B$2:$D$1000,3,FALSE)","v":{"$error":"#N/A"}},null,null,0,0]
[{"$f":"VLOOKUP(B4238,'(1) Project Reference Item List'!$B$2:$C$1000,2,FALSE)","v":{"$error":"#N/A"}},null,null,null,null,null,null,null,null,null,null,{"$f":"VLOOKUP(B4238,'(1) Project Reference Item List'!$B$2:$D$1000,3,FALSE)","v":{"$error":"#N/A"}},null,null,0,0]
[{"$f":"VLOOKUP(B4239,'(1) Project Reference Item List'!$B$2:$C$1000,2,FALSE)","v":{"$error":"#N/A"}},null,null,null,null,null,null,null,null,null,null,{"$f":"VLOOKUP(B4239,'(1) Project Reference Item List'!$B$2:$D$1000,3,FALSE)","v":{"$error":"#N/A"}},null,null,0,0]
[{"$f":"VLOOKUP(B4240,'(1) Project Reference Item List'!$B$2:$C$1000,2,FALSE)","v":{"$error":"#N/A"}},null,null,null,null,null,null,null,null,null,null,{"$f":"VLOOKUP(B4240,'(1) Project Reference Item List'!$B$2:$D$1000,3,FALSE)","v":{"$error":"#N/A"}},null,null,0,0]
[{"$f":"VLOOKUP(B4241,'(1) Project Reference Item List'!$B$2:$C$1000,2,FALSE)","v":{"$error":"#N/A"}},null,null,null,null,null,null,null,null,null,null,{"$f":"VLOOKUP(B4241,'(1) Project Reference Item List'!$B$2:$D$1000,3,FALSE)","v":{"$error":"#N/A"}},null,null,0,0]
[{"$f":"VLOOKUP(B4242,'(1) Project Reference Item List'!$B$2:$C$1000,2,FALSE)","v":{"$error":"#N/A"}},null,null,null,null,null,null,null,null,null,null,{"$f":"VLOOKUP(B4242,'(1) Project Reference Item List'!$B$2:$D$1000,3,FALSE)","v":{"$error":"#N/A"}},null,null,0,0]
[{"$f":"VLOOKUP(B4243,'(1) Project Reference Item List'!$B$2:$C$1000,2,FALSE)","v":{"$error":"#N/A"}},null,null,null,null,null,null,null,null,null,null,{"$f":"VLOOKUP(B4243,'(1) Project Reference Item List'!$B$2:$D$1000,3,FALSE)","v":{"$error":"#N/A"}},null,null,0,0]
[{"$f":"VLOOKUP(B4244,'(1) Project Reference Item List'!$B$2:$C$1000,2,FALSE)","v":{"$error":"#N/A"}},null,null,null,null,null,null,null,null,null,null,{"$f":"VLOOKUP(B4244,'(1) Project Reference Item List'!$B$2:$D$1000,3,FALSE)","v":{"$error":"#N/A"}},null,null,0,0]
[{"$f":"VLOOKUP(B4245,'(1) Project Reference Item List'!$B$2:$C$1000,2,FALSE)","v":{"$error":"#N/A"}},null,null,null,null,null,null,null,null,null,null,{"$f":"VLOOKUP(B4245,'(1) Project Reference Item List'!$B$2:$D$1000,3,FALSE)","v":{"$error":"#N/A"}},null,null,0,0]
[{"$f":"VLOOKUP(B4246,'(1) Project Reference Item List'!$B$2:$C$1000,2,FALSE)","v":{"$error":"#N/A"}},null,null,null,null,null,null,null,null,null,null,{"$f":"VLOOKUP(B4246,'(1) Project Reference Item List'!$B$2:$D$1000,3,FALSE)","v":{"$error":"#N/A"}},null,null,0,0]
[{"$f":"VLOOKUP(B4247,'(1) Project Reference Item List'!$B$2:$C$1000,2,FALSE)","v":{"$error":"#N/A"}},null,null,null,null,null,null,null,null,null,null,{"$f":"VLOOKUP(B4247,'(1) Project Reference Item List'!$B$2:$D$1000,3,FALSE)","v":{"$error":"#N/A"}},null,null,0,0]
[{"$f":"VLOOKUP(B4248,'(1) Project Reference Item List'!$B$2:$C$1000,2,FALSE)","v":{"$error":"#N/A"}},null,null,null,null,null,null,null,null,null,null,{"$f":"VLOOKUP(B4248,'(1) Project Reference Item List'!$B$2:$D$1000,3,FALSE)","v":{"$error":"#N/A"}},null,null,0,0]
[{"$f":"VLOOKUP(B4249,'(1) Project Reference Item List'!$B$2:$C$1000,2,FALSE)","v":{"$error":"#N/A"}},null,null,null,null,null,null,null,null,null,null,{"$f":"VLOOKUP(B4249,'(1) Project Reference Item List'!$B$2:$D$1000,3,FALSE)","v":{"$error":"#N/A"}},null,null,0,0]
[{"$f":"VLOOKUP(B4250,'(1) Project Reference Item List'!$B$2:$C$1000,2,FALSE)","v":{"$error":"#N/A"}},null,null,null,null,null,null,null,null,null,null,{"$f":"VLOOKUP(B4250,'(1) Project Reference Item List'!$B$2:$D$1000,3,FALSE)","v":{"$error":"#N/A"}},null,null,0,0]
[{"$f":"VLOOKUP(B4251,'(1) Project Reference Item List'!$B$2:$C$1000,2,FALSE)","v":{"$error":"#N/A"}},null,null,null,null,null,null,null,null,null,null,{"$f":"VLOOKUP(B4251,'(1) Project Reference Item List'!$B$2:$D$1000,3,FALSE)","v":{"$error":"#N/A"}},null,null,0,0]
[{"$f":"VLOOKUP(B4252,'(1) Project Reference Item List'!$B$2:$C$1000,2,FALSE)","v":{"$error":"#N/A"}},null,null,null,null,null,null,null,null,null,null,{"$f":"VLOOKUP(B4252,'(1) Project Reference Item List'!$B$2:$D$1000,3,FALSE)","v":{"$error":"#N/A"}},null,null,0,0]
[{"$f":"VLOOKUP(B4253,'(1) Project Reference Item List'!$B$2:$C$1000,2,FALSE)","v":{"$error":"#N/A"}},null,null,null,null,null,null,null,null,null,null,{"$f":"VLOOKUP(B4253,'(1) Project Reference Item List'!$B$2:$D$1000,3,FALSE)","v":{"$error":"#N/A"}},null,null,0,0]
[{"$f":"VLOOKUP(B4254,'(1) Project Reference Item List'!$B$2:$C$1000,2,FALSE)","v":{"$error":"#N/A"}},null,null,null,null,null,null,null,null,null,null,{"$f":"VLOOKUP(B4254,'(1) Project Reference Item List'!$B$2:$D$1000,3,FALSE)","v":{"$error":"#N/A"}},null,null,0,0]
[{"$f":"VLOOKUP(B4255,'(1) Project Reference Item List'!$B$2:$C$1000,2,FALSE)","v":{"$error":"#N/A"}},null,null,null,null,null,null,null,null,null,null,{"$f":"VLOOKUP(B4255,'(1) Project Reference Item List'!$B$2:$D$1000,3,FALSE)","v":{"$error":"#N/A"}},null,null,0,0]
[{"$f":"VLOOKUP(B4256,'(1) Project Reference Item List'!$B$2:$C$1000,2,FALSE)","v":{"$error":"#N/A"}},null,null,null,null,null,null,null,null,null,null,{"$f":"VLOOKUP(B4256,'(1) Project Reference Item List'!$B$2:$D$1000,3,FALSE)","v":{"$error":"#N/A"}},null,null,0,0]
[{"$f":"VLOOKUP(B4257,'(1) Project Reference Item List'!$B$2:$C$1000,2,FALSE)","v":{"$error":"#N/A"}},null,null,null,null,null,null,null,null,null,null,{"$f":"VLOOKUP(B4257,'(1) Project Reference Item List'!$B$2:$D$1000,3,FALSE)","v":{"$error":"#N/A"}},null,null,0,0]
[{"$f":"VLOOKUP(B4258,'(1) Project Reference Item List'!$B$2:$C$1000,2,FALSE)","v":{"$error":"#N/A"}},null,null,null,null,null,null,null,null,null,null,{"$f":"VLOOKUP(B4258,'(1) Project Reference Item List'!$B$2:$D$1000,3,FALSE)","v":{"$error":"#N/A"}},null,null,0,0]
[{"$f":"VLOOKUP(B4259,'(1) Project Reference Item List'!$B$2:$C$1000,2,FALSE)","v":{"$error":"#N/A"}},null,null,null,null,null,null,null,null,null,null,{"$f":"VLOOKUP(B4259,'(1) Project Reference Item List'!$B$2:$D$1000,3,FALSE)","v":{"$error":"#N/A"}},null,null,0,0]
[{"$f":"VLOOKUP(B4260,'(1) Project Reference Item List'!$B$2:$C$1000,2,FALSE)","v":{"$error":"#N/A"}},null,null,null,null,null,null,null,null,null,null,{"$f":"VLOOKUP(B4260,'(1) Project Reference Item List'!$B$2:$D$1000,3,FALSE)","v":{"$error":"#N/A"}},null,null,0,0]
[{"$f":"VLOOKUP(B4261,'(1) Project Reference Item List'!$B$2:$C$1000,2,FALSE)","v":{"$error":"#N/A"}},null,null,null,null,null,null,null,null,null,null,{"$f":"VLOOKUP(B4261,'(1) Project Reference Item List'!$B$2:$D$1000,3,FALSE)","v":{"$error":"#N/A"}},null,null,0,0]
[{"$f":"VLOOKUP(B4262,'(1) Project Reference Item List'!$B$2:$C$1000,2,FALSE)","v":{"$error":"#N/A"}},null,null,null,null,null,null,null,null,null,null,{"$f":"VLOOKUP(B4262,'(1) Project Reference Item List'!$B$2:$D$1000,3,FALSE)","v":{"$error":"#N/A"}},null,null,0,0]
[{"$f":"VLOOKUP(B4263,'(1) Project Reference Item List'!$B$2:$C$1000,2,FALSE)","v":{"$error":"#N/A"}},null,null,null,null,null,null,null,null,null,null,{"$f":"VLOOKUP(B4263,'(1) Project Reference Item List'!$B$2:$D$1000,3,FALSE)","v":{"$error":"#N/A"}},null,null,0,0]
[{"$f":"VLOOKUP(B4264,'(1) Project Reference Item List'!$B$2:$C$1000,2,FALSE)","v":{"$error":"#N/A"}},null,null,null,null,null,null,null,null,null,null,{"$f":"VLOOKUP(B4264,'(1) Project Reference Item List'!$B$2:$D$1000,3,FALSE)","v":{"$error":"#N/A"}},null,null,0,0]
[{"$f":"VLOOKUP(B4265,'(1) Project Reference Item List'!$B$2:$C$1000,2,FALSE)","v":{"$error":"#N/A"}},null,null,null,null,null,null,null,null,null,null,{"$f":"VLOOKUP(B4265,'(1) Project Reference Item List'!$B$2:$D$1000,3,FALSE)","v":{"$error":"#N/A"}},null,null,0,0]
[{"$f":"VLOOKUP(B4266,'(1) Project Reference Item List'!$B$2:$C$1000,2,FALSE)","v":{"$error":"#N/A"}},null,null,null,null,null,null,null,null,null,null,{"$f":"VLOOKUP(B4266,'(1) Project Reference Item List'!$B$2:$D$1000,3,FALSE)","v":{"$error":"#N/A"}},null,null,0,0]
[{"$f":"VLOOKUP(B4267,'(1) Project Reference Item List'!$B$2:$C$1000,2,FALSE)","v":{"$error":"#N/A"}},null,null,null,null,null,null,null,null,null,null,{"$f":"VLOOKUP(B4267,'(1) Project Reference Item List'!$B$2:$D$1000,3,FALSE)","v":{"$error":"#N/A"}},null,null,0,0]
[{"$f":"VLOOKUP(B4268,'(1) Project Reference Item List'!$B$2:$C$1000,2,FALSE)","v":{"$error":"#N/A"}},null,null,null,null,null,null,null,null,null,null,{"$f":"VLOOKUP(B4268,'(1) Project Reference Item List'!$B$2:$D$1000,3,FALSE)","v":{"$error":"#N/A"}},null,null,0,0]
[{"$f":"VLOOKUP(B4269,'(1) Project Reference Item List'!$B$2:$C$1000,2,FALSE)","v":{"$error":"#N/A"}},null,null,null,null,null,null,null,null,null,null,{"$f":"VLOOKUP(B4269,'(1) Project Reference Item List'!$B$2:$D$1000,3,FALSE)","v":{"$error":"#N/A"}},null,null,0,0]
[{"$f":"VLOOKUP(B4270,'(1) Project Reference Item List'!$B$2:$C$1000,2,FALSE)","v":{"$error":"#N/A"}},null,null,null,null,null,null,null,null,null,null,{"$f":"VLOOKUP(B4270,'(1) Project Reference Item List'!$B$2:$D$1000,3,FALSE)","v":{"$error":"#N/A"}},null,null,0,0]
[{"$f":"VLOOKUP(B4271,'(1) Project Reference Item List'!$B$2:$C$1000,2,FALSE)","v":{"$error":"#N/A"}},null,null,null,null,null,null,null,null,null,null,{"$f":"VLOOKUP(B4271,'(1) Project Reference Item List'!$B$2:$D$1000,3,FALSE)","v":{"$error":"#N/A"}},null,null,0,0]
[{"$f":"VLOOKUP(B4272,'(1) Project Reference Item List'!$B$2:$C$1000,2,FALSE)","v":{"$error":"#N/A"}},null,null,null,null,null,null,null,null,null,null,{"$f":"VLOOKUP(B4272,'(1) Project Reference Item List'!$B$2:$D$1000,3,FALSE)","v":{"$error":"#N/A"}},null,null,0,0]
[{"$f":"VLOOKUP(B4273,'(1) Project Reference Item List'!$B$2:$C$1000,2,FALSE)","v":{"$error":"#N/A"}},null,null,null,null,null,null,null,null,null,null,{"$f":"VLOOKUP(B4273,'(1) Project Reference Item List'!$B$2:$D$1000,3,FALSE)","v":{"$error":"#N/A"}},null,null,0,0]
[{"$f":"VLOOKUP(B4274,'(1) Project Reference Item List'!$B$2:$C$1000,2,FALSE)","v":{"$error":"#N/A"}},null,null,null,null,null,null,null,null,null,null,{"$f":"VLOOKUP(B4274,'(1) Project Reference Item List'!$B$2:$D$1000,3,FALSE)","v":{"$error":"#N/A"}},null,null,0,0]
[{"$f":"VLOOKUP(B4275,'(1) Project Reference Item List'!$B$2:$C$1000,2,FALSE)","v":{"$error":"#N/A"}},null,null,null,null,null,null,null,null,null,null,{"$f":"VLOOKUP(B4275,'(1) Project Reference Item List'!$B$2:$D$1000,3,FALSE)","v":{"$error":"#N/A"}},null,null,0,0]
[{"$f":"VLOOKUP(B4276,'(1) Project Reference Item List'!$B$2:$C$1000,2,FALSE)","v":{"$error":"#N/A"}},null,null,null,null,null,null,null,null,null,null,{"$f":"VLOOKUP(B4276,'(1) Project Reference Item List'!$B$2:$D$1000,3,FALSE)","v":{"$error":"#N/A"}},null,null,0,0]
[{"$f":"VLOOKUP(B4277,'(1) Project Reference Item List'!$B$2:$C$1000,2,FALSE)","v":{"$error":"#N/A"}},null,null,null,null,null,null,null,null,null,null,{"$f":"VLOOKUP(B4277,'(1) Project Reference Item List'!$B$2:$D$1000,3,FALSE)","v":{"$error":"#N/A"}},null,null,0,0]
[{"$f":"VLOOKUP(B4278,'(1) Project Reference Item List'!$B$2:$C$1000,2,FALSE)","v":{"$error":"#N/A"}},null,null,null,null,null,null,null,null,null,null,{"$f":"VLOOKUP(B4278,'(1) Project Reference Item List'!$B$2:$D$1000,3,FALSE)","v":{"$error":"#N/A"}},null,null,0,0]
[{"$f":"VLOOKUP(B4279,'(1) Project Reference Item List'!$B$2:$C$1000,2,FALSE)","v":{"$error":"#N/A"}},null,null,null,null,null,null,null,null,null,null,{"$f":"VLOOKUP(B4279,'(1) Project Reference Item List'!$B$2:$D$1000,3,FALSE)","v":{"$error":"#N/A"}},null,null,0,0]
[{"$f":"VLOOKUP(B4280,'(1) Project Reference Item List'!$B$2:$C$1000,2,FALSE)","v":{"$error":"#N/A"}},null,null,null,null,null,null,null,null,null,null,{"$f":"VLOOKUP(B4280,'(1) Project Reference Item List'!$B$2:$D$1000,3,FALSE)","v":{"$error":"#N/A"}},null,null,0,0]
[{"$f":"VLOOKUP(B4281,'(1) Project Reference Item List'!$B$2:$C$1000,2,FALSE)","v":{"$error":"#N/A"}},null,null,null,null,null,null,null,null,null,null,{"$f":"VLOOKUP(B4281,'(1) Project Reference Item List'!$B$2:$D$1000,3,FALSE)","v":{"$error":"#N/A"}},null,null,0,0]
[{"$f":"VLOOKUP(B4282,'(1) Project Reference Item List'!$B$2:$C$1000,2,FALSE)","v":{"$error":"#N/A"}},null,null,null,null,null,null,null,null,null,null,{"$f":"VLOOKUP(B4282,'(1) Project Reference Item List'!$B$2:$D$1000,3,FALSE)","v":{"$error":"#N/A"}},null,null,0,0]
[{"$f":"VLOOKUP(B4283,'(1) Project Reference Item List'!$B$2:$C$1000,2,FALSE)","v":{"$error":"#N/A"}},null,null,null,null,null,null,null,null,null,null,{"$f":"VLOOKUP(B4283,'(1) Project Reference Item List'!$B$2:$D$1000,3,FALSE)","v":{"$error":"#N/A"}},null,null,0,0]
[{"$f":"VLOOKUP(B4284,'(1) Project Reference Item List'!$B$2:$C$1000,2,FALSE)","v":{"$error":"#N/A"}},null,null,null,null,null,null,null,null,null,null,{"$f":"VLOOKUP(B4284,'(1) Project Reference Item List'!$B$2:$D$1000,3,FALSE)","v":{"$error":"#N/A"}},null,null,0,0]
[{"$f":"VLOOKUP(B4285,'(1) Project Reference Item List'!$B$2:$C$1000,2,FALSE)","v":{"$error":"#N/A"}},null,null,null,null,null,null,null,null,null,null,{"$f":"VLOOKUP(B4285,'(1) Project Reference Item List'!$B$2:$D$1000,3,FALSE)","v":{"$error":"#N/A"}},null,null,0,0]
[{"$f":"VLOOKUP(B4286,'(1) Project Reference Item List'!$B$2:$C$1000,2,FALSE)","v":{"$error":"#N/A"}},null,null,null,null,null,null,null,null,null,null,{"$f":"VLOOKUP(B4286,'(1) Project Reference Item List'!$B$2:$D$1000,3,FALSE)","v":{"$error":"#N/A"}},null,null,0,0]
[{"$f":"VLOOKUP(B4287,'(1) Project Reference Item List'!$B$2:$C$1000,2,FALSE)","v":{"$error":"#N/A"}},null,null,null,null,null,null,null,null,null,null,{"$f":"VLOOKUP(B4287,'(1) Project Reference Item List'!$B$2:$D$1000,3,FALSE)","v":{"$error":"#N/A"}},null,null,0,0]
[{"$f":"VLOOKUP(B4288,'(1) Project Reference Item List'!$B$2:$C$1000,2,FALSE)","v":{"$error":"#N/A"}},null,null,null,null,null,null,null,null,null,null,{"$f":"VLOOKUP(B4288,'(1) Project Reference Item List'!$B$2:$D$1000,3,FALSE)","v":{"$error":"#N/A"}},null,null,0,0]
[{"$f":"VLOOKUP(B4289,'(1) Project Reference Item List'!$B$2:$C$1000,2,FALSE)","v":{"$error":"#N/A"}},null,null,null,null,null,null,null,null,null,null,{"$f":"VLOOKUP(B4289,'(1) Project Reference Item List'!$B$2:$D$1000,3,FALSE)","v":{"$error":"#N/A"}},null,null,0,0]
[{"$f":"VLOOKUP(B4290,'(1) Project Reference Item List'!$B$2:$C$1000,2,FALSE)","v":{"$error":"#N/A"}},null,null,null,null,null,null,null,null,null,null,{"$f":"VLOOKUP(B4290,'(1) Project Reference Item List'!$B$2:$D$1000,3,FALSE)","v":{"$error":"#N/A"}},null,null,0,0]
[{"$f":"VLOOKUP(B4291,'(1) Project Reference Item List'!$B$2:$C$1000,2,FALSE)","v":{"$error":"#N/A"}},null,null,null,null,null,null,null,null,null,null,{"$f":"VLOOKUP(B4291,'(1) Project Reference Item List'!$B$2:$D$1000,3,FALSE)","v":{"$error":"#N/A"}},null,null,0,0]
[{"$f":"VLOOKUP(B4292,'(1) Project Reference Item List'!$B$2:$C$1000,2,FALSE)","v":{"$error":"#N/A"}},null,null,null,null,null,null,null,null,null,null,{"$f":"VLOOKUP(B4292,'(1) Project Reference Item List'!$B$2:$D$1000,3,FALSE)","v":{"$error":"#N/A"}},null,null,0,0]
[{"$f":"VLOOKUP(B4293,'(1) Project Reference Item List'!$B$2:$C$1000,2,FALSE)","v":{"$error":"#N/A"}},null,null,null,null,null,null,null,null,null,null,{"$f":"VLOOKUP(B4293,'(1) Project Reference Item List'!$B$2:$D$1000,3,FALSE)","v":{"$error":"#N/A"}},null,null,0,0]
[{"$f":"VLOOKUP(B4294,'(1) Project Reference Item List'!$B$2:$C$1000,2,FALSE)","v":{"$error":"#N/A"}},null,null,null,null,null,null,null,null,null,null,{"$f":"VLOOKUP(B4294,'(1) Project Reference Item List'!$B$2:$D$1000,3,FALSE)","v":{"$error":"#N/A"}},null,null,{"$f":"IF(J4294=0,J4294,J4294*N4294)","v":0},{"$f":"(M4294-O4294)","v":0}]
[{"$f":"VLOOKUP(B4295,'(1) Project Reference Item List'!$B$2:$C$1000,2,FALSE)","v":{"$error":"#N/A"}},null,null,null,null,null,null,null,null,null,null,{"$f":"VLOOKUP(B4295,'(1) Project Reference Item List'!$B$2:$D$1000,3,FALSE)","v":{"$error":"#N/A"}},null,null,0,0]
[{"$f":"VLOOKUP(B4296,'(1) Project Reference Item List'!$B$2:$C$1000,2,FALSE)","v":{"$error":"#N/A"}},null,null,null,null,null,null,null,null,null,null,{"$f":"VLOOKUP(B4296,'(1) Project Reference Item List'!$B$2:$D$1000,3,FALSE)","v":{"$error":"#N/A"}},null,null,0,0]
[{"$f":"VLOOKUP(B4297,'(1) Project Reference Item List'!$B$2:$C$1000,2,FALSE)","v":{"$error":"#N/A"}},null,null,null,null,null,null,null,null,null,null,{"$f":"VLOOKUP(B4297,'(1) Project Reference Item List'!$B$2:$D$1000,3,FALSE)","v":{"$error":"#N/A"}},null,null,0,0]
[{"$f":"VLOOKUP(B4298,'(1) Project Reference Item List'!$B$2:$C$1000,2,FALSE)","v":{"$error":"#N/A"}},null,null,null,null,null,null,null,null,null,null,{"$f":"VLOOKUP(B4298,'(1) Project Reference Item List'!$B$2:$D$1000,3,FALSE)","v":{"$error":"#N/A"}},null,null,0,0]
[{"$f":"VLOOKUP(B4299,'(1) Project Reference Item List'!$B$2:$C$1000,2,FALSE)","v":{"$error":"#N/A"}},null,null,null,null,null,null,null,null,null,null,{"$f":"VLOOKUP(B4299,'(1) Project Reference Item List'!$B$2:$D$1000,3,FALSE)","v":{"$error":"#N/A"}},null,null,0,0]
[{"$f":"VLOOKUP(B4300,'(1) Project Reference Item List'!$B$2:$C$1000,2,FALSE)","v":{"$error":"#N/A"}},null,null,null,null,null,null,null,null,null,null,{"$f":"VLOOKUP(B4300,'(1) Project Reference Item List'!$B$2:$D$1000,3,FALSE)","v":{"$error":"#N/A"}},null,null,0,0]
[{"$f":"VLOOKUP(B4301,'(1) Project Reference Item List'!$B$2:$C$1000,2,FALSE)","v":{"$error":"#N/A"}},null,null,null,null,null,null,null,null,null,null,{"$f":"VLOOKUP(B4301,'(1) Project Reference Item List'!$B$2:$D$1000,3,FALSE)","v":{"$error":"#N/A"}},null,null,0,0]
[{"$f":"VLOOKUP(B4302,'(1) Project Reference Item List'!$B$2:$C$1000,2,FALSE)","v":{"$error":"#N/A"}},null,null,null,null,null,null,null,null,null,null,{"$f":"VLOOKUP(B4302,'(1) Project Reference Item List'!$B$2:$D$1000,3,FALSE)","v":{"$error":"#N/A"}},null,null,0,0]
[{"$f":"VLOOKUP(B4303,'(1) Project Reference Item List'!$B$2:$C$1000,2,FALSE)","v":{"$error":"#N/A"}},null,null,null,null,null,null,null,null,null,null,{"$f":"VLOOKUP(B4303,'(1) Project Reference Item List'!$B$2:$D$1000,3,FALSE)","v":{"$error":"#N/A"}},null,null,0,0]
[{"$f":"VLOOKUP(B4304,'(1) Project Reference Item List'!$B$2:$C$1000,2,FALSE)","v":{"$error":"#N/A"}},null,null,null,null,null,null,null,null,null,null,{"$f":"VLOOKUP(B4304,'(1) Project Reference Item List'!$B$2:$D$1000,3,FALSE)","v":{"$error":"#N/A"}},null,null,0,0]
[{"$f":"VLOOKUP(B4305,'(1) Project Reference Item List'!$B$2:$C$1000,2,FALSE)","v":{"$error":"#N/A"}},null,null,null,null,null,null,null,null,null,null,{"$f":"VLOOKUP(B4305,'(1) Project Reference Item List'!$B$2:$D$1000,3,FALSE)","v":{"$error":"#N/A"}},null,null,0,0]
[{"$f":"VLOOKUP(B4306,'(1) Project Reference Item List'!$B$2:$C$1000,2,FALSE)","v":{"$error":"#N/A"}},null,null,null,null,null,null,null,null,null,null,{"$f":"VLOOKUP(B4306,'(1) Project Reference Item List'!$B$2:$D$1000,3,FALSE)","v":{"$error":"#N/A"}},null,null,0,0]
[{"$f":"VLOOKUP(B4307,'(1) Project Reference Item List'!$B$2:$C$1000,2,FALSE)","v":{"$error":"#N/A"}},null,null,null,null,null,null,null,null,null,null,{"$f":"VLOOKUP(B4307,'(1) Project Reference Item List'!$B$2:$D$1000,3,FALSE)","v":{"$error":"#N/A"}},null,null,0,0]
[{"$f":"VLOOKUP(B4308,'(1) Project Reference Item List'!$B$2:$C$1000,2,FALSE)","v":{"$error":"#N/A"}},null,null,null,null,null,null,null,null,null,null,{"$f":"VLOOKUP(B4308,'(1) Project Reference Item List'!$B$2:$D$1000,3,FALSE)","v":{"$error":"#N/A"}},null,null,0,0]
[{"$f":"VLOOKUP(B4309,'(1) Project Reference Item List'!$B$2:$C$1000,2,FALSE)","v":{"$error":"#N/A"}},null,null,null,null,null,null,null,null,null,null,{"$f":"VLOOKUP(B4309,'(1) Project Reference Item List'!$B$2:$D$1000,3,FALSE)","v":{"$error":"#N/A"}},null,null,0,0]
[{"$f":"VLOOKUP(B4310,'(1) Project Reference Item List'!$B$2:$C$1000,2,FALSE)","v":{"$error":"#N/A"}},null,null,null,null,null,null,null,null,null,null,{"$f":"VLOOKUP(B4310,'(1) Project Reference Item List'!$B$2:$D$1000,3,FALSE)","v":{"$error":"#N/A"}},null,null,0,0]
[{"$f":"VLOOKUP(B4311,'(1) Project Reference Item List'!$B$2:$C$1000,2,FALSE)","v":{"$error":"#N/A"}},null,null,null,null,null,null,null,null,null,null,{"$f":"VLOOKUP(B4311,'(1) Project Reference Item List'!$B$2:$D$1000,3,FALSE)","v":{"$error":"#N/A"}},null,null,0,0]
[{"$f":"VLOOKUP(B4312,'(1) Project Reference Item List'!$B$2:$C$1000,2,FALSE)","v":{"$error":"#N/A"}},null,null,null,null,null,null,null,null,null,null,{"$f":"VLOOKUP(B4312,'(1) Project Reference Item List'!$B$2:$D$1000,3,FALSE)","v":{"$error":"#N/A"}},null,null,0,0]
[{"$f":"VLOOKUP(B4313,'(1) Project Reference Item List'!$B$2:$C$1000,2,FALSE)","v":{"$error":"#N/A"}},null,null,null,null,null,null,null,null,null,null,{"$f":"VLOOKUP(B4313,'(1) Project Reference Item List'!$B$2:$D$1000,3,FALSE)","v":{"$error":"#N/A"}},null,null,0,0]
[{"$f":"VLOOKUP(B4314,'(1) Project Reference Item List'!$B$2:$C$1000,2,FALSE)","v":{"$error":"#N/A"}},null,null,null,null,null,null,null,null,null,null,{"$f":"VLOOKUP(B4314,'(1) Project Reference Item List'!$B$2:$D$1000,3,FALSE)","v":{"$error":"#N/A"}},null,null,0,0]
[{"$f":"VLOOKUP(B4315,'(1) Project Reference Item List'!$B$2:$C$1000,2,FALSE)","v":{"$error":"#N/A"}},null,null,null,null,null,null,null,null,null,null,{"$f":"VLOOKUP(B4315,'(1) Project Reference Item List'!$B$2:$D$1000,3,FALSE)","v":{"$error":"#N/A"}},null,null,0,0]
[{"$f":"VLOOKUP(B4316,'(1) Project Reference Item List'!$B$2:$C$1000,2,FALSE)","v":{"$error":"#N/A"}},null,null,null,null,null,null,null,null,null,null,{"$f":"VLOOKUP(B4316,'(1) Project Reference Item List'!$B$2:$D$1000,3,FALSE)","v":{"$error":"#N/A"}},null,null,0,0]
[{"$f":"VLOOKUP(B4317,'(1) Project Reference Item List'!$B$2:$C$1000,2,FALSE)","v":{"$error":"#N/A"}},null,null,null,null,null,null,null,null,null,null,{"$f":"VLOOKUP(B4317,'(1) Project Reference Item List'!$B$2:$D$1000,3,FALSE)","v":{"$error":"#N/A"}},null,null,0,0]
[{"$f":"VLOOKUP(B4318,'(1) Project Reference Item List'!$B$2:$C$1000,2,FALSE)","v":{"$error":"#N/A"}},null,null,null,null,null,null,null,null,null,null,{"$f":"VLOOKUP(B4318,'(1) Project Reference Item List'!$B$2:$D$1000,3,FALSE)","v":{"$error":"#N/A"}},null,null,0,0]
[{"$f":"VLOOKUP(B4319,'(1) Project Reference Item List'!$B$2:$C$1000,2,FALSE)","v":{"$error":"#N/A"}},null,null,null,null,null,null,null,null,null,null,{"$f":"VLOOKUP(B4319,'(1) Project Reference Item List'!$B$2:$D$1000,3,FALSE)","v":{"$error":"#N/A"}},null,null,0,0]
[{"$f":"VLOOKUP(B4320,'(1) Project Reference Item List'!$B$2:$C$1000,2,FALSE)","v":{"$error":"#N/A"}},null,null,null,null,null,null,null,null,null,null,{"$f":"VLOOKUP(B4320,'(1) Project Reference Item List'!$B$2:$D$1000,3,FALSE)","v":{"$error":"#N/A"}},null,null,0,0]
[{"$f":"VLOOKUP(B4321,'(1) Project Reference Item List'!$B$2:$C$1000,2,FALSE)","v":{"$error":"#N/A"}},null,null,null,null,null,null,null,null,null,null,{"$f":"VLOOKUP(B4321,'(1) Project Reference Item List'!$B$2:$D$1000,3,FALSE)","v":{"$error":"#N/A"}},null,null,0,0]
[{"$f":"VLOOKUP(B4322,'(1) Project Reference Item List'!$B$2:$C$1000,2,FALSE)","v":{"$error":"#N/A"}},null,null,null,null,null,null,null,null,null,null,{"$f":"VLOOKUP(B4322,'(1) Project Reference Item List'!$B$2:$D$1000,3,FALSE)","v":{"$error":"#N/A"}},null,null,0,0]
[{"$f":"VLOOKUP(B4323,'(1) Project Reference Item List'!$B$2:$C$1000,2,FALSE)","v":{"$error":"#N/A"}},null,null,null,null,null,null,null,null,null,null,{"$f":"VLOOKUP(B4323,'(1) Project Reference Item List'!$B$2:$D$1000,3,FALSE)","v":{"$error":"#N/A"}},null,null,0,0]
[{"$f":"VLOOKUP(B4324,'(1) Project Reference Item List'!$B$2:$C$1000,2,FALSE)","v":{"$error":"#N/A"}},null,null,null,null,null,null,null,null,null,null,{"$f":"VLOOKUP(B4324,'(1) Project Reference Item List'!$B$2:$D$1000,3,FALSE)","v":{"$error":"#N/A"}},null,null,0,0]
[{"$f":"VLOOKUP(B4325,'(1) Project Reference Item List'!$B$2:$C$1000,2,FALSE)","v":{"$error":"#N/A"}},null,null,null,null,null,null,null,null,null,null,{"$f":"VLOOKUP(B4325,'(1) Project Reference Item List'!$B$2:$D$1000,3,FALSE)","v":{"$error":"#N/A"}},null,null,0,0]
[{"$f":"VLOOKUP(B4326,'(1) Project Reference Item List'!$B$2:$C$1000,2,FALSE)","v":{"$error":"#N/A"}},null,null,null,null,null,null,null,null,null,null,{"$f":"VLOOKUP(B4326,'(1) Project Reference Item List'!$B$2:$D$1000,3,FALSE)","v":{"$error":"#N/A"}},null,null,0,0]
[{"$f":"VLOOKUP(B4327,'(1) Project Reference Item List'!$B$2:$C$1000,2,FALSE)","v":{"$error":"#N/A"}},null,null,null,null,null,null,null,null,null,null,{"$f":"VLOOKUP(B4327,'(1) Project Reference Item List'!$B$2:$D$1000,3,FALSE)","v":{"$error":"#N/A"}},null,null,0,0]
[{"$f":"VLOOKUP(B4328,'(1) Project Reference Item List'!$B$2:$C$1000,2,FALSE)","v":{"$error":"#N/A"}},null,null,null,null,null,null,null,null,null,null,{"$f":"VLOOKUP(B4328,'(1) Project Reference Item List'!$B$2:$D$1000,3,FALSE)","v":{"$error":"#N/A"}},null,null,0,0]
[{"$f":"VLOOKUP(B4329,'(1) Project Reference Item List'!$B$2:$C$1000,2,FALSE)","v":{"$error":"#N/A"}},null,null,null,null,null,null,null,null,null,null,{"$f":"VLOOKUP(B4329,'(1) Project Reference Item List'!$B$2:$D$1000,3,FALSE)","v":{"$error":"#N/A"}},null,null,0,0]
[{"$f":"VLOOKUP(B4330,'(1) Project Reference Item List'!$B$2:$C$1000,2,FALSE)","v":{"$error":"#N/A"}},null,null,null,null,null,null,null,null,null,null,{"$f":"VLOOKUP(B4330,'(1) Project Reference Item List'!$B$2:$D$1000,3,FALSE)","v":{"$error":"#N/A"}},null,null,0,0]
[{"$f":"VLOOKUP(B4331,'(1) Project Reference Item List'!$B$2:$C$1000,2,FALSE)","v":{"$error":"#N/A"}},null,null,null,null,null,null,null,null,null,null,{"$f":"VLOOKUP(B4331,'(1) Project Reference Item List'!$B$2:$D$1000,3,FALSE)","v":{"$error":"#N/A"}},null,null,0,0]
[{"$f":"VLOOKUP(B4332,'(1) Project Reference Item List'!$B$2:$C$1000,2,FALSE)","v":{"$error":"#N/A"}},null,null,null,null,null,null,null,null,null,null,{"$f":"VLOOKUP(B4332,'(1) Project Reference Item List'!$B$2:$D$1000,3,FALSE)","v":{"$error":"#N/A"}},null,null,0,0]
[{"$f":"VLOOKUP(B4333,'(1) Project Reference Item List'!$B$2:$C$1000,2,FALSE)","v":{"$error":"#N/A"}},null,null,null,null,null,null,null,null,null,null,{"$f":"VLOOKUP(B4333,'(1) Project Reference Item List'!$B$2:$D$1000,3,FALSE)","v":{"$error":"#N/A"}},null,null,0,0]
[{"$f":"VLOOKUP(B4334,'(1) Project Reference Item List'!$B$2:$C$1000,2,FALSE)","v":{"$error":"#N/A"}},null,null,null,null,null,null,null,null,null,null,{"$f":"VLOOKUP(B4334,'(1) Project Reference Item List'!$B$2:$D$1000,3,FALSE)","v":{"$error":"#N/A"}},null,null,0,0]
[{"$f":"VLOOKUP(B4335,'(1) Project Reference Item List'!$B$2:$C$1000,2,FALSE)","v":{"$error":"#N/A"}},null,null,null,null,null,null,null,null,null,null,{"$f":"VLOOKUP(B4335,'(1) Project Reference Item List'!$B$2:$D$1000,3,FALSE)","v":{"$error":"#N/A"}},null,null,0,0]
[{"$f":"VLOOKUP(B4336,'(1) Project Reference Item List'!$B$2:$C$1000,2,FALSE)","v":{"$error":"#N/A"}},null,null,null,null,null,null,null,null,null,null,{"$f":"VLOOKUP(B4336,'(1) Project Reference Item List'!$B$2:$D$1000,3,FALSE)","v":{"$error":"#N/A"}},null,null,0,0]
[{"$f":"VLOOKUP(B4337,'(1) Project Reference Item List'!$B$2:$C$1000,2,FALSE)","v":{"$error":"#N/A"}},null,null,null,null,null,null,null,null,null,null,{"$f":"VLOOKUP(B4337,'(1) Project Reference Item List'!$B$2:$D$1000,3,FALSE)","v":{"$error":"#N/A"}},null,null,0,0]
[{"$f":"VLOOKUP(B4338,'(1) Project Reference Item List'!$B$2:$C$1000,2,FALSE)","v":{"$error":"#N/A"}},null,null,null,null,null,null,null,null,null,null,{"$f":"VLOOKUP(B4338,'(1) Project Reference Item List'!$B$2:$D$1000,3,FALSE)","v":{"$error":"#N/A"}},null,null,0,0]
[{"$f":"VLOOKUP(B4339,'(1) Project Reference Item List'!$B$2:$C$1000,2,FALSE)","v":{"$error":"#N/A"}},null,null,null,null,null,null,null,null,null,null,{"$f":"VLOOKUP(B4339,'(1) Project Reference Item List'!$B$2:$D$1000,3,FALSE)","v":{"$error":"#N/A"}},null,null,0,0]
[{"$f":"VLOOKUP(B4340,'(1) Project Reference Item List'!$B$2:$C$1000,2,FALSE)","v":{"$error":"#N/A"}},null,null,null,null,null,null,null,null,null,null,{"$f":"VLOOKUP(B4340,'(1) Project Reference Item List'!$B$2:$D$1000,3,FALSE)","v":{"$error":"#N/A"}},null,null,0,0]
[{"$f":"VLOOKUP(B4341,'(1) Project Reference Item List'!$B$2:$C$1000,2,FALSE)","v":{"$error":"#N/A"}},null,null,null,null,null,null,null,null,null,null,{"$f":"VLOOKUP(B4341,'(1) Project Reference Item List'!$B$2:$D$1000,3,FALSE)","v":{"$error":"#N/A"}},null,null,0,0]
[{"$f":"VLOOKUP(B4342,'(1) Project Reference Item List'!$B$2:$C$1000,2,FALSE)","v":{"$error":"#N/A"}},null,null,null,null,null,null,null,null,null,null,{"$f":"VLOOKUP(B4342,'(1) Project Reference Item List'!$B$2:$D$1000,3,FALSE)","v":{"$error":"#N/A"}},null,null,0,0]
[{"$f":"VLOOKUP(B4343,'(1) Project Reference Item List'!$B$2:$C$1000,2,FALSE)","v":{"$error":"#N/A"}},null,null,null,null,null,null,null,null,null,null,{"$f":"VLOOKUP(B4343,'(1) Project Reference Item List'!$B$2:$D$1000,3,FALSE)","v":{"$error":"#N/A"}},null,null,0,0]
[{"$f":"VLOOKUP(B4344,'(1) Project Reference Item List'!$B$2:$C$1000,2,FALSE)","v":{"$error":"#N/A"}},null,null,null,null,null,null,null,null,null,null,{"$f":"VLOOKUP(B4344,'(1) Project Reference Item List'!$B$2:$D$1000,3,FALSE)","v":{"$error":"#N/A"}},null,null,0,0]
[{"$f":"VLOOKUP(B4345,'(1) Project Reference Item List'!$B$2:$C$1000,2,FALSE)","v":{"$error":"#N/A"}},null,null,null,null,null,null,null,null,null,null,{"$f":"VLOOKUP(B4345,'(1) Project Reference Item List'!$B$2:$D$1000,3,FALSE)","v":{"$error":"#N/A"}},null,null,0,0]
[{"$f":"VLOOKUP(B4346,'(1) Project Reference Item List'!$B$2:$C$1000,2,FALSE)","v":{"$error":"#N/A"}},null,null,null,null,null,null,null,null,null,null,{"$f":"VLOOKUP(B4346,'(1) Project Reference Item List'!$B$2:$D$1000,3,FALSE)","v":{"$error":"#N/A"}},null,null,0,0]
[{"$f":"VLOOKUP(B4347,'(1) Project Reference Item List'!$B$2:$C$1000,2,FALSE)","v":{"$error":"#N/A"}},null,null,null,null,null,null,null,null,null,null,{"$f":"VLOOKUP(B4347,'(1) Project Reference Item List'!$B$2:$D$1000,3,FALSE)","v":{"$error":"#N/A"}},null,null,0,0]
[{"$f":"VLOOKUP(B4348,'(1) Project Reference Item List'!$B$2:$C$1000,2,FALSE)","v":{"$error":"#N/A"}},null,null,null,null,null,null,null,null,null,null,{"$f":"VLOOKUP(B4348,'(1) Project Reference Item List'!$B$2:$D$1000,3,FALSE)","v":{"$error":"#N/A"}},null,null,0,0]
[{"$f":"VLOOKUP(B4349,'(1) Project Reference Item List'!$B$2:$C$1000,2,FALSE)","v":{"$error":"#N/A"}},null,null,null,null,null,null,null,null,null,null,{"$f":"VLOOKUP(B4349,'(1) Project Reference Item List'!$B$2:$D$1000,3,FALSE)","v":{"$error":"#N/A"}},null,null,0,0]
[{"$f":"VLOOKUP(B4350,'(1) Project Reference Item List'!$B$2:$C$1000,2,FALSE)","v":{"$error":"#N/A"}},null,null,null,null,null,null,null,null,null,null,{"$f":"VLOOKUP(B4350,'(1) Project Reference Item List'!$B$2:$D$1000,3,FALSE)","v":{"$error":"#N/A"}},null,null,0,0]
[{"$f":"VLOOKUP(B4351,'(1) Project Reference Item List'!$B$2:$C$1000,2,FALSE)","v":{"$error":"#N/A"}},null,null,null,null,null,null,null,null,null,null,{"$f":"VLOOKUP(B4351,'(1) Project Reference Item List'!$B$2:$D$1000,3,FALSE)","v":{"$error":"#N/A"}},null,null,0,0]
[{"$f":"VLOOKUP(B4352,'(1) Project Reference Item List'!$B$2:$C$1000,2,FALSE)","v":{"$error":"#N/A"}},null,null,null,null,null,null,null,null,null,null,{"$f":"VLOOKUP(B4352,'(1) Project Reference Item List'!$B$2:$D$1000,3,FALSE)","v":{"$error":"#N/A"}},null,null,0,0]
[{"$f":"VLOOKUP(B4353,'(1) Project Reference Item List'!$B$2:$C$1000,2,FALSE)","v":{"$error":"#N/A"}},null,null,null,null,null,null,null,null,null,null,{"$f":"VLOOKUP(B4353,'(1) Project Reference Item List'!$B$2:$D$1000,3,FALSE)","v":{"$error":"#N/A"}},null,null,0,0]
[{"$f":"VLOOKUP(B4354,'(1) Project Reference Item List'!$B$2:$C$1000,2,FALSE)","v":{"$error":"#N/A"}},null,null,null,null,null,null,null,null,null,null,{"$f":"VLOOKUP(B4354,'(1) Project Reference Item List'!$B$2:$D$1000,3,FALSE)","v":{"$error":"#N/A"}},null,null,0,0]
[{"$f":"VLOOKUP(B4355,'(1) Project Reference Item List'!$B$2:$C$1000,2,FALSE)","v":{"$error":"#N/A"}},null,null,null,null,null,null,null,null,null,null,{"$f":"VLOOKUP(B4355,'(1) Project Reference Item List'!$B$2:$D$1000,3,FALSE)","v":{"$error":"#N/A"}},null,null,0,0]
[{"$f":"VLOOKUP(B4356,'(1) Project Reference Item List'!$B$2:$C$1000,2,FALSE)","v":{"$error":"#N/A"}},null,null,null,null,null,null,null,null,null,null,{"$f":"VLOOKUP(B4356,'(1) Project Reference Item List'!$B$2:$D$1000,3,FALSE)","v":{"$error":"#N/A"}},null,null,0,0]
[{"$f":"VLOOKUP(B4357,'(1) Project Reference Item List'!$B$2:$C$1000,2,FALSE)","v":{"$error":"#N/A"}},null,null,null,null,null,null,null,null,null,null,{"$f":"VLOOKUP(B4357,'(1) Project Reference Item List'!$B$2:$D$1000,3,FALSE)","v":{"$error":"#N/A"}},null,null,0,0]
[{"$f":"VLOOKUP(B4358,'(1) Project Reference Item List'!$B$2:$C$1000,2,FALSE)","v":{"$error":"#N/A"}},null,null,null,null,null,null,null,null,null,null,{"$f":"VLOOKUP(B4358,'(1) Project Reference Item List'!$B$2:$D$1000,3,FALSE)","v":{"$error":"#N/A"}},null,null,{"$f":"IF(J4358=0,J4358,J4358*N4358)","v":0},{"$f":"(M4358-O4358)","v":0}]
[{"$f":"VLOOKUP(B4359,'(1) Project Reference Item List'!$B$2:$C$1000,2,FALSE)","v":{"$error":"#N/A"}},null,null,null,null,null,null,null,null,null,null,{"$f":"VLOOKUP(B4359,'(1) Project Reference Item List'!$B$2:$D$1000,3,FALSE)","v":{"$error":"#N/A"}},null,null,0,0]
[{"$f":"VLOOKUP(B4360,'(1) Project Reference Item List'!$B$2:$C$1000,2,FALSE)","v":{"$error":"#N/A"}},null,null,null,null,null,null,null,null,null,null,{"$f":"VLOOKUP(B4360,'(1) Project Reference Item List'!$B$2:$D$1000,3,FALSE)","v":{"$error":"#N/A"}},null,null,0,0]
[{"$f":"VLOOKUP(B4361,'(1) Project Reference Item List'!$B$2:$C$1000,2,FALSE)","v":{"$error":"#N/A"}},null,null,null,null,null,null,null,null,null,null,{"$f":"VLOOKUP(B4361,'(1) Project Reference Item List'!$B$2:$D$1000,3,FALSE)","v":{"$error":"#N/A"}},null,null,0,0]
[{"$f":"VLOOKUP(B4362,'(1) Project Reference Item List'!$B$2:$C$1000,2,FALSE)","v":{"$error":"#N/A"}},null,null,null,null,null,null,null,null,null,null,{"$f":"VLOOKUP(B4362,'(1) Project Reference Item List'!$B$2:$D$1000,3,FALSE)","v":{"$error":"#N/A"}},null,null,0,0]
[{"$f":"VLOOKUP(B4363,'(1) Project Reference Item List'!$B$2:$C$1000,2,FALSE)","v":{"$error":"#N/A"}},null,null,null,null,null,null,null,null,null,null,{"$f":"VLOOKUP(B4363,'(1) Project Reference Item List'!$B$2:$D$1000,3,FALSE)","v":{"$error":"#N/A"}},null,null,0,0]
[{"$f":"VLOOKUP(B4364,'(1) Project Reference Item List'!$B$2:$C$1000,2,FALSE)","v":{"$error":"#N/A"}},null,null,null,null,null,null,null,null,null,null,{"$f":"VLOOKUP(B4364,'(1) Project Reference Item List'!$B$2:$D$1000,3,FALSE)","v":{"$error":"#N/A"}},null,null,0,0]
[{"$f":"VLOOKUP(B4365,'(1) Project Reference Item List'!$B$2:$C$1000,2,FALSE)","v":{"$error":"#N/A"}},null,null,null,null,null,null,null,null,null,null,{"$f":"VLOOKUP(B4365,'(1) Project Reference Item List'!$B$2:$D$1000,3,FALSE)","v":{"$error":"#N/A"}},null,null,0,0]
[{"$f":"VLOOKUP(B4366,'(1) Project Reference Item List'!$B$2:$C$1000,2,FALSE)","v":{"$error":"#N/A"}},null,null,null,null,null,null,null,null,null,null,{"$f":"VLOOKUP(B4366,'(1) Project Reference Item List'!$B$2:$D$1000,3,FALSE)","v":{"$error":"#N/A"}},null,null,0,0]
[{"$f":"VLOOKUP(B4367,'(1) Project Reference Item List'!$B$2:$C$1000,2,FALSE)","v":{"$error":"#N/A"}},null,null,null,null,null,null,null,null,null,null,{"$f":"VLOOKUP(B4367,'(1) Project Reference Item List'!$B$2:$D$1000,3,FALSE)","v":{"$error":"#N/A"}},null,null,0,0]
[{"$f":"VLOOKUP(B4368,'(1) Project Reference Item List'!$B$2:$C$1000,2,FALSE)","v":{"$error":"#N/A"}},null,null,null,null,null,null,null,null,null,null,{"$f":"VLOOKUP(B4368,'(1) Project Reference Item List'!$B$2:$D$1000,3,FALSE)","v":{"$error":"#N/A"}},null,null,0,0]
[{"$f":"VLOOKUP(B4369,'(1) Project Reference Item List'!$B$2:$C$1000,2,FALSE)","v":{"$error":"#N/A"}},null,null,null,null,null,null,null,null,null,null,{"$f":"VLOOKUP(B4369,'(1) Project Reference Item List'!$B$2:$D$1000,3,FALSE)","v":{"$error":"#N/A"}},null,null,0,0]
[{"$f":"VLOOKUP(B4370,'(1) Project Reference Item List'!$B$2:$C$1000,2,FALSE)","v":{"$error":"#N/A"}},null,null,null,null,null,null,null,null,null,null,{"$f":"VLOOKUP(B4370,'(1) Project Reference Item List'!$B$2:$D$1000,3,FALSE)","v":{"$error":"#N/A"}},null,null,0,0]
[{"$f":"VLOOKUP(B4371,'(1) Project Reference Item List'!$B$2:$C$1000,2,FALSE)","v":{"$error":"#N/A"}},null,null,null,null,null,null,null,null,null,null,{"$f":"VLOOKUP(B4371,'(1) Project Reference Item List'!$B$2:$D$1000,3,FALSE)","v":{"$error":"#N/A"}},null,null,0,0]
[{"$f":"VLOOKUP(B4372,'(1) Project Reference Item List'!$B$2:$C$1000,2,FALSE)","v":{"$error":"#N/A"}},null,null,null,null,null,null,null,null,null,null,{"$f":"VLOOKUP(B4372,'(1) Project Reference Item List'!$B$2:$D$1000,3,FALSE)","v":{"$error":"#N/A"}},null,null,0,0]
[{"$f":"VLOOKUP(B4373,'(1) Project Reference Item List'!$B$2:$C$1000,2,FALSE)","v":{"$error":"#N/A"}},null,null,null,null,null,null,null,null,null,null,{"$f":"VLOOKUP(B4373,'(1) Project Reference Item List'!$B$2:$D$1000,3,FALSE)","v":{"$error":"#N/A"}},null,null,0,0]
[{"$f":"VLOOKUP(B4374,'(1) Project Reference Item List'!$B$2:$C$1000,2,FALSE)","v":{"$error":"#N/A"}},null,null,null,null,null,null,null,null,null,null,{"$f":"VLOOKUP(B4374,'(1) Project Reference Item List'!$B$2:$D$1000,3,FALSE)","v":{"$error":"#N/A"}},null,null,0,0]
[{"$f":"VLOOKUP(B4375,'(1) Project Reference Item List'!$B$2:$C$1000,2,FALSE)","v":{"$error":"#N/A"}},null,null,null,null,null,null,null,null,null,null,{"$f":"VLOOKUP(B4375,'(1) Project Reference Item List'!$B$2:$D$1000,3,FALSE)","v":{"$error":"#N/A"}},null,null,0,0]
[{"$f":"VLOOKUP(B4376,'(1) Project Reference Item List'!$B$2:$C$1000,2,FALSE)","v":{"$error":"#N/A"}},null,null,null,null,null,null,null,null,null,null,{"$f":"VLOOKUP(B4376,'(1) Project Reference Item List'!$B$2:$D$1000,3,FALSE)","v":{"$error":"#N/A"}},null,null,0,0]
[{"$f":"VLOOKUP(B4377,'(1) Project Reference Item List'!$B$2:$C$1000,2,FALSE)","v":{"$error":"#N/A"}},null,null,null,null,null,null,null,null,null,null,{"$f":"VLOOKUP(B4377,'(1) Project Reference Item List'!$B$2:$D$1000,3,FALSE)","v":{"$error":"#N/A"}},null,null,0,0]
[{"$f":"VLOOKUP(B4378,'(1) Project Reference Item List'!$B$2:$C$1000,2,FALSE)","v":{"$error":"#N/A"}},null,null,null,null,null,null,null,null,null,null,{"$f":"VLOOKUP(B4378,'(1) Project Reference Item List'!$B$2:$D$1000,3,FALSE)","v":{"$error":"#N/A"}},null,null,0,0]
[{"$f":"VLOOKUP(B4379,'(1) Project Reference Item List'!$B$2:$C$1000,2,FALSE)","v":{"$error":"#N/A"}},null,null,null,null,null,null,null,null,null,null,{"$f":"VLOOKUP(B4379,'(1) Project Reference Item List'!$B$2:$D$1000,3,FALSE)","v":{"$error":"#N/A"}},null,null,0,0]
[{"$f":"VLOOKUP(B4380,'(1) Project Reference Item List'!$B$2:$C$1000,2,FALSE)","v":{"$error":"#N/A"}},null,null,null,null,null,null,null,null,null,null,{"$f":"VLOOKUP(B4380,'(1) Project Reference Item List'!$B$2:$D$1000,3,FALSE)","v":{"$error":"#N/A"}},null,null,0,0]
[{"$f":"VLOOKUP(B4381,'(1) Project Reference Item List'!$B$2:$C$1000,2,FALSE)","v":{"$error":"#N/A"}},null,null,null,null,null,null,null,null,null,null,{"$f":"VLOOKUP(B4381,'(1) Project Reference Item List'!$B$2:$D$1000,3,FALSE)","v":{"$error":"#N/A"}},null,null,0,0]
[{"$f":"VLOOKUP(B4382,'(1) Project Reference Item List'!$B$2:$C$1000,2,FALSE)","v":{"$error":"#N/A"}},null,null,null,null,null,null,null,null,null,null,{"$f":"VLOOKUP(B4382,'(1) Project Reference Item List'!$B$2:$D$1000,3,FALSE)","v":{"$error":"#N/A"}},null,null,0,0]
[{"$f":"VLOOKUP(B4383,'(1) Project Reference Item List'!$B$2:$C$1000,2,FALSE)","v":{"$error":"#N/A"}},null,null,null,null,null,null,null,null,null,null,{"$f":"VLOOKUP(B4383,'(1) Project Reference Item List'!$B$2:$D$1000,3,FALSE)","v":{"$error":"#N/A"}},null,null,0,0]
[{"$f":"VLOOKUP(B4384,'(1) Project Reference Item List'!$B$2:$C$1000,2,FALSE)","v":{"$error":"#N/A"}},null,null,null,null,null,null,null,null,null,null,{"$f":"VLOOKUP(B4384,'(1) Project Reference Item List'!$B$2:$D$1000,3,FALSE)","v":{"$error":"#N/A"}},null,null,0,0]
[{"$f":"VLOOKUP(B4385,'(1) Project Reference Item List'!$B$2:$C$1000,2,FALSE)","v":{"$error":"#N/A"}},null,null,null,null,null,null,null,null,null,null,{"$f":"VLOOKUP(B4385,'(1) Project Reference Item List'!$B$2:$D$1000,3,FALSE)","v":{"$error":"#N/A"}},null,null,0,0]
[{"$f":"VLOOKUP(B4386,'(1) Project Reference Item List'!$B$2:$C$1000,2,FALSE)","v":{"$error":"#N/A"}},null,null,null,null,null,null,null,null,null,null,{"$f":"VLOOKUP(B4386,'(1) Project Reference Item List'!$B$2:$D$1000,3,FALSE)","v":{"$error":"#N/A"}},null,null,0,0]
[{"$f":"VLOOKUP(B4387,'(1) Project Reference Item List'!$B$2:$C$1000,2,FALSE)","v":{"$error":"#N/A"}},null,null,null,null,null,null,null,null,null,null,{"$f":"VLOOKUP(B4387,'(1) Project Reference Item List'!$B$2:$D$1000,3,FALSE)","v":{"$error":"#N/A"}},null,null,0,0]
[{"$f":"VLOOKUP(B4388,'(1) Project Reference Item List'!$B$2:$C$1000,2,FALSE)","v":{"$error":"#N/A"}},null,null,null,null,null,null,null,null,null,null,{"$f":"VLOOKUP(B4388,'(1) Project Reference Item List'!$B$2:$D$1000,3,FALSE)","v":{"$error":"#N/A"}},null,null,0,0]
[{"$f":"VLOOKUP(B4389,'(1) Project Reference Item List'!$B$2:$C$1000,2,FALSE)","v":{"$error":"#N/A"}},null,null,null,null,null,null,null,null,null,null,{"$f":"VLOOKUP(B4389,'(1) Project Reference Item List'!$B$2:$D$1000,3,FALSE)","v":{"$error":"#N/A"}},null,null,0,0]
[{"$f":"VLOOKUP(B4390,'(1) Project Reference Item List'!$B$2:$C$1000,2,FALSE)","v":{"$error":"#N/A"}},null,null,null,null,null,null,null,null,null,null,{"$f":"VLOOKUP(B4390,'(1) Project Reference Item List'!$B$2:$D$1000,3,FALSE)","v":{"$error":"#N/A"}},null,null,0,0]
[{"$f":"VLOOKUP(B4391,'(1) Project Reference Item List'!$B$2:$C$1000,2,FALSE)","v":{"$error":"#N/A"}},null,null,null,null,null,null,null,null,null,null,{"$f":"VLOOKUP(B4391,'(1) Project Reference Item List'!$B$2:$D$1000,3,FALSE)","v":{"$error":"#N/A"}},null,null,0,0]
[{"$f":"VLOOKUP(B4392,'(1) Project Reference Item List'!$B$2:$C$1000,2,FALSE)","v":{"$error":"#N/A"}},null,null,null,null,null,null,null,null,null,null,{"$f":"VLOOKUP(B4392,'(1) Project Reference Item List'!$B$2:$D$1000,3,FALSE)","v":{"$error":"#N/A"}},null,null,0,0]
[{"$f":"VLOOKUP(B4393,'(1) Project Reference Item List'!$B$2:$C$1000,2,FALSE)","v":{"$error":"#N/A"}},null,null,null,null,null,null,null,null,null,null,{"$f":"VLOOKUP(B4393,'(1) Project Reference Item List'!$B$2:$D$1000,3,FALSE)","v":{"$error":"#N/A"}},null,null,0,0]
[{"$f":"VLOOKUP(B4394,'(1) Project Reference Item List'!$B$2:$C$1000,2,FALSE)","v":{"$error":"#N/A"}},null,null,null,null,null,null,null,null,null,null,{"$f":"VLOOKUP(B4394,'(1) Project Reference Item List'!$B$2:$D$1000,3,FALSE)","v":{"$error":"#N/A"}},null,null,0,0]
[{"$f":"VLOOKUP(B4395,'(1) Project Reference Item List'!$B$2:$C$1000,2,FALSE)","v":{"$error":"#N/A"}},null,null,null,null,null,null,null,null,null,null,{"$f":"VLOOKUP(B4395,'(1) Project Reference Item List'!$B$2:$D$1000,3,FALSE)","v":{"$error":"#N/A"}},null,null,0,0]
[{"$f":"VLOOKUP(B4396,'(1) Project Reference Item List'!$B$2:$C$1000,2,FALSE)","v":{"$error":"#N/A"}},null,null,null,null,null,null,null,null,null,null,{"$f":"VLOOKUP(B4396,'(1) Project Reference Item List'!$B$2:$D$1000,3,FALSE)","v":{"$error":"#N/A"}},null,null,0,0]
[{"$f":"VLOOKUP(B4397,'(1) Project Reference Item List'!$B$2:$C$1000,2,FALSE)","v":{"$error":"#N/A"}},null,null,null,null,null,null,null,null,null,null,{"$f":"VLOOKUP(B4397,'(1) Project Reference Item List'!$B$2:$D$1000,3,FALSE)","v":{"$error":"#N/A"}},null,null,0,0]
[{"$f":"VLOOKUP(B4398,'(1) Project Reference Item List'!$B$2:$C$1000,2,FALSE)","v":{"$error":"#N/A"}},null,null,null,null,null,null,null,null,null,null,{"$f":"VLOOKUP(B4398,'(1) Project Reference Item List'!$B$2:$D$1000,3,FALSE)","v":{"$error":"#N/A"}},null,null,0,0]
[{"$f":"VLOOKUP(B4399,'(1) Project Reference Item List'!$B$2:$C$1000,2,FALSE)","v":{"$error":"#N/A"}},null,null,null,null,null,null,null,null,null,null,{"$f":"VLOOKUP(B4399,'(1) Project Reference Item List'!$B$2:$D$1000,3,FALSE)","v":{"$error":"#N/A"}},null,null,0,0]
[{"$f":"VLOOKUP(B4400,'(1) Project Reference Item List'!$B$2:$C$1000,2,FALSE)","v":{"$error":"#N/A"}},null,null,null,null,null,null,null,null,null,null,{"$f":"VLOOKUP(B4400,'(1) Project Reference Item List'!$B$2:$D$1000,3,FALSE)","v":{"$error":"#N/A"}},null,null,0,0]
[{"$f":"VLOOKUP(B4401,'(1) Project Reference Item List'!$B$2:$C$1000,2,FALSE)","v":{"$error":"#N/A"}},null,null,null,null,null,null,null,null,null,null,{"$f":"VLOOKUP(B4401,'(1) Project Reference Item List'!$B$2:$D$1000,3,FALSE)","v":{"$error":"#N/A"}},null,null,0,0]
[{"$f":"VLOOKUP(B4402,'(1) Project Reference Item List'!$B$2:$C$1000,2,FALSE)","v":{"$error":"#N/A"}},null,null,null,null,null,null,null,null,null,null,{"$f":"VLOOKUP(B4402,'(1) Project Reference Item List'!$B$2:$D$1000,3,FALSE)","v":{"$error":"#N/A"}},null,null,0,0]
[{"$f":"VLOOKUP(B4403,'(1) Project Reference Item List'!$B$2:$C$1000,2,FALSE)","v":{"$error":"#N/A"}},null,null,null,null,null,null,null,null,null,null,{"$f":"VLOOKUP(B4403,'(1) Project Reference Item List'!$B$2:$D$1000,3,FALSE)","v":{"$error":"#N/A"}},null,null,0,0]
[{"$f":"VLOOKUP(B4404,'(1) Project Reference Item List'!$B$2:$C$1000,2,FALSE)","v":{"$error":"#N/A"}},null,null,null,null,null,null,null,null,null,null,{"$f":"VLOOKUP(B4404,'(1) Project Reference Item List'!$B$2:$D$1000,3,FALSE)","v":{"$error":"#N/A"}},null,null,0,0]
[{"$f":"VLOOKUP(B4405,'(1) Project Reference Item List'!$B$2:$C$1000,2,FALSE)","v":{"$error":"#N/A"}},null,null,null,null,null,null,null,null,null,null,{"$f":"VLOOKUP(B4405,'(1) Project Reference Item List'!$B$2:$D$1000,3,FALSE)","v":{"$error":"#N/A"}},null,null,0,0]
[{"$f":"VLOOKUP(B4406,'(1) Project Reference Item List'!$B$2:$C$1000,2,FALSE)","v":{"$error":"#N/A"}},null,null,null,null,null,null,null,null,null,null,{"$f":"VLOOKUP(B4406,'(1) Project Reference Item List'!$B$2:$D$1000,3,FALSE)","v":{"$error":"#N/A"}},null,null,0,0]
[{"$f":"VLOOKUP(B4407,'(1) Project Reference Item List'!$B$2:$C$1000,2,FALSE)","v":{"$error":"#N/A"}},null,null,null,null,null,null,null,null,null,null,{"$f":"VLOOKUP(B4407,'(1) Project Reference Item List'!$B$2:$D$1000,3,FALSE)","v":{"$error":"#N/A"}},null,null,0,0]
[{"$f":"VLOOKUP(B4408,'(1) Project Reference Item List'!$B$2:$C$1000,2,FALSE)","v":{"$error":"#N/A"}},null,null,null,null,null,null,null,null,null,null,{"$f":"VLOOKUP(B4408,'(1) Project Reference Item List'!$B$2:$D$1000,3,FALSE)","v":{"$error":"#N/A"}},null,null,0,0]
[{"$f":"VLOOKUP(B4409,'(1) Project Reference Item List'!$B$2:$C$1000,2,FALSE)","v":{"$error":"#N/A"}},null,null,null,null,null,null,null,null,null,null,{"$f":"VLOOKUP(B4409,'(1) Project Reference Item List'!$B$2:$D$1000,3,FALSE)","v":{"$error":"#N/A"}},null,null,0,0]
[{"$f":"VLOOKUP(B4410,'(1) Project Reference Item List'!$B$2:$C$1000,2,FALSE)","v":{"$error":"#N/A"}},null,null,null,null,null,null,null,null,null,null,{"$f":"VLOOKUP(B4410,'(1) Project Reference Item List'!$B$2:$D$1000,3,FALSE)","v":{"$error":"#N/A"}},null,null,0,0]
[{"$f":"VLOOKUP(B4411,'(1) Project Reference Item List'!$B$2:$C$1000,2,FALSE)","v":{"$error":"#N/A"}},null,null,null,null,null,null,null,null,null,null,{"$f":"VLOOKUP(B4411,'(1) Project Reference Item List'!$B$2:$D$1000,3,FALSE)","v":{"$error":"#N/A"}},null,null,0,0]
[{"$f":"VLOOKUP(B4412,'(1) Project Reference Item List'!$B$2:$C$1000,2,FALSE)","v":{"$error":"#N/A"}},null,null,null,null,null,null,null,null,null,null,{"$f":"VLOOKUP(B4412,'(1) Project Reference Item List'!$B$2:$D$1000,3,FALSE)","v":{"$error":"#N/A"}},null,null,0,0]
[{"$f":"VLOOKUP(B4413,'(1) Project Reference Item List'!$B$2:$C$1000,2,FALSE)","v":{"$error":"#N/A"}},null,null,null,null,null,null,null,null,null,null,{"$f":"VLOOKUP(B4413,'(1) Project Reference Item List'!$B$2:$D$1000,3,FALSE)","v":{"$error":"#N/A"}},null,null,0,0]
[{"$f":"VLOOKUP(B4414,'(1) Project Reference Item List'!$B$2:$C$1000,2,FALSE)","v":{"$error":"#N/A"}},null,null,null,null,null,null,null,null,null,null,{"$f":"VLOOKUP(B4414,'(1) Project Reference Item List'!$B$2:$D$1000,3,FALSE)","v":{"$error":"#N/A"}},null,null,0,0]
[{"$f":"VLOOKUP(B4415,'(1) Project Reference Item List'!$B$2:$C$1000,2,FALSE)","v":{"$error":"#N/A"}},null,null,null,null,null,null,null,null,null,null,{"$f":"VLOOKUP(B4415,'(1) Project Reference Item List'!$B$2:$D$1000,3,FALSE)","v":{"$error":"#N/A"}},null,null,0,0]
[{"$f":"VLOOKUP(B4416,'(1) Project Reference Item List'!$B$2:$C$1000,2,FALSE)","v":{"$error":"#N/A"}},null,null,null,null,null,null,null,null,null,null,{"$f":"VLOOKUP(B4416,'(1) Project Reference Item List'!$B$2:$D$1000,3,FALSE)","v":{"$error":"#N/A"}},null,null,0,0]
[{"$f":"VLOOKUP(B4417,'(1) Project Reference Item List'!$B$2:$C$1000,2,FALSE)","v":{"$error":"#N/A"}},null,null,null,null,null,null,null,null,null,null,{"$f":"VLOOKUP(B4417,'(1) Project Reference Item List'!$B$2:$D$1000,3,FALSE)","v":{"$error":"#N/A"}},null,null,0,0]
[{"$f":"VLOOKUP(B4418,'(1) Project Reference Item List'!$B$2:$C$1000,2,FALSE)","v":{"$error":"#N/A"}},null,null,null,null,null,null,null,null,null,null,{"$f":"VLOOKUP(B4418,'(1) Project Reference Item List'!$B$2:$D$1000,3,FALSE)","v":{"$error":"#N/A"}},null,null,0,0]
[{"$f":"VLOOKUP(B4419,'(1) Project Reference Item List'!$B$2:$C$1000,2,FALSE)","v":{"$error":"#N/A"}},null,null,null,null,null,null,null,null,null,null,{"$f":"VLOOKUP(B4419,'(1) Project Reference Item List'!$B$2:$D$1000,3,FALSE)","v":{"$error":"#N/A"}},null,null,0,0]
[{"$f":"VLOOKUP(B4420,'(1) Project Reference Item List'!$B$2:$C$1000,2,FALSE)","v":{"$error":"#N/A"}},null,null,null,null,null,null,null,null,null,null,{"$f":"VLOOKUP(B4420,'(1) Project Reference Item List'!$B$2:$D$1000,3,FALSE)","v":{"$error":"#N/A"}},null,null,0,0]
[{"$f":"VLOOKUP(B4421,'(1) Project Reference Item List'!$B$2:$C$1000,2,FALSE)","v":{"$error":"#N/A"}},null,null,null,null,null,null,null,null,null,null,{"$f":"VLOOKUP(B4421,'(1) Project Reference Item List'!$B$2:$D$1000,3,FALSE)","v":{"$error":"#N/A"}},null,null,0,0]
[{"$f":"VLOOKUP(B4422,'(1) Project Reference Item List'!$B$2:$C$1000,2,FALSE)","v":{"$error":"#N/A"}},null,null,null,null,null,null,null,null,null,null,{"$f":"VLOOKUP(B4422,'(1) Project Reference Item List'!$B$2:$D$1000,3,FALSE)","v":{"$error":"#N/A"}},null,null,{"$f":"IF(J4422=0,J4422,J4422*N4422)","v":0},{"$f":"(M4422-O4422)","v":0}]
[{"$f":"VLOOKUP(B4423,'(1) Project Reference Item List'!$B$2:$C$1000,2,FALSE)","v":{"$error":"#N/A"}},null,null,null,null,null,null,null,null,null,null,{"$f":"VLOOKUP(B4423,'(1) Project Reference Item List'!$B$2:$D$1000,3,FALSE)","v":{"$error":"#N/A"}},null,null,0,0]
[{"$f":"VLOOKUP(B4424,'(1) Project Reference Item List'!$B$2:$C$1000,2,FALSE)","v":{"$error":"#N/A"}},null,null,null,null,null,null,null,null,null,null,{"$f":"VLOOKUP(B4424,'(1) Project Reference Item List'!$B$2:$D$1000,3,FALSE)","v":{"$error":"#N/A"}},null,null,0,0]
[{"$f":"VLOOKUP(B4425,'(1) Project Reference Item List'!$B$2:$C$1000,2,FALSE)","v":{"$error":"#N/A"}},null,null,null,null,null,null,null,null,null,null,{"$f":"VLOOKUP(B4425,'(1) Project Reference Item List'!$B$2:$D$1000,3,FALSE)","v":{"$error":"#N/A"}},null,null,0,0]
[{"$f":"VLOOKUP(B4426,'(1) Project Reference Item List'!$B$2:$C$1000,2,FALSE)","v":{"$error":"#N/A"}},null,null,null,null,null,null,null,null,null,null,{"$f":"VLOOKUP(B4426,'(1) Project Reference Item List'!$B$2:$D$1000,3,FALSE)","v":{"$error":"#N/A"}},null,null,0,0]
[{"$f":"VLOOKUP(B4427,'(1) Project Reference Item List'!$B$2:$C$1000,2,FALSE)","v":{"$error":"#N/A"}},null,null,null,null,null,null,null,null,null,null,{"$f":"VLOOKUP(B4427,'(1) Project Reference Item List'!$B$2:$D$1000,3,FALSE)","v":{"$error":"#N/A"}},null,null,0,0]
[{"$f":"VLOOKUP(B4428,'(1) Project Reference Item List'!$B$2:$C$1000,2,FALSE)","v":{"$error":"#N/A"}},null,null,null,null,null,null,null,null,null,null,{"$f":"VLOOKUP(B4428,'(1) Project Reference Item List'!$B$2:$D$1000,3,FALSE)","v":{"$error":"#N/A"}},null,null,0,0]
[{"$f":"VLOOKUP(B4429,'(1) Project Reference Item List'!$B$2:$C$1000,2,FALSE)","v":{"$error":"#N/A"}},null,null,null,null,null,null,null,null,null,null,{"$f":"VLOOKUP(B4429,'(1) Project Reference Item List'!$B$2:$D$1000,3,FALSE)","v":{"$error":"#N/A"}},null,null,0,0]
[{"$f":"VLOOKUP(B4430,'(1) Project Reference Item List'!$B$2:$C$1000,2,FALSE)","v":{"$error":"#N/A"}},null,null,null,null,null,null,null,null,null,null,{"$f":"VLOOKUP(B4430,'(1) Project Reference Item List'!$B$2:$D$1000,3,FALSE)","v":{"$error":"#N/A"}},null,null,0,0]
[{"$f":"VLOOKUP(B4431,'(1) Project Reference Item List'!$B$2:$C$1000,2,FALSE)","v":{"$error":"#N/A"}},null,null,null,null,null,null,null,null,null,null,{"$f":"VLOOKUP(B4431,'(1) Project Reference Item List'!$B$2:$D$1000,3,FALSE)","v":{"$error":"#N/A"}},null,null,0,0]
[{"$f":"VLOOKUP(B4432,'(1) Project Reference Item List'!$B$2:$C$1000,2,FALSE)","v":{"$error":"#N/A"}},null,null,null,null,null,null,null,null,null,null,{"$f":"VLOOKUP(B4432,'(1) Project Reference Item List'!$B$2:$D$1000,3,FALSE)","v":{"$error":"#N/A"}},null,null,0,0]
[{"$f":"VLOOKUP(B4433,'(1) Project Reference Item List'!$B$2:$C$1000,2,FALSE)","v":{"$error":"#N/A"}},null,null,null,null,null,null,null,null,null,null,{"$f":"VLOOKUP(B4433,'(1) Project Reference Item List'!$B$2:$D$1000,3,FALSE)","v":{"$error":"#N/A"}},null,null,0,0]
[{"$f":"VLOOKUP(B4434,'(1) Project Reference Item List'!$B$2:$C$1000,2,FALSE)","v":{"$error":"#N/A"}},null,null,null,null,null,null,null,null,null,null,{"$f":"VLOOKUP(B4434,'(1) Project Reference Item List'!$B$2:$D$1000,3,FALSE)","v":{"$error":"#N/A"}},null,null,0,0]
[{"$f":"VLOOKUP(B4435,'(1) Project Reference Item List'!$B$2:$C$1000,2,FALSE)","v":{"$error":"#N/A"}},null,null,null,null,null,null,null,null,null,null,{"$f":"VLOOKUP(B4435,'(1) Project Reference Item List'!$B$2:$D$1000,3,FALSE)","v":{"$error":"#N/A"}},null,null,0,0]
[{"$f":"VLOOKUP(B4436,'(1) Project Reference Item List'!$B$2:$C$1000,2,FALSE)","v":{"$error":"#N/A"}},null,null,null,null,null,null,null,null,null,null,{"$f":"VLOOKUP(B4436,'(1) Project Reference Item List'!$B$2:$D$1000,3,FALSE)","v":{"$error":"#N/A"}},null,null,0,0]
[{"$f":"VLOOKUP(B4437,'(1) Project Reference Item List'!$B$2:$C$1000,2,FALSE)","v":{"$error":"#N/A"}},null,null,null,null,null,null,null,null,null,null,{"$f":"VLOOKUP(B4437,'(1) Project Reference Item List'!$B$2:$D$1000,3,FALSE)","v":{"$error":"#N/A"}},null,null,0,0]
[{"$f":"VLOOKUP(B4438,'(1) Project Reference Item List'!$B$2:$C$1000,2,FALSE)","v":{"$error":"#N/A"}},null,null,null,null,null,null,null,null,null,null,{"$f":"VLOOKUP(B4438,'(1) Project Reference Item List'!$B$2:$D$1000,3,FALSE)","v":{"$error":"#N/A"}},null,null,0,0]
[{"$f":"VLOOKUP(B4439,'(1) Project Reference Item List'!$B$2:$C$1000,2,FALSE)","v":{"$error":"#N/A"}},null,null,null,null,null,null,null,null,null,null,{"$f":"VLOOKUP(B4439,'(1) Project Reference Item List'!$B$2:$D$1000,3,FALSE)","v":{"$error":"#N/A"}},null,null,0,0]
[{"$f":"VLOOKUP(B4440,'(1) Project Reference Item List'!$B$2:$C$1000,2,FALSE)","v":{"$error":"#N/A"}},null,null,null,null,null,null,null,null,null,null,{"$f":"VLOOKUP(B4440,'(1) Project Reference Item List'!$B$2:$D$1000,3,FALSE)","v":{"$error":"#N/A"}},null,null,0,0]
[{"$f":"VLOOKUP(B4441,'(1) Project Reference Item List'!$B$2:$C$1000,2,FALSE)","v":{"$error":"#N/A"}},null,null,null,null,null,null,null,null,null,null,{"$f":"VLOOKUP(B4441,'(1) Project Reference Item List'!$B$2:$D$1000,3,FALSE)","v":{"$error":"#N/A"}},null,null,0,0]
[{"$f":"VLOOKUP(B4442,'(1) Project Reference Item List'!$B$2:$C$1000,2,FALSE)","v":{"$error":"#N/A"}},null,null,null,null,null,null,null,null,null,null,{"$f":"VLOOKUP(B4442,'(1) Project Reference Item List'!$B$2:$D$1000,3,FALSE)","v":{"$error":"#N/A"}},null,null,0,0]
[{"$f":"VLOOKUP(B4443,'(1) Project Reference Item List'!$B$2:$C$1000,2,FALSE)","v":{"$error":"#N/A"}},null,null,null,null,null,null,null,null,null,null,{"$f":"VLOOKUP(B4443,'(1) Project Reference Item List'!$B$2:$D$1000,3,FALSE)","v":{"$error":"#N/A"}},null,null,0,0]
[{"$f":"VLOOKUP(B4444,'(1) Project Reference Item List'!$B$2:$C$1000,2,FALSE)","v":{"$error":"#N/A"}},null,null,null,null,null,null,null,null,null,null,{"$f":"VLOOKUP(B4444,'(1) Project Reference Item List'!$B$2:$D$1000,3,FALSE)","v":{"$error":"#N/A"}},null,null,0,0]
[{"$f":"VLOOKUP(B4445,'(1) Project Reference Item List'!$B$2:$C$1000,2,FALSE)","v":{"$error":"#N/A"}},null,null,null,null,null,null,null,null,null,null,{"$f":"VLOOKUP(B4445,'(1) Project Reference Item List'!$B$2:$D$1000,3,FALSE)","v":{"$error":"#N/A"}},null,null,0,0]
[{"$f":"VLOOKUP(B4446,'(1) Project Reference Item List'!$B$2:$C$1000,2,FALSE)","v":{"$error":"#N/A"}},null,null,null,null,null,null,null,null,null,null,{"$f":"VLOOKUP(B4446,'(1) Project Reference Item List'!$B$2:$D$1000,3,FALSE)","v":{"$error":"#N/A"}},null,null,0,0]
[{"$f":"VLOOKUP(B4447,'(1) Project Reference Item List'!$B$2:$C$1000,2,FALSE)","v":{"$error":"#N/A"}},null,null,null,null,null,null,null,null,null,null,{"$f":"VLOOKUP(B4447,'(1) Project Reference Item List'!$B$2:$D$1000,3,FALSE)","v":{"$error":"#N/A"}},null,null,0,0]
[{"$f":"VLOOKUP(B4448,'(1) Project Reference Item List'!$B$2:$C$1000,2,FALSE)","v":{"$error":"#N/A"}},null,null,null,null,null,null,null,null,null,null,{"$f":"VLOOKUP(B4448,'(1) Project Reference Item List'!$B$2:$D$1000,3,FALSE)","v":{"$error":"#N/A"}},null,null,0,0]
[{"$f":"VLOOKUP(B4449,'(1) Project Reference Item List'!$B$2:$C$1000,2,FALSE)","v":{"$error":"#N/A"}},null,null,null,null,null,null,null,null,null,null,{"$f":"VLOOKUP(B4449,'(1) Project Reference Item List'!$B$2:$D$1000,3,FALSE)","v":{"$error":"#N/A"}},null,null,0,0]
[{"$f":"VLOOKUP(B4450,'(1) Project Reference Item List'!$B$2:$C$1000,2,FALSE)","v":{"$error":"#N/A"}},null,null,null,null,null,null,null,null,null,null,{"$f":"VLOOKUP(B4450,'(1) Project Reference Item List'!$B$2:$D$1000,3,FALSE)","v":{"$error":"#N/A"}},null,null,0,0]
[{"$f":"VLOOKUP(B4451,'(1) Project Reference Item List'!$B$2:$C$1000,2,FALSE)","v":{"$error":"#N/A"}},null,null,null,null,null,null,null,null,null,null,{"$f":"VLOOKUP(B4451,'(1) Project Reference Item List'!$B$2:$D$1000,3,FALSE)","v":{"$error":"#N/A"}},null,null,0,0]
[{"$f":"VLOOKUP(B4452,'(1) Project Reference Item List'!$B$2:$C$1000,2,FALSE)","v":{"$error":"#N/A"}},null,null,null,null,null,null,null,null,null,null,{"$f":"VLOOKUP(B4452,'(1) Project Reference Item List'!$B$2:$D$1000,3,FALSE)","v":{"$error":"#N/A"}},null,null,0,0]
[{"$f":"VLOOKUP(B4453,'(1) Project Reference Item List'!$B$2:$C$1000,2,FALSE)","v":{"$error":"#N/A"}},null,null,null,null,null,null,null,null,null,null,{"$f":"VLOOKUP(B4453,'(1) Project Reference Item List'!$B$2:$D$1000,3,FALSE)","v":{"$error":"#N/A"}},null,null,0,0]
[{"$f":"VLOOKUP(B4454,'(1) Project Reference Item List'!$B$2:$C$1000,2,FALSE)","v":{"$error":"#N/A"}},null,null,null,null,null,null,null,null,null,null,{"$f":"VLOOKUP(B4454,'(1) Project Reference Item List'!$B$2:$D$1000,3,FALSE)","v":{"$error":"#N/A"}},null,null,0,0]
[{"$f":"VLOOKUP(B4455,'(1) Project Reference Item List'!$B$2:$C$1000,2,FALSE)","v":{"$error":"#N/A"}},null,null,null,null,null,null,null,null,null,null,{"$f":"VLOOKUP(B4455,'(1) Project Reference Item List'!$B$2:$D$1000,3,FALSE)","v":{"$error":"#N/A"}},null,null,0,0]
[{"$f":"VLOOKUP(B4456,'(1) Project Reference Item List'!$B$2:$C$1000,2,FALSE)","v":{"$error":"#N/A"}},null,null,null,null,null,null,null,null,null,null,{"$f":"VLOOKUP(B4456,'(1) Project Reference Item List'!$B$2:$D$1000,3,FALSE)","v":{"$error":"#N/A"}},null,null,0,0]
[{"$f":"VLOOKUP(B4457,'(1) Project Reference Item List'!$B$2:$C$1000,2,FALSE)","v":{"$error":"#N/A"}},null,null,null,null,null,null,null,null,null,null,{"$f":"VLOOKUP(B4457,'(1) Project Reference Item List'!$B$2:$D$1000,3,FALSE)","v":{"$error":"#N/A"}},null,null,0,0]
[{"$f":"VLOOKUP(B4458,'(1) Project Reference Item List'!$B$2:$C$1000,2,FALSE)","v":{"$error":"#N/A"}},null,null,null,null,null,null,null,null,null,null,{"$f":"VLOOKUP(B4458,'(1) Project Reference Item List'!$B$2:$D$1000,3,FALSE)","v":{"$error":"#N/A"}},null,null,0,0]
[{"$f":"VLOOKUP(B4459,'(1) Project Reference Item List'!$B$2:$C$1000,2,FALSE)","v":{"$error":"#N/A"}},null,null,null,null,null,null,null,null,null,null,{"$f":"VLOOKUP(B4459,'(1) Project Reference Item List'!$B$2:$D$1000,3,FALSE)","v":{"$error":"#N/A"}},null,null,0,0]
[{"$f":"VLOOKUP(B4460,'(1) Project Reference Item List'!$B$2:$C$1000,2,FALSE)","v":{"$error":"#N/A"}},null,null,null,null,null,null,null,null,null,null,{"$f":"VLOOKUP(B4460,'(1) Project Reference Item List'!$B$2:$D$1000,3,FALSE)","v":{"$error":"#N/A"}},null,null,0,0]
[{"$f":"VLOOKUP(B4461,'(1) Project Reference Item List'!$B$2:$C$1000,2,FALSE)","v":{"$error":"#N/A"}},null,null,null,null,null,null,null,null,null,null,{"$f":"VLOOKUP(B4461,'(1) Project Reference Item List'!$B$2:$D$1000,3,FALSE)","v":{"$error":"#N/A"}},null,null,0,0]
[{"$f":"VLOOKUP(B4462,'(1) Project Reference Item List'!$B$2:$C$1000,2,FALSE)","v":{"$error":"#N/A"}},null,null,null,null,null,null,null,null,null,null,{"$f":"VLOOKUP(B4462,'(1) Project Reference Item List'!$B$2:$D$1000,3,FALSE)","v":{"$error":"#N/A"}},null,null,0,0]
[{"$f":"VLOOKUP(B4463,'(1) Project Reference Item List'!$B$2:$C$1000,2,FALSE)","v":{"$error":"#N/A"}},null,null,null,null,null,null,null,null,null,null,{"$f":"VLOOKUP(B4463,'(1) Project Reference Item List'!$B$2:$D$1000,3,FALSE)","v":{"$error":"#N/A"}},null,null,0,0]
[{"$f":"VLOOKUP(B4464,'(1) Project Reference Item List'!$B$2:$C$1000,2,FALSE)","v":{"$error":"#N/A"}},null,null,null,null,null,null,null,null,null,null,{"$f":"VLOOKUP(B4464,'(1) Project Reference Item List'!$B$2:$D$1000,3,FALSE)","v":{"$error":"#N/A"}},null,null,0,0]
[{"$f":"VLOOKUP(B4465,'(1) Project Reference Item List'!$B$2:$C$1000,2,FALSE)","v":{"$error":"#N/A"}},null,null,null,null,null,null,null,null,null,null,{"$f":"VLOOKUP(B4465,'(1) Project Reference Item List'!$B$2:$D$1000,3,FALSE)","v":{"$error":"#N/A"}},null,null,0,0]
[{"$f":"VLOOKUP(B4466,'(1) Project Reference Item List'!$B$2:$C$1000,2,FALSE)","v":{"$error":"#N/A"}},null,null,null,null,null,null,null,null,null,null,{"$f":"VLOOKUP(B4466,'(1) Project Reference Item List'!$B$2:$D$1000,3,FALSE)","v":{"$error":"#N/A"}},null,null,0,0]
[{"$f":"VLOOKUP(B4467,'(1) Project Reference Item List'!$B$2:$C$1000,2,FALSE)","v":{"$error":"#N/A"}},null,null,null,null,null,null,null,null,null,null,{"$f":"VLOOKUP(B4467,'(1) Project Reference Item List'!$B$2:$D$1000,3,FALSE)","v":{"$error":"#N/A"}},null,null,0,0]
[{"$f":"VLOOKUP(B4468,'(1) Project Reference Item List'!$B$2:$C$1000,2,FALSE)","v":{"$error":"#N/A"}},null,null,null,null,null,null,null,null,null,null,{"$f":"VLOOKUP(B4468,'(1) Project Reference Item List'!$B$2:$D$1000,3,FALSE)","v":{"$error":"#N/A"}},null,null,0,0]
[{"$f":"VLOOKUP(B4469,'(1) Project Reference Item List'!$B$2:$C$1000,2,FALSE)","v":{"$error":"#N/A"}},null,null,null,null,null,null,null,null,null,null,{"$f":"VLOOKUP(B4469,'(1) Project Reference Item List'!$B$2:$D$1000,3,FALSE)","v":{"$error":"#N/A"}},null,null,0,0]
[{"$f":"VLOOKUP(B4470,'(1) Project Reference Item List'!$B$2:$C$1000,2,FALSE)","v":{"$error":"#N/A"}},null,null,null,null,null,null,null,null,null,null,{"$f":"VLOOKUP(B4470,'(1) Project Reference Item List'!$B$2:$D$1000,3,FALSE)","v":{"$error":"#N/A"}},null,null,0,0]
[{"$f":"VLOOKUP(B4471,'(1) Project Reference Item List'!$B$2:$C$1000,2,FALSE)","v":{"$error":"#N/A"}},null,null,null,null,null,null,null,null,null,null,{"$f":"VLOOKUP(B4471,'(1) Project Reference Item List'!$B$2:$D$1000,3,FALSE)","v":{"$error":"#N/A"}},null,null,0,0]
[{"$f":"VLOOKUP(B4472,'(1) Project Reference Item List'!$B$2:$C$1000,2,FALSE)","v":{"$error":"#N/A"}},null,null,null,null,null,null,null,null,null,null,{"$f":"VLOOKUP(B4472,'(1) Project Reference Item List'!$B$2:$D$1000,3,FALSE)","v":{"$error":"#N/A"}},null,null,0,0]
[{"$f":"VLOOKUP(B4473,'(1) Project Reference Item List'!$B$2:$C$1000,2,FALSE)","v":{"$error":"#N/A"}},null,null,null,null,null,null,null,null,null,null,{"$f":"VLOOKUP(B4473,'(1) Project Reference Item List'!$B$2:$D$1000,3,FALSE)","v":{"$error":"#N/A"}},null,null,0,0]
[{"$f":"VLOOKUP(B4474,'(1) Project Reference Item List'!$B$2:$C$1000,2,FALSE)","v":{"$error":"#N/A"}},null,null,null,null,null,null,null,null,null,null,{"$f":"VLOOKUP(B4474,'(1) Project Reference Item List'!$B$2:$D$1000,3,FALSE)","v":{"$error":"#N/A"}},null,null,0,0]
[{"$f":"VLOOKUP(B4475,'(1) Project Reference Item List'!$B$2:$C$1000,2,FALSE)","v":{"$error":"#N/A"}},null,null,null,null,null,null,null,null,null,null,{"$f":"VLOOKUP(B4475,'(1) Project Reference Item List'!$B$2:$D$1000,3,FALSE)","v":{"$error":"#N/A"}},null,null,0,0]
[{"$f":"VLOOKUP(B4476,'(1) Project Reference Item List'!$B$2:$C$1000,2,FALSE)","v":{"$error":"#N/A"}},null,null,null,null,null,null,null,null,null,null,{"$f":"VLOOKUP(B4476,'(1) Project Reference Item List'!$B$2:$D$1000,3,FALSE)","v":{"$error":"#N/A"}},null,null,0,0]
[{"$f":"VLOOKUP(B4477,'(1) Project Reference Item List'!$B$2:$C$1000,2,FALSE)","v":{"$error":"#N/A"}},null,null,null,null,null,null,null,null,null,null,{"$f":"VLOOKUP(B4477,'(1) Project Reference Item List'!$B$2:$D$1000,3,FALSE)","v":{"$error":"#N/A"}},null,null,0,0]
[{"$f":"VLOOKUP(B4478,'(1) Project Reference Item List'!$B$2:$C$1000,2,FALSE)","v":{"$error":"#N/A"}},null,null,null,null,null,null,null,null,null,null,{"$f":"VLOOKUP(B4478,'(1) Project Reference Item List'!$B$2:$D$1000,3,FALSE)","v":{"$error":"#N/A"}},null,null,0,0]
[{"$f":"VLOOKUP(B4479,'(1) Project Reference Item List'!$B$2:$C$1000,2,FALSE)","v":{"$error":"#N/A"}},null,null,null,null,null,null,null,null,null,null,{"$f":"VLOOKUP(B4479,'(1) Project Reference Item List'!$B$2:$D$1000,3,FALSE)","v":{"$error":"#N/A"}},null,null,0,0]
[{"$f":"VLOOKUP(B4480,'(1) Project Reference Item List'!$B$2:$C$1000,2,FALSE)","v":{"$error":"#N/A"}},null,null,null,null,null,null,null,null,null,null,{"$f":"VLOOKUP(B4480,'(1) Project Reference Item List'!$B$2:$D$1000,3,FALSE)","v":{"$error":"#N/A"}},null,null,0,0]
[{"$f":"VLOOKUP(B4481,'(1) Project Reference Item List'!$B$2:$C$1000,2,FALSE)","v":{"$error":"#N/A"}},null,null,null,null,null,null,null,null,null,null,{"$f":"VLOOKUP(B4481,'(1) Project Reference Item List'!$B$2:$D$1000,3,FALSE)","v":{"$error":"#N/A"}},null,null,0,0]
[{"$f":"VLOOKUP(B4482,'(1) Project Reference Item List'!$B$2:$C$1000,2,FALSE)","v":{"$error":"#N/A"}},null,null,null,null,null,null,null,null,null,null,{"$f":"VLOOKUP(B4482,'(1) Project Reference Item List'!$B$2:$D$1000,3,FALSE)","v":{"$error":"#N/A"}},null,null,0,0]
[{"$f":"VLOOKUP(B4483,'(1) Project Reference Item List'!$B$2:$C$1000,2,FALSE)","v":{"$error":"#N/A"}},null,null,null,null,null,null,null,null,null,null,{"$f":"VLOOKUP(B4483,'(1) Project Reference Item List'!$B$2:$D$1000,3,FALSE)","v":{"$error":"#N/A"}},null,null,0,0]
[{"$f":"VLOOKUP(B4484,'(1) Project Reference Item List'!$B$2:$C$1000,2,FALSE)","v":{"$error":"#N/A"}},null,null,null,null,null,null,null,null,null,null,{"$f":"VLOOKUP(B4484,'(1) Project Reference Item List'!$B$2:$D$1000,3,FALSE)","v":{"$error":"#N/A"}},null,null,0,0]
[{"$f":"VLOOKUP(B4485,'(1) Project Reference Item List'!$B$2:$C$1000,2,FALSE)","v":{"$error":"#N/A"}},null,null,null,null,null,null,null,null,null,null,{"$f":"VLOOKUP(B4485,'(1) Project Reference Item List'!$B$2:$D$1000,3,FALSE)","v":{"$error":"#N/A"}},null,null,0,0]
[{"$f":"VLOOKUP(B4486,'(1) Project Reference Item List'!$B$2:$C$1000,2,FALSE)","v":{"$error":"#N/A"}},null,null,null,null,null,null,null,null,null,null,{"$f":"VLOOKUP(B4486,'(1) Project Reference Item List'!$B$2:$D$1000,3,FALSE)","v":{"$error":"#N/A"}},null,null,{"$f":"IF(J4486=0,J4486,J4486*N4486)","v":0},{"$f":"(M4486-O4486)","v":0}]
[{"$f":"VLOOKUP(B4487,'(1) Project Reference Item List'!$B$2:$C$1000,2,FALSE)","v":{"$error":"#N/A"}},null,null,null,null,null,null,null,null,null,null,{"$f":"VLOOKUP(B4487,'(1) Project Reference Item List'!$B$2:$D$1000,3,FALSE)","v":{"$error":"#N/A"}},null,null,0,0]
[{"$f":"VLOOKUP(B4488,'(1) Project Reference Item List'!$B$2:$C$1000,2,FALSE)","v":{"$error":"#N/A"}},null,null,null,null,null,null,null,null,null,null,{"$f":"VLOOKUP(B4488,'(1) Project Reference Item List'!$B$2:$D$1000,3,FALSE)","v":{"$error":"#N/A"}},null,null,0,0]
[{"$f":"VLOOKUP(B4489,'(1) Project Reference Item List'!$B$2:$C$1000,2,FALSE)","v":{"$error":"#N/A"}},null,null,null,null,null,null,null,null,null,null,{"$f":"VLOOKUP(B4489,'(1) Project Reference Item List'!$B$2:$D$1000,3,FALSE)","v":{"$error":"#N/A"}},null,null,0,0]
[{"$f":"VLOOKUP(B4490,'(1) Project Reference Item List'!$B$2:$C$1000,2,FALSE)","v":{"$error":"#N/A"}},null,null,null,null,null,null,null,null,null,null,{"$f":"VLOOKUP(B4490,'(1) Project Reference Item List'!$B$2:$D$1000,3,FALSE)","v":{"$error":"#N/A"}},null,null,0,0]
[{"$f":"VLOOKUP(B4491,'(1) Project Reference Item List'!$B$2:$C$1000,2,FALSE)","v":{"$error":"#N/A"}},null,null,null,null,null,null,null,null,null,null,{"$f":"VLOOKUP(B4491,'(1) Project Reference Item List'!$B$2:$D$1000,3,FALSE)","v":{"$error":"#N/A"}},null,null,0,0]
[{"$f":"VLOOKUP(B4492,'(1) Project Reference Item List'!$B$2:$C$1000,2,FALSE)","v":{"$error":"#N/A"}},null,null,null,null,null,null,null,null,null,null,{"$f":"VLOOKUP(B4492,'(1) Project Reference Item List'!$B$2:$D$1000,3,FALSE)","v":{"$error":"#N/A"}},null,null,0,0]
[{"$f":"VLOOKUP(B4493,'(1) Project Reference Item List'!$B$2:$C$1000,2,FALSE)","v":{"$error":"#N/A"}},null,null,null,null,null,null,null,null,null,null,{"$f":"VLOOKUP(B4493,'(1) Project Reference Item List'!$B$2:$D$1000,3,FALSE)","v":{"$error":"#N/A"}},null,null,0,0]
[{"$f":"VLOOKUP(B4494,'(1) Project Reference Item List'!$B$2:$C$1000,2,FALSE)","v":{"$error":"#N/A"}},null,null,null,null,null,null,null,null,null,null,{"$f":"VLOOKUP(B4494,'(1) Project Reference Item List'!$B$2:$D$1000,3,FALSE)","v":{"$error":"#N/A"}},null,null,0,0]
[{"$f":"VLOOKUP(B4495,'(1) Project Reference Item List'!$B$2:$C$1000,2,FALSE)","v":{"$error":"#N/A"}},null,null,null,null,null,null,null,null,null,null,{"$f":"VLOOKUP(B4495,'(1) Project Reference Item List'!$B$2:$D$1000,3,FALSE)","v":{"$error":"#N/A"}},null,null,0,0]
[{"$f":"VLOOKUP(B4496,'(1) Project Reference Item List'!$B$2:$C$1000,2,FALSE)","v":{"$error":"#N/A"}},null,null,null,null,null,null,null,null,null,null,{"$f":"VLOOKUP(B4496,'(1) Project Reference Item List'!$B$2:$D$1000,3,FALSE)","v":{"$error":"#N/A"}},null,null,0,0]
[{"$f":"VLOOKUP(B4497,'(1) Project Reference Item List'!$B$2:$C$1000,2,FALSE)","v":{"$error":"#N/A"}},null,null,null,null,null,null,null,null,null,null,{"$f":"VLOOKUP(B4497,'(1) Project Reference Item List'!$B$2:$D$1000,3,FALSE)","v":{"$error":"#N/A"}},null,null,0,0]
[{"$f":"VLOOKUP(B4498,'(1) Project Reference Item List'!$B$2:$C$1000,2,FALSE)","v":{"$error":"#N/A"}},null,null,null,null,null,null,null,null,null,null,{"$f":"VLOOKUP(B4498,'(1) Project Reference Item List'!$B$2:$D$1000,3,FALSE)","v":{"$error":"#N/A"}},null,null,0,0]
[{"$f":"VLOOKUP(B4499,'(1) Project Reference Item List'!$B$2:$C$1000,2,FALSE)","v":{"$error":"#N/A"}},null,null,null,null,null,null,null,null,null,null,{"$f":"VLOOKUP(B4499,'(1) Project Reference Item List'!$B$2:$D$1000,3,FALSE)","v":{"$error":"#N/A"}},null,null,0,0]
[{"$f":"VLOOKUP(B4500,'(1) Project Reference Item List'!$B$2:$C$1000,2,FALSE)","v":{"$error":"#N/A"}},null,null,null,null,null,null,null,null,null,null,{"$f":"VLOOKUP(B4500,'(1) Project Reference Item List'!$B$2:$D$1000,3,FALSE)","v":{"$error":"#N/A"}},null,null,0,0]
[{"$f":"VLOOKUP(B4501,'(1) Project Reference Item List'!$B$2:$C$1000,2,FALSE)","v":{"$error":"#N/A"}},null,null,null,null,null,null,null,null,null,null,{"$f":"VLOOKUP(B4501,'(1) Project Reference Item List'!$B$2:$D$1000,3,FALSE)","v":{"$error":"#N/A"}},null,null,0,0]
[{"$f":"VLOOKUP(B4502,'(1) Project Reference Item List'!$B$2:$C$1000,2,FALSE)","v":{"$error":"#N/A"}},null,null,null,null,null,null,null,null,null,null,{"$f":"VLOOKUP(B4502,'(1) Project Reference Item List'!$B$2:$D$1000,3,FALSE)","v":{"$error":"#N/A"}},null,null,0,0]
[{"$f":"VLOOKUP(B4503,'(1) Project Reference Item List'!$B$2:$C$1000,2,FALSE)","v":{"$error":"#N/A"}},null,null,null,null,null,null,null,null,null,null,{"$f":"VLOOKUP(B4503,'(1) Project Reference Item List'!$B$2:$D$1000,3,FALSE)","v":{"$error":"#N/A"}},null,null,0,0]
[{"$f":"VLOOKUP(B4504,'(1) Project Reference Item List'!$B$2:$C$1000,2,FALSE)","v":{"$error":"#N/A"}},null,null,null,null,null,null,null,null,null,null,{"$f":"VLOOKUP(B4504,'(1) Project Reference Item List'!$B$2:$D$1000,3,FALSE)","v":{"$error":"#N/A"}},null,null,0,0]
[{"$f":"VLOOKUP(B4505,'(1) Project Reference Item List'!$B$2:$C$1000,2,FALSE)","v":{"$error":"#N/A"}},null,null,null,null,null,null,null,null,null,null,{"$f":"VLOOKUP(B4505,'(1) Project Reference Item List'!$B$2:$D$1000,3,FALSE)","v":{"$error":"#N/A"}},null,null,0,0]
[{"$f":"VLOOKUP(B4506,'(1) Project Reference Item List'!$B$2:$C$1000,2,FALSE)","v":{"$error":"#N/A"}},null,null,null,null,null,null,null,null,null,null,{"$f":"VLOOKUP(B4506,'(1) Project Reference Item List'!$B$2:$D$1000,3,FALSE)","v":{"$error":"#N/A"}},null,null,0,0]
[{"$f":"VLOOKUP(B4507,'(1) Project Reference Item List'!$B$2:$C$1000,2,FALSE)","v":{"$error":"#N/A"}},null,null,null,null,null,null,null,null,null,null,{"$f":"VLOOKUP(B4507,'(1) Project Reference Item List'!$B$2:$D$1000,3,FALSE)","v":{"$error":"#N/A"}},null,null,0,0]
[{"$f":"VLOOKUP(B4508,'(1) Project Reference Item List'!$B$2:$C$1000,2,FALSE)","v":{"$error":"#N/A"}},null,null,null,null,null,null,null,null,null,null,{"$f":"VLOOKUP(B4508,'(1) Project Reference Item List'!$B$2:$D$1000,3,FALSE)","v":{"$error":"#N/A"}},null,null,0,0]
[{"$f":"VLOOKUP(B4509,'(1) Project Reference Item List'!$B$2:$C$1000,2,FALSE)","v":{"$error":"#N/A"}},null,null,null,null,null,null,null,null,null,null,{"$f":"VLOOKUP(B4509,'(1) Project Reference Item List'!$B$2:$D$1000,3,FALSE)","v":{"$error":"#N/A"}},null,null,0,0]
[{"$f":"VLOOKUP(B4510,'(1) Project Reference Item List'!$B$2:$C$1000,2,FALSE)","v":{"$error":"#N/A"}},null,null,null,null,null,null,null,null,null,null,{"$f":"VLOOKUP(B4510,'(1) Project Reference Item List'!$B$2:$D$1000,3,FALSE)","v":{"$error":"#N/A"}},null,null,0,0]
[{"$f":"VLOOKUP(B4511,'(1) Project Reference Item List'!$B$2:$C$1000,2,FALSE)","v":{"$error":"#N/A"}},null,null,null,null,null,null,null,null,null,null,{"$f":"VLOOKUP(B4511,'(1) Project Reference Item List'!$B$2:$D$1000,3,FALSE)","v":{"$error":"#N/A"}},null,null,0,0]
[{"$f":"VLOOKUP(B4512,'(1) Project Reference Item List'!$B$2:$C$1000,2,FALSE)","v":{"$error":"#N/A"}},null,null,null,null,null,null,null,null,null,null,{"$f":"VLOOKUP(B4512,'(1) Project Reference Item List'!$B$2:$D$1000,3,FALSE)","v":{"$error":"#N/A"}},null,null,0,0]
[{"$f":"VLOOKUP(B4513,'(1) Project Reference Item List'!$B$2:$C$1000,2,FALSE)","v":{"$error":"#N/A"}},null,null,null,null,null,null,null,null,null,null,{"$f":"VLOOKUP(B4513,'(1) Project Reference Item List'!$B$2:$D$1000,3,FALSE)","v":{"$error":"#N/A"}},null,null,0,0]
[{"$f":"VLOOKUP(B4514,'(1) Project Reference Item List'!$B$2:$C$1000,2,FALSE)","v":{"$error":"#N/A"}},null,null,null,null,null,null,null,null,null,null,{"$f":"VLOOKUP(B4514,'(1) Project Reference Item List'!$B$2:$D$1000,3,FALSE)","v":{"$error":"#N/A"}},null,null,0,0]
[{"$f":"VLOOKUP(B4515,'(1) Project Reference Item List'!$B$2:$C$1000,2,FALSE)","v":{"$error":"#N/A"}},null,null,null,null,null,null,null,null,null,null,{"$f":"VLOOKUP(B4515,'(1) Project Reference Item List'!$B$2:$D$1000,3,FALSE)","v":{"$error":"#N/A"}},null,null,0,0]
[{"$f":"VLOOKUP(B4516,'(1) Project Reference Item List'!$B$2:$C$1000,2,FALSE)","v":{"$error":"#N/A"}},null,null,null,null,null,null,null,null,null,null,{"$f":"VLOOKUP(B4516,'(1) Project Reference Item List'!$B$2:$D$1000,3,FALSE)","v":{"$error":"#N/A"}},null,null,0,0]
[{"$f":"VLOOKUP(B4517,'(1) Project Reference Item List'!$B$2:$C$1000,2,FALSE)","v":{"$error":"#N/A"}},null,null,null,null,null,null,null,null,null,null,{"$f":"VLOOKUP(B4517,'(1) Project Reference Item List'!$B$2:$D$1000,3,FALSE)","v":{"$error":"#N/A"}},null,null,0,0]
[{"$f":"VLOOKUP(B4518,'(1) Project Reference Item List'!$B$2:$C$1000,2,FALSE)","v":{"$error":"#N/A"}},null,null,null,null,null,null,null,null,null,null,{"$f":"VLOOKUP(B4518,'(1) Project Reference Item List'!$B$2:$D$1000,3,FALSE)","v":{"$error":"#N/A"}},null,null,0,0]
[{"$f":"VLOOKUP(B4519,'(1) Project Reference Item List'!$B$2:$C$1000,2,FALSE)","v":{"$error":"#N/A"}},null,null,null,null,null,null,null,null,null,null,{"$f":"VLOOKUP(B4519,'(1) Project Reference Item List'!$B$2:$D$1000,3,FALSE)","v":{"$error":"#N/A"}},null,null,0,0]
[{"$f":"VLOOKUP(B4520,'(1) Project Reference Item List'!$B$2:$C$1000,2,FALSE)","v":{"$error":"#N/A"}},null,null,null,null,null,null,null,null,null,null,{"$f":"VLOOKUP(B4520,'(1) Project Reference Item List'!$B$2:$D$1000,3,FALSE)","v":{"$error":"#N/A"}},null,null,0,0]
[{"$f":"VLOOKUP(B4521,'(1) Project Reference Item List'!$B$2:$C$1000,2,FALSE)","v":{"$error":"#N/A"}},null,null,null,null,null,null,null,null,null,null,{"$f":"VLOOKUP(B4521,'(1) Project Reference Item List'!$B$2:$D$1000,3,FALSE)","v":{"$error":"#N/A"}},null,null,0,0]
[{"$f":"VLOOKUP(B4522,'(1) Project Reference Item List'!$B$2:$C$1000,2,FALSE)","v":{"$error":"#N/A"}},null,null,null,null,null,null,null,null,null,null,{"$f":"VLOOKUP(B4522,'(1) Project Reference Item List'!$B$2:$D$1000,3,FALSE)","v":{"$error":"#N/A"}},null,null,0,0]
[{"$f":"VLOOKUP(B4523,'(1) Project Reference Item List'!$B$2:$C$1000,2,FALSE)","v":{"$error":"#N/A"}},null,null,null,null,null,null,null,null,null,null,{"$f":"VLOOKUP(B4523,'(1) Project Reference Item List'!$B$2:$D$1000,3,FALSE)","v":{"$error":"#N/A"}},null,null,0,0]
[{"$f":"VLOOKUP(B4524,'(1) Project Reference Item List'!$B$2:$C$1000,2,FALSE)","v":{"$error":"#N/A"}},null,null,null,null,null,null,null,null,null,null,{"$f":"VLOOKUP(B4524,'(1) Project Reference Item List'!$B$2:$D$1000,3,FALSE)","v":{"$error":"#N/A"}},null,null,0,0]
[{"$f":"VLOOKUP(B4525,'(1) Project Reference Item List'!$B$2:$C$1000,2,FALSE)","v":{"$error":"#N/A"}},null,null,null,null,null,null,null,null,null,null,{"$f":"VLOOKUP(B4525,'(1) Project Reference Item List'!$B$2:$D$1000,3,FALSE)","v":{"$error":"#N/A"}},null,null,0,0]
[{"$f":"VLOOKUP(B4526,'(1) Project Reference Item List'!$B$2:$C$1000,2,FALSE)","v":{"$error":"#N/A"}},null,null,null,null,null,null,null,null,null,null,{"$f":"VLOOKUP(B4526,'(1) Project Reference Item List'!$B$2:$D$1000,3,FALSE)","v":{"$error":"#N/A"}},null,null,0,0]
[{"$f":"VLOOKUP(B4527,'(1) Project Reference Item List'!$B$2:$C$1000,2,FALSE)","v":{"$error":"#N/A"}},null,null,null,null,null,null,null,null,null,null,{"$f":"VLOOKUP(B4527,'(1) Project Reference Item List'!$B$2:$D$1000,3,FALSE)","v":{"$error":"#N/A"}},null,null,0,0]
[{"$f":"VLOOKUP(B4528,'(1) Project Reference Item List'!$B$2:$C$1000,2,FALSE)","v":{"$error":"#N/A"}},null,null,null,null,null,null,null,null,null,null,{"$f":"VLOOKUP(B4528,'(1) Project Reference Item List'!$B$2:$D$1000,3,FALSE)","v":{"$error":"#N/A"}},null,null,0,0]
[{"$f":"VLOOKUP(B4529,'(1) Project Reference Item List'!$B$2:$C$1000,2,FALSE)","v":{"$error":"#N/A"}},null,null,null,null,null,null,null,null,null,null,{"$f":"VLOOKUP(B4529,'(1) Project Reference Item List'!$B$2:$D$1000,3,FALSE)","v":{"$error":"#N/A"}},null,null,0,0]
[{"$f":"VLOOKUP(B4530,'(1) Project Reference Item List'!$B$2:$C$1000,2,FALSE)","v":{"$error":"#N/A"}},null,null,null,null,null,null,null,null,null,null,{"$f":"VLOOKUP(B4530,'(1) Project Reference Item List'!$B$2:$D$1000,3,FALSE)","v":{"$error":"#N/A"}},null,null,0,0]
[{"$f":"VLOOKUP(B4531,'(1) Project Reference Item List'!$B$2:$C$1000,2,FALSE)","v":{"$error":"#N/A"}},null,null,null,null,null,null,null,null,null,null,{"$f":"VLOOKUP(B4531,'(1) Project Reference Item List'!$B$2:$D$1000,3,FALSE)","v":{"$error":"#N/A"}},null,null,0,0]
[{"$f":"VLOOKUP(B4532,'(1) Project Reference Item List'!$B$2:$C$1000,2,FALSE)","v":{"$error":"#N/A"}},null,null,null,null,null,null,null,null,null,null,{"$f":"VLOOKUP(B4532,'(1) Project Reference Item List'!$B$2:$D$1000,3,FALSE)","v":{"$error":"#N/A"}},null,null,0,0]
[{"$f":"VLOOKUP(B4533,'(1) Project Reference Item List'!$B$2:$C$1000,2,FALSE)","v":{"$error":"#N/A"}},null,null,null,null,null,null,null,null,null,null,{"$f":"VLOOKUP(B4533,'(1) Project Reference Item List'!$B$2:$D$1000,3,FALSE)","v":{"$error":"#N/A"}},null,null,0,0]
[{"$f":"VLOOKUP(B4534,'(1) Project Reference Item List'!$B$2:$C$1000,2,FALSE)","v":{"$error":"#N/A"}},null,null,null,null,null,null,null,null,null,null,{"$f":"VLOOKUP(B4534,'(1) Project Reference Item List'!$B$2:$D$1000,3,FALSE)","v":{"$error":"#N/A"}},null,null,0,0]
[{"$f":"VLOOKUP(B4535,'(1) Project Reference Item List'!$B$2:$C$1000,2,FALSE)","v":{"$error":"#N/A"}},null,null,null,null,null,null,null,null,null,null,{"$f":"VLOOKUP(B4535,'(1) Project Reference Item List'!$B$2:$D$1000,3,FALSE)","v":{"$error":"#N/A"}},null,null,0,0]
[{"$f":"VLOOKUP(B4536,'(1) Project Reference Item List'!$B$2:$C$1000,2,FALSE)","v":{"$error":"#N/A"}},null,null,null,null,null,null,null,null,null,null,{"$f":"VLOOKUP(B4536,'(1) Project Reference Item List'!$B$2:$D$1000,3,FALSE)","v":{"$error":"#N/A"}},null,null,0,0]
[{"$f":"VLOOKUP(B4537,'(1) Project Reference Item List'!$B$2:$C$1000,2,FALSE)","v":{"$error":"#N/A"}},null,null,null,null,null,null,null,null,null,null,{"$f":"VLOOKUP(B4537,'(1) Project Reference Item List'!$B$2:$D$1000,3,FALSE)","v":{"$error":"#N/A"}},null,null,0,0]
[{"$f":"VLOOKUP(B4538,'(1) Project Reference Item List'!$B$2:$C$1000,2,FALSE)","v":{"$error":"#N/A"}},null,null,null,null,null,null,null,null,null,null,{"$f":"VLOOKUP(B4538,'(1) Project Reference Item List'!$B$2:$D$1000,3,FALSE)","v":{"$error":"#N/A"}},null,null,0,0]
[{"$f":"VLOOKUP(B4539,'(1) Project Reference Item List'!$B$2:$C$1000,2,FALSE)","v":{"$error":"#N/A"}},null,null,null,null,null,null,null,null,null,null,{"$f":"VLOOKUP(B4539,'(1) Project Reference Item List'!$B$2:$D$1000,3,FALSE)","v":{"$error":"#N/A"}},null,null,0,0]
[{"$f":"VLOOKUP(B4540,'(1) Project Reference Item List'!$B$2:$C$1000,2,FALSE)","v":{"$error":"#N/A"}},null,null,null,null,null,null,null,null,null,null,{"$f":"VLOOKUP(B4540,'(1) Project Reference Item List'!$B$2:$D$1000,3,FALSE)","v":{"$error":"#N/A"}},null,null,0,0]
[{"$f":"VLOOKUP(B4541,'(1) Project Reference Item List'!$B$2:$C$1000,2,FALSE)","v":{"$error":"#N/A"}},null,null,null,null,null,null,null,null,null,null,{"$f":"VLOOKUP(B4541,'(1) Project Reference Item List'!$B$2:$D$1000,3,FALSE)","v":{"$error":"#N/A"}},null,null,0,0]
[{"$f":"VLOOKUP(B4542,'(1) Project Reference Item List'!$B$2:$C$1000,2,FALSE)","v":{"$error":"#N/A"}},null,null,null,null,null,null,null,null,null,null,{"$f":"VLOOKUP(B4542,'(1) Project Reference Item List'!$B$2:$D$1000,3,FALSE)","v":{"$error":"#N/A"}},null,null,0,0]
[{"$f":"VLOOKUP(B4543,'(1) Project Reference Item List'!$B$2:$C$1000,2,FALSE)","v":{"$error":"#N/A"}},null,null,null,null,null,null,null,null,null,null,{"$f":"VLOOKUP(B4543,'(1) Project Reference Item List'!$B$2:$D$1000,3,FALSE)","v":{"$error":"#N/A"}},null,null,0,0]
[{"$f":"VLOOKUP(B4544,'(1) Project Reference Item List'!$B$2:$C$1000,2,FALSE)","v":{"$error":"#N/A"}},null,null,null,null,null,null,null,null,null,null,{"$f":"VLOOKUP(B4544,'(1) Project Reference Item List'!$B$2:$D$1000,3,FALSE)","v":{"$error":"#N/A"}},null,null,0,0]
[{"$f":"VLOOKUP(B4545,'(1) Project Reference Item List'!$B$2:$C$1000,2,FALSE)","v":{"$error":"#N/A"}},null,null,null,null,null,null,null,null,null,null,{"$f":"VLOOKUP(B4545,'(1) Project Reference Item List'!$B$2:$D$1000,3,FALSE)","v":{"$error":"#N/A"}},null,null,0,0]
[{"$f":"VLOOKUP(B4546,'(1) Project Reference Item List'!$B$2:$C$1000,2,FALSE)","v":{"$error":"#N/A"}},null,null,null,null,null,null,null,null,null,null,{"$f":"VLOOKUP(B4546,'(1) Project Reference Item List'!$B$2:$D$1000,3,FALSE)","v":{"$error":"#N/A"}},null,null,0,0]
[{"$f":"VLOOKUP(B4547,'(1) Project Reference Item List'!$B$2:$C$1000,2,FALSE)","v":{"$error":"#N/A"}},null,null,null,null,null,null,null,null,null,null,{"$f":"VLOOKUP(B4547,'(1) Project Reference Item List'!$B$2:$D$1000,3,FALSE)","v":{"$error":"#N/A"}},null,null,0,0]
[{"$f":"VLOOKUP(B4548,'(1) Project Reference Item List'!$B$2:$C$1000,2,FALSE)","v":{"$error":"#N/A"}},null,null,null,null,null,null,null,null,null,null,{"$f":"VLOOKUP(B4548,'(1) Project Reference Item List'!$B$2:$D$1000,3,FALSE)","v":{"$error":"#N/A"}},null,null,0,0]
[{"$f":"VLOOKUP(B4549,'(1) Project Reference Item List'!$B$2:$C$1000,2,FALSE)","v":{"$error":"#N/A"}},null,null,null,null,null,null,null,null,null,null,{"$f":"VLOOKUP(B4549,'(1) Project Reference Item List'!$B$2:$D$1000,3,FALSE)","v":{"$error":"#N/A"}},null,null,0,0]
[{"$f":"VLOOKUP(B4550,'(1) Project Reference Item List'!$B$2:$C$1000,2,FALSE)","v":{"$error":"#N/A"}},null,null,null,null,null,null,null,null,null,null,{"$f":"VLOOKUP(B4550,'(1) Project Reference Item List'!$B$2:$D$1000,3,FALSE)","v":{"$error":"#N/A"}},null,null,{"$f":"IF(J4550=0,J4550,J4550*N4550)","v":0},{"$f":"(M4550-O4550)","v":0}]
[{"$f":"VLOOKUP(B4551,'(1) Project Reference Item List'!$B$2:$C$1000,2,FALSE)","v":{"$error":"#N/A"}},null,null,null,null,null,null,null,null,null,null,{"$f":"VLOOKUP(B4551,'(1) Project Reference Item List'!$B$2:$D$1000,3,FALSE)","v":{"$error":"#N/A"}},null,null,0,0]
[{"$f":"VLOOKUP(B4552,'(1) Project Reference Item List'!$B$2:$C$1000,2,FALSE)","v":{"$error":"#N/A"}},null,null,null,null,null,null,null,null,null,null,{"$f":"VLOOKUP(B4552,'(1) Project Reference Item List'!$B$2:$D$1000,3,FALSE)","v":{"$error":"#N/A"}},null,null,0,0]
[{"$f":"VLOOKUP(B4553,'(1) Project Reference Item List'!$B$2:$C$1000,2,FALSE)","v":{"$error":"#N/A"}},null,null,null,null,null,null,null,null,null,null,{"$f":"VLOOKUP(B4553,'(1) Project Reference Item List'!$B$2:$D$1000,3,FALSE)","v":{"$error":"#N/A"}},null,null,0,0]
[{"$f":"VLOOKUP(B4554,'(1) Project Reference Item List'!$B$2:$C$1000,2,FALSE)","v":{"$error":"#N/A"}},null,null,null,null,null,null,null,null,null,null,{"$f":"VLOOKUP(B4554,'(1) Project Reference Item List'!$B$2:$D$1000,3,FALSE)","v":{"$error":"#N/A"}},null,null,0,0]
[{"$f":"VLOOKUP(B4555,'(1) Project Reference Item List'!$B$2:$C$1000,2,FALSE)","v":{"$error":"#N/A"}},null,null,null,null,null,null,null,null,null,null,{"$f":"VLOOKUP(B4555,'(1) Project Reference Item List'!$B$2:$D$1000,3,FALSE)","v":{"$error":"#N/A"}},null,null,0,0]
[{"$f":"VLOOKUP(B4556,'(1) Project Reference Item List'!$B$2:$C$1000,2,FALSE)","v":{"$error":"#N/A"}},null,null,null,null,null,null,null,null,null,null,{"$f":"VLOOKUP(B4556,'(1) Project Reference Item List'!$B$2:$D$1000,3,FALSE)","v":{"$error":"#N/A"}},null,null,0,0]
[{"$f":"VLOOKUP(B4557,'(1) Project Reference Item List'!$B$2:$C$1000,2,FALSE)","v":{"$error":"#N/A"}},null,null,null,null,null,null,null,null,null,null,{"$f":"VLOOKUP(B4557,'(1) Project Reference Item List'!$B$2:$D$1000,3,FALSE)","v":{"$error":"#N/A"}},null,null,0,0]
[{"$f":"VLOOKUP(B4558,'(1) Project Reference Item List'!$B$2:$C$1000,2,FALSE)","v":{"$error":"#N/A"}},null,null,null,null,null,null,null,null,null,null,{"$f":"VLOOKUP(B4558,'(1) Project Reference Item List'!$B$2:$D$1000,3,FALSE)","v":{"$error":"#N/A"}},null,null,0,0]
[{"$f":"VLOOKUP(B4559,'(1) Project Reference Item List'!$B$2:$C$1000,2,FALSE)","v":{"$error":"#N/A"}},null,null,null,null,null,null,null,null,null,null,{"$f":"VLOOKUP(B4559,'(1) Project Reference Item List'!$B$2:$D$1000,3,FALSE)","v":{"$error":"#N/A"}},null,null,0,0]
[{"$f":"VLOOKUP(B4560,'(1) Project Reference Item List'!$B$2:$C$1000,2,FALSE)","v":{"$error":"#N/A"}},null,null,null,null,null,null,null,null,null,null,{"$f":"VLOOKUP(B4560,'(1) Project Reference Item List'!$B$2:$D$1000,3,FALSE)","v":{"$error":"#N/A"}},null,null,0,0]
[{"$f":"VLOOKUP(B4561,'(1) Project Reference Item List'!$B$2:$C$1000,2,FALSE)","v":{"$error":"#N/A"}},null,null,null,null,null,null,null,null,null,null,{"$f":"VLOOKUP(B4561,'(1) Project Reference Item List'!$B$2:$D$1000,3,FALSE)","v":{"$error":"#N/A"}},null,null,0,0]
[{"$f":"VLOOKUP(B4562,'(1) Project Reference Item List'!$B$2:$C$1000,2,FALSE)","v":{"$error":"#N/A"}},null,null,null,null,null,null,null,null,null,null,{"$f":"VLOOKUP(B4562,'(1) Project Reference Item List'!$B$2:$D$1000,3,FALSE)","v":{"$error":"#N/A"}},null,null,0,0]
[{"$f":"VLOOKUP(B4563,'(1) Project Reference Item List'!$B$2:$C$1000,2,FALSE)","v":{"$error":"#N/A"}},null,null,null,null,null,null,null,null,null,null,{"$f":"VLOOKUP(B4563,'(1) Project Reference Item List'!$B$2:$D$1000,3,FALSE)","v":{"$error":"#N/A"}},null,null,0,0]
[{"$f":"VLOOKUP(B4564,'(1) Project Reference Item List'!$B$2:$C$1000,2,FALSE)","v":{"$error":"#N/A"}},null,null,null,null,null,null,null,null,null,null,{"$f":"VLOOKUP(B4564,'(1) Project Reference Item List'!$B$2:$D$1000,3,FALSE)","v":{"$error":"#N/A"}},null,null,0,0]
[{"$f":"VLOOKUP(B4565,'(1) Project Reference Item List'!$B$2:$C$1000,2,FALSE)","v":{"$error":"#N/A"}},null,null,null,null,null,null,null,null,null,null,{"$f":"VLOOKUP(B4565,'(1) Project Reference Item List'!$B$2:$D$1000,3,FALSE)","v":{"$error":"#N/A"}},null,null,0,0]
[{"$f":"VLOOKUP(B4566,'(1) Project Reference Item List'!$B$2:$C$1000,2,FALSE)","v":{"$error":"#N/A"}},null,null,null,null,null,null,null,null,null,null,{"$f":"VLOOKUP(B4566,'(1) Project Reference Item List'!$B$2:$D$1000,3,FALSE)","v":{"$error":"#N/A"}},null,null,0,0]
[{"$f":"VLOOKUP(B4567,'(1) Project Reference Item List'!$B$2:$C$1000,2,FALSE)","v":{"$error":"#N/A"}},null,null,null,null,null,null,null,null,null,null,{"$f":"VLOOKUP(B4567,'(1) Project Reference Item List'!$B$2:$D$1000,3,FALSE)","v":{"$error":"#N/A"}},null,null,0,0]
[{"$f":"VLOOKUP(B4568,'(1) Project Reference Item List'!$B$2:$C$1000,2,FALSE)","v":{"$error":"#N/A"}},null,null,null,null,null,null,null,null,null,null,{"$f":"VLOOKUP(B4568,'(1) Project Reference Item List'!$B$2:$D$1000,3,FALSE)","v":{"$error":"#N/A"}},null,null,0,0]
[{"$f":"VLOOKUP(B4569,'(1) Project Reference Item List'!$B$2:$C$1000,2,FALSE)","v":{"$error":"#N/A"}},null,null,null,null,null,null,null,null,null,null,{"$f":"VLOOKUP(B4569,'(1) Project Reference Item List'!$B$2:$D$1000,3,FALSE)","v":{"$error":"#N/A"}},null,null,0,0]
[{"$f":"VLOOKUP(B4570,'(1) Project Reference Item List'!$B$2:$C$1000,2,FALSE)","v":{"$error":"#N/A"}},null,null,null,null,null,null,null,null,null,null,{"$f":"VLOOKUP(B4570,'(1) Project Reference Item List'!$B$2:$D$1000,3,FALSE)","v":{"$error":"#N/A"}},null,null,0,0]
[{"$f":"VLOOKUP(B4571,'(1) Project Reference Item List'!$B$2:$C$1000,2,FALSE)","v":{"$error":"#N/A"}},null,null,null,null,null,null,null,null,null,null,{"$f":"VLOOKUP(B4571,'(1) Project Reference Item List'!$B$2:$D$1000,3,FALSE)","v":{"$error":"#N/A"}},null,null,0,0]
[{"$f":"VLOOKUP(B4572,'(1) Project Reference Item List'!$B$2:$C$1000,2,FALSE)","v":{"$error":"#N/A"}},null,null,null,null,null,null,null,null,null,null,{"$f":"VLOOKUP(B4572,'(1) Project Reference Item List'!$B$2:$D$1000,3,FALSE)","v":{"$error":"#N/A"}},null,null,0,0]
[{"$f":"VLOOKUP(B4573,'(1) Project Reference Item List'!$B$2:$C$1000,2,FALSE)","v":{"$error":"#N/A"}},null,null,null,null,null,null,null,null,null,null,{"$f":"VLOOKUP(B4573,'(1) Project Reference Item List'!$B$2:$D$1000,3,FALSE)","v":{"$error":"#N/A"}},null,null,0,0]
[{"$f":"VLOOKUP(B4574,'(1) Project Reference Item List'!$B$2:$C$1000,2,FALSE)","v":{"$error":"#N/A"}},null,null,null,null,null,null,null,null,null,null,{"$f":"VLOOKUP(B4574,'(1) Project Reference Item List'!$B$2:$D$1000,3,FALSE)","v":{"$error":"#N/A"}},null,null,0,0]
[{"$f":"VLOOKUP(B4575,'(1) Project Reference Item List'!$B$2:$C$1000,2,FALSE)","v":{"$error":"#N/A"}},null,null,null,null,null,null,null,null,null,null,{"$f":"VLOOKUP(B4575,'(1) Project Reference Item List'!$B$2:$D$1000,3,FALSE)","v":{"$error":"#N/A"}},null,null,0,0]
[{"$f":"VLOOKUP(B4576,'(1) Project Reference Item List'!$B$2:$C$1000,2,FALSE)","v":{"$error":"#N/A"}},null,null,null,null,null,null,null,null,null,null,{"$f":"VLOOKUP(B4576,'(1) Project Reference Item List'!$B$2:$D$1000,3,FALSE)","v":{"$error":"#N/A"}},null,null,0,0]
[{"$f":"VLOOKUP(B4577,'(1) Project Reference Item List'!$B$2:$C$1000,2,FALSE)","v":{"$error":"#N/A"}},null,null,null,null,null,null,null,null,null,null,{"$f":"VLOOKUP(B4577,'(1) Project Reference Item List'!$B$2:$D$1000,3,FALSE)","v":{"$error":"#N/A"}},null,null,0,0]
[{"$f":"VLOOKUP(B4578,'(1) Project Reference Item List'!$B$2:$C$1000,2,FALSE)","v":{"$error":"#N/A"}},null,null,null,null,null,null,null,null,null,null,{"$f":"VLOOKUP(B4578,'(1) Project Reference Item List'!$B$2:$D$1000,3,FALSE)","v":{"$error":"#N/A"}},null,null,0,0]
[{"$f":"VLOOKUP(B4579,'(1) Project Reference Item List'!$B$2:$C$1000,2,FALSE)","v":{"$error":"#N/A"}},null,null,null,null,null,null,null,null,null,null,{"$f":"VLOOKUP(B4579,'(1) Project Reference Item List'!$B$2:$D$1000,3,FALSE)","v":{"$error":"#N/A"}},null,null,0,0]
[{"$f":"VLOOKUP(B4580,'(1) Project Reference Item List'!$B$2:$C$1000,2,FALSE)","v":{"$error":"#N/A"}},null,null,null,null,null,null,null,null,null,null,{"$f":"VLOOKUP(B4580,'(1) Project Reference Item List'!$B$2:$D$1000,3,FALSE)","v":{"$error":"#N/A"}},null,null,0,0]
[{"$f":"VLOOKUP(B4581,'(1) Project Reference Item List'!$B$2:$C$1000,2,FALSE)","v":{"$error":"#N/A"}},null,null,null,null,null,null,null,null,null,null,{"$f":"VLOOKUP(B4581,'(1) Project Reference Item List'!$B$2:$D$1000,3,FALSE)","v":{"$error":"#N/A"}},null,null,0,0]
[{"$f":"VLOOKUP(B4582,'(1) Project Reference Item List'!$B$2:$C$1000,2,FALSE)","v":{"$error":"#N/A"}},null,null,null,null,null,null,null,null,null,null,{"$f":"VLOOKUP(B4582,'(1) Project Reference Item List'!$B$2:$D$1000,3,FALSE)","v":{"$error":"#N/A"}},null,null,0,0]
[{"$f":"VLOOKUP(B4583,'(1) Project Reference Item List'!$B$2:$C$1000,2,FALSE)","v":{"$error":"#N/A"}},null,null,null,null,null,null,null,null,null,null,{"$f":"VLOOKUP(B4583,'(1) Project Reference Item List'!$B$2:$D$1000,3,FALSE)","v":{"$error":"#N/A"}},null,null,0,0]
[{"$f":"VLOOKUP(B4584,'(1) Project Reference Item List'!$B$2:$C$1000,2,FALSE)","v":{"$error":"#N/A"}},null,null,null,null,null,null,null,null,null,null,{"$f":"VLOOKUP(B4584,'(1) Project Reference Item List'!$B$2:$D$1000,3,FALSE)","v":{"$error":"#N/A"}},null,null,0,0]
[{"$f":"VLOOKUP(B4585,'(1) Project Reference Item List'!$B$2:$C$1000,2,FALSE)","v":{"$error":"#N/A"}},null,null,null,null,null,null,null,null,null,null,{"$f":"VLOOKUP(B4585,'(1) Project Reference Item List'!$B$2:$D$1000,3,FALSE)","v":{"$error":"#N/A"}},null,null,0,0]
[{"$f":"VLOOKUP(B4586,'(1) Project Reference Item List'!$B$2:$C$1000,2,FALSE)","v":{"$error":"#N/A"}},null,null,null,null,null,null,null,null,null,null,{"$f":"VLOOKUP(B4586,'(1) Project Reference Item List'!$B$2:$D$1000,3,FALSE)","v":{"$error":"#N/A"}},null,null,0,0]
[{"$f":"VLOOKUP(B4587,'(1) Project Reference Item List'!$B$2:$C$1000,2,FALSE)","v":{"$error":"#N/A"}},null,null,null,null,null,null,null,null,null,null,{"$f":"VLOOKUP(B4587,'(1) Project Reference Item List'!$B$2:$D$1000,3,FALSE)","v":{"$error":"#N/A"}},null,null,0,0]
[{"$f":"VLOOKUP(B4588,'(1) Project Reference Item List'!$B$2:$C$1000,2,FALSE)","v":{"$error":"#N/A"}},null,null,null,null,null,null,null,null,null,null,{"$f":"VLOOKUP(B4588,'(1) Project Reference Item List'!$B$2:$D$1000,3,FALSE)","v":{"$error":"#N/A"}},null,null,0,0]
[{"$f":"VLOOKUP(B4589,'(1) Project Reference Item List'!$B$2:$C$1000,2,FALSE)","v":{"$error":"#N/A"}},null,null,null,null,null,null,null,null,null,null,{"$f":"VLOOKUP(B4589,'(1) Project Reference Item List'!$B$2:$D$1000,3,FALSE)","v":{"$error":"#N/A"}},null,null,0,0]
[{"$f":"VLOOKUP(B4590,'(1) Project Reference Item List'!$B$2:$C$1000,2,FALSE)","v":{"$error":"#N/A"}},null,null,null,null,null,null,null,null,null,null,{"$f":"VLOOKUP(B4590,'(1) Project Reference Item List'!$B$2:$D$1000,3,FALSE)","v":{"$error":"#N/A"}},null,null,0,0]
[{"$f":"VLOOKUP(B4591,'(1) Project Reference Item List'!$B$2:$C$1000,2,FALSE)","v":{"$error":"#N/A"}},null,null,null,null,null,null,null,null,null,null,{"$f":"VLOOKUP(B4591,'(1) Project Reference Item List'!$B$2:$D$1000,3,FALSE)","v":{"$error":"#N/A"}},null,null,0,0]
[{"$f":"VLOOKUP(B4592,'(1) Project Reference Item List'!$B$2:$C$1000,2,FALSE)","v":{"$error":"#N/A"}},null,null,null,null,null,null,null,null,null,null,{"$f":"VLOOKUP(B4592,'(1) Project Reference Item List'!$B$2:$D$1000,3,FALSE)","v":{"$error":"#N/A"}},null,null,0,0]
[{"$f":"VLOOKUP(B4593,'(1) Project Reference Item List'!$B$2:$C$1000,2,FALSE)","v":{"$error":"#N/A"}},null,null,null,null,null,null,null,null,null,null,{"$f":"VLOOKUP(B4593,'(1) Project Reference Item List'!$B$2:$D$1000,3,FALSE)","v":{"$error":"#N/A"}},null,null,0,0]
[{"$f":"VLOOKUP(B4594,'(1) Project Reference Item List'!$B$2:$C$1000,2,FALSE)","v":{"$error":"#N/A"}},null,null,null,null,null,null,null,null,null,null,{"$f":"VLOOKUP(B4594,'(1) Project Reference Item List'!$B$2:$D$1000,3,FALSE)","v":{"$error":"#N/A"}},null,null,0,0]
[{"$f":"VLOOKUP(B4595,'(1) Project Reference Item List'!$B$2:$C$1000,2,FALSE)","v":{"$error":"#N/A"}},null,null,null,null,null,null,null,null,null,null,{"$f":"VLOOKUP(B4595,'(1) Project Reference Item List'!$B$2:$D$1000,3,FALSE)","v":{"$error":"#N/A"}},null,null,0,0]
[{"$f":"VLOOKUP(B4596,'(1) Project Reference Item List'!$B$2:$C$1000,2,FALSE)","v":{"$error":"#N/A"}},null,null,null,null,null,null,null,null,null,null,{"$f":"VLOOKUP(B4596,'(1) Project Reference Item List'!$B$2:$D$1000,3,FALSE)","v":{"$error":"#N/A"}},null,null,0,0]
[{"$f":"VLOOKUP(B4597,'(1) Project Reference Item List'!$B$2:$C$1000,2,FALSE)","v":{"$error":"#N/A"}},null,null,null,null,null,null,null,null,null,null,{"$f":"VLOOKUP(B4597,'(1) Project Reference Item List'!$B$2:$D$1000,3,FALSE)","v":{"$error":"#N/A"}},null,null,0,0]
[{"$f":"VLOOKUP(B4598,'(1) Project Reference Item List'!$B$2:$C$1000,2,FALSE)","v":{"$error":"#N/A"}},null,null,null,null,null,null,null,null,null,null,{"$f":"VLOOKUP(B4598,'(1) Project Reference Item List'!$B$2:$D$1000,3,FALSE)","v":{"$error":"#N/A"}},null,null,0,0]
[{"$f":"VLOOKUP(B4599,'(1) Project Reference Item List'!$B$2:$C$1000,2,FALSE)","v":{"$error":"#N/A"}},null,null,null,null,null,null,null,null,null,null,{"$f":"VLOOKUP(B4599,'(1) Project Reference Item List'!$B$2:$D$1000,3,FALSE)","v":{"$error":"#N/A"}},null,null,0,0]
[{"$f":"VLOOKUP(B4600,'(1) Project Reference Item List'!$B$2:$C$1000,2,FALSE)","v":{"$error":"#N/A"}},null,null,null,null,null,null,null,null,null,null,{"$f":"VLOOKUP(B4600,'(1) Project Reference Item List'!$B$2:$D$1000,3,FALSE)","v":{"$error":"#N/A"}},null,null,0,0]
[{"$f":"VLOOKUP(B4601,'(1) Project Reference Item List'!$B$2:$C$1000,2,FALSE)","v":{"$error":"#N/A"}},null,null,null,null,null,null,null,null,null,null,{"$f":"VLOOKUP(B4601,'(1) Project Reference Item List'!$B$2:$D$1000,3,FALSE)","v":{"$error":"#N/A"}},null,null,0,0]
[{"$f":"VLOOKUP(B4602,'(1) Project Reference Item List'!$B$2:$C$1000,2,FALSE)","v":{"$error":"#N/A"}},null,null,null,null,null,null,null,null,null,null,{"$f":"VLOOKUP(B4602,'(1) Project Reference Item List'!$B$2:$D$1000,3,FALSE)","v":{"$error":"#N/A"}},null,null,0,0]
[{"$f":"VLOOKUP(B4603,'(1) Project Reference Item List'!$B$2:$C$1000,2,FALSE)","v":{"$error":"#N/A"}},null,null,null,null,null,null,null,null,null,null,{"$f":"VLOOKUP(B4603,'(1) Project Reference Item List'!$B$2:$D$1000,3,FALSE)","v":{"$error":"#N/A"}},null,null,0,0]
[{"$f":"VLOOKUP(B4604,'(1) Project Reference Item List'!$B$2:$C$1000,2,FALSE)","v":{"$error":"#N/A"}},null,null,null,null,null,null,null,null,null,null,{"$f":"VLOOKUP(B4604,'(1) Project Reference Item List'!$B$2:$D$1000,3,FALSE)","v":{"$error":"#N/A"}},null,null,0,0]
[{"$f":"VLOOKUP(B4605,'(1) Project Reference Item List'!$B$2:$C$1000,2,FALSE)","v":{"$error":"#N/A"}},null,null,null,null,null,null,null,null,null,null,{"$f":"VLOOKUP(B4605,'(1) Project Reference Item List'!$B$2:$D$1000,3,FALSE)","v":{"$error":"#N/A"}},null,null,0,0]
[{"$f":"VLOOKUP(B4606,'(1) Project Reference Item List'!$B$2:$C$1000,2,FALSE)","v":{"$error":"#N/A"}},null,null,null,null,null,null,null,null,null,null,{"$f":"VLOOKUP(B4606,'(1) Project Reference Item List'!$B$2:$D$1000,3,FALSE)","v":{"$error":"#N/A"}},null,null,0,0]
[{"$f":"VLOOKUP(B4607,'(1) Project Reference Item List'!$B$2:$C$1000,2,FALSE)","v":{"$error":"#N/A"}},null,null,null,null,null,null,null,null,null,null,{"$f":"VLOOKUP(B4607,'(1) Project Reference Item List'!$B$2:$D$1000,3,FALSE)","v":{"$error":"#N/A"}},null,null,0,0]
[{"$f":"VLOOKUP(B4608,'(1) Project Reference Item List'!$B$2:$C$1000,2,FALSE)","v":{"$error":"#N/A"}},null,null,null,null,null,null,null,null,null,null,{"$f":"VLOOKUP(B4608,'(1) Project Reference Item List'!$B$2:$D$1000,3,FALSE)","v":{"$error":"#N/A"}},null,null,0,0]
[{"$f":"VLOOKUP(B4609,'(1) Project Reference Item List'!$B$2:$C$1000,2,FALSE)","v":{"$error":"#N/A"}},null,null,null,null,null,null,null,null,null,null,{"$f":"VLOOKUP(B4609,'(1) Project Reference Item List'!$B$2:$D$1000,3,FALSE)","v":{"$error":"#N/A"}},null,null,0,0]
[{"$f":"VLOOKUP(B4610,'(1) Project Reference Item List'!$B$2:$C$1000,2,FALSE)","v":{"$error":"#N/A"}},null,null,null,null,null,null,null,null,null,null,{"$f":"VLOOKUP(B4610,'(1) Project Reference Item List'!$B$2:$D$1000,3,FALSE)","v":{"$error":"#N/A"}},null,null,0,0]
[{"$f":"VLOOKUP(B4611,'(1) Project Reference Item List'!$B$2:$C$1000,2,FALSE)","v":{"$error":"#N/A"}},null,null,null,null,null,null,null,null,null,null,{"$f":"VLOOKUP(B4611,'(1) Project Reference Item List'!$B$2:$D$1000,3,FALSE)","v":{"$error":"#N/A"}},null,null,0,0]
[{"$f":"VLOOKUP(B4612,'(1) Project Reference Item List'!$B$2:$C$1000,2,FALSE)","v":{"$error":"#N/A"}},null,null,null,null,null,null,null,null,null,null,{"$f":"VLOOKUP(B4612,'(1) Project Reference Item List'!$B$2:$D$1000,3,FALSE)","v":{"$error":"#N/A"}},null,null,0,0]
[{"$f":"VLOOKUP(B4613,'(1) Project Reference Item List'!$B$2:$C$1000,2,FALSE)","v":{"$error":"#N/A"}},null,null,null,null,null,null,null,null,null,null,{"$f":"VLOOKUP(B4613,'(1) Project Reference Item List'!$B$2:$D$1000,3,FALSE)","v":{"$error":"#N/A"}},null,null,0,0]
[{"$f":"VLOOKUP(B4614,'(1) Project Reference Item List'!$B$2:$C$1000,2,FALSE)","v":{"$error":"#N/A"}},null,null,null,null,null,null,null,null,null,null,{"$f":"VLOOKUP(B4614,'(1) Project Reference Item List'!$B$2:$D$1000,3,FALSE)","v":{"$error":"#N/A"}},null,null,{"$f":"IF(J4614=0,J4614,J4614*N4614)","v":0},{"$f":"(M4614-O4614)","v":0}]
[{"$f":"VLOOKUP(B4615,'(1) Project Reference Item List'!$B$2:$C$1000,2,FALSE)","v":{"$error":"#N/A"}},null,null,null,null,null,null,null,null,null,null,{"$f":"VLOOKUP(B4615,'(1) Project Reference Item List'!$B$2:$D$1000,3,FALSE)","v":{"$error":"#N/A"}},null,null,0,0]
[{"$f":"VLOOKUP(B4616,'(1) Project Reference Item List'!$B$2:$C$1000,2,FALSE)","v":{"$error":"#N/A"}},null,null,null,null,null,null,null,null,null,null,{"$f":"VLOOKUP(B4616,'(1) Project Reference Item List'!$B$2:$D$1000,3,FALSE)","v":{"$error":"#N/A"}},null,null,0,0]
[{"$f":"VLOOKUP(B4617,'(1) Project Reference Item List'!$B$2:$C$1000,2,FALSE)","v":{"$error":"#N/A"}},null,null,null,null,null,null,null,null,null,null,{"$f":"VLOOKUP(B4617,'(1) Project Reference Item List'!$B$2:$D$1000,3,FALSE)","v":{"$error":"#N/A"}},null,null,0,0]
[{"$f":"VLOOKUP(B4618,'(1) Project Reference Item List'!$B$2:$C$1000,2,FALSE)","v":{"$error":"#N/A"}},null,null,null,null,null,null,null,null,null,null,{"$f":"VLOOKUP(B4618,'(1) Project Reference Item List'!$B$2:$D$1000,3,FALSE)","v":{"$error":"#N/A"}},null,null,0,0]
[{"$f":"VLOOKUP(B4619,'(1) Project Reference Item List'!$B$2:$C$1000,2,FALSE)","v":{"$error":"#N/A"}},null,null,null,null,null,null,null,null,null,null,{"$f":"VLOOKUP(B4619,'(1) Project Reference Item List'!$B$2:$D$1000,3,FALSE)","v":{"$error":"#N/A"}},null,null,0,0]
[{"$f":"VLOOKUP(B4620,'(1) Project Reference Item List'!$B$2:$C$1000,2,FALSE)","v":{"$error":"#N/A"}},null,null,null,null,null,null,null,null,null,null,{"$f":"VLOOKUP(B4620,'(1) Project Reference Item List'!$B$2:$D$1000,3,FALSE)","v":{"$error":"#N/A"}},null,null,0,0]
[{"$f":"VLOOKUP(B4621,'(1) Project Reference Item List'!$B$2:$C$1000,2,FALSE)","v":{"$error":"#N/A"}},null,null,null,null,null,null,null,null,null,null,{"$f":"VLOOKUP(B4621,'(1) Project Reference Item List'!$B$2:$D$1000,3,FALSE)","v":{"$error":"#N/A"}},null,null,0,0]
[{"$f":"VLOOKUP(B4622,'(1) Project Reference Item List'!$B$2:$C$1000,2,FALSE)","v":{"$error":"#N/A"}},null,null,null,null,null,null,null,null,null,null,{"$f":"VLOOKUP(B4622,'(1) Project Reference Item List'!$B$2:$D$1000,3,FALSE)","v":{"$error":"#N/A"}},null,null,0,0]
[{"$f":"VLOOKUP(B4623,'(1) Project Reference Item List'!$B$2:$C$1000,2,FALSE)","v":{"$error":"#N/A"}},null,null,null,null,null,null,null,null,null,null,{"$f":"VLOOKUP(B4623,'(1) Project Reference Item List'!$B$2:$D$1000,3,FALSE)","v":{"$error":"#N/A"}},null,null,0,0]
[{"$f":"VLOOKUP(B4624,'(1) Project Reference Item List'!$B$2:$C$1000,2,FALSE)","v":{"$error":"#N/A"}},null,null,null,null,null,null,null,null,null,null,{"$f":"VLOOKUP(B4624,'(1) Project Reference Item List'!$B$2:$D$1000,3,FALSE)","v":{"$error":"#N/A"}},null,null,0,0]
[{"$f":"VLOOKUP(B4625,'(1) Project Reference Item List'!$B$2:$C$1000,2,FALSE)","v":{"$error":"#N/A"}},null,null,null,null,null,null,null,null,null,null,{"$f":"VLOOKUP(B4625,'(1) Project Reference Item List'!$B$2:$D$1000,3,FALSE)","v":{"$error":"#N/A"}},null,null,0,0]
[{"$f":"VLOOKUP(B4626,'(1) Project Reference Item List'!$B$2:$C$1000,2,FALSE)","v":{"$error":"#N/A"}},null,null,null,null,null,null,null,null,null,null,{"$f":"VLOOKUP(B4626,'(1) Project Reference Item List'!$B$2:$D$1000,3,FALSE)","v":{"$error":"#N/A"}},null,null,0,0]
[{"$f":"VLOOKUP(B4627,'(1) Project Reference Item List'!$B$2:$C$1000,2,FALSE)","v":{"$error":"#N/A"}},null,null,null,null,null,null,null,null,null,null,{"$f":"VLOOKUP(B4627,'(1) Project Reference Item List'!$B$2:$D$1000,3,FALSE)","v":{"$error":"#N/A"}},null,null,0,0]
[{"$f":"VLOOKUP(B4628,'(1) Project Reference Item List'!$B$2:$C$1000,2,FALSE)","v":{"$error":"#N/A"}},null,null,null,null,null,null,null,null,null,null,{"$f":"VLOOKUP(B4628,'(1) Project Reference Item List'!$B$2:$D$1000,3,FALSE)","v":{"$error":"#N/A"}},null,null,0,0]
[{"$f":"VLOOKUP(B4629,'(1) Project Reference Item List'!$B$2:$C$1000,2,FALSE)","v":{"$error":"#N/A"}},null,null,null,null,null,null,null,null,null,null,{"$f":"VLOOKUP(B4629,'(1) Project Reference Item List'!$B$2:$D$1000,3,FALSE)","v":{"$error":"#N/A"}},null,null,0,0]
[{"$f":"VLOOKUP(B4630,'(1) Project Reference Item List'!$B$2:$C$1000,2,FALSE)","v":{"$error":"#N/A"}},null,null,null,null,null,null,null,null,null,null,{"$f":"VLOOKUP(B4630,'(1) Project Reference Item List'!$B$2:$D$1000,3,FALSE)","v":{"$error":"#N/A"}},null,null,0,0]
[{"$f":"VLOOKUP(B4631,'(1) Project Reference Item List'!$B$2:$C$1000,2,FALSE)","v":{"$error":"#N/A"}},null,null,null,null,null,null,null,null,null,null,{"$f":"VLOOKUP(B4631,'(1) Project Reference Item List'!$B$2:$D$1000,3,FALSE)","v":{"$error":"#N/A"}},null,null,0,0]
[{"$f":"VLOOKUP(B4632,'(1) Project Reference Item List'!$B$2:$C$1000,2,FALSE)","v":{"$error":"#N/A"}},null,null,null,null,null,null,null,null,null,null,{"$f":"VLOOKUP(B4632,'(1) Project Reference Item List'!$B$2:$D$1000,3,FALSE)","v":{"$error":"#N/A"}},null,null,0,0]
[{"$f":"VLOOKUP(B4633,'(1) Project Reference Item List'!$B$2:$C$1000,2,FALSE)","v":{"$error":"#N/A"}},null,null,null,null,null,null,null,null,null,null,{"$f":"VLOOKUP(B4633,'(1) Project Reference Item List'!$B$2:$D$1000,3,FALSE)","v":{"$error":"#N/A"}},null,null,0,0]
[{"$f":"VLOOKUP(B4634,'(1) Project Reference Item List'!$B$2:$C$1000,2,FALSE)","v":{"$error":"#N/A"}},null,null,null,null,null,null,null,null,null,null,{"$f":"VLOOKUP(B4634,'(1) Project Reference Item List'!$B$2:$D$1000,3,FALSE)","v":{"$error":"#N/A"}},null,null,0,0]
[{"$f":"VLOOKUP(B4635,'(1) Project Reference Item List'!$B$2:$C$1000,2,FALSE)","v":{"$error":"#N/A"}},null,null,null,null,null,null,null,null,null,null,{"$f":"VLOOKUP(B4635,'(1) Project Reference Item List'!$B$2:$D$1000,3,FALSE)","v":{"$error":"#N/A"}},null,null,0,0]
[{"$f":"VLOOKUP(B4636,'(1) Project Reference Item List'!$B$2:$C$1000,2,FALSE)","v":{"$error":"#N/A"}},null,null,null,null,null,null,null,null,null,null,{"$f":"VLOOKUP(B4636,'(1) Project Reference Item List'!$B$2:$D$1000,3,FALSE)","v":{"$error":"#N/A"}},null,null,0,0]
[{"$f":"VLOOKUP(B4637,'(1) Project Reference Item List'!$B$2:$C$1000,2,FALSE)","v":{"$error":"#N/A"}},null,null,null,null,null,null,null,null,null,null,{"$f":"VLOOKUP(B4637,'(1) Project Reference Item List'!$B$2:$D$1000,3,FALSE)","v":{"$error":"#N/A"}},null,null,0,0]
[{"$f":"VLOOKUP(B4638,'(1) Project Reference Item List'!$B$2:$C$1000,2,FALSE)","v":{"$error":"#N/A"}},null,null,null,null,null,null,null,null,null,null,{"$f":"VLOOKUP(B4638,'(1) Project Reference Item List'!$B$2:$D$1000,3,FALSE)","v":{"$error":"#N/A"}},null,null,0,0]
[{"$f":"VLOOKUP(B4639,'(1) Project Reference Item List'!$B$2:$C$1000,2,FALSE)","v":{"$error":"#N/A"}},null,null,null,null,null,null,null,null,null,null,{"$f":"VLOOKUP(B4639,'(1) Project Reference Item List'!$B$2:$D$1000,3,FALSE)","v":{"$error":"#N/A"}},null,null,0,0]
[{"$f":"VLOOKUP(B4640,'(1) Project Reference Item List'!$B$2:$C$1000,2,FALSE)","v":{"$error":"#N/A"}},null,null,null,null,null,null,null,null,null,null,{"$f":"VLOOKUP(B4640,'(1) Project Reference Item List'!$B$2:$D$1000,3,FALSE)","v":{"$error":"#N/A"}},null,null,0,0]
[{"$f":"VLOOKUP(B4641,'(1) Project Reference Item List'!$B$2:$C$1000,2,FALSE)","v":{"$error":"#N/A"}},null,null,null,null,null,null,null,null,null,null,{"$f":"VLOOKUP(B4641,'(1) Project Reference Item List'!$B$2:$D$1000,3,FALSE)","v":{"$error":"#N/A"}},null,null,0,0]
[{"$f":"VLOOKUP(B4642,'(1) Project Reference Item List'!$B$2:$C$1000,2,FALSE)","v":{"$error":"#N/A"}},null,null,null,null,null,null,null,null,null,null,{"$f":"VLOOKUP(B4642,'(1) Project Reference Item List'!$B$2:$D$1000,3,FALSE)","v":{"$error":"#N/A"}},null,null,0,0]
[{"$f":"VLOOKUP(B4643,'(1) Project Reference Item List'!$B$2:$C$1000,2,FALSE)","v":{"$error":"#N/A"}},null,null,null,null,null,null,null,null,null,null,{"$f":"VLOOKUP(B4643,'(1) Project Reference Item List'!$B$2:$D$1000,3,FALSE)","v":{"$error":"#N/A"}},null,null,0,0]
[{"$f":"VLOOKUP(B4644,'(1) Project Reference Item List'!$B$2:$C$1000,2,FALSE)","v":{"$error":"#N/A"}},null,null,null,null,null,null,null,null,null,null,{"$f":"VLOOKUP(B4644,'(1) Project Reference Item List'!$B$2:$D$1000,3,FALSE)","v":{"$error":"#N/A"}},null,null,0,0]
[{"$f":"VLOOKUP(B4645,'(1) Project Reference Item List'!$B$2:$C$1000,2,FALSE)","v":{"$error":"#N/A"}},null,null,null,null,null,null,null,null,null,null,{"$f":"VLOOKUP(B4645,'(1) Project Reference Item List'!$B$2:$D$1000,3,FALSE)","v":{"$error":"#N/A"}},null,null,0,0]
[{"$f":"VLOOKUP(B4646,'(1) Project Reference Item List'!$B$2:$C$1000,2,FALSE)","v":{"$error":"#N/A"}},null,null,null,null,null,null,null,null,null,null,{"$f":"VLOOKUP(B4646,'(1) Project Reference Item List'!$B$2:$D$1000,3,FALSE)","v":{"$error":"#N/A"}},null,null,0,0]
[{"$f":"VLOOKUP(B4647,'(1) Project Reference Item List'!$B$2:$C$1000,2,FALSE)","v":{"$error":"#N/A"}},null,null,null,null,null,null,null,null,null,null,{"$f":"VLOOKUP(B4647,'(1) Project Reference Item List'!$B$2:$D$1000,3,FALSE)","v":{"$error":"#N/A"}},null,null,0,0]
[{"$f":"VLOOKUP(B4648,'(1) Project Reference Item List'!$B$2:$C$1000,2,FALSE)","v":{"$error":"#N/A"}},null,null,null,null,null,null,null,null,null,null,{"$f":"VLOOKUP(B4648,'(1) Project Reference Item List'!$B$2:$D$1000,3,FALSE)","v":{"$error":"#N/A"}},null,null,0,0]
[{"$f":"VLOOKUP(B4649,'(1) Project Reference Item List'!$B$2:$C$1000,2,FALSE)","v":{"$error":"#N/A"}},null,null,null,null,null,null,null,null,null,null,{"$f":"VLOOKUP(B4649,'(1) Project Reference Item List'!$B$2:$D$1000,3,FALSE)","v":{"$error":"#N/A"}},null,null,0,0]
[{"$f":"VLOOKUP(B4650,'(1) Project Reference Item List'!$B$2:$C$1000,2,FALSE)","v":{"$error":"#N/A"}},null,null,null,null,null,null,null,null,null,null,{"$f":"VLOOKUP(B4650,'(1) Project Reference Item List'!$B$2:$D$1000,3,FALSE)","v":{"$error":"#N/A"}},null,null,0,0]
[{"$f":"VLOOKUP(B4651,'(1) Project Reference Item List'!$B$2:$C$1000,2,FALSE)","v":{"$error":"#N/A"}},null,null,null,null,null,null,null,null,null,null,{"$f":"VLOOKUP(B4651,'(1) Project Reference Item List'!$B$2:$D$1000,3,FALSE)","v":{"$error":"#N/A"}},null,null,0,0]
[{"$f":"VLOOKUP(B4652,'(1) Project Reference Item List'!$B$2:$C$1000,2,FALSE)","v":{"$error":"#N/A"}},null,null,null,null,null,null,null,null,null,null,{"$f":"VLOOKUP(B4652,'(1) Project Reference Item List'!$B$2:$D$1000,3,FALSE)","v":{"$error":"#N/A"}},null,null,0,0]
[{"$f":"VLOOKUP(B4653,'(1) Project Reference Item List'!$B$2:$C$1000,2,FALSE)","v":{"$error":"#N/A"}},null,null,null,null,null,null,null,null,null,null,{"$f":"VLOOKUP(B4653,'(1) Project Reference Item List'!$B$2:$D$1000,3,FALSE)","v":{"$error":"#N/A"}},null,null,0,0]
[{"$f":"VLOOKUP(B4654,'(1) Project Reference Item List'!$B$2:$C$1000,2,FALSE)","v":{"$error":"#N/A"}},null,null,null,null,null,null,null,null,null,null,{"$f":"VLOOKUP(B4654,'(1) Project Reference Item List'!$B$2:$D$1000,3,FALSE)","v":{"$error":"#N/A"}},null,null,0,0]
[{"$f":"VLOOKUP(B4655,'(1) Project Reference Item List'!$B$2:$C$1000,2,FALSE)","v":{"$error":"#N/A"}},null,null,null,null,null,null,null,null,null,null,{"$f":"VLOOKUP(B4655,'(1) Project Reference Item List'!$B$2:$D$1000,3,FALSE)","v":{"$error":"#N/A"}},null,null,0,0]
[{"$f":"VLOOKUP(B4656,'(1) Project Reference Item List'!$B$2:$C$1000,2,FALSE)","v":{"$error":"#N/A"}},null,null,null,null,null,null,null,null,null,null,{"$f":"VLOOKUP(B4656,'(1) Project Reference Item List'!$B$2:$D$1000,3,FALSE)","v":{"$error":"#N/A"}},null,null,0,0]
[{"$f":"VLOOKUP(B4657,'(1) Project Reference Item List'!$B$2:$C$1000,2,FALSE)","v":{"$error":"#N/A"}},null,null,null,null,null,null,null,null,null,null,{"$f":"VLOOKUP(B4657,'(1) Project Reference Item List'!$B$2:$D$1000,3,FALSE)","v":{"$error":"#N/A"}},null,null,0,0]
[{"$f":"VLOOKUP(B4658,'(1) Project Reference Item List'!$B$2:$C$1000,2,FALSE)","v":{"$error":"#N/A"}},null,null,null,null,null,null,null,null,null,null,{"$f":"VLOOKUP(B4658,'(1) Project Reference Item List'!$B$2:$D$1000,3,FALSE)","v":{"$error":"#N/A"}},null,null,0,0]
[{"$f":"VLOOKUP(B4659,'(1) Project Reference Item List'!$B$2:$C$1000,2,FALSE)","v":{"$error":"#N/A"}},null,null,null,null,null,null,null,null,null,null,{"$f":"VLOOKUP(B4659,'(1) Project Reference Item List'!$B$2:$D$1000,3,FALSE)","v":{"$error":"#N/A"}},null,null,0,0]
[{"$f":"VLOOKUP(B4660,'(1) Project Reference Item List'!$B$2:$C$1000,2,FALSE)","v":{"$error":"#N/A"}},null,null,null,null,null,null,null,null,null,null,{"$f":"VLOOKUP(B4660,'(1) Project Reference Item List'!$B$2:$D$1000,3,FALSE)","v":{"$error":"#N/A"}},null,null,0,0]
[{"$f":"VLOOKUP(B4661,'(1) Project Reference Item List'!$B$2:$C$1000,2,FALSE)","v":{"$error":"#N/A"}},null,null,null,null,null,null,null,null,null,null,{"$f":"VLOOKUP(B4661,'(1) Project Reference Item List'!$B$2:$D$1000,3,FALSE)","v":{"$error":"#N/A"}},null,null,0,0]
[{"$f":"VLOOKUP(B4662,'(1) Project Reference Item List'!$B$2:$C$1000,2,FALSE)","v":{"$error":"#N/A"}},null,null,null,null,null,null,null,null,null,null,{"$f":"VLOOKUP(B4662,'(1) Project Reference Item List'!$B$2:$D$1000,3,FALSE)","v":{"$error":"#N/A"}},null,null,0,0]
[{"$f":"VLOOKUP(B4663,'(1) Project Reference Item List'!$B$2:$C$1000,2,FALSE)","v":{"$error":"#N/A"}},null,null,null,null,null,null,null,null,null,null,{"$f":"VLOOKUP(B4663,'(1) Project Reference Item List'!$B$2:$D$1000,3,FALSE)","v":{"$error":"#N/A"}},null,null,0,0]
[{"$f":"VLOOKUP(B4664,'(1) Project Reference Item List'!$B$2:$C$1000,2,FALSE)","v":{"$error":"#N/A"}},null,null,null,null,null,null,null,null,null,null,{"$f":"VLOOKUP(B4664,'(1) Project Reference Item List'!$B$2:$D$1000,3,FALSE)","v":{"$error":"#N/A"}},null,null,0,0]
[{"$f":"VLOOKUP(B4665,'(1) Project Reference Item List'!$B$2:$C$1000,2,FALSE)","v":{"$error":"#N/A"}},null,null,null,null,null,null,null,null,null,null,{"$f":"VLOOKUP(B4665,'(1) Project Reference Item List'!$B$2:$D$1000,3,FALSE)","v":{"$error":"#N/A"}},null,null,0,0]
[{"$f":"VLOOKUP(B4666,'(1) Project Reference Item List'!$B$2:$C$1000,2,FALSE)","v":{"$error":"#N/A"}},null,null,null,null,null,null,null,null,null,null,{"$f":"VLOOKUP(B4666,'(1) Project Reference Item List'!$B$2:$D$1000,3,FALSE)","v":{"$error":"#N/A"}},null,null,0,0]
[{"$f":"VLOOKUP(B4667,'(1) Project Reference Item List'!$B$2:$C$1000,2,FALSE)","v":{"$error":"#N/A"}},null,null,null,null,null,null,null,null,null,null,{"$f":"VLOOKUP(B4667,'(1) Project Reference Item List'!$B$2:$D$1000,3,FALSE)","v":{"$error":"#N/A"}},null,null,0,0]
[{"$f":"VLOOKUP(B4668,'(1) Project Reference Item List'!$B$2:$C$1000,2,FALSE)","v":{"$error":"#N/A"}},null,null,null,null,null,null,null,null,null,null,{"$f":"VLOOKUP(B4668,'(1) Project Reference Item List'!$B$2:$D$1000,3,FALSE)","v":{"$error":"#N/A"}},null,null,0,0]
[{"$f":"VLOOKUP(B4669,'(1) Project Reference Item List'!$B$2:$C$1000,2,FALSE)","v":{"$error":"#N/A"}},null,null,null,null,null,null,null,null,null,null,{"$f":"VLOOKUP(B4669,'(1) Project Reference Item List'!$B$2:$D$1000,3,FALSE)","v":{"$error":"#N/A"}},null,null,0,0]
[{"$f":"VLOOKUP(B4670,'(1) Project Reference Item List'!$B$2:$C$1000,2,FALSE)","v":{"$error":"#N/A"}},null,null,null,null,null,null,null,null,null,null,{"$f":"VLOOKUP(B4670,'(1) Project Reference Item List'!$B$2:$D$1000,3,FALSE)","v":{"$error":"#N/A"}},null,null,0,0]
[{"$f":"VLOOKUP(B4671,'(1) Project Reference Item List'!$B$2:$C$1000,2,FALSE)","v":{"$error":"#N/A"}},null,null,null,null,null,null,null,null,null,null,{"$f":"VLOOKUP(B4671,'(1) Project Reference Item List'!$B$2:$D$1000,3,FALSE)","v":{"$error":"#N/A"}},null,null,0,0]
[{"$f":"VLOOKUP(B4672,'(1) Project Reference Item List'!$B$2:$C$1000,2,FALSE)","v":{"$error":"#N/A"}},null,null,null,null,null,null,null,null,null,null,{"$f":"VLOOKUP(B4672,'(1) Project Reference Item List'!$B$2:$D$1000,3,FALSE)","v":{"$error":"#N/A"}},null,null,0,0]
[{"$f":"VLOOKUP(B4673,'(1) Project Reference Item List'!$B$2:$C$1000,2,FALSE)","v":{"$error":"#N/A"}},null,null,null,null,null,null,null,null,null,null,{"$f":"VLOOKUP(B4673,'(1) Project Reference Item List'!$B$2:$D$1000,3,FALSE)","v":{"$error":"#N/A"}},null,null,0,0]
[{"$f":"VLOOKUP(B4674,'(1) Project Reference Item List'!$B$2:$C$1000,2,FALSE)","v":{"$error":"#N/A"}},null,null,null,null,null,null,null,null,null,null,{"$f":"VLOOKUP(B4674,'(1) Project Reference Item List'!$B$2:$D$1000,3,FALSE)","v":{"$error":"#N/A"}},null,null,0,0]
[{"$f":"VLOOKUP(B4675,'(1) Project Reference Item List'!$B$2:$C$1000,2,FALSE)","v":{"$error":"#N/A"}},null,null,null,null,null,null,null,null,null,null,{"$f":"VLOOKUP(B4675,'(1) Project Reference Item List'!$B$2:$D$1000,3,FALSE)","v":{"$error":"#N/A"}},null,null,0,0]
[{"$f":"VLOOKUP(B4676,'(1) Project Reference Item List'!$B$2:$C$1000,2,FALSE)","v":{"$error":"#N/A"}},null,null,null,null,null,null,null,null,null,null,{"$f":"VLOOKUP(B4676,'(1) Project Reference Item List'!$B$2:$D$1000,3,FALSE)","v":{"$error":"#N/A"}},null,null,0,0]
[{"$f":"VLOOKUP(B4677,'(1) Project Reference Item List'!$B$2:$C$1000,2,FALSE)","v":{"$error":"#N/A"}},null,null,null,null,null,null,null,null,null,null,{"$f":"VLOOKUP(B4677,'(1) Project Reference Item List'!$B$2:$D$1000,3,FALSE)","v":{"$error":"#N/A"}},null,null,0,0]
[{"$f":"VLOOKUP(B4678,'(1) Project Reference Item List'!$B$2:$C$1000,2,FALSE)","v":{"$error":"#N/A"}},null,null,null,null,null,null,null,null,null,null,{"$f":"VLOOKUP(B4678,'(1) Project Reference Item List'!$B$2:$D$1000,3,FALSE)","v":{"$error":"#N/A"}},null,null,{"$f":"IF(J4678=0,J4678,J4678*N4678)","v":0},{"$f":"(M4678-O4678)","v":0}]
[{"$f":"VLOOKUP(B4679,'(1) Project Reference Item List'!$B$2:$C$1000,2,FALSE)","v":{"$error":"#N/A"}},null,null,null,null,null,null,null,null,null,null,{"$f":"VLOOKUP(B4679,'(1) Project Reference Item List'!$B$2:$D$1000,3,FALSE)","v":{"$error":"#N/A"}},null,null,0,0]
[{"$f":"VLOOKUP(B4680,'(1) Project Reference Item List'!$B$2:$C$1000,2,FALSE)","v":{"$error":"#N/A"}},null,null,null,null,null,null,null,null,null,null,{"$f":"VLOOKUP(B4680,'(1) Project Reference Item List'!$B$2:$D$1000,3,FALSE)","v":{"$error":"#N/A"}},null,null,0,0]
[{"$f":"VLOOKUP(B4681,'(1) Project Reference Item List'!$B$2:$C$1000,2,FALSE)","v":{"$error":"#N/A"}},null,null,null,null,null,null,null,null,null,null,{"$f":"VLOOKUP(B4681,'(1) Project Reference Item List'!$B$2:$D$1000,3,FALSE)","v":{"$error":"#N/A"}},null,null,0,0]
[{"$f":"VLOOKUP(B4682,'(1) Project Reference Item List'!$B$2:$C$1000,2,FALSE)","v":{"$error":"#N/A"}},null,null,null,null,null,null,null,null,null,null,{"$f":"VLOOKUP(B4682,'(1) Project Reference Item List'!$B$2:$D$1000,3,FALSE)","v":{"$error":"#N/A"}},null,null,0,0]
[{"$f":"VLOOKUP(B4683,'(1) Project Reference Item List'!$B$2:$C$1000,2,FALSE)","v":{"$error":"#N/A"}},null,null,null,null,null,null,null,null,null,null,{"$f":"VLOOKUP(B4683,'(1) Project Reference Item List'!$B$2:$D$1000,3,FALSE)","v":{"$error":"#N/A"}},null,null,0,0]
[{"$f":"VLOOKUP(B4684,'(1) Project Reference Item List'!$B$2:$C$1000,2,FALSE)","v":{"$error":"#N/A"}},null,null,null,null,null,null,null,null,null,null,{"$f":"VLOOKUP(B4684,'(1) Project Reference Item List'!$B$2:$D$1000,3,FALSE)","v":{"$error":"#N/A"}},null,null,0,0]
[{"$f":"VLOOKUP(B4685,'(1) Project Reference Item List'!$B$2:$C$1000,2,FALSE)","v":{"$error":"#N/A"}},null,null,null,null,null,null,null,null,null,null,{"$f":"VLOOKUP(B4685,'(1) Project Reference Item List'!$B$2:$D$1000,3,FALSE)","v":{"$error":"#N/A"}},null,null,0,0]
[{"$f":"VLOOKUP(B4686,'(1) Project Reference Item List'!$B$2:$C$1000,2,FALSE)","v":{"$error":"#N/A"}},null,null,null,null,null,null,null,null,null,null,{"$f":"VLOOKUP(B4686,'(1) Project Reference Item List'!$B$2:$D$1000,3,FALSE)","v":{"$error":"#N/A"}},null,null,0,0]
[{"$f":"VLOOKUP(B4687,'(1) Project Reference Item List'!$B$2:$C$1000,2,FALSE)","v":{"$error":"#N/A"}},null,null,null,null,null,null,null,null,null,null,{"$f":"VLOOKUP(B4687,'(1) Project Reference Item List'!$B$2:$D$1000,3,FALSE)","v":{"$error":"#N/A"}},null,null,0,0]
[{"$f":"VLOOKUP(B4688,'(1) Project Reference Item List'!$B$2:$C$1000,2,FALSE)","v":{"$error":"#N/A"}},null,null,null,null,null,null,null,null,null,null,{"$f":"VLOOKUP(B4688,'(1) Project Reference Item List'!$B$2:$D$1000,3,FALSE)","v":{"$error":"#N/A"}},null,null,0,0]
[{"$f":"VLOOKUP(B4689,'(1) Project Reference Item List'!$B$2:$C$1000,2,FALSE)","v":{"$error":"#N/A"}},null,null,null,null,null,null,null,null,null,null,{"$f":"VLOOKUP(B4689,'(1) Project Reference Item List'!$B$2:$D$1000,3,FALSE)","v":{"$error":"#N/A"}},null,null,0,0]
[{"$f":"VLOOKUP(B4690,'(1) Project Reference Item List'!$B$2:$C$1000,2,FALSE)","v":{"$error":"#N/A"}},null,null,null,null,null,null,null,null,null,null,{"$f":"VLOOKUP(B4690,'(1) Project Reference Item List'!$B$2:$D$1000,3,FALSE)","v":{"$error":"#N/A"}},null,null,0,0]
[{"$f":"VLOOKUP(B4691,'(1) Project Reference Item List'!$B$2:$C$1000,2,FALSE)","v":{"$error":"#N/A"}},null,null,null,null,null,null,null,null,null,null,{"$f":"VLOOKUP(B4691,'(1) Project Reference Item List'!$B$2:$D$1000,3,FALSE)","v":{"$error":"#N/A"}},null,null,0,0]
[{"$f":"VLOOKUP(B4692,'(1) Project Reference Item List'!$B$2:$C$1000,2,FALSE)","v":{"$error":"#N/A"}},null,null,null,null,null,null,null,null,null,null,{"$f":"VLOOKUP(B4692,'(1) Project Reference Item List'!$B$2:$D$1000,3,FALSE)","v":{"$error":"#N/A"}},null,null,0,0]
[{"$f":"VLOOKUP(B4693,'(1) Project Reference Item List'!$B$2:$C$1000,2,FALSE)","v":{"$error":"#N/A"}},null,null,null,null,null,null,null,null,null,null,{"$f":"VLOOKUP(B4693,'(1) Project Reference Item List'!$B$2:$D$1000,3,FALSE)","v":{"$error":"#N/A"}},null,null,0,0]
[{"$f":"VLOOKUP(B4694,'(1) Project Reference Item List'!$B$2:$C$1000,2,FALSE)","v":{"$error":"#N/A"}},null,null,null,null,null,null,null,null,null,null,{"$f":"VLOOKUP(B4694,'(1) Project Reference Item List'!$B$2:$D$1000,3,FALSE)","v":{"$error":"#N/A"}},null,null,0,0]
[{"$f":"VLOOKUP(B4695,'(1) Project Reference Item List'!$B$2:$C$1000,2,FALSE)","v":{"$error":"#N/A"}},null,null,null,null,null,null,null,null,null,null,{"$f":"VLOOKUP(B4695,'(1) Project Reference Item List'!$B$2:$D$1000,3,FALSE)","v":{"$error":"#N/A"}},null,null,0,0]
[{"$f":"VLOOKUP(B4696,'(1) Project Reference Item List'!$B$2:$C$1000,2,FALSE)","v":{"$error":"#N/A"}},null,null,null,null,null,null,null,null,null,null,{"$f":"VLOOKUP(B4696,'(1) Project Reference Item List'!$B$2:$D$1000,3,FALSE)","v":{"$error":"#N/A"}},null,null,0,0]
[{"$f":"VLOOKUP(B4697,'(1) Project Reference Item List'!$B$2:$C$1000,2,FALSE)","v":{"$error":"#N/A"}},null,null,null,null,null,null,null,null,null,null,{"$f":"VLOOKUP(B4697,'(1) Project Reference Item List'!$B$2:$D$1000,3,FALSE)","v":{"$error":"#N/A"}},null,null,0,0]
[{"$f":"VLOOKUP(B4698,'(1) Project Reference Item List'!$B$2:$C$1000,2,FALSE)","v":{"$error":"#N/A"}},null,null,null,null,null,null,null,null,null,null,{"$f":"VLOOKUP(B4698,'(1) Project Reference Item List'!$B$2:$D$1000,3,FALSE)","v":{"$error":"#N/A"}},null,null,0,0]
[{"$f":"VLOOKUP(B4699,'(1) Project Reference Item List'!$B$2:$C$1000,2,FALSE)","v":{"$error":"#N/A"}},null,null,null,null,null,null,null,null,null,null,{"$f":"VLOOKUP(B4699,'(1) Project Reference Item List'!$B$2:$D$1000,3,FALSE)","v":{"$error":"#N/A"}},null,null,0,0]
[{"$f":"VLOOKUP(B4700,'(1) Project Reference Item List'!$B$2:$C$1000,2,FALSE)","v":{"$error":"#N/A"}},null,null,null,null,null,null,null,null,null,null,{"$f":"VLOOKUP(B4700,'(1) Project Reference Item List'!$B$2:$D$1000,3,FALSE)","v":{"$error":"#N/A"}},null,null,0,0]
[{"$f":"VLOOKUP(B4701,'(1) Project Reference Item List'!$B$2:$C$1000,2,FALSE)","v":{"$error":"#N/A"}},null,null,null,null,null,null,null,null,null,null,{"$f":"VLOOKUP(B4701,'(1) Project Reference Item List'!$B$2:$D$1000,3,FALSE)","v":{"$error":"#N/A"}},null,null,0,0]
[{"$f":"VLOOKUP(B4702,'(1) Project Reference Item List'!$B$2:$C$1000,2,FALSE)","v":{"$error":"#N/A"}},null,null,null,null,null,null,null,null,null,null,{"$f":"VLOOKUP(B4702,'(1) Project Reference Item List'!$B$2:$D$1000,3,FALSE)","v":{"$error":"#N/A"}},null,null,0,0]
[{"$f":"VLOOKUP(B4703,'(1) Project Reference Item List'!$B$2:$C$1000,2,FALSE)","v":{"$error":"#N/A"}},null,null,null,null,null,null,null,null,null,null,{"$f":"VLOOKUP(B4703,'(1) Project Reference Item List'!$B$2:$D$1000,3,FALSE)","v":{"$error":"#N/A"}},null,null,0,0]
[{"$f":"VLOOKUP(B4704,'(1) Project Reference Item List'!$B$2:$C$1000,2,FALSE)","v":{"$error":"#N/A"}},null,null,null,null,null,null,null,null,null,null,{"$f":"VLOOKUP(B4704,'(1) Project Reference Item List'!$B$2:$D$1000,3,FALSE)","v":{"$error":"#N/A"}},null,null,0,0]
[{"$f":"VLOOKUP(B4705,'(1) Project Reference Item List'!$B$2:$C$1000,2,FALSE)","v":{"$error":"#N/A"}},null,null,null,null,null,null,null,null,null,null,{"$f":"VLOOKUP(B4705,'(1) Project Reference Item List'!$B$2:$D$1000,3,FALSE)","v":{"$error":"#N/A"}},null,null,0,0]
[{"$f":"VLOOKUP(B4706,'(1) Project Reference Item List'!$B$2:$C$1000,2,FALSE)","v":{"$error":"#N/A"}},null,null,null,null,null,null,null,null,null,null,{"$f":"VLOOKUP(B4706,'(1) Project Reference Item List'!$B$2:$D$1000,3,FALSE)","v":{"$error":"#N/A"}},null,null,0,0]
[{"$f":"VLOOKUP(B4707,'(1) Project Reference Item List'!$B$2:$C$1000,2,FALSE)","v":{"$error":"#N/A"}},null,null,null,null,null,null,null,null,null,null,{"$f":"VLOOKUP(B4707,'(1) Project Reference Item List'!$B$2:$D$1000,3,FALSE)","v":{"$error":"#N/A"}},null,null,0,0]
[{"$f":"VLOOKUP(B4708,'(1) Project Reference Item List'!$B$2:$C$1000,2,FALSE)","v":{"$error":"#N/A"}},null,null,null,null,null,null,null,null,null,null,{"$f":"VLOOKUP(B4708,'(1) Project Reference Item List'!$B$2:$D$1000,3,FALSE)","v":{"$error":"#N/A"}},null,null,0,0]
[{"$f":"VLOOKUP(B4709,'(1) Project Reference Item List'!$B$2:$C$1000,2,FALSE)","v":{"$error":"#N/A"}},null,null,null,null,null,null,null,null,null,null,{"$f":"VLOOKUP(B4709,'(1) Project Reference Item List'!$B$2:$D$1000,3,FALSE)","v":{"$error":"#N/A"}},null,null,0,0]
[{"$f":"VLOOKUP(B4710,'(1) Project Reference Item List'!$B$2:$C$1000,2,FALSE)","v":{"$error":"#N/A"}},null,null,null,null,null,null,null,null,null,null,{"$f":"VLOOKUP(B4710,'(1) Project Reference Item List'!$B$2:$D$1000,3,FALSE)","v":{"$error":"#N/A"}},null,null,0,0]
[{"$f":"VLOOKUP(B4711,'(1) Project Reference Item List'!$B$2:$C$1000,2,FALSE)","v":{"$error":"#N/A"}},null,null,null,null,null,null,null,null,null,null,{"$f":"VLOOKUP(B4711,'(1) Project Reference Item List'!$B$2:$D$1000,3,FALSE)","v":{"$error":"#N/A"}},null,null,0,0]
[{"$f":"VLOOKUP(B4712,'(1) Project Reference Item List'!$B$2:$C$1000,2,FALSE)","v":{"$error":"#N/A"}},null,null,null,null,null,null,null,null,null,null,{"$f":"VLOOKUP(B4712,'(1) Project Reference Item List'!$B$2:$D$1000,3,FALSE)","v":{"$error":"#N/A"}},null,null,0,0]
[{"$f":"VLOOKUP(B4713,'(1) Project Reference Item List'!$B$2:$C$1000,2,FALSE)","v":{"$error":"#N/A"}},null,null,null,null,null,null,null,null,null,null,{"$f":"VLOOKUP(B4713,'(1) Project Reference Item List'!$B$2:$D$1000,3,FALSE)","v":{"$error":"#N/A"}},null,null,0,0]
[{"$f":"VLOOKUP(B4714,'(1) Project Reference Item List'!$B$2:$C$1000,2,FALSE)","v":{"$error":"#N/A"}},null,null,null,null,null,null,null,null,null,null,{"$f":"VLOOKUP(B4714,'(1) Project Reference Item List'!$B$2:$D$1000,3,FALSE)","v":{"$error":"#N/A"}},null,null,0,0]
[{"$f":"VLOOKUP(B4715,'(1) Project Reference Item List'!$B$2:$C$1000,2,FALSE)","v":{"$error":"#N/A"}},null,null,null,null,null,null,null,null,null,null,{"$f":"VLOOKUP(B4715,'(1) Project Reference Item List'!$B$2:$D$1000,3,FALSE)","v":{"$error":"#N/A"}},null,null,0,0]
[{"$f":"VLOOKUP(B4716,'(1) Project Reference Item List'!$B$2:$C$1000,2,FALSE)","v":{"$error":"#N/A"}},null,null,null,null,null,null,null,null,null,null,{"$f":"VLOOKUP(B4716,'(1) Project Reference Item List'!$B$2:$D$1000,3,FALSE)","v":{"$error":"#N/A"}},null,null,0,0]
[{"$f":"VLOOKUP(B4717,'(1) Project Reference Item List'!$B$2:$C$1000,2,FALSE)","v":{"$error":"#N/A"}},null,null,null,null,null,null,null,null,null,null,{"$f":"VLOOKUP(B4717,'(1) Project Reference Item List'!$B$2:$D$1000,3,FALSE)","v":{"$error":"#N/A"}},null,null,0,0]
[{"$f":"VLOOKUP(B4718,'(1) Project Reference Item List'!$B$2:$C$1000,2,FALSE)","v":{"$error":"#N/A"}},null,null,null,null,null,null,null,null,null,null,{"$f":"VLOOKUP(B4718,'(1) Project Reference Item List'!$B$2:$D$1000,3,FALSE)","v":{"$error":"#N/A"}},null,null,0,0]
[{"$f":"VLOOKUP(B4719,'(1) Project Reference Item List'!$B$2:$C$1000,2,FALSE)","v":{"$error":"#N/A"}},null,null,null,null,null,null,null,null,null,null,{"$f":"VLOOKUP(B4719,'(1) Project Reference Item List'!$B$2:$D$1000,3,FALSE)","v":{"$error":"#N/A"}},null,null,0,0]
[{"$f":"VLOOKUP(B4720,'(1) Project Reference Item List'!$B$2:$C$1000,2,FALSE)","v":{"$error":"#N/A"}},null,null,null,null,null,null,null,null,null,null,{"$f":"VLOOKUP(B4720,'(1) Project Reference Item List'!$B$2:$D$1000,3,FALSE)","v":{"$error":"#N/A"}},null,null,0,0]
[{"$f":"VLOOKUP(B4721,'(1) Project Reference Item List'!$B$2:$C$1000,2,FALSE)","v":{"$error":"#N/A"}},null,null,null,null,null,null,null,null,null,null,{"$f":"VLOOKUP(B4721,'(1) Project Reference Item List'!$B$2:$D$1000,3,FALSE)","v":{"$error":"#N/A"}},null,null,0,0]
[{"$f":"VLOOKUP(B4722,'(1) Project Reference Item List'!$B$2:$C$1000,2,FALSE)","v":{"$error":"#N/A"}},null,null,null,null,null,null,null,null,null,null,{"$f":"VLOOKUP(B4722,'(1) Project Reference Item List'!$B$2:$D$1000,3,FALSE)","v":{"$error":"#N/A"}},null,null,0,0]
[{"$f":"VLOOKUP(B4723,'(1) Project Reference Item List'!$B$2:$C$1000,2,FALSE)","v":{"$error":"#N/A"}},null,null,null,null,null,null,null,null,null,null,{"$f":"VLOOKUP(B4723,'(1) Project Reference Item List'!$B$2:$D$1000,3,FALSE)","v":{"$error":"#N/A"}},null,null,0,0]
[{"$f":"VLOOKUP(B4724,'(1) Project Reference Item List'!$B$2:$C$1000,2,FALSE)","v":{"$error":"#N/A"}},null,null,null,null,null,null,null,null,null,null,{"$f":"VLOOKUP(B4724,'(1) Project Reference Item List'!$B$2:$D$1000,3,FALSE)","v":{"$error":"#N/A"}},null,null,0,0]
[{"$f":"VLOOKUP(B4725,'(1) Project Reference Item List'!$B$2:$C$1000,2,FALSE)","v":{"$error":"#N/A"}},null,null,null,null,null,null,null,null,null,null,{"$f":"VLOOKUP(B4725,'(1) Project Reference Item List'!$B$2:$D$1000,3,FALSE)","v":{"$error":"#N/A"}},null,null,0,0]
[{"$f":"VLOOKUP(B4726,'(1) Project Reference Item List'!$B$2:$C$1000,2,FALSE)","v":{"$error":"#N/A"}},null,null,null,null,null,null,null,null,null,null,{"$f":"VLOOKUP(B4726,'(1) Project Reference Item List'!$B$2:$D$1000,3,FALSE)","v":{"$error":"#N/A"}},null,null,0,0]
[{"$f":"VLOOKUP(B4727,'(1) Project Reference Item List'!$B$2:$C$1000,2,FALSE)","v":{"$error":"#N/A"}},null,null,null,null,null,null,null,null,null,null,{"$f":"VLOOKUP(B4727,'(1) Project Reference Item List'!$B$2:$D$1000,3,FALSE)","v":{"$error":"#N/A"}},null,null,0,0]
[{"$f":"VLOOKUP(B4728,'(1) Project Reference Item List'!$B$2:$C$1000,2,FALSE)","v":{"$error":"#N/A"}},null,null,null,null,null,null,null,null,null,null,{"$f":"VLOOKUP(B4728,'(1) Project Reference Item List'!$B$2:$D$1000,3,FALSE)","v":{"$error":"#N/A"}},null,null,0,0]
[{"$f":"VLOOKUP(B4729,'(1) Project Reference Item List'!$B$2:$C$1000,2,FALSE)","v":{"$error":"#N/A"}},null,null,null,null,null,null,null,null,null,null,{"$f":"VLOOKUP(B4729,'(1) Project Reference Item List'!$B$2:$D$1000,3,FALSE)","v":{"$error":"#N/A"}},null,null,0,0]
[{"$f":"VLOOKUP(B4730,'(1) Project Reference Item List'!$B$2:$C$1000,2,FALSE)","v":{"$error":"#N/A"}},null,null,null,null,null,null,null,null,null,null,{"$f":"VLOOKUP(B4730,'(1) Project Reference Item List'!$B$2:$D$1000,3,FALSE)","v":{"$error":"#N/A"}},null,null,0,0]
[{"$f":"VLOOKUP(B4731,'(1) Project Reference Item List'!$B$2:$C$1000,2,FALSE)","v":{"$error":"#N/A"}},null,null,null,null,null,null,null,null,null,null,{"$f":"VLOOKUP(B4731,'(1) Project Reference Item List'!$B$2:$D$1000,3,FALSE)","v":{"$error":"#N/A"}},null,null,0,0]
[{"$f":"VLOOKUP(B4732,'(1) Project Reference Item List'!$B$2:$C$1000,2,FALSE)","v":{"$error":"#N/A"}},null,null,null,null,null,null,null,null,null,null,{"$f":"VLOOKUP(B4732,'(1) Project Reference Item List'!$B$2:$D$1000,3,FALSE)","v":{"$error":"#N/A"}},null,null,0,0]
[{"$f":"VLOOKUP(B4733,'(1) Project Reference Item List'!$B$2:$C$1000,2,FALSE)","v":{"$error":"#N/A"}},null,null,null,null,null,null,null,null,null,null,{"$f":"VLOOKUP(B4733,'(1) Project Reference Item List'!$B$2:$D$1000,3,FALSE)","v":{"$error":"#N/A"}},null,null,0,0]
[{"$f":"VLOOKUP(B4734,'(1) Project Reference Item List'!$B$2:$C$1000,2,FALSE)","v":{"$error":"#N/A"}},null,null,null,null,null,null,null,null,null,null,{"$f":"VLOOKUP(B4734,'(1) Project Reference Item List'!$B$2:$D$1000,3,FALSE)","v":{"$error":"#N/A"}},null,null,0,0]
[{"$f":"VLOOKUP(B4735,'(1) Project Reference Item List'!$B$2:$C$1000,2,FALSE)","v":{"$error":"#N/A"}},null,null,null,null,null,null,null,null,null,null,{"$f":"VLOOKUP(B4735,'(1) Project Reference Item List'!$B$2:$D$1000,3,FALSE)","v":{"$error":"#N/A"}},null,null,0,0]
[{"$f":"VLOOKUP(B4736,'(1) Project Reference Item List'!$B$2:$C$1000,2,FALSE)","v":{"$error":"#N/A"}},null,null,null,null,null,null,null,null,null,null,{"$f":"VLOOKUP(B4736,'(1) Project Reference Item List'!$B$2:$D$1000,3,FALSE)","v":{"$error":"#N/A"}},null,null,0,0]
[{"$f":"VLOOKUP(B4737,'(1) Project Reference Item List'!$B$2:$C$1000,2,FALSE)","v":{"$error":"#N/A"}},null,null,null,null,null,null,null,null,null,null,{"$f":"VLOOKUP(B4737,'(1) Project Reference Item List'!$B$2:$D$1000,3,FALSE)","v":{"$error":"#N/A"}},null,null,0,0]
[{"$f":"VLOOKUP(B4738,'(1) Project Reference Item List'!$B$2:$C$1000,2,FALSE)","v":{"$error":"#N/A"}},null,null,null,null,null,null,null,null,null,null,{"$f":"VLOOKUP(B4738,'(1) Project Reference Item List'!$B$2:$D$1000,3,FALSE)","v":{"$error":"#N/A"}},null,null,0,0]
[{"$f":"VLOOKUP(B4739,'(1) Project Reference Item List'!$B$2:$C$1000,2,FALSE)","v":{"$error":"#N/A"}},null,null,null,null,null,null,null,null,null,null,{"$f":"VLOOKUP(B4739,'(1) Project Reference Item List'!$B$2:$D$1000,3,FALSE)","v":{"$error":"#N/A"}},null,null,0,0]
[{"$f":"VLOOKUP(B4740,'(1) Project Reference Item List'!$B$2:$C$1000,2,FALSE)","v":{"$error":"#N/A"}},null,null,null,null,null,null,null,null,null,null,{"$f":"VLOOKUP(B4740,'(1) Project Reference Item List'!$B$2:$D$1000,3,FALSE)","v":{"$error":"#N/A"}},null,null,0,0]
[{"$f":"VLOOKUP(B4741,'(1) Project Reference Item List'!$B$2:$C$1000,2,FALSE)","v":{"$error":"#N/A"}},null,null,null,null,null,null,null,null,null,null,{"$f":"VLOOKUP(B4741,'(1) Project Reference Item List'!$B$2:$D$1000,3,FALSE)","v":{"$error":"#N/A"}},null,null,0,0]
[{"$f":"VLOOKUP(B4742,'(1) Project Reference Item List'!$B$2:$C$1000,2,FALSE)","v":{"$error":"#N/A"}},null,null,null,null,null,null,null,null,null,null,{"$f":"VLOOKUP(B4742,'(1) Project Reference Item List'!$B$2:$D$1000,3,FALSE)","v":{"$error":"#N/A"}},null,null,{"$f":"IF(J4742=0,J4742,J4742*N4742)","v":0},{"$f":"(M4742-O4742)","v":0}]
[{"$f":"VLOOKUP(B4743,'(1) Project Reference Item List'!$B$2:$C$1000,2,FALSE)","v":{"$error":"#N/A"}},null,null,null,null,null,null,null,null,null,null,{"$f":"VLOOKUP(B4743,'(1) Project Reference Item List'!$B$2:$D$1000,3,FALSE)","v":{"$error":"#N/A"}},null,null,0,0]
[{"$f":"VLOOKUP(B4744,'(1) Project Reference Item List'!$B$2:$C$1000,2,FALSE)","v":{"$error":"#N/A"}},null,null,null,null,null,null,null,null,null,null,{"$f":"VLOOKUP(B4744,'(1) Project Reference Item List'!$B$2:$D$1000,3,FALSE)","v":{"$error":"#N/A"}},null,null,0,0]
[{"$f":"VLOOKUP(B4745,'(1) Project Reference Item List'!$B$2:$C$1000,2,FALSE)","v":{"$error":"#N/A"}},null,null,null,null,null,null,null,null,null,null,{"$f":"VLOOKUP(B4745,'(1) Project Reference Item List'!$B$2:$D$1000,3,FALSE)","v":{"$error":"#N/A"}},null,null,0,0]
[{"$f":"VLOOKUP(B4746,'(1) Project Reference Item List'!$B$2:$C$1000,2,FALSE)","v":{"$error":"#N/A"}},null,null,null,null,null,null,null,null,null,null,{"$f":"VLOOKUP(B4746,'(1) Project Reference Item List'!$B$2:$D$1000,3,FALSE)","v":{"$error":"#N/A"}},null,null,0,0]
[{"$f":"VLOOKUP(B4747,'(1) Project Reference Item List'!$B$2:$C$1000,2,FALSE)","v":{"$error":"#N/A"}},null,null,null,null,null,null,null,null,null,null,{"$f":"VLOOKUP(B4747,'(1) Project Reference Item List'!$B$2:$D$1000,3,FALSE)","v":{"$error":"#N/A"}},null,null,0,0]
[{"$f":"VLOOKUP(B4748,'(1) Project Reference Item List'!$B$2:$C$1000,2,FALSE)","v":{"$error":"#N/A"}},null,null,null,null,null,null,null,null,null,null,{"$f":"VLOOKUP(B4748,'(1) Project Reference Item List'!$B$2:$D$1000,3,FALSE)","v":{"$error":"#N/A"}},null,null,0,0]
[{"$f":"VLOOKUP(B4749,'(1) Project Reference Item List'!$B$2:$C$1000,2,FALSE)","v":{"$error":"#N/A"}},null,null,null,null,null,null,null,null,null,null,{"$f":"VLOOKUP(B4749,'(1) Project Reference Item List'!$B$2:$D$1000,3,FALSE)","v":{"$error":"#N/A"}},null,null,0,0]
[{"$f":"VLOOKUP(B4750,'(1) Project Reference Item List'!$B$2:$C$1000,2,FALSE)","v":{"$error":"#N/A"}},null,null,null,null,null,null,null,null,null,null,{"$f":"VLOOKUP(B4750,'(1) Project Reference Item List'!$B$2:$D$1000,3,FALSE)","v":{"$error":"#N/A"}},null,null,0,0]
[{"$f":"VLOOKUP(B4751,'(1) Project Reference Item List'!$B$2:$C$1000,2,FALSE)","v":{"$error":"#N/A"}},null,null,null,null,null,null,null,null,null,null,{"$f":"VLOOKUP(B4751,'(1) Project Reference Item List'!$B$2:$D$1000,3,FALSE)","v":{"$error":"#N/A"}},null,null,0,0]
[{"$f":"VLOOKUP(B4752,'(1) Project Reference Item List'!$B$2:$C$1000,2,FALSE)","v":{"$error":"#N/A"}},null,null,null,null,null,null,null,null,null,null,{"$f":"VLOOKUP(B4752,'(1) Project Reference Item List'!$B$2:$D$1000,3,FALSE)","v":{"$error":"#N/A"}},null,null,0,0]
[{"$f":"VLOOKUP(B4753,'(1) Project Reference Item List'!$B$2:$C$1000,2,FALSE)","v":{"$error":"#N/A"}},null,null,null,null,null,null,null,null,null,null,{"$f":"VLOOKUP(B4753,'(1) Project Reference Item List'!$B$2:$D$1000,3,FALSE)","v":{"$error":"#N/A"}},null,null,0,0]
[{"$f":"VLOOKUP(B4754,'(1) Project Reference Item List'!$B$2:$C$1000,2,FALSE)","v":{"$error":"#N/A"}},null,null,null,null,null,null,null,null,null,null,{"$f":"VLOOKUP(B4754,'(1) Project Reference Item List'!$B$2:$D$1000,3,FALSE)","v":{"$error":"#N/A"}},null,null,0,0]
[{"$f":"VLOOKUP(B4755,'(1) Project Reference Item List'!$B$2:$C$1000,2,FALSE)","v":{"$error":"#N/A"}},null,null,null,null,null,null,null,null,null,null,{"$f":"VLOOKUP(B4755,'(1) Project Reference Item List'!$B$2:$D$1000,3,FALSE)","v":{"$error":"#N/A"}},null,null,0,0]
[{"$f":"VLOOKUP(B4756,'(1) Project Reference Item List'!$B$2:$C$1000,2,FALSE)","v":{"$error":"#N/A"}},null,null,null,null,null,null,null,null,null,null,{"$f":"VLOOKUP(B4756,'(1) Project Reference Item List'!$B$2:$D$1000,3,FALSE)","v":{"$error":"#N/A"}},null,null,0,0]
[{"$f":"VLOOKUP(B4757,'(1) Project Reference Item List'!$B$2:$C$1000,2,FALSE)","v":{"$error":"#N/A"}},null,null,null,null,null,null,null,null,null,null,{"$f":"VLOOKUP(B4757,'(1) Project Reference Item List'!$B$2:$D$1000,3,FALSE)","v":{"$error":"#N/A"}},null,null,0,0]
[{"$f":"VLOOKUP(B4758,'(1) Project Reference Item List'!$B$2:$C$1000,2,FALSE)","v":{"$error":"#N/A"}},null,null,null,null,null,null,null,null,null,null,{"$f":"VLOOKUP(B4758,'(1) Project Reference Item List'!$B$2:$D$1000,3,FALSE)","v":{"$error":"#N/A"}},null,null,0,0]
[{"$f":"VLOOKUP(B4759,'(1) Project Reference Item List'!$B$2:$C$1000,2,FALSE)","v":{"$error":"#N/A"}},null,null,null,null,null,null,null,null,null,null,{"$f":"VLOOKUP(B4759,'(1) Project Reference Item List'!$B$2:$D$1000,3,FALSE)","v":{"$error":"#N/A"}},null,null,0,0]
[{"$f":"VLOOKUP(B4760,'(1) Project Reference Item List'!$B$2:$C$1000,2,FALSE)","v":{"$error":"#N/A"}},null,null,null,null,null,null,null,null,null,null,{"$f":"VLOOKUP(B4760,'(1) Project Reference Item List'!$B$2:$D$1000,3,FALSE)","v":{"$error":"#N/A"}},null,null,0,0]
[{"$f":"VLOOKUP(B4761,'(1) Project Reference Item List'!$B$2:$C$1000,2,FALSE)","v":{"$error":"#N/A"}},null,null,null,null,null,null,null,null,null,null,{"$f":"VLOOKUP(B4761,'(1) Project Reference Item List'!$B$2:$D$1000,3,FALSE)","v":{"$error":"#N/A"}},null,null,0,0]
[{"$f":"VLOOKUP(B4762,'(1) Project Reference Item List'!$B$2:$C$1000,2,FALSE)","v":{"$error":"#N/A"}},null,null,null,null,null,null,null,null,null,null,{"$f":"VLOOKUP(B4762,'(1) Project Reference Item List'!$B$2:$D$1000,3,FALSE)","v":{"$error":"#N/A"}},null,null,0,0]
[{"$f":"VLOOKUP(B4763,'(1) Project Reference Item List'!$B$2:$C$1000,2,FALSE)","v":{"$error":"#N/A"}},null,null,null,null,null,null,null,null,null,null,{"$f":"VLOOKUP(B4763,'(1) Project Reference Item List'!$B$2:$D$1000,3,FALSE)","v":{"$error":"#N/A"}},null,null,0,0]
[{"$f":"VLOOKUP(B4764,'(1) Project Reference Item List'!$B$2:$C$1000,2,FALSE)","v":{"$error":"#N/A"}},null,null,null,null,null,null,null,null,null,null,{"$f":"VLOOKUP(B4764,'(1) Project Reference Item List'!$B$2:$D$1000,3,FALSE)","v":{"$error":"#N/A"}},null,null,0,0]
[{"$f":"VLOOKUP(B4765,'(1) Project Reference Item List'!$B$2:$C$1000,2,FALSE)","v":{"$error":"#N/A"}},null,null,null,null,null,null,null,null,null,null,{"$f":"VLOOKUP(B4765,'(1) Project Reference Item List'!$B$2:$D$1000,3,FALSE)","v":{"$error":"#N/A"}},null,null,0,0]
[{"$f":"VLOOKUP(B4766,'(1) Project Reference Item List'!$B$2:$C$1000,2,FALSE)","v":{"$error":"#N/A"}},null,null,null,null,null,null,null,null,null,null,{"$f":"VLOOKUP(B4766,'(1) Project Reference Item List'!$B$2:$D$1000,3,FALSE)","v":{"$error":"#N/A"}},null,null,0,0]
[{"$f":"VLOOKUP(B4767,'(1) Project Reference Item List'!$B$2:$C$1000,2,FALSE)","v":{"$error":"#N/A"}},null,null,null,null,null,null,null,null,null,null,{"$f":"VLOOKUP(B4767,'(1) Project Reference Item List'!$B$2:$D$1000,3,FALSE)","v":{"$error":"#N/A"}},null,null,0,0]
[{"$f":"VLOOKUP(B4768,'(1) Project Reference Item List'!$B$2:$C$1000,2,FALSE)","v":{"$error":"#N/A"}},null,null,null,null,null,null,null,null,null,null,{"$f":"VLOOKUP(B4768,'(1) Project Reference Item List'!$B$2:$D$1000,3,FALSE)","v":{"$error":"#N/A"}},null,null,0,0]
[{"$f":"VLOOKUP(B4769,'(1) Project Reference Item List'!$B$2:$C$1000,2,FALSE)","v":{"$error":"#N/A"}},null,null,null,null,null,null,null,null,null,null,{"$f":"VLOOKUP(B4769,'(1) Project Reference Item List'!$B$2:$D$1000,3,FALSE)","v":{"$error":"#N/A"}},null,null,0,0]
[{"$f":"VLOOKUP(B4770,'(1) Project Reference Item List'!$B$2:$C$1000,2,FALSE)","v":{"$error":"#N/A"}},null,null,null,null,null,null,null,null,null,null,{"$f":"VLOOKUP(B4770,'(1) Project Reference Item List'!$B$2:$D$1000,3,FALSE)","v":{"$error":"#N/A"}},null,null,0,0]
[{"$f":"VLOOKUP(B4771,'(1) Project Reference Item List'!$B$2:$C$1000,2,FALSE)","v":{"$error":"#N/A"}},null,null,null,null,null,null,null,null,null,null,{"$f":"VLOOKUP(B4771,'(1) Project Reference Item List'!$B$2:$D$1000,3,FALSE)","v":{"$error":"#N/A"}},null,null,0,0]
[{"$f":"VLOOKUP(B4772,'(1) Project Reference Item List'!$B$2:$C$1000,2,FALSE)","v":{"$error":"#N/A"}},null,null,null,null,null,null,null,null,null,null,{"$f":"VLOOKUP(B4772,'(1) Project Reference Item List'!$B$2:$D$1000,3,FALSE)","v":{"$error":"#N/A"}},null,null,0,0]
[{"$f":"VLOOKUP(B4773,'(1) Project Reference Item List'!$B$2:$C$1000,2,FALSE)","v":{"$error":"#N/A"}},null,null,null,null,null,null,null,null,null,null,{"$f":"VLOOKUP(B4773,'(1) Project Reference Item List'!$B$2:$D$1000,3,FALSE)","v":{"$error":"#N/A"}},null,null,0,0]
[{"$f":"VLOOKUP(B4774,'(1) Project Reference Item List'!$B$2:$C$1000,2,FALSE)","v":{"$error":"#N/A"}},null,null,null,null,null,null,null,null,null,null,{"$f":"VLOOKUP(B4774,'(1) Project Reference Item List'!$B$2:$D$1000,3,FALSE)","v":{"$error":"#N/A"}},null,null,0,0]
[{"$f":"VLOOKUP(B4775,'(1) Project Reference Item List'!$B$2:$C$1000,2,FALSE)","v":{"$error":"#N/A"}},null,null,null,null,null,null,null,null,null,null,{"$f":"VLOOKUP(B4775,'(1) Project Reference Item List'!$B$2:$D$1000,3,FALSE)","v":{"$error":"#N/A"}},null,null,0,0]
[{"$f":"VLOOKUP(B4776,'(1) Project Reference Item List'!$B$2:$C$1000,2,FALSE)","v":{"$error":"#N/A"}},null,null,null,null,null,null,null,null,null,null,{"$f":"VLOOKUP(B4776,'(1) Project Reference Item List'!$B$2:$D$1000,3,FALSE)","v":{"$error":"#N/A"}},null,null,0,0]
[{"$f":"VLOOKUP(B4777,'(1) Project Reference Item List'!$B$2:$C$1000,2,FALSE)","v":{"$error":"#N/A"}},null,null,null,null,null,null,null,null,null,null,{"$f":"VLOOKUP(B4777,'(1) Project Reference Item List'!$B$2:$D$1000,3,FALSE)","v":{"$error":"#N/A"}},null,null,0,0]
[{"$f":"VLOOKUP(B4778,'(1) Project Reference Item List'!$B$2:$C$1000,2,FALSE)","v":{"$error":"#N/A"}},null,null,null,null,null,null,null,null,null,null,{"$f":"VLOOKUP(B4778,'(1) Project Reference Item List'!$B$2:$D$1000,3,FALSE)","v":{"$error":"#N/A"}},null,null,0,0]
[{"$f":"VLOOKUP(B4779,'(1) Project Reference Item List'!$B$2:$C$1000,2,FALSE)","v":{"$error":"#N/A"}},null,null,null,null,null,null,null,null,null,null,{"$f":"VLOOKUP(B4779,'(1) Project Reference Item List'!$B$2:$D$1000,3,FALSE)","v":{"$error":"#N/A"}},null,null,0,0]
[{"$f":"VLOOKUP(B4780,'(1) Project Reference Item List'!$B$2:$C$1000,2,FALSE)","v":{"$error":"#N/A"}},null,null,null,null,null,null,null,null,null,null,{"$f":"VLOOKUP(B4780,'(1) Project Reference Item List'!$B$2:$D$1000,3,FALSE)","v":{"$error":"#N/A"}},null,null,0,0]
[{"$f":"VLOOKUP(B4781,'(1) Project Reference Item List'!$B$2:$C$1000,2,FALSE)","v":{"$error":"#N/A"}},null,null,null,null,null,null,null,null,null,null,{"$f":"VLOOKUP(B4781,'(1) Project Reference Item List'!$B$2:$D$1000,3,FALSE)","v":{"$error":"#N/A"}},null,null,0,0]
[{"$f":"VLOOKUP(B4782,'(1) Project Reference Item List'!$B$2:$C$1000,2,FALSE)","v":{"$error":"#N/A"}},null,null,null,null,null,null,null,null,null,null,{"$f":"VLOOKUP(B4782,'(1) Project Reference Item List'!$B$2:$D$1000,3,FALSE)","v":{"$error":"#N/A"}},null,null,0,0]
[{"$f":"VLOOKUP(B4783,'(1) Project Reference Item List'!$B$2:$C$1000,2,FALSE)","v":{"$error":"#N/A"}},null,null,null,null,null,null,null,null,null,null,{"$f":"VLOOKUP(B4783,'(1) Project Reference Item List'!$B$2:$D$1000,3,FALSE)","v":{"$error":"#N/A"}},null,null,0,0]
[{"$f":"VLOOKUP(B4784,'(1) Project Reference Item List'!$B$2:$C$1000,2,FALSE)","v":{"$error":"#N/A"}},null,null,null,null,null,null,null,null,null,null,{"$f":"VLOOKUP(B4784,'(1) Project Reference Item List'!$B$2:$D$1000,3,FALSE)","v":{"$error":"#N/A"}},null,null,0,0]
[{"$f":"VLOOKUP(B4785,'(1) Project Reference Item List'!$B$2:$C$1000,2,FALSE)","v":{"$error":"#N/A"}},null,null,null,null,null,null,null,null,null,null,{"$f":"VLOOKUP(B4785,'(1) Project Reference Item List'!$B$2:$D$1000,3,FALSE)","v":{"$error":"#N/A"}},null,null,0,0]
[{"$f":"VLOOKUP(B4786,'(1) Project Reference Item List'!$B$2:$C$1000,2,FALSE)","v":{"$error":"#N/A"}},null,null,null,null,null,null,null,null,null,null,{"$f":"VLOOKUP(B4786,'(1) Project Reference Item List'!$B$2:$D$1000,3,FALSE)","v":{"$error":"#N/A"}},null,null,0,0]
[{"$f":"VLOOKUP(B4787,'(1) Project Reference Item List'!$B$2:$C$1000,2,FALSE)","v":{"$error":"#N/A"}},null,null,null,null,null,null,null,null,null,null,{"$f":"VLOOKUP(B4787,'(1) Project Reference Item List'!$B$2:$D$1000,3,FALSE)","v":{"$error":"#N/A"}},null,null,0,0]
[{"$f":"VLOOKUP(B4788,'(1) Project Reference Item List'!$B$2:$C$1000,2,FALSE)","v":{"$error":"#N/A"}},null,null,null,null,null,null,null,null,null,null,{"$f":"VLOOKUP(B4788,'(1) Project Reference Item List'!$B$2:$D$1000,3,FALSE)","v":{"$error":"#N/A"}},null,null,0,0]
[{"$f":"VLOOKUP(B4789,'(1) Project Reference Item List'!$B$2:$C$1000,2,FALSE)","v":{"$error":"#N/A"}},null,null,null,null,null,null,null,null,null,null,{"$f":"VLOOKUP(B4789,'(1) Project Reference Item List'!$B$2:$D$1000,3,FALSE)","v":{"$error":"#N/A"}},null,null,0,0]
[{"$f":"VLOOKUP(B4790,'(1) Project Reference Item List'!$B$2:$C$1000,2,FALSE)","v":{"$error":"#N/A"}},null,null,null,null,null,null,null,null,null,null,{"$f":"VLOOKUP(B4790,'(1) Project Reference Item List'!$B$2:$D$1000,3,FALSE)","v":{"$error":"#N/A"}},null,null,0,0]
[{"$f":"VLOOKUP(B4791,'(1) Project Reference Item List'!$B$2:$C$1000,2,FALSE)","v":{"$error":"#N/A"}},null,null,null,null,null,null,null,null,null,null,{"$f":"VLOOKUP(B4791,'(1) Project Reference Item List'!$B$2:$D$1000,3,FALSE)","v":{"$error":"#N/A"}},null,null,0,0]
[{"$f":"VLOOKUP(B4792,'(1) Project Reference Item List'!$B$2:$C$1000,2,FALSE)","v":{"$error":"#N/A"}},null,null,null,null,null,null,null,null,null,null,{"$f":"VLOOKUP(B4792,'(1) Project Reference Item List'!$B$2:$D$1000,3,FALSE)","v":{"$error":"#N/A"}},null,null,0,0]
[{"$f":"VLOOKUP(B4793,'(1) Project Reference Item List'!$B$2:$C$1000,2,FALSE)","v":{"$error":"#N/A"}},null,null,null,null,null,null,null,null,null,null,{"$f":"VLOOKUP(B4793,'(1) Project Reference Item List'!$B$2:$D$1000,3,FALSE)","v":{"$error":"#N/A"}},null,null,0,0]
[{"$f":"VLOOKUP(B4794,'(1) Project Reference Item List'!$B$2:$C$1000,2,FALSE)","v":{"$error":"#N/A"}},null,null,null,null,null,null,null,null,null,null,{"$f":"VLOOKUP(B4794,'(1) Project Reference Item List'!$B$2:$D$1000,3,FALSE)","v":{"$error":"#N/A"}},null,null,0,0]
[{"$f":"VLOOKUP(B4795,'(1) Project Reference Item List'!$B$2:$C$1000,2,FALSE)","v":{"$error":"#N/A"}},null,null,null,null,null,null,null,null,null,null,{"$f":"VLOOKUP(B4795,'(1) Project Reference Item List'!$B$2:$D$1000,3,FALSE)","v":{"$error":"#N/A"}},null,null,0,0]
[{"$f":"VLOOKUP(B4796,'(1) Project Reference Item List'!$B$2:$C$1000,2,FALSE)","v":{"$error":"#N/A"}},null,null,null,null,null,null,null,null,null,null,{"$f":"VLOOKUP(B4796,'(1) Project Reference Item List'!$B$2:$D$1000,3,FALSE)","v":{"$error":"#N/A"}},null,null,0,0]
[{"$f":"VLOOKUP(B4797,'(1) Project Reference Item List'!$B$2:$C$1000,2,FALSE)","v":{"$error":"#N/A"}},null,null,null,null,null,null,null,null,null,null,{"$f":"VLOOKUP(B4797,'(1) Project Reference Item List'!$B$2:$D$1000,3,FALSE)","v":{"$error":"#N/A"}},null,null,0,0]
[{"$f":"VLOOKUP(B4798,'(1) Project Reference Item List'!$B$2:$C$1000,2,FALSE)","v":{"$error":"#N/A"}},null,null,null,null,null,null,null,null,null,null,{"$f":"VLOOKUP(B4798,'(1) Project Reference Item List'!$B$2:$D$1000,3,FALSE)","v":{"$error":"#N/A"}},null,null,0,0]
[{"$f":"VLOOKUP(B4799,'(1) Project Reference Item List'!$B$2:$C$1000,2,FALSE)","v":{"$error":"#N/A"}},null,null,null,null,null,null,null,null,null,null,{"$f":"VLOOKUP(B4799,'(1) Project Reference Item List'!$B$2:$D$1000,3,FALSE)","v":{"$error":"#N/A"}},null,null,0,0]
[{"$f":"VLOOKUP(B4800,'(1) Project Reference Item List'!$B$2:$C$1000,2,FALSE)","v":{"$error":"#N/A"}},null,null,null,null,null,null,null,null,null,null,{"$f":"VLOOKUP(B4800,'(1) Project Reference Item List'!$B$2:$D$1000,3,FALSE)","v":{"$error":"#N/A"}},null,null,0,0]
[{"$f":"VLOOKUP(B4801,'(1) Project Reference Item List'!$B$2:$C$1000,2,FALSE)","v":{"$error":"#N/A"}},null,null,null,null,null,null,null,null,null,null,{"$f":"VLOOKUP(B4801,'(1) Project Reference Item List'!$B$2:$D$1000,3,FALSE)","v":{"$error":"#N/A"}},null,null,0,0]
[{"$f":"VLOOKUP(B4802,'(1) Project Reference Item List'!$B$2:$C$1000,2,FALSE)","v":{"$error":"#N/A"}},null,null,null,null,null,null,null,null,null,null,{"$f":"VLOOKUP(B4802,'(1) Project Reference Item List'!$B$2:$D$1000,3,FALSE)","v":{"$error":"#N/A"}},null,null,0,0]
[{"$f":"VLOOKUP(B4803,'(1) Project Reference Item List'!$B$2:$C$1000,2,FALSE)","v":{"$error":"#N/A"}},null,null,null,null,null,null,null,null,null,null,{"$f":"VLOOKUP(B4803,'(1) Project Reference Item List'!$B$2:$D$1000,3,FALSE)","v":{"$error":"#N/A"}},null,null,0,0]
[{"$f":"VLOOKUP(B4804,'(1) Project Reference Item List'!$B$2:$C$1000,2,FALSE)","v":{"$error":"#N/A"}},null,null,null,null,null,null,null,null,null,null,{"$f":"VLOOKUP(B4804,'(1) Project Reference Item List'!$B$2:$D$1000,3,FALSE)","v":{"$error":"#N/A"}},null,null,0,0]
[{"$f":"VLOOKUP(B4805,'(1) Project Reference Item List'!$B$2:$C$1000,2,FALSE)","v":{"$error":"#N/A"}},null,null,null,null,null,null,null,null,null,null,{"$f":"VLOOKUP(B4805,'(1) Project Reference Item List'!$B$2:$D$1000,3,FALSE)","v":{"$error":"#N/A"}},null,null,0,0]
[{"$f":"VLOOKUP(B4806,'(1) Project Reference Item List'!$B$2:$C$1000,2,FALSE)","v":{"$error":"#N/A"}},null,null,null,null,null,null,null,null,null,null,{"$f":"VLOOKUP(B4806,'(1) Project Reference Item List'!$B$2:$D$1000,3,FALSE)","v":{"$error":"#N/A"}},null,null,{"$f":"IF(J4806=0,J4806,J4806*N4806)","v":0},{"$f":"(M4806-O4806)","v":0}]
[{"$f":"VLOOKUP(B4807,'(1) Project Reference Item List'!$B$2:$C$1000,2,FALSE)","v":{"$error":"#N/A"}},null,null,null,null,null,null,null,null,null,null,{"$f":"VLOOKUP(B4807,'(1) Project Reference Item List'!$B$2:$D$1000,3,FALSE)","v":{"$error":"#N/A"}},null,null,0,0]
[{"$f":"VLOOKUP(B4808,'(1) Project Reference Item List'!$B$2:$C$1000,2,FALSE)","v":{"$error":"#N/A"}},null,null,null,null,null,null,null,null,null,null,{"$f":"VLOOKUP(B4808,'(1) Project Reference Item List'!$B$2:$D$1000,3,FALSE)","v":{"$error":"#N/A"}},null,null,0,0]
[{"$f":"VLOOKUP(B4809,'(1) Project Reference Item List'!$B$2:$C$1000,2,FALSE)","v":{"$error":"#N/A"}},null,null,null,null,null,null,null,null,null,null,{"$f":"VLOOKUP(B4809,'(1) Project Reference Item List'!$B$2:$D$1000,3,FALSE)","v":{"$error":"#N/A"}},null,null,0,0]
[{"$f":"VLOOKUP(B4810,'(1) Project Reference Item List'!$B$2:$C$1000,2,FALSE)","v":{"$error":"#N/A"}},null,null,null,null,null,null,null,null,null,null,{"$f":"VLOOKUP(B4810,'(1) Project Reference Item List'!$B$2:$D$1000,3,FALSE)","v":{"$error":"#N/A"}},null,null,0,0]
[{"$f":"VLOOKUP(B4811,'(1) Project Reference Item List'!$B$2:$C$1000,2,FALSE)","v":{"$error":"#N/A"}},null,null,null,null,null,null,null,null,null,null,{"$f":"VLOOKUP(B4811,'(1) Project Reference Item List'!$B$2:$D$1000,3,FALSE)","v":{"$error":"#N/A"}},null,null,0,0]
[{"$f":"VLOOKUP(B4812,'(1) Project Reference Item List'!$B$2:$C$1000,2,FALSE)","v":{"$error":"#N/A"}},null,null,null,null,null,null,null,null,null,null,{"$f":"VLOOKUP(B4812,'(1) Project Reference Item List'!$B$2:$D$1000,3,FALSE)","v":{"$error":"#N/A"}},null,null,0,0]
[{"$f":"VLOOKUP(B4813,'(1) Project Reference Item List'!$B$2:$C$1000,2,FALSE)","v":{"$error":"#N/A"}},null,null,null,null,null,null,null,null,null,null,{"$f":"VLOOKUP(B4813,'(1) Project Reference Item List'!$B$2:$D$1000,3,FALSE)","v":{"$error":"#N/A"}},null,null,0,0]
[{"$f":"VLOOKUP(B4814,'(1) Project Reference Item List'!$B$2:$C$1000,2,FALSE)","v":{"$error":"#N/A"}},null,null,null,null,null,null,null,null,null,null,{"$f":"VLOOKUP(B4814,'(1) Project Reference Item List'!$B$2:$D$1000,3,FALSE)","v":{"$error":"#N/A"}},null,null,0,0]
[{"$f":"VLOOKUP(B4815,'(1) Project Reference Item List'!$B$2:$C$1000,2,FALSE)","v":{"$error":"#N/A"}},null,null,null,null,null,null,null,null,null,null,{"$f":"VLOOKUP(B4815,'(1) Project Reference Item List'!$B$2:$D$1000,3,FALSE)","v":{"$error":"#N/A"}},null,null,0,0]
[{"$f":"VLOOKUP(B4816,'(1) Project Reference Item List'!$B$2:$C$1000,2,FALSE)","v":{"$error":"#N/A"}},null,null,null,null,null,null,null,null,null,null,{"$f":"VLOOKUP(B4816,'(1) Project Reference Item List'!$B$2:$D$1000,3,FALSE)","v":{"$error":"#N/A"}},null,null,0,0]
[{"$f":"VLOOKUP(B4817,'(1) Project Reference Item List'!$B$2:$C$1000,2,FALSE)","v":{"$error":"#N/A"}},null,null,null,null,null,null,null,null,null,null,{"$f":"VLOOKUP(B4817,'(1) Project Reference Item List'!$B$2:$D$1000,3,FALSE)","v":{"$error":"#N/A"}},null,null,0,0]
[{"$f":"VLOOKUP(B4818,'(1) Project Reference Item List'!$B$2:$C$1000,2,FALSE)","v":{"$error":"#N/A"}},null,null,null,null,null,null,null,null,null,null,{"$f":"VLOOKUP(B4818,'(1) Project Reference Item List'!$B$2:$D$1000,3,FALSE)","v":{"$error":"#N/A"}},null,null,0,0]
[{"$f":"VLOOKUP(B4819,'(1) Project Reference Item List'!$B$2:$C$1000,2,FALSE)","v":{"$error":"#N/A"}},null,null,null,null,null,null,null,null,null,null,{"$f":"VLOOKUP(B4819,'(1) Project Reference Item List'!$B$2:$D$1000,3,FALSE)","v":{"$error":"#N/A"}},null,null,0,0]
[{"$f":"VLOOKUP(B4820,'(1) Project Reference Item List'!$B$2:$C$1000,2,FALSE)","v":{"$error":"#N/A"}},null,null,null,null,null,null,null,null,null,null,{"$f":"VLOOKUP(B4820,'(1) Project Reference Item List'!$B$2:$D$1000,3,FALSE)","v":{"$error":"#N/A"}},null,null,0,0]
[{"$f":"VLOOKUP(B4821,'(1) Project Reference Item List'!$B$2:$C$1000,2,FALSE)","v":{"$error":"#N/A"}},null,null,null,null,null,null,null,null,null,null,{"$f":"VLOOKUP(B4821,'(1) Project Reference Item List'!$B$2:$D$1000,3,FALSE)","v":{"$error":"#N/A"}},null,null,0,0]
[{"$f":"VLOOKUP(B4822,'(1) Project Reference Item List'!$B$2:$C$1000,2,FALSE)","v":{"$error":"#N/A"}},null,null,null,null,null,null,null,null,null,null,{"$f":"VLOOKUP(B4822,'(1) Project Reference Item List'!$B$2:$D$1000,3,FALSE)","v":{"$error":"#N/A"}},null,null,0,0]
[{"$f":"VLOOKUP(B4823,'(1) Project Reference Item List'!$B$2:$C$1000,2,FALSE)","v":{"$error":"#N/A"}},null,null,null,null,null,null,null,null,null,null,{"$f":"VLOOKUP(B4823,'(1) Project Reference Item List'!$B$2:$D$1000,3,FALSE)","v":{"$error":"#N/A"}},null,null,0,0]
[{"$f":"VLOOKUP(B4824,'(1) Project Reference Item List'!$B$2:$C$1000,2,FALSE)","v":{"$error":"#N/A"}},null,null,null,null,null,null,null,null,null,null,{"$f":"VLOOKUP(B4824,'(1) Project Reference Item List'!$B$2:$D$1000,3,FALSE)","v":{"$error":"#N/A"}},null,null,0,0]
[{"$f":"VLOOKUP(B4825,'(1) Project Reference Item List'!$B$2:$C$1000,2,FALSE)","v":{"$error":"#N/A"}},null,null,null,null,null,null,null,null,null,null,{"$f":"VLOOKUP(B4825,'(1) Project Reference Item List'!$B$2:$D$1000,3,FALSE)","v":{"$error":"#N/A"}},null,null,0,0]
[{"$f":"VLOOKUP(B4826,'(1) Project Reference Item List'!$B$2:$C$1000,2,FALSE)","v":{"$error":"#N/A"}},null,null,null,null,null,null,null,null,null,null,{"$f":"VLOOKUP(B4826,'(1) Project Reference Item List'!$B$2:$D$1000,3,FALSE)","v":{"$error":"#N/A"}},null,null,0,0]
[{"$f":"VLOOKUP(B4827,'(1) Project Reference Item List'!$B$2:$C$1000,2,FALSE)","v":{"$error":"#N/A"}},null,null,null,null,null,null,null,null,null,null,{"$f":"VLOOKUP(B4827,'(1) Project Reference Item List'!$B$2:$D$1000,3,FALSE)","v":{"$error":"#N/A"}},null,null,0,0]
[{"$f":"VLOOKUP(B4828,'(1) Project Reference Item List'!$B$2:$C$1000,2,FALSE)","v":{"$error":"#N/A"}},null,null,null,null,null,null,null,null,null,null,{"$f":"VLOOKUP(B4828,'(1) Project Reference Item List'!$B$2:$D$1000,3,FALSE)","v":{"$error":"#N/A"}},null,null,0,0]
[{"$f":"VLOOKUP(B4829,'(1) Project Reference Item List'!$B$2:$C$1000,2,FALSE)","v":{"$error":"#N/A"}},null,null,null,null,null,null,null,null,null,null,{"$f":"VLOOKUP(B4829,'(1) Project Reference Item List'!$B$2:$D$1000,3,FALSE)","v":{"$error":"#N/A"}},null,null,0,0]
[{"$f":"VLOOKUP(B4830,'(1) Project Reference Item List'!$B$2:$C$1000,2,FALSE)","v":{"$error":"#N/A"}},null,null,null,null,null,null,null,null,null,null,{"$f":"VLOOKUP(B4830,'(1) Project Reference Item List'!$B$2:$D$1000,3,FALSE)","v":{"$error":"#N/A"}},null,null,0,0]
[{"$f":"VLOOKUP(B4831,'(1) Project Reference Item List'!$B$2:$C$1000,2,FALSE)","v":{"$error":"#N/A"}},null,null,null,null,null,null,null,null,null,null,{"$f":"VLOOKUP(B4831,'(1) Project Reference Item List'!$B$2:$D$1000,3,FALSE)","v":{"$error":"#N/A"}},null,null,0,0]
[{"$f":"VLOOKUP(B4832,'(1) Project Reference Item List'!$B$2:$C$1000,2,FALSE)","v":{"$error":"#N/A"}},null,null,null,null,null,null,null,null,null,null,{"$f":"VLOOKUP(B4832,'(1) Project Reference Item List'!$B$2:$D$1000,3,FALSE)","v":{"$error":"#N/A"}},null,null,0,0]
[{"$f":"VLOOKUP(B4833,'(1) Project Reference Item List'!$B$2:$C$1000,2,FALSE)","v":{"$error":"#N/A"}},null,null,null,null,null,null,null,null,null,null,{"$f":"VLOOKUP(B4833,'(1) Project Reference Item List'!$B$2:$D$1000,3,FALSE)","v":{"$error":"#N/A"}},null,null,0,0]
[{"$f":"VLOOKUP(B4834,'(1) Project Reference Item List'!$B$2:$C$1000,2,FALSE)","v":{"$error":"#N/A"}},null,null,null,null,null,null,null,null,null,null,{"$f":"VLOOKUP(B4834,'(1) Project Reference Item List'!$B$2:$D$1000,3,FALSE)","v":{"$error":"#N/A"}},null,null,0,0]
[{"$f":"VLOOKUP(B4835,'(1) Project Reference Item List'!$B$2:$C$1000,2,FALSE)","v":{"$error":"#N/A"}},null,null,null,null,null,null,null,null,null,null,{"$f":"VLOOKUP(B4835,'(1) Project Reference Item List'!$B$2:$D$1000,3,FALSE)","v":{"$error":"#N/A"}},null,null,0,0]
[{"$f":"VLOOKUP(B4836,'(1) Project Reference Item List'!$B$2:$C$1000,2,FALSE)","v":{"$error":"#N/A"}},null,null,null,null,null,null,null,null,null,null,{"$f":"VLOOKUP(B4836,'(1) Project Reference Item List'!$B$2:$D$1000,3,FALSE)","v":{"$error":"#N/A"}},null,null,0,0]
[{"$f":"VLOOKUP(B4837,'(1) Project Reference Item List'!$B$2:$C$1000,2,FALSE)","v":{"$error":"#N/A"}},null,null,null,null,null,null,null,null,null,null,{"$f":"VLOOKUP(B4837,'(1) Project Reference Item List'!$B$2:$D$1000,3,FALSE)","v":{"$error":"#N/A"}},null,null,0,0]
[{"$f":"VLOOKUP(B4838,'(1) Project Reference Item List'!$B$2:$C$1000,2,FALSE)","v":{"$error":"#N/A"}},null,null,null,null,null,null,null,null,null,null,{"$f":"VLOOKUP(B4838,'(1) Project Reference Item List'!$B$2:$D$1000,3,FALSE)","v":{"$error":"#N/A"}},null,null,0,0]
[{"$f":"VLOOKUP(B4839,'(1) Project Reference Item List'!$B$2:$C$1000,2,FALSE)","v":{"$error":"#N/A"}},null,null,null,null,null,null,null,null,null,null,{"$f":"VLOOKUP(B4839,'(1) Project Reference Item List'!$B$2:$D$1000,3,FALSE)","v":{"$error":"#N/A"}},null,null,0,0]
[{"$f":"VLOOKUP(B4840,'(1) Project Reference Item List'!$B$2:$C$1000,2,FALSE)","v":{"$error":"#N/A"}},null,null,null,null,null,null,null,null,null,null,{"$f":"VLOOKUP(B4840,'(1) Project Reference Item List'!$B$2:$D$1000,3,FALSE)","v":{"$error":"#N/A"}},null,null,0,0]
[{"$f":"VLOOKUP(B4841,'(1) Project Reference Item List'!$B$2:$C$1000,2,FALSE)","v":{"$error":"#N/A"}},null,null,null,null,null,null,null,null,null,null,{"$f":"VLOOKUP(B4841,'(1) Project Reference Item List'!$B$2:$D$1000,3,FALSE)","v":{"$error":"#N/A"}},null,null,0,0]
[{"$f":"VLOOKUP(B4842,'(1) Project Reference Item List'!$B$2:$C$1000,2,FALSE)","v":{"$error":"#N/A"}},null,null,null,null,null,null,null,null,null,null,{"$f":"VLOOKUP(B4842,'(1) Project Reference Item List'!$B$2:$D$1000,3,FALSE)","v":{"$error":"#N/A"}},null,null,0,0]
[{"$f":"VLOOKUP(B4843,'(1) Project Reference Item List'!$B$2:$C$1000,2,FALSE)","v":{"$error":"#N/A"}},null,null,null,null,null,null,null,null,null,null,{"$f":"VLOOKUP(B4843,'(1) Project Reference Item List'!$B$2:$D$1000,3,FALSE)","v":{"$error":"#N/A"}},null,null,0,0]
[{"$f":"VLOOKUP(B4844,'(1) Project Reference Item List'!$B$2:$C$1000,2,FALSE)","v":{"$error":"#N/A"}},null,null,null,null,null,null,null,null,null,null,{"$f":"VLOOKUP(B4844,'(1) Project Reference Item List'!$B$2:$D$1000,3,FALSE)","v":{"$error":"#N/A"}},null,null,0,0]
[{"$f":"VLOOKUP(B4845,'(1) Project Reference Item List'!$B$2:$C$1000,2,FALSE)","v":{"$error":"#N/A"}},null,null,null,null,null,null,null,null,null,null,{"$f":"VLOOKUP(B4845,'(1) Project Reference Item List'!$B$2:$D$1000,3,FALSE)","v":{"$error":"#N/A"}},null,null,0,0]
[{"$f":"VLOOKUP(B4846,'(1) Project Reference Item List'!$B$2:$C$1000,2,FALSE)","v":{"$error":"#N/A"}},null,null,null,null,null,null,null,null,null,null,{"$f":"VLOOKUP(B4846,'(1) Project Reference Item List'!$B$2:$D$1000,3,FALSE)","v":{"$error":"#N/A"}},null,null,0,0]
[{"$f":"VLOOKUP(B4847,'(1) Project Reference Item List'!$B$2:$C$1000,2,FALSE)","v":{"$error":"#N/A"}},null,null,null,null,null,null,null,null,null,null,{"$f":"VLOOKUP(B4847,'(1) Project Reference Item List'!$B$2:$D$1000,3,FALSE)","v":{"$error":"#N/A"}},null,null,0,0]
[{"$f":"VLOOKUP(B4848,'(1) Project Reference Item List'!$B$2:$C$1000,2,FALSE)","v":{"$error":"#N/A"}},null,null,null,null,null,null,null,null,null,null,{"$f":"VLOOKUP(B4848,'(1) Project Reference Item List'!$B$2:$D$1000,3,FALSE)","v":{"$error":"#N/A"}},null,null,0,0]
[{"$f":"VLOOKUP(B4849,'(1) Project Reference Item List'!$B$2:$C$1000,2,FALSE)","v":{"$error":"#N/A"}},null,null,null,null,null,null,null,null,null,null,{"$f":"VLOOKUP(B4849,'(1) Project Reference Item List'!$B$2:$D$1000,3,FALSE)","v":{"$error":"#N/A"}},null,null,0,0]
[{"$f":"VLOOKUP(B4850,'(1) Project Reference Item List'!$B$2:$C$1000,2,FALSE)","v":{"$error":"#N/A"}},null,null,null,null,null,null,null,null,null,null,{"$f":"VLOOKUP(B4850,'(1) Project Reference Item List'!$B$2:$D$1000,3,FALSE)","v":{"$error":"#N/A"}},null,null,0,0]
[{"$f":"VLOOKUP(B4851,'(1) Project Reference Item List'!$B$2:$C$1000,2,FALSE)","v":{"$error":"#N/A"}},null,null,null,null,null,null,null,null,null,null,{"$f":"VLOOKUP(B4851,'(1) Project Reference Item List'!$B$2:$D$1000,3,FALSE)","v":{"$error":"#N/A"}},null,null,0,0]
[{"$f":"VLOOKUP(B4852,'(1) Project Reference Item List'!$B$2:$C$1000,2,FALSE)","v":{"$error":"#N/A"}},null,null,null,null,null,null,null,null,null,null,{"$f":"VLOOKUP(B4852,'(1) Project Reference Item List'!$B$2:$D$1000,3,FALSE)","v":{"$error":"#N/A"}},null,null,0,0]
[{"$f":"VLOOKUP(B4853,'(1) Project Reference Item List'!$B$2:$C$1000,2,FALSE)","v":{"$error":"#N/A"}},null,null,null,null,null,null,null,null,null,null,{"$f":"VLOOKUP(B4853,'(1) Project Reference Item List'!$B$2:$D$1000,3,FALSE)","v":{"$error":"#N/A"}},null,null,0,0]
[{"$f":"VLOOKUP(B4854,'(1) Project Reference Item List'!$B$2:$C$1000,2,FALSE)","v":{"$error":"#N/A"}},null,null,null,null,null,null,null,null,null,null,{"$f":"VLOOKUP(B4854,'(1) Project Reference Item List'!$B$2:$D$1000,3,FALSE)","v":{"$error":"#N/A"}},null,null,0,0]
[{"$f":"VLOOKUP(B4855,'(1) Project Reference Item List'!$B$2:$C$1000,2,FALSE)","v":{"$error":"#N/A"}},null,null,null,null,null,null,null,null,null,null,{"$f":"VLOOKUP(B4855,'(1) Project Reference Item List'!$B$2:$D$1000,3,FALSE)","v":{"$error":"#N/A"}},null,null,0,0]
[{"$f":"VLOOKUP(B4856,'(1) Project Reference Item List'!$B$2:$C$1000,2,FALSE)","v":{"$error":"#N/A"}},null,null,null,null,null,null,null,null,null,null,{"$f":"VLOOKUP(B4856,'(1) Project Reference Item List'!$B$2:$D$1000,3,FALSE)","v":{"$error":"#N/A"}},null,null,0,0]
[{"$f":"VLOOKUP(B4857,'(1) Project Reference Item List'!$B$2:$C$1000,2,FALSE)","v":{"$error":"#N/A"}},null,null,null,null,null,null,null,null,null,null,{"$f":"VLOOKUP(B4857,'(1) Project Reference Item List'!$B$2:$D$1000,3,FALSE)","v":{"$error":"#N/A"}},null,null,0,0]
[{"$f":"VLOOKUP(B4858,'(1) Project Reference Item List'!$B$2:$C$1000,2,FALSE)","v":{"$error":"#N/A"}},null,null,null,null,null,null,null,null,null,null,{"$f":"VLOOKUP(B4858,'(1) Project Reference Item List'!$B$2:$D$1000,3,FALSE)","v":{"$error":"#N/A"}},null,null,0,0]
[{"$f":"VLOOKUP(B4859,'(1) Project Reference Item List'!$B$2:$C$1000,2,FALSE)","v":{"$error":"#N/A"}},null,null,null,null,null,null,null,null,null,null,{"$f":"VLOOKUP(B4859,'(1) Project Reference Item List'!$B$2:$D$1000,3,FALSE)","v":{"$error":"#N/A"}},null,null,0,0]
[{"$f":"VLOOKUP(B4860,'(1) Project Reference Item List'!$B$2:$C$1000,2,FALSE)","v":{"$error":"#N/A"}},null,null,null,null,null,null,null,null,null,null,{"$f":"VLOOKUP(B4860,'(1) Project Reference Item List'!$B$2:$D$1000,3,FALSE)","v":{"$error":"#N/A"}},null,null,0,0]
[{"$f":"VLOOKUP(B4861,'(1) Project Reference Item List'!$B$2:$C$1000,2,FALSE)","v":{"$error":"#N/A"}},null,null,null,null,null,null,null,null,null,null,{"$f":"VLOOKUP(B4861,'(1) Project Reference Item List'!$B$2:$D$1000,3,FALSE)","v":{"$error":"#N/A"}},null,null,0,0]
[{"$f":"VLOOKUP(B4862,'(1) Project Reference Item List'!$B$2:$C$1000,2,FALSE)","v":{"$error":"#N/A"}},null,null,null,null,null,null,null,null,null,null,{"$f":"VLOOKUP(B4862,'(1) Project Reference Item List'!$B$2:$D$1000,3,FALSE)","v":{"$error":"#N/A"}},null,null,0,0]
[{"$f":"VLOOKUP(B4863,'(1) Project Reference Item List'!$B$2:$C$1000,2,FALSE)","v":{"$error":"#N/A"}},null,null,null,null,null,null,null,null,null,null,{"$f":"VLOOKUP(B4863,'(1) Project Reference Item List'!$B$2:$D$1000,3,FALSE)","v":{"$error":"#N/A"}},null,null,0,0]
[{"$f":"VLOOKUP(B4864,'(1) Project Reference Item List'!$B$2:$C$1000,2,FALSE)","v":{"$error":"#N/A"}},null,null,null,null,null,null,null,null,null,null,{"$f":"VLOOKUP(B4864,'(1) Project Reference Item List'!$B$2:$D$1000,3,FALSE)","v":{"$error":"#N/A"}},null,null,0,0]
[{"$f":"VLOOKUP(B4865,'(1) Project Reference Item List'!$B$2:$C$1000,2,FALSE)","v":{"$error":"#N/A"}},null,null,null,null,null,null,null,null,null,null,{"$f":"VLOOKUP(B4865,'(1) Project Reference Item List'!$B$2:$D$1000,3,FALSE)","v":{"$error":"#N/A"}},null,null,0,0]
[{"$f":"VLOOKUP(B4866,'(1) Project Reference Item List'!$B$2:$C$1000,2,FALSE)","v":{"$error":"#N/A"}},null,null,null,null,null,null,null,null,null,null,{"$f":"VLOOKUP(B4866,'(1) Project Reference Item List'!$B$2:$D$1000,3,FALSE)","v":{"$error":"#N/A"}},null,null,0,0]
[{"$f":"VLOOKUP(B4867,'(1) Project Reference Item List'!$B$2:$C$1000,2,FALSE)","v":{"$error":"#N/A"}},null,null,null,null,null,null,null,null,null,null,{"$f":"VLOOKUP(B4867,'(1) Project Reference Item List'!$B$2:$D$1000,3,FALSE)","v":{"$error":"#N/A"}},null,null,0,0]
[{"$f":"VLOOKUP(B4868,'(1) Project Reference Item List'!$B$2:$C$1000,2,FALSE)","v":{"$error":"#N/A"}},null,null,null,null,null,null,null,null,null,null,{"$f":"VLOOKUP(B4868,'(1) Project Reference Item List'!$B$2:$D$1000,3,FALSE)","v":{"$error":"#N/A"}},null,null,0,0]
[{"$f":"VLOOKUP(B4869,'(1) Project Reference Item List'!$B$2:$C$1000,2,FALSE)","v":{"$error":"#N/A"}},null,null,null,null,null,null,null,null,null,null,{"$f":"VLOOKUP(B4869,'(1) Project Reference Item List'!$B$2:$D$1000,3,FALSE)","v":{"$error":"#N/A"}},null,null,0,0]
[{"$f":"VLOOKUP(B4870,'(1) Project Reference Item List'!$B$2:$C$1000,2,FALSE)","v":{"$error":"#N/A"}},null,null,null,null,null,null,null,null,null,null,{"$f":"VLOOKUP(B4870,'(1) Project Reference Item List'!$B$2:$D$1000,3,FALSE)","v":{"$error":"#N/A"}},null,null,{"$f":"IF(J4870=0,J4870,J4870*N4870)","v":0},{"$f":"(M4870-O4870)","v":0}]
[{"$f":"VLOOKUP(B4871,'(1) Project Reference Item List'!$B$2:$C$1000,2,FALSE)","v":{"$error":"#N/A"}},null,null,null,null,null,null,null,null,null,null,{"$f":"VLOOKUP(B4871,'(1) Project Reference Item List'!$B$2:$D$1000,3,FALSE)","v":{"$error":"#N/A"}},null,null,0,0]
[{"$f":"VLOOKUP(B4872,'(1) Project Reference Item List'!$B$2:$C$1000,2,FALSE)","v":{"$error":"#N/A"}},null,null,null,null,null,null,null,null,null,null,{"$f":"VLOOKUP(B4872,'(1) Project Reference Item List'!$B$2:$D$1000,3,FALSE)","v":{"$error":"#N/A"}},null,null,0,0]
[{"$f":"VLOOKUP(B4873,'(1) Project Reference Item List'!$B$2:$C$1000,2,FALSE)","v":{"$error":"#N/A"}},null,null,null,null,null,null,null,null,null,null,{"$f":"VLOOKUP(B4873,'(1) Project Reference Item List'!$B$2:$D$1000,3,FALSE)","v":{"$error":"#N/A"}},null,null,0,0]
[{"$f":"VLOOKUP(B4874,'(1) Project Reference Item List'!$B$2:$C$1000,2,FALSE)","v":{"$error":"#N/A"}},null,null,null,null,null,null,null,null,null,null,{"$f":"VLOOKUP(B4874,'(1) Project Reference Item List'!$B$2:$D$1000,3,FALSE)","v":{"$error":"#N/A"}},null,null,0,0]
[{"$f":"VLOOKUP(B4875,'(1) Project Reference Item List'!$B$2:$C$1000,2,FALSE)","v":{"$error":"#N/A"}},null,null,null,null,null,null,null,null,null,null,{"$f":"VLOOKUP(B4875,'(1) Project Reference Item List'!$B$2:$D$1000,3,FALSE)","v":{"$error":"#N/A"}},null,null,0,0]
[{"$f":"VLOOKUP(B4876,'(1) Project Reference Item List'!$B$2:$C$1000,2,FALSE)","v":{"$error":"#N/A"}},null,null,null,null,null,null,null,null,null,null,{"$f":"VLOOKUP(B4876,'(1) Project Reference Item List'!$B$2:$D$1000,3,FALSE)","v":{"$error":"#N/A"}},null,null,0,0]
[{"$f":"VLOOKUP(B4877,'(1) Project Reference Item List'!$B$2:$C$1000,2,FALSE)","v":{"$error":"#N/A"}},null,null,null,null,null,null,null,null,null,null,{"$f":"VLOOKUP(B4877,'(1) Project Reference Item List'!$B$2:$D$1000,3,FALSE)","v":{"$error":"#N/A"}},null,null,0,0]
[{"$f":"VLOOKUP(B4878,'(1) Project Reference Item List'!$B$2:$C$1000,2,FALSE)","v":{"$error":"#N/A"}},null,null,null,null,null,null,null,null,null,null,{"$f":"VLOOKUP(B4878,'(1) Project Reference Item List'!$B$2:$D$1000,3,FALSE)","v":{"$error":"#N/A"}},null,null,0,0]
[{"$f":"VLOOKUP(B4879,'(1) Project Reference Item List'!$B$2:$C$1000,2,FALSE)","v":{"$error":"#N/A"}},null,null,null,null,null,null,null,null,null,null,{"$f":"VLOOKUP(B4879,'(1) Project Reference Item List'!$B$2:$D$1000,3,FALSE)","v":{"$error":"#N/A"}},null,null,0,0]
[{"$f":"VLOOKUP(B4880,'(1) Project Reference Item List'!$B$2:$C$1000,2,FALSE)","v":{"$error":"#N/A"}},null,null,null,null,null,null,null,null,null,null,{"$f":"VLOOKUP(B4880,'(1) Project Reference Item List'!$B$2:$D$1000,3,FALSE)","v":{"$error":"#N/A"}},null,null,0,0]
[{"$f":"VLOOKUP(B4881,'(1) Project Reference Item List'!$B$2:$C$1000,2,FALSE)","v":{"$error":"#N/A"}},null,null,null,null,null,null,null,null,null,null,{"$f":"VLOOKUP(B4881,'(1) Project Reference Item List'!$B$2:$D$1000,3,FALSE)","v":{"$error":"#N/A"}},null,null,0,0]
[{"$f":"VLOOKUP(B4882,'(1) Project Reference Item List'!$B$2:$C$1000,2,FALSE)","v":{"$error":"#N/A"}},null,null,null,null,null,null,null,null,null,null,{"$f":"VLOOKUP(B4882,'(1) Project Reference Item List'!$B$2:$D$1000,3,FALSE)","v":{"$error":"#N/A"}},null,null,0,0]
[{"$f":"VLOOKUP(B4883,'(1) Project Reference Item List'!$B$2:$C$1000,2,FALSE)","v":{"$error":"#N/A"}},null,null,null,null,null,null,null,null,null,null,{"$f":"VLOOKUP(B4883,'(1) Project Reference Item List'!$B$2:$D$1000,3,FALSE)","v":{"$error":"#N/A"}},null,null,0,0]
[{"$f":"VLOOKUP(B4884,'(1) Project Reference Item List'!$B$2:$C$1000,2,FALSE)","v":{"$error":"#N/A"}},null,null,null,null,null,null,null,null,null,null,{"$f":"VLOOKUP(B4884,'(1) Project Reference Item List'!$B$2:$D$1000,3,FALSE)","v":{"$error":"#N/A"}},null,null,0,0]
[{"$f":"VLOOKUP(B4885,'(1) Project Reference Item List'!$B$2:$C$1000,2,FALSE)","v":{"$error":"#N/A"}},null,null,null,null,null,null,null,null,null,null,{"$f":"VLOOKUP(B4885,'(1) Project Reference Item List'!$B$2:$D$1000,3,FALSE)","v":{"$error":"#N/A"}},null,null,0,0]
[{"$f":"VLOOKUP(B4886,'(1) Project Reference Item List'!$B$2:$C$1000,2,FALSE)","v":{"$error":"#N/A"}},null,null,null,null,null,null,null,null,null,null,{"$f":"VLOOKUP(B4886,'(1) Project Reference Item List'!$B$2:$D$1000,3,FALSE)","v":{"$error":"#N/A"}},null,null,0,0]
[{"$f":"VLOOKUP(B4887,'(1) Project Reference Item List'!$B$2:$C$1000,2,FALSE)","v":{"$error":"#N/A"}},null,null,null,null,null,null,null,null,null,null,{"$f":"VLOOKUP(B4887,'(1) Project Reference Item List'!$B$2:$D$1000,3,FALSE)","v":{"$error":"#N/A"}},null,null,0,0]
[{"$f":"VLOOKUP(B4888,'(1) Project Reference Item List'!$B$2:$C$1000,2,FALSE)","v":{"$error":"#N/A"}},null,null,null,null,null,null,null,null,null,null,{"$f":"VLOOKUP(B4888,'(1) Project Reference Item List'!$B$2:$D$1000,3,FALSE)","v":{"$error":"#N/A"}},null,null,0,0]
[{"$f":"VLOOKUP(B4889,'(1) Project Reference Item List'!$B$2:$C$1000,2,FALSE)","v":{"$error":"#N/A"}},null,null,null,null,null,null,null,null,null,null,{"$f":"VLOOKUP(B4889,'(1) Project Reference Item List'!$B$2:$D$1000,3,FALSE)","v":{"$error":"#N/A"}},null,null,0,0]
[{"$f":"VLOOKUP(B4890,'(1) Project Reference Item List'!$B$2:$C$1000,2,FALSE)","v":{"$error":"#N/A"}},null,null,null,null,null,null,null,null,null,null,{"$f":"VLOOKUP(B4890,'(1) Project Reference Item List'!$B$2:$D$1000,3,FALSE)","v":{"$error":"#N/A"}},null,null,0,0]
[{"$f":"VLOOKUP(B4891,'(1) Project Reference Item List'!$B$2:$C$1000,2,FALSE)","v":{"$error":"#N/A"}},null,null,null,null,null,null,null,null,null,null,{"$f":"VLOOKUP(B4891,'(1) Project Reference Item List'!$B$2:$D$1000,3,FALSE)","v":{"$error":"#N/A"}},null,null,0,0]
[{"$f":"VLOOKUP(B4892,'(1) Project Reference Item List'!$B$2:$C$1000,2,FALSE)","v":{"$error":"#N/A"}},null,null,null,null,null,null,null,null,null,null,{"$f":"VLOOKUP(B4892,'(1) Project Reference Item List'!$B$2:$D$1000,3,FALSE)","v":{"$error":"#N/A"}},null,null,0,0]
[{"$f":"VLOOKUP(B4893,'(1) Project Reference Item List'!$B$2:$C$1000,2,FALSE)","v":{"$error":"#N/A"}},null,null,null,null,null,null,null,null,null,null,{"$f":"VLOOKUP(B4893,'(1) Project Reference Item List'!$B$2:$D$1000,3,FALSE)","v":{"$error":"#N/A"}},null,null,0,0]
[{"$f":"VLOOKUP(B4894,'(1) Project Reference Item List'!$B$2:$C$1000,2,FALSE)","v":{"$error":"#N/A"}},null,null,null,null,null,null,null,null,null,null,{"$f":"VLOOKUP(B4894,'(1) Project Reference Item List'!$B$2:$D$1000,3,FALSE)","v":{"$error":"#N/A"}},null,null,0,0]
[{"$f":"VLOOKUP(B4895,'(1) Project Reference Item List'!$B$2:$C$1000,2,FALSE)","v":{"$error":"#N/A"}},null,null,null,null,null,null,null,null,null,null,{"$f":"VLOOKUP(B4895,'(1) Project Reference Item List'!$B$2:$D$1000,3,FALSE)","v":{"$error":"#N/A"}},null,null,0,0]
[{"$f":"VLOOKUP(B4896,'(1) Project Reference Item List'!$B$2:$C$1000,2,FALSE)","v":{"$error":"#N/A"}},null,null,null,null,null,null,null,null,null,null,{"$f":"VLOOKUP(B4896,'(1) Project Reference Item List'!$B$2:$D$1000,3,FALSE)","v":{"$error":"#N/A"}},null,null,0,0]
[{"$f":"VLOOKUP(B4897,'(1) Project Reference Item List'!$B$2:$C$1000,2,FALSE)","v":{"$error":"#N/A"}},null,null,null,null,null,null,null,null,null,null,{"$f":"VLOOKUP(B4897,'(1) Project Reference Item List'!$B$2:$D$1000,3,FALSE)","v":{"$error":"#N/A"}},null,null,0,0]
[{"$f":"VLOOKUP(B4898,'(1) Project Reference Item List'!$B$2:$C$1000,2,FALSE)","v":{"$error":"#N/A"}},null,null,null,null,null,null,null,null,null,null,{"$f":"VLOOKUP(B4898,'(1) Project Reference Item List'!$B$2:$D$1000,3,FALSE)","v":{"$error":"#N/A"}},null,null,0,0]
[{"$f":"VLOOKUP(B4899,'(1) Project Reference Item List'!$B$2:$C$1000,2,FALSE)","v":{"$error":"#N/A"}},null,null,null,null,null,null,null,null,null,null,{"$f":"VLOOKUP(B4899,'(1) Project Reference Item List'!$B$2:$D$1000,3,FALSE)","v":{"$error":"#N/A"}},null,null,0,0]
[{"$f":"VLOOKUP(B4900,'(1) Project Reference Item List'!$B$2:$C$1000,2,FALSE)","v":{"$error":"#N/A"}},null,null,null,null,null,null,null,null,null,null,{"$f":"VLOOKUP(B4900,'(1) Project Reference Item List'!$B$2:$D$1000,3,FALSE)","v":{"$error":"#N/A"}},null,null,0,0]
[{"$f":"VLOOKUP(B4901,'(1) Project Reference Item List'!$B$2:$C$1000,2,FALSE)","v":{"$error":"#N/A"}},null,null,null,null,null,null,null,null,null,null,{"$f":"VLOOKUP(B4901,'(1) Project Reference Item List'!$B$2:$D$1000,3,FALSE)","v":{"$error":"#N/A"}},null,null,0,0]
[{"$f":"VLOOKUP(B4902,'(1) Project Reference Item List'!$B$2:$C$1000,2,FALSE)","v":{"$error":"#N/A"}},null,null,null,null,null,null,null,null,null,null,{"$f":"VLOOKUP(B4902,'(1) Project Reference Item List'!$B$2:$D$1000,3,FALSE)","v":{"$error":"#N/A"}},null,null,0,0]
[{"$f":"VLOOKUP(B4903,'(1) Project Reference Item List'!$B$2:$C$1000,2,FALSE)","v":{"$error":"#N/A"}},null,null,null,null,null,null,null,null,null,null,{"$f":"VLOOKUP(B4903,'(1) Project Reference Item List'!$B$2:$D$1000,3,FALSE)","v":{"$error":"#N/A"}},null,null,0,0]
[{"$f":"VLOOKUP(B4904,'(1) Project Reference Item List'!$B$2:$C$1000,2,FALSE)","v":{"$error":"#N/A"}},null,null,null,null,null,null,null,null,null,null,{"$f":"VLOOKUP(B4904,'(1) Project Reference Item List'!$B$2:$D$1000,3,FALSE)","v":{"$error":"#N/A"}},null,null,0,0]
[{"$f":"VLOOKUP(B4905,'(1) Project Reference Item List'!$B$2:$C$1000,2,FALSE)","v":{"$error":"#N/A"}},null,null,null,null,null,null,null,null,null,null,{"$f":"VLOOKUP(B4905,'(1) Project Reference Item List'!$B$2:$D$1000,3,FALSE)","v":{"$error":"#N/A"}},null,null,0,0]
[{"$f":"VLOOKUP(B4906,'(1) Project Reference Item List'!$B$2:$C$1000,2,FALSE)","v":{"$error":"#N/A"}},null,null,null,null,null,null,null,null,null,null,{"$f":"VLOOKUP(B4906,'(1) Project Reference Item List'!$B$2:$D$1000,3,FALSE)","v":{"$error":"#N/A"}},null,null,0,0]
[{"$f":"VLOOKUP(B4907,'(1) Project Reference Item List'!$B$2:$C$1000,2,FALSE)","v":{"$error":"#N/A"}},null,null,null,null,null,null,null,null,null,null,{"$f":"VLOOKUP(B4907,'(1) Project Reference Item List'!$B$2:$D$1000,3,FALSE)","v":{"$error":"#N/A"}},null,null,0,0]
[{"$f":"VLOOKUP(B4908,'(1) Project Reference Item List'!$B$2:$C$1000,2,FALSE)","v":{"$error":"#N/A"}},null,null,null,null,null,null,null,null,null,null,{"$f":"VLOOKUP(B4908,'(1) Project Reference Item List'!$B$2:$D$1000,3,FALSE)","v":{"$error":"#N/A"}},null,null,0,0]
[{"$f":"VLOOKUP(B4909,'(1) Project Reference Item List'!$B$2:$C$1000,2,FALSE)","v":{"$error":"#N/A"}},null,null,null,null,null,null,null,null,null,null,{"$f":"VLOOKUP(B4909,'(1) Project Reference Item List'!$B$2:$D$1000,3,FALSE)","v":{"$error":"#N/A"}},null,null,0,0]
[{"$f":"VLOOKUP(B4910,'(1) Project Reference Item List'!$B$2:$C$1000,2,FALSE)","v":{"$error":"#N/A"}},null,null,null,null,null,null,null,null,null,null,{"$f":"VLOOKUP(B4910,'(1) Project Reference Item List'!$B$2:$D$1000,3,FALSE)","v":{"$error":"#N/A"}},null,null,0,0]
[{"$f":"VLOOKUP(B4911,'(1) Project Reference Item List'!$B$2:$C$1000,2,FALSE)","v":{"$error":"#N/A"}},null,null,null,null,null,null,null,null,null,null,{"$f":"VLOOKUP(B4911,'(1) Project Reference Item List'!$B$2:$D$1000,3,FALSE)","v":{"$error":"#N/A"}},null,null,0,0]
[{"$f":"VLOOKUP(B4912,'(1) Project Reference Item List'!$B$2:$C$1000,2,FALSE)","v":{"$error":"#N/A"}},null,null,null,null,null,null,null,null,null,null,{"$f":"VLOOKUP(B4912,'(1) Project Reference Item List'!$B$2:$D$1000,3,FALSE)","v":{"$error":"#N/A"}},null,null,0,0]
[{"$f":"VLOOKUP(B4913,'(1) Project Reference Item List'!$B$2:$C$1000,2,FALSE)","v":{"$error":"#N/A"}},null,null,null,null,null,null,null,null,null,null,{"$f":"VLOOKUP(B4913,'(1) Project Reference Item List'!$B$2:$D$1000,3,FALSE)","v":{"$error":"#N/A"}},null,null,0,0]
[{"$f":"VLOOKUP(B4914,'(1) Project Reference Item List'!$B$2:$C$1000,2,FALSE)","v":{"$error":"#N/A"}},null,null,null,null,null,null,null,null,null,null,{"$f":"VLOOKUP(B4914,'(1) Project Reference Item List'!$B$2:$D$1000,3,FALSE)","v":{"$error":"#N/A"}},null,null,0,0]
[{"$f":"VLOOKUP(B4915,'(1) Project Reference Item List'!$B$2:$C$1000,2,FALSE)","v":{"$error":"#N/A"}},null,null,null,null,null,null,null,null,null,null,{"$f":"VLOOKUP(B4915,'(1) Project Reference Item List'!$B$2:$D$1000,3,FALSE)","v":{"$error":"#N/A"}},null,null,0,0]
[{"$f":"VLOOKUP(B4916,'(1) Project Reference Item List'!$B$2:$C$1000,2,FALSE)","v":{"$error":"#N/A"}},null,null,null,null,null,null,null,null,null,null,{"$f":"VLOOKUP(B4916,'(1) Project Reference Item List'!$B$2:$D$1000,3,FALSE)","v":{"$error":"#N/A"}},null,null,0,0]
[{"$f":"VLOOKUP(B4917,'(1) Project Reference Item List'!$B$2:$C$1000,2,FALSE)","v":{"$error":"#N/A"}},null,null,null,null,null,null,null,null,null,null,{"$f":"VLOOKUP(B4917,'(1) Project Reference Item List'!$B$2:$D$1000,3,FALSE)","v":{"$error":"#N/A"}},null,null,0,0]
[{"$f":"VLOOKUP(B4918,'(1) Project Reference Item List'!$B$2:$C$1000,2,FALSE)","v":{"$error":"#N/A"}},null,null,null,null,null,null,null,null,null,null,{"$f":"VLOOKUP(B4918,'(1) Project Reference Item List'!$B$2:$D$1000,3,FALSE)","v":{"$error":"#N/A"}},null,null,0,0]
[{"$f":"VLOOKUP(B4919,'(1) Project Reference Item List'!$B$2:$C$1000,2,FALSE)","v":{"$error":"#N/A"}},null,null,null,null,null,null,null,null,null,null,{"$f":"VLOOKUP(B4919,'(1) Project Reference Item List'!$B$2:$D$1000,3,FALSE)","v":{"$error":"#N/A"}},null,null,0,0]
[{"$f":"VLOOKUP(B4920,'(1) Project Reference Item List'!$B$2:$C$1000,2,FALSE)","v":{"$error":"#N/A"}},null,null,null,null,null,null,null,null,null,null,{"$f":"VLOOKUP(B4920,'(1) Project Reference Item List'!$B$2:$D$1000,3,FALSE)","v":{"$error":"#N/A"}},null,null,0,0]
[{"$f":"VLOOKUP(B4921,'(1) Project Reference Item List'!$B$2:$C$1000,2,FALSE)","v":{"$error":"#N/A"}},null,null,null,null,null,null,null,null,null,null,{"$f":"VLOOKUP(B4921,'(1) Project Reference Item List'!$B$2:$D$1000,3,FALSE)","v":{"$error":"#N/A"}},null,null,0,0]
[{"$f":"VLOOKUP(B4922,'(1) Project Reference Item List'!$B$2:$C$1000,2,FALSE)","v":{"$error":"#N/A"}},null,null,null,null,null,null,null,null,null,null,{"$f":"VLOOKUP(B4922,'(1) Project Reference Item List'!$B$2:$D$1000,3,FALSE)","v":{"$error":"#N/A"}},null,null,0,0]
[{"$f":"VLOOKUP(B4923,'(1) Project Reference Item List'!$B$2:$C$1000,2,FALSE)","v":{"$error":"#N/A"}},null,null,null,null,null,null,null,null,null,null,{"$f":"VLOOKUP(B4923,'(1) Project Reference Item List'!$B$2:$D$1000,3,FALSE)","v":{"$error":"#N/A"}},null,null,0,0]
[{"$f":"VLOOKUP(B4924,'(1) Project Reference Item List'!$B$2:$C$1000,2,FALSE)","v":{"$error":"#N/A"}},null,null,null,null,null,null,null,null,null,null,{"$f":"VLOOKUP(B4924,'(1) Project Reference Item List'!$B$2:$D$1000,3,FALSE)","v":{"$error":"#N/A"}},null,null,0,0]
[{"$f":"VLOOKUP(B4925,'(1) Project Reference Item List'!$B$2:$C$1000,2,FALSE)","v":{"$error":"#N/A"}},null,null,null,null,null,null,null,null,null,null,{"$f":"VLOOKUP(B4925,'(1) Project Reference Item List'!$B$2:$D$1000,3,FALSE)","v":{"$error":"#N/A"}},null,null,0,0]
[{"$f":"VLOOKUP(B4926,'(1) Project Reference Item List'!$B$2:$C$1000,2,FALSE)","v":{"$error":"#N/A"}},null,null,null,null,null,null,null,null,null,null,{"$f":"VLOOKUP(B4926,'(1) Project Reference Item List'!$B$2:$D$1000,3,FALSE)","v":{"$error":"#N/A"}},null,null,0,0]
[{"$f":"VLOOKUP(B4927,'(1) Project Reference Item List'!$B$2:$C$1000,2,FALSE)","v":{"$error":"#N/A"}},null,null,null,null,null,null,null,null,null,null,{"$f":"VLOOKUP(B4927,'(1) Project Reference Item List'!$B$2:$D$1000,3,FALSE)","v":{"$error":"#N/A"}},null,null,0,0]
[{"$f":"VLOOKUP(B4928,'(1) Project Reference Item List'!$B$2:$C$1000,2,FALSE)","v":{"$error":"#N/A"}},null,null,null,null,null,null,null,null,null,null,{"$f":"VLOOKUP(B4928,'(1) Project Reference Item List'!$B$2:$D$1000,3,FALSE)","v":{"$error":"#N/A"}},null,null,0,0]
[{"$f":"VLOOKUP(B4929,'(1) Project Reference Item List'!$B$2:$C$1000,2,FALSE)","v":{"$error":"#N/A"}},null,null,null,null,null,null,null,null,null,null,{"$f":"VLOOKUP(B4929,'(1) Project Reference Item List'!$B$2:$D$1000,3,FALSE)","v":{"$error":"#N/A"}},null,null,0,0]
[{"$f":"VLOOKUP(B4930,'(1) Project Reference Item List'!$B$2:$C$1000,2,FALSE)","v":{"$error":"#N/A"}},null,null,null,null,null,null,null,null,null,null,{"$f":"VLOOKUP(B4930,'(1) Project Reference Item List'!$B$2:$D$1000,3,FALSE)","v":{"$error":"#N/A"}},null,null,0,0]
[{"$f":"VLOOKUP(B4931,'(1) Project Reference Item List'!$B$2:$C$1000,2,FALSE)","v":{"$error":"#N/A"}},null,null,null,null,null,null,null,null,null,null,{"$f":"VLOOKUP(B4931,'(1) Project Reference Item List'!$B$2:$D$1000,3,FALSE)","v":{"$error":"#N/A"}},null,null,0,0]
[{"$f":"VLOOKUP(B4932,'(1) Project Reference Item List'!$B$2:$C$1000,2,FALSE)","v":{"$error":"#N/A"}},null,null,null,null,null,null,null,null,null,null,{"$f":"VLOOKUP(B4932,'(1) Project Reference Item List'!$B$2:$D$1000,3,FALSE)","v":{"$error":"#N/A"}},null,null,0,0]
[{"$f":"VLOOKUP(B4933,'(1) Project Reference Item List'!$B$2:$C$1000,2,FALSE)","v":{"$error":"#N/A"}},null,null,null,null,null,null,null,null,null,null,{"$f":"VLOOKUP(B4933,'(1) Project Reference Item List'!$B$2:$D$1000,3,FALSE)","v":{"$error":"#N/A"}},null,null,0,0]
[{"$f":"VLOOKUP(B4934,'(1) Project Reference Item List'!$B$2:$C$1000,2,FALSE)","v":{"$error":"#N/A"}},null,null,null,null,null,null,null,null,null,null,{"$f":"VLOOKUP(B4934,'(1) Project Reference Item List'!$B$2:$D$1000,3,FALSE)","v":{"$error":"#N/A"}},null,null,{"$f":"IF(J4934=0,J4934,J4934*N4934)","v":0},{"$f":"(M4934-O4934)","v":0}]
[{"$f":"VLOOKUP(B4935,'(1) Project Reference Item List'!$B$2:$C$1000,2,FALSE)","v":{"$error":"#N/A"}},null,null,null,null,null,null,null,null,null,null,{"$f":"VLOOKUP(B4935,'(1) Project Reference Item List'!$B$2:$D$1000,3,FALSE)","v":{"$error":"#N/A"}},null,null,0,0]
[{"$f":"VLOOKUP(B4936,'(1) Project Reference Item List'!$B$2:$C$1000,2,FALSE)","v":{"$error":"#N/A"}},null,null,null,null,null,null,null,null,null,null,{"$f":"VLOOKUP(B4936,'(1) Project Reference Item List'!$B$2:$D$1000,3,FALSE)","v":{"$error":"#N/A"}},null,null,0,0]
[{"$f":"VLOOKUP(B4937,'(1) Project Reference Item List'!$B$2:$C$1000,2,FALSE)","v":{"$error":"#N/A"}},null,null,null,null,null,null,null,null,null,null,{"$f":"VLOOKUP(B4937,'(1) Project Reference Item List'!$B$2:$D$1000,3,FALSE)","v":{"$error":"#N/A"}},null,null,0,0]
[{"$f":"VLOOKUP(B4938,'(1) Project Reference Item List'!$B$2:$C$1000,2,FALSE)","v":{"$error":"#N/A"}},null,null,null,null,null,null,null,null,null,null,{"$f":"VLOOKUP(B4938,'(1) Project Reference Item List'!$B$2:$D$1000,3,FALSE)","v":{"$error":"#N/A"}},null,null,0,0]
[{"$f":"VLOOKUP(B4939,'(1) Project Reference Item List'!$B$2:$C$1000,2,FALSE)","v":{"$error":"#N/A"}},null,null,null,null,null,null,null,null,null,null,{"$f":"VLOOKUP(B4939,'(1) Project Reference Item List'!$B$2:$D$1000,3,FALSE)","v":{"$error":"#N/A"}},null,null,0,0]
[{"$f":"VLOOKUP(B4940,'(1) Project Reference Item List'!$B$2:$C$1000,2,FALSE)","v":{"$error":"#N/A"}},null,null,null,null,null,null,null,null,null,null,{"$f":"VLOOKUP(B4940,'(1) Project Reference Item List'!$B$2:$D$1000,3,FALSE)","v":{"$error":"#N/A"}},null,null,0,0]
[{"$f":"VLOOKUP(B4941,'(1) Project Reference Item List'!$B$2:$C$1000,2,FALSE)","v":{"$error":"#N/A"}},null,null,null,null,null,null,null,null,null,null,{"$f":"VLOOKUP(B4941,'(1) Project Reference Item List'!$B$2:$D$1000,3,FALSE)","v":{"$error":"#N/A"}},null,null,0,0]
[{"$f":"VLOOKUP(B4942,'(1) Project Reference Item List'!$B$2:$C$1000,2,FALSE)","v":{"$error":"#N/A"}},null,null,null,null,null,null,null,null,null,null,{"$f":"VLOOKUP(B4942,'(1) Project Reference Item List'!$B$2:$D$1000,3,FALSE)","v":{"$error":"#N/A"}},null,null,0,0]
[{"$f":"VLOOKUP(B4943,'(1) Project Reference Item List'!$B$2:$C$1000,2,FALSE)","v":{"$error":"#N/A"}},null,null,null,null,null,null,null,null,null,null,{"$f":"VLOOKUP(B4943,'(1) Project Reference Item List'!$B$2:$D$1000,3,FALSE)","v":{"$error":"#N/A"}},null,null,0,0]
[{"$f":"VLOOKUP(B4944,'(1) Project Reference Item List'!$B$2:$C$1000,2,FALSE)","v":{"$error":"#N/A"}},null,null,null,null,null,null,null,null,null,null,{"$f":"VLOOKUP(B4944,'(1) Project Reference Item List'!$B$2:$D$1000,3,FALSE)","v":{"$error":"#N/A"}},null,null,0,0]
[{"$f":"VLOOKUP(B4945,'(1) Project Reference Item List'!$B$2:$C$1000,2,FALSE)","v":{"$error":"#N/A"}},null,null,null,null,null,null,null,null,null,null,{"$f":"VLOOKUP(B4945,'(1) Project Reference Item List'!$B$2:$D$1000,3,FALSE)","v":{"$error":"#N/A"}},null,null,0,0]
[{"$f":"VLOOKUP(B4946,'(1) Project Reference Item List'!$B$2:$C$1000,2,FALSE)","v":{"$error":"#N/A"}},null,null,null,null,null,null,null,null,null,null,{"$f":"VLOOKUP(B4946,'(1) Project Reference Item List'!$B$2:$D$1000,3,FALSE)","v":{"$error":"#N/A"}},null,null,0,0]
[{"$f":"VLOOKUP(B4947,'(1) Project Reference Item List'!$B$2:$C$1000,2,FALSE)","v":{"$error":"#N/A"}},null,null,null,null,null,null,null,null,null,null,{"$f":"VLOOKUP(B4947,'(1) Project Reference Item List'!$B$2:$D$1000,3,FALSE)","v":{"$error":"#N/A"}},null,null,0,0]
[{"$f":"VLOOKUP(B4948,'(1) Project Reference Item List'!$B$2:$C$1000,2,FALSE)","v":{"$error":"#N/A"}},null,null,null,null,null,null,null,null,null,null,{"$f":"VLOOKUP(B4948,'(1) Project Reference Item List'!$B$2:$D$1000,3,FALSE)","v":{"$error":"#N/A"}},null,null,0,0]
[{"$f":"VLOOKUP(B4949,'(1) Project Reference Item List'!$B$2:$C$1000,2,FALSE)","v":{"$error":"#N/A"}},null,null,null,null,null,null,null,null,null,null,{"$f":"VLOOKUP(B4949,'(1) Project Reference Item List'!$B$2:$D$1000,3,FALSE)","v":{"$error":"#N/A"}},null,null,0,0]
[{"$f":"VLOOKUP(B4950,'(1) Project Reference Item List'!$B$2:$C$1000,2,FALSE)","v":{"$error":"#N/A"}},null,null,null,null,null,null,null,null,null,null,{"$f":"VLOOKUP(B4950,'(1) Project Reference Item List'!$B$2:$D$1000,3,FALSE)","v":{"$error":"#N/A"}},null,null,0,0]
[{"$f":"VLOOKUP(B4951,'(1) Project Reference Item List'!$B$2:$C$1000,2,FALSE)","v":{"$error":"#N/A"}},null,null,null,null,null,null,null,null,null,null,{"$f":"VLOOKUP(B4951,'(1) Project Reference Item List'!$B$2:$D$1000,3,FALSE)","v":{"$error":"#N/A"}},null,null,0,0]
[{"$f":"VLOOKUP(B4952,'(1) Project Reference Item List'!$B$2:$C$1000,2,FALSE)","v":{"$error":"#N/A"}},null,null,null,null,null,null,null,null,null,null,{"$f":"VLOOKUP(B4952,'(1) Project Reference Item List'!$B$2:$D$1000,3,FALSE)","v":{"$error":"#N/A"}},null,null,0,0]
[{"$f":"VLOOKUP(B4953,'(1) Project Reference Item List'!$B$2:$C$1000,2,FALSE)","v":{"$error":"#N/A"}},null,null,null,null,null,null,null,null,null,null,{"$f":"VLOOKUP(B4953,'(1) Project Reference Item List'!$B$2:$D$1000,3,FALSE)","v":{"$error":"#N/A"}},null,null,0,0]
[{"$f":"VLOOKUP(B4954,'(1) Project Reference Item List'!$B$2:$C$1000,2,FALSE)","v":{"$error":"#N/A"}},null,null,null,null,null,null,null,null,null,null,{"$f":"VLOOKUP(B4954,'(1) Project Reference Item List'!$B$2:$D$1000,3,FALSE)","v":{"$error":"#N/A"}},null,null,0,0]
[{"$f":"VLOOKUP(B4955,'(1) Project Reference Item List'!$B$2:$C$1000,2,FALSE)","v":{"$error":"#N/A"}},null,null,null,null,null,null,null,null,null,null,{"$f":"VLOOKUP(B4955,'(1) Project Reference Item List'!$B$2:$D$1000,3,FALSE)","v":{"$error":"#N/A"}},null,null,0,0]
[{"$f":"VLOOKUP(B4956,'(1) Project Reference Item List'!$B$2:$C$1000,2,FALSE)","v":{"$error":"#N/A"}},null,null,null,null,null,null,null,null,null,null,{"$f":"VLOOKUP(B4956,'(1) Project Reference Item List'!$B$2:$D$1000,3,FALSE)","v":{"$error":"#N/A"}},null,null,0,0]
[{"$f":"VLOOKUP(B4957,'(1) Project Reference Item List'!$B$2:$C$1000,2,FALSE)","v":{"$error":"#N/A"}},null,null,null,null,null,null,null,null,null,null,{"$f":"VLOOKUP(B4957,'(1) Project Reference Item List'!$B$2:$D$1000,3,FALSE)","v":{"$error":"#N/A"}},null,null,0,0]
[{"$f":"VLOOKUP(B4958,'(1) Project Reference Item List'!$B$2:$C$1000,2,FALSE)","v":{"$error":"#N/A"}},null,null,null,null,null,null,null,null,null,null,{"$f":"VLOOKUP(B4958,'(1) Project Reference Item List'!$B$2:$D$1000,3,FALSE)","v":{"$error":"#N/A"}},null,null,0,0]
[{"$f":"VLOOKUP(B4959,'(1) Project Reference Item List'!$B$2:$C$1000,2,FALSE)","v":{"$error":"#N/A"}},null,null,null,null,null,null,null,null,null,null,{"$f":"VLOOKUP(B4959,'(1) Project Reference Item List'!$B$2:$D$1000,3,FALSE)","v":{"$error":"#N/A"}},null,null,0,0]
[{"$f":"VLOOKUP(B4960,'(1) Project Reference Item List'!$B$2:$C$1000,2,FALSE)","v":{"$error":"#N/A"}},null,null,null,null,null,null,null,null,null,null,{"$f":"VLOOKUP(B4960,'(1) Project Reference Item List'!$B$2:$D$1000,3,FALSE)","v":{"$error":"#N/A"}},null,null,0,0]
[{"$f":"VLOOKUP(B4961,'(1) Project Reference Item List'!$B$2:$C$1000,2,FALSE)","v":{"$error":"#N/A"}},null,null,null,null,null,null,null,null,null,null,{"$f":"VLOOKUP(B4961,'(1) Project Reference Item List'!$B$2:$D$1000,3,FALSE)","v":{"$error":"#N/A"}},null,null,0,0]
[{"$f":"VLOOKUP(B4962,'(1) Project Reference Item List'!$B$2:$C$1000,2,FALSE)","v":{"$error":"#N/A"}},null,null,null,null,null,null,null,null,null,null,{"$f":"VLOOKUP(B4962,'(1) Project Reference Item List'!$B$2:$D$1000,3,FALSE)","v":{"$error":"#N/A"}},null,null,0,0]
[{"$f":"VLOOKUP(B4963,'(1) Project Reference Item List'!$B$2:$C$1000,2,FALSE)","v":{"$error":"#N/A"}},null,null,null,null,null,null,null,null,null,null,{"$f":"VLOOKUP(B4963,'(1) Project Reference Item List'!$B$2:$D$1000,3,FALSE)","v":{"$error":"#N/A"}},null,null,0,0]
[{"$f":"VLOOKUP(B4964,'(1) Project Reference Item List'!$B$2:$C$1000,2,FALSE)","v":{"$error":"#N/A"}},null,null,null,null,null,null,null,null,null,null,{"$f":"VLOOKUP(B4964,'(1) Project Reference Item List'!$B$2:$D$1000,3,FALSE)","v":{"$error":"#N/A"}},null,null,0,0]
[{"$f":"VLOOKUP(B4965,'(1) Project Reference Item List'!$B$2:$C$1000,2,FALSE)","v":{"$error":"#N/A"}},null,null,null,null,null,null,null,null,null,null,{"$f":"VLOOKUP(B4965,'(1) Project Reference Item List'!$B$2:$D$1000,3,FALSE)","v":{"$error":"#N/A"}},null,null,0,0]
[{"$f":"VLOOKUP(B4966,'(1) Project Reference Item List'!$B$2:$C$1000,2,FALSE)","v":{"$error":"#N/A"}},null,null,null,null,null,null,null,null,null,null,{"$f":"VLOOKUP(B4966,'(1) Project Reference Item List'!$B$2:$D$1000,3,FALSE)","v":{"$error":"#N/A"}},null,null,0,0]
[{"$f":"VLOOKUP(B4967,'(1) Project Reference Item List'!$B$2:$C$1000,2,FALSE)","v":{"$error":"#N/A"}},null,null,null,null,null,null,null,null,null,null,{"$f":"VLOOKUP(B4967,'(1) Project Reference Item List'!$B$2:$D$1000,3,FALSE)","v":{"$error":"#N/A"}},null,null,0,0]
[{"$f":"VLOOKUP(B4968,'(1) Project Reference Item List'!$B$2:$C$1000,2,FALSE)","v":{"$error":"#N/A"}},null,null,null,null,null,null,null,null,null,null,{"$f":"VLOOKUP(B4968,'(1) Project Reference Item List'!$B$2:$D$1000,3,FALSE)","v":{"$error":"#N/A"}},null,null,0,0]
[{"$f":"VLOOKUP(B4969,'(1) Project Reference Item List'!$B$2:$C$1000,2,FALSE)","v":{"$error":"#N/A"}},null,null,null,null,null,null,null,null,null,null,{"$f":"VLOOKUP(B4969,'(1) Project Reference Item List'!$B$2:$D$1000,3,FALSE)","v":{"$error":"#N/A"}},null,null,0,0]
[{"$f":"VLOOKUP(B4970,'(1) Project Reference Item List'!$B$2:$C$1000,2,FALSE)","v":{"$error":"#N/A"}},null,null,null,null,null,null,null,null,null,null,{"$f":"VLOOKUP(B4970,'(1) Project Reference Item List'!$B$2:$D$1000,3,FALSE)","v":{"$error":"#N/A"}},null,null,0,0]
[{"$f":"VLOOKUP(B4971,'(1) Project Reference Item List'!$B$2:$C$1000,2,FALSE)","v":{"$error":"#N/A"}},null,null,null,null,null,null,null,null,null,null,{"$f":"VLOOKUP(B4971,'(1) Project Reference Item List'!$B$2:$D$1000,3,FALSE)","v":{"$error":"#N/A"}},null,null,0,0]
[{"$f":"VLOOKUP(B4972,'(1) Project Reference Item List'!$B$2:$C$1000,2,FALSE)","v":{"$error":"#N/A"}},null,null,null,null,null,null,null,null,null,null,{"$f":"VLOOKUP(B4972,'(1) Project Reference Item List'!$B$2:$D$1000,3,FALSE)","v":{"$error":"#N/A"}},null,null,0,0]
[{"$f":"VLOOKUP(B4973,'(1) Project Reference Item List'!$B$2:$C$1000,2,FALSE)","v":{"$error":"#N/A"}},null,null,null,null,null,null,null,null,null,null,{"$f":"VLOOKUP(B4973,'(1) Project Reference Item List'!$B$2:$D$1000,3,FALSE)","v":{"$error":"#N/A"}},null,null,0,0]
[{"$f":"VLOOKUP(B4974,'(1) Project Reference Item List'!$B$2:$C$1000,2,FALSE)","v":{"$error":"#N/A"}},null,null,null,null,null,null,null,null,null,null,{"$f":"VLOOKUP(B4974,'(1) Project Reference Item List'!$B$2:$D$1000,3,FALSE)","v":{"$error":"#N/A"}},null,null,0,0]
[{"$f":"VLOOKUP(B4975,'(1) Project Reference Item List'!$B$2:$C$1000,2,FALSE)","v":{"$error":"#N/A"}},null,null,null,null,null,null,null,null,null,null,{"$f":"VLOOKUP(B4975,'(1) Project Reference Item List'!$B$2:$D$1000,3,FALSE)","v":{"$error":"#N/A"}},null,null,0,0]
[{"$f":"VLOOKUP(B4976,'(1) Project Reference Item List'!$B$2:$C$1000,2,FALSE)","v":{"$error":"#N/A"}},null,null,null,null,null,null,null,null,null,null,{"$f":"VLOOKUP(B4976,'(1) Project Reference Item List'!$B$2:$D$1000,3,FALSE)","v":{"$error":"#N/A"}},null,null,0,0]
[{"$f":"VLOOKUP(B4977,'(1) Project Reference Item List'!$B$2:$C$1000,2,FALSE)","v":{"$error":"#N/A"}},null,null,null,null,null,null,null,null,null,null,{"$f":"VLOOKUP(B4977,'(1) Project Reference Item List'!$B$2:$D$1000,3,FALSE)","v":{"$error":"#N/A"}},null,null,0,0]
[{"$f":"VLOOKUP(B4978,'(1) Project Reference Item List'!$B$2:$C$1000,2,FALSE)","v":{"$error":"#N/A"}},null,null,null,null,null,null,null,null,null,null,{"$f":"VLOOKUP(B4978,'(1) Project Reference Item List'!$B$2:$D$1000,3,FALSE)","v":{"$error":"#N/A"}},null,null,0,0]
[{"$f":"VLOOKUP(B4979,'(1) Project Reference Item List'!$B$2:$C$1000,2,FALSE)","v":{"$error":"#N/A"}},null,null,null,null,null,null,null,null,null,null,{"$f":"VLOOKUP(B4979,'(1) Project Reference Item List'!$B$2:$D$1000,3,FALSE)","v":{"$error":"#N/A"}},null,null,0,0]
[{"$f":"VLOOKUP(B4980,'(1) Project Reference Item List'!$B$2:$C$1000,2,FALSE)","v":{"$error":"#N/A"}},null,null,null,null,null,null,null,null,null,null,{"$f":"VLOOKUP(B4980,'(1) Project Reference Item List'!$B$2:$D$1000,3,FALSE)","v":{"$error":"#N/A"}},null,null,0,0]
[{"$f":"VLOOKUP(B4981,'(1) Project Reference Item List'!$B$2:$C$1000,2,FALSE)","v":{"$error":"#N/A"}},null,null,null,null,null,null,null,null,null,null,{"$f":"VLOOKUP(B4981,'(1) Project Reference Item List'!$B$2:$D$1000,3,FALSE)","v":{"$error":"#N/A"}},null,null,0,0]
[{"$f":"VLOOKUP(B4982,'(1) Project Reference Item List'!$B$2:$C$1000,2,FALSE)","v":{"$error":"#N/A"}},null,null,null,null,null,null,null,null,null,null,{"$f":"VLOOKUP(B4982,'(1) Project Reference Item List'!$B$2:$D$1000,3,FALSE)","v":{"$error":"#N/A"}},null,null,0,0]
[{"$f":"VLOOKUP(B4983,'(1) Project Reference Item List'!$B$2:$C$1000,2,FALSE)","v":{"$error":"#N/A"}},null,null,null,null,null,null,null,null,null,null,{"$f":"VLOOKUP(B4983,'(1) Project Reference Item List'!$B$2:$D$1000,3,FALSE)","v":{"$error":"#N/A"}},null,null,0,0]
[{"$f":"VLOOKUP(B4984,'(1) Project Reference Item List'!$B$2:$C$1000,2,FALSE)","v":{"$error":"#N/A"}},null,null,null,null,null,null,null,null,null,null,{"$f":"VLOOKUP(B4984,'(1) Project Reference Item List'!$B$2:$D$1000,3,FALSE)","v":{"$error":"#N/A"}},null,null,0,0]
[{"$f":"VLOOKUP(B4985,'(1) Project Reference Item List'!$B$2:$C$1000,2,FALSE)","v":{"$error":"#N/A"}},null,null,null,null,null,null,null,null,null,null,{"$f":"VLOOKUP(B4985,'(1) Project Reference Item List'!$B$2:$D$1000,3,FALSE)","v":{"$error":"#N/A"}},null,null,0,0]
[{"$f":"VLOOKUP(B4986,'(1) Project Reference Item List'!$B$2:$C$1000,2,FALSE)","v":{"$error":"#N/A"}},null,null,null,null,null,null,null,null,null,null,{"$f":"VLOOKUP(B4986,'(1) Project Reference Item List'!$B$2:$D$1000,3,FALSE)","v":{"$error":"#N/A"}},null,null,0,0]
[{"$f":"VLOOKUP(B4987,'(1) Project Reference Item List'!$B$2:$C$1000,2,FALSE)","v":{"$error":"#N/A"}},null,null,null,null,null,null,null,null,null,null,{"$f":"VLOOKUP(B4987,'(1) Project Reference Item List'!$B$2:$D$1000,3,FALSE)","v":{"$error":"#N/A"}},null,null,0,0]
[{"$f":"VLOOKUP(B4988,'(1) Project Reference Item List'!$B$2:$C$1000,2,FALSE)","v":{"$error":"#N/A"}},null,null,null,null,null,null,null,null,null,null,{"$f":"VLOOKUP(B4988,'(1) Project Reference Item List'!$B$2:$D$1000,3,FALSE)","v":{"$error":"#N/A"}},null,null,0,0]
[{"$f":"VLOOKUP(B4989,'(1) Project Reference Item List'!$B$2:$C$1000,2,FALSE)","v":{"$error":"#N/A"}},null,null,null,null,null,null,null,null,null,null,{"$f":"VLOOKUP(B4989,'(1) Project Reference Item List'!$B$2:$D$1000,3,FALSE)","v":{"$error":"#N/A"}},null,null,0,0]
[{"$f":"VLOOKUP(B4990,'(1) Project Reference Item List'!$B$2:$C$1000,2,FALSE)","v":{"$error":"#N/A"}},null,null,null,null,null,null,null,null,null,null,{"$f":"VLOOKUP(B4990,'(1) Project Reference Item List'!$B$2:$D$1000,3,FALSE)","v":{"$error":"#N/A"}},null,null,0,0]
[{"$f":"VLOOKUP(B4991,'(1) Project Reference Item List'!$B$2:$C$1000,2,FALSE)","v":{"$error":"#N/A"}},null,null,null,null,null,null,null,null,null,null,{"$f":"VLOOKUP(B4991,'(1) Project Reference Item List'!$B$2:$D$1000,3,FALSE)","v":{"$error":"#N/A"}},null,null,0,0]
[{"$f":"VLOOKUP(B4992,'(1) Project Reference Item List'!$B$2:$C$1000,2,FALSE)","v":{"$error":"#N/A"}},null,null,null,null,null,null,null,null,null,null,{"$f":"VLOOKUP(B4992,'(1) Project Reference Item List'!$B$2:$D$1000,3,FALSE)","v":{"$error":"#N/A"}},null,null,0,0]
[{"$f":"VLOOKUP(B4993,'(1) Project Reference Item List'!$B$2:$C$1000,2,FALSE)","v":{"$error":"#N/A"}},null,null,null,null,null,null,null,null,null,null,{"$f":"VLOOKUP(B4993,'(1) Project Reference Item List'!$B$2:$D$1000,3,FALSE)","v":{"$error":"#N/A"}},null,null,0,0]
[{"$f":"VLOOKUP(B4994,'(1) Project Reference Item List'!$B$2:$C$1000,2,FALSE)","v":{"$error":"#N/A"}},null,null,null,null,null,null,null,null,null,null,{"$f":"VLOOKUP(B4994,'(1) Project Reference Item List'!$B$2:$D$1000,3,FALSE)","v":{"$error":"#N/A"}},null,null,0,0]
[{"$f":"VLOOKUP(B4995,'(1) Project Reference Item List'!$B$2:$C$1000,2,FALSE)","v":{"$error":"#N/A"}},null,null,null,null,null,null,null,null,null,null,{"$f":"VLOOKUP(B4995,'(1) Project Reference Item List'!$B$2:$D$1000,3,FALSE)","v":{"$error":"#N/A"}},null,null,0,0]
[{"$f":"VLOOKUP(B4996,'(1) Project Reference Item List'!$B$2:$C$1000,2,FALSE)","v":{"$error":"#N/A"}},null,null,null,null,null,null,null,null,null,null,{"$f":"VLOOKUP(B4996,'(1) Project Reference Item List'!$B$2:$D$1000,3,FALSE)","v":{"$error":"#N/A"}},null,null,0,0]
[{"$f":"VLOOKUP(B4997,'(1) Project Reference Item List'!$B$2:$C$1000,2,FALSE)","v":{"$error":"#N/A"}},null,null,null,null,null,null,null,null,null,null,{"$f":"VLOOKUP(B4997,'(1) Project Reference Item List'!$B$2:$D$1000,3,FALSE)","v":{"$error":"#N/A"}},null,null,0,0]
[{"$f":"VLOOKUP(B4998,'(1) Project Reference Item List'!$B$2:$C$1000,2,FALSE)","v":{"$error":"#N/A"}},null,null,null,null,null,null,null,null,null,null,{"$f":"VLOOKUP(B4998,'(1) Project Reference Item List'!$B$2:$D$1000,3,FALSE)","v":{"$error":"#N/A"}},null,null,{"$f":"IF(J4998=0,J4998,J4998*N4998)","v":0},{"$f":"(M4998-O4998)","v":0}]
[{"$f":"VLOOKUP(B4999,'(1) Project Reference Item List'!$B$2:$C$1000,2,FALSE)","v":{"$error":"#N/A"}},null,null,null,null,null,null,null,null,null,null,{"$f":"VLOOKUP(B4999,'(1) Project Reference Item List'!$B$2:$D$1000,3,FALSE)","v":{"$error":"#N/A"}},null,null,0,0]
[{"$f":"VLOOKUP(B5000,'(1) Project Reference Item List'!$B$2:$C$1000,2,FALSE)","v":{"$error":"#N/A"}},null,null,null,null,null,null,null,null,null,null,{"$f":"VLOOKUP(B5000,'(1) Project Reference Item List'!$B$2:$D$1000,3,FALSE)","v":{"$error":"#N/A"}},null,null,0,0]
[{"$f":"VLOOKUP(B5001,'(1) Project Reference Item List'!$B$2:$C$1000,2,FALSE)","v":{"$error":"#N/A"}},null,null,null,null,null,null,null,null,null,null,{"$f":"VLOOKUP(B5001,'(1) Project Reference Item List'!$B$2:$D$1000,3,FALSE)","v":{"$error":"#N/A"}},null,null,0,0]
[{"$f":"VLOOKUP(B5002,'(1) Project Reference Item List'!$B$2:$C$1000,2,FALSE)","v":{"$error":"#N/A"}},null,null,null,null,null,null,null,null,null,null,{"$f":"VLOOKUP(B5002,'(1) Project Reference Item List'!$B$2:$D$1000,3,FALSE)","v":{"$error":"#N/A"}},null,null,0,0]
[{"$f":"VLOOKUP(B5003,'(1) Project Reference Item List'!$B$2:$C$1000,2,FALSE)","v":{"$error":"#N/A"}},null,null,null,null,null,null,null,null,null,null,{"$f":"VLOOKUP(B5003,'(1) Project Reference Item List'!$B$2:$D$1000,3,FALSE)","v":{"$error":"#N/A"}},null,null,0,0]

{"sheet":"(3) Matl. Acceptance Definition","index":3,"n_rows":24,"n_cols":2,"rows_kept":24,"cut":false,"hidden":false,"merged":[[13,1,14,1],[7,1,10,1],[0,1,1,1],[3,1,4,1],[5,1,6,1],[11,1,12,1],[15,1,16,1],[17,1,18,1],[19,1,20,1],[23,1,24,1],[21,1,22,1]]}
[null,"ODOT LPA PROJECT BILL OF MATERIALS SET UP GUIDE"]
[]
[]
[null,"MATERIAL ACCEPTANCE METHOD DEFINITIONS"]
[]
[null,"1) APPR:  Approved List.  Materials are to be found on ODOT's Approved List.  See the following webiste.   http://www.dot.state.oh.us/Divisions/ConstructionMgt/Materials/Approved-List/Pages/default.aspx"]
[]
[null,"2) CERT:  Certified Material and TE24 Acceptance.  Prior to allowing placement of aggregate, the Project Engineer will check material tickets and verify the material received is both the required material needed (#57, Type 2, etc) and from a Certified Aggregate Supplier list on the OMM website.  For TE24 materials, the Project Engineer will collect each TE24 and visually inspect the associated material before incorporating that material into the Project.  See the following website for Certified Aggregate Suppliers.   http://www.dot.state.oh.us/Divisions/ConstructionMgt/Materials/Pages/CertifiedSuppliers.aspx"]
[]
[]
[]
[null,"3) CTD: Certified Test Data.  Certified Test Data is submitted to the Project for material acceptance.  (e.g. Steel Piles, Cast in Place Reinforced Concrete Piles, Slope Erosion Protection, etc.)"]
[]
[null,"4) IAS:  Independent Assurance Samples. (e.g. Approach Slab Pressure Relief Joint)"]
[]
[null,"5) JCTL: Job Control.  Materials are assigned to the Project by quantity.  (e.g. Concrete Test, Partial Depth Pavement Repair, Work Zone Pavement Markings, etc.)"]
[]
[null,"6) QA: Quality Assurance. "]
[]
[null,"7) QC: Quality Control."]
[]
[null,"8) QPL: Qualified Produces List.  All material received that is on the Qualified Products List (QPL) must have supporting documentation in the project file showing proof of material producer.  http://www.dot.state.oh.us/Divisions/ConstructionMgt/Materials/Pages/QPL.aspx"]
[]
[null,"9) SMQ: Small Quantity.  The Project Engineer may accept small quantities and materials for temporary application that are not intended for permanent incorporation in the Work."]

{"sheet":"2019 SBOM","index":4,"n_rows":102511,"n_cols":11,"rows_kept":4500,"cut":true,"hidden":false,"merged":[],"bounds":{"rows_first":2000,"rows_last":500,"rows_between":2000,"halvings":0}}
["ODOT Item Code","ODOT Item Code Description","Item Unit","Primary, Component, or Substitute Material","Material Code","Material Code Description","Material Unit","Spec Reference","Material Unit to Construction Unit Conversion Factor","Material Accpetance  Method","Item Specific to Project?           (Y = Yes)"]
["452E14021","10\" NO-REINF CNC PVMT, QC1P QC/QA, APP","SY","COMPONENT","42406OH","WHITE CURE TYPE 2 CLASS A OR B","GAL","705.07OH","0.06000","QPL",{"$f":"IF(ISNA(VLOOKUP(A2,'(1) Project Reference Item List'!$B$2:$B$499,1,FALSE)),\"\",\"Y\")","v":""}]
["452E14022","10.5\" NO-REINF CNC PVMT, QC1P QC/QA","SY","PRIMARY","215QC1","QC 1 CONCRETE - 4000 PSI - WELL GRADED","CY","499","0.27778","JCTL",{"$f":"IF(ISNA(VLOOKUP(A3,'(1) Project Reference Item List'!$B$2:$B$499,1,FALSE)),\"\",\"Y\")","v":""}]
["452E14050","10\" NO-REINF CNC PVMT, QCMS","SY","SUBSTITUTE","67504","5/8\"X12\" WIGGLE BOLT","EACH","BP2.1","0.00000","QPL",{"$f":"IF(ISNA(VLOOKUP(A4,'(1) Project Reference Item List'!$B$2:$B$499,1,FALSE)),\"\",\"Y\")","v":""}]
["452E15021","12\" NO-REINF CNC PVMT, QC1P QC/QA, APP","SY","COMPONENT","42406OH","WHITE CURE TYPE 2 CLASS A OR B","GAL","705.07OH","0.06000","QPL",{"$f":"IF(ISNA(VLOOKUP(A5,'(1) Project Reference Item List'!$B$2:$B$499,1,FALSE)),\"\",\"Y\")","v":""}]
["511E33417","CLASS QC2 CONC, SUPERSTRUCTURE, APP","CY","COMPONENT","42404OH","CLEAR CURE TYPE1 CL A OR B OR W/DYE","GAL","705.07OH","0.00000","QPL",{"$f":"IF(ISNA(VLOOKUP(A6,'(1) Project Reference Item List'!$B$2:$B$499,1,FALSE)),\"\",\"Y\")","v":""}]
["511E21523","CL QC2 CONC W QC/QA, SUPERSTRUCTURE, APP","CY","COMPONENT","42404OH","CLEAR CURE TYPE1 CL A OR B OR W/DYE","GAL","705.07OH","0.00000","QPL",{"$f":"IF(ISNA(VLOOKUP(A7,'(1) Project Reference Item List'!$B$2:$B$499,1,FALSE)),\"\",\"Y\")","v":""}]
["511E31610","CLASS QC2 CONC, SUPERSTRUCTURE","CY","COMPONENT","42404OH","CLEAR CURE TYPE1 CL A OR B OR W/DYE","GAL","705.07OH","0.00000","QPL",{"$f":"IF(ISNA(VLOOKUP(A8,'(1) Project Reference Item List'!$B$2:$B$499,1,FALSE)),\"\",\"Y\")","v":""}]
["514E00505","GRINDING FINS, TEARS, SLIVERS, APP","MNHR","PRIMARY","NOMATL","CODE TO ADD TO CONTRACT S & T REQ","EACH","NONE","0.00000",null,{"$f":"IF(ISNA(VLOOKUP(A9,'(1) Project Reference Item List'!$B$2:$B$499,1,FALSE)),\"\",\"Y\")","v":""}]
["514E80020","SHOP PAINT & FIELD TOUCH-UP STRC STEEL","SF","COMPONENT","40022","CAULKING/STRUCTURAL STEEL PAINT IN FIELD","GAL","514.02","0.00000","QPL",{"$f":"IF(ISNA(VLOOKUP(A10,'(1) Project Reference Item List'!$B$2:$B$499,1,FALSE)),\"\",\"Y\")","v":""}]
["514E80030","SHOP PAINT & FIELD TOUCH-UP STRC STEEL","LS","PRIMARY","40007","INORGANIC ZINC PRIMER: RESIN & PIGMENT","GAL","708.01","0.00000","QPL",{"$f":"IF(ISNA(VLOOKUP(A11,'(1) Project Reference Item List'!$B$2:$B$499,1,FALSE)),\"\",\"Y\")","v":""}]
["514E80110","FIELD PAINTING OF STRC STEEL X-FRAMES","LS","PRIMARY","999999","MATERIALS AS NEEDED","EACH","NONE","0.00000","JCTL",{"$f":"IF(ISNA(VLOOKUP(A12,'(1) Project Reference Item List'!$B$2:$B$499,1,FALSE)),\"\",\"Y\")","v":""}]
["514E00400","FLD PTING EX STR STEEL, FINISH COAT","LS","COMPONENT","40022","CAULKING/STRUCTURAL STEEL PAINT IN FIELD","GAL","514.02","0.00000","QPL",{"$f":"IF(ISNA(VLOOKUP(A13,'(1) Project Reference Item List'!$B$2:$B$499,1,FALSE)),\"\",\"Y\")","v":""}]
["514E20001","FIELD PAINTING OF DAMAGED STRCTRL, APP","SF","PRIMARY","40015","OZEU INTERMEDIATE COAT RESIN & CURE","GAL","708.02","0.00000","QPL",{"$f":"IF(ISNA(VLOOKUP(A14,'(1) Project Reference Item List'!$B$2:$B$499,1,FALSE)),\"\",\"Y\")","v":""}]
["514E99000","BRIDGE PAINTING","LS","COMPONENT","40022","CAULKING/STRUCTURAL STEEL PAINT IN FIELD","GAL","514.02","0.00000","QPL",{"$f":"IF(ISNA(VLOOKUP(A15,'(1) Project Reference Item List'!$B$2:$B$499,1,FALSE)),\"\",\"Y\")","v":""}]
["514E00401","FLD PTING EX STR STEEL, FINISH COAT, APP","LS","COMPONENT","40022","CAULKING/STRUCTURAL STEEL PAINT IN FIELD","GAL","514.02","0.00000","QPL",{"$f":"IF(ISNA(VLOOKUP(A16,'(1) Project Reference Item List'!$B$2:$B$499,1,FALSE)),\"\",\"Y\")","v":""}]
["524E94601","DRILLED SHAFTS, 30\", APP","FT","PRIMARY","215QC4","QC 4 CONCRETE - MASS - WELL GRADED","CY","499","0.06542","JCTL",{"$f":"IF(ISNA(VLOOKUP(A17,'(1) Project Reference Item List'!$B$2:$B$499,1,FALSE)),\"\",\"Y\")","v":""}]
["524E94603","DRILLED SHAFTS, 30\", ABOVE BR, APP","FT","COMPONENT","62560","REINFORCING, EPOXY COATED GRADE 60","LB","709.00","0.00000","CERT",{"$f":"IF(ISNA(VLOOKUP(A18,'(1) Project Reference Item List'!$B$2:$B$499,1,FALSE)),\"\",\"Y\")","v":""}]
["524E94605","DRILLED SHAFTS, 30\", INTO BR, APP","FT","COMPONENT","62560","REINFORCING, EPOXY COATED GRADE 60","LB","709.00","0.00000","CERT",{"$f":"IF(ISNA(VLOOKUP(A19,'(1) Project Reference Item List'!$B$2:$B$499,1,FALSE)),\"\",\"Y\")","v":""}]
["522E12201","STR PLATE CM STRUC, APP","FT","COMPONENT","61503","ASPHALT MASTIC, AASHTO M-243","GAL","603.05","0.00000","CERT",{"$f":"IF(ISNA(VLOOKUP(A20,'(1) Project Reference Item List'!$B$2:$B$499,1,FALSE)),\"\",\"Y\")","v":""}]
["524E94702","DRILLED SHAFTS, 36\", ABOVE BR","FT","COMPONENT","62560","REINFORCING, EPOXY COATED GRADE 60","LB","709.00","0.00000","CERT",{"$f":"IF(ISNA(VLOOKUP(A21,'(1) Project Reference Item List'!$B$2:$B$499,1,FALSE)),\"\",\"Y\")","v":""}]
["523E20000","DYNAMIC LOAD TESTING","EACH","PRIMARY","NOMATL","CODE TO ADD TO CONTRACT S & T REQ","EACH","NONE","0.00000",null,{"$f":"IF(ISNA(VLOOKUP(A22,'(1) Project Reference Item List'!$B$2:$B$499,1,FALSE)),\"\",\"Y\")","v":""}]
["524E94405","DRILLED SHAFTS, 18\", INTO BR, APP","FT","COMPONENT","62560","REINFORCING, EPOXY COATED GRADE 60","LB","709.00","0.00000","CERT",{"$f":"IF(ISNA(VLOOKUP(A23,'(1) Project Reference Item List'!$B$2:$B$499,1,FALSE)),\"\",\"Y\")","v":""}]
["524E94500","DRILLED SHAFTS, 24\"","FT","COMPONENT","62560","REINFORCING, EPOXY COATED GRADE 60","LB","709.00","0.00000","CERT",{"$f":"IF(ISNA(VLOOKUP(A24,'(1) Project Reference Item List'!$B$2:$B$499,1,FALSE)),\"\",\"Y\")","v":""}]
["524E94504","DRILLED SHAFTS, 24\", INTO BR","FT","PRIMARY","215QC2","QC 2 CONCRETE - 4500 PSI - WELL GRADED","CY","499","0.11636","JCTL",{"$f":"IF(ISNA(VLOOKUP(A25,'(1) Project Reference Item List'!$B$2:$B$499,1,FALSE)),\"\",\"Y\")","v":""}]
["601E34300","ROCK CH PROT, D W/O FILTER","CY","PRIMARY","001020D","LIMESTONE FOR DUMP ROCK FILL TYPE D","TON","703.19","1.22800","CERT",{"$f":"IF(ISNA(VLOOKUP(A26,'(1) Project Reference Item List'!$B$2:$B$499,1,FALSE)),\"\",\"Y\")","v":""}]
["601E34400","RCP, WITH GROUT","CY","PRIMARY","37501","PORTLAND CEMENT TYPE 1A","TON","701.01","0.00000","CERT",{"$f":"IF(ISNA(VLOOKUP(A27,'(1) Project Reference Item List'!$B$2:$B$499,1,FALSE)),\"\",\"Y\")","v":""}]
["601E38100","PAVED GUTTER, TYPE 1-6","FT","COMPONENT","42404OH","CLEAR CURE TYPE1 CL A OR B OR W/DYE","GAL","705.07OH","0.04120","QPL",{"$f":"IF(ISNA(VLOOKUP(A28,'(1) Project Reference Item List'!$B$2:$B$499,1,FALSE)),\"\",\"Y\")","v":""}]
["601E37500","PAVED GUTTER, TYPE 1-2","FT","COMPONENT","42404OH","CLEAR CURE TYPE1 CL A OR B OR W/DYE","GAL","705.07OH","0.02120","QPL",{"$f":"IF(ISNA(VLOOKUP(A29,'(1) Project Reference Item List'!$B$2:$B$499,1,FALSE)),\"\",\"Y\")","v":""}]
["601E45040","INFILTRATION TRENCH FILTER","CY","PRIMARY","075057","57 CRUSHED STONE (703)","TON","703.18","1.22800","CERT",{"$f":"IF(ISNA(VLOOKUP(A30,'(1) Project Reference Item List'!$B$2:$B$499,1,FALSE)),\"\",\"Y\")","v":""}]
["601E52000","CHANNEL PROTECTION, MISC.:","SY","PRIMARY","999999","MATERIALS AS NEEDED","EACH","NONE","0.00000","JCTL",{"$f":"IF(ISNA(VLOOKUP(A31,'(1) Project Reference Item List'!$B$2:$B$499,1,FALSE)),\"\",\"Y\")","v":""}]
["606E27910","ANCHOR ASSEMBLY REBUILT, MGS TYPE T","EACH","COMPONENT","550ESECT","GUARDRAIL END SECTION","EACH","710.06","0.00000","CERT",{"$f":"IF(ISNA(VLOOKUP(A32,'(1) Project Reference Item List'!$B$2:$B$499,1,FALSE)),\"\",\"Y\")","v":""}]
["606E27810","ANCHOR ASSEMBLY REBUILT, MGS TYPE A","EACH","COMPONENT","550HWMISC","GUARDRAIL HARDWARE","EACH","710.15","1.00000","CERT",{"$f":"IF(ISNA(VLOOKUP(A33,'(1) Project Reference Item List'!$B$2:$B$499,1,FALSE)),\"\",\"Y\")","v":""}]
["606E31101","BR TERM ASSY REBUILT, C, APP","EACH","COMPONENT","550SPOST","STEEL POST","EACH","710.15","2.00000","CERT",{"$f":"IF(ISNA(VLOOKUP(A34,'(1) Project Reference Item List'!$B$2:$B$499,1,FALSE)),\"\",\"Y\")","v":""}]
["606E28000","ANCHOR ASSEMBLY REBUILT, TYPE B-98","EACH","COMPONENT","550HWMISC","GUARDRAIL HARDWARE","EACH","710.15","0.00000","CERT",{"$f":"IF(ISNA(VLOOKUP(A35,'(1) Project Reference Item List'!$B$2:$B$499,1,FALSE)),\"\",\"Y\")","v":""}]
["606E27841","ANCHOR ASSEMBLY REBUILT, TYPE B, APP","EACH","COMPONENT","550ESECT","GUARDRAIL END SECTION","EACH","710.06","1.00000","CERT",{"$f":"IF(ISNA(VLOOKUP(A36,'(1) Project Reference Item List'!$B$2:$B$499,1,FALSE)),\"\",\"Y\")","v":""}]
["606E27846","ANCH ASSY REBUILT, MGS TYPE B","EACH","COMPONENT","550ESECT","GUARDRAIL END SECTION","EACH","710.06","0.00000","CERT",{"$f":"IF(ISNA(VLOOKUP(A37,'(1) Project Reference Item List'!$B$2:$B$499,1,FALSE)),\"\",\"Y\")","v":""}]
["606E27847","ANCH ASSY REBUILT, MGS TYPE B, APP","EACH","COMPONENT","550HWMISC","GUARDRAIL HARDWARE","EACH","710.15","1.00000","CERT",{"$f":"IF(ISNA(VLOOKUP(A38,'(1) Project Reference Item List'!$B$2:$B$499,1,FALSE)),\"\",\"Y\")","v":""}]
["606E28050","ANCH ASSY REBUILT, TYPE E-98","EACH","COMPONENT","350WPOST","WOODPOST","EACH","710.12-14","6.00000","CERT",{"$f":"IF(ISNA(VLOOKUP(A39,'(1) Project Reference Item List'!$B$2:$B$499,1,FALSE)),\"\",\"Y\")","v":""}]
["606E27900","ANCH ASSY REBUILT, TYPE T","EACH","COMPONENT","550ESECT","GUARDRAIL END SECTION","EACH","710.06","1.00000","CERT",{"$f":"IF(ISNA(VLOOKUP(A40,'(1) Project Reference Item List'!$B$2:$B$499,1,FALSE)),\"\",\"Y\")","v":""}]
["606E31001","BR TERM ASSY, TYPE C, APP","EACH","COMPONENT","550HWMISC","GUARDRAIL HARDWARE","EACH","710.15","0.00000","CERT",{"$f":"IF(ISNA(VLOOKUP(A41,'(1) Project Reference Item List'!$B$2:$B$499,1,FALSE)),\"\",\"Y\")","v":""}]
["515E10060","PRESTR CONC NON-COMP BM, B27-36","EACH","COMPONENT","42701","NON-SHRINK GROUT FOR PRESTRESS 705.22","LB","705.22","0.00000","APPR",{"$f":"IF(ISNA(VLOOKUP(A42,'(1) Project Reference Item List'!$B$2:$B$499,1,FALSE)),\"\",\"Y\")","v":""}]
["515E12030","PRESTR CONC COMP BM, LV 1, CB17-48","EACH","PRIMARY","280A001","PRESTRESSED CONCRETE MEMBER","EACH","515 SS865","1.00000","CERT",{"$f":"IF(ISNA(VLOOKUP(A43,'(1) Project Reference Item List'!$B$2:$B$499,1,FALSE)),\"\",\"Y\")","v":""}]
["515E10030","PRESTR CONC NON-COMP BM, B17-48","EACH","COMPONENT","42701","NON-SHRINK GROUT FOR PRESTRESS 705.22","LB","705.22","0.00000","APPR",{"$f":"IF(ISNA(VLOOKUP(A44,'(1) Project Reference Item List'!$B$2:$B$499,1,FALSE)),\"\",\"Y\")","v":""}]
["515E10071","PRESTR CONC NON-COMP BM, B27-48, APP","EACH","COMPONENT","42701","NON-SHRINK GROUT FOR PRESTRESS 705.22","LB","705.22","0.00000","CERT",{"$f":"IF(ISNA(VLOOKUP(A45,'(1) Project Reference Item List'!$B$2:$B$499,1,FALSE)),\"\",\"Y\")","v":""}]
["515E10080","PRESTR CONC NON-COMP BM, B33-36","EACH","COMPONENT","42701","NON-SHRINK GROUT FOR PRESTRESS 705.22","LB","705.22","0.00000","APPR",{"$f":"IF(ISNA(VLOOKUP(A46,'(1) Project Reference Item List'!$B$2:$B$499,1,FALSE)),\"\",\"Y\")","v":""}]
["515E10050","PRESTR CONC NON-COMP BM, B21-48","EACH","COMPONENT","42701","NON-SHRINK GROUT FOR PRESTRESS 705.22","LB","705.22","1.00000","APPR",{"$f":"IF(ISNA(VLOOKUP(A47,'(1) Project Reference Item List'!$B$2:$B$499,1,FALSE)),\"\",\"Y\")","v":""}]
["524E94705","DRILLED SHAFTS, 36\", INTO BR, APP","FT","PRIMARY","215QC2","QC 2 CONCRETE - 4500 PSI - WELL GRADED","CY","499","0.26167","JCTL",{"$f":"IF(ISNA(VLOOKUP(A48,'(1) Project Reference Item List'!$B$2:$B$499,1,FALSE)),\"\",\"Y\")","v":""}]
["524E94800","DRILLED SHAFTS, 42\"","FT","COMPONENT","62560","REINFORCING, EPOXY COATED GRADE 60","LB","709.00","0.00000","CERT",{"$f":"IF(ISNA(VLOOKUP(A49,'(1) Project Reference Item List'!$B$2:$B$499,1,FALSE)),\"\",\"Y\")","v":""}]
["524E94802","DRILLED SHAFTS, 42\", ABOVE BR","FT","COMPONENT","62560","REINFORCING, EPOXY COATED GRADE 60","LB","709.00","0.00000","CERT",{"$f":"IF(ISNA(VLOOKUP(A50,'(1) Project Reference Item List'!$B$2:$B$499,1,FALSE)),\"\",\"Y\")","v":""}]
["524E94804","DRILLED SHAFTS, 42\", INTO BR","FT","COMPONENT","62560","REINFORCING, EPOXY COATED GRADE 60","LB","709.00","0.00000","CERT",{"$f":"IF(ISNA(VLOOKUP(A51,'(1) Project Reference Item List'!$B$2:$B$499,1,FALSE)),\"\",\"Y\")","v":""}]
["524E94906","DRILLED SHAFTS, 54\", ABOVE BR","FT","COMPONENT","62560","REINFORCING, EPOXY COATED GRADE 60","LB","709.00","0.00000","CERT",{"$f":"IF(ISNA(VLOOKUP(A52,'(1) Project Reference Item List'!$B$2:$B$499,1,FALSE)),\"\",\"Y\")","v":""}]
["524E94918","DRILLED SHAFTS, 60\", INTO BR","FT","COMPONENT","62560","REINFORCING, EPOXY COATED GRADE 60","LB","709.00","0.00000","CERT",{"$f":"IF(ISNA(VLOOKUP(A53,'(1) Project Reference Item List'!$B$2:$B$499,1,FALSE)),\"\",\"Y\")","v":""}]
["524E94934","DRILLED SHAFTS, 66\", INTO BR","FT","COMPONENT","62560","REINFORCING, EPOXY COATED GRADE 60","LB","709.00","0.00000","CERT",{"$f":"IF(ISNA(VLOOKUP(A54,'(1) Project Reference Item List'!$B$2:$B$499,1,FALSE)),\"\",\"Y\")","v":""}]
["524E94935","DRILLED SHAFTS, 66\", INTO BR, APP","FT","COMPONENT","62560","REINFORCING, EPOXY COATED GRADE 60","LB","709.00","0.00000","CERT",{"$f":"IF(ISNA(VLOOKUP(A55,'(1) Project Reference Item List'!$B$2:$B$499,1,FALSE)),\"\",\"Y\")","v":""}]
["524E94946","DRILLED SHAFTS, 72\", ABOVE BR","FT","COMPONENT","62560","REINFORCING, EPOXY COATED GRADE 60","LB","709.00","0.00000","CERT",{"$f":"IF(ISNA(VLOOKUP(A56,'(1) Project Reference Item List'!$B$2:$B$499,1,FALSE)),\"\",\"Y\")","v":""}]
["605E06000","4\" BASE PIPE UD","FT","SUBSTITUTE","495P31PS","PE CORR SMOOTH INT PERF M252 SP PIPE","FT","707.31","1.00000","CERT",{"$f":"IF(ISNA(VLOOKUP(A57,'(1) Project Reference Item List'!$B$2:$B$499,1,FALSE)),\"\",\"Y\")","v":""}]
["605E06001","4\" BASE PIPE UD, APP","FT","SUBSTITUTE","476CL2","CERT PERF NON-REINFORCED CONC PIPE CL2","FT","706.06 S10","1.00000","CERT",{"$f":"IF(ISNA(VLOOKUP(A58,'(1) Project Reference Item List'!$B$2:$B$499,1,FALSE)),\"\",\"Y\")","v":""}]
["605E06020","4\" BASE PIPE UD W/ GEOTEX FAB","FT","SUBSTITUTE","495P31PS","PE CORR SMOOTH INT PERF M252 SP PIPE","FT","707.31","1.00000","CERT",{"$f":"IF(ISNA(VLOOKUP(A59,'(1) Project Reference Item List'!$B$2:$B$499,1,FALSE)),\"\",\"Y\")","v":""}]
["602E98200","MASONRY, MISC.:","CY","PRIMARY","999999","MATERIALS AS NEEDED","EACH","NONE","0.00000","JCTL",{"$f":"IF(ISNA(VLOOKUP(A60,'(1) Project Reference Item List'!$B$2:$B$499,1,FALSE)),\"\",\"Y\")","v":""}]
["602E98300","MASONRY, MISC.:","EACH","PRIMARY","999999","MATERIALS AS NEEDED","EACH","NONE","0.00000","JCTL",{"$f":"IF(ISNA(VLOOKUP(A61,'(1) Project Reference Item List'!$B$2:$B$499,1,FALSE)),\"\",\"Y\")","v":""}]
["606E32160","BRIDGE TERMINAL ASSEMBLY, TYPE TST","EACH","COMPONENT","550SPOST","STEEL POST","EACH","710.15","11.00000","CERT",{"$f":"IF(ISNA(VLOOKUP(A62,'(1) Project Reference Item List'!$B$2:$B$499,1,FALSE)),\"\",\"Y\")","v":""}]
["606E33050","BR TERM ASSY REBUILT, G","EACH","COMPONENT","550ESECT","GUARDRAIL END SECTION","EACH","710.06","1.00000","CERT",{"$f":"IF(ISNA(VLOOKUP(A63,'(1) Project Reference Item List'!$B$2:$B$499,1,FALSE)),\"\",\"Y\")","v":""}]
["606E32161","BRIDGE TERMINAL ASSEMBLY, TYPE TST, APP","EACH","COMPONENT","550ESECT","GUARDRAIL END SECTION","EACH","710.06","0.00000","CERT",{"$f":"IF(ISNA(VLOOKUP(A64,'(1) Project Reference Item List'!$B$2:$B$499,1,FALSE)),\"\",\"Y\")","v":""}]
["606E35001","BR TERM ASSY, TYPE 1, APP","EACH","COMPONENT","550SPOST","STEEL POST","EACH","710.15","6.00000","CERT",{"$f":"IF(ISNA(VLOOKUP(A65,'(1) Project Reference Item List'!$B$2:$B$499,1,FALSE)),\"\",\"Y\")","v":""}]
["606E33600","BR TERM ASSY REBUILT, H","EACH","COMPONENT","550ESECT","GUARDRAIL END SECTION","EACH","710.06","1.00000","CERT",{"$f":"IF(ISNA(VLOOKUP(A66,'(1) Project Reference Item List'!$B$2:$B$499,1,FALSE)),\"\",\"Y\")","v":""}]
["606E35004","BR TERM ASSY, TYPE 1, BARR DESIGN","EACH","COMPONENT","550ESECT","GUARDRAIL END SECTION","EACH","710.06","2.00000","CERT",{"$f":"IF(ISNA(VLOOKUP(A67,'(1) Project Reference Item List'!$B$2:$B$499,1,FALSE)),\"\",\"Y\")","v":""}]
["606E32601","BR TERM ASSY REBUILT, F, APP","EACH","COMPONENT","550HWMISC","GUARDRAIL HARDWARE","EACH","710.15","1.00000","CERT",{"$f":"IF(ISNA(VLOOKUP(A68,'(1) Project Reference Item List'!$B$2:$B$499,1,FALSE)),\"\",\"Y\")","v":""}]
["606E34001","BR TERM ASSY, TYPE J, APP","EACH","COMPONENT","550ESECT","GUARDRAIL END SECTION","EACH","710.06","0.00000","CERT",{"$f":"IF(ISNA(VLOOKUP(A69,'(1) Project Reference Item List'!$B$2:$B$499,1,FALSE)),\"\",\"Y\")","v":""}]
["606E35008","MGS BR TERM ASSMBLY RBLT, T1, BAR DSGN","EACH","COMPONENT","550SPOST","STEEL POST","EACH","710.15","0.00000","CERT",{"$f":"IF(ISNA(VLOOKUP(A70,'(1) Project Reference Item List'!$B$2:$B$499,1,FALSE)),\"\",\"Y\")","v":""}]
["515E12070","PRESTR CONC COMP BM, LV 1, CB27-48","EACH","COMPONENT","42701","NON-SHRINK GROUT FOR PRESTRESS 705.22","LB","705.22","0.00000","APPR",{"$f":"IF(ISNA(VLOOKUP(A71,'(1) Project Reference Item List'!$B$2:$B$499,1,FALSE)),\"\",\"Y\")","v":""}]
["515E12071","PRESTR CONC COMP BM, LV 1, CB27-48, APP","EACH","COMPONENT","42701","NON-SHRINK GROUT FOR PRESTRESS 705.22","LB","705.22","0.00000","CERT",{"$f":"IF(ISNA(VLOOKUP(A72,'(1) Project Reference Item List'!$B$2:$B$499,1,FALSE)),\"\",\"Y\")","v":""}]
["515E12080","PRESTR CONC COMP BM, LV 1, CB33-36","EACH","COMPONENT","42701","NON-SHRINK GROUT FOR PRESTRESS 705.22","LB","705.22","0.00000","APPR",{"$f":"IF(ISNA(VLOOKUP(A73,'(1) Project Reference Item List'!$B$2:$B$499,1,FALSE)),\"\",\"Y\")","v":""}]
["515E12050","PRESTR CONC COMP BM, LV 1, CB21-48","EACH","COMPONENT","42701","NON-SHRINK GROUT FOR PRESTRESS 705.22","LB","705.22","0.00000","APPR",{"$f":"IF(ISNA(VLOOKUP(A74,'(1) Project Reference Item List'!$B$2:$B$499,1,FALSE)),\"\",\"Y\")","v":""}]
["515E14010","STRT PREST CONC I-BM, LV 2, TYPE 3","EACH","COMPONENT","42701","NON-SHRINK GROUT FOR PRESTRESS 705.22","LB","705.22","0.00000","APPR",{"$f":"IF(ISNA(VLOOKUP(A75,'(1) Project Reference Item List'!$B$2:$B$499,1,FALSE)),\"\",\"Y\")","v":""}]
["515E12060","PRESTR CONC COMP BM, LV 1, CB27-36","EACH","COMPONENT","42701","NON-SHRINK GROUT FOR PRESTRESS 705.22","LB","705.22","0.00000","APPR",{"$f":"IF(ISNA(VLOOKUP(A76,'(1) Project Reference Item List'!$B$2:$B$499,1,FALSE)),\"\",\"Y\")","v":""}]
["515E12110","PRESTR CONC COMP BM, LV 1, CB42-48","EACH","COMPONENT","42701","NON-SHRINK GROUT FOR PRESTRESS 705.22","LB","705.22","0.00000","CERT",{"$f":"IF(ISNA(VLOOKUP(A77,'(1) Project Reference Item List'!$B$2:$B$499,1,FALSE)),\"\",\"Y\")","v":""}]
["524E94991","DRILLED SHAFTS, 84\", ABOVE BR, APP","FT","COMPONENT","62560","REINFORCING, EPOXY COATED GRADE 60","LB","709.00","0.00000","CERT",{"$f":"IF(ISNA(VLOOKUP(A78,'(1) Project Reference Item List'!$B$2:$B$499,1,FALSE)),\"\",\"Y\")","v":""}]
["524E94996","DRILLED SHAFTS, 96\", ABOVE BR","FT","COMPONENT","62560","REINFORCING, EPOXY COATED GRADE 60","LB","709.00","0.00000","CERT",{"$f":"IF(ISNA(VLOOKUP(A79,'(1) Project Reference Item List'!$B$2:$B$499,1,FALSE)),\"\",\"Y\")","v":""}]
["524E94998","DRILLED SHAFTS, 96\", INTO BR","FT","PRIMARY","215QC4","QC 4 CONCRETE - MASS - WELL GRADED","CY","499","0.06542","JCTL",{"$f":"IF(ISNA(VLOOKUP(A80,'(1) Project Reference Item List'!$B$2:$B$499,1,FALSE)),\"\",\"Y\")","v":""}]
["524E95200","DRILLED SHAFTS, MISC.","LS","PRIMARY","215QC5","QC 5  CONCRETE-4000-4500 PSI_3/8' -1\"AGG","CY","499","0.06542","JCTL",{"$f":"IF(ISNA(VLOOKUP(A81,'(1) Project Reference Item List'!$B$2:$B$499,1,FALSE)),\"\",\"Y\")","v":""}]
["524E95300","DRILLED SHAFTS, MISC.","LB","COMPONENT","62560","REINFORCING, EPOXY COATED GRADE 60","LB","709.00","0.00000","CERT",{"$f":"IF(ISNA(VLOOKUP(A82,'(1) Project Reference Item List'!$B$2:$B$499,1,FALSE)),\"\",\"Y\")","v":""}]
["524E95410","DRILLED SHAFTS, 24\", QC/QA","FT","PRIMARY","215QC5","QC 5  CONCRETE-4000-4500 PSI_3/8' -1\"AGG","CY","499","0.02909","JCTL",{"$f":"IF(ISNA(VLOOKUP(A83,'(1) Project Reference Item List'!$B$2:$B$499,1,FALSE)),\"\",\"Y\")","v":""}]
["524E95412","DRILLED SHAFTS, 24\", ABOVE BR, QC/QA","FT","PRIMARY","215QC5","QC 5  CONCRETE-4000-4500 PSI_3/8' -1\"AGG","CY","499","0.02909","JCTL",{"$f":"IF(ISNA(VLOOKUP(A84,'(1) Project Reference Item List'!$B$2:$B$499,1,FALSE)),\"\",\"Y\")","v":""}]
["524E95422","DRILLED SHAFTS, 30\", ABOVE BR, QC/QA","FT","PRIMARY","215QC5","QC 5  CONCRETE-4000-4500 PSI_3/8' -1\"AGG","CY","499","0.02909","JCTL",{"$f":"IF(ISNA(VLOOKUP(A85,'(1) Project Reference Item List'!$B$2:$B$499,1,FALSE)),\"\",\"Y\")","v":""}]
["524E95432","DRILLED SHAFTS, 36\", ABOVE BR, QC/QA","FT","PRIMARY","215QC5","QC 5  CONCRETE-4000-4500 PSI_3/8' -1\"AGG","CY","499","0.02909","JCTL",{"$f":"IF(ISNA(VLOOKUP(A86,'(1) Project Reference Item List'!$B$2:$B$499,1,FALSE)),\"\",\"Y\")","v":""}]
["605E13300","6\" UNCL PIPE UD","FT","SUBSTITUTE","476CL3","CERT PERF NON-REINFORCED CONC PIPE CL3","FT","706.06 S10","1.00000","CERT",{"$f":"IF(ISNA(VLOOKUP(A87,'(1) Project Reference Item List'!$B$2:$B$499,1,FALSE)),\"\",\"Y\")","v":""}]
["605E13500","6\" ROCK CUT UD","FT","COMPONENT","075008","8 CRUSHED STONE (703)","TON","703","0.00000","CERT",{"$f":"IF(ISNA(VLOOKUP(A88,'(1) Project Reference Item List'!$B$2:$B$499,1,FALSE)),\"\",\"Y\")","v":""}]
["605E31100","AGGREGATE DRAINS","FT","SUBSTITUTE","073009","9 GRAVEL 703","TON","703","0.03209","CERT",{"$f":"IF(ISNA(VLOOKUP(A89,'(1) Project Reference Item List'!$B$2:$B$499,1,FALSE)),\"\",\"Y\")","v":""}]
["606E10200","NOISE BARRIER (REF), 10' & UNDER","SF","PRIMARY","27029","CERT CONC NOISE WALL/PANEL,POST,COPING","EACH","SPECIAL 10","0.00000","CERT",{"$f":"IF(ISNA(VLOOKUP(A90,'(1) Project Reference Item List'!$B$2:$B$499,1,FALSE)),\"\",\"Y\")","v":""}]
["606E10000","NOISE BARRIER","SF","PRIMARY","27029","CERT CONC NOISE WALL/PANEL,POST,COPING","EACH","SPECIAL 10","0.00000","CERT",{"$f":"IF(ISNA(VLOOKUP(A91,'(1) Project Reference Item List'!$B$2:$B$499,1,FALSE)),\"\",\"Y\")","v":""}]
["606E35110","BR TERM ASSY REBUILT, TYPE 2","EACH","PRIMARY","550ESECT","GUARDRAIL END SECTION","EACH","710.06","1.00000","CERT",{"$f":"IF(ISNA(VLOOKUP(A92,'(1) Project Reference Item List'!$B$2:$B$499,1,FALSE)),\"\",\"Y\")","v":""}]
["606E35141","BRIDGE TERM ASSY, TYPE 4, APP","EACH","COMPONENT","550HWMISC","GUARDRAIL HARDWARE","EACH","710.15","1.00000","CERT",{"$f":"IF(ISNA(VLOOKUP(A93,'(1) Project Reference Item List'!$B$2:$B$499,1,FALSE)),\"\",\"Y\")","v":""}]
["606E40000","36\" CONCRETE ANCHOR","EACH","COMPONENT","550HWMISC","GUARDRAIL HARDWARE","EACH","710.15","1.00000","CERT",{"$f":"IF(ISNA(VLOOKUP(A94,'(1) Project Reference Item List'!$B$2:$B$499,1,FALSE)),\"\",\"Y\")","v":""}]
["606E35150","BR TERM ASSY REBUILT, TYPE 4","EACH","COMPONENT","350WPOST","WOODPOST","EACH","710.12-14","7.00000","CERT",{"$f":"IF(ISNA(VLOOKUP(A95,'(1) Project Reference Item List'!$B$2:$B$499,1,FALSE)),\"\",\"Y\")","v":""}]
["606E55100","CABLE BARRIER, CONC LINE POST FNDTN","EACH","PRIMARY","681SPOST","STEEL POST/TENSION CABLE GR","EACH","SPECIAL","0.00000","JCTL",{"$f":"IF(ISNA(VLOOKUP(A96,'(1) Project Reference Item List'!$B$2:$B$499,1,FALSE)),\"\",\"Y\")","v":""}]
["606E35120","BR TERM ASSY, TYPE 3","EACH","COMPONENT","550ESECT","GUARDRAIL END SECTION","EACH","710.06","1.00000","CERT",{"$f":"IF(ISNA(VLOOKUP(A97,'(1) Project Reference Item List'!$B$2:$B$499,1,FALSE)),\"\",\"Y\")","v":""}]
["606E35101","BR TERM ASSY, TYPE 2, APP","EACH","COMPONENT","550HWMISC","GUARDRAIL HARDWARE","EACH","710.15","1.00000","CERT",{"$f":"IF(ISNA(VLOOKUP(A98,'(1) Project Reference Item List'!$B$2:$B$499,1,FALSE)),\"\",\"Y\")","v":""}]
["606E35102","MGS BRIDGE TERM ASSEMBLY, TYPE 2","EACH","PRIMARY","550ESECT","GUARDRAIL END SECTION","EACH","710.06","1.00000","CERT",{"$f":"IF(ISNA(VLOOKUP(A99,'(1) Project Reference Item List'!$B$2:$B$499,1,FALSE)),\"\",\"Y\")","v":""}]
["606E35121","BRIDGE TERMINAL ASSMEBLY, T3, APP","EACH","PRIMARY","550RAIL","RAIL ELEMENT","FT","710.06","25.00000","CERT",{"$f":"IF(ISNA(VLOOKUP(A100,'(1) Project Reference Item List'!$B$2:$B$499,1,FALSE)),\"\",\"Y\")","v":""}]
["606E35171","BR TERM ASSY, TYPE BR-1, APP","EACH","COMPONENT","550ESECT","GUARDRAIL END SECTION","EACH","710.06","1.00000","CERT",{"$f":"IF(ISNA(VLOOKUP(A101,'(1) Project Reference Item List'!$B$2:$B$499,1,FALSE)),\"\",\"Y\")","v":""}]
["606E35103","MGS BRIDGE TERM ASSEMBLY, TYPE 2, APP","EACH","COMPONENT","550HWMISC","GUARDRAIL HARDWARE","EACH","710.15","1.00000","CERT",{"$f":"IF(ISNA(VLOOKUP(A102,'(1) Project Reference Item List'!$B$2:$B$499,1,FALSE)),\"\",\"Y\")","v":""}]
["515E15020","DRAPED PREST CONC I-BM, LV 3, TYPE 4","EACH","PRIMARY","280A001","PRESTRESSED CONCRETE MEMBER","EACH","515 SS865","1.00000","CERT",{"$f":"IF(ISNA(VLOOKUP(A103,'(1) Project Reference Item List'!$B$2:$B$499,1,FALSE)),\"\",\"Y\")","v":""}]
["515E14070","STRT PREST CONC I-BM, LV 2, TYPE WF36-49","EACH","COMPONENT","42701","NON-SHRINK GROUT FOR PRESTRESS 705.22","LB","705.22","0.00000","APPR",{"$f":"IF(ISNA(VLOOKUP(A104,'(1) Project Reference Item List'!$B$2:$B$499,1,FALSE)),\"\",\"Y\")","v":""}]
["515E14080","STRT PREST CONC I-BM, LV 2, TYPE WF42-49","EACH","COMPONENT","42701","NON-SHRINK GROUT FOR PRESTRESS 705.22","LB","705.22","0.00000","CERT",{"$f":"IF(ISNA(VLOOKUP(A105,'(1) Project Reference Item List'!$B$2:$B$499,1,FALSE)),\"\",\"Y\")","v":""}]
["515E14090","STRT PREST CONC I-BM, LV 2, TYPE WF48-49","EACH","COMPONENT","42701","NON-SHRINK GROUT FOR PRESTRESS 705.22","LB","705.22","0.00000","APPR",{"$f":"IF(ISNA(VLOOKUP(A106,'(1) Project Reference Item List'!$B$2:$B$499,1,FALSE)),\"\",\"Y\")","v":""}]
["515E14100","STRT PREST CONC I-BM, LV 2, TYPE WF54-49","EACH","COMPONENT","42701","NON-SHRINK GROUT FOR PRESTRESS 705.22","LB","705.22","0.00000","CERT",{"$f":"IF(ISNA(VLOOKUP(A107,'(1) Project Reference Item List'!$B$2:$B$499,1,FALSE)),\"\",\"Y\")","v":""}]
["515E15041","DRAPED PREST CONC I-BM, LV 3, TYPE 4 (66","EACH","PRIMARY","280A001","PRESTRESSED CONCRETE MEMBER","EACH","515 SS865","1.00000","CERT",{"$f":"IF(ISNA(VLOOKUP(A108,'(1) Project Reference Item List'!$B$2:$B$499,1,FALSE)),\"\",\"Y\")","v":""}]
["515E15050","DRAPED PREST CONC I-BM, LV 3, TYPE 4 (72","EACH","COMPONENT","42701","NON-SHRINK GROUT FOR PRESTRESS 705.22","LB","705.22","0.00000","APPR",{"$f":"IF(ISNA(VLOOKUP(A109,'(1) Project Reference Item List'!$B$2:$B$499,1,FALSE)),\"\",\"Y\")","v":""}]
["524E95454","DRILLED SHAFTS, 48\", INTO BR, QC/QA","FT","PRIMARY","215QC5","QC 5  CONCRETE-4000-4500 PSI_3/8' -1\"AGG","CY","499","0.02909","JCTL",{"$f":"IF(ISNA(VLOOKUP(A110,'(1) Project Reference Item List'!$B$2:$B$499,1,FALSE)),\"\",\"Y\")","v":""}]
["524E95464","DRILLED SHAFTS, 54\", INTO BR, QC/QA","FT","PRIMARY","215QC5","QC 5  CONCRETE-4000-4500 PSI_3/8' -1\"AGG","CY","499","0.02909","JCTL",{"$f":"IF(ISNA(VLOOKUP(A111,'(1) Project Reference Item List'!$B$2:$B$499,1,FALSE)),\"\",\"Y\")","v":""}]
["524E95474","DRILLED SHAFTS, 60\", INTO BR, QC/QA","FT","PRIMARY","215QC5","QC 5  CONCRETE-4000-4500 PSI_3/8' -1\"AGG","CY","499","0.02909","JCTL",{"$f":"IF(ISNA(VLOOKUP(A112,'(1) Project Reference Item List'!$B$2:$B$499,1,FALSE)),\"\",\"Y\")","v":""}]
["524E95490","DRILLED SHAFTS, 72\", QC/QA","FT","PRIMARY","215QC5","QC 5  CONCRETE-4000-4500 PSI_3/8' -1\"AGG","CY","499","0.02909","JCTL",{"$f":"IF(ISNA(VLOOKUP(A113,'(1) Project Reference Item List'!$B$2:$B$499,1,FALSE)),\"\",\"Y\")","v":""}]
["524E95494","DRILLED SHAFTS, 72\", INTO BR, QC/QA","FT","PRIMARY","215QC5","QC 5  CONCRETE-4000-4500 PSI_3/8' -1\"AGG","CY","499","0.02909","JCTL",{"$f":"IF(ISNA(VLOOKUP(A114,'(1) Project Reference Item List'!$B$2:$B$499,1,FALSE)),\"\",\"Y\")","v":""}]
["524E95510","DRILLED SHAFTS, 84\", QC/QA","FT","PRIMARY","215QC4","QC 4 CONCRETE - MASS - WELL GRADED","CY","499","0.02909","JCTL",{"$f":"IF(ISNA(VLOOKUP(A115,'(1) Project Reference Item List'!$B$2:$B$499,1,FALSE)),\"\",\"Y\")","v":""}]
["606E10230","NOISE BARRIER (REF), OVER 20' - 25'","SF","PRIMARY","27029","CERT CONC NOISE WALL/PANEL,POST,COPING","EACH","SPECIAL 10","0.00000","CERT",{"$f":"IF(ISNA(VLOOKUP(A116,'(1) Project Reference Item List'!$B$2:$B$499,1,FALSE)),\"\",\"Y\")","v":""}]
["606E10600","NOISE BARRIER COATING","SY","PRIMARY","42506","NOISE BARRIER CONC PANEL SEALER/COATING","GAL","PLAN NOTE","0.00000","CTD",{"$f":"IF(ISNA(VLOOKUP(A117,'(1) Project Reference Item List'!$B$2:$B$499,1,FALSE)),\"\",\"Y\")","v":""}]
["606E12501","GUARDRAIL, TYPE 4, APP","FT","COMPONENT","550HWMISC","GUARDRAIL HARDWARE","EACH","710.15","0.00000","CERT",{"$f":"IF(ISNA(VLOOKUP(A118,'(1) Project Reference Item List'!$B$2:$B$499,1,FALSE)),\"\",\"Y\")","v":""}]
["606E13000","GUARDRAIL, TYPE 5","FT","COMPONENT","550HWMISC","GUARDRAIL HARDWARE","EACH","710.15","0.00000","CERT",{"$f":"IF(ISNA(VLOOKUP(A119,'(1) Project Reference Item List'!$B$2:$B$499,1,FALSE)),\"\",\"Y\")","v":""}]
["606E13030","GUARDRAIL, TYPE 5, USING 9' POSTS","FT","COMPONENT","550HWMISC","GUARDRAIL HARDWARE","EACH","710.15","0.00000","CERT",{"$f":"IF(ISNA(VLOOKUP(A120,'(1) Project Reference Item List'!$B$2:$B$499,1,FALSE)),\"\",\"Y\")","v":""}]
["606E10900","SPECIAL NOISE BARRIER","LS","PRIMARY","27029","CERT CONC NOISE WALL/PANEL,POST,COPING","EACH","SPECIAL 10","0.00000","CERT",{"$f":"IF(ISNA(VLOOKUP(A121,'(1) Project Reference Item List'!$B$2:$B$499,1,FALSE)),\"\",\"Y\")","v":""}]
["606E10920","SPECIAL NOISE BARRIER","SF","PRIMARY","27029","CERT CONC NOISE WALL/PANEL,POST,COPING","EACH","SPECIAL 10","0.00000","CERT",{"$f":"IF(ISNA(VLOOKUP(A122,'(1) Project Reference Item List'!$B$2:$B$499,1,FALSE)),\"\",\"Y\")","v":""}]
["606E13040","GUARDRAIL, NESTED T- 5 W/TUBULAR BACKUP","FT","COMPONENT","550HWMISC","GUARDRAIL HARDWARE","EACH","710.15","0.00000","CERT",{"$f":"IF(ISNA(VLOOKUP(A123,'(1) Project Reference Item List'!$B$2:$B$499,1,FALSE)),\"\",\"Y\")","v":""}]
["606E55110","CABLE BARRIER, CONC ANCHOR FNDTN W/SLEEV","EACH","PRIMARY","681SPOST","STEEL POST/TENSION CABLE GR","EACH","SPECIAL","0.00000","JCTL",{"$f":"IF(ISNA(VLOOKUP(A124,'(1) Project Reference Item List'!$B$2:$B$499,1,FALSE)),\"\",\"Y\")","v":""}]
["606E55120","CABLE BARRIER, CONC SOCKETED FNDTN","EACH","PRIMARY","681SPOST","STEEL POST/TENSION CABLE GR","EACH","SPECIAL","0.00000","JCTL",{"$f":"IF(ISNA(VLOOKUP(A125,'(1) Project Reference Item List'!$B$2:$B$499,1,FALSE)),\"\",\"Y\")","v":""}]
["606E70000","THRIE BEAM BULLNOSE","EACH","PRIMARY","550ESECT","GUARDRAIL END SECTION","EACH","710.06","1.00000","CERT",{"$f":"IF(ISNA(VLOOKUP(A126,'(1) Project Reference Item List'!$B$2:$B$499,1,FALSE)),\"\",\"Y\")","v":""}]
["606E60050","IMPACT ATTENUATOR, TYPE 3 (BIDIRECT)","EACH","PRIMARY","55606","IMPACT ATTENUATOR","EACH","SPECIAL","1.00000","CERT",{"$f":"IF(ISNA(VLOOKUP(A127,'(1) Project Reference Item List'!$B$2:$B$499,1,FALSE)),\"\",\"Y\")","v":""}]
["606E60070","IMPACT ATT, REBUILT, T 1 (BIDIRECT), APP","EACH","PRIMARY","55606","IMPACT ATTENUATOR","EACH","SPECIAL","1.00000","CERT",{"$f":"IF(ISNA(VLOOKUP(A128,'(1) Project Reference Item List'!$B$2:$B$499,1,FALSE)),\"\",\"Y\")","v":""}]
["606E61000","IMPACT ATTENUATOR, MISC.:","EACH","PRIMARY","550HWMISC","GUARDRAIL HARDWARE","EACH","710.15","1.00000","CERT",{"$f":"IF(ISNA(VLOOKUP(A129,'(1) Project Reference Item List'!$B$2:$B$499,1,FALSE)),\"\",\"Y\")","v":""}]
["606E60032","IMPACT ATTENUATOR, TYPE 3","EACH","PRIMARY","55606","IMPACT ATTENUATOR","EACH","SPECIAL","1.00000","CERT",{"$f":"IF(ISNA(VLOOKUP(A130,'(1) Project Reference Item List'!$B$2:$B$499,1,FALSE)),\"\",\"Y\")","v":""}]
["606E60033","IMPACT ATTENUATOR, TYPE 3, APP","EACH","PRIMARY","55606","IMPACT ATTENUATOR","EACH","SPECIAL","1.00000","CERT",{"$f":"IF(ISNA(VLOOKUP(A131,'(1) Project Reference Item List'!$B$2:$B$499,1,FALSE)),\"\",\"Y\")","v":""}]
["515E15140","DRAPED PREST CONC I-BM, LV 3, WF84-49","EACH","COMPONENT","42701","NON-SHRINK GROUT FOR PRESTRESS 705.22","LB","705.22","0.00000","APPR",{"$f":"IF(ISNA(VLOOKUP(A132,'(1) Project Reference Item List'!$B$2:$B$499,1,FALSE)),\"\",\"Y\")","v":""}]
["516E11801","VERT EXT STRUC EXP JT, APP","FT","PRIMARY","64101","SF FABRICATED EXPANSION JOINT","FT","516","1.00000","CERT",{"$f":"IF(ISNA(VLOOKUP(A133,'(1) Project Reference Item List'!$B$2:$B$499,1,FALSE)),\"\",\"Y\")","v":""}]
["516E11900","HORZ EXT STRUC EXP JT","FT","PRIMARY","64101","SF FABRICATED EXPANSION JOINT","FT","516","1.00000","CERT",{"$f":"IF(ISNA(VLOOKUP(A134,'(1) Project Reference Item List'!$B$2:$B$499,1,FALSE)),\"\",\"Y\")","v":""}]
["515E15100","DRAPED PREST CONC I-BM, LV 3, WF54-49","EACH","COMPONENT","42701","NON-SHRINK GROUT FOR PRESTRESS 705.22","LB","705.22","0.00000","CERT",{"$f":"IF(ISNA(VLOOKUP(A135,'(1) Project Reference Item List'!$B$2:$B$499,1,FALSE)),\"\",\"Y\")","v":""}]
["515E17000","PRESTRESSED CONC, MISC.:","EACH","COMPONENT","42701","NON-SHRINK GROUT FOR PRESTRESS 705.22","LB","705.22","0.00000","CERT",{"$f":"IF(ISNA(VLOOKUP(A136,'(1) Project Reference Item List'!$B$2:$B$499,1,FALSE)),\"\",\"Y\")","v":""}]
["516E10901","ELAST COMP SEAL, APP","FT","PRIMARY","61606","PREFORMED ELASTOMERIC COMPRESSION SEAL","FT","705.11","1.00000","QPL",{"$f":"IF(ISNA(VLOOKUP(A137,'(1) Project Reference Item List'!$B$2:$B$499,1,FALSE)),\"\",\"Y\")","v":""}]
["524E95532","DRILLED SHAFTS, 96\", ABOVE BR, QC/QA","FT","PRIMARY","215QC5","QC 5  CONCRETE-4000-4500 PSI_3/8' -1\"AGG","CY","499","0.02909","JCTL",{"$f":"IF(ISNA(VLOOKUP(A138,'(1) Project Reference Item List'!$B$2:$B$499,1,FALSE)),\"\",\"Y\")","v":""}]
["526E25001","APPROACH SLABS (T=15\"), APP","SY","PRIMARY","215QC2","QC 2 CONCRETE - 4500 PSI - WELL GRADED","CY","499","0.41667","JCTL",{"$f":"IF(ISNA(VLOOKUP(A139,'(1) Project Reference Item List'!$B$2:$B$499,1,FALSE)),\"\",\"Y\")","v":""}]
["526E30000","APPROACH SLABS (T=17\")","SY","COMPONENT","62560","REINFORCING, EPOXY COATED GRADE 60","LB","709.00","0.00000","CERT",{"$f":"IF(ISNA(VLOOKUP(A140,'(1) Project Reference Item List'!$B$2:$B$499,1,FALSE)),\"\",\"Y\")","v":""}]
["526E35001","APPROACH SLABS (VARIABLE TK), APP","SY","COMPONENT","42404OH","CLEAR CURE TYPE1 CL A OR B OR W/DYE","GAL","705.07OH","0.06000","QPL",{"$f":"IF(ISNA(VLOOKUP(A141,'(1) Project Reference Item List'!$B$2:$B$499,1,FALSE)),\"\",\"Y\")","v":""}]
["526E35010","APPROACH SLABS WITH QC/QA (VARIABLE TK)","SY","COMPONENT","62560","REINFORCING, EPOXY COATED GRADE 60","LB","709.00","0.00000","CERT",{"$f":"IF(ISNA(VLOOKUP(A142,'(1) Project Reference Item List'!$B$2:$B$499,1,FALSE)),\"\",\"Y\")","v":""}]
["526E90011","TYPE A INSTALLATION, APP","FT","COMPONENT","42404OH","CLEAR CURE TYPE1 CL A OR B OR W/DYE","GAL","705.07OH","0.06000","QPL",{"$f":"IF(ISNA(VLOOKUP(A143,'(1) Project Reference Item List'!$B$2:$B$499,1,FALSE)),\"\",\"Y\")","v":""}]
["606E14000","GUARDRAIL, TYPE 8","FT","COMPONENT","550SPOST","STEEL POST","EACH","710.15","0.00000","CERT",{"$f":"IF(ISNA(VLOOKUP(A144,'(1) Project Reference Item List'!$B$2:$B$499,1,FALSE)),\"\",\"Y\")","v":""}]
["606E15050","GUARDRAIL, TYPE MGS","FT","COMPONENT","550HWMISC","GUARDRAIL HARDWARE","EACH","710.15","0.00000","CERT",{"$f":"IF(ISNA(VLOOKUP(A145,'(1) Project Reference Item List'!$B$2:$B$499,1,FALSE)),\"\",\"Y\")","v":""}]
["606E15051","GUARDRAIL, TYPE MGS, AS PER PLAN","FT","SUBSTITUTE","550SPOST","STEEL POST","EACH","710.15","0.16000","CERT",{"$f":"IF(ISNA(VLOOKUP(A146,'(1) Project Reference Item List'!$B$2:$B$499,1,FALSE)),\"\",\"Y\")","v":""}]
["606E15250","GUARDRAIL, TYPE MGS QRTR POST SPACING","FT","COMPONENT","350WPOST","WOODPOST","EACH","710.12-14","0.64000","CERT",{"$f":"IF(ISNA(VLOOKUP(A147,'(1) Project Reference Item List'!$B$2:$B$499,1,FALSE)),\"\",\"Y\")","v":""}]
["606E15251","GUARDRAIL, TY MGS QRTR POST SPACING, APP","FT","COMPONENT","550ESECT","GUARDRAIL END SECTION","EACH","710.06","0.00000","CERT",{"$f":"IF(ISNA(VLOOKUP(A148,'(1) Project Reference Item List'!$B$2:$B$499,1,FALSE)),\"\",\"Y\")","v":""}]
["606E15301","GRDL,TY MGS QRTR PST SPCNG W/LNG PST, AP","FT","COMPONENT","350WPOST","WOODPOST","EACH","710.12-14","0.00000","CERT",{"$f":"IF(ISNA(VLOOKUP(A149,'(1) Project Reference Item List'!$B$2:$B$499,1,FALSE)),\"\",\"Y\")","v":""}]
["606E70050","GUARDRAIL REBUILT, THRIE BEAM BULLNOSE","EACH","PRIMARY","550ESECT","GUARDRAIL END SECTION","EACH","710.06","1.00000","CERT",{"$f":"IF(ISNA(VLOOKUP(A150,'(1) Project Reference Item List'!$B$2:$B$499,1,FALSE)),\"\",\"Y\")","v":""}]
["606E71000","THRIE BEAM GUARDRAIL","FT","PRIMARY","550RAIL","RAIL ELEMENT","FT","710.06","1.00000","CERT",{"$f":"IF(ISNA(VLOOKUP(A151,'(1) Project Reference Item List'!$B$2:$B$499,1,FALSE)),\"\",\"Y\")","v":""}]
["607E23004","FENCE REBUILT, TYPE CLT","FT","COMPONENT","585MISC","FENCE HARDWARE BNW,CAPS,BRACES,ETC","EACH","710","0.00000","CERT",{"$f":"IF(ISNA(VLOOKUP(A152,'(1) Project Reference Item List'!$B$2:$B$499,1,FALSE)),\"\",\"Y\")","v":""}]
["607E30001","FENCE, SNOW, APP","FT","PRIMARY","575FABRIC","FENCE FABRIC BARB WIRE, CL & TYPE 47","FT","710.01,02,","1.00000","CERT",{"$f":"IF(ISNA(VLOOKUP(A153,'(1) Project Reference Item List'!$B$2:$B$499,1,FALSE)),\"\",\"Y\")","v":""}]
["607E35000","FENCE REMOVED & REBUILT","FT","COMPONENT","582LPOST","FENCELINEPOSTS-TOPRAILS - STEEL OR ALU","EACH","710.03,11","0.00000","CERT",{"$f":"IF(ISNA(VLOOKUP(A154,'(1) Project Reference Item List'!$B$2:$B$499,1,FALSE)),\"\",\"Y\")","v":""}]
["607E35001","FENCE REMOVED & REBUILT, APP","FT","COMPONENT","582LPOST","FENCELINEPOSTS-TOPRAILS - STEEL OR ALU","EACH","710.03,11","0.00000","CERT",{"$f":"IF(ISNA(VLOOKUP(A155,'(1) Project Reference Item List'!$B$2:$B$499,1,FALSE)),\"\",\"Y\")","v":""}]
["607E39901","VNDL PROT FENCE, 6' STRAIGHT, APP","FT","PRIMARY","575FABRIC","FENCE FABRIC BARB WIRE, CL & TYPE 47","FT","710.01,02,","1.00000","CERT",{"$f":"IF(ISNA(VLOOKUP(A156,'(1) Project Reference Item List'!$B$2:$B$499,1,FALSE)),\"\",\"Y\")","v":""}]
["516E14015","INTEGRAL ABT EXP JNT SEAL, APP","FT","PRIMARY","61615","NEOPRENE WATERSTOP","FT","ICD-1-82","1.00000","QPL",{"$f":"IF(ISNA(VLOOKUP(A157,'(1) Project Reference Item List'!$B$2:$B$499,1,FALSE)),\"\",\"Y\")","v":""}]
["516E14021","SEMI-INTEGRAL ABUT EXP JOINT SEAL, APP","FT","PRIMARY","61615","NEOPRENE WATERSTOP","FT","ICD-1-82","1.00000","QPL",{"$f":"IF(ISNA(VLOOKUP(A158,'(1) Project Reference Item List'!$B$2:$B$499,1,FALSE)),\"\",\"Y\")","v":""}]
["516E14500","STRUC JT OR SEALER, MISC.:","SF","PRIMARY","999999","MATERIALS AS NEEDED","EACH","NONE","0.00000","JCTL",{"$f":"IF(ISNA(VLOOKUP(A159,'(1) Project Reference Item List'!$B$2:$B$499,1,FALSE)),\"\",\"Y\")","v":""}]
["516E12200","STRUC STEEL EXP JT","FT","PRIMARY","64101","SF FABRICATED EXPANSION JOINT","FT","516","1.00000","CERT",{"$f":"IF(ISNA(VLOOKUP(A160,'(1) Project Reference Item List'!$B$2:$B$499,1,FALSE)),\"\",\"Y\")","v":""}]
["601E11000","RIPRAP, TYPE D","SY","SUBSTITUTE","62640","REINFORCING, UNCOATED GRADE 40","LB","709.01","3.38000","CERT",{"$f":"IF(ISNA(VLOOKUP(A161,'(1) Project Reference Item List'!$B$2:$B$499,1,FALSE)),\"\",\"Y\")","v":""}]
["530E00200","SPECIAL - STRUCTURES","LS","PRIMARY","999999","MATERIALS AS NEEDED","EACH","NONE","0.00000","JCTL",{"$f":"IF(ISNA(VLOOKUP(A162,'(1) Project Reference Item List'!$B$2:$B$499,1,FALSE)),\"\",\"Y\")","v":""}]
["530E01200","SPECIAL - STRUCTURES","CF","PRIMARY","999999","MATERIALS AS NEEDED","EACH","NONE","0.00000","JCTL",{"$f":"IF(ISNA(VLOOKUP(A163,'(1) Project Reference Item List'!$B$2:$B$499,1,FALSE)),\"\",\"Y\")","v":""}]
["530E12000","APPROACH SLAB DOWEL","EACH","PRIMARY","999999","MATERIALS AS NEEDED","EACH","NONE","0.00000","JCTL",{"$f":"IF(ISNA(VLOOKUP(A164,'(1) Project Reference Item List'!$B$2:$B$499,1,FALSE)),\"\",\"Y\")","v":""}]
["530E14000","STRUCT SURVEY & MONITORING OF VIBRATION","LS","PRIMARY","NOMATL","CODE TO ADD TO CONTRACT S & T REQ","EACH","NONE","0.00000",null,{"$f":"IF(ISNA(VLOOKUP(A165,'(1) Project Reference Item List'!$B$2:$B$499,1,FALSE)),\"\",\"Y\")","v":""}]
["530E14010","STRUCT SURVEY & MONITORING OF VIBRATION","EACH","PRIMARY","NOMATL","CODE TO ADD TO CONTRACT S & T REQ","EACH","NONE","0.00000",null,{"$f":"IF(ISNA(VLOOKUP(A166,'(1) Project Reference Item List'!$B$2:$B$499,1,FALSE)),\"\",\"Y\")","v":""}]
["606E15400","MGS GUARDRAIL, TYPE 8","FT","COMPONENT","550HWMISC","GUARDRAIL HARDWARE","EACH","710.15","0.00000","CERT",{"$f":"IF(ISNA(VLOOKUP(A167,'(1) Project Reference Item List'!$B$2:$B$499,1,FALSE)),\"\",\"Y\")","v":""}]
["606E15551","GR, BARRIER DES, TYPE MGS, APP","FT","COMPONENT","550HWMISC","GUARDRAIL HARDWARE","EACH","710.15","0.00000","CERT",{"$f":"IF(ISNA(VLOOKUP(A168,'(1) Project Reference Item List'!$B$2:$B$499,1,FALSE)),\"\",\"Y\")","v":""}]
["606E16400","GUARDRAIL REBUILT, TYPE 4","FT","COMPONENT","550HWMISC","GUARDRAIL HARDWARE","EACH","710.15","0.00000","CERT",{"$f":"IF(ISNA(VLOOKUP(A169,'(1) Project Reference Item List'!$B$2:$B$499,1,FALSE)),\"\",\"Y\")","v":""}]
["606E16500","GUARDRAIL REBUILT, TYPE 5","FT","COMPONENT","550HWMISC","GUARDRAIL HARDWARE","EACH","710.15","0.00000","CERT",{"$f":"IF(ISNA(VLOOKUP(A170,'(1) Project Reference Item List'!$B$2:$B$499,1,FALSE)),\"\",\"Y\")","v":""}]
["606E16551","GUARDRAIL REBUILT, TYPE 5, 9 FT, APP","FT","COMPONENT","550HWMISC","GUARDRAIL HARDWARE","EACH","710.15","0.00000","CERT",{"$f":"IF(ISNA(VLOOKUP(A171,'(1) Project Reference Item List'!$B$2:$B$499,1,FALSE)),\"\",\"Y\")","v":""}]
["606E16601","GR REBUILT, BARRIER DESIGN, TYPE 5, APP","FT","COMPONENT","550HWMISC","GUARDRAIL HARDWARE","EACH","710.15","0.00000","CERT",{"$f":"IF(ISNA(VLOOKUP(A172,'(1) Project Reference Item List'!$B$2:$B$499,1,FALSE)),\"\",\"Y\")","v":""}]
["606E16750","GR REBUILT, MGS HALF POST SPACNG","FT","COMPONENT","550HWMISC","GUARDRAIL HARDWARE","EACH","710.15","0.00000","CERT",{"$f":"IF(ISNA(VLOOKUP(A173,'(1) Project Reference Item List'!$B$2:$B$499,1,FALSE)),\"\",\"Y\")","v":""}]
["606E16751","GR REBUILT, MGS HALF POST SPACNG, APP","FT","COMPONENT","550HWMISC","GUARDRAIL HARDWARE","EACH","710.15","0.00000","CERT",{"$f":"IF(ISNA(VLOOKUP(A174,'(1) Project Reference Item List'!$B$2:$B$499,1,FALSE)),\"\",\"Y\")","v":""}]
["606E16801","GR RBLT, MGS HALF PST SPC W/LNG PST, APP","FT","COMPONENT","550HWMISC","GUARDRAIL HARDWARE","EACH","710.15","0.00000","CERT",{"$f":"IF(ISNA(VLOOKUP(A175,'(1) Project Reference Item List'!$B$2:$B$499,1,FALSE)),\"\",\"Y\")","v":""}]
["607E39931","VNDL PROT FENCE, 12' CURVED, APP","FT","PRIMARY","NOMATL","CODE TO ADD TO CONTRACT S & T REQ","EACH","NONE","0.00000",null,{"$f":"IF(ISNA(VLOOKUP(A176,'(1) Project Reference Item List'!$B$2:$B$499,1,FALSE)),\"\",\"Y\")","v":""}]
["607E40000","VANDAL PROTECTION FENCE","FT","PRIMARY","575FABRIC","FENCE FABRIC BARB WIRE, CL & TYPE 47","FT","710.01,02,","1.00000","CERT",{"$f":"IF(ISNA(VLOOKUP(A177,'(1) Project Reference Item List'!$B$2:$B$499,1,FALSE)),\"\",\"Y\")","v":""}]
["607E98200","FENCE, MISC.","LS","COMPONENT","582LPOST","FENCELINEPOSTS-TOPRAILS - STEEL OR ALU","EACH","710.03,11","0.00000","CERT",{"$f":"IF(ISNA(VLOOKUP(A178,'(1) Project Reference Item List'!$B$2:$B$499,1,FALSE)),\"\",\"Y\")","v":""}]
["607E98300","FENCE, MISC.:","SF","COMPONENT","999SF","GENERIC MATERIAL SF - SQUARE FOOT","SF","GENERIC","1.00000","CTD",{"$f":"IF(ISNA(VLOOKUP(A179,'(1) Project Reference Item List'!$B$2:$B$499,1,FALSE)),\"\",\"Y\")","v":""}]
["607E40500","GATE, TYPE 47","EACH","PRIMARY","584GATE","FABRICATED FENCE GATES","EACH","710.03","1.00000","CERT",{"$f":"IF(ISNA(VLOOKUP(A180,'(1) Project Reference Item List'!$B$2:$B$499,1,FALSE)),\"\",\"Y\")","v":""}]
["607E40501","GATE, TYPE 47, APP","EACH","PRIMARY","584GATE","FABRICATED FENCE GATES","EACH","710.03","1.00000","CERT",{"$f":"IF(ISNA(VLOOKUP(A181,'(1) Project Reference Item List'!$B$2:$B$499,1,FALSE)),\"\",\"Y\")","v":""}]
["608E12001","5\" CONCRETE WALK, APP","SF","COMPONENT","42406OH","WHITE CURE TYPE 2 CLASS A OR B","GAL","705.07OH","0.00670","QPL",{"$f":"IF(ISNA(VLOOKUP(A182,'(1) Project Reference Item List'!$B$2:$B$499,1,FALSE)),\"\",\"Y\")","v":""}]
["608E13000","6\" CONCRETE WALK","SF","PRIMARY","215QC1","QC 1 CONCRETE - 4000 PSI - WELL GRADED","CY","499","0.01852","JCTL",{"$f":"IF(ISNA(VLOOKUP(A183,'(1) Project Reference Item List'!$B$2:$B$499,1,FALSE)),\"\",\"Y\")","v":""}]
["608E13001","6\" CONCRETE WALK, APP","SF","PRIMARY","215QCMISC","QC MISCELLANEOUS 4000 PSI","CY","499","0.01852","JCTL",{"$f":"IF(ISNA(VLOOKUP(A184,'(1) Project Reference Item List'!$B$2:$B$499,1,FALSE)),\"\",\"Y\")","v":""}]
["608E13020","7\" CONCRETE WALK","SF","PRIMARY","215QCMISC","QC MISCELLANEOUS 4000 PSI","CY","499","0.02160","JCTL",{"$f":"IF(ISNA(VLOOKUP(A185,'(1) Project Reference Item List'!$B$2:$B$499,1,FALSE)),\"\",\"Y\")","v":""}]
["607E50901","GATE, TYPE CL, APP","EACH","PRIMARY","584GATE","FABRICATED FENCE GATES","EACH","710.03","1.00000","CERT",{"$f":"IF(ISNA(VLOOKUP(A186,'(1) Project Reference Item List'!$B$2:$B$499,1,FALSE)),\"\",\"Y\")","v":""}]
["607E61111","GATE REBUILT, APP","EACH","PRIMARY","584GATE","FABRICATED FENCE GATES","EACH","710.03","1.00000","CERT",{"$f":"IF(ISNA(VLOOKUP(A187,'(1) Project Reference Item List'!$B$2:$B$499,1,FALSE)),\"\",\"Y\")","v":""}]
["607E61201","GATE, TYPE CLT, APP","EACH","PRIMARY","584GATE","FABRICATED FENCE GATES","EACH","710.03","1.00000","CERT",{"$f":"IF(ISNA(VLOOKUP(A188,'(1) Project Reference Item List'!$B$2:$B$499,1,FALSE)),\"\",\"Y\")","v":""}]
["516E25001","NYLON REINFORCED NEOPRENE SHEETING, APP","SF","PRIMARY","61615","NEOPRENE WATERSTOP","FT","ICD-1-82","0.00000","QPL",{"$f":"IF(ISNA(VLOOKUP(A189,'(1) Project Reference Item List'!$B$2:$B$499,1,FALSE)),\"\",\"Y\")","v":""}]
["516E31001","JOINT SEALER, APP","FT","PRIMARY","61607","JOINT & CRACK SEALER, HOT APPLIED 705.04","LB","705.04","0.00000","CERT",{"$f":"IF(ISNA(VLOOKUP(A190,'(1) Project Reference Item List'!$B$2:$B$499,1,FALSE)),\"\",\"Y\")","v":""}]
["516E31200","SAWING & SEALING BIT CONC JTS","FT","PRIMARY","61607","JOINT & CRACK SEALER, HOT APPLIED 705.04","LB","705.04","0.00000","CERT",{"$f":"IF(ISNA(VLOOKUP(A191,'(1) Project Reference Item List'!$B$2:$B$499,1,FALSE)),\"\",\"Y\")","v":""}]
["516E41601","1\" ELAST BEARING PAD, APP","SF","PRIMARY","64200","ELASTOMERIC BEARING & PAD","EACH","711.23","0.00000","CERT",{"$f":"IF(ISNA(VLOOKUP(A192,'(1) Project Reference Item List'!$B$2:$B$499,1,FALSE)),\"\",\"Y\")","v":""}]
["601E21001","CONCRETE SLOPE PROT, APP","SY","PRIMARY","215QCMISC","QC MISCELLANEOUS 4000 PSI","CY","499","0.16667","JCTL",{"$f":"IF(ISNA(VLOOKUP(A193,'(1) Project Reference Item List'!$B$2:$B$499,1,FALSE)),\"\",\"Y\")","v":""}]
["601E21070","TIED CONCRETE BLOCK MAT, TYPE 3","SY","COMPONENT","71209B","GEOTEXTILE FABRIC TYPE B","SY","712.09","0.00000","APPR",{"$f":"IF(ISNA(VLOOKUP(A194,'(1) Project Reference Item List'!$B$2:$B$499,1,FALSE)),\"\",\"Y\")","v":""}]
["601E21071","TIED CONCRETE BLOCK MAT, TYPE 3, APP","SY","COMPONENT","71209B","GEOTEXTILE FABRIC TYPE B","SY","712.09","0.00000","APPR",{"$f":"IF(ISNA(VLOOKUP(A195,'(1) Project Reference Item List'!$B$2:$B$499,1,FALSE)),\"\",\"Y\")","v":""}]
["601E21150","SLOPE PROTECTION, MISC.","CY","PRIMARY","999999","MATERIALS AS NEEDED","EACH","NONE","0.00000","JCTL",{"$f":"IF(ISNA(VLOOKUP(A196,'(1) Project Reference Item List'!$B$2:$B$499,1,FALSE)),\"\",\"Y\")","v":""}]
["601E23001","ARTCLTNG CONC BLK REVTMENT SYST,T-1, APP","SY","PRIMARY","25100T1","TIED CONCRETE BLOCK MAT","EACH","712.12","0.00000","QPL",{"$f":"IF(ISNA(VLOOKUP(A197,'(1) Project Reference Item List'!$B$2:$B$499,1,FALSE)),\"\",\"Y\")","v":""}]
["601E23011","ARTCLTNG CONC BLK REVTMENT SYST,T-2, APP","SY","PRIMARY","25100T2","TIED CONCRETE BLOCK MAT TYPE 2","EACH","712.12","0.00000","QPL",{"$f":"IF(ISNA(VLOOKUP(A198,'(1) Project Reference Item List'!$B$2:$B$499,1,FALSE)),\"\",\"Y\")","v":""}]
["601E25000","DUMPED ROCK FILL, TYPE A","CY","PRIMARY","001019A","GRAVEL FOR DUMP ROCK FILL TYPE A","TON","703.19","1.21400","CERT",{"$f":"IF(ISNA(VLOOKUP(A199,'(1) Project Reference Item List'!$B$2:$B$499,1,FALSE)),\"\",\"Y\")","v":""}]
["606E17290","GUARDRAIL, TYPE 5, LONG-SPAN","FT","COMPONENT","550HWMISC","GUARDRAIL HARDWARE","EACH","710.15","0.00000","CERT",{"$f":"IF(ISNA(VLOOKUP(A200,'(1) Project Reference Item List'!$B$2:$B$499,1,FALSE)),\"\",\"Y\")","v":""}]
["606E17351","GUARDRAIL, TYPE MGS, 25' LONG-SPAN, APP","FT","COMPONENT","550HWMISC","GUARDRAIL HARDWARE","EACH","710.15","0.00000","CERT",{"$f":"IF(ISNA(VLOOKUP(A201,'(1) Project Reference Item List'!$B$2:$B$499,1,FALSE)),\"\",\"Y\")","v":""}]
["606E18500","GUARDRAIL POST, 9 FEET","EACH","COMPONENT","550HWMISC","GUARDRAIL HARDWARE","EACH","710.15","1.00000","CERT",{"$f":"IF(ISNA(VLOOKUP(A202,'(1) Project Reference Item List'!$B$2:$B$499,1,FALSE)),\"\",\"Y\")","v":""}]
["606E17500","POST END ANCHOR (OR CONC BLK EBD ANCH)","EACH","PRIMARY","550HWMISC","GUARDRAIL HARDWARE","EACH","710.15","0.00000","CERT",{"$f":"IF(ISNA(VLOOKUP(A203,'(1) Project Reference Item List'!$B$2:$B$499,1,FALSE)),\"\",\"Y\")","v":""}]
["606E18501","GUARDRAIL POST, 9 FEET, APP","EACH","COMPONENT","550HWMISC","GUARDRAIL HARDWARE","EACH","710.15","1.00000","CERT",{"$f":"IF(ISNA(VLOOKUP(A204,'(1) Project Reference Item List'!$B$2:$B$499,1,FALSE)),\"\",\"Y\")","v":""}]
["606E17901","GUARDRAIL POST, APP","EACH","COMPONENT","550HWMISC","GUARDRAIL HARDWARE","EACH","710.15","1.00000","CERT",{"$f":"IF(ISNA(VLOOKUP(A205,'(1) Project Reference Item List'!$B$2:$B$499,1,FALSE)),\"\",\"Y\")","v":""}]
["608E20001","2\" ASPHALT CONCRETE WALK, APP","SF","PRIMARY","1774411","BIT CONC 441 TYPE 1 SURFACE","TON","441","0.01235","JCTL",{"$f":"IF(ISNA(VLOOKUP(A206,'(1) Project Reference Item List'!$B$2:$B$499,1,FALSE)),\"\",\"Y\")","v":""}]
["608E20010","3\" ASPHALT CONCRETE WALK","SF","PRIMARY","1774411","BIT CONC 441 TYPE 1 SURFACE","TON","441","0.01852","JCTL",{"$f":"IF(ISNA(VLOOKUP(A207,'(1) Project Reference Item List'!$B$2:$B$499,1,FALSE)),\"\",\"Y\")","v":""}]
["608E21000","4\" ASPHALT CONCRETE WALK","SF","COMPONENT","044304","304 CRUSHED GRAVEL 703.17","TON","703.17","0.00000","CERT",{"$f":"IF(ISNA(VLOOKUP(A208,'(1) Project Reference Item List'!$B$2:$B$499,1,FALSE)),\"\",\"Y\")","v":""}]
["608E21200","TEMP ASPHALT CONCRETE WALK","SF","COMPONENT","045304","304 CRUSHED STONE 703.17","TON","703.17","0.00000","CERT",{"$f":"IF(ISNA(VLOOKUP(A209,'(1) Project Reference Item List'!$B$2:$B$499,1,FALSE)),\"\",\"Y\")","v":""}]
["608E40000","CONCRETE STEPS, TYPE A","FT","PRIMARY","215QCMISC","QC MISCELLANEOUS 4000 PSI","CY","499","0.04333","JCTL",{"$f":"IF(ISNA(VLOOKUP(A210,'(1) Project Reference Item List'!$B$2:$B$499,1,FALSE)),\"\",\"Y\")","v":""}]
["608E52000","CURB RAMP","SF","COMPONENT","72600TD","DETECTABLE WARNING DEVICES","SF","712.14","0.00000","JCTL",{"$f":"IF(ISNA(VLOOKUP(A211,'(1) Project Reference Item List'!$B$2:$B$499,1,FALSE)),\"\",\"Y\")","v":""}]
["609E00500","SANDSTONE CURB","FT","PRIMARY","001044","SANDSTONE CURB","FT","609.02","0.00000","JCTL",{"$f":"IF(ISNA(VLOOKUP(A212,'(1) Project Reference Item List'!$B$2:$B$499,1,FALSE)),\"\",\"Y\")","v":""}]
["608E98100","WALKWAY, MISC.:","FT","PRIMARY","999FT","GENERIC MATERIAL FT - FOOT","FT","GENERIC","1.00000","JCTL",{"$f":"IF(ISNA(VLOOKUP(A213,'(1) Project Reference Item List'!$B$2:$B$499,1,FALSE)),\"\",\"Y\")","v":""}]
["609E00501","SANDSTONE CURB, APP","FT","PRIMARY","001044","SANDSTONE CURB","FT","609.02","0.00000","JCTL",{"$f":"IF(ISNA(VLOOKUP(A214,'(1) Project Reference Item List'!$B$2:$B$499,1,FALSE)),\"\",\"Y\")","v":""}]
["609E10001","ASPHALT CONCRETE CURB, TYPE 1, APP","FT","COMPONENT","104SS1H","ASPHALT ANIONIC EMULS SLOW SET GRD SS-1H","GAL","702.04","0.02222","CERT",{"$f":"IF(ISNA(VLOOKUP(A215,'(1) Project Reference Item List'!$B$2:$B$499,1,FALSE)),\"\",\"Y\")","v":""}]
["609E14000","CURB, TYPE 2-A","FT","COMPONENT","42406OH","WHITE CURE TYPE 2 CLASS A OR B","GAL","705.07OH","0.00000","QPL",{"$f":"IF(ISNA(VLOOKUP(A216,'(1) Project Reference Item List'!$B$2:$B$499,1,FALSE)),\"\",\"Y\")","v":""}]
["609E16000","CURB, TYPE 2-B","FT","COMPONENT","619100","PREFORMED EXPANSION JOINT FILLER 1\"","SF","705.03-711","0.00000","QPL",{"$f":"IF(ISNA(VLOOKUP(A217,'(1) Project Reference Item List'!$B$2:$B$499,1,FALSE)),\"\",\"Y\")","v":""}]
["608E53021","DETECTABLE WARNING, APP","SF","PRIMARY","72600TD","DETECTABLE WARNING DEVICES","SF","712.14","0.00000","APPR",{"$f":"IF(ISNA(VLOOKUP(A218,'(1) Project Reference Item List'!$B$2:$B$499,1,FALSE)),\"\",\"Y\")","v":""}]
["516E46001","BEARING DEVICE, BOLSTER, APP","EACH","PRIMARY","64300BOL","STEEL BOLSTER BEARING","EACH","513","1.00000","CERT",{"$f":"IF(ISNA(VLOOKUP(A219,'(1) Project Reference Item List'!$B$2:$B$499,1,FALSE)),\"\",\"Y\")","v":""}]
["516E45001","STEEL POT BEARINGS, APP","EACH","PRIMARY","64300POT","STEEL POT BEARING","EACH","513","1.00000","CERT",{"$f":"IF(ISNA(VLOOKUP(A220,'(1) Project Reference Item List'!$B$2:$B$499,1,FALSE)),\"\",\"Y\")","v":""}]
["516E44100","BRG/INT LAM/PLATE(2-3\")","EACH","PRIMARY","64200LP","LAMINATE ELASTOMERIC BEAR & LOAD PLATE","EACH","711.23","1.00000","CERT",{"$f":"IF(ISNA(VLOOKUP(A221,'(1) Project Reference Item List'!$B$2:$B$499,1,FALSE)),\"\",\"Y\")","v":""}]
["516E45100","BEARING TEST, STL POT BRG","EACH","PRIMARY","NOMATL","CODE TO ADD TO CONTRACT S & T REQ","EACH","NONE","0.00000",null,{"$f":"IF(ISNA(VLOOKUP(A222,'(1) Project Reference Item List'!$B$2:$B$499,1,FALSE)),\"\",\"Y\")","v":""}]
["516E45300","ADD'L BRG TEST, STL POT BRG","EACH","PRIMARY","NOMATL","CODE TO ADD TO CONTRACT S & T REQ","EACH","NONE","0.00000",null,{"$f":"IF(ISNA(VLOOKUP(A223,'(1) Project Reference Item List'!$B$2:$B$499,1,FALSE)),\"\",\"Y\")","v":""}]
["516E46501","BEARING, PTFE (TEFLON), APP","EACH","PRIMARY","64301T","BEARING, PTFE (TEFLON)","EACH","711.01","1.00000","CTD",{"$f":"IF(ISNA(VLOOKUP(A224,'(1) Project Reference Item List'!$B$2:$B$499,1,FALSE)),\"\",\"Y\")","v":""}]
["516E46700","RESET BEARING","EACH","PRIMARY","NOMATL","CODE TO ADD TO CONTRACT S & T REQ","EACH","NONE","0.00000",null,{"$f":"IF(ISNA(VLOOKUP(A225,'(1) Project Reference Item List'!$B$2:$B$499,1,FALSE)),\"\",\"Y\")","v":""}]
["601E30000","DUMPED ROCK FILL, MISC.:","TON","PRIMARY","NOMATL","CODE TO ADD TO CONTRACT S & T REQ","EACH","NONE","0.00000",null,{"$f":"IF(ISNA(VLOOKUP(A226,'(1) Project Reference Item List'!$B$2:$B$499,1,FALSE)),\"\",\"Y\")","v":""}]
["601E32005","ROCK CH PROT, A W/GEOTEX FAB, APP","CY","PRIMARY","001019A","GRAVEL FOR DUMP ROCK FILL TYPE A","TON","703.19","1.21400","CERT",{"$f":"IF(ISNA(VLOOKUP(A227,'(1) Project Reference Item List'!$B$2:$B$499,1,FALSE)),\"\",\"Y\")","v":""}]
["601E32100","ROCK CH PROT, B W/FILTER","CY","PRIMARY","001019B","GRAVEL FOR DUMP ROCK FILL TYPE B","TON","703.19","1.21400","CERT",{"$f":"IF(ISNA(VLOOKUP(A228,'(1) Project Reference Item List'!$B$2:$B$499,1,FALSE)),\"\",\"Y\")","v":""}]
["601E32105","ROCK CH PROT, B W/GEOTEX FAB, APP","CY","COMPONENT","71209B","GEOTEXTILE FABRIC TYPE B","SY","712.09","0.00000","APPR",{"$f":"IF(ISNA(VLOOKUP(A229,'(1) Project Reference Item List'!$B$2:$B$499,1,FALSE)),\"\",\"Y\")","v":""}]
["601E32110","ROCK CH PROT, B W/AGG FILTER","CY","PRIMARY","001019B","GRAVEL FOR DUMP ROCK FILL TYPE B","TON","703.19","1.21400","CERT",{"$f":"IF(ISNA(VLOOKUP(A230,'(1) Project Reference Item List'!$B$2:$B$499,1,FALSE)),\"\",\"Y\")","v":""}]
["601E32201","ROCK CH PROT, C W/FILTER, APP","CY","COMPONENT","045003","3 CRUSHED STONE 703.04","TON","703.04","0.00000","CERT",{"$f":"IF(ISNA(VLOOKUP(A231,'(1) Project Reference Item List'!$B$2:$B$499,1,FALSE)),\"\",\"Y\")","v":""}]
["601E32301","ROCK CH PROT, D W/FILTER, APP","CY","PRIMARY","001041D","CONCRETE FOR DUMP ROCK FILL TYPE D","TON","703.19","1.06600","CERT",{"$f":"IF(ISNA(VLOOKUP(A232,'(1) Project Reference Item List'!$B$2:$B$499,1,FALSE)),\"\",\"Y\")","v":""}]
["601E34000","ROCK CH PROT, A W/O FILTER","CY","PRIMARY","001020A","LIMESTONE FOR DUMP ROCK FILL TYPE A","TON","703.19","1.22800","CERT",{"$f":"IF(ISNA(VLOOKUP(A233,'(1) Project Reference Item List'!$B$2:$B$499,1,FALSE)),\"\",\"Y\")","v":""}]
["601E34100","ROCK CH PROT, B W/O FILTER","CY","PRIMARY","001020B","LIMESTONE FOR DUMP ROCK FILL TYPE B","TON","703.19","1.22800","CERT",{"$f":"IF(ISNA(VLOOKUP(A234,'(1) Project Reference Item List'!$B$2:$B$499,1,FALSE)),\"\",\"Y\")","v":""}]
["606E25001","ANCHOR ASSEMBLY, TYPE A, APP","EACH","PRIMARY","550RAIL","RAIL ELEMENT","FT","710.06","25.00000","CERT",{"$f":"IF(ISNA(VLOOKUP(A235,'(1) Project Reference Item List'!$B$2:$B$499,1,FALSE)),\"\",\"Y\")","v":""}]
["606E19100","GUARDRAIL POST, MGS LONG POST","EACH","PRIMARY","550SPOST","STEEL POST","EACH","710.15","1.00000","CERT",{"$f":"IF(ISNA(VLOOKUP(A236,'(1) Project Reference Item List'!$B$2:$B$499,1,FALSE)),\"\",\"Y\")","v":""}]
["606E27801","ANCH ASSY REBUILT, TYPE A, APP","EACH","COMPONENT","550ESECT","GUARDRAIL END SECTION","EACH","710.06","1.00000","CERT",{"$f":"IF(ISNA(VLOOKUP(A237,'(1) Project Reference Item List'!$B$2:$B$499,1,FALSE)),\"\",\"Y\")","v":""}]
["606E25500","ANCH ASSY, BARR DES, TYPE A","EACH","COMPONENT","62560","REINFORCING, EPOXY COATED GRADE 60","LB","709.00","0.00000","CERT",{"$f":"IF(ISNA(VLOOKUP(A238,'(1) Project Reference Item List'!$B$2:$B$499,1,FALSE)),\"\",\"Y\")","v":""}]
["606E19101","GUARDRAIL POST, MGS LONG POST, APP","EACH","PRIMARY","550SPOST","STEEL POST","EACH","710.15","0.00000","CERT",{"$f":"IF(ISNA(VLOOKUP(A239,'(1) Project Reference Item List'!$B$2:$B$499,1,FALSE)),\"\",\"Y\")","v":""}]
["606E25600","ANCHOR ASSEMBLY, BRRER DSGN, MGS TYPE A","EACH","COMPONENT","550HWMISC","GUARDRAIL HARDWARE","EACH","710.15","1.00000","CERT",{"$f":"IF(ISNA(VLOOKUP(A240,'(1) Project Reference Item List'!$B$2:$B$499,1,FALSE)),\"\",\"Y\")","v":""}]
["606E27500","ANCHOR ASSEMBLY REBUILT","EACH","PRIMARY","550HWMISC","GUARDRAIL HARDWARE","EACH","710.15","1.00000","CERT",{"$f":"IF(ISNA(VLOOKUP(A241,'(1) Project Reference Item List'!$B$2:$B$499,1,FALSE)),\"\",\"Y\")","v":""}]
["606E26000","ANCHOR ASSEMBLY, TYPE B","EACH","COMPONENT","550HWMISC","GUARDRAIL HARDWARE","EACH","710.15","0.00000","CERT",{"$f":"IF(ISNA(VLOOKUP(A242,'(1) Project Reference Item List'!$B$2:$B$499,1,FALSE)),\"\",\"Y\")","v":""}]
["609E20000","CURB, TYPE 3-A","FT","PRIMARY","215QCMISC","QC MISCELLANEOUS 4000 PSI","CY","499","0.00535","JCTL",{"$f":"IF(ISNA(VLOOKUP(A243,'(1) Project Reference Item List'!$B$2:$B$499,1,FALSE)),\"\",\"Y\")","v":""}]
["609E24001","CURB, TYPE 4-A, APP","FT","PRIMARY","215QCMISC","QC MISCELLANEOUS 4000 PSI","CY","499","0.00514","JCTL",{"$f":"IF(ISNA(VLOOKUP(A244,'(1) Project Reference Item List'!$B$2:$B$499,1,FALSE)),\"\",\"Y\")","v":""}]
["609E24510","CURB, TYPE 4-C","FT","PRIMARY","215QCMISC","QC MISCELLANEOUS 4000 PSI","CY","499","0.02400","JCTL",{"$f":"IF(ISNA(VLOOKUP(A245,'(1) Project Reference Item List'!$B$2:$B$499,1,FALSE)),\"\",\"Y\")","v":""}]
["609E24511","CURB, TYPE 4-C, APP","FT","PRIMARY","215QCMISC","QC MISCELLANEOUS 4000 PSI","CY","499","0.02400","JCTL",{"$f":"IF(ISNA(VLOOKUP(A246,'(1) Project Reference Item List'!$B$2:$B$499,1,FALSE)),\"\",\"Y\")","v":""}]
["609E28000","CURB, TYPE 7","FT","PRIMARY","215QCMISC","QC MISCELLANEOUS 4000 PSI","CY","499","0.03717","JCTL",{"$f":"IF(ISNA(VLOOKUP(A247,'(1) Project Reference Item List'!$B$2:$B$499,1,FALSE)),\"\",\"Y\")","v":""}]
["609E28001","CURB, TYPE 7, APP","FT","PRIMARY","215QCMISC","QC MISCELLANEOUS 4000 PSI","CY","499","0.03717","JCTL",{"$f":"IF(ISNA(VLOOKUP(A248,'(1) Project Reference Item List'!$B$2:$B$499,1,FALSE)),\"\",\"Y\")","v":""}]
["609E60000","9\" CONCRETE TRAFFIC ISLAND","CY","PRIMARY","215QCMISC","QC MISCELLANEOUS 4000 PSI","CY","499","1.00000","JCTL",{"$f":"IF(ISNA(VLOOKUP(A249,'(1) Project Reference Item List'!$B$2:$B$499,1,FALSE)),\"\",\"Y\")","v":""}]
["517E72200","RLG(DBR/ST BU,#1 POSTS&BOLTS)","FT","PRIMARY","55100","STEEL BRIDGE RAILING SYSTEM PER PLAN","FT","517","1.00000","CERT",{"$f":"IF(ISNA(VLOOKUP(A250,'(1) Project Reference Item List'!$B$2:$B$499,1,FALSE)),\"\",\"Y\")","v":""}]
["517E72300","RLG(#2 POSTS & BOLTS)","FT","PRIMARY","55100","STEEL BRIDGE RAILING SYSTEM PER PLAN","FT","517","1.00000","CERT",{"$f":"IF(ISNA(VLOOKUP(A251,'(1) Project Reference Item List'!$B$2:$B$499,1,FALSE)),\"\",\"Y\")","v":""}]
["517E72307","RLG(DBR W/#2 ST POSTS), APP","FT","PRIMARY","55100","STEEL BRIDGE RAILING SYSTEM PER PLAN","FT","517","1.00000","CERT",{"$f":"IF(ISNA(VLOOKUP(A252,'(1) Project Reference Item List'!$B$2:$B$499,1,FALSE)),\"\",\"Y\")","v":""}]
["517E72500","RLG(DBR W/2 STL BU & ST POSTS)","FT","PRIMARY","55100","STEEL BRIDGE RAILING SYSTEM PER PLAN","FT","517","1.00000","CERT",{"$f":"IF(ISNA(VLOOKUP(A253,'(1) Project Reference Item List'!$B$2:$B$499,1,FALSE)),\"\",\"Y\")","v":""}]
["516E47000","JACKING/TEMP SUPP SUPERST","LS","PRIMARY","NOMATL","CODE TO ADD TO CONTRACT S & T REQ","EACH","NONE","0.00000",null,{"$f":"IF(ISNA(VLOOKUP(A254,'(1) Project Reference Item List'!$B$2:$B$499,1,FALSE)),\"\",\"Y\")","v":""}]
["517E72510","RLG (DBR W/3 TUB BU & POSTS)","FT","PRIMARY","55100","STEEL BRIDGE RAILING SYSTEM PER PLAN","FT","517","1.00000","CERT",{"$f":"IF(ISNA(VLOOKUP(A255,'(1) Project Reference Item List'!$B$2:$B$499,1,FALSE)),\"\",\"Y\")","v":""}]
["517E71503","RLG(CONC PPT W/DOUBLE PIPE)QC/QA, APP","FT","COMPONENT","62001","P.V.C. EXPANSION SPONGE","SF","705.03-711","0.00000","QPL",{"$f":"IF(ISNA(VLOOKUP(A256,'(1) Project Reference Item List'!$B$2:$B$499,1,FALSE)),\"\",\"Y\")","v":""}]
["410E11000","TRAF COMP SURF, TYPE B","CY","SUBSTITUTE","07ER18","RECYCLED ASPHALT CONCRETE 410/411/617","TON","703.18","1.32500","CERT",{"$f":"IF(ISNA(VLOOKUP(A257,'(1) Project Reference Item List'!$B$2:$B$499,1,FALSE)),\"\",\"Y\")","v":""}]
["410E14001","TRAF COMP SURF, APP","CY","SUBSTITUTE","07ER18","RECYCLED ASPHALT CONCRETE 410/411/617","TON","703.18","1.32500","CERT",{"$f":"IF(ISNA(VLOOKUP(A258,'(1) Project Reference Item List'!$B$2:$B$499,1,FALSE)),\"\",\"Y\")","v":""}]
["421E10011","MICROSURFACING, SURFACE COURSE, APP","SY","COMPONENT","104421TACK","ASPHALT EMULSION MICROSURFACE TACK COAT","GAL","421.08","0.00000","CERT",{"$f":"IF(ISNA(VLOOKUP(A259,'(1) Project Reference Item List'!$B$2:$B$499,1,FALSE)),\"\",\"Y\")","v":""}]
["423E00104","CRACK SEALING, TYPE II","LB","PRIMARY","61608","HOT APPLIED CRACK SEAL TYPE 2 PACKAGED","LB","423.02","1.00000","QPL",{"$f":"IF(ISNA(VLOOKUP(A260,'(1) Project Reference Item List'!$B$2:$B$499,1,FALSE)),\"\",\"Y\")","v":""}]
["423E00105","CRACK SEALING, TYPE II, APP","LB","COMPONENT","61603","JOINT SEAL 2-COMPONENT-COLD POURED","LB","SPECIAL","1.00000","JCTL",{"$f":"IF(ISNA(VLOOKUP(A261,'(1) Project Reference Item List'!$B$2:$B$499,1,FALSE)),\"\",\"Y\")","v":""}]
["452E16020","13\" NO-REINF CNC PVMT, QC1P QC/QA","SY","COMPONENT","42406OH","WHITE CURE TYPE 2 CLASS A OR B","GAL","705.07OH","0.06000","QPL",{"$f":"IF(ISNA(VLOOKUP(A262,'(1) Project Reference Item List'!$B$2:$B$499,1,FALSE)),\"\",\"Y\")","v":""}]
["452E16060","13.5\" NO-REINF CNC PVMT, QC1P QC/QA","SY","COMPONENT","67502","5/8\"X8\" HOOK BOLT","EACH","BP2.1","0.00000","QPL",{"$f":"IF(ISNA(VLOOKUP(A263,'(1) Project Reference Item List'!$B$2:$B$499,1,FALSE)),\"\",\"Y\")","v":""}]
["452E16061","13.5\" NO-REINF CNC PVMT, QC1P QC/QA, APP","SY","COMPONENT","42406OH","WHITE CURE TYPE 2 CLASS A OR B","GAL","705.07OH","0.06000","QPL",{"$f":"IF(ISNA(VLOOKUP(A264,'(1) Project Reference Item List'!$B$2:$B$499,1,FALSE)),\"\",\"Y\")","v":""}]
["452E17010","14\" NO-REINF CNC PVMT, QC1P","SY","COMPONENT","42406OH","WHITE CURE TYPE 2 CLASS A OR B","GAL","705.07OH","0.06000","QPL",{"$f":"IF(ISNA(VLOOKUP(A265,'(1) Project Reference Item List'!$B$2:$B$499,1,FALSE)),\"\",\"Y\")","v":""}]
["452E17051","14.5\" NO-REINF CNC PVMT, QC1P, APP","SY","COMPONENT","42406OH","WHITE CURE TYPE 2 CLASS A OR B","GAL","705.07OH","0.00000","QPL",{"$f":"IF(ISNA(VLOOKUP(A266,'(1) Project Reference Item List'!$B$2:$B$499,1,FALSE)),\"\",\"Y\")","v":""}]
["452E18011","15\" NO-REINF CNC PVMT, QC1P, APP","SY","COMPONENT","42406OH","WHITE CURE TYPE 2 CLASS A OR B","GAL","705.07OH","0.06000","QPL",{"$f":"IF(ISNA(VLOOKUP(A267,'(1) Project Reference Item List'!$B$2:$B$499,1,FALSE)),\"\",\"Y\")","v":""}]
["511E34447","CLASS QC2 CNCRT W/QC/QA, BRIDGE DCK, APP","CY","PRIMARY","215QC2","QC 2 CONCRETE - 4500 PSI - WELL GRADED","CY","499","1.00000","JCTL",{"$f":"IF(ISNA(VLOOKUP(A268,'(1) Project Reference Item List'!$B$2:$B$499,1,FALSE)),\"\",\"Y\")","v":""}]
["511E34450","CLS QC2 CNCRT W/QC/QA, BRDG DCK (PRPT)","CY","PRIMARY","215QC2","QC 2 CONCRETE - 4500 PSI - WELL GRADED","CY","499","1.00000","JCTL",{"$f":"IF(ISNA(VLOOKUP(A269,'(1) Project Reference Item List'!$B$2:$B$499,1,FALSE)),\"\",\"Y\")","v":""}]
["511E40511","CLS QC1 CNCRT, PIER ABOVE FOOTINGS, APP","CY","COMPONENT","42404OH","CLEAR CURE TYPE1 CL A OR B OR W/DYE","GAL","705.07OH","0.00000","QPL",{"$f":"IF(ISNA(VLOOKUP(A270,'(1) Project Reference Item List'!$B$2:$B$499,1,FALSE)),\"\",\"Y\")","v":""}]
["511E41012","CLS QC1 CNCRT W/QC/QA, PIER ABVE FTINGS","CY","COMPONENT","42404OH","CLEAR CURE TYPE1 CL A OR B OR W/DYE","GAL","705.07OH","0.00000","QPL",{"$f":"IF(ISNA(VLOOKUP(A271,'(1) Project Reference Item List'!$B$2:$B$499,1,FALSE)),\"\",\"Y\")","v":""}]
["511E41013","CLS QC1 CNCRT W/QC/QA,PIER ABV FTNGS, AP","CY","COMPONENT","42404OH","CLEAR CURE TYPE1 CL A OR B OR W/DYE","GAL","705.07OH","0.00000","QPL",{"$f":"IF(ISNA(VLOOKUP(A272,'(1) Project Reference Item List'!$B$2:$B$499,1,FALSE)),\"\",\"Y\")","v":""}]
["511E41510","CLS QC1 CNCRT, PIER ABOVE FOOTINGS","CY","COMPONENT","42404OH","CLEAR CURE TYPE1 CL A OR B OR W/DYE","GAL","705.07OH","0.00000","QPL",{"$f":"IF(ISNA(VLOOKUP(A273,'(1) Project Reference Item List'!$B$2:$B$499,1,FALSE)),\"\",\"Y\")","v":""}]
["517E72511","RLG (DBR W/3 TUB BU & POST)APP","FT","PRIMARY","55100","STEEL BRIDGE RAILING SYSTEM PER PLAN","FT","517","1.00000","CERT",{"$f":"IF(ISNA(VLOOKUP(A274,'(1) Project Reference Item List'!$B$2:$B$499,1,FALSE)),\"\",\"Y\")","v":""}]
["517E72521","RLG (DBR W/1 TUB BU & POST?)APP","FT","PRIMARY","55100","STEEL BRIDGE RAILING SYSTEM PER PLAN","FT","517","1.00000","CERT",{"$f":"IF(ISNA(VLOOKUP(A275,'(1) Project Reference Item List'!$B$2:$B$499,1,FALSE)),\"\",\"Y\")","v":""}]
["517E72750","RLG(THRIE BM RETROFIT)","FT","PRIMARY","55100","STEEL BRIDGE RAILING SYSTEM PER PLAN","FT","517","1.00000","CERT",{"$f":"IF(ISNA(VLOOKUP(A276,'(1) Project Reference Item List'!$B$2:$B$499,1,FALSE)),\"\",\"Y\")","v":""}]
["423E00109","CRACK SEALING, TYPE III, APP","LB","PRIMARY","61802","POLYPROPYLENE FIBERS 423 TYPE 3","LB","423","1.00000","QPL",{"$f":"IF(ISNA(VLOOKUP(A277,'(1) Project Reference Item List'!$B$2:$B$499,1,FALSE)),\"\",\"Y\")","v":""}]
["423E00202","CRACK SEALING WITH ROUTING, TYPE I","SY","PRIMARY","NOMATL","CODE TO ADD TO CONTRACT S & T REQ","EACH","NONE","0.00000",null,{"$f":"IF(ISNA(VLOOKUP(A278,'(1) Project Reference Item List'!$B$2:$B$499,1,FALSE)),\"\",\"Y\")","v":""}]
["423E00208","CRACK SEALING, TYPE III","SY","COMPONENT","61802","POLYPROPYLENE FIBERS 423 TYPE 3","LB","423","0.00000","QPL",{"$f":"IF(ISNA(VLOOKUP(A279,'(1) Project Reference Item List'!$B$2:$B$499,1,FALSE)),\"\",\"Y\")","v":""}]
["452E14021","10\" NO-REINF CNC PVMT, QC1P QC/QA, APP","SY","PRIMARY","215QC1","QC 1 CONCRETE - 4000 PSI - WELL GRADED","CY","499","0.27778","JCTL",{"$f":"IF(ISNA(VLOOKUP(A280,'(1) Project Reference Item List'!$B$2:$B$499,1,FALSE)),\"\",\"Y\")","v":""}]
["452E14021","10\" NO-REINF CNC PVMT, QC1P QC/QA, APP","SY","COMPONENT","67502","5/8\"X8\" HOOK BOLT","EACH","BP2.1","0.00000","QPL",{"$f":"IF(ISNA(VLOOKUP(A281,'(1) Project Reference Item List'!$B$2:$B$499,1,FALSE)),\"\",\"Y\")","v":""}]
["452E14021","10\" NO-REINF CNC PVMT, QC1P QC/QA, APP","SY","COMPONENT","63013","STEEL ROD, COATED DOWEL, JOINT ASSY","LB","709.13","0.00000","CERT",{"$f":"IF(ISNA(VLOOKUP(A282,'(1) Project Reference Item List'!$B$2:$B$499,1,FALSE)),\"\",\"Y\")","v":""}]
["452E14021","10\" NO-REINF CNC PVMT, QC1P QC/QA, APP","SY","COMPONENT","619100","PREFORMED EXPANSION JOINT FILLER 1\"","SF","705.03-711","0.00000","QPL",{"$f":"IF(ISNA(VLOOKUP(A283,'(1) Project Reference Item List'!$B$2:$B$499,1,FALSE)),\"\",\"Y\")","v":""}]
["452E14021","10\" NO-REINF CNC PVMT, QC1P QC/QA, APP","SY","COMPONENT","61607","JOINT & CRACK SEALER, HOT APPLIED 705.04","LB","705.04","0.00000","CERT",{"$f":"IF(ISNA(VLOOKUP(A284,'(1) Project Reference Item List'!$B$2:$B$499,1,FALSE)),\"\",\"Y\")","v":""}]
["452E14021","10\" NO-REINF CNC PVMT, QC1P QC/QA, APP","SY","COMPONENT","61606","PREFORMED ELASTOMERIC COMPRESSION SEAL","FT","705.11","0.00000","QPL",{"$f":"IF(ISNA(VLOOKUP(A285,'(1) Project Reference Item List'!$B$2:$B$499,1,FALSE)),\"\",\"Y\")","v":""}]
["452E14022","10.5\" NO-REINF CNC PVMT, QC1P QC/QA","SY","COMPONENT","42406OH","WHITE CURE TYPE 2 CLASS A OR B","GAL","705.07OH","0.06000","QPL",{"$f":"IF(ISNA(VLOOKUP(A286,'(1) Project Reference Item List'!$B$2:$B$499,1,FALSE)),\"\",\"Y\")","v":""}]
["452E14022","10.5\" NO-REINF CNC PVMT, QC1P QC/QA","SY","COMPONENT","67502","5/8\"X8\" HOOK BOLT","EACH","BP2.1","0.00000","QPL",{"$f":"IF(ISNA(VLOOKUP(A287,'(1) Project Reference Item List'!$B$2:$B$499,1,FALSE)),\"\",\"Y\")","v":""}]
["452E14022","10.5\" NO-REINF CNC PVMT, QC1P QC/QA","SY","COMPONENT","63013","STEEL ROD, COATED DOWEL, JOINT ASSY","LB","709.13","0.00000","CERT",{"$f":"IF(ISNA(VLOOKUP(A288,'(1) Project Reference Item List'!$B$2:$B$499,1,FALSE)),\"\",\"Y\")","v":""}]
["452E14022","10.5\" NO-REINF CNC PVMT, QC1P QC/QA","SY","COMPONENT","619100","PREFORMED EXPANSION JOINT FILLER 1\"","SF","705.03-711","0.00000","QPL",{"$f":"IF(ISNA(VLOOKUP(A289,'(1) Project Reference Item List'!$B$2:$B$499,1,FALSE)),\"\",\"Y\")","v":""}]
["452E14022","10.5\" NO-REINF CNC PVMT, QC1P QC/QA","SY","COMPONENT","61607","JOINT & CRACK SEALER, HOT APPLIED 705.04","LB","705.04","0.00000","CERT",{"$f":"IF(ISNA(VLOOKUP(A290,'(1) Project Reference Item List'!$B$2:$B$499,1,FALSE)),\"\",\"Y\")","v":""}]
["452E14022","10.5\" NO-REINF CNC PVMT, QC1P QC/QA","SY","COMPONENT","61606","PREFORMED ELASTOMERIC COMPRESSION SEAL","FT","705.11","0.00000","QPL",{"$f":"IF(ISNA(VLOOKUP(A291,'(1) Project Reference Item List'!$B$2:$B$499,1,FALSE)),\"\",\"Y\")","v":""}]
["452E14050","10\" NO-REINF CNC PVMT, QCMS","SY","COMPONENT","67503","HOOK BOLT COUPLER","EACH","BP2.1","0.00000","QPL",{"$f":"IF(ISNA(VLOOKUP(A292,'(1) Project Reference Item List'!$B$2:$B$499,1,FALSE)),\"\",\"Y\")","v":""}]
["452E14050","10\" NO-REINF CNC PVMT, QCMS","SY","COMPONENT","67502","5/8\"X8\" HOOK BOLT","EACH","BP2.1","0.00000","QPL",{"$f":"IF(ISNA(VLOOKUP(A293,'(1) Project Reference Item List'!$B$2:$B$499,1,FALSE)),\"\",\"Y\")","v":""}]
["452E14050","10\" NO-REINF CNC PVMT, QCMS","SY","SUBSTITUTE","67501","5/8\"X6\" HOOK BOLT","EACH","BP2.1","0.00000","QPL",{"$f":"IF(ISNA(VLOOKUP(A294,'(1) Project Reference Item List'!$B$2:$B$499,1,FALSE)),\"\",\"Y\")","v":""}]
["452E14050","10\" NO-REINF CNC PVMT, QCMS","SY","COMPONENT","63013","STEEL ROD, COATED DOWEL, JOINT ASSY","LB","709.13","0.00000","CERT",{"$f":"IF(ISNA(VLOOKUP(A295,'(1) Project Reference Item List'!$B$2:$B$499,1,FALSE)),\"\",\"Y\")","v":""}]
["452E14050","10\" NO-REINF CNC PVMT, QCMS","SY","COMPONENT","619100","PREFORMED EXPANSION JOINT FILLER 1\"","SF","705.03-711","0.00000","QPL",{"$f":"IF(ISNA(VLOOKUP(A296,'(1) Project Reference Item List'!$B$2:$B$499,1,FALSE)),\"\",\"Y\")","v":""}]
["452E14050","10\" NO-REINF CNC PVMT, QCMS","SY","COMPONENT","61607","JOINT & CRACK SEALER, HOT APPLIED 705.04","LB","705.04","0.00000","CERT",{"$f":"IF(ISNA(VLOOKUP(A297,'(1) Project Reference Item List'!$B$2:$B$499,1,FALSE)),\"\",\"Y\")","v":""}]
["452E14050","10\" NO-REINF CNC PVMT, QCMS","SY","COMPONENT","61606","PREFORMED ELASTOMERIC COMPRESSION SEAL","FT","705.11","0.00000","QPL",{"$f":"IF(ISNA(VLOOKUP(A298,'(1) Project Reference Item List'!$B$2:$B$499,1,FALSE)),\"\",\"Y\")","v":""}]
["452E14050","10\" NO-REINF CNC PVMT, QCMS","SY","COMPONENT","42406OH","WHITE CURE TYPE 2 CLASS A OR B","GAL","705.07OH","0.06000","QPL",{"$f":"IF(ISNA(VLOOKUP(A299,'(1) Project Reference Item List'!$B$2:$B$499,1,FALSE)),\"\",\"Y\")","v":""}]
["452E14050","10\" NO-REINF CNC PVMT, QCMS","SY","PRIMARY","215QCMS","QC MODERATE SET CONCRETE 400 PSI_24 HRS","CY","499","0.27778","JCTL",{"$f":"IF(ISNA(VLOOKUP(A300,'(1) Project Reference Item List'!$B$2:$B$499,1,FALSE)),\"\",\"Y\")","v":""}]
["452E14050","10\" NO-REINF CNC PVMT, QCMS","SY","SUBSTITUTE","67601A","EXPANSION SHIELD ANCHOR, TYPE A","EACH","712.01","0.00000","QPL",{"$f":"IF(ISNA(VLOOKUP(A301,'(1) Project Reference Item List'!$B$2:$B$499,1,FALSE)),\"\",\"Y\")","v":""}]
["452E15021","12\" NO-REINF CNC PVMT, QC1P QC/QA, APP","SY","PRIMARY","215QC1","QC 1 CONCRETE - 4000 PSI - WELL GRADED","CY","499","0.33333","JCTL",{"$f":"IF(ISNA(VLOOKUP(A302,'(1) Project Reference Item List'!$B$2:$B$499,1,FALSE)),\"\",\"Y\")","v":""}]
["452E15021","12\" NO-REINF CNC PVMT, QC1P QC/QA, APP","SY","COMPONENT","67502","5/8\"X8\" HOOK BOLT","EACH","BP2.1","0.00000","QPL",{"$f":"IF(ISNA(VLOOKUP(A303,'(1) Project Reference Item List'!$B$2:$B$499,1,FALSE)),\"\",\"Y\")","v":""}]
["452E15021","12\" NO-REINF CNC PVMT, QC1P QC/QA, APP","SY","COMPONENT","63013","STEEL ROD, COATED DOWEL, JOINT ASSY","LB","709.13","0.00000","CERT",{"$f":"IF(ISNA(VLOOKUP(A304,'(1) Project Reference Item List'!$B$2:$B$499,1,FALSE)),\"\",\"Y\")","v":""}]
["452E15021","12\" NO-REINF CNC PVMT, QC1P QC/QA, APP","SY","COMPONENT","619100","PREFORMED EXPANSION JOINT FILLER 1\"","SF","705.03-711","0.00000","QPL",{"$f":"IF(ISNA(VLOOKUP(A305,'(1) Project Reference Item List'!$B$2:$B$499,1,FALSE)),\"\",\"Y\")","v":""}]
["452E15021","12\" NO-REINF CNC PVMT, QC1P QC/QA, APP","SY","COMPONENT","61607","JOINT & CRACK SEALER, HOT APPLIED 705.04","LB","705.04","0.00000","CERT",{"$f":"IF(ISNA(VLOOKUP(A306,'(1) Project Reference Item List'!$B$2:$B$499,1,FALSE)),\"\",\"Y\")","v":""}]
["452E15021","12\" NO-REINF CNC PVMT, QC1P QC/QA, APP","SY","COMPONENT","61606","PREFORMED ELASTOMERIC COMPRESSION SEAL","FT","705.11","0.00000","QPL",{"$f":"IF(ISNA(VLOOKUP(A307,'(1) Project Reference Item List'!$B$2:$B$499,1,FALSE)),\"\",\"Y\")","v":""}]
["511E33417","CLASS QC2 CONC, SUPERSTRUCTURE, APP","CY","PRIMARY","215QC2","QC 2 CONCRETE - 4500 PSI - WELL GRADED","CY","499","1.00000","JCTL",{"$f":"IF(ISNA(VLOOKUP(A308,'(1) Project Reference Item List'!$B$2:$B$499,1,FALSE)),\"\",\"Y\")","v":""}]
["511E33417","CLASS QC2 CONC, SUPERSTRUCTURE, APP","CY","COMPONENT","62001","P.V.C. EXPANSION SPONGE","SF","705.03-711","0.00000","QPL",{"$f":"IF(ISNA(VLOOKUP(A309,'(1) Project Reference Item List'!$B$2:$B$499,1,FALSE)),\"\",\"Y\")","v":""}]
["511E33417","CLASS QC2 CONC, SUPERSTRUCTURE, APP","CY","COMPONENT","619025","PREFORMED EXPANSION JOINT FILLER 1/4\"","SF","705.03-711","0.00000","QPL",{"$f":"IF(ISNA(VLOOKUP(A310,'(1) Project Reference Item List'!$B$2:$B$499,1,FALSE)),\"\",\"Y\")","v":""}]
["511E33417","CLASS QC2 CONC, SUPERSTRUCTURE, APP","CY","COMPONENT","61606","PREFORMED ELASTOMERIC COMPRESSION SEAL","FT","705.11","0.00000","QPL",{"$f":"IF(ISNA(VLOOKUP(A311,'(1) Project Reference Item List'!$B$2:$B$499,1,FALSE)),\"\",\"Y\")","v":""}]
["511E33417","CLASS QC2 CONC, SUPERSTRUCTURE, APP","CY","COMPONENT","43201","HIGH MOLECULAR WEIGHT METHACRYLATE","GAL","705.15","0.00000","QPL",{"$f":"IF(ISNA(VLOOKUP(A312,'(1) Project Reference Item List'!$B$2:$B$499,1,FALSE)),\"\",\"Y\")","v":""}]
["511E21523","CL QC2 CONC W QC/QA, SUPERSTRUCTURE, APP","CY","PRIMARY","215QC2","QC 2 CONCRETE - 4500 PSI - WELL GRADED","CY","499","1.00000","JCTL",{"$f":"IF(ISNA(VLOOKUP(A313,'(1) Project Reference Item List'!$B$2:$B$499,1,FALSE)),\"\",\"Y\")","v":""}]
["511E21523","CL QC2 CONC W QC/QA, SUPERSTRUCTURE, APP","CY","COMPONENT","62001","P.V.C. EXPANSION SPONGE","SF","705.03-711","0.00000","QPL",{"$f":"IF(ISNA(VLOOKUP(A314,'(1) Project Reference Item List'!$B$2:$B$499,1,FALSE)),\"\",\"Y\")","v":""}]
["511E21523","CL QC2 CONC W QC/QA, SUPERSTRUCTURE, APP","CY","COMPONENT","619025","PREFORMED EXPANSION JOINT FILLER 1/4\"","SF","705.03-711","0.00000","QPL",{"$f":"IF(ISNA(VLOOKUP(A315,'(1) Project Reference Item List'!$B$2:$B$499,1,FALSE)),\"\",\"Y\")","v":""}]
["511E21523","CL QC2 CONC W QC/QA, SUPERSTRUCTURE, APP","CY","COMPONENT","61606","PREFORMED ELASTOMERIC COMPRESSION SEAL","FT","705.11","0.00000","QPL",{"$f":"IF(ISNA(VLOOKUP(A316,'(1) Project Reference Item List'!$B$2:$B$499,1,FALSE)),\"\",\"Y\")","v":""}]
["511E21523","CL QC2 CONC W QC/QA, SUPERSTRUCTURE, APP","CY","COMPONENT","43201","HIGH MOLECULAR WEIGHT METHACRYLATE","GAL","705.15","0.00000","QPL",{"$f":"IF(ISNA(VLOOKUP(A317,'(1) Project Reference Item List'!$B$2:$B$499,1,FALSE)),\"\",\"Y\")","v":""}]
["511E31610","CLASS QC2 CONC, SUPERSTRUCTURE","CY","PRIMARY","215QC2","QC 2 CONCRETE - 4500 PSI - WELL GRADED","CY","499","1.00000","JCTL",{"$f":"IF(ISNA(VLOOKUP(A318,'(1) Project Reference Item List'!$B$2:$B$499,1,FALSE)),\"\",\"Y\")","v":""}]
["511E31610","CLASS QC2 CONC, SUPERSTRUCTURE","CY","COMPONENT","62001","P.V.C. EXPANSION SPONGE","SF","705.03-711","0.00000","QPL",{"$f":"IF(ISNA(VLOOKUP(A319,'(1) Project Reference Item List'!$B$2:$B$499,1,FALSE)),\"\",\"Y\")","v":""}]
["511E31610","CLASS QC2 CONC, SUPERSTRUCTURE","CY","COMPONENT","619025","PREFORMED EXPANSION JOINT FILLER 1/4\"","SF","705.03-711","0.00000","QPL",{"$f":"IF(ISNA(VLOOKUP(A320,'(1) Project Reference Item List'!$B$2:$B$499,1,FALSE)),\"\",\"Y\")","v":""}]
["511E31610","CLASS QC2 CONC, SUPERSTRUCTURE","CY","COMPONENT","61606","PREFORMED ELASTOMERIC COMPRESSION SEAL","FT","705.11","0.00000","QPL",{"$f":"IF(ISNA(VLOOKUP(A321,'(1) Project Reference Item List'!$B$2:$B$499,1,FALSE)),\"\",\"Y\")","v":""}]
["511E31610","CLASS QC2 CONC, SUPERSTRUCTURE","CY","COMPONENT","43201","HIGH MOLECULAR WEIGHT METHACRYLATE","GAL","705.15","0.00000","QPL",{"$f":"IF(ISNA(VLOOKUP(A322,'(1) Project Reference Item List'!$B$2:$B$499,1,FALSE)),\"\",\"Y\")","v":""}]
["514E80020","SHOP PAINT & FIELD TOUCH-UP STRC STEEL","SF","PRIMARY","40020","OZEU FINISH COAT, POLYURE RESIN & CURE","GAL","708.02","0.00000","QPL",{"$f":"IF(ISNA(VLOOKUP(A323,'(1) Project Reference Item List'!$B$2:$B$499,1,FALSE)),\"\",\"Y\")","v":""}]
["514E80020","SHOP PAINT & FIELD TOUCH-UP STRC STEEL","SF","PRIMARY","40015","OZEU INTERMEDIATE COAT RESIN & CURE","GAL","708.02","0.00000","QPL",{"$f":"IF(ISNA(VLOOKUP(A324,'(1) Project Reference Item List'!$B$2:$B$499,1,FALSE)),\"\",\"Y\")","v":""}]
["514E80020","SHOP PAINT & FIELD TOUCH-UP STRC STEEL","SF","PRIMARY","40009","INORGANIC ZINC PRIMER TY1A RESIN&PIGMENT","GAL","708.01","0.00000","QPL",{"$f":"IF(ISNA(VLOOKUP(A325,'(1) Project Reference Item List'!$B$2:$B$499,1,FALSE)),\"\",\"Y\")","v":""}]
["514E80020","SHOP PAINT & FIELD TOUCH-UP STRC STEEL","SF","PRIMARY","40007","INORGANIC ZINC PRIMER: RESIN & PIGMENT","GAL","708.01","0.00000","QPL",{"$f":"IF(ISNA(VLOOKUP(A326,'(1) Project Reference Item List'!$B$2:$B$499,1,FALSE)),\"\",\"Y\")","v":""}]
["514E80020","SHOP PAINT & FIELD TOUCH-UP STRC STEEL","SF","PRIMARY","40004","OZEU PAINT PRIMER:RESIN,CURE&PIGMENT","GAL","708.02","0.00000","QPL",{"$f":"IF(ISNA(VLOOKUP(A327,'(1) Project Reference Item List'!$B$2:$B$499,1,FALSE)),\"\",\"Y\")","v":""}]
["514E80030","SHOP PAINT & FIELD TOUCH-UP STRC STEEL","LS","PRIMARY","40004","OZEU PAINT PRIMER:RESIN,CURE&PIGMENT","GAL","708.02","0.00000","QPL",{"$f":"IF(ISNA(VLOOKUP(A328,'(1) Project Reference Item List'!$B$2:$B$499,1,FALSE)),\"\",\"Y\")","v":""}]
["514E80030","SHOP PAINT & FIELD TOUCH-UP STRC STEEL","LS","PRIMARY","40022","CAULKING/STRUCTURAL STEEL PAINT IN FIELD","GAL","514.02","0.00000","QPL",{"$f":"IF(ISNA(VLOOKUP(A329,'(1) Project Reference Item List'!$B$2:$B$499,1,FALSE)),\"\",\"Y\")","v":""}]
["514E80030","SHOP PAINT & FIELD TOUCH-UP STRC STEEL","LS","PRIMARY","40020","OZEU FINISH COAT, POLYURE RESIN & CURE","GAL","708.02","0.00000","QPL",{"$f":"IF(ISNA(VLOOKUP(A330,'(1) Project Reference Item List'!$B$2:$B$499,1,FALSE)),\"\",\"Y\")","v":""}]
["514E80030","SHOP PAINT & FIELD TOUCH-UP STRC STEEL","LS","PRIMARY","40015","OZEU INTERMEDIATE COAT RESIN & CURE","GAL","708.02","0.00000","QPL",{"$f":"IF(ISNA(VLOOKUP(A331,'(1) Project Reference Item List'!$B$2:$B$499,1,FALSE)),\"\",\"Y\")","v":""}]
["514E80030","SHOP PAINT & FIELD TOUCH-UP STRC STEEL","LS","PRIMARY","40009","INORGANIC ZINC PRIMER TY1A RESIN&PIGMENT","GAL","708.01","0.00000","QPL",{"$f":"IF(ISNA(VLOOKUP(A332,'(1) Project Reference Item List'!$B$2:$B$499,1,FALSE)),\"\",\"Y\")","v":""}]
["514E00400","FLD PTING EX STR STEEL, FINISH COAT","LS","PRIMARY","40020","OZEU FINISH COAT, POLYURE RESIN & CURE","GAL","708.02","0.00000","QPL",{"$f":"IF(ISNA(VLOOKUP(A333,'(1) Project Reference Item List'!$B$2:$B$499,1,FALSE)),\"\",\"Y\")","v":""}]
["514E20001","FIELD PAINTING OF DAMAGED STRCTRL, APP","SF","PRIMARY","40004","OZEU PAINT PRIMER:RESIN,CURE&PIGMENT","GAL","708.02","0.00000","QPL",{"$f":"IF(ISNA(VLOOKUP(A334,'(1) Project Reference Item List'!$B$2:$B$499,1,FALSE)),\"\",\"Y\")","v":""}]
["514E20001","FIELD PAINTING OF DAMAGED STRCTRL, APP","SF","COMPONENT","40022","CAULKING/STRUCTURAL STEEL PAINT IN FIELD","GAL","514.02","0.00000","QPL",{"$f":"IF(ISNA(VLOOKUP(A335,'(1) Project Reference Item List'!$B$2:$B$499,1,FALSE)),\"\",\"Y\")","v":""}]
["514E20001","FIELD PAINTING OF DAMAGED STRCTRL, APP","SF","PRIMARY","40020","OZEU FINISH COAT, POLYURE RESIN & CURE","GAL","708.02","0.00000","QPL",{"$f":"IF(ISNA(VLOOKUP(A336,'(1) Project Reference Item List'!$B$2:$B$499,1,FALSE)),\"\",\"Y\")","v":""}]
["514E99000","BRIDGE PAINTING","LS","PRIMARY","40020","OZEU FINISH COAT, POLYURE RESIN & CURE","GAL","708.02","0.00000","QPL",{"$f":"IF(ISNA(VLOOKUP(A337,'(1) Project Reference Item List'!$B$2:$B$499,1,FALSE)),\"\",\"Y\")","v":""}]
["514E99000","BRIDGE PAINTING","LS","PRIMARY","40015","OZEU INTERMEDIATE COAT RESIN & CURE","GAL","708.02","0.00000","QPL",{"$f":"IF(ISNA(VLOOKUP(A338,'(1) Project Reference Item List'!$B$2:$B$499,1,FALSE)),\"\",\"Y\")","v":""}]
["514E99000","BRIDGE PAINTING","LS","PRIMARY","40004","OZEU PAINT PRIMER:RESIN,CURE&PIGMENT","GAL","708.02","0.00000","QPL",{"$f":"IF(ISNA(VLOOKUP(A339,'(1) Project Reference Item List'!$B$2:$B$499,1,FALSE)),\"\",\"Y\")","v":""}]
["514E00401","FLD PTING EX STR STEEL, FINISH COAT, APP","LS","PRIMARY","40020","OZEU FINISH COAT, POLYURE RESIN & CURE","GAL","708.02","0.00000","QPL",{"$f":"IF(ISNA(VLOOKUP(A340,'(1) Project Reference Item List'!$B$2:$B$499,1,FALSE)),\"\",\"Y\")","v":""}]
["524E94601","DRILLED SHAFTS, 30\", APP","FT","PRIMARY","215QC5","QC 5  CONCRETE-4000-4500 PSI_3/8' -1\"AGG","CY","499","0.06542","JCTL",{"$f":"IF(ISNA(VLOOKUP(A341,'(1) Project Reference Item List'!$B$2:$B$499,1,FALSE)),\"\",\"Y\")","v":""}]
["524E94601","DRILLED SHAFTS, 30\", APP","FT","COMPONENT","62560","REINFORCING, EPOXY COATED GRADE 60","LB","709.00","0.00000","CERT",{"$f":"IF(ISNA(VLOOKUP(A342,'(1) Project Reference Item List'!$B$2:$B$499,1,FALSE)),\"\",\"Y\")","v":""}]
["524E94601","DRILLED SHAFTS, 30\", APP","FT","PRIMARY","215QC2","QC 2 CONCRETE - 4500 PSI - WELL GRADED","CY","499","0.18171","JCTL",{"$f":"IF(ISNA(VLOOKUP(A343,'(1) Project Reference Item List'!$B$2:$B$499,1,FALSE)),\"\",\"Y\")","v":""}]
["524E94603","DRILLED SHAFTS, 30\", ABOVE BR, APP","FT","PRIMARY","215QC2","QC 2 CONCRETE - 4500 PSI - WELL GRADED","CY","499","0.18171","JCTL",{"$f":"IF(ISNA(VLOOKUP(A344,'(1) Project Reference Item List'!$B$2:$B$499,1,FALSE)),\"\",\"Y\")","v":""}]
["524E94603","DRILLED SHAFTS, 30\", ABOVE BR, APP","FT","PRIMARY","215QC4","QC 4 CONCRETE - MASS - WELL GRADED","CY","499","0.06542","JCTL",{"$f":"IF(ISNA(VLOOKUP(A345,'(1) Project Reference Item List'!$B$2:$B$499,1,FALSE)),\"\",\"Y\")","v":""}]
["524E94603","DRILLED SHAFTS, 30\", ABOVE BR, APP","FT","PRIMARY","215QC5","QC 5  CONCRETE-4000-4500 PSI_3/8' -1\"AGG","CY","499","0.06542","JCTL",{"$f":"IF(ISNA(VLOOKUP(A346,'(1) Project Reference Item List'!$B$2:$B$499,1,FALSE)),\"\",\"Y\")","v":""}]
["524E94605","DRILLED SHAFTS, 30\", INTO BR, APP","FT","PRIMARY","215QC2","QC 2 CONCRETE - 4500 PSI - WELL GRADED","CY","499","0.18171","JCTL",{"$f":"IF(ISNA(VLOOKUP(A347,'(1) Project Reference Item List'!$B$2:$B$499,1,FALSE)),\"\",\"Y\")","v":""}]
["524E94605","DRILLED SHAFTS, 30\", INTO BR, APP","FT","PRIMARY","215QC4","QC 4 CONCRETE - MASS - WELL GRADED","CY","499","0.06542","JCTL",{"$f":"IF(ISNA(VLOOKUP(A348,'(1) Project Reference Item List'!$B$2:$B$499,1,FALSE)),\"\",\"Y\")","v":""}]
["524E94605","DRILLED SHAFTS, 30\", INTO BR, APP","FT","PRIMARY","215QC5","QC 5  CONCRETE-4000-4500 PSI_3/8' -1\"AGG","CY","499","0.06542","JCTL",{"$f":"IF(ISNA(VLOOKUP(A349,'(1) Project Reference Item List'!$B$2:$B$499,1,FALSE)),\"\",\"Y\")","v":""}]
["522E12201","STR PLATE CM STRUC, APP","FT","PRIMARY","46001","STRUCTURAL PLATE CORRUGATED STEEL","EACH","707.03","0.00000","CERT",{"$f":"IF(ISNA(VLOOKUP(A350,'(1) Project Reference Item List'!$B$2:$B$499,1,FALSE)),\"\",\"Y\")","v":""}]
["524E94702","DRILLED SHAFTS, 36\", ABOVE BR","FT","PRIMARY","215QC2","QC 2 CONCRETE - 4500 PSI - WELL GRADED","CY","499","0.26167","JCTL",{"$f":"IF(ISNA(VLOOKUP(A351,'(1) Project Reference Item List'!$B$2:$B$499,1,FALSE)),\"\",\"Y\")","v":""}]
["524E94702","DRILLED SHAFTS, 36\", ABOVE BR","FT","PRIMARY","215QC4","QC 4 CONCRETE - MASS - WELL GRADED","CY","499","0.06542","JCTL",{"$f":"IF(ISNA(VLOOKUP(A352,'(1) Project Reference Item List'!$B$2:$B$499,1,FALSE)),\"\",\"Y\")","v":""}]
["524E94702","DRILLED SHAFTS, 36\", ABOVE BR","FT","PRIMARY","215QC5","QC 5  CONCRETE-4000-4500 PSI_3/8' -1\"AGG","CY","499","0.06542","JCTL",{"$f":"IF(ISNA(VLOOKUP(A353,'(1) Project Reference Item List'!$B$2:$B$499,1,FALSE)),\"\",\"Y\")","v":""}]
["524E94405","DRILLED SHAFTS, 18\", INTO BR, APP","FT","PRIMARY","215QC1","QC 1 CONCRETE - 4000 PSI - WELL GRADED","CY","499","0.01164","JCTL",{"$f":"IF(ISNA(VLOOKUP(A354,'(1) Project Reference Item List'!$B$2:$B$499,1,FALSE)),\"\",\"Y\")","v":""}]
["524E94405","DRILLED SHAFTS, 18\", INTO BR, APP","FT","PRIMARY","215QC4","QC 4 CONCRETE - MASS - WELL GRADED","CY","499","0.06542","JCTL",{"$f":"IF(ISNA(VLOOKUP(A355,'(1) Project Reference Item List'!$B$2:$B$499,1,FALSE)),\"\",\"Y\")","v":""}]
["524E94405","DRILLED SHAFTS, 18\", INTO BR, APP","FT","PRIMARY","215QC5","QC 5  CONCRETE-4000-4500 PSI_3/8' -1\"AGG","CY","499","0.06542","JCTL",{"$f":"IF(ISNA(VLOOKUP(A356,'(1) Project Reference Item List'!$B$2:$B$499,1,FALSE)),\"\",\"Y\")","v":""}]
["524E94500","DRILLED SHAFTS, 24\"","FT","PRIMARY","215QC2","QC 2 CONCRETE - 4500 PSI - WELL GRADED","CY","499","0.11636","JCTL",{"$f":"IF(ISNA(VLOOKUP(A357,'(1) Project Reference Item List'!$B$2:$B$499,1,FALSE)),\"\",\"Y\")","v":""}]
["524E94500","DRILLED SHAFTS, 24\"","FT","PRIMARY","215QC4","QC 4 CONCRETE - MASS - WELL GRADED","CY","499","0.06452","JCTL",{"$f":"IF(ISNA(VLOOKUP(A358,'(1) Project Reference Item List'!$B$2:$B$499,1,FALSE)),\"\",\"Y\")","v":""}]
["524E94500","DRILLED SHAFTS, 24\"","FT","PRIMARY","215QC5","QC 5  CONCRETE-4000-4500 PSI_3/8' -1\"AGG","CY","499","0.06542","JCTL",{"$f":"IF(ISNA(VLOOKUP(A359,'(1) Project Reference Item List'!$B$2:$B$499,1,FALSE)),\"\",\"Y\")","v":""}]
["524E94504","DRILLED SHAFTS, 24\", INTO BR","FT","PRIMARY","215QC4","QC 4 CONCRETE - MASS - WELL GRADED","CY","499","0.06542","JCTL",{"$f":"IF(ISNA(VLOOKUP(A360,'(1) Project Reference Item List'!$B$2:$B$499,1,FALSE)),\"\",\"Y\")","v":""}]
["524E94504","DRILLED SHAFTS, 24\", INTO BR","FT","PRIMARY","215QC5","QC 5  CONCRETE-4000-4500 PSI_3/8' -1\"AGG","CY","499","0.06542","JCTL",{"$f":"IF(ISNA(VLOOKUP(A361,'(1) Project Reference Item List'!$B$2:$B$499,1,FALSE)),\"\",\"Y\")","v":""}]
["524E94504","DRILLED SHAFTS, 24\", INTO BR","FT","COMPONENT","62560","REINFORCING, EPOXY COATED GRADE 60","LB","709.00","0.00000","CERT",{"$f":"IF(ISNA(VLOOKUP(A362,'(1) Project Reference Item List'!$B$2:$B$499,1,FALSE)),\"\",\"Y\")","v":""}]
["601E34300","ROCK CH PROT, D W/O FILTER","CY","PRIMARY","001019D","GRAVEL FOR DUMP ROCK FILL TYPE D","TON","703.19","1.21400","CERT",{"$f":"IF(ISNA(VLOOKUP(A363,'(1) Project Reference Item List'!$B$2:$B$499,1,FALSE)),\"\",\"Y\")","v":""}]
["601E34300","ROCK CH PROT, D W/O FILTER","CY","PRIMARY","001041D","CONCRETE FOR DUMP ROCK FILL TYPE D","TON","703.19","1.06600","CERT",{"$f":"IF(ISNA(VLOOKUP(A364,'(1) Project Reference Item List'!$B$2:$B$499,1,FALSE)),\"\",\"Y\")","v":""}]
["601E34300","ROCK CH PROT, D W/O FILTER","CY","PRIMARY","001030D","SANDSTONE FOR DUMP ROCK FILL TYPE D","TON","703.19","1.15800","CERT",{"$f":"IF(ISNA(VLOOKUP(A365,'(1) Project Reference Item List'!$B$2:$B$499,1,FALSE)),\"\",\"Y\")","v":""}]
["601E34400","RCP, WITH GROUT","CY","COMPONENT","035S3D","SAND STONE 703.03","TON","703.03","0.00000","QPL",{"$f":"IF(ISNA(VLOOKUP(A366,'(1) Project Reference Item List'!$B$2:$B$499,1,FALSE)),\"\",\"Y\")","v":""}]
["601E34400","RCP, WITH GROUT","CY","COMPONENT","031SD3","SAND, NATURAL 703.03","TON","703.03","0.00000","CERT",{"$f":"IF(ISNA(VLOOKUP(A367,'(1) Project Reference Item List'!$B$2:$B$499,1,FALSE)),\"\",\"Y\")","v":""}]
["601E34400","RCP, WITH GROUT","CY","COMPONENT","42406OH","WHITE CURE TYPE 2 CLASS A OR B","GAL","705.07OH","0.00000","QPL",{"$f":"IF(ISNA(VLOOKUP(A368,'(1) Project Reference Item List'!$B$2:$B$499,1,FALSE)),\"\",\"Y\")","v":""}]
["601E34400","RCP, WITH GROUT","CY","PRIMARY","37507","PORTLAND CEMENT MASONRY","LB","701.07","0.00000","CERT",{"$f":"IF(ISNA(VLOOKUP(A369,'(1) Project Reference Item List'!$B$2:$B$499,1,FALSE)),\"\",\"Y\")","v":""}]
["601E34400","RCP, WITH GROUT","CY","PRIMARY","37504","PORTLAND CEMENT TYPE 1","TON","701.04","0.00000","CERT",{"$f":"IF(ISNA(VLOOKUP(A370,'(1) Project Reference Item List'!$B$2:$B$499,1,FALSE)),\"\",\"Y\")","v":""}]
["601E38100","PAVED GUTTER, TYPE 1-6","FT","PRIMARY","215QCMISC","QC MISCELLANEOUS 4000 PSI","CY","499","0.15700","JCTL",{"$f":"IF(ISNA(VLOOKUP(A371,'(1) Project Reference Item List'!$B$2:$B$499,1,FALSE)),\"\",\"Y\")","v":""}]
["601E38100","PAVED GUTTER, TYPE 1-6","FT","COMPONENT","61607","JOINT & CRACK SEALER, HOT APPLIED 705.04","LB","705.04","0.00000","CERT",{"$f":"IF(ISNA(VLOOKUP(A372,'(1) Project Reference Item List'!$B$2:$B$499,1,FALSE)),\"\",\"Y\")","v":""}]
["601E38100","PAVED GUTTER, TYPE 1-6","FT","COMPONENT","42406OH","WHITE CURE TYPE 2 CLASS A OR B","GAL","705.07OH","0.04120","QPL",{"$f":"IF(ISNA(VLOOKUP(A373,'(1) Project Reference Item List'!$B$2:$B$499,1,FALSE)),\"\",\"Y\")","v":""}]
["601E37500","PAVED GUTTER, TYPE 1-2","FT","PRIMARY","215QCMISC","QC MISCELLANEOUS 4000 PSI","CY","499","0.08300","JCTL",{"$f":"IF(ISNA(VLOOKUP(A374,'(1) Project Reference Item List'!$B$2:$B$499,1,FALSE)),\"\",\"Y\")","v":""}]
["601E37500","PAVED GUTTER, TYPE 1-2","FT","COMPONENT","61607","JOINT & CRACK SEALER, HOT APPLIED 705.04","LB","705.04","0.00000","CERT",{"$f":"IF(ISNA(VLOOKUP(A375,'(1) Project Reference Item List'!$B$2:$B$499,1,FALSE)),\"\",\"Y\")","v":""}]
["601E37500","PAVED GUTTER, TYPE 1-2","FT","COMPONENT","42406OH","WHITE CURE TYPE 2 CLASS A OR B","GAL","705.07OH","0.02120","QPL",{"$f":"IF(ISNA(VLOOKUP(A376,'(1) Project Reference Item List'!$B$2:$B$499,1,FALSE)),\"\",\"Y\")","v":""}]
["601E45040","INFILTRATION TRENCH FILTER","CY","PRIMARY","074057","57 CRUSHED GRAVEL (703)","TON","703.18","1.21400","CERT",{"$f":"IF(ISNA(VLOOKUP(A377,'(1) Project Reference Item List'!$B$2:$B$499,1,FALSE)),\"\",\"Y\")","v":""}]
["601E45040","INFILTRATION TRENCH FILTER","CY","COMPONENT","71209C","GEOTEXTILE FABRIC TYPE C","SY","712.09","0.00000","APPR",{"$f":"IF(ISNA(VLOOKUP(A378,'(1) Project Reference Item List'!$B$2:$B$499,1,FALSE)),\"\",\"Y\")","v":""}]
["606E27910","ANCHOR ASSEMBLY REBUILT, MGS TYPE T","EACH","COMPONENT","350WPOST","WOODPOST","EACH","710.12-14","0.00000","CERT",{"$f":"IF(ISNA(VLOOKUP(A379,'(1) Project Reference Item List'!$B$2:$B$499,1,FALSE)),\"\",\"Y\")","v":""}]
["606E27910","ANCHOR ASSEMBLY REBUILT, MGS TYPE T","EACH","COMPONENT","550SPOST","STEEL POST","EACH","710.15","0.00000","CERT",{"$f":"IF(ISNA(VLOOKUP(A380,'(1) Project Reference Item List'!$B$2:$B$499,1,FALSE)),\"\",\"Y\")","v":""}]
["606E27910","ANCHOR ASSEMBLY REBUILT, MGS TYPE T","EACH","PRIMARY","550RAIL","RAIL ELEMENT","FT","710.06","0.00000","CERT",{"$f":"IF(ISNA(VLOOKUP(A381,'(1) Project Reference Item List'!$B$2:$B$499,1,FALSE)),\"\",\"Y\")","v":""}]
["606E27910","ANCHOR ASSEMBLY REBUILT, MGS TYPE T","EACH","COMPONENT","550HWMISC","GUARDRAIL HARDWARE","EACH","710.15","0.00000","CERT",{"$f":"IF(ISNA(VLOOKUP(A382,'(1) Project Reference Item List'!$B$2:$B$499,1,FALSE)),\"\",\"Y\")","v":""}]
["606E27810","ANCHOR ASSEMBLY REBUILT, MGS TYPE A","EACH","COMPONENT","550ESECT","GUARDRAIL END SECTION","EACH","710.06","1.00000","CERT",{"$f":"IF(ISNA(VLOOKUP(A383,'(1) Project Reference Item List'!$B$2:$B$499,1,FALSE)),\"\",\"Y\")","v":""}]
["606E27810","ANCHOR ASSEMBLY REBUILT, MGS TYPE A","EACH","COMPONENT","62709","REINFORCING, WELDED REBAR AND ROD MATS","SF","709.10","0.00000","CERT",{"$f":"IF(ISNA(VLOOKUP(A384,'(1) Project Reference Item List'!$B$2:$B$499,1,FALSE)),\"\",\"Y\")","v":""}]
["606E27810","ANCHOR ASSEMBLY REBUILT, MGS TYPE A","EACH","COMPONENT","62660","REINFORCING, UNCOATED GRADE 60","LB","709.01","0.00000","CERT",{"$f":"IF(ISNA(VLOOKUP(A385,'(1) Project Reference Item List'!$B$2:$B$499,1,FALSE)),\"\",\"Y\")","v":""}]
["606E27810","ANCHOR ASSEMBLY REBUILT, MGS TYPE A","EACH","COMPONENT","62560","REINFORCING, EPOXY COATED GRADE 60","LB","709.00","0.00000","CERT",{"$f":"IF(ISNA(VLOOKUP(A386,'(1) Project Reference Item List'!$B$2:$B$499,1,FALSE)),\"\",\"Y\")","v":""}]
["606E27810","ANCHOR ASSEMBLY REBUILT, MGS TYPE A","EACH","COMPONENT","550SPOST","STEEL POST","EACH","710.15","2.00000","CERT",{"$f":"IF(ISNA(VLOOKUP(A387,'(1) Project Reference Item List'!$B$2:$B$499,1,FALSE)),\"\",\"Y\")","v":""}]
["606E27810","ANCHOR ASSEMBLY REBUILT, MGS TYPE A","EACH","PRIMARY","550RAIL","RAIL ELEMENT","FT","710.06","25.00000","CERT",{"$f":"IF(ISNA(VLOOKUP(A388,'(1) Project Reference Item List'!$B$2:$B$499,1,FALSE)),\"\",\"Y\")","v":""}]
["606E31101","BR TERM ASSY REBUILT, C, APP","EACH","COMPONENT","550HWMISC","GUARDRAIL HARDWARE","EACH","710.15","0.00000","CERT",{"$f":"IF(ISNA(VLOOKUP(A389,'(1) Project Reference Item List'!$B$2:$B$499,1,FALSE)),\"\",\"Y\")","v":""}]
["606E31101","BR TERM ASSY REBUILT, C, APP","EACH","PRIMARY","550ESECT","GUARDRAIL END SECTION","EACH","710.06","1.00000","CERT",{"$f":"IF(ISNA(VLOOKUP(A390,'(1) Project Reference Item List'!$B$2:$B$499,1,FALSE)),\"\",\"Y\")","v":""}]
["606E31101","BR TERM ASSY REBUILT, C, APP","EACH","COMPONENT","350WPOST","WOODPOST","EACH","710.12-14","2.00000","CERT",{"$f":"IF(ISNA(VLOOKUP(A391,'(1) Project Reference Item List'!$B$2:$B$499,1,FALSE)),\"\",\"Y\")","v":""}]
["606E28000","ANCHOR ASSEMBLY REBUILT, TYPE B-98","EACH","COMPONENT","550ESECT","GUARDRAIL END SECTION","EACH","710.06","1.00000","CERT",{"$f":"IF(ISNA(VLOOKUP(A392,'(1) Project Reference Item List'!$B$2:$B$499,1,FALSE)),\"\",\"Y\")","v":""}]
["606E28000","ANCHOR ASSEMBLY REBUILT, TYPE B-98","EACH","COMPONENT","550SPOST","STEEL POST","EACH","710.15","8.00000","CERT",{"$f":"IF(ISNA(VLOOKUP(A393,'(1) Project Reference Item List'!$B$2:$B$499,1,FALSE)),\"\",\"Y\")","v":""}]
["606E28000","ANCHOR ASSEMBLY REBUILT, TYPE B-98","EACH","PRIMARY","550RAIL","RAIL ELEMENT","FT","710.06","37.50000","CERT",{"$f":"IF(ISNA(VLOOKUP(A394,'(1) Project Reference Item List'!$B$2:$B$499,1,FALSE)),\"\",\"Y\")","v":""}]
["606E27841","ANCHOR ASSEMBLY REBUILT, TYPE B, APP","EACH","COMPONENT","350WPOST","WOODPOST","EACH","710.12-14","6.00000","CERT",{"$f":"IF(ISNA(VLOOKUP(A395,'(1) Project Reference Item List'!$B$2:$B$499,1,FALSE)),\"\",\"Y\")","v":""}]
["606E27841","ANCHOR ASSEMBLY REBUILT, TYPE B, APP","EACH","PRIMARY","550RAIL","RAIL ELEMENT","FT","710.06","50.00000","CERT",{"$f":"IF(ISNA(VLOOKUP(A396,'(1) Project Reference Item List'!$B$2:$B$499,1,FALSE)),\"\",\"Y\")","v":""}]
["606E27841","ANCHOR ASSEMBLY REBUILT, TYPE B, APP","EACH","COMPONENT","550HWMISC","GUARDRAIL HARDWARE","EACH","710.15","1.00000","CERT",{"$f":"IF(ISNA(VLOOKUP(A397,'(1) Project Reference Item List'!$B$2:$B$499,1,FALSE)),\"\",\"Y\")","v":""}]
["606E27846","ANCH ASSY REBUILT, MGS TYPE B","EACH","COMPONENT","350WPOST","WOODPOST","EACH","710.12-14","0.00000","CERT",{"$f":"IF(ISNA(VLOOKUP(A398,'(1) Project Reference Item List'!$B$2:$B$499,1,FALSE)),\"\",\"Y\")","v":""}]
["606E27846","ANCH ASSY REBUILT, MGS TYPE B","EACH","PRIMARY","550RAIL","RAIL ELEMENT","FT","710.06","0.00000","CERT",{"$f":"IF(ISNA(VLOOKUP(A399,'(1) Project Reference Item List'!$B$2:$B$499,1,FALSE)),\"\",\"Y\")","v":""}]
["606E27846","ANCH ASSY REBUILT, MGS TYPE B","EACH","COMPONENT","550HWMISC","GUARDRAIL HARDWARE","EACH","710.15","0.00000","CERT",{"$f":"IF(ISNA(VLOOKUP(A400,'(1) Project Reference Item List'!$B$2:$B$499,1,FALSE)),\"\",\"Y\")","v":""}]
["606E27847","ANCH ASSY REBUILT, MGS TYPE B, APP","EACH","COMPONENT","350WPOST","WOODPOST","EACH","710.12-14","6.00000","CERT",{"$f":"IF(ISNA(VLOOKUP(A401,'(1) Project Reference Item List'!$B$2:$B$499,1,FALSE)),\"\",\"Y\")","v":""}]
["606E27847","ANCH ASSY REBUILT, MGS TYPE B, APP","EACH","PRIMARY","550RAIL","RAIL ELEMENT","FT","710.06","50.00000","CERT",{"$f":"IF(ISNA(VLOOKUP(A402,'(1) Project Reference Item List'!$B$2:$B$499,1,FALSE)),\"\",\"Y\")","v":""}]
["606E27847","ANCH ASSY REBUILT, MGS TYPE B, APP","EACH","COMPONENT","550ESECT","GUARDRAIL END SECTION","EACH","710.06","1.00000","CERT",{"$f":"IF(ISNA(VLOOKUP(A403,'(1) Project Reference Item List'!$B$2:$B$499,1,FALSE)),\"\",\"Y\")","v":""}]
["606E28050","ANCH ASSY REBUILT, TYPE E-98","EACH","PRIMARY","550RAIL","RAIL ELEMENT","FT","710.06","50.00000","CERT",{"$f":"IF(ISNA(VLOOKUP(A404,'(1) Project Reference Item List'!$B$2:$B$499,1,FALSE)),\"\",\"Y\")","v":""}]
["606E28050","ANCH ASSY REBUILT, TYPE E-98","EACH","COMPONENT","550HWMISC","GUARDRAIL HARDWARE","EACH","710.15","0.00000","CERT",{"$f":"IF(ISNA(VLOOKUP(A405,'(1) Project Reference Item List'!$B$2:$B$499,1,FALSE)),\"\",\"Y\")","v":""}]
["606E28050","ANCH ASSY REBUILT, TYPE E-98","EACH","COMPONENT","550ESECT","GUARDRAIL END SECTION","EACH","710.06","1.00000","CERT",{"$f":"IF(ISNA(VLOOKUP(A406,'(1) Project Reference Item List'!$B$2:$B$499,1,FALSE)),\"\",\"Y\")","v":""}]
["606E27900","ANCH ASSY REBUILT, TYPE T","EACH","COMPONENT","350WPOST","WOODPOST","EACH","710.12-14","3.00000","CERT",{"$f":"IF(ISNA(VLOOKUP(A407,'(1) Project Reference Item List'!$B$2:$B$499,1,FALSE)),\"\",\"Y\")","v":""}]
["606E27900","ANCH ASSY REBUILT, TYPE T","EACH","COMPONENT","550SPOST","STEEL POST","EACH","710.15","3.00000","CERT",{"$f":"IF(ISNA(VLOOKUP(A408,'(1) Project Reference Item List'!$B$2:$B$499,1,FALSE)),\"\",\"Y\")","v":""}]
["606E27900","ANCH ASSY REBUILT, TYPE T","EACH","PRIMARY","550RAIL","RAIL ELEMENT","FT","710.06","12.50000","CERT",{"$f":"IF(ISNA(VLOOKUP(A409,'(1) Project Reference Item List'!$B$2:$B$499,1,FALSE)),\"\",\"Y\")","v":""}]
["606E27900","ANCH ASSY REBUILT, TYPE T","EACH","COMPONENT","550HWMISC","GUARDRAIL HARDWARE","EACH","710.15","1.00000","CERT",{"$f":"IF(ISNA(VLOOKUP(A410,'(1) Project Reference Item List'!$B$2:$B$499,1,FALSE)),\"\",\"Y\")","v":""}]
["606E31001","BR TERM ASSY, TYPE C, APP","EACH","PRIMARY","550ESECT","GUARDRAIL END SECTION","EACH","710.06","0.00000","CERT",{"$f":"IF(ISNA(VLOOKUP(A411,'(1) Project Reference Item List'!$B$2:$B$499,1,FALSE)),\"\",\"Y\")","v":""}]
["606E31001","BR TERM ASSY, TYPE C, APP","EACH","COMPONENT","350WPOST","WOODPOST","EACH","710.12-14","0.00000","CERT",{"$f":"IF(ISNA(VLOOKUP(A412,'(1) Project Reference Item List'!$B$2:$B$499,1,FALSE)),\"\",\"Y\")","v":""}]
["606E31001","BR TERM ASSY, TYPE C, APP","EACH","COMPONENT","550SPOST","STEEL POST","EACH","710.15","0.00000","CERT",{"$f":"IF(ISNA(VLOOKUP(A413,'(1) Project Reference Item List'!$B$2:$B$499,1,FALSE)),\"\",\"Y\")","v":""}]
["515E10060","PRESTR CONC NON-COMP BM, B27-36","EACH","PRIMARY","280A001","PRESTRESSED CONCRETE MEMBER","EACH","515 SS865","1.00000","CERT",{"$f":"IF(ISNA(VLOOKUP(A414,'(1) Project Reference Item List'!$B$2:$B$499,1,FALSE)),\"\",\"Y\")","v":""}]
["515E12030","PRESTR CONC COMP BM, LV 1, CB17-48","EACH","COMPONENT","42701","NON-SHRINK GROUT FOR PRESTRESS 705.22","LB","705.22","0.00000","APPR",{"$f":"IF(ISNA(VLOOKUP(A415,'(1) Project Reference Item List'!$B$2:$B$499,1,FALSE)),\"\",\"Y\")","v":""}]
["515E10030","PRESTR CONC NON-COMP BM, B17-48","EACH","PRIMARY","280A001","PRESTRESSED CONCRETE MEMBER","EACH","515 SS865","1.00000","CERT",{"$f":"IF(ISNA(VLOOKUP(A416,'(1) Project Reference Item List'!$B$2:$B$499,1,FALSE)),\"\",\"Y\")","v":""}]
["515E10071","PRESTR CONC NON-COMP BM, B27-48, APP","EACH","PRIMARY","280A001","PRESTRESSED CONCRETE MEMBER","EACH","515 SS865","1.00000","CERT",{"$f":"IF(ISNA(VLOOKUP(A417,'(1) Project Reference Item List'!$B$2:$B$499,1,FALSE)),\"\",\"Y\")","v":""}]
["515E10080","PRESTR CONC NON-COMP BM, B33-36","EACH","PRIMARY","280A001","PRESTRESSED CONCRETE MEMBER","EACH","515 SS865","1.00000","CERT",{"$f":"IF(ISNA(VLOOKUP(A418,'(1) Project Reference Item List'!$B$2:$B$499,1,FALSE)),\"\",\"Y\")","v":""}]
["515E10050","PRESTR CONC NON-COMP BM, B21-48","EACH","PRIMARY","280A001","PRESTRESSED CONCRETE MEMBER","EACH","515 SS865","1.00000","CERT",{"$f":"IF(ISNA(VLOOKUP(A419,'(1) Project Reference Item List'!$B$2:$B$499,1,FALSE)),\"\",\"Y\")","v":""}]
["524E94705","DRILLED SHAFTS, 36\", INTO BR, APP","FT","PRIMARY","215QC4","QC 4 CONCRETE - MASS - WELL GRADED","CY","499","0.06542","JCTL",{"$f":"IF(ISNA(VLOOKUP(A420,'(1) Project Reference Item List'!$B$2:$B$499,1,FALSE)),\"\",\"Y\")","v":""}]
["524E94705","DRILLED SHAFTS, 36\", INTO BR, APP","FT","PRIMARY","215QC5","QC 5  CONCRETE-4000-4500 PSI_3/8' -1\"AGG","CY","499","0.06542","JCTL",{"$f":"IF(ISNA(VLOOKUP(A421,'(1) Project Reference Item List'!$B$2:$B$499,1,FALSE)),\"\",\"Y\")","v":""}]
["524E94705","DRILLED SHAFTS, 36\", INTO BR, APP","FT","COMPONENT","62675","REINFORCING, UNCOATED GRADE 75","LB","709.01","0.00000","CERT",{"$f":"IF(ISNA(VLOOKUP(A422,'(1) Project Reference Item List'!$B$2:$B$499,1,FALSE)),\"\",\"Y\")","v":""}]
["524E94705","DRILLED SHAFTS, 36\", INTO BR, APP","FT","COMPONENT","62660","REINFORCING, UNCOATED GRADE 60","LB","709.01","0.00000","CERT",{"$f":"IF(ISNA(VLOOKUP(A423,'(1) Project Reference Item List'!$B$2:$B$499,1,FALSE)),\"\",\"Y\")","v":""}]
["524E94800","DRILLED SHAFTS, 42\"","FT","PRIMARY","215QC2","QC 2 CONCRETE - 4500 PSI - WELL GRADED","CY","499","0.35616","JCTL",{"$f":"IF(ISNA(VLOOKUP(A424,'(1) Project Reference Item List'!$B$2:$B$499,1,FALSE)),\"\",\"Y\")","v":""}]
["524E94800","DRILLED SHAFTS, 42\"","FT","PRIMARY","215QC4","QC 4 CONCRETE - MASS - WELL GRADED","CY","499","0.06542","JCTL",{"$f":"IF(ISNA(VLOOKUP(A425,'(1) Project Reference Item List'!$B$2:$B$499,1,FALSE)),\"\",\"Y\")","v":""}]
["524E94800","DRILLED SHAFTS, 42\"","FT","PRIMARY","215QC5","QC 5  CONCRETE-4000-4500 PSI_3/8' -1\"AGG","CY","499","0.06542","JCTL",{"$f":"IF(ISNA(VLOOKUP(A426,'(1) Project Reference Item List'!$B$2:$B$499,1,FALSE)),\"\",\"Y\")","v":""}]
["524E94802","DRILLED SHAFTS, 42\", ABOVE BR","FT","PRIMARY","215QC2","QC 2 CONCRETE - 4500 PSI - WELL GRADED","CY","499","0.35616","JCTL",{"$f":"IF(ISNA(VLOOKUP(A427,'(1) Project Reference Item List'!$B$2:$B$499,1,FALSE)),\"\",\"Y\")","v":""}]
["524E94802","DRILLED SHAFTS, 42\", ABOVE BR","FT","PRIMARY","215QC4","QC 4 CONCRETE - MASS - WELL GRADED","CY","499","0.06542","JCTL",{"$f":"IF(ISNA(VLOOKUP(A428,'(1) Project Reference Item List'!$B$2:$B$499,1,FALSE)),\"\",\"Y\")","v":""}]
["524E94802","DRILLED SHAFTS, 42\", ABOVE BR","FT","PRIMARY","215QC5","QC 5  CONCRETE-4000-4500 PSI_3/8' -1\"AGG","CY","499","0.06542","JCTL",{"$f":"IF(ISNA(VLOOKUP(A429,'(1) Project Reference Item List'!$B$2:$B$499,1,FALSE)),\"\",\"Y\")","v":""}]
["524E94804","DRILLED SHAFTS, 42\", INTO BR","FT","PRIMARY","215QC2","QC 2 CONCRETE - 4500 PSI - WELL GRADED","CY","499","0.35616","JCTL",{"$f":"IF(ISNA(VLOOKUP(A430,'(1) Project Reference Item List'!$B$2:$B$499,1,FALSE)),\"\",\"Y\")","v":""}]
["524E94804","DRILLED SHAFTS, 42\", INTO BR","FT","PRIMARY","215QC4","QC 4 CONCRETE - MASS - WELL GRADED","CY","499","0.06542","JCTL",{"$f":"IF(ISNA(VLOOKUP(A431,'(1) Project Reference Item List'!$B$2:$B$499,1,FALSE)),\"\",\"Y\")","v":""}]
["524E94804","DRILLED SHAFTS, 42\", INTO BR","FT","PRIMARY","215QC5","QC 5  CONCRETE-4000-4500 PSI_3/8' -1\"AGG","CY","499","0.06542","JCTL",{"$f":"IF(ISNA(VLOOKUP(A432,'(1) Project Reference Item List'!$B$2:$B$499,1,FALSE)),\"\",\"Y\")","v":""}]
["524E94906","DRILLED SHAFTS, 54\", ABOVE BR","FT","PRIMARY","215QC2","QC 2 CONCRETE - 4500 PSI - WELL GRADED","CY","499","0.58875","JCTL",{"$f":"IF(ISNA(VLOOKUP(A433,'(1) Project Reference Item List'!$B$2:$B$499,1,FALSE)),\"\",\"Y\")","v":""}]
["524E94906","DRILLED SHAFTS, 54\", ABOVE BR","FT","PRIMARY","215QC4","QC 4 CONCRETE - MASS - WELL GRADED","CY","499","0.06542","JCTL",{"$f":"IF(ISNA(VLOOKUP(A434,'(1) Project Reference Item List'!$B$2:$B$499,1,FALSE)),\"\",\"Y\")","v":""}]
["524E94906","DRILLED SHAFTS, 54\", ABOVE BR","FT","PRIMARY","215QC5","QC 5  CONCRETE-4000-4500 PSI_3/8' -1\"AGG","CY","499","0.06542","JCTL",{"$f":"IF(ISNA(VLOOKUP(A435,'(1) Project Reference Item List'!$B$2:$B$499,1,FALSE)),\"\",\"Y\")","v":""}]
["524E94918","DRILLED SHAFTS, 60\", INTO BR","FT","PRIMARY","215QC2","QC 2 CONCRETE - 4500 PSI - WELL GRADED","CY","499","0.72685","JCTL",{"$f":"IF(ISNA(VLOOKUP(A436,'(1) Project Reference Item List'!$B$2:$B$499,1,FALSE)),\"\",\"Y\")","v":""}]
["524E94918","DRILLED SHAFTS, 60\", INTO BR","FT","PRIMARY","215QC4","QC 4 CONCRETE - MASS - WELL GRADED","CY","499","0.06542","JCTL",{"$f":"IF(ISNA(VLOOKUP(A437,'(1) Project Reference Item List'!$B$2:$B$499,1,FALSE)),\"\",\"Y\")","v":""}]
["524E94918","DRILLED SHAFTS, 60\", INTO BR","FT","PRIMARY","215QC5","QC 5  CONCRETE-4000-4500 PSI_3/8' -1\"AGG","CY","499","0.06542","JCTL",{"$f":"IF(ISNA(VLOOKUP(A438,'(1) Project Reference Item List'!$B$2:$B$499,1,FALSE)),\"\",\"Y\")","v":""}]
["524E94934","DRILLED SHAFTS, 66\", INTO BR","FT","PRIMARY","215QC2","QC 2 CONCRETE - 4500 PSI - WELL GRADED","CY","499","0.87949","JCTL",{"$f":"IF(ISNA(VLOOKUP(A439,'(1) Project Reference Item List'!$B$2:$B$499,1,FALSE)),\"\",\"Y\")","v":""}]
["524E94934","DRILLED SHAFTS, 66\", INTO BR","FT","PRIMARY","215QC4","QC 4 CONCRETE - MASS - WELL GRADED","CY","499","0.06542","JCTL",{"$f":"IF(ISNA(VLOOKUP(A440,'(1) Project Reference Item List'!$B$2:$B$499,1,FALSE)),\"\",\"Y\")","v":""}]
["524E94934","DRILLED SHAFTS, 66\", INTO BR","FT","PRIMARY","215QC5","QC 5  CONCRETE-4000-4500 PSI_3/8' -1\"AGG","CY","499","0.06542","JCTL",{"$f":"IF(ISNA(VLOOKUP(A441,'(1) Project Reference Item List'!$B$2:$B$499,1,FALSE)),\"\",\"Y\")","v":""}]
["524E94935","DRILLED SHAFTS, 66\", INTO BR, APP","FT","PRIMARY","215QC2","QC 2 CONCRETE - 4500 PSI - WELL GRADED","CY","499","0.87949","JCTL",{"$f":"IF(ISNA(VLOOKUP(A442,'(1) Project Reference Item List'!$B$2:$B$499,1,FALSE)),\"\",\"Y\")","v":""}]
["524E94935","DRILLED SHAFTS, 66\", INTO BR, APP","FT","PRIMARY","215QC4","QC 4 CONCRETE - MASS - WELL GRADED","CY","499","0.06542","JCTL",{"$f":"IF(ISNA(VLOOKUP(A443,'(1) Project Reference Item List'!$B$2:$B$499,1,FALSE)),\"\",\"Y\")","v":""}]
["524E94935","DRILLED SHAFTS, 66\", INTO BR, APP","FT","PRIMARY","215QC5","QC 5  CONCRETE-4000-4500 PSI_3/8' -1\"AGG","CY","499","0.06542","JCTL",{"$f":"IF(ISNA(VLOOKUP(A444,'(1) Project Reference Item List'!$B$2:$B$499,1,FALSE)),\"\",\"Y\")","v":""}]
["524E94946","DRILLED SHAFTS, 72\", ABOVE BR","FT","PRIMARY","215QC2","QC 2 CONCRETE - 4500 PSI - WELL GRADED","CY","499","1.04667","JCTL",{"$f":"IF(ISNA(VLOOKUP(A445,'(1) Project Reference Item List'!$B$2:$B$499,1,FALSE)),\"\",\"Y\")","v":""}]
["524E94946","DRILLED SHAFTS, 72\", ABOVE BR","FT","PRIMARY","215QC4","QC 4 CONCRETE - MASS - WELL GRADED","CY","499","0.06542","JCTL",{"$f":"IF(ISNA(VLOOKUP(A446,'(1) Project Reference Item List'!$B$2:$B$499,1,FALSE)),\"\",\"Y\")","v":""}]
["524E94946","DRILLED SHAFTS, 72\", ABOVE BR","FT","PRIMARY","215QC5","QC 5  CONCRETE-4000-4500 PSI_3/8' -1\"AGG","CY","499","0.06542","JCTL",{"$f":"IF(ISNA(VLOOKUP(A447,'(1) Project Reference Item List'!$B$2:$B$499,1,FALSE)),\"\",\"Y\")","v":""}]
["605E06000","4\" BASE PIPE UD","FT","PRIMARY","495P31P","PE CORR PERFORATED M252 CP PIPE","FT","707.31","1.00000","CERT",{"$f":"IF(ISNA(VLOOKUP(A448,'(1) Project Reference Item List'!$B$2:$B$499,1,FALSE)),\"\",\"Y\")","v":""}]
["605E06000","4\" BASE PIPE UD","FT","SUBSTITUTE","4870000","CERT CONC DRAIN TILE EX QUALITY","FT","706.07 S10","1.00000","CERT",{"$f":"IF(ISNA(VLOOKUP(A449,'(1) Project Reference Item List'!$B$2:$B$499,1,FALSE)),\"\",\"Y\")","v":""}]
["605E06000","4\" BASE PIPE UD","FT","SUBSTITUTE","476CL3","CERT PERF NON-REINFORCED CONC PIPE CL3","FT","706.06 S10","1.00000","CERT",{"$f":"IF(ISNA(VLOOKUP(A450,'(1) Project Reference Item List'!$B$2:$B$499,1,FALSE)),\"\",\"Y\")","v":""}]
["605E06000","4\" BASE PIPE UD","FT","SUBSTITUTE","476CL2","CERT PERF NON-REINFORCED CONC PIPE CL2","FT","706.06 S10","1.00000","CERT",{"$f":"IF(ISNA(VLOOKUP(A451,'(1) Project Reference Item List'!$B$2:$B$499,1,FALSE)),\"\",\"Y\")","v":""}]
["605E06000","4\" BASE PIPE UD","FT","SUBSTITUTE","476CL1","CERT PERF NON-REINFORCED CONC PIPE CL1","FT","706.061074","1.00000","CERT",{"$f":"IF(ISNA(VLOOKUP(A452,'(1) Project Reference Item List'!$B$2:$B$499,1,FALSE)),\"\",\"Y\")","v":""}]
["605E06000","4\" BASE PIPE UD","FT","SUBSTITUTE","4513","METALLIC COATED CMP PERF PIPE 707.01","FT","707.01","1.00000","CERT",{"$f":"IF(ISNA(VLOOKUP(A453,'(1) Project Reference Item List'!$B$2:$B$499,1,FALSE)),\"\",\"Y\")","v":""}]
["605E06000","4\" BASE PIPE UD","FT","COMPONENT","075008","8 CRUSHED STONE (703)","TON","703","0.00000","CERT",{"$f":"IF(ISNA(VLOOKUP(A454,'(1) Project Reference Item List'!$B$2:$B$499,1,FALSE)),\"\",\"Y\")","v":""}]
["605E06000","4\" BASE PIPE UD","FT","COMPONENT","073008","8 GRAVEL 703","TON","703","0.00000","CERT",{"$f":"IF(ISNA(VLOOKUP(A455,'(1) Project Reference Item List'!$B$2:$B$499,1,FALSE)),\"\",\"Y\")","v":""}]
["605E06000","4\" BASE PIPE UD","FT","SUBSTITUTE","5213","ALUMINUM PIPE PERF 707.21","FT","707.21","1.00000","CERT",{"$f":"IF(ISNA(VLOOKUP(A456,'(1) Project Reference Item List'!$B$2:$B$499,1,FALSE)),\"\",\"Y\")","v":""}]
["605E06000","4\" BASE PIPE UD","FT","SUBSTITUTE","509EQ","CLAY DRAIN TILE EXTRA QUALITY","FT","706.09","1.00000","QPL",{"$f":"IF(ISNA(VLOOKUP(A457,'(1) Project Reference Item List'!$B$2:$B$499,1,FALSE)),\"\",\"Y\")","v":""}]
["605E06000","4\" BASE PIPE UD","FT","SUBSTITUTE","508SS","VCP STANDARD STRENGTH","FT","706.08","1.00000","QPL",{"$f":"IF(ISNA(VLOOKUP(A458,'(1) Project Reference Item List'!$B$2:$B$499,1,FALSE)),\"\",\"Y\")","v":""}]
["605E06000","4\" BASE PIPE UD","FT","SUBSTITUTE","508ES","VCP EXTRA STRENGTH","FT","706.08","1.00000","QPL",{"$f":"IF(ISNA(VLOOKUP(A459,'(1) Project Reference Item List'!$B$2:$B$499,1,FALSE)),\"\",\"Y\")","v":""}]
["605E06000","4\" BASE PIPE UD","FT","SUBSTITUTE","497P04","PVC SMOOTH WALL PIPE PERF. 4\" DIA","FT","707.41","1.00000","CTD",{"$f":"IF(ISNA(VLOOKUP(A460,'(1) Project Reference Item List'!$B$2:$B$499,1,FALSE)),\"\",\"Y\")","v":""}]
["605E06000","4\" BASE PIPE UD","FT","SUBSTITUTE","49770741","PVC SMOOTH WALL UNDERDRAIN PIPE","FT","707.41","1.00000","QPL",{"$f":"IF(ISNA(VLOOKUP(A461,'(1) Project Reference Item List'!$B$2:$B$499,1,FALSE)),\"\",\"Y\")","v":""}]
["605E06001","4\" BASE PIPE UD, APP","FT","SUBSTITUTE","476CL1","CERT PERF NON-REINFORCED CONC PIPE CL1","FT","706.061074","1.00000","CERT",{"$f":"IF(ISNA(VLOOKUP(A462,'(1) Project Reference Item List'!$B$2:$B$499,1,FALSE)),\"\",\"Y\")","v":""}]
["605E06001","4\" BASE PIPE UD, APP","FT","SUBSTITUTE","4513","METALLIC COATED CMP PERF PIPE 707.01","FT","707.01","1.00000","CERT",{"$f":"IF(ISNA(VLOOKUP(A463,'(1) Project Reference Item List'!$B$2:$B$499,1,FALSE)),\"\",\"Y\")","v":""}]
["605E06001","4\" BASE PIPE UD, APP","FT","COMPONENT","075008","8 CRUSHED STONE (703)","TON","703","0.00000","CERT",{"$f":"IF(ISNA(VLOOKUP(A464,'(1) Project Reference Item List'!$B$2:$B$499,1,FALSE)),\"\",\"Y\")","v":""}]
["605E06001","4\" BASE PIPE UD, APP","FT","COMPONENT","073008","8 GRAVEL 703","TON","703","0.00000","CERT",{"$f":"IF(ISNA(VLOOKUP(A465,'(1) Project Reference Item List'!$B$2:$B$499,1,FALSE)),\"\",\"Y\")","v":""}]
["605E06001","4\" BASE PIPE UD, APP","FT","SUBSTITUTE","5213","ALUMINUM PIPE PERF 707.21","FT","707.21","1.00000","CERT",{"$f":"IF(ISNA(VLOOKUP(A466,'(1) Project Reference Item List'!$B$2:$B$499,1,FALSE)),\"\",\"Y\")","v":""}]
["605E06001","4\" BASE PIPE UD, APP","FT","SUBSTITUTE","509EQ","CLAY DRAIN TILE EXTRA QUALITY","FT","706.09","1.00000","QPL",{"$f":"IF(ISNA(VLOOKUP(A467,'(1) Project Reference Item List'!$B$2:$B$499,1,FALSE)),\"\",\"Y\")","v":""}]
["605E06001","4\" BASE PIPE UD, APP","FT","SUBSTITUTE","508SS","VCP STANDARD STRENGTH","FT","706.08","1.00000","QPL",{"$f":"IF(ISNA(VLOOKUP(A468,'(1) Project Reference Item List'!$B$2:$B$499,1,FALSE)),\"\",\"Y\")","v":""}]
["605E06001","4\" BASE PIPE UD, APP","FT","SUBSTITUTE","508ES","VCP EXTRA STRENGTH","FT","706.08","1.00000","QPL",{"$f":"IF(ISNA(VLOOKUP(A469,'(1) Project Reference Item List'!$B$2:$B$499,1,FALSE)),\"\",\"Y\")","v":""}]
["605E06001","4\" BASE PIPE UD, APP","FT","SUBSTITUTE","497P04","PVC SMOOTH WALL PIPE PERF. 4\" DIA","FT","707.41","1.00000","CTD",{"$f":"IF(ISNA(VLOOKUP(A470,'(1) Project Reference Item List'!$B$2:$B$499,1,FALSE)),\"\",\"Y\")","v":""}]
["605E06001","4\" BASE PIPE UD, APP","FT","SUBSTITUTE","49770741","PVC SMOOTH WALL UNDERDRAIN PIPE","FT","707.41","1.00000","QPL",{"$f":"IF(ISNA(VLOOKUP(A471,'(1) Project Reference Item List'!$B$2:$B$499,1,FALSE)),\"\",\"Y\")","v":""}]
["605E06001","4\" BASE PIPE UD, APP","FT","SUBSTITUTE","495P31PS","PE CORR SMOOTH INT PERF M252 SP PIPE","FT","707.31","1.00000","CERT",{"$f":"IF(ISNA(VLOOKUP(A472,'(1) Project Reference Item List'!$B$2:$B$499,1,FALSE)),\"\",\"Y\")","v":""}]
["605E06001","4\" BASE PIPE UD, APP","FT","PRIMARY","495P31P","PE CORR PERFORATED M252 CP PIPE","FT","707.31","1.00000","CERT",{"$f":"IF(ISNA(VLOOKUP(A473,'(1) Project Reference Item List'!$B$2:$B$499,1,FALSE)),\"\",\"Y\")","v":""}]
["605E06001","4\" BASE PIPE UD, APP","FT","SUBSTITUTE","4870000","CERT CONC DRAIN TILE EX QUALITY","FT","706.07 S10","1.00000","CERT",{"$f":"IF(ISNA(VLOOKUP(A474,'(1) Project Reference Item List'!$B$2:$B$499,1,FALSE)),\"\",\"Y\")","v":""}]
["605E06001","4\" BASE PIPE UD, APP","FT","SUBSTITUTE","476CL3","CERT PERF NON-REINFORCED CONC PIPE CL3","FT","706.06 S10","1.00000","CERT",{"$f":"IF(ISNA(VLOOKUP(A475,'(1) Project Reference Item List'!$B$2:$B$499,1,FALSE)),\"\",\"Y\")","v":""}]
["605E06020","4\" BASE PIPE UD W/ GEOTEX FAB","FT","PRIMARY","495P31P","PE CORR PERFORATED M252 CP PIPE","FT","707.31","1.00000","CERT",{"$f":"IF(ISNA(VLOOKUP(A476,'(1) Project Reference Item List'!$B$2:$B$499,1,FALSE)),\"\",\"Y\")","v":""}]
["605E06020","4\" BASE PIPE UD W/ GEOTEX FAB","FT","SUBSTITUTE","4870000","CERT CONC DRAIN TILE EX QUALITY","FT","706.07 S10","1.00000","CERT",{"$f":"IF(ISNA(VLOOKUP(A477,'(1) Project Reference Item List'!$B$2:$B$499,1,FALSE)),\"\",\"Y\")","v":""}]
["605E06020","4\" BASE PIPE UD W/ GEOTEX FAB","FT","SUBSTITUTE","476CL3","CERT PERF NON-REINFORCED CONC PIPE CL3","FT","706.06 S10","1.00000","CERT",{"$f":"IF(ISNA(VLOOKUP(A478,'(1) Project Reference Item List'!$B$2:$B$499,1,FALSE)),\"\",\"Y\")","v":""}]
["605E06020","4\" BASE PIPE UD W/ GEOTEX FAB","FT","SUBSTITUTE","476CL2","CERT PERF NON-REINFORCED CONC PIPE CL2","FT","706.06 S10","1.00000","CERT",{"$f":"IF(ISNA(VLOOKUP(A479,'(1) Project Reference Item List'!$B$2:$B$499,1,FALSE)),\"\",\"Y\")","v":""}]
["605E06020","4\" BASE PIPE UD W/ GEOTEX FAB","FT","SUBSTITUTE","476CL1","CERT PERF NON-REINFORCED CONC PIPE CL1","FT","706.061074","1.00000","CERT",{"$f":"IF(ISNA(VLOOKUP(A480,'(1) Project Reference Item List'!$B$2:$B$499,1,FALSE)),\"\",\"Y\")","v":""}]
["605E06020","4\" BASE PIPE UD W/ GEOTEX FAB","FT","SUBSTITUTE","4513","METALLIC COATED CMP PERF PIPE 707.01","FT","707.01","1.00000","CERT",{"$f":"IF(ISNA(VLOOKUP(A481,'(1) Project Reference Item List'!$B$2:$B$499,1,FALSE)),\"\",\"Y\")","v":""}]
["605E06020","4\" BASE PIPE UD W/ GEOTEX FAB","FT","COMPONENT","075008","8 CRUSHED STONE (703)","TON","703","0.00000","CERT",{"$f":"IF(ISNA(VLOOKUP(A482,'(1) Project Reference Item List'!$B$2:$B$499,1,FALSE)),\"\",\"Y\")","v":""}]
["605E06020","4\" BASE PIPE UD W/ GEOTEX FAB","FT","COMPONENT","073008","8 GRAVEL 703","TON","703","0.00000","CERT",{"$f":"IF(ISNA(VLOOKUP(A483,'(1) Project Reference Item List'!$B$2:$B$499,1,FALSE)),\"\",\"Y\")","v":""}]
["605E06020","4\" BASE PIPE UD W/ GEOTEX FAB","FT","COMPONENT","71209A","GEOTEXTILE FABRIC TYPE A","SY","712.09","0.00000","APPR",{"$f":"IF(ISNA(VLOOKUP(A484,'(1) Project Reference Item List'!$B$2:$B$499,1,FALSE)),\"\",\"Y\")","v":""}]
["605E06020","4\" BASE PIPE UD W/ GEOTEX FAB","FT","SUBSTITUTE","5213","ALUMINUM PIPE PERF 707.21","FT","707.21","1.00000","CERT",{"$f":"IF(ISNA(VLOOKUP(A485,'(1) Project Reference Item List'!$B$2:$B$499,1,FALSE)),\"\",\"Y\")","v":""}]
["605E06020","4\" BASE PIPE UD W/ GEOTEX FAB","FT","SUBSTITUTE","509EQ","CLAY DRAIN TILE EXTRA QUALITY","FT","706.09","1.00000","QPL",{"$f":"IF(ISNA(VLOOKUP(A486,'(1) Project Reference Item List'!$B$2:$B$499,1,FALSE)),\"\",\"Y\")","v":""}]
["605E06020","4\" BASE PIPE UD W/ GEOTEX FAB","FT","SUBSTITUTE","508SS","VCP STANDARD STRENGTH","FT","706.08","1.00000","QPL",{"$f":"IF(ISNA(VLOOKUP(A487,'(1) Project Reference Item List'!$B$2:$B$499,1,FALSE)),\"\",\"Y\")","v":""}]
["605E06020","4\" BASE PIPE UD W/ GEOTEX FAB","FT","SUBSTITUTE","508ES","VCP EXTRA STRENGTH","FT","706.08","1.00000","QPL",{"$f":"IF(ISNA(VLOOKUP(A488,'(1) Project Reference Item List'!$B$2:$B$499,1,FALSE)),\"\",\"Y\")","v":""}]
["605E06020","4\" BASE PIPE UD W/ GEOTEX FAB","FT","SUBSTITUTE","497P04","PVC SMOOTH WALL PIPE PERF. 4\" DIA","FT","707.41","1.00000","CTD",{"$f":"IF(ISNA(VLOOKUP(A489,'(1) Project Reference Item List'!$B$2:$B$499,1,FALSE)),\"\",\"Y\")","v":""}]
["605E06020","4\" BASE PIPE UD W/ GEOTEX FAB","FT","SUBSTITUTE","49770741","PVC SMOOTH WALL UNDERDRAIN PIPE","FT","707.41","1.00000","QPL",{"$f":"IF(ISNA(VLOOKUP(A490,'(1) Project Reference Item List'!$B$2:$B$499,1,FALSE)),\"\",\"Y\")","v":""}]
["606E32160","BRIDGE TERMINAL ASSEMBLY, TYPE TST","EACH","PRIMARY","550RAIL","RAIL ELEMENT","FT","710.06","25.00000","CERT",{"$f":"IF(ISNA(VLOOKUP(A491,'(1) Project Reference Item List'!$B$2:$B$499,1,FALSE)),\"\",\"Y\")","v":""}]
["606E32160","BRIDGE TERMINAL ASSEMBLY, TYPE TST","EACH","COMPONENT","550HWMISC","GUARDRAIL HARDWARE","EACH","710.15","1.00000","CERT",{"$f":"IF(ISNA(VLOOKUP(A492,'(1) Project Reference Item List'!$B$2:$B$499,1,FALSE)),\"\",\"Y\")","v":""}]
["606E32160","BRIDGE TERMINAL ASSEMBLY, TYPE TST","EACH","COMPONENT","550ESECT","GUARDRAIL END SECTION","EACH","710.06","1.00000","CERT",{"$f":"IF(ISNA(VLOOKUP(A493,'(1) Project Reference Item List'!$B$2:$B$499,1,FALSE)),\"\",\"Y\")","v":""}]
["606E32160","BRIDGE TERMINAL ASSEMBLY, TYPE TST","EACH","COMPONENT","350WPOST","WOODPOST","EACH","710.12-14","6.00000","CERT",{"$f":"IF(ISNA(VLOOKUP(A494,'(1) Project Reference Item List'!$B$2:$B$499,1,FALSE)),\"\",\"Y\")","v":""}]
["606E33050","BR TERM ASSY REBUILT, G","EACH","COMPONENT","350WPOST","WOODPOST","EACH","710.12-14","3.00000","CERT",{"$f":"IF(ISNA(VLOOKUP(A495,'(1) Project Reference Item List'!$B$2:$B$499,1,FALSE)),\"\",\"Y\")","v":""}]
["606E33050","BR TERM ASSY REBUILT, G","EACH","COMPONENT","550SPOST","STEEL POST","EACH","710.15","3.00000","CERT",{"$f":"IF(ISNA(VLOOKUP(A496,'(1) Project Reference Item List'!$B$2:$B$499,1,FALSE)),\"\",\"Y\")","v":""}]
["606E33050","BR TERM ASSY REBUILT, G","EACH","PRIMARY","550RAIL","RAIL ELEMENT","FT","710.06","12.50000","CERT",{"$f":"IF(ISNA(VLOOKUP(A497,'(1) Project Reference Item List'!$B$2:$B$499,1,FALSE)),\"\",\"Y\")","v":""}]
["606E33050","BR TERM ASSY REBUILT, G","EACH","COMPONENT","550HWMISC","GUARDRAIL HARDWARE","EACH","710.15","1.00000","CERT",{"$f":"IF(ISNA(VLOOKUP(A498,'(1) Project Reference Item List'!$B$2:$B$499,1,FALSE)),\"\",\"Y\")","v":""}]
["606E32161","BRIDGE TERMINAL ASSEMBLY, TYPE TST, APP","EACH","COMPONENT","350WPOST","WOODPOST","EACH","710.12-14","0.00000","CERT",{"$f":"IF(ISNA(VLOOKUP(A499,'(1) Project Reference Item List'!$B$2:$B$499,1,FALSE)),\"\",\"Y\")","v":""}]
["606E32161","BRIDGE TERMINAL ASSEMBLY, TYPE TST, APP","EACH","COMPONENT","550SPOST","STEEL POST","EACH","710.15","0.00000","CERT",{"$f":"IF(ISNA(VLOOKUP(A500,'(1) Project Reference Item List'!$B$2:$B$499,1,FALSE)),\"\",\"Y\")","v":""}]
["606E32161","BRIDGE TERMINAL ASSEMBLY, TYPE TST, APP","EACH","PRIMARY","550RAIL","RAIL ELEMENT","FT","710.06","0.00000","CERT",{"$f":"IF(ISNA(VLOOKUP(A501,'(1) Project Reference Item List'!$B$2:$B$499,1,FALSE)),\"\",\"Y\")","v":""}]
["606E32161","BRIDGE TERMINAL ASSEMBLY, TYPE TST, APP","EACH","COMPONENT","550HWMISC","GUARDRAIL HARDWARE","EACH","710.15","0.00000","CERT",{"$f":"IF(ISNA(VLOOKUP(A502,'(1) Project Reference Item List'!$B$2:$B$499,1,FALSE)),\"\",\"Y\")","v":""}]
["606E35001","BR TERM ASSY, TYPE 1, APP","EACH","PRIMARY","550RAIL","RAIL ELEMENT","FT","710.06","25.00000","CERT",{"$f":"IF(ISNA(VLOOKUP(A503,'(1) Project Reference Item List'!$B$2:$B$499,1,FALSE)),\"\",\"Y\")","v":""}]
["606E35001","BR TERM ASSY, TYPE 1, APP","EACH","COMPONENT","550HWMISC","GUARDRAIL HARDWARE","EACH","710.15","1.00000","CERT",{"$f":"IF(ISNA(VLOOKUP(A504,'(1) Project Reference Item List'!$B$2:$B$499,1,FALSE)),\"\",\"Y\")","v":""}]
["606E35001","BR TERM ASSY, TYPE 1, APP","EACH","COMPONENT","550ESECT","GUARDRAIL END SECTION","EACH","710.06","1.00000","CERT",{"$f":"IF(ISNA(VLOOKUP(A505,'(1) Project Reference Item List'!$B$2:$B$499,1,FALSE)),\"\",\"Y\")","v":""}]
["606E35001","BR TERM ASSY, TYPE 1, APP","EACH","COMPONENT","350WPOST","WOODPOST","EACH","710.12-14","6.00000","CERT",{"$f":"IF(ISNA(VLOOKUP(A506,'(1) Project Reference Item List'!$B$2:$B$499,1,FALSE)),\"\",\"Y\")","v":""}]
["606E33600","BR TERM ASSY REBUILT, H","EACH","COMPONENT","350WPOST","WOODPOST","EACH","710.12-14","3.00000","CERT",{"$f":"IF(ISNA(VLOOKUP(A507,'(1) Project Reference Item List'!$B$2:$B$499,1,FALSE)),\"\",\"Y\")","v":""}]
["606E33600","BR TERM ASSY REBUILT, H","EACH","COMPONENT","550SPOST","STEEL POST","EACH","710.15","3.00000","CERT",{"$f":"IF(ISNA(VLOOKUP(A508,'(1) Project Reference Item List'!$B$2:$B$499,1,FALSE)),\"\",\"Y\")","v":""}]
["606E33600","BR TERM ASSY REBUILT, H","EACH","PRIMARY","550RAIL","RAIL ELEMENT","FT","710.06","25.00000","CERT",{"$f":"IF(ISNA(VLOOKUP(A509,'(1) Project Reference Item List'!$B$2:$B$499,1,FALSE)),\"\",\"Y\")","v":""}]
["606E33600","BR TERM ASSY REBUILT, H","EACH","COMPONENT","550HWMISC","GUARDRAIL HARDWARE","EACH","710.15","1.00000","CERT",{"$f":"IF(ISNA(VLOOKUP(A510,'(1) Project Reference Item List'!$B$2:$B$499,1,FALSE)),\"\",\"Y\")","v":""}]
["606E35004","BR TERM ASSY, TYPE 1, BARR DESIGN","EACH","COMPONENT","350WPOST","WOODPOST","EACH","710.12-14","6.00000","CERT",{"$f":"IF(ISNA(VLOOKUP(A511,'(1) Project Reference Item List'!$B$2:$B$499,1,FALSE)),\"\",\"Y\")","v":""}]
["606E35004","BR TERM ASSY, TYPE 1, BARR DESIGN","EACH","COMPONENT","550SPOST","STEEL POST","EACH","710.15","6.00000","CERT",{"$f":"IF(ISNA(VLOOKUP(A512,'(1) Project Reference Item List'!$B$2:$B$499,1,FALSE)),\"\",\"Y\")","v":""}]
["606E35004","BR TERM ASSY, TYPE 1, BARR DESIGN","EACH","PRIMARY","550RAIL","RAIL ELEMENT","FT","710.06","50.00000","CERT",{"$f":"IF(ISNA(VLOOKUP(A513,'(1) Project Reference Item List'!$B$2:$B$499,1,FALSE)),\"\",\"Y\")","v":""}]
["606E35004","BR TERM ASSY, TYPE 1, BARR DESIGN","EACH","COMPONENT","550HWMISC","GUARDRAIL HARDWARE","EACH","710.15","1.00000","CERT",{"$f":"IF(ISNA(VLOOKUP(A514,'(1) Project Reference Item List'!$B$2:$B$499,1,FALSE)),\"\",\"Y\")","v":""}]
["606E32601","BR TERM ASSY REBUILT, F, APP","EACH","COMPONENT","350WPOST","WOODPOST","EACH","710.12-14","3.00000","CERT",{"$f":"IF(ISNA(VLOOKUP(A515,'(1) Project Reference Item List'!$B$2:$B$499,1,FALSE)),\"\",\"Y\")","v":""}]
["606E32601","BR TERM ASSY REBUILT, F, APP","EACH","COMPONENT","550SPOST","STEEL POST","EACH","710.15","3.00000","CERT",{"$f":"IF(ISNA(VLOOKUP(A516,'(1) Project Reference Item List'!$B$2:$B$499,1,FALSE)),\"\",\"Y\")","v":""}]
["606E32601","BR TERM ASSY REBUILT, F, APP","EACH","PRIMARY","550RAIL","RAIL ELEMENT","FT","710.06","12.50000","CERT",{"$f":"IF(ISNA(VLOOKUP(A517,'(1) Project Reference Item List'!$B$2:$B$499,1,FALSE)),\"\",\"Y\")","v":""}]
["606E32601","BR TERM ASSY REBUILT, F, APP","EACH","COMPONENT","550ESECT","GUARDRAIL END SECTION","EACH","710.06","1.00000","CERT",{"$f":"IF(ISNA(VLOOKUP(A518,'(1) Project Reference Item List'!$B$2:$B$499,1,FALSE)),\"\",\"Y\")","v":""}]
["606E34001","BR TERM ASSY, TYPE J, APP","EACH","COMPONENT","350WPOST","WOODPOST","EACH","710.12-14","0.00000","CERT",{"$f":"IF(ISNA(VLOOKUP(A519,'(1) Project Reference Item List'!$B$2:$B$499,1,FALSE)),\"\",\"Y\")","v":""}]
["606E34001","BR TERM ASSY, TYPE J, APP","EACH","COMPONENT","550SPOST","STEEL POST","EACH","710.15","0.00000","CERT",{"$f":"IF(ISNA(VLOOKUP(A520,'(1) Project Reference Item List'!$B$2:$B$499,1,FALSE)),\"\",\"Y\")","v":""}]
["606E34001","BR TERM ASSY, TYPE J, APP","EACH","PRIMARY","550RAIL","RAIL ELEMENT","FT","710.06","0.00000","CERT",{"$f":"IF(ISNA(VLOOKUP(A521,'(1) Project Reference Item List'!$B$2:$B$499,1,FALSE)),\"\",\"Y\")","v":""}]
["606E34001","BR TERM ASSY, TYPE J, APP","EACH","COMPONENT","550HWMISC","GUARDRAIL HARDWARE","EACH","710.15","0.00000","CERT",{"$f":"IF(ISNA(VLOOKUP(A522,'(1) Project Reference Item List'!$B$2:$B$499,1,FALSE)),\"\",\"Y\")","v":""}]
["606E35008","MGS BR TERM ASSMBLY RBLT, T1, BAR DSGN","EACH","PRIMARY","550RAIL","RAIL ELEMENT","FT","710.06","0.00000","CERT",{"$f":"IF(ISNA(VLOOKUP(A523,'(1) Project Reference Item List'!$B$2:$B$499,1,FALSE)),\"\",\"Y\")","v":""}]
["606E35008","MGS BR TERM ASSMBLY RBLT, T1, BAR DSGN","EACH","COMPONENT","550HWMISC","GUARDRAIL HARDWARE","EACH","710.15","0.00000","CERT",{"$f":"IF(ISNA(VLOOKUP(A524,'(1) Project Reference Item List'!$B$2:$B$499,1,FALSE)),\"\",\"Y\")","v":""}]
["606E35008","MGS BR TERM ASSMBLY RBLT, T1, BAR DSGN","EACH","COMPONENT","550ESECT","GUARDRAIL END SECTION","EACH","710.06","0.00000","CERT",{"$f":"IF(ISNA(VLOOKUP(A525,'(1) Project Reference Item List'!$B$2:$B$499,1,FALSE)),\"\",\"Y\")","v":""}]
["606E35008","MGS BR TERM ASSMBLY RBLT, T1, BAR DSGN","EACH","COMPONENT","350WPOST","WOODPOST","EACH","710.12-14","0.00000","CERT",{"$f":"IF(ISNA(VLOOKUP(A526,'(1) Project Reference Item List'!$B$2:$B$499,1,FALSE)),\"\",\"Y\")","v":""}]
["515E12070","PRESTR CONC COMP BM, LV 1, CB27-48","EACH","PRIMARY","280A001","PRESTRESSED CONCRETE MEMBER","EACH","515 SS865","1.00000","CERT",{"$f":"IF(ISNA(VLOOKUP(A527,'(1) Project Reference Item List'!$B$2:$B$499,1,FALSE)),\"\",\"Y\")","v":""}]
["515E12071","PRESTR CONC COMP BM, LV 1, CB27-48, APP","EACH","PRIMARY","280A001","PRESTRESSED CONCRETE MEMBER","EACH","515 SS865","1.00000","CERT",{"$f":"IF(ISNA(VLOOKUP(A528,'(1) Project Reference Item List'!$B$2:$B$499,1,FALSE)),\"\",\"Y\")","v":""}]
["515E12080","PRESTR CONC COMP BM, LV 1, CB33-36","EACH","PRIMARY","280A001","PRESTRESSED CONCRETE MEMBER","EACH","515 SS865","1.00000","CERT",{"$f":"IF(ISNA(VLOOKUP(A529,'(1) Project Reference Item List'!$B$2:$B$499,1,FALSE)),\"\",\"Y\")","v":""}]
["515E12050","PRESTR CONC COMP BM, LV 1, CB21-48","EACH","PRIMARY","280A001","PRESTRESSED CONCRETE MEMBER","EACH","515 SS865","1.00000","CERT",{"$f":"IF(ISNA(VLOOKUP(A530,'(1) Project Reference Item List'!$B$2:$B$499,1,FALSE)),\"\",\"Y\")","v":""}]
["515E14010","STRT PREST CONC I-BM, LV 2, TYPE 3","EACH","PRIMARY","280A001","PRESTRESSED CONCRETE MEMBER","EACH","515 SS865","1.00000","CERT",{"$f":"IF(ISNA(VLOOKUP(A531,'(1) Project Reference Item List'!$B$2:$B$499,1,FALSE)),\"\",\"Y\")","v":""}]
["515E12060","PRESTR CONC COMP BM, LV 1, CB27-36","EACH","PRIMARY","280A001","PRESTRESSED CONCRETE MEMBER","EACH","515 SS865","1.00000","CERT",{"$f":"IF(ISNA(VLOOKUP(A532,'(1) Project Reference Item List'!$B$2:$B$499,1,FALSE)),\"\",\"Y\")","v":""}]
["515E12110","PRESTR CONC COMP BM, LV 1, CB42-48","EACH","PRIMARY","280A001","PRESTRESSED CONCRETE MEMBER","EACH","515 SS865","1.00000","CERT",{"$f":"IF(ISNA(VLOOKUP(A533,'(1) Project Reference Item List'!$B$2:$B$499,1,FALSE)),\"\",\"Y\")","v":""}]
["524E94991","DRILLED SHAFTS, 84\", ABOVE BR, APP","FT","PRIMARY","215QC2","QC 2 CONCRETE - 4500 PSI - WELL GRADED","CY","499","1.42463","JCTL",{"$f":"IF(ISNA(VLOOKUP(A534,'(1) Project Reference Item List'!$B$2:$B$499,1,FALSE)),\"\",\"Y\")","v":""}]
["524E94991","DRILLED SHAFTS, 84\", ABOVE BR, APP","FT","PRIMARY","215QC4","QC 4 CONCRETE - MASS - WELL GRADED","CY","499","0.06542","JCTL",{"$f":"IF(ISNA(VLOOKUP(A535,'(1) Project Reference Item List'!$B$2:$B$499,1,FALSE)),\"\",\"Y\")","v":""}]
["524E94991","DRILLED SHAFTS, 84\", ABOVE BR, APP","FT","PRIMARY","215QC5","QC 5  CONCRETE-4000-4500 PSI_3/8' -1\"AGG","CY","499","0.06542","JCTL",{"$f":"IF(ISNA(VLOOKUP(A536,'(1) Project Reference Item List'!$B$2:$B$499,1,FALSE)),\"\",\"Y\")","v":""}]
["524E94996","DRILLED SHAFTS, 96\", ABOVE BR","FT","PRIMARY","215QC2","QC 2 CONCRETE - 4500 PSI - WELL GRADED","CY","499","1.86074","JCTL",{"$f":"IF(ISNA(VLOOKUP(A537,'(1) Project Reference Item List'!$B$2:$B$499,1,FALSE)),\"\",\"Y\")","v":""}]
["524E94996","DRILLED SHAFTS, 96\", ABOVE BR","FT","PRIMARY","215QC4","QC 4 CONCRETE - MASS - WELL GRADED","CY","499","0.06542","JCTL",{"$f":"IF(ISNA(VLOOKUP(A538,'(1) Project Reference Item List'!$B$2:$B$499,1,FALSE)),\"\",\"Y\")","v":""}]
["524E94996","DRILLED SHAFTS, 96\", ABOVE BR","FT","PRIMARY","215QC5","QC 5  CONCRETE-4000-4500 PSI_3/8' -1\"AGG","CY","499","0.06542","JCTL",{"$f":"IF(ISNA(VLOOKUP(A539,'(1) Project Reference Item List'!$B$2:$B$499,1,FALSE)),\"\",\"Y\")","v":""}]
["524E94998","DRILLED SHAFTS, 96\", INTO BR","FT","PRIMARY","215QC5","QC 5  CONCRETE-4000-4500 PSI_3/8' -1\"AGG","CY","499","0.06542","JCTL",{"$f":"IF(ISNA(VLOOKUP(A540,'(1) Project Reference Item List'!$B$2:$B$499,1,FALSE)),\"\",\"Y\")","v":""}]
["524E94998","DRILLED SHAFTS, 96\", INTO BR","FT","COMPONENT","62560","REINFORCING, EPOXY COATED GRADE 60","LB","709.00","0.00000","CERT",{"$f":"IF(ISNA(VLOOKUP(A541,'(1) Project Reference Item List'!$B$2:$B$499,1,FALSE)),\"\",\"Y\")","v":""}]
["524E94998","DRILLED SHAFTS, 96\", INTO BR","FT","PRIMARY","215QC2","QC 2 CONCRETE - 4500 PSI - WELL GRADED","CY","499","1.86074","JCTL",{"$f":"IF(ISNA(VLOOKUP(A542,'(1) Project Reference Item List'!$B$2:$B$499,1,FALSE)),\"\",\"Y\")","v":""}]
["524E95200","DRILLED SHAFTS, MISC.","LS","COMPONENT","62560","REINFORCING, EPOXY COATED GRADE 60","LB","709.00","0.00000","CERT",{"$f":"IF(ISNA(VLOOKUP(A543,'(1) Project Reference Item List'!$B$2:$B$499,1,FALSE)),\"\",\"Y\")","v":""}]
["524E95200","DRILLED SHAFTS, MISC.","LS","PRIMARY","215QC2","QC 2 CONCRETE - 4500 PSI - WELL GRADED","CY","499","0.00000","JCTL",{"$f":"IF(ISNA(VLOOKUP(A544,'(1) Project Reference Item List'!$B$2:$B$499,1,FALSE)),\"\",\"Y\")","v":""}]
["524E95200","DRILLED SHAFTS, MISC.","LS","PRIMARY","215QC4","QC 4 CONCRETE - MASS - WELL GRADED","CY","499","0.06542","JCTL",{"$f":"IF(ISNA(VLOOKUP(A545,'(1) Project Reference Item List'!$B$2:$B$499,1,FALSE)),\"\",\"Y\")","v":""}]
["524E95300","DRILLED SHAFTS, MISC.","LB","PRIMARY","215QC2","QC 2 CONCRETE - 4500 PSI - WELL GRADED","CY","499","0.00000","JCTL",{"$f":"IF(ISNA(VLOOKUP(A546,'(1) Project Reference Item List'!$B$2:$B$499,1,FALSE)),\"\",\"Y\")","v":""}]
["524E95300","DRILLED SHAFTS, MISC.","LB","PRIMARY","215QC4","QC 4 CONCRETE - MASS - WELL GRADED","CY","499","0.06542","JCTL",{"$f":"IF(ISNA(VLOOKUP(A547,'(1) Project Reference Item List'!$B$2:$B$499,1,FALSE)),\"\",\"Y\")","v":""}]
["524E95300","DRILLED SHAFTS, MISC.","LB","PRIMARY","215QC5","QC 5  CONCRETE-4000-4500 PSI_3/8' -1\"AGG","CY","499","0.06542","JCTL",{"$f":"IF(ISNA(VLOOKUP(A548,'(1) Project Reference Item List'!$B$2:$B$499,1,FALSE)),\"\",\"Y\")","v":""}]
["524E95410","DRILLED SHAFTS, 24\", QC/QA","FT","PRIMARY","215QC4","QC 4 CONCRETE - MASS - WELL GRADED","CY","499","0.02909","JCTL",{"$f":"IF(ISNA(VLOOKUP(A549,'(1) Project Reference Item List'!$B$2:$B$499,1,FALSE)),\"\",\"Y\")","v":""}]
["524E95410","DRILLED SHAFTS, 24\", QC/QA","FT","PRIMARY","62660","REINFORCING, UNCOATED GRADE 60","LB","709.01","0.02909","CERT",{"$f":"IF(ISNA(VLOOKUP(A550,'(1) Project Reference Item List'!$B$2:$B$499,1,FALSE)),\"\",\"Y\")","v":""}]
["524E95412","DRILLED SHAFTS, 24\", ABOVE BR, QC/QA","FT","PRIMARY","215QC4","QC 4 CONCRETE - MASS - WELL GRADED","CY","499","0.02909","JCTL",{"$f":"IF(ISNA(VLOOKUP(A551,'(1) Project Reference Item List'!$B$2:$B$499,1,FALSE)),\"\",\"Y\")","v":""}]
["524E95412","DRILLED SHAFTS, 24\", ABOVE BR, QC/QA","FT","PRIMARY","62660","REINFORCING, UNCOATED GRADE 60","LB","709.01","0.02909","CERT",{"$f":"IF(ISNA(VLOOKUP(A552,'(1) Project Reference Item List'!$B$2:$B$499,1,FALSE)),\"\",\"Y\")","v":""}]
["524E95422","DRILLED SHAFTS, 30\", ABOVE BR, QC/QA","FT","PRIMARY","215QC4","QC 4 CONCRETE - MASS - WELL GRADED","CY","499","0.02909","JCTL",{"$f":"IF(ISNA(VLOOKUP(A553,'(1) Project Reference Item List'!$B$2:$B$499,1,FALSE)),\"\",\"Y\")","v":""}]
["524E95422","DRILLED SHAFTS, 30\", ABOVE BR, QC/QA","FT","PRIMARY","62660","REINFORCING, UNCOATED GRADE 60","LB","709.01","0.02909","CERT",{"$f":"IF(ISNA(VLOOKUP(A554,'(1) Project Reference Item List'!$B$2:$B$499,1,FALSE)),\"\",\"Y\")","v":""}]
["524E95432","DRILLED SHAFTS, 36\", ABOVE BR, QC/QA","FT","PRIMARY","215QC4","QC 4 CONCRETE - MASS - WELL GRADED","CY","499","0.02909","JCTL",{"$f":"IF(ISNA(VLOOKUP(A555,'(1) Project Reference Item List'!$B$2:$B$499,1,FALSE)),\"\",\"Y\")","v":""}]
["524E95432","DRILLED SHAFTS, 36\", ABOVE BR, QC/QA","FT","PRIMARY","62660","REINFORCING, UNCOATED GRADE 60","LB","709.01","0.02909","CERT",{"$f":"IF(ISNA(VLOOKUP(A556,'(1) Project Reference Item List'!$B$2:$B$499,1,FALSE)),\"\",\"Y\")","v":""}]
["605E13300","6\" UNCL PIPE UD","FT","SUBSTITUTE","476CL2","CERT PERF NON-REINFORCED CONC PIPE CL2","FT","706.06 S10","1.00000","CERT",{"$f":"IF(ISNA(VLOOKUP(A557,'(1) Project Reference Item List'!$B$2:$B$499,1,FALSE)),\"\",\"Y\")","v":""}]
["605E13300","6\" UNCL PIPE UD","FT","SUBSTITUTE","476CL1","CERT PERF NON-REINFORCED CONC PIPE CL1","FT","706.061074","1.00000","CERT",{"$f":"IF(ISNA(VLOOKUP(A558,'(1) Project Reference Item List'!$B$2:$B$499,1,FALSE)),\"\",\"Y\")","v":""}]
["605E13300","6\" UNCL PIPE UD","FT","SUBSTITUTE","4513","METALLIC COATED CMP PERF PIPE 707.01","FT","707.01","1.00000","CERT",{"$f":"IF(ISNA(VLOOKUP(A559,'(1) Project Reference Item List'!$B$2:$B$499,1,FALSE)),\"\",\"Y\")","v":""}]
["605E13300","6\" UNCL PIPE UD","FT","SUBSTITUTE","076008","8 ACBF SLAG (703)","TON","703","0.00000","CERT",{"$f":"IF(ISNA(VLOOKUP(A560,'(1) Project Reference Item List'!$B$2:$B$499,1,FALSE)),\"\",\"Y\")","v":""}]
["605E13300","6\" UNCL PIPE UD","FT","COMPONENT","075008","8 CRUSHED STONE (703)","TON","703","0.00000","CERT",{"$f":"IF(ISNA(VLOOKUP(A561,'(1) Project Reference Item List'!$B$2:$B$499,1,FALSE)),\"\",\"Y\")","v":""}]
["605E13300","6\" UNCL PIPE UD","FT","SUBSTITUTE","074008","8 CRUSHED GRAVEL (703)","TON","703","0.00000","CERT",{"$f":"IF(ISNA(VLOOKUP(A562,'(1) Project Reference Item List'!$B$2:$B$499,1,FALSE)),\"\",\"Y\")","v":""}]
["605E13300","6\" UNCL PIPE UD","FT","COMPONENT","073008","8 GRAVEL 703","TON","703","0.00000","CERT",{"$f":"IF(ISNA(VLOOKUP(A563,'(1) Project Reference Item List'!$B$2:$B$499,1,FALSE)),\"\",\"Y\")","v":""}]
["605E13300","6\" UNCL PIPE UD","FT","SUBSTITUTE","5213","ALUMINUM PIPE PERF 707.21","FT","707.21","1.00000","CERT",{"$f":"IF(ISNA(VLOOKUP(A564,'(1) Project Reference Item List'!$B$2:$B$499,1,FALSE)),\"\",\"Y\")","v":""}]
["605E13300","6\" UNCL PIPE UD","FT","SUBSTITUTE","509EQ","CLAY DRAIN TILE EXTRA QUALITY","FT","706.09","1.00000","QPL",{"$f":"IF(ISNA(VLOOKUP(A565,'(1) Project Reference Item List'!$B$2:$B$499,1,FALSE)),\"\",\"Y\")","v":""}]
["605E13300","6\" UNCL PIPE UD","FT","SUBSTITUTE","508SS","VCP STANDARD STRENGTH","FT","706.08","1.00000","QPL",{"$f":"IF(ISNA(VLOOKUP(A566,'(1) Project Reference Item List'!$B$2:$B$499,1,FALSE)),\"\",\"Y\")","v":""}]
["605E13300","6\" UNCL PIPE UD","FT","SUBSTITUTE","49770741","PVC SMOOTH WALL UNDERDRAIN PIPE","FT","707.41","1.00000","QPL",{"$f":"IF(ISNA(VLOOKUP(A567,'(1) Project Reference Item List'!$B$2:$B$499,1,FALSE)),\"\",\"Y\")","v":""}]
["605E13300","6\" UNCL PIPE UD","FT","SUBSTITUTE","495P31PS","PE CORR SMOOTH INT PERF M252 SP PIPE","FT","707.31","1.00000","CERT",{"$f":"IF(ISNA(VLOOKUP(A568,'(1) Project Reference Item List'!$B$2:$B$499,1,FALSE)),\"\",\"Y\")","v":""}]
["605E13300","6\" UNCL PIPE UD","FT","PRIMARY","495P31P","PE CORR PERFORATED M252 CP PIPE","FT","707.31","1.00000","CERT",{"$f":"IF(ISNA(VLOOKUP(A569,'(1) Project Reference Item List'!$B$2:$B$499,1,FALSE)),\"\",\"Y\")","v":""}]
["605E13300","6\" UNCL PIPE UD","FT","SUBSTITUTE","4870000","CERT CONC DRAIN TILE EX QUALITY","FT","706.07 S10","1.00000","CERT",{"$f":"IF(ISNA(VLOOKUP(A570,'(1) Project Reference Item List'!$B$2:$B$499,1,FALSE)),\"\",\"Y\")","v":""}]
["605E13500","6\" ROCK CUT UD","FT","SUBSTITUTE","074008","8 CRUSHED GRAVEL (703)","TON","703","0.00000","CERT",{"$f":"IF(ISNA(VLOOKUP(A571,'(1) Project Reference Item List'!$B$2:$B$499,1,FALSE)),\"\",\"Y\")","v":""}]
["605E13500","6\" ROCK CUT UD","FT","COMPONENT","073008","8 GRAVEL 703","TON","703","0.00000","CERT",{"$f":"IF(ISNA(VLOOKUP(A572,'(1) Project Reference Item List'!$B$2:$B$499,1,FALSE)),\"\",\"Y\")","v":""}]
["605E13500","6\" ROCK CUT UD","FT","SUBSTITUTE","49970745","PVC SOLID WALL SANITARY SEWER PIPE","FT","707.45","1.00000","QPL",{"$f":"IF(ISNA(VLOOKUP(A573,'(1) Project Reference Item List'!$B$2:$B$499,1,FALSE)),\"\",\"Y\")","v":""}]
["605E13500","6\" ROCK CUT UD","FT","SUBSTITUTE","49770741","PVC SMOOTH WALL UNDERDRAIN PIPE","FT","707.41","1.00000","QPL",{"$f":"IF(ISNA(VLOOKUP(A574,'(1) Project Reference Item List'!$B$2:$B$499,1,FALSE)),\"\",\"Y\")","v":""}]
["605E13500","6\" ROCK CUT UD","FT","PRIMARY","495P31P","PE CORR PERFORATED M252 CP PIPE","FT","707.31","1.00000","CERT",{"$f":"IF(ISNA(VLOOKUP(A575,'(1) Project Reference Item List'!$B$2:$B$499,1,FALSE)),\"\",\"Y\")","v":""}]
["605E13500","6\" ROCK CUT UD","FT","SUBSTITUTE","49170742","PVC CORRUGATED SANITARY SEWER PIPE","FT","707.42","1.00000","QPL",{"$f":"IF(ISNA(VLOOKUP(A576,'(1) Project Reference Item List'!$B$2:$B$499,1,FALSE)),\"\",\"Y\")","v":""}]
["605E13500","6\" ROCK CUT UD","FT","SUBSTITUTE","076008","8 ACBF SLAG (703)","TON","703","0.00000","CERT",{"$f":"IF(ISNA(VLOOKUP(A577,'(1) Project Reference Item List'!$B$2:$B$499,1,FALSE)),\"\",\"Y\")","v":""}]
["605E31100","AGGREGATE DRAINS","FT","PRIMARY","073008","8 GRAVEL 703","TON","703","0.03209","CERT",{"$f":"IF(ISNA(VLOOKUP(A578,'(1) Project Reference Item List'!$B$2:$B$499,1,FALSE)),\"\",\"Y\")","v":""}]
["605E31100","AGGREGATE DRAINS","FT","SUBSTITUTE","076008","8 ACBF SLAG (703)","TON","703","0.02469","CERT",{"$f":"IF(ISNA(VLOOKUP(A579,'(1) Project Reference Item List'!$B$2:$B$499,1,FALSE)),\"\",\"Y\")","v":""}]
["605E31100","AGGREGATE DRAINS","FT","SUBSTITUTE","075009","9 CRUSHED STONE (703)","TON","703","0.02963","CERT",{"$f":"IF(ISNA(VLOOKUP(A580,'(1) Project Reference Item List'!$B$2:$B$499,1,FALSE)),\"\",\"Y\")","v":""}]
["605E31100","AGGREGATE DRAINS","FT","PRIMARY","075008","8 CRUSHED STONE (703)","TON","703","0.02963","CERT",{"$f":"IF(ISNA(VLOOKUP(A581,'(1) Project Reference Item List'!$B$2:$B$499,1,FALSE)),\"\",\"Y\")","v":""}]
["605E31100","AGGREGATE DRAINS","FT","SUBSTITUTE","074008","8 CRUSHED GRAVEL (703)","TON","703","0.03209","CERT",{"$f":"IF(ISNA(VLOOKUP(A582,'(1) Project Reference Item List'!$B$2:$B$499,1,FALSE)),\"\",\"Y\")","v":""}]
["606E35110","BR TERM ASSY REBUILT, TYPE 2","EACH","COMPONENT","550HWMISC","GUARDRAIL HARDWARE","EACH","710.15","1.00000","CERT",{"$f":"IF(ISNA(VLOOKUP(A583,'(1) Project Reference Item List'!$B$2:$B$499,1,FALSE)),\"\",\"Y\")","v":""}]
["606E35141","BRIDGE TERM ASSY, TYPE 4, APP","EACH","COMPONENT","350WPOST","WOODPOST","EACH","710.12-14","7.00000","CERT",{"$f":"IF(ISNA(VLOOKUP(A584,'(1) Project Reference Item List'!$B$2:$B$499,1,FALSE)),\"\",\"Y\")","v":""}]
["606E35141","BRIDGE TERM ASSY, TYPE 4, APP","EACH","COMPONENT","550SPOST","STEEL POST","EACH","710.15","1.00000","CERT",{"$f":"IF(ISNA(VLOOKUP(A585,'(1) Project Reference Item List'!$B$2:$B$499,1,FALSE)),\"\",\"Y\")","v":""}]
["606E35141","BRIDGE TERM ASSY, TYPE 4, APP","EACH","PRIMARY","550RAIL","RAIL ELEMENT","FT","710.06","12.50000","CERT",{"$f":"IF(ISNA(VLOOKUP(A586,'(1) Project Reference Item List'!$B$2:$B$499,1,FALSE)),\"\",\"Y\")","v":""}]
["606E40000","36\" CONCRETE ANCHOR","EACH","PRIMARY","215QCMISC","QC MISCELLANEOUS 4000 PSI","CY","499","0.00000","JCTL",{"$f":"IF(ISNA(VLOOKUP(A587,'(1) Project Reference Item List'!$B$2:$B$499,1,FALSE)),\"\",\"Y\")","v":""}]
["606E40000","36\" CONCRETE ANCHOR","EACH","COMPONENT","62709","REINFORCING, WELDED REBAR AND ROD MATS","SF","709.10","0.00000","CERT",{"$f":"IF(ISNA(VLOOKUP(A588,'(1) Project Reference Item List'!$B$2:$B$499,1,FALSE)),\"\",\"Y\")","v":""}]
["606E40000","36\" CONCRETE ANCHOR","EACH","COMPONENT","62660","REINFORCING, UNCOATED GRADE 60","LB","709.01","0.00000","CERT",{"$f":"IF(ISNA(VLOOKUP(A589,'(1) Project Reference Item List'!$B$2:$B$499,1,FALSE)),\"\",\"Y\")","v":""}]
["606E40000","36\" CONCRETE ANCHOR","EACH","COMPONENT","62560","REINFORCING, EPOXY COATED GRADE 60","LB","709.00","0.00000","CERT",{"$f":"IF(ISNA(VLOOKUP(A590,'(1) Project Reference Item List'!$B$2:$B$499,1,FALSE)),\"\",\"Y\")","v":""}]
["606E35150","BR TERM ASSY REBUILT, TYPE 4","EACH","COMPONENT","550SPOST","STEEL POST","EACH","710.15","7.00000","CERT",{"$f":"IF(ISNA(VLOOKUP(A591,'(1) Project Reference Item List'!$B$2:$B$499,1,FALSE)),\"\",\"Y\")","v":""}]
["606E35150","BR TERM ASSY REBUILT, TYPE 4","EACH","PRIMARY","550RAIL","RAIL ELEMENT","FT","710.06","12.50000","CERT",{"$f":"IF(ISNA(VLOOKUP(A592,'(1) Project Reference Item List'!$B$2:$B$499,1,FALSE)),\"\",\"Y\")","v":""}]
["606E35150","BR TERM ASSY REBUILT, TYPE 4","EACH","COMPONENT","550HWMISC","GUARDRAIL HARDWARE","EACH","710.15","1.00000","CERT",{"$f":"IF(ISNA(VLOOKUP(A593,'(1) Project Reference Item List'!$B$2:$B$499,1,FALSE)),\"\",\"Y\")","v":""}]
["606E55100","CABLE BARRIER, CONC LINE POST FNDTN","EACH","PRIMARY","681MISC","MISC HARDWARE/TENSION CABLE GR","EACH","SPECIAL","0.00000","JCTL",{"$f":"IF(ISNA(VLOOKUP(A594,'(1) Project Reference Item List'!$B$2:$B$499,1,FALSE)),\"\",\"Y\")","v":""}]
["606E55100","CABLE BARRIER, CONC LINE POST FNDTN","EACH","PRIMARY","681TCAT","TENSION CABLE ANCHOR TERMINAL","EACH","SPECIAL","0.00000","JCTL",{"$f":"IF(ISNA(VLOOKUP(A595,'(1) Project Reference Item List'!$B$2:$B$499,1,FALSE)),\"\",\"Y\")","v":""}]
["606E35120","BR TERM ASSY, TYPE 3","EACH","COMPONENT","350WPOST","WOODPOST","EACH","710.12-14","6.00000","CERT",{"$f":"IF(ISNA(VLOOKUP(A596,'(1) Project Reference Item List'!$B$2:$B$499,1,FALSE)),\"\",\"Y\")","v":""}]
["606E35120","BR TERM ASSY, TYPE 3","EACH","COMPONENT","550SPOST","STEEL POST","EACH","710.15","6.00000","CERT",{"$f":"IF(ISNA(VLOOKUP(A597,'(1) Project Reference Item List'!$B$2:$B$499,1,FALSE)),\"\",\"Y\")","v":""}]
["606E35120","BR TERM ASSY, TYPE 3","EACH","PRIMARY","550RAIL","RAIL ELEMENT","FT","710.06","25.00000","CERT",{"$f":"IF(ISNA(VLOOKUP(A598,'(1) Project Reference Item List'!$B$2:$B$499,1,FALSE)),\"\",\"Y\")","v":""}]
["606E35120","BR TERM ASSY, TYPE 3","EACH","COMPONENT","550HWMISC","GUARDRAIL HARDWARE","EACH","710.15","1.00000","CERT",{"$f":"IF(ISNA(VLOOKUP(A599,'(1) Project Reference Item List'!$B$2:$B$499,1,FALSE)),\"\",\"Y\")","v":""}]
["606E35101","BR TERM ASSY, TYPE 2, APP","EACH","PRIMARY","550ESECT","GUARDRAIL END SECTION","EACH","710.06","1.00000","CERT",{"$f":"IF(ISNA(VLOOKUP(A600,'(1) Project Reference Item List'!$B$2:$B$499,1,FALSE)),\"\",\"Y\")","v":""}]
["606E35102","MGS BRIDGE TERM ASSEMBLY, TYPE 2","EACH","COMPONENT","550HWMISC","GUARDRAIL HARDWARE","EACH","710.15","1.00000","CERT",{"$f":"IF(ISNA(VLOOKUP(A601,'(1) Project Reference Item List'!$B$2:$B$499,1,FALSE)),\"\",\"Y\")","v":""}]
["606E35121","BRIDGE TERMINAL ASSMEBLY, T3, APP","EACH","COMPONENT","550HWMISC","GUARDRAIL HARDWARE","EACH","710.15","1.00000","CERT",{"$f":"IF(ISNA(VLOOKUP(A602,'(1) Project Reference Item List'!$B$2:$B$499,1,FALSE)),\"\",\"Y\")","v":""}]
["606E35121","BRIDGE TERMINAL ASSMEBLY, T3, APP","EACH","COMPONENT","550ESECT","GUARDRAIL END SECTION","EACH","710.06","1.00000","CERT",{"$f":"IF(ISNA(VLOOKUP(A603,'(1) Project Reference Item List'!$B$2:$B$499,1,FALSE)),\"\",\"Y\")","v":""}]
["606E35121","BRIDGE TERMINAL ASSMEBLY, T3, APP","EACH","COMPONENT","350WPOST","WOODPOST","EACH","710.12-14","6.00000","CERT",{"$f":"IF(ISNA(VLOOKUP(A604,'(1) Project Reference Item List'!$B$2:$B$499,1,FALSE)),\"\",\"Y\")","v":""}]
["606E35121","BRIDGE TERMINAL ASSMEBLY, T3, APP","EACH","COMPONENT","550SPOST","STEEL POST","EACH","710.15","6.00000","CERT",{"$f":"IF(ISNA(VLOOKUP(A605,'(1) Project Reference Item List'!$B$2:$B$499,1,FALSE)),\"\",\"Y\")","v":""}]
["606E35171","BR TERM ASSY, TYPE BR-1, APP","EACH","COMPONENT","350WPOST","WOODPOST","EACH","710.12-14","6.00000","CERT",{"$f":"IF(ISNA(VLOOKUP(A606,'(1) Project Reference Item List'!$B$2:$B$499,1,FALSE)),\"\",\"Y\")","v":""}]
["606E35171","BR TERM ASSY, TYPE BR-1, APP","EACH","COMPONENT","550SPOST","STEEL POST","EACH","710.15","6.00000","CERT",{"$f":"IF(ISNA(VLOOKUP(A607,'(1) Project Reference Item List'!$B$2:$B$499,1,FALSE)),\"\",\"Y\")","v":""}]
["606E35171","BR TERM ASSY, TYPE BR-1, APP","EACH","PRIMARY","550RAIL","RAIL ELEMENT","FT","710.06","250.00000","CERT",{"$f":"IF(ISNA(VLOOKUP(A608,'(1) Project Reference Item List'!$B$2:$B$499,1,FALSE)),\"\",\"Y\")","v":""}]
["606E35171","BR TERM ASSY, TYPE BR-1, APP","EACH","COMPONENT","550HWMISC","GUARDRAIL HARDWARE","EACH","710.15","1.00000","CERT",{"$f":"IF(ISNA(VLOOKUP(A609,'(1) Project Reference Item List'!$B$2:$B$499,1,FALSE)),\"\",\"Y\")","v":""}]
["606E35103","MGS BRIDGE TERM ASSEMBLY, TYPE 2, APP","EACH","PRIMARY","550ESECT","GUARDRAIL END SECTION","EACH","710.06","1.00000","CERT",{"$f":"IF(ISNA(VLOOKUP(A610,'(1) Project Reference Item List'!$B$2:$B$499,1,FALSE)),\"\",\"Y\")","v":""}]
["515E15020","DRAPED PREST CONC I-BM, LV 3, TYPE 4","EACH","COMPONENT","42701","NON-SHRINK GROUT FOR PRESTRESS 705.22","LB","705.22","0.00000","APPR",{"$f":"IF(ISNA(VLOOKUP(A611,'(1) Project Reference Item List'!$B$2:$B$499,1,FALSE)),\"\",\"Y\")","v":""}]
["515E14070","STRT PREST CONC I-BM, LV 2, TYPE WF36-49","EACH","PRIMARY","280A001","PRESTRESSED CONCRETE MEMBER","EACH","515 SS865","0.00000","CERT",{"$f":"IF(ISNA(VLOOKUP(A612,'(1) Project Reference Item List'!$B$2:$B$499,1,FALSE)),\"\",\"Y\")","v":""}]
["515E14080","STRT PREST CONC I-BM, LV 2, TYPE WF42-49","EACH","PRIMARY","280A001","PRESTRESSED CONCRETE MEMBER","EACH","515 SS865","1.00000","CERT",{"$f":"IF(ISNA(VLOOKUP(A613,'(1) Project Reference Item List'!$B$2:$B$499,1,FALSE)),\"\",\"Y\")","v":""}]
["515E14090","STRT PREST CONC I-BM, LV 2, TYPE WF48-49","EACH","PRIMARY","280A001","PRESTRESSED CONCRETE MEMBER","EACH","515 SS865","0.00000","CERT",{"$f":"IF(ISNA(VLOOKUP(A614,'(1) Project Reference Item List'!$B$2:$B$499,1,FALSE)),\"\",\"Y\")","v":""}]
["515E14100","STRT PREST CONC I-BM, LV 2, TYPE WF54-49","EACH","PRIMARY","280A001","PRESTRESSED CONCRETE MEMBER","EACH","515 SS865","1.00000","CERT",{"$f":"IF(ISNA(VLOOKUP(A615,'(1) Project Reference Item List'!$B$2:$B$499,1,FALSE)),\"\",\"Y\")","v":""}]
["515E15041","DRAPED PREST CONC I-BM, LV 3, TYPE 4 (66","EACH","COMPONENT","42701","NON-SHRINK GROUT FOR PRESTRESS 705.22","LB","705.22","0.00000","CERT",{"$f":"IF(ISNA(VLOOKUP(A616,'(1) Project Reference Item List'!$B$2:$B$499,1,FALSE)),\"\",\"Y\")","v":""}]
["515E15050","DRAPED PREST CONC I-BM, LV 3, TYPE 4 (72","EACH","PRIMARY","280A001","PRESTRESSED CONCRETE MEMBER","EACH","515 SS865","1.00000","CERT",{"$f":"IF(ISNA(VLOOKUP(A617,'(1) Project Reference Item List'!$B$2:$B$499,1,FALSE)),\"\",\"Y\")","v":""}]
["524E95454","DRILLED SHAFTS, 48\", INTO BR, QC/QA","FT","PRIMARY","215QC4","QC 4 CONCRETE - MASS - WELL GRADED","CY","499","0.02909","JCTL",{"$f":"IF(ISNA(VLOOKUP(A618,'(1) Project Reference Item List'!$B$2:$B$499,1,FALSE)),\"\",\"Y\")","v":""}]
["524E95454","DRILLED SHAFTS, 48\", INTO BR, QC/QA","FT","PRIMARY","62660","REINFORCING, UNCOATED GRADE 60","LB","709.01","0.02909","CERT",{"$f":"IF(ISNA(VLOOKUP(A619,'(1) Project Reference Item List'!$B$2:$B$499,1,FALSE)),\"\",\"Y\")","v":""}]
["524E95464","DRILLED SHAFTS, 54\", INTO BR, QC/QA","FT","PRIMARY","215QC4","QC 4 CONCRETE - MASS - WELL GRADED","CY","499","0.02909","JCTL",{"$f":"IF(ISNA(VLOOKUP(A620,'(1) Project Reference Item List'!$B$2:$B$499,1,FALSE)),\"\",\"Y\")","v":""}]
["524E95464","DRILLED SHAFTS, 54\", INTO BR, QC/QA","FT","PRIMARY","62660","REINFORCING, UNCOATED GRADE 60","LB","709.01","0.02909","CERT",{"$f":"IF(ISNA(VLOOKUP(A621,'(1) Project Reference Item List'!$B$2:$B$499,1,FALSE)),\"\",\"Y\")","v":""}]
["524E95474","DRILLED SHAFTS, 60\", INTO BR, QC/QA","FT","PRIMARY","215QC4","QC 4 CONCRETE - MASS - WELL GRADED","CY","499","0.02909","JCTL",{"$f":"IF(ISNA(VLOOKUP(A622,'(1) Project Reference Item List'!$B$2:$B$499,1,FALSE)),\"\",\"Y\")","v":""}]
["524E95474","DRILLED SHAFTS, 60\", INTO BR, QC/QA","FT","PRIMARY","62660","REINFORCING, UNCOATED GRADE 60","LB","709.01","0.02909","CERT",{"$f":"IF(ISNA(VLOOKUP(A623,'(1) Project Reference Item List'!$B$2:$B$499,1,FALSE)),\"\",\"Y\")","v":""}]
["524E95490","DRILLED SHAFTS, 72\", QC/QA","FT","PRIMARY","215QC4","QC 4 CONCRETE - MASS - WELL GRADED","CY","499","0.02909","JCTL",{"$f":"IF(ISNA(VLOOKUP(A624,'(1) Project Reference Item List'!$B$2:$B$499,1,FALSE)),\"\",\"Y\")","v":""}]
["524E95490","DRILLED SHAFTS, 72\", QC/QA","FT","PRIMARY","62660","REINFORCING, UNCOATED GRADE 60","LB","709.01","0.02909","CERT",{"$f":"IF(ISNA(VLOOKUP(A625,'(1) Project Reference Item List'!$B$2:$B$499,1,FALSE)),\"\",\"Y\")","v":""}]
["524E95494","DRILLED SHAFTS, 72\", INTO BR, QC/QA","FT","PRIMARY","215QC4","QC 4 CONCRETE - MASS - WELL GRADED","CY","499","0.02909","JCTL",{"$f":"IF(ISNA(VLOOKUP(A626,'(1) Project Reference Item List'!$B$2:$B$499,1,FALSE)),\"\",\"Y\")","v":""}]
["524E95494","DRILLED SHAFTS, 72\", INTO BR, QC/QA","FT","PRIMARY","62660","REINFORCING, UNCOATED GRADE 60","LB","709.01","0.02909","CERT",{"$f":"IF(ISNA(VLOOKUP(A627,'(1) Project Reference Item List'!$B$2:$B$499,1,FALSE)),\"\",\"Y\")","v":""}]
["524E95510","DRILLED SHAFTS, 84\", QC/QA","FT","PRIMARY","62660","REINFORCING, UNCOATED GRADE 60","LB","709.01","0.02909","CERT",{"$f":"IF(ISNA(VLOOKUP(A628,'(1) Project Reference Item List'!$B$2:$B$499,1,FALSE)),\"\",\"Y\")","v":""}]
["524E95510","DRILLED SHAFTS, 84\", QC/QA","FT","PRIMARY","215QC5","QC 5  CONCRETE-4000-4500 PSI_3/8' -1\"AGG","CY","499","0.02909","JCTL",{"$f":"IF(ISNA(VLOOKUP(A629,'(1) Project Reference Item List'!$B$2:$B$499,1,FALSE)),\"\",\"Y\")","v":""}]
["606E12501","GUARDRAIL, TYPE 4, APP","FT","COMPONENT","550SPOST","STEEL POST","EACH","710.15","0.00000","CERT",{"$f":"IF(ISNA(VLOOKUP(A630,'(1) Project Reference Item List'!$B$2:$B$499,1,FALSE)),\"\",\"Y\")","v":""}]
["606E12501","GUARDRAIL, TYPE 4, APP","FT","PRIMARY","550RAIL","RAIL ELEMENT","FT","710.06","0.00000","CERT",{"$f":"IF(ISNA(VLOOKUP(A631,'(1) Project Reference Item List'!$B$2:$B$499,1,FALSE)),\"\",\"Y\")","v":""}]
["606E13000","GUARDRAIL, TYPE 5","FT","COMPONENT","350WPOST","WOODPOST","EACH","710.12-14","0.16000","CERT",{"$f":"IF(ISNA(VLOOKUP(A632,'(1) Project Reference Item List'!$B$2:$B$499,1,FALSE)),\"\",\"Y\")","v":""}]
["606E13000","GUARDRAIL, TYPE 5","FT","COMPONENT","550SPOST","STEEL POST","EACH","710.15","0.16000","CERT",{"$f":"IF(ISNA(VLOOKUP(A633,'(1) Project Reference Item List'!$B$2:$B$499,1,FALSE)),\"\",\"Y\")","v":""}]
["606E13000","GUARDRAIL, TYPE 5","FT","PRIMARY","550RAIL","RAIL ELEMENT","FT","710.06","1.00000","CERT",{"$f":"IF(ISNA(VLOOKUP(A634,'(1) Project Reference Item List'!$B$2:$B$499,1,FALSE)),\"\",\"Y\")","v":""}]
["606E13030","GUARDRAIL, TYPE 5, USING 9' POSTS","FT","COMPONENT","350WPOST","WOODPOST","EACH","710.12-14","0.16000","CERT",{"$f":"IF(ISNA(VLOOKUP(A635,'(1) Project Reference Item List'!$B$2:$B$499,1,FALSE)),\"\",\"Y\")","v":""}]
["606E13030","GUARDRAIL, TYPE 5, USING 9' POSTS","FT","COMPONENT","550SPOST","STEEL POST","EACH","710.15","0.16000","CERT",{"$f":"IF(ISNA(VLOOKUP(A636,'(1) Project Reference Item List'!$B$2:$B$499,1,FALSE)),\"\",\"Y\")","v":""}]
["606E13030","GUARDRAIL, TYPE 5, USING 9' POSTS","FT","PRIMARY","550RAIL","RAIL ELEMENT","FT","710.06","1.00000","CERT",{"$f":"IF(ISNA(VLOOKUP(A637,'(1) Project Reference Item List'!$B$2:$B$499,1,FALSE)),\"\",\"Y\")","v":""}]
["606E13040","GUARDRAIL, NESTED T- 5 W/TUBULAR BACKUP","FT","PRIMARY","55100","STEEL BRIDGE RAILING SYSTEM PER PLAN","FT","517","1.00000","CERT",{"$f":"IF(ISNA(VLOOKUP(A638,'(1) Project Reference Item List'!$B$2:$B$499,1,FALSE)),\"\",\"Y\")","v":""}]
["606E13040","GUARDRAIL, NESTED T- 5 W/TUBULAR BACKUP","FT","COMPONENT","550SPOST","STEEL POST","EACH","710.15","0.16000","CERT",{"$f":"IF(ISNA(VLOOKUP(A639,'(1) Project Reference Item List'!$B$2:$B$499,1,FALSE)),\"\",\"Y\")","v":""}]
["606E13040","GUARDRAIL, NESTED T- 5 W/TUBULAR BACKUP","FT","PRIMARY","550RAIL","RAIL ELEMENT","FT","710.06","2.00000","CERT",{"$f":"IF(ISNA(VLOOKUP(A640,'(1) Project Reference Item List'!$B$2:$B$499,1,FALSE)),\"\",\"Y\")","v":""}]
["606E55110","CABLE BARRIER, CONC ANCHOR FNDTN W/SLEEV","EACH","PRIMARY","681MISC","MISC HARDWARE/TENSION CABLE GR","EACH","SPECIAL","0.00000","JCTL",{"$f":"IF(ISNA(VLOOKUP(A641,'(1) Project Reference Item List'!$B$2:$B$499,1,FALSE)),\"\",\"Y\")","v":""}]
["606E55110","CABLE BARRIER, CONC ANCHOR FNDTN W/SLEEV","EACH","PRIMARY","681TCAT","TENSION CABLE ANCHOR TERMINAL","EACH","SPECIAL","0.00000","JCTL",{"$f":"IF(ISNA(VLOOKUP(A642,'(1) Project Reference Item List'!$B$2:$B$499,1,FALSE)),\"\",\"Y\")","v":""}]
["606E55120","CABLE BARRIER, CONC SOCKETED FNDTN","EACH","PRIMARY","681MISC","MISC HARDWARE/TENSION CABLE GR","EACH","SPECIAL","0.00000","JCTL",{"$f":"IF(ISNA(VLOOKUP(A643,'(1) Project Reference Item List'!$B$2:$B$499,1,FALSE)),\"\",\"Y\")","v":""}]
["606E55120","CABLE BARRIER, CONC SOCKETED FNDTN","EACH","PRIMARY","681TCAT","TENSION CABLE ANCHOR TERMINAL","EACH","SPECIAL","0.00000","JCTL",{"$f":"IF(ISNA(VLOOKUP(A644,'(1) Project Reference Item List'!$B$2:$B$499,1,FALSE)),\"\",\"Y\")","v":""}]
["515E15140","DRAPED PREST CONC I-BM, LV 3, WF84-49","EACH","PRIMARY","280A001","PRESTRESSED CONCRETE MEMBER","EACH","515 SS865","0.00000","CERT",{"$f":"IF(ISNA(VLOOKUP(A645,'(1) Project Reference Item List'!$B$2:$B$499,1,FALSE)),\"\",\"Y\")","v":""}]
["516E11801","VERT EXT STRUC EXP JT, APP","FT","COMPONENT","61607","JOINT & CRACK SEALER, HOT APPLIED 705.04","LB","705.04","0.00000","CERT",{"$f":"IF(ISNA(VLOOKUP(A646,'(1) Project Reference Item List'!$B$2:$B$499,1,FALSE)),\"\",\"Y\")","v":""}]
["515E15100","DRAPED PREST CONC I-BM, LV 3, WF54-49","EACH","PRIMARY","280A001","PRESTRESSED CONCRETE MEMBER","EACH","515 SS865","1.00000","CERT",{"$f":"IF(ISNA(VLOOKUP(A647,'(1) Project Reference Item List'!$B$2:$B$499,1,FALSE)),\"\",\"Y\")","v":""}]
["515E17000","PRESTRESSED CONC, MISC.:","EACH","PRIMARY","280A001","PRESTRESSED CONCRETE MEMBER","EACH","515 SS865","1.00000","CERT",{"$f":"IF(ISNA(VLOOKUP(A648,'(1) Project Reference Item List'!$B$2:$B$499,1,FALSE)),\"\",\"Y\")","v":""}]
["524E95532","DRILLED SHAFTS, 96\", ABOVE BR, QC/QA","FT","PRIMARY","215QC4","QC 4 CONCRETE - MASS - WELL GRADED","CY","499","0.02909","JCTL",{"$f":"IF(ISNA(VLOOKUP(A649,'(1) Project Reference Item List'!$B$2:$B$499,1,FALSE)),\"\",\"Y\")","v":""}]
["524E95532","DRILLED SHAFTS, 96\", ABOVE BR, QC/QA","FT","PRIMARY","62660","REINFORCING, UNCOATED GRADE 60","LB","709.01","0.02909","CERT",{"$f":"IF(ISNA(VLOOKUP(A650,'(1) Project Reference Item List'!$B$2:$B$499,1,FALSE)),\"\",\"Y\")","v":""}]
["526E25001","APPROACH SLABS (T=15\"), APP","SY","COMPONENT","62560","REINFORCING, EPOXY COATED GRADE 60","LB","709.00","0.00000","CERT",{"$f":"IF(ISNA(VLOOKUP(A651,'(1) Project Reference Item List'!$B$2:$B$499,1,FALSE)),\"\",\"Y\")","v":""}]
["526E25001","APPROACH SLABS (T=15\"), APP","SY","COMPONENT","619100","PREFORMED EXPANSION JOINT FILLER 1\"","SF","705.03-711","0.00000","QPL",{"$f":"IF(ISNA(VLOOKUP(A652,'(1) Project Reference Item List'!$B$2:$B$499,1,FALSE)),\"\",\"Y\")","v":""}]
["526E25001","APPROACH SLABS (T=15\"), APP","SY","COMPONENT","61607","JOINT & CRACK SEALER, HOT APPLIED 705.04","LB","705.04","0.00000","CERT",{"$f":"IF(ISNA(VLOOKUP(A653,'(1) Project Reference Item List'!$B$2:$B$499,1,FALSE)),\"\",\"Y\")","v":""}]
["526E30000","APPROACH SLABS (T=17\")","SY","COMPONENT","619100","PREFORMED EXPANSION JOINT FILLER 1\"","SF","705.03-711","0.00000","QPL",{"$f":"IF(ISNA(VLOOKUP(A654,'(1) Project Reference Item List'!$B$2:$B$499,1,FALSE)),\"\",\"Y\")","v":""}]
["526E30000","APPROACH SLABS (T=17\")","SY","COMPONENT","61607","JOINT & CRACK SEALER, HOT APPLIED 705.04","LB","705.04","0.00000","CERT",{"$f":"IF(ISNA(VLOOKUP(A655,'(1) Project Reference Item List'!$B$2:$B$499,1,FALSE)),\"\",\"Y\")","v":""}]
["526E30000","APPROACH SLABS (T=17\")","SY","COMPONENT","42404OH","CLEAR CURE TYPE1 CL A OR B OR W/DYE","GAL","705.07OH","0.06000","QPL",{"$f":"IF(ISNA(VLOOKUP(A656,'(1) Project Reference Item List'!$B$2:$B$499,1,FALSE)),\"\",\"Y\")","v":""}]
["526E30000","APPROACH SLABS (T=17\")","SY","PRIMARY","215QC2","QC 2 CONCRETE - 4500 PSI - WELL GRADED","CY","499","0.47222","JCTL",{"$f":"IF(ISNA(VLOOKUP(A657,'(1) Project Reference Item List'!$B$2:$B$499,1,FALSE)),\"\",\"Y\")","v":""}]
["526E35001","APPROACH SLABS (VARIABLE TK), APP","SY","PRIMARY","215QC2","QC 2 CONCRETE - 4500 PSI - WELL GRADED","CY","499","0.00000","JCTL",{"$f":"IF(ISNA(VLOOKUP(A658,'(1) Project Reference Item List'!$B$2:$B$499,1,FALSE)),\"\",\"Y\")","v":""}]
["526E35001","APPROACH SLABS (VARIABLE TK), APP","SY","COMPONENT","62560","REINFORCING, EPOXY COATED GRADE 60","LB","709.00","0.00000","CERT",{"$f":"IF(ISNA(VLOOKUP(A659,'(1) Project Reference Item List'!$B$2:$B$499,1,FALSE)),\"\",\"Y\")","v":""}]
["526E35001","APPROACH SLABS (VARIABLE TK), APP","SY","COMPONENT","619100","PREFORMED EXPANSION JOINT FILLER 1\"","SF","705.03-711","0.00000","QPL",{"$f":"IF(ISNA(VLOOKUP(A660,'(1) Project Reference Item List'!$B$2:$B$499,1,FALSE)),\"\",\"Y\")","v":""}]
["526E35001","APPROACH SLABS (VARIABLE TK), APP","SY","COMPONENT","61607","JOINT & CRACK SEALER, HOT APPLIED 705.04","LB","705.04","0.00000","CERT",{"$f":"IF(ISNA(VLOOKUP(A661,'(1) Project Reference Item List'!$B$2:$B$499,1,FALSE)),\"\",\"Y\")","v":""}]
["526E35010","APPROACH SLABS WITH QC/QA (VARIABLE TK)","SY","COMPONENT","619100","PREFORMED EXPANSION JOINT FILLER 1\"","SF","705.03-711","0.00000","QPL",{"$f":"IF(ISNA(VLOOKUP(A662,'(1) Project Reference Item List'!$B$2:$B$499,1,FALSE)),\"\",\"Y\")","v":""}]
["526E35010","APPROACH SLABS WITH QC/QA (VARIABLE TK)","SY","COMPONENT","61607","JOINT & CRACK SEALER, HOT APPLIED 705.04","LB","705.04","0.00000","CERT",{"$f":"IF(ISNA(VLOOKUP(A663,'(1) Project Reference Item List'!$B$2:$B$499,1,FALSE)),\"\",\"Y\")","v":""}]
["526E35010","APPROACH SLABS WITH QC/QA (VARIABLE TK)","SY","COMPONENT","42404OH","CLEAR CURE TYPE1 CL A OR B OR W/DYE","GAL","705.07OH","0.00000","QPL",{"$f":"IF(ISNA(VLOOKUP(A664,'(1) Project Reference Item List'!$B$2:$B$499,1,FALSE)),\"\",\"Y\")","v":""}]
["526E35010","APPROACH SLABS WITH QC/QA (VARIABLE TK)","SY","PRIMARY","215QC2","QC 2 CONCRETE - 4500 PSI - WELL GRADED","CY","499","0.00000","JCTL",{"$f":"IF(ISNA(VLOOKUP(A665,'(1) Project Reference Item List'!$B$2:$B$499,1,FALSE)),\"\",\"Y\")","v":""}]
["526E90011","TYPE A INSTALLATION, APP","FT","PRIMARY","215QC2","QC 2 CONCRETE - 4500 PSI - WELL GRADED","CY","499","0.00000","JCTL",{"$f":"IF(ISNA(VLOOKUP(A666,'(1) Project Reference Item List'!$B$2:$B$499,1,FALSE)),\"\",\"Y\")","v":""}]
["526E90011","TYPE A INSTALLATION, APP","FT","COMPONENT","62560","REINFORCING, EPOXY COATED GRADE 60","LB","709.00","0.00000","CERT",{"$f":"IF(ISNA(VLOOKUP(A667,'(1) Project Reference Item List'!$B$2:$B$499,1,FALSE)),\"\",\"Y\")","v":""}]
["526E90011","TYPE A INSTALLATION, APP","FT","COMPONENT","619100","PREFORMED EXPANSION JOINT FILLER 1\"","SF","705.03-711","0.00000","QPL",{"$f":"IF(ISNA(VLOOKUP(A668,'(1) Project Reference Item List'!$B$2:$B$499,1,FALSE)),\"\",\"Y\")","v":""}]
["526E90011","TYPE A INSTALLATION, APP","FT","COMPONENT","61607","JOINT & CRACK SEALER, HOT APPLIED 705.04","LB","705.04","0.00000","CERT",{"$f":"IF(ISNA(VLOOKUP(A669,'(1) Project Reference Item List'!$B$2:$B$499,1,FALSE)),\"\",\"Y\")","v":""}]
["606E14000","GUARDRAIL, TYPE 8","FT","PRIMARY","550RAIL","RAIL ELEMENT","FT","710.06","1.00000","CERT",{"$f":"IF(ISNA(VLOOKUP(A670,'(1) Project Reference Item List'!$B$2:$B$499,1,FALSE)),\"\",\"Y\")","v":""}]
["606E14000","GUARDRAIL, TYPE 8","FT","COMPONENT","550HWMISC","GUARDRAIL HARDWARE","EACH","710.15","0.00000","CERT",{"$f":"IF(ISNA(VLOOKUP(A671,'(1) Project Reference Item List'!$B$2:$B$499,1,FALSE)),\"\",\"Y\")","v":""}]
["606E14000","GUARDRAIL, TYPE 8","FT","COMPONENT","350WPOST","WOODPOST","EACH","710.12-14","0.16000","CERT",{"$f":"IF(ISNA(VLOOKUP(A672,'(1) Project Reference Item List'!$B$2:$B$499,1,FALSE)),\"\",\"Y\")","v":""}]
["606E15050","GUARDRAIL, TYPE MGS","FT","COMPONENT","350WPOST","WOODPOST","EACH","710.12-14","0.16000","CERT",{"$f":"IF(ISNA(VLOOKUP(A673,'(1) Project Reference Item List'!$B$2:$B$499,1,FALSE)),\"\",\"Y\")","v":""}]
["606E15050","GUARDRAIL, TYPE MGS","FT","SUBSTITUTE","550SPOST","STEEL POST","EACH","710.15","0.16000","CERT",{"$f":"IF(ISNA(VLOOKUP(A674,'(1) Project Reference Item List'!$B$2:$B$499,1,FALSE)),\"\",\"Y\")","v":""}]
["606E15050","GUARDRAIL, TYPE MGS","FT","PRIMARY","550RAIL","RAIL ELEMENT","FT","710.06","1.00000","CERT",{"$f":"IF(ISNA(VLOOKUP(A675,'(1) Project Reference Item List'!$B$2:$B$499,1,FALSE)),\"\",\"Y\")","v":""}]
["606E15051","GUARDRAIL, TYPE MGS, AS PER PLAN","FT","PRIMARY","550RAIL","RAIL ELEMENT","FT","710.06","1.00000","CERT",{"$f":"IF(ISNA(VLOOKUP(A676,'(1) Project Reference Item List'!$B$2:$B$499,1,FALSE)),\"\",\"Y\")","v":""}]
["606E15051","GUARDRAIL, TYPE MGS, AS PER PLAN","FT","COMPONENT","550HWMISC","GUARDRAIL HARDWARE","EACH","710.15","0.00000","CERT",{"$f":"IF(ISNA(VLOOKUP(A677,'(1) Project Reference Item List'!$B$2:$B$499,1,FALSE)),\"\",\"Y\")","v":""}]
["606E15051","GUARDRAIL, TYPE MGS, AS PER PLAN","FT","COMPONENT","350WPOST","WOODPOST","EACH","710.12-14","0.16000","CERT",{"$f":"IF(ISNA(VLOOKUP(A678,'(1) Project Reference Item List'!$B$2:$B$499,1,FALSE)),\"\",\"Y\")","v":""}]
["606E15250","GUARDRAIL, TYPE MGS QRTR POST SPACING","FT","COMPONENT","550SPOST","STEEL POST","EACH","710.15","0.64000","CERT",{"$f":"IF(ISNA(VLOOKUP(A679,'(1) Project Reference Item List'!$B$2:$B$499,1,FALSE)),\"\",\"Y\")","v":""}]
["606E15250","GUARDRAIL, TYPE MGS QRTR POST SPACING","FT","PRIMARY","550RAIL","RAIL ELEMENT","FT","710.06","1.00000","CERT",{"$f":"IF(ISNA(VLOOKUP(A680,'(1) Project Reference Item List'!$B$2:$B$499,1,FALSE)),\"\",\"Y\")","v":""}]
["606E15250","GUARDRAIL, TYPE MGS QRTR POST SPACING","FT","COMPONENT","550HWMISC","GUARDRAIL HARDWARE","EACH","710.15","0.00000","CERT",{"$f":"IF(ISNA(VLOOKUP(A681,'(1) Project Reference Item List'!$B$2:$B$499,1,FALSE)),\"\",\"Y\")","v":""}]
["606E15250","GUARDRAIL, TYPE MGS QRTR POST SPACING","FT","COMPONENT","550ESECT","GUARDRAIL END SECTION","EACH","710.06","0.00000","CERT",{"$f":"IF(ISNA(VLOOKUP(A682,'(1) Project Reference Item List'!$B$2:$B$499,1,FALSE)),\"\",\"Y\")","v":""}]
["606E15251","GUARDRAIL, TY MGS QRTR POST SPACING, APP","FT","COMPONENT","350WPOST","WOODPOST","EACH","710.12-14","0.00000","CERT",{"$f":"IF(ISNA(VLOOKUP(A683,'(1) Project Reference Item List'!$B$2:$B$499,1,FALSE)),\"\",\"Y\")","v":""}]
["606E15251","GUARDRAIL, TY MGS QRTR POST SPACING, APP","FT","COMPONENT","550SPOST","STEEL POST","EACH","710.15","0.00000","CERT",{"$f":"IF(ISNA(VLOOKUP(A684,'(1) Project Reference Item List'!$B$2:$B$499,1,FALSE)),\"\",\"Y\")","v":""}]
["606E15251","GUARDRAIL, TY MGS QRTR POST SPACING, APP","FT","PRIMARY","550RAIL","RAIL ELEMENT","FT","710.06","0.00000","CERT",{"$f":"IF(ISNA(VLOOKUP(A685,'(1) Project Reference Item List'!$B$2:$B$499,1,FALSE)),\"\",\"Y\")","v":""}]
["606E15251","GUARDRAIL, TY MGS QRTR POST SPACING, APP","FT","COMPONENT","550HWMISC","GUARDRAIL HARDWARE","EACH","710.15","0.00000","CERT",{"$f":"IF(ISNA(VLOOKUP(A686,'(1) Project Reference Item List'!$B$2:$B$499,1,FALSE)),\"\",\"Y\")","v":""}]
["606E15301","GRDL,TY MGS QRTR PST SPCNG W/LNG PST, AP","FT","COMPONENT","550SPOST","STEEL POST","EACH","710.15","0.00000","CERT",{"$f":"IF(ISNA(VLOOKUP(A687,'(1) Project Reference Item List'!$B$2:$B$499,1,FALSE)),\"\",\"Y\")","v":""}]
["606E15301","GRDL,TY MGS QRTR PST SPCNG W/LNG PST, AP","FT","PRIMARY","550RAIL","RAIL ELEMENT","FT","710.06","0.00000","CERT",{"$f":"IF(ISNA(VLOOKUP(A688,'(1) Project Reference Item List'!$B$2:$B$499,1,FALSE)),\"\",\"Y\")","v":""}]
["606E15301","GRDL,TY MGS QRTR PST SPCNG W/LNG PST, AP","FT","COMPONENT","550HWMISC","GUARDRAIL HARDWARE","EACH","710.15","0.00000","CERT",{"$f":"IF(ISNA(VLOOKUP(A689,'(1) Project Reference Item List'!$B$2:$B$499,1,FALSE)),\"\",\"Y\")","v":""}]
["606E15301","GRDL,TY MGS QRTR PST SPCNG W/LNG PST, AP","FT","COMPONENT","550ESECT","GUARDRAIL END SECTION","EACH","710.06","0.00000","CERT",{"$f":"IF(ISNA(VLOOKUP(A690,'(1) Project Reference Item List'!$B$2:$B$499,1,FALSE)),\"\",\"Y\")","v":""}]
["606E71000","THRIE BEAM GUARDRAIL","FT","COMPONENT","550HWMISC","GUARDRAIL HARDWARE","EACH","710.15","1.00000","CERT",{"$f":"IF(ISNA(VLOOKUP(A691,'(1) Project Reference Item List'!$B$2:$B$499,1,FALSE)),\"\",\"Y\")","v":""}]
["606E71000","THRIE BEAM GUARDRAIL","FT","COMPONENT","350WPOST","WOODPOST","EACH","710.12-14","1.00000","CERT",{"$f":"IF(ISNA(VLOOKUP(A692,'(1) Project Reference Item List'!$B$2:$B$499,1,FALSE)),\"\",\"Y\")","v":""}]
["607E23004","FENCE REBUILT, TYPE CLT","FT","COMPONENT","582LPOST","FENCELINEPOSTS-TOPRAILS - STEEL OR ALU","EACH","710.03,11","0.00000","CERT",{"$f":"IF(ISNA(VLOOKUP(A693,'(1) Project Reference Item List'!$B$2:$B$499,1,FALSE)),\"\",\"Y\")","v":""}]
["607E23004","FENCE REBUILT, TYPE CLT","FT","PRIMARY","575FABRIC","FENCE FABRIC BARB WIRE, CL & TYPE 47","FT","710.01,02,","1.00000","CERT",{"$f":"IF(ISNA(VLOOKUP(A694,'(1) Project Reference Item List'!$B$2:$B$499,1,FALSE)),\"\",\"Y\")","v":""}]
["607E35000","FENCE REMOVED & REBUILT","FT","PRIMARY","575FABRIC","FENCE FABRIC BARB WIRE, CL & TYPE 47","FT","710.01,02,","1.00000","CERT",{"$f":"IF(ISNA(VLOOKUP(A695,'(1) Project Reference Item List'!$B$2:$B$499,1,FALSE)),\"\",\"Y\")","v":""}]
["607E35000","FENCE REMOVED & REBUILT","FT","COMPONENT","585MISC","FENCE HARDWARE BNW,CAPS,BRACES,ETC","EACH","710","0.00000","CERT",{"$f":"IF(ISNA(VLOOKUP(A696,'(1) Project Reference Item List'!$B$2:$B$499,1,FALSE)),\"\",\"Y\")","v":""}]
["607E35001","FENCE REMOVED & REBUILT, APP","FT","PRIMARY","575FABRIC","FENCE FABRIC BARB WIRE, CL & TYPE 47","FT","710.01,02,","1.00000","CERT",{"$f":"IF(ISNA(VLOOKUP(A697,'(1) Project Reference Item List'!$B$2:$B$499,1,FALSE)),\"\",\"Y\")","v":""}]
["607E35001","FENCE REMOVED & REBUILT, APP","FT","COMPONENT","585MISC","FENCE HARDWARE BNW,CAPS,BRACES,ETC","EACH","710","0.00000","CERT",{"$f":"IF(ISNA(VLOOKUP(A698,'(1) Project Reference Item List'!$B$2:$B$499,1,FALSE)),\"\",\"Y\")","v":""}]
["607E39901","VNDL PROT FENCE, 6' STRAIGHT, APP","FT","COMPONENT","42609","NON-SHRINK NON-METALLIC MATERIAL","GAL","705.20(08)","0.00000","QPL",{"$f":"IF(ISNA(VLOOKUP(A699,'(1) Project Reference Item List'!$B$2:$B$499,1,FALSE)),\"\",\"Y\")","v":""}]
["607E39901","VNDL PROT FENCE, 6' STRAIGHT, APP","FT","COMPONENT","585MISC","FENCE HARDWARE BNW,CAPS,BRACES,ETC","EACH","710","0.00000","QPL",{"$f":"IF(ISNA(VLOOKUP(A700,'(1) Project Reference Item List'!$B$2:$B$499,1,FALSE)),\"\",\"Y\")","v":""}]
["607E39901","VNDL PROT FENCE, 6' STRAIGHT, APP","FT","COMPONENT","582LPOST","FENCELINEPOSTS-TOPRAILS - STEEL OR ALU","EACH","710.03,11","0.00000","QPL",{"$f":"IF(ISNA(VLOOKUP(A701,'(1) Project Reference Item List'!$B$2:$B$499,1,FALSE)),\"\",\"Y\")","v":""}]
["601E11000","RIPRAP, TYPE D","SY","COMPONENT","42406OH","WHITE CURE TYPE 2 CLASS A OR B","GAL","705.07OH","0.45000","QPL",{"$f":"IF(ISNA(VLOOKUP(A702,'(1) Project Reference Item List'!$B$2:$B$499,1,FALSE)),\"\",\"Y\")","v":""}]
["601E11000","RIPRAP, TYPE D","SY","COMPONENT","42404OH","CLEAR CURE TYPE1 CL A OR B OR W/DYE","GAL","705.07OH","0.04500","QPL",{"$f":"IF(ISNA(VLOOKUP(A703,'(1) Project Reference Item List'!$B$2:$B$499,1,FALSE)),\"\",\"Y\")","v":""}]
["601E11000","RIPRAP, TYPE D","SY","PRIMARY","215QCMISC","QC MISCELLANEOUS 4000 PSI","CY","499","0.16667","JCTL",{"$f":"IF(ISNA(VLOOKUP(A704,'(1) Project Reference Item List'!$B$2:$B$499,1,FALSE)),\"\",\"Y\")","v":""}]
["601E11000","RIPRAP, TYPE D","SY","SUBSTITUTE","215QC1","QC 1 CONCRETE - 4000 PSI - WELL GRADED","CY","499","0.16667","JCTL",{"$f":"IF(ISNA(VLOOKUP(A705,'(1) Project Reference Item List'!$B$2:$B$499,1,FALSE)),\"\",\"Y\")","v":""}]
["601E11000","RIPRAP, TYPE D","SY","SUBSTITUTE","62712D","REINFORCING,WELDED DEFORMED WIRE FABRIC","SF","709.12","9.00000","CERT",{"$f":"IF(ISNA(VLOOKUP(A706,'(1) Project Reference Item List'!$B$2:$B$499,1,FALSE)),\"\",\"Y\")","v":""}]
["601E11000","RIPRAP, TYPE D","SY","COMPONENT","62710","REINFORCING, WELDED WIRE FABRIC","SF","709.10","9.00000","CERT",{"$f":"IF(ISNA(VLOOKUP(A707,'(1) Project Reference Item List'!$B$2:$B$499,1,FALSE)),\"\",\"Y\")","v":""}]
["601E11000","RIPRAP, TYPE D","SY","SUBSTITUTE","62675","REINFORCING, UNCOATED GRADE 75","LB","709.01","3.38000","CERT",{"$f":"IF(ISNA(VLOOKUP(A708,'(1) Project Reference Item List'!$B$2:$B$499,1,FALSE)),\"\",\"Y\")","v":""}]
["601E11000","RIPRAP, TYPE D","SY","COMPONENT","62660","REINFORCING, UNCOATED GRADE 60","LB","709.01","3.38000","CERT",{"$f":"IF(ISNA(VLOOKUP(A709,'(1) Project Reference Item List'!$B$2:$B$499,1,FALSE)),\"\",\"Y\")","v":""}]
["601E11000","RIPRAP, TYPE D","SY","SUBSTITUTE","62650","REINFORCING, UNCOATED GRADE 50","LB","709.01","3.38000","CERT",{"$f":"IF(ISNA(VLOOKUP(A710,'(1) Project Reference Item List'!$B$2:$B$499,1,FALSE)),\"\",\"Y\")","v":""}]
["606E15400","MGS GUARDRAIL, TYPE 8","FT","COMPONENT","350WPOST","WOODPOST","EACH","710.12-14","0.16000","CERT",{"$f":"IF(ISNA(VLOOKUP(A711,'(1) Project Reference Item List'!$B$2:$B$499,1,FALSE)),\"\",\"Y\")","v":""}]
["606E15400","MGS GUARDRAIL, TYPE 8","FT","COMPONENT","550SPOST","STEEL POST","EACH","710.15","0.16000","CERT",{"$f":"IF(ISNA(VLOOKUP(A712,'(1) Project Reference Item List'!$B$2:$B$499,1,FALSE)),\"\",\"Y\")","v":""}]
["606E15400","MGS GUARDRAIL, TYPE 8","FT","PRIMARY","550RAIL","RAIL ELEMENT","FT","710.06","2.00000","CERT",{"$f":"IF(ISNA(VLOOKUP(A713,'(1) Project Reference Item List'!$B$2:$B$499,1,FALSE)),\"\",\"Y\")","v":""}]
["606E15551","GR, BARRIER DES, TYPE MGS, APP","FT","COMPONENT","350WPOST","WOODPOST","EACH","710.12-14","0.00000","CERT",{"$f":"IF(ISNA(VLOOKUP(A714,'(1) Project Reference Item List'!$B$2:$B$499,1,FALSE)),\"\",\"Y\")","v":""}]
["606E15551","GR, BARRIER DES, TYPE MGS, APP","FT","COMPONENT","550SPOST","STEEL POST","EACH","710.15","0.00000","CERT",{"$f":"IF(ISNA(VLOOKUP(A715,'(1) Project Reference Item List'!$B$2:$B$499,1,FALSE)),\"\",\"Y\")","v":""}]
["606E15551","GR, BARRIER DES, TYPE MGS, APP","FT","PRIMARY","550RAIL","RAIL ELEMENT","FT","710.06","0.00000","CERT",{"$f":"IF(ISNA(VLOOKUP(A716,'(1) Project Reference Item List'!$B$2:$B$499,1,FALSE)),\"\",\"Y\")","v":""}]
["606E16400","GUARDRAIL REBUILT, TYPE 4","FT","COMPONENT","350WPOST","WOODPOST","EACH","710.12-14","0.00000","CERT",{"$f":"IF(ISNA(VLOOKUP(A717,'(1) Project Reference Item List'!$B$2:$B$499,1,FALSE)),\"\",\"Y\")","v":""}]
["606E16400","GUARDRAIL REBUILT, TYPE 4","FT","COMPONENT","550SPOST","STEEL POST","EACH","710.15","0.00000","CERT",{"$f":"IF(ISNA(VLOOKUP(A718,'(1) Project Reference Item List'!$B$2:$B$499,1,FALSE)),\"\",\"Y\")","v":""}]
["606E16400","GUARDRAIL REBUILT, TYPE 4","FT","PRIMARY","550RAIL","RAIL ELEMENT","FT","710.06","0.00000","CERT",{"$f":"IF(ISNA(VLOOKUP(A719,'(1) Project Reference Item List'!$B$2:$B$499,1,FALSE)),\"\",\"Y\")","v":""}]
["606E16500","GUARDRAIL REBUILT, TYPE 5","FT","COMPONENT","350WPOST","WOODPOST","EACH","710.12-14","0.16000","CERT",{"$f":"IF(ISNA(VLOOKUP(A720,'(1) Project Reference Item List'!$B$2:$B$499,1,FALSE)),\"\",\"Y\")","v":""}]
["606E16500","GUARDRAIL REBUILT, TYPE 5","FT","COMPONENT","550SPOST","STEEL POST","EACH","710.15","0.16000","CERT",{"$f":"IF(ISNA(VLOOKUP(A721,'(1) Project Reference Item List'!$B$2:$B$499,1,FALSE)),\"\",\"Y\")","v":""}]
["606E16500","GUARDRAIL REBUILT, TYPE 5","FT","PRIMARY","550RAIL","RAIL ELEMENT","FT","710.06","1.00000","CERT",{"$f":"IF(ISNA(VLOOKUP(A722,'(1) Project Reference Item List'!$B$2:$B$499,1,FALSE)),\"\",\"Y\")","v":""}]
["606E16551","GUARDRAIL REBUILT, TYPE 5, 9 FT, APP","FT","COMPONENT","350WPOST","WOODPOST","EACH","710.12-14","0.16000","CERT",{"$f":"IF(ISNA(VLOOKUP(A723,'(1) Project Reference Item List'!$B$2:$B$499,1,FALSE)),\"\",\"Y\")","v":""}]
["606E16551","GUARDRAIL REBUILT, TYPE 5, 9 FT, APP","FT","COMPONENT","550SPOST","STEEL POST","EACH","710.15","0.16000","CERT",{"$f":"IF(ISNA(VLOOKUP(A724,'(1) Project Reference Item List'!$B$2:$B$499,1,FALSE)),\"\",\"Y\")","v":""}]
["606E16551","GUARDRAIL REBUILT, TYPE 5, 9 FT, APP","FT","PRIMARY","550RAIL","RAIL ELEMENT","FT","710.06","1.00000","CERT",{"$f":"IF(ISNA(VLOOKUP(A725,'(1) Project Reference Item List'!$B$2:$B$499,1,FALSE)),\"\",\"Y\")","v":""}]
["606E16601","GR REBUILT, BARRIER DESIGN, TYPE 5, APP","FT","COMPONENT","350WPOST","WOODPOST","EACH","710.12-14","0.16000","CERT",{"$f":"IF(ISNA(VLOOKUP(A726,'(1) Project Reference Item List'!$B$2:$B$499,1,FALSE)),\"\",\"Y\")","v":""}]
["606E16601","GR REBUILT, BARRIER DESIGN, TYPE 5, APP","FT","COMPONENT","550SPOST","STEEL POST","EACH","710.15","0.16000","CERT",{"$f":"IF(ISNA(VLOOKUP(A727,'(1) Project Reference Item List'!$B$2:$B$499,1,FALSE)),\"\",\"Y\")","v":""}]
["606E16601","GR REBUILT, BARRIER DESIGN, TYPE 5, APP","FT","PRIMARY","550RAIL","RAIL ELEMENT","FT","710.06","2.00000","CERT",{"$f":"IF(ISNA(VLOOKUP(A728,'(1) Project Reference Item List'!$B$2:$B$499,1,FALSE)),\"\",\"Y\")","v":""}]
["606E16750","GR REBUILT, MGS HALF POST SPACNG","FT","COMPONENT","350WPOST","WOODPOST","EACH","710.12-14","0.32000","CERT",{"$f":"IF(ISNA(VLOOKUP(A729,'(1) Project Reference Item List'!$B$2:$B$499,1,FALSE)),\"\",\"Y\")","v":""}]
["606E16750","GR REBUILT, MGS HALF POST SPACNG","FT","COMPONENT","550SPOST","STEEL POST","EACH","710.15","0.32000","CERT",{"$f":"IF(ISNA(VLOOKUP(A730,'(1) Project Reference Item List'!$B$2:$B$499,1,FALSE)),\"\",\"Y\")","v":""}]
["606E16750","GR REBUILT, MGS HALF POST SPACNG","FT","PRIMARY","550RAIL","RAIL ELEMENT","FT","710.06","1.00000","CERT",{"$f":"IF(ISNA(VLOOKUP(A731,'(1) Project Reference Item List'!$B$2:$B$499,1,FALSE)),\"\",\"Y\")","v":""}]
["606E16751","GR REBUILT, MGS HALF POST SPACNG, APP","FT","COMPONENT","350WPOST","WOODPOST","EACH","710.12-14","0.32000","CERT",{"$f":"IF(ISNA(VLOOKUP(A732,'(1) Project Reference Item List'!$B$2:$B$499,1,FALSE)),\"\",\"Y\")","v":""}]
["606E16751","GR REBUILT, MGS HALF POST SPACNG, APP","FT","COMPONENT","550SPOST","STEEL POST","EACH","710.15","0.32000","CERT",{"$f":"IF(ISNA(VLOOKUP(A733,'(1) Project Reference Item List'!$B$2:$B$499,1,FALSE)),\"\",\"Y\")","v":""}]
["606E16751","GR REBUILT, MGS HALF POST SPACNG, APP","FT","PRIMARY","550RAIL","RAIL ELEMENT","FT","710.06","1.00000","CERT",{"$f":"IF(ISNA(VLOOKUP(A734,'(1) Project Reference Item List'!$B$2:$B$499,1,FALSE)),\"\",\"Y\")","v":""}]
["606E16801","GR RBLT, MGS HALF PST SPC W/LNG PST, APP","FT","COMPONENT","350WPOST","WOODPOST","EACH","710.12-14","0.32000","CERT",{"$f":"IF(ISNA(VLOOKUP(A735,'(1) Project Reference Item List'!$B$2:$B$499,1,FALSE)),\"\",\"Y\")","v":""}]
["606E16801","GR RBLT, MGS HALF PST SPC W/LNG PST, APP","FT","COMPONENT","550SPOST","STEEL POST","EACH","710.15","0.32000","CERT",{"$f":"IF(ISNA(VLOOKUP(A736,'(1) Project Reference Item List'!$B$2:$B$499,1,FALSE)),\"\",\"Y\")","v":""}]
["606E16801","GR RBLT, MGS HALF PST SPC W/LNG PST, APP","FT","PRIMARY","550RAIL","RAIL ELEMENT","FT","710.06","1.00000","CERT",{"$f":"IF(ISNA(VLOOKUP(A737,'(1) Project Reference Item List'!$B$2:$B$499,1,FALSE)),\"\",\"Y\")","v":""}]
["607E40000","VANDAL PROTECTION FENCE","FT","COMPONENT","42609","NON-SHRINK NON-METALLIC MATERIAL","GAL","705.20(08)","0.00000","QPL",{"$f":"IF(ISNA(VLOOKUP(A738,'(1) Project Reference Item List'!$B$2:$B$499,1,FALSE)),\"\",\"Y\")","v":""}]
["607E40000","VANDAL PROTECTION FENCE","FT","COMPONENT","585MISC","FENCE HARDWARE BNW,CAPS,BRACES,ETC","EACH","710","0.00000","CERT",{"$f":"IF(ISNA(VLOOKUP(A739,'(1) Project Reference Item List'!$B$2:$B$499,1,FALSE)),\"\",\"Y\")","v":""}]
["607E40000","VANDAL PROTECTION FENCE","FT","COMPONENT","582LPOST","FENCELINEPOSTS-TOPRAILS - STEEL OR ALU","EACH","710.03,11","0.00000","CERT",{"$f":"IF(ISNA(VLOOKUP(A740,'(1) Project Reference Item List'!$B$2:$B$499,1,FALSE)),\"\",\"Y\")","v":""}]
["607E98200","FENCE, MISC.","LS","PRIMARY","575FABRIC","FENCE FABRIC BARB WIRE, CL & TYPE 47","FT","710.01,02,","0.00000","CERT",{"$f":"IF(ISNA(VLOOKUP(A741,'(1) Project Reference Item List'!$B$2:$B$499,1,FALSE)),\"\",\"Y\")","v":""}]
["607E98200","FENCE, MISC.","LS","COMPONENT","999LS","GENERIC MATERIAL LS - LUMP SUM","LS","GENERIC","1.00000","CERT",{"$f":"IF(ISNA(VLOOKUP(A742,'(1) Project Reference Item List'!$B$2:$B$499,1,FALSE)),\"\",\"Y\")","v":""}]
["607E98200","FENCE, MISC.","LS","COMPONENT","585MISC","FENCE HARDWARE BNW,CAPS,BRACES,ETC","EACH","710","0.00000","CERT",{"$f":"IF(ISNA(VLOOKUP(A743,'(1) Project Reference Item List'!$B$2:$B$499,1,FALSE)),\"\",\"Y\")","v":""}]
["607E98300","FENCE, MISC.:","SF","PRIMARY","575FABRIC","FENCE FABRIC BARB WIRE, CL & TYPE 47","FT","710.01,02,","0.00000","CERT",{"$f":"IF(ISNA(VLOOKUP(A744,'(1) Project Reference Item List'!$B$2:$B$499,1,FALSE)),\"\",\"Y\")","v":""}]
["608E12001","5\" CONCRETE WALK, APP","SF","PRIMARY","215QCMISC","QC MISCELLANEOUS 4000 PSI","CY","499","0.01543","JCTL",{"$f":"IF(ISNA(VLOOKUP(A745,'(1) Project Reference Item List'!$B$2:$B$499,1,FALSE)),\"\",\"Y\")","v":""}]
["608E12001","5\" CONCRETE WALK, APP","SF","PRIMARY","215QC1","QC 1 CONCRETE - 4000 PSI - WELL GRADED","CY","499","0.01543","JCTL",{"$f":"IF(ISNA(VLOOKUP(A746,'(1) Project Reference Item List'!$B$2:$B$499,1,FALSE)),\"\",\"Y\")","v":""}]
["608E12001","5\" CONCRETE WALK, APP","SF","COMPONENT","619100","PREFORMED EXPANSION JOINT FILLER 1\"","SF","705.03-711","0.00000","QPL",{"$f":"IF(ISNA(VLOOKUP(A747,'(1) Project Reference Item List'!$B$2:$B$499,1,FALSE)),\"\",\"Y\")","v":""}]
["608E12001","5\" CONCRETE WALK, APP","SF","COMPONENT","619050","PREFORMED EXPANSION JOINT FILLER 1/2\"","SF","705.03-711","0.00000","QPL",{"$f":"IF(ISNA(VLOOKUP(A748,'(1) Project Reference Item List'!$B$2:$B$499,1,FALSE)),\"\",\"Y\")","v":""}]
["608E13000","6\" CONCRETE WALK","SF","COMPONENT","619100","PREFORMED EXPANSION JOINT FILLER 1\"","SF","705.03-711","0.00000","QPL",{"$f":"IF(ISNA(VLOOKUP(A749,'(1) Project Reference Item List'!$B$2:$B$499,1,FALSE)),\"\",\"Y\")","v":""}]
["608E13000","6\" CONCRETE WALK","SF","COMPONENT","619050","PREFORMED EXPANSION JOINT FILLER 1/2\"","SF","705.03-711","0.00000","QPL",{"$f":"IF(ISNA(VLOOKUP(A750,'(1) Project Reference Item List'!$B$2:$B$499,1,FALSE)),\"\",\"Y\")","v":""}]
["608E13000","6\" CONCRETE WALK","SF","COMPONENT","42406OH","WHITE CURE TYPE 2 CLASS A OR B","GAL","705.07OH","0.00670","QPL",{"$f":"IF(ISNA(VLOOKUP(A751,'(1) Project Reference Item List'!$B$2:$B$499,1,FALSE)),\"\",\"Y\")","v":""}]
["608E13000","6\" CONCRETE WALK","SF","PRIMARY","215QCMISC","QC MISCELLANEOUS 4000 PSI","CY","499","0.01852","JCTL",{"$f":"IF(ISNA(VLOOKUP(A752,'(1) Project Reference Item List'!$B$2:$B$499,1,FALSE)),\"\",\"Y\")","v":""}]
["608E13001","6\" CONCRETE WALK, APP","SF","PRIMARY","215QC1","QC 1 CONCRETE - 4000 PSI - WELL GRADED","CY","499","0.01852","JCTL",{"$f":"IF(ISNA(VLOOKUP(A753,'(1) Project Reference Item List'!$B$2:$B$499,1,FALSE)),\"\",\"Y\")","v":""}]
["608E13001","6\" CONCRETE WALK, APP","SF","COMPONENT","619100","PREFORMED EXPANSION JOINT FILLER 1\"","SF","705.03-711","0.00000","QPL",{"$f":"IF(ISNA(VLOOKUP(A754,'(1) Project Reference Item List'!$B$2:$B$499,1,FALSE)),\"\",\"Y\")","v":""}]
["608E13001","6\" CONCRETE WALK, APP","SF","COMPONENT","619050","PREFORMED EXPANSION JOINT FILLER 1/2\"","SF","705.03-711","0.00000","QPL",{"$f":"IF(ISNA(VLOOKUP(A755,'(1) Project Reference Item List'!$B$2:$B$499,1,FALSE)),\"\",\"Y\")","v":""}]
["608E13001","6\" CONCRETE WALK, APP","SF","COMPONENT","42406OH","WHITE CURE TYPE 2 CLASS A OR B","GAL","705.07OH","0.00670","QPL",{"$f":"IF(ISNA(VLOOKUP(A756,'(1) Project Reference Item List'!$B$2:$B$499,1,FALSE)),\"\",\"Y\")","v":""}]
["608E13020","7\" CONCRETE WALK","SF","PRIMARY","215QC1","QC 1 CONCRETE - 4000 PSI - WELL GRADED","CY","499","0.02160","JCTL",{"$f":"IF(ISNA(VLOOKUP(A757,'(1) Project Reference Item List'!$B$2:$B$499,1,FALSE)),\"\",\"Y\")","v":""}]
["608E13020","7\" CONCRETE WALK","SF","COMPONENT","619100","PREFORMED EXPANSION JOINT FILLER 1\"","SF","705.03-711","0.00000","QPL",{"$f":"IF(ISNA(VLOOKUP(A758,'(1) Project Reference Item List'!$B$2:$B$499,1,FALSE)),\"\",\"Y\")","v":""}]
["608E13020","7\" CONCRETE WALK","SF","COMPONENT","619050","PREFORMED EXPANSION JOINT FILLER 1/2\"","SF","705.03-711","0.00000","QPL",{"$f":"IF(ISNA(VLOOKUP(A759,'(1) Project Reference Item List'!$B$2:$B$499,1,FALSE)),\"\",\"Y\")","v":""}]
["608E13020","7\" CONCRETE WALK","SF","COMPONENT","42406OH","WHITE CURE TYPE 2 CLASS A OR B","GAL","705.07OH","0.00670","QPL",{"$f":"IF(ISNA(VLOOKUP(A760,'(1) Project Reference Item List'!$B$2:$B$499,1,FALSE)),\"\",\"Y\")","v":""}]
["601E21001","CONCRETE SLOPE PROT, APP","SY","SUBSTITUTE","215QC1","QC 1 CONCRETE - 4000 PSI - WELL GRADED","CY","499","0.00000","JCTL",{"$f":"IF(ISNA(VLOOKUP(A761,'(1) Project Reference Item List'!$B$2:$B$499,1,FALSE)),\"\",\"Y\")","v":""}]
["601E21001","CONCRETE SLOPE PROT, APP","SY","COMPONENT","619100","PREFORMED EXPANSION JOINT FILLER 1\"","SF","705.03-711","0.00000","QPL",{"$f":"IF(ISNA(VLOOKUP(A762,'(1) Project Reference Item List'!$B$2:$B$499,1,FALSE)),\"\",\"Y\")","v":""}]
["601E21001","CONCRETE SLOPE PROT, APP","SY","COMPONENT","42406OH","WHITE CURE TYPE 2 CLASS A OR B","GAL","705.07OH","0.04500","QPL",{"$f":"IF(ISNA(VLOOKUP(A763,'(1) Project Reference Item List'!$B$2:$B$499,1,FALSE)),\"\",\"Y\")","v":""}]
["601E21001","CONCRETE SLOPE PROT, APP","SY","SUBSTITUTE","42404OH","CLEAR CURE TYPE1 CL A OR B OR W/DYE","GAL","705.07OH","0.04500","QPL",{"$f":"IF(ISNA(VLOOKUP(A764,'(1) Project Reference Item List'!$B$2:$B$499,1,FALSE)),\"\",\"Y\")","v":""}]
["601E21070","TIED CONCRETE BLOCK MAT, TYPE 3","SY","PRIMARY","25100T3","TIED CONCRETE BLOCK MAT TYPE 3","EACH","712.12","0.00000","QPL",{"$f":"IF(ISNA(VLOOKUP(A765,'(1) Project Reference Item List'!$B$2:$B$499,1,FALSE)),\"\",\"Y\")","v":""}]
["601E21071","TIED CONCRETE BLOCK MAT, TYPE 3, APP","SY","PRIMARY","25100T3","TIED CONCRETE BLOCK MAT TYPE 3","EACH","712.12","0.00000","QPL",{"$f":"IF(ISNA(VLOOKUP(A766,'(1) Project Reference Item List'!$B$2:$B$499,1,FALSE)),\"\",\"Y\")","v":""}]
["601E25000","DUMPED ROCK FILL, TYPE A","CY","PRIMARY","001041A","CONCRETE FOR DUMP ROCK FILL TYPE A","TON","703.19","1.06600","CERT",{"$f":"IF(ISNA(VLOOKUP(A767,'(1) Project Reference Item List'!$B$2:$B$499,1,FALSE)),\"\",\"Y\")","v":""}]
["601E25000","DUMPED ROCK FILL, TYPE A","CY","PRIMARY","001030A","SANDSTONE FOR DUMP ROCK FILL TYPE A","TON","703.19","1.15800","CERT",{"$f":"IF(ISNA(VLOOKUP(A768,'(1) Project Reference Item List'!$B$2:$B$499,1,FALSE)),\"\",\"Y\")","v":""}]
["601E25000","DUMPED ROCK FILL, TYPE A","CY","PRIMARY","001020A","LIMESTONE FOR DUMP ROCK FILL TYPE A","TON","703.19","1.22800","CERT",{"$f":"IF(ISNA(VLOOKUP(A769,'(1) Project Reference Item List'!$B$2:$B$499,1,FALSE)),\"\",\"Y\")","v":""}]
["606E17290","GUARDRAIL, TYPE 5, LONG-SPAN","FT","COMPONENT","350WPOST","WOODPOST","EACH","710.12-14","0.00000","CERT",{"$f":"IF(ISNA(VLOOKUP(A770,'(1) Project Reference Item List'!$B$2:$B$499,1,FALSE)),\"\",\"Y\")","v":""}]
["606E17290","GUARDRAIL, TYPE 5, LONG-SPAN","FT","COMPONENT","550SPOST","STEEL POST","EACH","710.15","0.00000","CERT",{"$f":"IF(ISNA(VLOOKUP(A771,'(1) Project Reference Item List'!$B$2:$B$499,1,FALSE)),\"\",\"Y\")","v":""}]
["606E17290","GUARDRAIL, TYPE 5, LONG-SPAN","FT","PRIMARY","550RAIL","RAIL ELEMENT","FT","710.06","2.00000","CERT",{"$f":"IF(ISNA(VLOOKUP(A772,'(1) Project Reference Item List'!$B$2:$B$499,1,FALSE)),\"\",\"Y\")","v":""}]
["606E17351","GUARDRAIL, TYPE MGS, 25' LONG-SPAN, APP","FT","COMPONENT","350WPOST","WOODPOST","EACH","710.12-14","0.00000","CERT",{"$f":"IF(ISNA(VLOOKUP(A773,'(1) Project Reference Item List'!$B$2:$B$499,1,FALSE)),\"\",\"Y\")","v":""}]
["606E17351","GUARDRAIL, TYPE MGS, 25' LONG-SPAN, APP","FT","PRIMARY","550RAIL","RAIL ELEMENT","FT","710.06","1.00000","CERT",{"$f":"IF(ISNA(VLOOKUP(A774,'(1) Project Reference Item List'!$B$2:$B$499,1,FALSE)),\"\",\"Y\")","v":""}]
["606E18500","GUARDRAIL POST, 9 FEET","EACH","PRIMARY","350WPOST","WOODPOST","EACH","710.12-14","1.00000","CERT",{"$f":"IF(ISNA(VLOOKUP(A775,'(1) Project Reference Item List'!$B$2:$B$499,1,FALSE)),\"\",\"Y\")","v":""}]
["606E18500","GUARDRAIL POST, 9 FEET","EACH","PRIMARY","550SPOST","STEEL POST","EACH","710.15","1.00000","CERT",{"$f":"IF(ISNA(VLOOKUP(A776,'(1) Project Reference Item List'!$B$2:$B$499,1,FALSE)),\"\",\"Y\")","v":""}]
["606E18501","GUARDRAIL POST, 9 FEET, APP","EACH","PRIMARY","350WPOST","WOODPOST","EACH","710.12-14","1.00000","CERT",{"$f":"IF(ISNA(VLOOKUP(A777,'(1) Project Reference Item List'!$B$2:$B$499,1,FALSE)),\"\",\"Y\")","v":""}]
["606E18501","GUARDRAIL POST, 9 FEET, APP","EACH","PRIMARY","550SPOST","STEEL POST","EACH","710.15","1.00000","CERT",{"$f":"IF(ISNA(VLOOKUP(A778,'(1) Project Reference Item List'!$B$2:$B$499,1,FALSE)),\"\",\"Y\")","v":""}]
["606E17901","GUARDRAIL POST, APP","EACH","PRIMARY","350WPOST","WOODPOST","EACH","710.12-14","1.00000","CERT",{"$f":"IF(ISNA(VLOOKUP(A779,'(1) Project Reference Item List'!$B$2:$B$499,1,FALSE)),\"\",\"Y\")","v":""}]
["606E17901","GUARDRAIL POST, APP","EACH","COMPONENT","550SPOST","STEEL POST","EACH","710.15","1.00000","CERT",{"$f":"IF(ISNA(VLOOKUP(A780,'(1) Project Reference Item List'!$B$2:$B$499,1,FALSE)),\"\",\"Y\")","v":""}]
["608E20001","2\" ASPHALT CONCRETE WALK, APP","SF","SUBSTITUTE","09AGS8","GRANULATED (BF) SLAG 703.08","TON","703.08","0.00000","CERT",{"$f":"IF(ISNA(VLOOKUP(A781,'(1) Project Reference Item List'!$B$2:$B$499,1,FALSE)),\"\",\"Y\")","v":""}]
["608E20001","2\" ASPHALT CONCRETE WALK, APP","SF","SUBSTITUTE","048304","304 BO SLAG 703.17","TON","703.17","0.00000","CERT",{"$f":"IF(ISNA(VLOOKUP(A782,'(1) Project Reference Item List'!$B$2:$B$499,1,FALSE)),\"\",\"Y\")","v":""}]
["608E20001","2\" ASPHALT CONCRETE WALK, APP","SF","SUBSTITUTE","047304","304 OH SLAG 703.17","TON","703.17","0.00000","CERT",{"$f":"IF(ISNA(VLOOKUP(A783,'(1) Project Reference Item List'!$B$2:$B$499,1,FALSE)),\"\",\"Y\")","v":""}]
["608E20001","2\" ASPHALT CONCRETE WALK, APP","SF","SUBSTITUTE","046304","304 ACBF SLAG 703.17","TON","703.17","0.00000","CERT",{"$f":"IF(ISNA(VLOOKUP(A784,'(1) Project Reference Item List'!$B$2:$B$499,1,FALSE)),\"\",\"Y\")","v":""}]
["608E20001","2\" ASPHALT CONCRETE WALK, APP","SF","COMPONENT","045304","304 CRUSHED STONE 703.17","TON","703.17","0.00000","CERT",{"$f":"IF(ISNA(VLOOKUP(A785,'(1) Project Reference Item List'!$B$2:$B$499,1,FALSE)),\"\",\"Y\")","v":""}]
["608E20001","2\" ASPHALT CONCRETE WALK, APP","SF","COMPONENT","044304","304 CRUSHED GRAVEL 703.17","TON","703.17","0.00000","CERT",{"$f":"IF(ISNA(VLOOKUP(A786,'(1) Project Reference Item List'!$B$2:$B$499,1,FALSE)),\"\",\"Y\")","v":""}]
["608E20010","3\" ASPHALT CONCRETE WALK","SF","SUBSTITUTE","09AGS8","GRANULATED (BF) SLAG 703.08","TON","703.08","0.00000","CERT",{"$f":"IF(ISNA(VLOOKUP(A787,'(1) Project Reference Item List'!$B$2:$B$499,1,FALSE)),\"\",\"Y\")","v":""}]
["608E20010","3\" ASPHALT CONCRETE WALK","SF","SUBSTITUTE","048304","304 BO SLAG 703.17","TON","703.17","0.00000","CERT",{"$f":"IF(ISNA(VLOOKUP(A788,'(1) Project Reference Item List'!$B$2:$B$499,1,FALSE)),\"\",\"Y\")","v":""}]
["608E20010","3\" ASPHALT CONCRETE WALK","SF","SUBSTITUTE","046304","304 ACBF SLAG 703.17","TON","703.17","0.00000","CERT",{"$f":"IF(ISNA(VLOOKUP(A789,'(1) Project Reference Item List'!$B$2:$B$499,1,FALSE)),\"\",\"Y\")","v":""}]
["608E20010","3\" ASPHALT CONCRETE WALK","SF","COMPONENT","045304","304 CRUSHED STONE 703.17","TON","703.17","0.00000","CERT",{"$f":"IF(ISNA(VLOOKUP(A790,'(1) Project Reference Item List'!$B$2:$B$499,1,FALSE)),\"\",\"Y\")","v":""}]
["608E20010","3\" ASPHALT CONCRETE WALK","SF","COMPONENT","044304","304 CRUSHED GRAVEL 703.17","TON","703.17","0.00000","CERT",{"$f":"IF(ISNA(VLOOKUP(A791,'(1) Project Reference Item List'!$B$2:$B$499,1,FALSE)),\"\",\"Y\")","v":""}]
["608E21000","4\" ASPHALT CONCRETE WALK","SF","PRIMARY","1774411","BIT CONC 441 TYPE 1 SURFACE","TON","441","0.02469","JCTL",{"$f":"IF(ISNA(VLOOKUP(A792,'(1) Project Reference Item List'!$B$2:$B$499,1,FALSE)),\"\",\"Y\")","v":""}]
["608E21000","4\" ASPHALT CONCRETE WALK","SF","SUBSTITUTE","09AGS8","GRANULATED (BF) SLAG 703.08","TON","703.08","0.00000","CERT",{"$f":"IF(ISNA(VLOOKUP(A793,'(1) Project Reference Item List'!$B$2:$B$499,1,FALSE)),\"\",\"Y\")","v":""}]
["608E21000","4\" ASPHALT CONCRETE WALK","SF","SUBSTITUTE","048304","304 BO SLAG 703.17","TON","703.17","0.00000","CERT",{"$f":"IF(ISNA(VLOOKUP(A794,'(1) Project Reference Item List'!$B$2:$B$499,1,FALSE)),\"\",\"Y\")","v":""}]
["608E21000","4\" ASPHALT CONCRETE WALK","SF","SUBSTITUTE","047304","304 OH SLAG 703.17","TON","703.17","0.00000","CERT",{"$f":"IF(ISNA(VLOOKUP(A795,'(1) Project Reference Item List'!$B$2:$B$499,1,FALSE)),\"\",\"Y\")","v":""}]
["608E21000","4\" ASPHALT CONCRETE WALK","SF","SUBSTITUTE","046304","304 ACBF SLAG 703.17","TON","703.17","0.00000","CERT",{"$f":"IF(ISNA(VLOOKUP(A796,'(1) Project Reference Item List'!$B$2:$B$499,1,FALSE)),\"\",\"Y\")","v":""}]
["608E21000","4\" ASPHALT CONCRETE WALK","SF","COMPONENT","045304","304 CRUSHED STONE 703.17","TON","703.17","0.00000","CERT",{"$f":"IF(ISNA(VLOOKUP(A797,'(1) Project Reference Item List'!$B$2:$B$499,1,FALSE)),\"\",\"Y\")","v":""}]
["608E21200","TEMP ASPHALT CONCRETE WALK","SF","COMPONENT","044304","304 CRUSHED GRAVEL 703.17","TON","703.17","0.00000","CERT",{"$f":"IF(ISNA(VLOOKUP(A798,'(1) Project Reference Item List'!$B$2:$B$499,1,FALSE)),\"\",\"Y\")","v":""}]
["608E21200","TEMP ASPHALT CONCRETE WALK","SF","PRIMARY","1774411","BIT CONC 441 TYPE 1 SURFACE","TON","441","0.00000","JCTL",{"$f":"IF(ISNA(VLOOKUP(A799,'(1) Project Reference Item List'!$B$2:$B$499,1,FALSE)),\"\",\"Y\")","v":""}]
["608E40000","CONCRETE STEPS, TYPE A","FT","PRIMARY","215QC1","QC 1 CONCRETE - 4000 PSI - WELL GRADED","CY","499","0.04333","JCTL",{"$f":"IF(ISNA(VLOOKUP(A800,'(1) Project Reference Item List'!$B$2:$B$499,1,FALSE)),\"\",\"Y\")","v":""}]
["608E40000","CONCRETE STEPS, TYPE A","FT","COMPONENT","70003S","HANDRAIL FOR STEPS-GALVANIZED STEEL PIPE","FT","STD.DWG MC","0.00000","QPL",{"$f":"IF(ISNA(VLOOKUP(A801,'(1) Project Reference Item List'!$B$2:$B$499,1,FALSE)),\"\",\"Y\")","v":""}]
["608E40000","CONCRETE STEPS, TYPE A","FT","COMPONENT","70003A","HANDRAIL FOR STEPS, ALUMINUM ALLOY PIPE","FT","STD.DWG MC","0.00000","QPL",{"$f":"IF(ISNA(VLOOKUP(A802,'(1) Project Reference Item List'!$B$2:$B$499,1,FALSE)),\"\",\"Y\")","v":""}]
["608E40000","CONCRETE STEPS, TYPE A","FT","SUBSTITUTE","62660","REINFORCING, UNCOATED GRADE 60","LB","709.01","1.40000","CERT",{"$f":"IF(ISNA(VLOOKUP(A803,'(1) Project Reference Item List'!$B$2:$B$499,1,FALSE)),\"\",\"Y\")","v":""}]
["608E40000","CONCRETE STEPS, TYPE A","FT","COMPONENT","62560","REINFORCING, EPOXY COATED GRADE 60","LB","709.00","1.40000","CERT",{"$f":"IF(ISNA(VLOOKUP(A804,'(1) Project Reference Item List'!$B$2:$B$499,1,FALSE)),\"\",\"Y\")","v":""}]
["608E40000","CONCRETE STEPS, TYPE A","FT","COMPONENT","619100","PREFORMED EXPANSION JOINT FILLER 1\"","SF","705.03-711","0.00000","QPL",{"$f":"IF(ISNA(VLOOKUP(A805,'(1) Project Reference Item List'!$B$2:$B$499,1,FALSE)),\"\",\"Y\")","v":""}]
["608E40000","CONCRETE STEPS, TYPE A","FT","COMPONENT","42404OH","CLEAR CURE TYPE1 CL A OR B OR W/DYE","GAL","705.07OH","0.00000","QPL",{"$f":"IF(ISNA(VLOOKUP(A806,'(1) Project Reference Item List'!$B$2:$B$499,1,FALSE)),\"\",\"Y\")","v":""}]
["608E52000","CURB RAMP","SF","COMPONENT","619100","PREFORMED EXPANSION JOINT FILLER 1\"","SF","705.03-711","0.00000","QPL",{"$f":"IF(ISNA(VLOOKUP(A807,'(1) Project Reference Item List'!$B$2:$B$499,1,FALSE)),\"\",\"Y\")","v":""}]
["608E52000","CURB RAMP","SF","COMPONENT","619050","PREFORMED EXPANSION JOINT FILLER 1/2\"","SF","705.03-711","0.00000","QPL",{"$f":"IF(ISNA(VLOOKUP(A808,'(1) Project Reference Item List'!$B$2:$B$499,1,FALSE)),\"\",\"Y\")","v":""}]
["608E52000","CURB RAMP","SF","COMPONENT","42406OH","WHITE CURE TYPE 2 CLASS A OR B","GAL","705.07OH","0.00000","QPL",{"$f":"IF(ISNA(VLOOKUP(A809,'(1) Project Reference Item List'!$B$2:$B$499,1,FALSE)),\"\",\"Y\")","v":""}]
["608E52000","CURB RAMP","SF","PRIMARY","215QCMISC","QC MISCELLANEOUS 4000 PSI","CY","499","0.00000","JCTL",{"$f":"IF(ISNA(VLOOKUP(A810,'(1) Project Reference Item List'!$B$2:$B$499,1,FALSE)),\"\",\"Y\")","v":""}]
["608E52000","CURB RAMP","SF","PRIMARY","215QC1","QC 1 CONCRETE - 4000 PSI - WELL GRADED","CY","499","0.00000","APPR",{"$f":"IF(ISNA(VLOOKUP(A811,'(1) Project Reference Item List'!$B$2:$B$499,1,FALSE)),\"\",\"Y\")","v":""}]
["609E10001","ASPHALT CONCRETE CURB, TYPE 1, APP","FT","COMPONENT","104SS1","ASPHALT ANIONIC EMULS SLOW SET GRADE SS1","GAL","702.04","0.02222","CERT",{"$f":"IF(ISNA(VLOOKUP(A812,'(1) Project Reference Item List'!$B$2:$B$499,1,FALSE)),\"\",\"Y\")","v":""}]
["609E10001","ASPHALT CONCRETE CURB, TYPE 1, APP","FT","PRIMARY","180609","BITUMINOUS CONCRETE 609 CURB MIX","TON","609.02","0.01389","JCTL",{"$f":"IF(ISNA(VLOOKUP(A813,'(1) Project Reference Item List'!$B$2:$B$499,1,FALSE)),\"\",\"Y\")","v":""}]
["609E10001","ASPHALT CONCRETE CURB, TYPE 1, APP","FT","PRIMARY","1774411","BIT CONC 441 TYPE 1 SURFACE","TON","441","0.01389","JCTL",{"$f":"IF(ISNA(VLOOKUP(A814,'(1) Project Reference Item List'!$B$2:$B$499,1,FALSE)),\"\",\"Y\")","v":""}]
["609E14000","CURB, TYPE 2-A","FT","PRIMARY","215QCMISC","QC MISCELLANEOUS 4000 PSI","CY","499","0.00800","JCTL",{"$f":"IF(ISNA(VLOOKUP(A815,'(1) Project Reference Item List'!$B$2:$B$499,1,FALSE)),\"\",\"Y\")","v":""}]
["609E14000","CURB, TYPE 2-A","FT","PRIMARY","215QC1","QC 1 CONCRETE - 4000 PSI - WELL GRADED","CY","499","0.00800","JCTL",{"$f":"IF(ISNA(VLOOKUP(A816,'(1) Project Reference Item List'!$B$2:$B$499,1,FALSE)),\"\",\"Y\")","v":""}]
["609E14000","CURB, TYPE 2-A","FT","COMPONENT","619100","PREFORMED EXPANSION JOINT FILLER 1\"","SF","705.03-711","0.00000","QPL",{"$f":"IF(ISNA(VLOOKUP(A817,'(1) Project Reference Item List'!$B$2:$B$499,1,FALSE)),\"\",\"Y\")","v":""}]
["609E16000","CURB, TYPE 2-B","FT","COMPONENT","42406OH","WHITE CURE TYPE 2 CLASS A OR B","GAL","705.07OH","0.00000","QPL",{"$f":"IF(ISNA(VLOOKUP(A818,'(1) Project Reference Item List'!$B$2:$B$499,1,FALSE)),\"\",\"Y\")","v":""}]
["609E16000","CURB, TYPE 2-B","FT","PRIMARY","215QCMISC","QC MISCELLANEOUS 4000 PSI","CY","499","0.01311","JCTL",{"$f":"IF(ISNA(VLOOKUP(A819,'(1) Project Reference Item List'!$B$2:$B$499,1,FALSE)),\"\",\"Y\")","v":""}]
["609E16000","CURB, TYPE 2-B","FT","PRIMARY","215QC1","QC 1 CONCRETE - 4000 PSI - WELL GRADED","CY","499","0.01311","JCTL",{"$f":"IF(ISNA(VLOOKUP(A820,'(1) Project Reference Item List'!$B$2:$B$499,1,FALSE)),\"\",\"Y\")","v":""}]
["601E32005","ROCK CH PROT, A W/GEOTEX FAB, APP","CY","COMPONENT","71209B","GEOTEXTILE FABRIC TYPE B","SY","712.09","0.00000","APPR",{"$f":"IF(ISNA(VLOOKUP(A821,'(1) Project Reference Item List'!$B$2:$B$499,1,FALSE)),\"\",\"Y\")","v":""}]
["601E32005","ROCK CH PROT, A W/GEOTEX FAB, APP","CY","PRIMARY","001041A","CONCRETE FOR DUMP ROCK FILL TYPE A","TON","703.19","1.00000","CERT",{"$f":"IF(ISNA(VLOOKUP(A822,'(1) Project Reference Item List'!$B$2:$B$499,1,FALSE)),\"\",\"Y\")","v":""}]
["601E32005","ROCK CH PROT, A W/GEOTEX FAB, APP","CY","PRIMARY","001030A","SANDSTONE FOR DUMP ROCK FILL TYPE A","TON","703.19","1.00000","CERT",{"$f":"IF(ISNA(VLOOKUP(A823,'(1) Project Reference Item List'!$B$2:$B$499,1,FALSE)),\"\",\"Y\")","v":""}]
["601E32005","ROCK CH PROT, A W/GEOTEX FAB, APP","CY","PRIMARY","001020A","LIMESTONE FOR DUMP ROCK FILL TYPE A","TON","703.19","1.00000","CERT",{"$f":"IF(ISNA(VLOOKUP(A824,'(1) Project Reference Item List'!$B$2:$B$499,1,FALSE)),\"\",\"Y\")","v":""}]
["601E32100","ROCK CH PROT, B W/FILTER","CY","COMPONENT","71209B","GEOTEXTILE FABRIC TYPE B","SY","712.09","0.00000","APPR",{"$f":"IF(ISNA(VLOOKUP(A825,'(1) Project Reference Item List'!$B$2:$B$499,1,FALSE)),\"\",\"Y\")","v":""}]
["601E32100","ROCK CH PROT, B W/FILTER","CY","COMPONENT","045004","4 CRUSHED STONE 703.04","TON","703.04","0.00000","CERT",{"$f":"IF(ISNA(VLOOKUP(A826,'(1) Project Reference Item List'!$B$2:$B$499,1,FALSE)),\"\",\"Y\")","v":""}]
["601E32100","ROCK CH PROT, B W/FILTER","CY","COMPONENT","045003","3 CRUSHED STONE 703.04","TON","703.04","0.00000","CERT",{"$f":"IF(ISNA(VLOOKUP(A827,'(1) Project Reference Item List'!$B$2:$B$499,1,FALSE)),\"\",\"Y\")","v":""}]
["601E32100","ROCK CH PROT, B W/FILTER","CY","COMPONENT","044004","4 CRUSHED GRAVEL 703.04","TON","703.04","0.00000","CERT",{"$f":"IF(ISNA(VLOOKUP(A828,'(1) Project Reference Item List'!$B$2:$B$499,1,FALSE)),\"\",\"Y\")","v":""}]
["601E32100","ROCK CH PROT, B W/FILTER","CY","PRIMARY","001041B","CONCRETE FOR DUMP ROCK FILL TYPE B","TON","703.19","1.06600","CERT",{"$f":"IF(ISNA(VLOOKUP(A829,'(1) Project Reference Item List'!$B$2:$B$499,1,FALSE)),\"\",\"Y\")","v":""}]
["601E32100","ROCK CH PROT, B W/FILTER","CY","PRIMARY","001030B","SANDSTONE FOR DUMP ROCK FILL TYPE B","TON","703.19","1.15800","CERT",{"$f":"IF(ISNA(VLOOKUP(A830,'(1) Project Reference Item List'!$B$2:$B$499,1,FALSE)),\"\",\"Y\")","v":""}]
["601E32100","ROCK CH PROT, B W/FILTER","CY","PRIMARY","001020B","LIMESTONE FOR DUMP ROCK FILL TYPE B","TON","703.19","1.22800","CERT",{"$f":"IF(ISNA(VLOOKUP(A831,'(1) Project Reference Item List'!$B$2:$B$499,1,FALSE)),\"\",\"Y\")","v":""}]
["601E32105","ROCK CH PROT, B W/GEOTEX FAB, APP","CY","PRIMARY","001041B","CONCRETE FOR DUMP ROCK FILL TYPE B","TON","703.19","1.06600","CERT",{"$f":"IF(ISNA(VLOOKUP(A832,'(1) Project Reference Item List'!$B$2:$B$499,1,FALSE)),\"\",\"Y\")","v":""}]
["601E32105","ROCK CH PROT, B W/GEOTEX FAB, APP","CY","PRIMARY","001030B","SANDSTONE FOR DUMP ROCK FILL TYPE B","TON","703.19","1.15800","CERT",{"$f":"IF(ISNA(VLOOKUP(A833,'(1) Project Reference Item List'!$B$2:$B$499,1,FALSE)),\"\",\"Y\")","v":""}]
["601E32105","ROCK CH PROT, B W/GEOTEX FAB, APP","CY","PRIMARY","001020B","LIMESTONE FOR DUMP ROCK FILL TYPE B","TON","703.19","1.22800","CERT",{"$f":"IF(ISNA(VLOOKUP(A834,'(1) Project Reference Item List'!$B$2:$B$499,1,FALSE)),\"\",\"Y\")","v":""}]
["601E32105","ROCK CH PROT, B W/GEOTEX FAB, APP","CY","PRIMARY","001019B","GRAVEL FOR DUMP ROCK FILL TYPE B","TON","703.19","1.21400","CERT",{"$f":"IF(ISNA(VLOOKUP(A835,'(1) Project Reference Item List'!$B$2:$B$499,1,FALSE)),\"\",\"Y\")","v":""}]
["601E32110","ROCK CH PROT, B W/AGG FILTER","CY","COMPONENT","045004","4 CRUSHED STONE 703.04","TON","703.04","0.00000","CERT",{"$f":"IF(ISNA(VLOOKUP(A836,'(1) Project Reference Item List'!$B$2:$B$499,1,FALSE)),\"\",\"Y\")","v":""}]
["601E32110","ROCK CH PROT, B W/AGG FILTER","CY","COMPONENT","045003","3 CRUSHED STONE 703.04","TON","703.04","0.00000","CERT",{"$f":"IF(ISNA(VLOOKUP(A837,'(1) Project Reference Item List'!$B$2:$B$499,1,FALSE)),\"\",\"Y\")","v":""}]
["601E32110","ROCK CH PROT, B W/AGG FILTER","CY","COMPONENT","044004","4 CRUSHED GRAVEL 703.04","TON","703.04","0.00000","CERT",{"$f":"IF(ISNA(VLOOKUP(A838,'(1) Project Reference Item List'!$B$2:$B$499,1,FALSE)),\"\",\"Y\")","v":""}]
["601E32110","ROCK CH PROT, B W/AGG FILTER","CY","PRIMARY","001041B","CONCRETE FOR DUMP ROCK FILL TYPE B","TON","703.19","1.06600","CERT",{"$f":"IF(ISNA(VLOOKUP(A839,'(1) Project Reference Item List'!$B$2:$B$499,1,FALSE)),\"\",\"Y\")","v":""}]
["601E32110","ROCK CH PROT, B W/AGG FILTER","CY","PRIMARY","001030B","SANDSTONE FOR DUMP ROCK FILL TYPE B","TON","703.19","1.15800","CERT",{"$f":"IF(ISNA(VLOOKUP(A840,'(1) Project Reference Item List'!$B$2:$B$499,1,FALSE)),\"\",\"Y\")","v":""}]
["601E32110","ROCK CH PROT, B W/AGG FILTER","CY","PRIMARY","001020B","LIMESTONE FOR DUMP ROCK FILL TYPE B","TON","703.19","1.22800","CERT",{"$f":"IF(ISNA(VLOOKUP(A841,'(1) Project Reference Item List'!$B$2:$B$499,1,FALSE)),\"\",\"Y\")","v":""}]
["601E32201","ROCK CH PROT, C W/FILTER, APP","CY","COMPONENT","044004","4 CRUSHED GRAVEL 703.04","TON","703.04","0.00000","CERT",{"$f":"IF(ISNA(VLOOKUP(A842,'(1) Project Reference Item List'!$B$2:$B$499,1,FALSE)),\"\",\"Y\")","v":""}]
["601E32201","ROCK CH PROT, C W/FILTER, APP","CY","PRIMARY","001041C","CONCRETE FOR DUMP ROCK FILL TYPE C","TON","703.19","1.06600","CERT",{"$f":"IF(ISNA(VLOOKUP(A843,'(1) Project Reference Item List'!$B$2:$B$499,1,FALSE)),\"\",\"Y\")","v":""}]
["601E32201","ROCK CH PROT, C W/FILTER, APP","CY","PRIMARY","001030C","SANDSTONE FOR DUMP ROCK FILL TYPE C","TON","703.19","1.15800","CERT",{"$f":"IF(ISNA(VLOOKUP(A844,'(1) Project Reference Item List'!$B$2:$B$499,1,FALSE)),\"\",\"Y\")","v":""}]
["601E32201","ROCK CH PROT, C W/FILTER, APP","CY","PRIMARY","001020C","LIMESTONE FOR DUMP ROCK FILL TYPE C","TON","703.19","1.22800","CERT",{"$f":"IF(ISNA(VLOOKUP(A845,'(1) Project Reference Item List'!$B$2:$B$499,1,FALSE)),\"\",\"Y\")","v":""}]
["601E32201","ROCK CH PROT, C W/FILTER, APP","CY","PRIMARY","001019C","GRAVEL FOR DUMP ROCK FILL TYPE C","TON","703.19","1.21400","CERT",{"$f":"IF(ISNA(VLOOKUP(A846,'(1) Project Reference Item List'!$B$2:$B$499,1,FALSE)),\"\",\"Y\")","v":""}]
["601E32201","ROCK CH PROT, C W/FILTER, APP","CY","COMPONENT","71209B","GEOTEXTILE FABRIC TYPE B","SY","712.09","0.00000","APPR",{"$f":"IF(ISNA(VLOOKUP(A847,'(1) Project Reference Item List'!$B$2:$B$499,1,FALSE)),\"\",\"Y\")","v":""}]
["601E32201","ROCK CH PROT, C W/FILTER, APP","CY","COMPONENT","045004","4 CRUSHED STONE 703.04","TON","703.04","0.00000","CERT",{"$f":"IF(ISNA(VLOOKUP(A848,'(1) Project Reference Item List'!$B$2:$B$499,1,FALSE)),\"\",\"Y\")","v":""}]
["601E32301","ROCK CH PROT, D W/FILTER, APP","CY","PRIMARY","001030D","SANDSTONE FOR DUMP ROCK FILL TYPE D","TON","703.19","1.15800","CERT",{"$f":"IF(ISNA(VLOOKUP(A849,'(1) Project Reference Item List'!$B$2:$B$499,1,FALSE)),\"\",\"Y\")","v":""}]
["601E32301","ROCK CH PROT, D W/FILTER, APP","CY","PRIMARY","001020D","LIMESTONE FOR DUMP ROCK FILL TYPE D","TON","703.19","1.22800","CERT",{"$f":"IF(ISNA(VLOOKUP(A850,'(1) Project Reference Item List'!$B$2:$B$499,1,FALSE)),\"\",\"Y\")","v":""}]
["601E32301","ROCK CH PROT, D W/FILTER, APP","CY","PRIMARY","001019D","GRAVEL FOR DUMP ROCK FILL TYPE D","TON","703.19","1.21400","CERT",{"$f":"IF(ISNA(VLOOKUP(A851,'(1) Project Reference Item List'!$B$2:$B$499,1,FALSE)),\"\",\"Y\")","v":""}]
["601E32301","ROCK CH PROT, D W/FILTER, APP","CY","COMPONENT","045004","4 CRUSHED STONE 703.04","TON","703.04","0.00000","CERT",{"$f":"IF(ISNA(VLOOKUP(A852,'(1) Project Reference Item List'!$B$2:$B$499,1,FALSE)),\"\",\"Y\")","v":""}]
["601E32301","ROCK CH PROT, D W/FILTER, APP","CY","COMPONENT","045003","3 CRUSHED STONE 703.04","TON","703.04","0.00000","CERT",{"$f":"IF(ISNA(VLOOKUP(A853,'(1) Project Reference Item List'!$B$2:$B$499,1,FALSE)),\"\",\"Y\")","v":""}]
["601E32301","ROCK CH PROT, D W/FILTER, APP","CY","COMPONENT","044004","4 CRUSHED GRAVEL 703.04","TON","703.04","0.00000","CERT",{"$f":"IF(ISNA(VLOOKUP(A854,'(1) Project Reference Item List'!$B$2:$B$499,1,FALSE)),\"\",\"Y\")","v":""}]
["601E34000","ROCK CH PROT, A W/O FILTER","CY","PRIMARY","001019A","GRAVEL FOR DUMP ROCK FILL TYPE A","TON","703.19","1.21400","CERT",{"$f":"IF(ISNA(VLOOKUP(A855,'(1) Project Reference Item List'!$B$2:$B$499,1,FALSE)),\"\",\"Y\")","v":""}]
["601E34000","ROCK CH PROT, A W/O FILTER","CY","PRIMARY","001041A","CONCRETE FOR DUMP ROCK FILL TYPE A","TON","703.19","1.06600","CERT",{"$f":"IF(ISNA(VLOOKUP(A856,'(1) Project Reference Item List'!$B$2:$B$499,1,FALSE)),\"\",\"Y\")","v":""}]
["601E34000","ROCK CH PROT, A W/O FILTER","CY","PRIMARY","001030A","SANDSTONE FOR DUMP ROCK FILL TYPE A","TON","703.19","1.15800","CERT",{"$f":"IF(ISNA(VLOOKUP(A857,'(1) Project Reference Item List'!$B$2:$B$499,1,FALSE)),\"\",\"Y\")","v":""}]
["601E34100","ROCK CH PROT, B W/O FILTER","CY","PRIMARY","001019B","GRAVEL FOR DUMP ROCK FILL TYPE B","TON","703.19","1.21400","CERT",{"$f":"IF(ISNA(VLOOKUP(A858,'(1) Project Reference Item List'!$B$2:$B$499,1,FALSE)),\"\",\"Y\")","v":""}]
["601E34100","ROCK CH PROT, B W/O FILTER","CY","PRIMARY","001041B","CONCRETE FOR DUMP ROCK FILL TYPE B","TON","703.19","1.06600","CERT",{"$f":"IF(ISNA(VLOOKUP(A859,'(1) Project Reference Item List'!$B$2:$B$499,1,FALSE)),\"\",\"Y\")","v":""}]
["601E34100","ROCK CH PROT, B W/O FILTER","CY","PRIMARY","001030B","SANDSTONE FOR DUMP ROCK FILL TYPE B","TON","703.19","1.15800","CERT",{"$f":"IF(ISNA(VLOOKUP(A860,'(1) Project Reference Item List'!$B$2:$B$499,1,FALSE)),\"\",\"Y\")","v":""}]
["606E25001","ANCHOR ASSEMBLY, TYPE A, APP","EACH","COMPONENT","550HWMISC","GUARDRAIL HARDWARE","EACH","710.15","1.00000","CERT",{"$f":"IF(ISNA(VLOOKUP(A861,'(1) Project Reference Item List'!$B$2:$B$499,1,FALSE)),\"\",\"Y\")","v":""}]
["606E25001","ANCHOR ASSEMBLY, TYPE A, APP","EACH","COMPONENT","550ESECT","GUARDRAIL END SECTION","EACH","710.06","1.00000","JCTL",{"$f":"IF(ISNA(VLOOKUP(A862,'(1) Project Reference Item List'!$B$2:$B$499,1,FALSE)),\"\",\"Y\")","v":""}]
["606E25001","ANCHOR ASSEMBLY, TYPE A, APP","EACH","COMPONENT","215QCMISC","QC MISCELLANEOUS 4000 PSI","CY","499","0.00000","JCTL",{"$f":"IF(ISNA(VLOOKUP(A863,'(1) Project Reference Item List'!$B$2:$B$499,1,FALSE)),\"\",\"Y\")","v":""}]
["606E25001","ANCHOR ASSEMBLY, TYPE A, APP","EACH","COMPONENT","62709","REINFORCING, WELDED REBAR AND ROD MATS","SF","709.10","0.00000","JCTL",{"$f":"IF(ISNA(VLOOKUP(A864,'(1) Project Reference Item List'!$B$2:$B$499,1,FALSE)),\"\",\"Y\")","v":""}]
["606E25001","ANCHOR ASSEMBLY, TYPE A, APP","EACH","COMPONENT","62660","REINFORCING, UNCOATED GRADE 60","LB","709.01","0.00000","CERT",{"$f":"IF(ISNA(VLOOKUP(A865,'(1) Project Reference Item List'!$B$2:$B$499,1,FALSE)),\"\",\"Y\")","v":""}]
["606E25001","ANCHOR ASSEMBLY, TYPE A, APP","EACH","COMPONENT","62560","REINFORCING, EPOXY COATED GRADE 60","LB","709.00","0.00000","CERT",{"$f":"IF(ISNA(VLOOKUP(A866,'(1) Project Reference Item List'!$B$2:$B$499,1,FALSE)),\"\",\"Y\")","v":""}]
["606E25001","ANCHOR ASSEMBLY, TYPE A, APP","EACH","COMPONENT","550SPOST","STEEL POST","EACH","710.15","2.00000","CERT",{"$f":"IF(ISNA(VLOOKUP(A867,'(1) Project Reference Item List'!$B$2:$B$499,1,FALSE)),\"\",\"Y\")","v":""}]
["606E19100","GUARDRAIL POST, MGS LONG POST","EACH","COMPONENT","550HWMISC","GUARDRAIL HARDWARE","EACH","710.15","0.00000","CERT",{"$f":"IF(ISNA(VLOOKUP(A868,'(1) Project Reference Item List'!$B$2:$B$499,1,FALSE)),\"\",\"Y\")","v":""}]
["606E27801","ANCH ASSY REBUILT, TYPE A, APP","EACH","COMPONENT","62709","REINFORCING, WELDED REBAR AND ROD MATS","SF","709.10","0.00000","CERT",{"$f":"IF(ISNA(VLOOKUP(A869,'(1) Project Reference Item List'!$B$2:$B$499,1,FALSE)),\"\",\"Y\")","v":""}]
["606E27801","ANCH ASSY REBUILT, TYPE A, APP","EACH","COMPONENT","62660","REINFORCING, UNCOATED GRADE 60","LB","709.01","0.00000","CERT",{"$f":"IF(ISNA(VLOOKUP(A870,'(1) Project Reference Item List'!$B$2:$B$499,1,FALSE)),\"\",\"Y\")","v":""}]
["606E27801","ANCH ASSY REBUILT, TYPE A, APP","EACH","COMPONENT","62560","REINFORCING, EPOXY COATED GRADE 60","LB","709.00","0.00000","CERT",{"$f":"IF(ISNA(VLOOKUP(A871,'(1) Project Reference Item List'!$B$2:$B$499,1,FALSE)),\"\",\"Y\")","v":""}]
["606E27801","ANCH ASSY REBUILT, TYPE A, APP","EACH","COMPONENT","550SPOST","STEEL POST","EACH","710.15","2.00000","CERT",{"$f":"IF(ISNA(VLOOKUP(A872,'(1) Project Reference Item List'!$B$2:$B$499,1,FALSE)),\"\",\"Y\")","v":""}]
["606E27801","ANCH ASSY REBUILT, TYPE A, APP","EACH","PRIMARY","550RAIL","RAIL ELEMENT","FT","710.06","25.00000","CERT",{"$f":"IF(ISNA(VLOOKUP(A873,'(1) Project Reference Item List'!$B$2:$B$499,1,FALSE)),\"\",\"Y\")","v":""}]
["606E27801","ANCH ASSY REBUILT, TYPE A, APP","EACH","COMPONENT","550HWMISC","GUARDRAIL HARDWARE","EACH","710.15","1.00000","CERT",{"$f":"IF(ISNA(VLOOKUP(A874,'(1) Project Reference Item List'!$B$2:$B$499,1,FALSE)),\"\",\"Y\")","v":""}]
["606E25500","ANCH ASSY, BARR DES, TYPE A","EACH","COMPONENT","550SPOST","STEEL POST","EACH","710.15","2.00000","CERT",{"$f":"IF(ISNA(VLOOKUP(A875,'(1) Project Reference Item List'!$B$2:$B$499,1,FALSE)),\"\",\"Y\")","v":""}]
["606E25500","ANCH ASSY, BARR DES, TYPE A","EACH","PRIMARY","550RAIL","RAIL ELEMENT","FT","710.06","50.00000","CERT",{"$f":"IF(ISNA(VLOOKUP(A876,'(1) Project Reference Item List'!$B$2:$B$499,1,FALSE)),\"\",\"Y\")","v":""}]
["606E25500","ANCH ASSY, BARR DES, TYPE A","EACH","COMPONENT","550HWMISC","GUARDRAIL HARDWARE","EACH","710.15","1.00000","CERT",{"$f":"IF(ISNA(VLOOKUP(A877,'(1) Project Reference Item List'!$B$2:$B$499,1,FALSE)),\"\",\"Y\")","v":""}]
["606E25500","ANCH ASSY, BARR DES, TYPE A","EACH","COMPONENT","550ESECT","GUARDRAIL END SECTION","EACH","710.06","1.00000","CERT",{"$f":"IF(ISNA(VLOOKUP(A878,'(1) Project Reference Item List'!$B$2:$B$499,1,FALSE)),\"\",\"Y\")","v":""}]
["606E25500","ANCH ASSY, BARR DES, TYPE A","EACH","COMPONENT","215QCMISC","QC MISCELLANEOUS 4000 PSI","CY","499","0.00000","JCTL",{"$f":"IF(ISNA(VLOOKUP(A879,'(1) Project Reference Item List'!$B$2:$B$499,1,FALSE)),\"\",\"Y\")","v":""}]
["606E25500","ANCH ASSY, BARR DES, TYPE A","EACH","COMPONENT","62709","REINFORCING, WELDED REBAR AND ROD MATS","SF","709.10","0.00000","CERT",{"$f":"IF(ISNA(VLOOKUP(A880,'(1) Project Reference Item List'!$B$2:$B$499,1,FALSE)),\"\",\"Y\")","v":""}]
["606E25500","ANCH ASSY, BARR DES, TYPE A","EACH","COMPONENT","62660","REINFORCING, UNCOATED GRADE 60","LB","709.01","0.00000","CERT",{"$f":"IF(ISNA(VLOOKUP(A881,'(1) Project Reference Item List'!$B$2:$B$499,1,FALSE)),\"\",\"Y\")","v":""}]
["606E19101","GUARDRAIL POST, MGS LONG POST, APP","EACH","COMPONENT","550HWMISC","GUARDRAIL HARDWARE","EACH","710.15","0.00000","CERT",{"$f":"IF(ISNA(VLOOKUP(A882,'(1) Project Reference Item List'!$B$2:$B$499,1,FALSE)),\"\",\"Y\")","v":""}]
["606E25600","ANCHOR ASSEMBLY, BRRER DSGN, MGS TYPE A","EACH","COMPONENT","550ESECT","GUARDRAIL END SECTION","EACH","710.06","1.00000","CERT",{"$f":"IF(ISNA(VLOOKUP(A883,'(1) Project Reference Item List'!$B$2:$B$499,1,FALSE)),\"\",\"Y\")","v":""}]
["606E25600","ANCHOR ASSEMBLY, BRRER DSGN, MGS TYPE A","EACH","COMPONENT","62709","REINFORCING, WELDED REBAR AND ROD MATS","SF","709.10","0.00000","CERT",{"$f":"IF(ISNA(VLOOKUP(A884,'(1) Project Reference Item List'!$B$2:$B$499,1,FALSE)),\"\",\"Y\")","v":""}]
["606E25600","ANCHOR ASSEMBLY, BRRER DSGN, MGS TYPE A","EACH","COMPONENT","62660","REINFORCING, UNCOATED GRADE 60","LB","709.01","0.00000","CERT",{"$f":"IF(ISNA(VLOOKUP(A885,'(1) Project Reference Item List'!$B$2:$B$499,1,FALSE)),\"\",\"Y\")","v":""}]
["606E25600","ANCHOR ASSEMBLY, BRRER DSGN, MGS TYPE A","EACH","COMPONENT","62560","REINFORCING, EPOXY COATED GRADE 60","LB","709.00","0.00000","CERT",{"$f":"IF(ISNA(VLOOKUP(A886,'(1) Project Reference Item List'!$B$2:$B$499,1,FALSE)),\"\",\"Y\")","v":""}]
["606E25600","ANCHOR ASSEMBLY, BRRER DSGN, MGS TYPE A","EACH","PRIMARY","550RAIL","RAIL ELEMENT","FT","710.06","50.00000","CERT",{"$f":"IF(ISNA(VLOOKUP(A887,'(1) Project Reference Item List'!$B$2:$B$499,1,FALSE)),\"\",\"Y\")","v":""}]
["606E26000","ANCHOR ASSEMBLY, TYPE B","EACH","PRIMARY","550ESECT","GUARDRAIL END SECTION","EACH","710.06","1.00000","CERT",{"$f":"IF(ISNA(VLOOKUP(A888,'(1) Project Reference Item List'!$B$2:$B$499,1,FALSE)),\"\",\"Y\")","v":""}]
["609E20000","CURB, TYPE 3-A","FT","PRIMARY","215QC1","QC 1 CONCRETE - 4000 PSI - WELL GRADED","CY","499","0.00535","JCTL",{"$f":"IF(ISNA(VLOOKUP(A889,'(1) Project Reference Item List'!$B$2:$B$499,1,FALSE)),\"\",\"Y\")","v":""}]
["609E20000","CURB, TYPE 3-A","FT","COMPONENT","619100","PREFORMED EXPANSION JOINT FILLER 1\"","SF","705.03-711","0.00000","QPL",{"$f":"IF(ISNA(VLOOKUP(A890,'(1) Project Reference Item List'!$B$2:$B$499,1,FALSE)),\"\",\"Y\")","v":""}]
["609E20000","CURB, TYPE 3-A","FT","COMPONENT","42406OH","WHITE CURE TYPE 2 CLASS A OR B","GAL","705.07OH","0.00600","QPL",{"$f":"IF(ISNA(VLOOKUP(A891,'(1) Project Reference Item List'!$B$2:$B$499,1,FALSE)),\"\",\"Y\")","v":""}]
["609E24001","CURB, TYPE 4-A, APP","FT","PRIMARY","215QC1","QC 1 CONCRETE - 4000 PSI - WELL GRADED","CY","499","0.00514","JCTL",{"$f":"IF(ISNA(VLOOKUP(A892,'(1) Project Reference Item List'!$B$2:$B$499,1,FALSE)),\"\",\"Y\")","v":""}]
["609E24001","CURB, TYPE 4-A, APP","FT","COMPONENT","619100","PREFORMED EXPANSION JOINT FILLER 1\"","SF","705.03-711","0.00000","QPL",{"$f":"IF(ISNA(VLOOKUP(A893,'(1) Project Reference Item List'!$B$2:$B$499,1,FALSE)),\"\",\"Y\")","v":""}]
["609E24001","CURB, TYPE 4-A, APP","FT","COMPONENT","42406OH","WHITE CURE TYPE 2 CLASS A OR B","GAL","705.07OH","0.00000","QPL",{"$f":"IF(ISNA(VLOOKUP(A894,'(1) Project Reference Item List'!$B$2:$B$499,1,FALSE)),\"\",\"Y\")","v":""}]
["609E24510","CURB, TYPE 4-C","FT","PRIMARY","215QC1","QC 1 CONCRETE - 4000 PSI - WELL GRADED","CY","499","0.02400","JCTL",{"$f":"IF(ISNA(VLOOKUP(A895,'(1) Project Reference Item List'!$B$2:$B$499,1,FALSE)),\"\",\"Y\")","v":""}]
["609E24510","CURB, TYPE 4-C","FT","COMPONENT","619100","PREFORMED EXPANSION JOINT FILLER 1\"","SF","705.03-711","0.00000","QPL",{"$f":"IF(ISNA(VLOOKUP(A896,'(1) Project Reference Item List'!$B$2:$B$499,1,FALSE)),\"\",\"Y\")","v":""}]
["609E24510","CURB, TYPE 4-C","FT","COMPONENT","42406OH","WHITE CURE TYPE 2 CLASS A OR B","GAL","705.07OH","0.00000","QPL",{"$f":"IF(ISNA(VLOOKUP(A897,'(1) Project Reference Item List'!$B$2:$B$499,1,FALSE)),\"\",\"Y\")","v":""}]
["609E24511","CURB, TYPE 4-C, APP","FT","PRIMARY","215QC1","QC 1 CONCRETE - 4000 PSI - WELL GRADED","CY","499","0.02400","JCTL",{"$f":"IF(ISNA(VLOOKUP(A898,'(1) Project Reference Item List'!$B$2:$B$499,1,FALSE)),\"\",\"Y\")","v":""}]
["609E24511","CURB, TYPE 4-C, APP","FT","COMPONENT","619100","PREFORMED EXPANSION JOINT FILLER 1\"","SF","705.03-711","0.00000","QPL",{"$f":"IF(ISNA(VLOOKUP(A899,'(1) Project Reference Item List'!$B$2:$B$499,1,FALSE)),\"\",\"Y\")","v":""}]
["609E24511","CURB, TYPE 4-C, APP","FT","COMPONENT","42406OH","WHITE CURE TYPE 2 CLASS A OR B","GAL","705.07OH","0.00000","QPL",{"$f":"IF(ISNA(VLOOKUP(A900,'(1) Project Reference Item List'!$B$2:$B$499,1,FALSE)),\"\",\"Y\")","v":""}]
["609E28000","CURB, TYPE 7","FT","PRIMARY","215QC1","QC 1 CONCRETE - 4000 PSI - WELL GRADED","CY","499","0.03717","JCTL",{"$f":"IF(ISNA(VLOOKUP(A901,'(1) Project Reference Item List'!$B$2:$B$499,1,FALSE)),\"\",\"Y\")","v":""}]
["609E28000","CURB, TYPE 7","FT","COMPONENT","619100","PREFORMED EXPANSION JOINT FILLER 1\"","SF","705.03-711","0.00000","QPL",{"$f":"IF(ISNA(VLOOKUP(A902,'(1) Project Reference Item List'!$B$2:$B$499,1,FALSE)),\"\",\"Y\")","v":""}]
["609E28000","CURB, TYPE 7","FT","COMPONENT","619050","PREFORMED EXPANSION JOINT FILLER 1/2\"","SF","705.03-711","0.00000","QPL",{"$f":"IF(ISNA(VLOOKUP(A903,'(1) Project Reference Item List'!$B$2:$B$499,1,FALSE)),\"\",\"Y\")","v":""}]
["609E28000","CURB, TYPE 7","FT","COMPONENT","42406OH","WHITE CURE TYPE 2 CLASS A OR B","GAL","705.07OH","0.00000","QPL",{"$f":"IF(ISNA(VLOOKUP(A904,'(1) Project Reference Item List'!$B$2:$B$499,1,FALSE)),\"\",\"Y\")","v":""}]
["609E28001","CURB, TYPE 7, APP","FT","PRIMARY","215QC1","QC 1 CONCRETE - 4000 PSI - WELL GRADED","CY","499","0.03717","JCTL",{"$f":"IF(ISNA(VLOOKUP(A905,'(1) Project Reference Item List'!$B$2:$B$499,1,FALSE)),\"\",\"Y\")","v":""}]
["609E28001","CURB, TYPE 7, APP","FT","COMPONENT","619100","PREFORMED EXPANSION JOINT FILLER 1\"","SF","705.03-711","0.00000","QPL",{"$f":"IF(ISNA(VLOOKUP(A906,'(1) Project Reference Item List'!$B$2:$B$499,1,FALSE)),\"\",\"Y\")","v":""}]
["609E28001","CURB, TYPE 7, APP","FT","COMPONENT","619050","PREFORMED EXPANSION JOINT FILLER 1/2\"","SF","705.03-711","0.00000","QPL",{"$f":"IF(ISNA(VLOOKUP(A907,'(1) Project Reference Item List'!$B$2:$B$499,1,FALSE)),\"\",\"Y\")","v":""}]
["609E60000","9\" CONCRETE TRAFFIC ISLAND","CY","COMPONENT","619100","PREFORMED EXPANSION JOINT FILLER 1\"","SF","705.03-711","0.00000","QPL",{"$f":"IF(ISNA(VLOOKUP(A908,'(1) Project Reference Item List'!$B$2:$B$499,1,FALSE)),\"\",\"Y\")","v":""}]
["609E60000","9\" CONCRETE TRAFFIC ISLAND","CY","COMPONENT","619050","PREFORMED EXPANSION JOINT FILLER 1/2\"","SF","705.03-711","0.00000","QPL",{"$f":"IF(ISNA(VLOOKUP(A909,'(1) Project Reference Item List'!$B$2:$B$499,1,FALSE)),\"\",\"Y\")","v":""}]
["609E60000","9\" CONCRETE TRAFFIC ISLAND","CY","COMPONENT","61607","JOINT & CRACK SEALER, HOT APPLIED 705.04","LB","705.04","0.00000","CERT",{"$f":"IF(ISNA(VLOOKUP(A910,'(1) Project Reference Item List'!$B$2:$B$499,1,FALSE)),\"\",\"Y\")","v":""}]
["609E60000","9\" CONCRETE TRAFFIC ISLAND","CY","COMPONENT","42406OH","WHITE CURE TYPE 2 CLASS A OR B","GAL","705.07OH","0.00000","QPL",{"$f":"IF(ISNA(VLOOKUP(A911,'(1) Project Reference Item List'!$B$2:$B$499,1,FALSE)),\"\",\"Y\")","v":""}]
["609E60000","9\" CONCRETE TRAFFIC ISLAND","CY","PRIMARY","215QC1","QC 1 CONCRETE - 4000 PSI - WELL GRADED","CY","499","1.00000","JCTL",{"$f":"IF(ISNA(VLOOKUP(A912,'(1) Project Reference Item List'!$B$2:$B$499,1,FALSE)),\"\",\"Y\")","v":""}]
["517E71503","RLG(CONC PPT W/DOUBLE PIPE)QC/QA, APP","FT","COMPONENT","619025","PREFORMED EXPANSION JOINT FILLER 1/4\"","SF","705.03-711","0.00000","QPL",{"$f":"IF(ISNA(VLOOKUP(A913,'(1) Project Reference Item List'!$B$2:$B$499,1,FALSE)),\"\",\"Y\")","v":""}]
["517E71503","RLG(CONC PPT W/DOUBLE PIPE)QC/QA, APP","FT","COMPONENT","550HWMISC","GUARDRAIL HARDWARE","EACH","710.15","0.00000","CERT",{"$f":"IF(ISNA(VLOOKUP(A914,'(1) Project Reference Item List'!$B$2:$B$499,1,FALSE)),\"\",\"Y\")","v":""}]
["517E71503","RLG(CONC PPT W/DOUBLE PIPE)QC/QA, APP","FT","PRIMARY","54100","ALUMINUM RAIL PER PLAN","FT","517","1.00000","CERT",{"$f":"IF(ISNA(VLOOKUP(A915,'(1) Project Reference Item List'!$B$2:$B$499,1,FALSE)),\"\",\"Y\")","v":""}]
["517E71503","RLG(CONC PPT W/DOUBLE PIPE)QC/QA, APP","FT","COMPONENT","42404OH","CLEAR CURE TYPE1 CL A OR B OR W/DYE","GAL","705.07OH","0.00000","QPL",{"$f":"IF(ISNA(VLOOKUP(A916,'(1) Project Reference Item List'!$B$2:$B$499,1,FALSE)),\"\",\"Y\")","v":""}]
["517E71503","RLG(CONC PPT W/DOUBLE PIPE)QC/QA, APP","FT","COMPONENT","21527","CONCRETE HIGH PERFORMANCE MIX 4","CY","499 511","0.06867","JCTL",{"$f":"IF(ISNA(VLOOKUP(A917,'(1) Project Reference Item List'!$B$2:$B$499,1,FALSE)),\"\",\"Y\")","v":""}]
["517E71503","RLG(CONC PPT W/DOUBLE PIPE)QC/QA, APP","FT","COMPONENT","21526","CONCRETE HIGH PERFORMANCE MIX 3","CY","499 511","0.06867","JCTL",{"$f":"IF(ISNA(VLOOKUP(A918,'(1) Project Reference Item List'!$B$2:$B$499,1,FALSE)),\"\",\"Y\")","v":""}]
["517E71503","RLG(CONC PPT W/DOUBLE PIPE)QC/QA, APP","FT","COMPONENT","21525","CONCRETE HIGH PERFORMANCE MIX 2","CY","499 511","0.06867","JCTL",{"$f":"IF(ISNA(VLOOKUP(A919,'(1) Project Reference Item List'!$B$2:$B$499,1,FALSE)),\"\",\"Y\")","v":""}]
["517E71503","RLG(CONC PPT W/DOUBLE PIPE)QC/QA, APP","FT","COMPONENT","62660","REINFORCING, UNCOATED GRADE 60","LB","709.01","0.00000","CERT",{"$f":"IF(ISNA(VLOOKUP(A920,'(1) Project Reference Item List'!$B$2:$B$499,1,FALSE)),\"\",\"Y\")","v":""}]
["517E71503","RLG(CONC PPT W/DOUBLE PIPE)QC/QA, APP","FT","COMPONENT","62560","REINFORCING, EPOXY COATED GRADE 60","LB","709.00","0.00000","CERT",{"$f":"IF(ISNA(VLOOKUP(A921,'(1) Project Reference Item List'!$B$2:$B$499,1,FALSE)),\"\",\"Y\")","v":""}]
["410E11000","TRAF COMP SURF, TYPE B","CY","SUBSTITUTE","07E41B","410B RECYCLED CONCRETE (703.18)","TON","703.18","1.12500","CERT",{"$f":"IF(ISNA(VLOOKUP(A922,'(1) Project Reference Item List'!$B$2:$B$499,1,FALSE)),\"\",\"Y\")","v":""}]
["410E11000","TRAF COMP SURF, TYPE B","CY","SUBSTITUTE","07841B","410B BO SLAG (703)","TON","703.18","1.50000","CERT",{"$f":"IF(ISNA(VLOOKUP(A923,'(1) Project Reference Item List'!$B$2:$B$499,1,FALSE)),\"\",\"Y\")","v":""}]
["410E11000","TRAF COMP SURF, TYPE B","CY","SUBSTITUTE","07741B","410B OH SLAG (703)","TON","703.18","1.50000","CERT",{"$f":"IF(ISNA(VLOOKUP(A924,'(1) Project Reference Item List'!$B$2:$B$499,1,FALSE)),\"\",\"Y\")","v":""}]
["410E11000","TRAF COMP SURF, TYPE B","CY","SUBSTITUTE","07641B","410B ACBF SLAG (703)","TON","703.18","1.00000","CERT",{"$f":"IF(ISNA(VLOOKUP(A925,'(1) Project Reference Item List'!$B$2:$B$499,1,FALSE)),\"\",\"Y\")","v":""}]
["410E11000","TRAF COMP SURF, TYPE B","CY","PRIMARY","07441B","410B CRUSHED GRAVEL 703","TON","703.18","1.35000","CERT",{"$f":"IF(ISNA(VLOOKUP(A926,'(1) Project Reference Item List'!$B$2:$B$499,1,FALSE)),\"\",\"Y\")","v":""}]
["410E11000","TRAF COMP SURF, TYPE B","CY","PRIMARY","07341B","410B GRAVEL 703","TON","703.18","1.35000","CERT",{"$f":"IF(ISNA(VLOOKUP(A927,'(1) Project Reference Item List'!$B$2:$B$499,1,FALSE)),\"\",\"Y\")","v":""}]
["410E11000","TRAF COMP SURF, TYPE B","CY","PRIMARY","07241B","410B SAND AND GRAVEL 703","TON","703.18","1.35000","CERT",{"$f":"IF(ISNA(VLOOKUP(A928,'(1) Project Reference Item List'!$B$2:$B$499,1,FALSE)),\"\",\"Y\")","v":""}]
["410E14001","TRAF COMP SURF, APP","CY","SUBSTITUTE","07E41B","410B RECYCLED CONCRETE (703.18)","TON","703.18","1.12500","CERT",{"$f":"IF(ISNA(VLOOKUP(A929,'(1) Project Reference Item List'!$B$2:$B$499,1,FALSE)),\"\",\"Y\")","v":""}]
["410E14001","TRAF COMP SURF, APP","CY","PRIMARY","074057","57 CRUSHED GRAVEL (703)","TON","703.18","1.25000","CERT",{"$f":"IF(ISNA(VLOOKUP(A930,'(1) Project Reference Item List'!$B$2:$B$499,1,FALSE)),\"\",\"Y\")","v":""}]
["410E14001","TRAF COMP SURF, APP","CY","PRIMARY","07341B","410B GRAVEL 703","TON","703.18","1.35000","CERT",{"$f":"IF(ISNA(VLOOKUP(A931,'(1) Project Reference Item List'!$B$2:$B$499,1,FALSE)),\"\",\"Y\")","v":""}]
["410E14001","TRAF COMP SURF, APP","CY","PRIMARY","07341A","410A GRAVEL 703","TON","703.18","1.35000","CERT",{"$f":"IF(ISNA(VLOOKUP(A932,'(1) Project Reference Item List'!$B$2:$B$499,1,FALSE)),\"\",\"Y\")","v":""}]
["410E14001","TRAF COMP SURF, APP","CY","PRIMARY","073057","57 GRAVEL 703","TON","703.18","1.25000","CERT",{"$f":"IF(ISNA(VLOOKUP(A933,'(1) Project Reference Item List'!$B$2:$B$499,1,FALSE)),\"\",\"Y\")","v":""}]
["410E14001","TRAF COMP SURF, APP","CY","PRIMARY","073004","4 GRAVEL 703","TON","703.18","1.25000","CERT",{"$f":"IF(ISNA(VLOOKUP(A934,'(1) Project Reference Item List'!$B$2:$B$499,1,FALSE)),\"\",\"Y\")","v":""}]
["410E14001","TRAF COMP SURF, APP","CY","PRIMARY","07241B","410B SAND AND GRAVEL 703","TON","703.18","1.35000","CERT",{"$f":"IF(ISNA(VLOOKUP(A935,'(1) Project Reference Item List'!$B$2:$B$499,1,FALSE)),\"\",\"Y\")","v":""}]
["410E14001","TRAF COMP SURF, APP","CY","PRIMARY","07241A","410A SAND AND GRAVEL 703","TON","703.18","1.35000","CERT",{"$f":"IF(ISNA(VLOOKUP(A936,'(1) Project Reference Item List'!$B$2:$B$499,1,FALSE)),\"\",\"Y\")","v":""}]
["410E14001","TRAF COMP SURF, APP","CY","SUBSTITUTE","07E41A","410A RECYCLED CONCRETE (703.18)","TON","703.18","1.12500","CERT",{"$f":"IF(ISNA(VLOOKUP(A937,'(1) Project Reference Item List'!$B$2:$B$499,1,FALSE)),\"\",\"Y\")","v":""}]
["410E14001","TRAF COMP SURF, APP","CY","SUBSTITUTE","07E057","57 RECYCLED CONCRETE (703.11 703.18)","TON","703.18","1.12500","CERT",{"$f":"IF(ISNA(VLOOKUP(A938,'(1) Project Reference Item List'!$B$2:$B$499,1,FALSE)),\"\",\"Y\")","v":""}]
["410E14001","TRAF COMP SURF, APP","CY","SUBSTITUTE","07841B","410B BO SLAG (703)","TON","703.18","1.50000","CERT",{"$f":"IF(ISNA(VLOOKUP(A939,'(1) Project Reference Item List'!$B$2:$B$499,1,FALSE)),\"\",\"Y\")","v":""}]
["410E14001","TRAF COMP SURF, APP","CY","SUBSTITUTE","07841A","410A BO SLAG (703)","TON","703.18","1.50000","CERT",{"$f":"IF(ISNA(VLOOKUP(A940,'(1) Project Reference Item List'!$B$2:$B$499,1,FALSE)),\"\",\"Y\")","v":""}]
["410E14001","TRAF COMP SURF, APP","CY","SUBSTITUTE","07741B","410B OH SLAG (703)","TON","703.18","1.50000","CERT",{"$f":"IF(ISNA(VLOOKUP(A941,'(1) Project Reference Item List'!$B$2:$B$499,1,FALSE)),\"\",\"Y\")","v":""}]
["410E14001","TRAF COMP SURF, APP","CY","SUBSTITUTE","07741A","410A OH SLAG (703)","TON","703.18","1.50000","CERT",{"$f":"IF(ISNA(VLOOKUP(A942,'(1) Project Reference Item List'!$B$2:$B$499,1,FALSE)),\"\",\"Y\")","v":""}]
["410E14001","TRAF COMP SURF, APP","CY","SUBSTITUTE","077004","4 OH SLAG (703)","TON","703.18","1.50000","CERT",{"$f":"IF(ISNA(VLOOKUP(A943,'(1) Project Reference Item List'!$B$2:$B$499,1,FALSE)),\"\",\"Y\")","v":""}]
["410E14001","TRAF COMP SURF, APP","CY","SUBSTITUTE","07641B","410B ACBF SLAG (703)","TON","703.18","1.00000","CERT",{"$f":"IF(ISNA(VLOOKUP(A944,'(1) Project Reference Item List'!$B$2:$B$499,1,FALSE)),\"\",\"Y\")","v":""}]
["410E14001","TRAF COMP SURF, APP","CY","SUBSTITUTE","07641A","410A ACBF SLAG (703)","TON","703.18","1.00000","CERT",{"$f":"IF(ISNA(VLOOKUP(A945,'(1) Project Reference Item List'!$B$2:$B$499,1,FALSE)),\"\",\"Y\")","v":""}]
["410E14001","TRAF COMP SURF, APP","CY","SUBSTITUTE","076057","57 ACBF SLAG (703)","TON","703.18","1.00000","CERT",{"$f":"IF(ISNA(VLOOKUP(A946,'(1) Project Reference Item List'!$B$2:$B$499,1,FALSE)),\"\",\"Y\")","v":""}]
["410E14001","TRAF COMP SURF, APP","CY","SUBSTITUTE","076004","4 ACBF SLAG (703)","TON","703.18","1.00000","CERT",{"$f":"IF(ISNA(VLOOKUP(A947,'(1) Project Reference Item List'!$B$2:$B$499,1,FALSE)),\"\",\"Y\")","v":""}]
["410E14001","TRAF COMP SURF, APP","CY","PRIMARY","07541B","410B CRUSHED STONE (703)","TON","703.18","1.25000","CERT",{"$f":"IF(ISNA(VLOOKUP(A948,'(1) Project Reference Item List'!$B$2:$B$499,1,FALSE)),\"\",\"Y\")","v":""}]
["410E14001","TRAF COMP SURF, APP","CY","PRIMARY","07541A","410A CRUSHED STONE (703)","TON","703.18","1.25000","CERT",{"$f":"IF(ISNA(VLOOKUP(A949,'(1) Project Reference Item List'!$B$2:$B$499,1,FALSE)),\"\",\"Y\")","v":""}]
["410E14001","TRAF COMP SURF, APP","CY","PRIMARY","075057","57 CRUSHED STONE (703)","TON","703.18","1.20000","CERT",{"$f":"IF(ISNA(VLOOKUP(A950,'(1) Project Reference Item List'!$B$2:$B$499,1,FALSE)),\"\",\"Y\")","v":""}]
["410E14001","TRAF COMP SURF, APP","CY","PRIMARY","075004","4 CRUSHED STONE (703)","TON","703.18","1.20000","CERT",{"$f":"IF(ISNA(VLOOKUP(A951,'(1) Project Reference Item List'!$B$2:$B$499,1,FALSE)),\"\",\"Y\")","v":""}]
["410E14001","TRAF COMP SURF, APP","CY","PRIMARY","07441A","410A CRUSHED GRAVEL 703","TON","703.18","1.35000","CERT",{"$f":"IF(ISNA(VLOOKUP(A952,'(1) Project Reference Item List'!$B$2:$B$499,1,FALSE)),\"\",\"Y\")","v":""}]
["421E10011","MICROSURFACING, SURFACE COURSE, APP","SY","SUBSTITUTE","075RBL","LIMESTONE 421.02 TYPE B","TON","421","0.00000","CERT",{"$f":"IF(ISNA(VLOOKUP(A953,'(1) Project Reference Item List'!$B$2:$B$499,1,FALSE)),\"\",\"Y\")","v":""}]
["421E10011","MICROSURFACING, SURFACE COURSE, APP","SY","COMPONENT","075RAL","LIMESTONE 421.02 TYPE A","TON","421","0.00000","CERT",{"$f":"IF(ISNA(VLOOKUP(A954,'(1) Project Reference Item List'!$B$2:$B$499,1,FALSE)),\"\",\"Y\")","v":""}]
["421E10011","MICROSURFACING, SURFACE COURSE, APP","SY","COMPONENT","37504","PORTLAND CEMENT TYPE 1","TON","701.04","0.00000","CERT",{"$f":"IF(ISNA(VLOOKUP(A955,'(1) Project Reference Item List'!$B$2:$B$499,1,FALSE)),\"\",\"Y\")","v":""}]
["421E10011","MICROSURFACING, SURFACE COURSE, APP","SY","PRIMARY","177421A","MICROSURFACING ASPHALT TYPE A","TON","421","0.00000","JCTL",{"$f":"IF(ISNA(VLOOKUP(A956,'(1) Project Reference Item List'!$B$2:$B$499,1,FALSE)),\"\",\"Y\")","v":""}]
["421E10011","MICROSURFACING, SURFACE COURSE, APP","SY","COMPONENT","104CSS1HM","ASPHT, CATIONIC EMULSIFIED, GRD CSS1H MD","GAL","702.04","0.00000","CERT",{"$f":"IF(ISNA(VLOOKUP(A957,'(1) Project Reference Item List'!$B$2:$B$499,1,FALSE)),\"\",\"Y\")","v":""}]
["423E00104","CRACK SEALING, TYPE II","LB","COMPONENT","1016422","PERFORMANCE GRADED ASPHALT (PG 64-22)","GAL","SS 1032","0.00000","CERT",{"$f":"IF(ISNA(VLOOKUP(A958,'(1) Project Reference Item List'!$B$2:$B$499,1,FALSE)),\"\",\"Y\")","v":""}]
["423E00104","CRACK SEALING, TYPE II","LB","COMPONENT","61801","POLYESTER FIBER 423 TYPE2/SS826 TYPE A","LB","423/826","0.00000","QPL",{"$f":"IF(ISNA(VLOOKUP(A959,'(1) Project Reference Item List'!$B$2:$B$499,1,FALSE)),\"\",\"Y\")","v":""}]
["423E00105","CRACK SEALING, TYPE II, APP","LB","COMPONENT","1016422","PERFORMANCE GRADED ASPHALT (PG 64-22)","GAL","SS 1032","0.00000","CERT",{"$f":"IF(ISNA(VLOOKUP(A960,'(1) Project Reference Item List'!$B$2:$B$499,1,FALSE)),\"\",\"Y\")","v":""}]
["423E00105","CRACK SEALING, TYPE II, APP","LB","COMPONENT","61801","POLYESTER FIBER 423 TYPE2/SS826 TYPE A","LB","423/826","0.00000","QPL",{"$f":"IF(ISNA(VLOOKUP(A961,'(1) Project Reference Item List'!$B$2:$B$499,1,FALSE)),\"\",\"Y\")","v":""}]
["452E16020","13\" NO-REINF CNC PVMT, QC1P QC/QA","SY","PRIMARY","215QC1","QC 1 CONCRETE - 4000 PSI - WELL GRADED","CY","499","0.36111","JCTL",{"$f":"IF(ISNA(VLOOKUP(A962,'(1) Project Reference Item List'!$B$2:$B$499,1,FALSE)),\"\",\"Y\")","v":""}]
["452E16020","13\" NO-REINF CNC PVMT, QC1P QC/QA","SY","COMPONENT","67502","5/8\"X8\" HOOK BOLT","EACH","BP2.1","0.00000","QPL",{"$f":"IF(ISNA(VLOOKUP(A963,'(1) Project Reference Item List'!$B$2:$B$499,1,FALSE)),\"\",\"Y\")","v":""}]
["452E16020","13\" NO-REINF CNC PVMT, QC1P QC/QA","SY","COMPONENT","63013","STEEL ROD, COATED DOWEL, JOINT ASSY","LB","709.13","0.00000","CERT",{"$f":"IF(ISNA(VLOOKUP(A964,'(1) Project Reference Item List'!$B$2:$B$499,1,FALSE)),\"\",\"Y\")","v":""}]
["452E16020","13\" NO-REINF CNC PVMT, QC1P QC/QA","SY","COMPONENT","619100","PREFORMED EXPANSION JOINT FILLER 1\"","SF","705.03-711","0.00000","QPL",{"$f":"IF(ISNA(VLOOKUP(A965,'(1) Project Reference Item List'!$B$2:$B$499,1,FALSE)),\"\",\"Y\")","v":""}]
["452E16020","13\" NO-REINF CNC PVMT, QC1P QC/QA","SY","COMPONENT","61607","JOINT & CRACK SEALER, HOT APPLIED 705.04","LB","705.04","0.00000","CERT",{"$f":"IF(ISNA(VLOOKUP(A966,'(1) Project Reference Item List'!$B$2:$B$499,1,FALSE)),\"\",\"Y\")","v":""}]
["452E16020","13\" NO-REINF CNC PVMT, QC1P QC/QA","SY","COMPONENT","61606","PREFORMED ELASTOMERIC COMPRESSION SEAL","FT","705.11","0.00000","QPL",{"$f":"IF(ISNA(VLOOKUP(A967,'(1) Project Reference Item List'!$B$2:$B$499,1,FALSE)),\"\",\"Y\")","v":""}]
["452E16060","13.5\" NO-REINF CNC PVMT, QC1P QC/QA","SY","COMPONENT","63013","STEEL ROD, COATED DOWEL, JOINT ASSY","LB","709.13","0.00000","CERT",{"$f":"IF(ISNA(VLOOKUP(A968,'(1) Project Reference Item List'!$B$2:$B$499,1,FALSE)),\"\",\"Y\")","v":""}]
["452E16060","13.5\" NO-REINF CNC PVMT, QC1P QC/QA","SY","COMPONENT","619100","PREFORMED EXPANSION JOINT FILLER 1\"","SF","705.03-711","0.00000","QPL",{"$f":"IF(ISNA(VLOOKUP(A969,'(1) Project Reference Item List'!$B$2:$B$499,1,FALSE)),\"\",\"Y\")","v":""}]
["452E16060","13.5\" NO-REINF CNC PVMT, QC1P QC/QA","SY","COMPONENT","61607","JOINT & CRACK SEALER, HOT APPLIED 705.04","LB","705.04","0.00000","CERT",{"$f":"IF(ISNA(VLOOKUP(A970,'(1) Project Reference Item List'!$B$2:$B$499,1,FALSE)),\"\",\"Y\")","v":""}]
["452E16060","13.5\" NO-REINF CNC PVMT, QC1P QC/QA","SY","COMPONENT","61606","PREFORMED ELASTOMERIC COMPRESSION SEAL","FT","705.11","0.00000","QPL",{"$f":"IF(ISNA(VLOOKUP(A971,'(1) Project Reference Item List'!$B$2:$B$499,1,FALSE)),\"\",\"Y\")","v":""}]
["452E16060","13.5\" NO-REINF CNC PVMT, QC1P QC/QA","SY","COMPONENT","42406OH","WHITE CURE TYPE 2 CLASS A OR B","GAL","705.07OH","0.00000","QPL",{"$f":"IF(ISNA(VLOOKUP(A972,'(1) Project Reference Item List'!$B$2:$B$499,1,FALSE)),\"\",\"Y\")","v":""}]
["452E16060","13.5\" NO-REINF CNC PVMT, QC1P QC/QA","SY","PRIMARY","215QC1","QC 1 CONCRETE - 4000 PSI - WELL GRADED","CY","499","0.38889","JCTL",{"$f":"IF(ISNA(VLOOKUP(A973,'(1) Project Reference Item List'!$B$2:$B$499,1,FALSE)),\"\",\"Y\")","v":""}]
["452E16061","13.5\" NO-REINF CNC PVMT, QC1P QC/QA, APP","SY","PRIMARY","215QC1","QC 1 CONCRETE - 4000 PSI - WELL GRADED","CY","499","0.38889","JCTL",{"$f":"IF(ISNA(VLOOKUP(A974,'(1) Project Reference Item List'!$B$2:$B$499,1,FALSE)),\"\",\"Y\")","v":""}]
["452E16061","13.5\" NO-REINF CNC PVMT, QC1P QC/QA, APP","SY","COMPONENT","67502","5/8\"X8\" HOOK BOLT","EACH","BP2.1","0.00000","QPL",{"$f":"IF(ISNA(VLOOKUP(A975,'(1) Project Reference Item List'!$B$2:$B$499,1,FALSE)),\"\",\"Y\")","v":""}]
["452E16061","13.5\" NO-REINF CNC PVMT, QC1P QC/QA, APP","SY","COMPONENT","63013","STEEL ROD, COATED DOWEL, JOINT ASSY","LB","709.13","0.00000","CERT",{"$f":"IF(ISNA(VLOOKUP(A976,'(1) Project Reference Item List'!$B$2:$B$499,1,FALSE)),\"\",\"Y\")","v":""}]
["452E16061","13.5\" NO-REINF CNC PVMT, QC1P QC/QA, APP","SY","COMPONENT","619100","PREFORMED EXPANSION JOINT FILLER 1\"","SF","705.03-711","0.00000","QPL",{"$f":"IF(ISNA(VLOOKUP(A977,'(1) Project Reference Item List'!$B$2:$B$499,1,FALSE)),\"\",\"Y\")","v":""}]
["452E16061","13.5\" NO-REINF CNC PVMT, QC1P QC/QA, APP","SY","COMPONENT","61607","JOINT & CRACK SEALER, HOT APPLIED 705.04","LB","705.04","0.00000","CERT",{"$f":"IF(ISNA(VLOOKUP(A978,'(1) Project Reference Item List'!$B$2:$B$499,1,FALSE)),\"\",\"Y\")","v":""}]
["452E16061","13.5\" NO-REINF CNC PVMT, QC1P QC/QA, APP","SY","COMPONENT","61606","PREFORMED ELASTOMERIC COMPRESSION SEAL","FT","705.11","0.00000","QPL",{"$f":"IF(ISNA(VLOOKUP(A979,'(1) Project Reference Item List'!$B$2:$B$499,1,FALSE)),\"\",\"Y\")","v":""}]
["452E17010","14\" NO-REINF CNC PVMT, QC1P","SY","PRIMARY","215QC1","QC 1 CONCRETE - 4000 PSI - WELL GRADED","CY","499","0.38889","JCTL",{"$f":"IF(ISNA(VLOOKUP(A980,'(1) Project Reference Item List'!$B$2:$B$499,1,FALSE)),\"\",\"Y\")","v":""}]
["452E17010","14\" NO-REINF CNC PVMT, QC1P","SY","COMPONENT","67502","5/8\"X8\" HOOK BOLT","EACH","BP2.1","0.00000","QPL",{"$f":"IF(ISNA(VLOOKUP(A981,'(1) Project Reference Item List'!$B$2:$B$499,1,FALSE)),\"\",\"Y\")","v":""}]
["452E17010","14\" NO-REINF CNC PVMT, QC1P","SY","COMPONENT","63013","STEEL ROD, COATED DOWEL, JOINT ASSY","LB","709.13","0.00000","CERT",{"$f":"IF(ISNA(VLOOKUP(A982,'(1) Project Reference Item List'!$B$2:$B$499,1,FALSE)),\"\",\"Y\")","v":""}]
["452E17010","14\" NO-REINF CNC PVMT, QC1P","SY","COMPONENT","619100","PREFORMED EXPANSION JOINT FILLER 1\"","SF","705.03-711","0.00000","QPL",{"$f":"IF(ISNA(VLOOKUP(A983,'(1) Project Reference Item List'!$B$2:$B$499,1,FALSE)),\"\",\"Y\")","v":""}]
["452E17010","14\" NO-REINF CNC PVMT, QC1P","SY","COMPONENT","61607","JOINT & CRACK SEALER, HOT APPLIED 705.04","LB","705.04","0.00000","CERT",{"$f":"IF(ISNA(VLOOKUP(A984,'(1) Project Reference Item List'!$B$2:$B$499,1,FALSE)),\"\",\"Y\")","v":""}]
["452E17010","14\" NO-REINF CNC PVMT, QC1P","SY","COMPONENT","61606","PREFORMED ELASTOMERIC COMPRESSION SEAL","FT","705.11","0.00000","QPL",{"$f":"IF(ISNA(VLOOKUP(A985,'(1) Project Reference Item List'!$B$2:$B$499,1,FALSE)),\"\",\"Y\")","v":""}]
["452E17051","14.5\" NO-REINF CNC PVMT, QC1P, APP","SY","PRIMARY","215QC1","QC 1 CONCRETE - 4000 PSI - WELL GRADED","CY","499","0.00000","JCTL",{"$f":"IF(ISNA(VLOOKUP(A986,'(1) Project Reference Item List'!$B$2:$B$499,1,FALSE)),\"\",\"Y\")","v":""}]
["452E17051","14.5\" NO-REINF CNC PVMT, QC1P, APP","SY","COMPONENT","67502","5/8\"X8\" HOOK BOLT","EACH","BP2.1","0.00000","QPL",{"$f":"IF(ISNA(VLOOKUP(A987,'(1) Project Reference Item List'!$B$2:$B$499,1,FALSE)),\"\",\"Y\")","v":""}]
["452E17051","14.5\" NO-REINF CNC PVMT, QC1P, APP","SY","COMPONENT","63013","STEEL ROD, COATED DOWEL, JOINT ASSY","LB","709.13","0.00000","CERT",{"$f":"IF(ISNA(VLOOKUP(A988,'(1) Project Reference Item List'!$B$2:$B$499,1,FALSE)),\"\",\"Y\")","v":""}]
["452E17051","14.5\" NO-REINF CNC PVMT, QC1P, APP","SY","COMPONENT","619100","PREFORMED EXPANSION JOINT FILLER 1\"","SF","705.03-711","0.00000","QPL",{"$f":"IF(ISNA(VLOOKUP(A989,'(1) Project Reference Item List'!$B$2:$B$499,1,FALSE)),\"\",\"Y\")","v":""}]
["452E17051","14.5\" NO-REINF CNC PVMT, QC1P, APP","SY","COMPONENT","61607","JOINT & CRACK SEALER, HOT APPLIED 705.04","LB","705.04","0.00000","CERT",{"$f":"IF(ISNA(VLOOKUP(A990,'(1) Project Reference Item List'!$B$2:$B$499,1,FALSE)),\"\",\"Y\")","v":""}]
["452E17051","14.5\" NO-REINF CNC PVMT, QC1P, APP","SY","COMPONENT","61606","PREFORMED ELASTOMERIC COMPRESSION SEAL","FT","705.11","0.00000","QPL",{"$f":"IF(ISNA(VLOOKUP(A991,'(1) Project Reference Item List'!$B$2:$B$499,1,FALSE)),\"\",\"Y\")","v":""}]
["452E18011","15\" NO-REINF CNC PVMT, QC1P, APP","SY","PRIMARY","215QC1","QC 1 CONCRETE - 4000 PSI - WELL GRADED","CY","499","0.41667","JCTL",{"$f":"IF(ISNA(VLOOKUP(A992,'(1) Project Reference Item List'!$B$2:$B$499,1,FALSE)),\"\",\"Y\")","v":""}]
["452E18011","15\" NO-REINF CNC PVMT, QC1P, APP","SY","COMPONENT","67502","5/8\"X8\" HOOK BOLT","EACH","BP2.1","0.00000","QPL",{"$f":"IF(ISNA(VLOOKUP(A993,'(1) Project Reference Item List'!$B$2:$B$499,1,FALSE)),\"\",\"Y\")","v":""}]
["452E18011","15\" NO-REINF CNC PVMT, QC1P, APP","SY","COMPONENT","63013","STEEL ROD, COATED DOWEL, JOINT ASSY","LB","709.13","0.00000","CERT",{"$f":"IF(ISNA(VLOOKUP(A994,'(1) Project Reference Item List'!$B$2:$B$499,1,FALSE)),\"\",\"Y\")","v":""}]
["452E18011","15\" NO-REINF CNC PVMT, QC1P, APP","SY","COMPONENT","619100","PREFORMED EXPANSION JOINT FILLER 1\"","SF","705.03-711","0.00000","QPL",{"$f":"IF(ISNA(VLOOKUP(A995,'(1) Project Reference Item List'!$B$2:$B$499,1,FALSE)),\"\",\"Y\")","v":""}]
["452E18011","15\" NO-REINF CNC PVMT, QC1P, APP","SY","COMPONENT","61607","JOINT & CRACK SEALER, HOT APPLIED 705.04","LB","705.04","0.00000","CERT",{"$f":"IF(ISNA(VLOOKUP(A996,'(1) Project Reference Item List'!$B$2:$B$499,1,FALSE)),\"\",\"Y\")","v":""}]
["452E18011","15\" NO-REINF CNC PVMT, QC1P, APP","SY","COMPONENT","61606","PREFORMED ELASTOMERIC COMPRESSION SEAL","FT","705.11","0.00000","QPL",{"$f":"IF(ISNA(VLOOKUP(A997,'(1) Project Reference Item List'!$B$2:$B$499,1,FALSE)),\"\",\"Y\")","v":""}]
["511E34447","CLASS QC2 CNCRT W/QC/QA, BRIDGE DCK, APP","CY","COMPONENT","62001","P.V.C. EXPANSION SPONGE","SF","705.03-711","0.00000","QPL",{"$f":"IF(ISNA(VLOOKUP(A998,'(1) Project Reference Item List'!$B$2:$B$499,1,FALSE)),\"\",\"Y\")","v":""}]
["511E34447","CLASS QC2 CNCRT W/QC/QA, BRIDGE DCK, APP","CY","COMPONENT","619025","PREFORMED EXPANSION JOINT FILLER 1/4\"","SF","705.03-711","0.00000","QPL",{"$f":"IF(ISNA(VLOOKUP(A999,'(1) Project Reference Item List'!$B$2:$B$499,1,FALSE)),\"\",\"Y\")","v":""}]
["511E34447","CLASS QC2 CNCRT W/QC/QA, BRIDGE DCK, APP","CY","COMPONENT","61606","PREFORMED ELASTOMERIC COMPRESSION SEAL","FT","705.11","0.00000","QPL",{"$f":"IF(ISNA(VLOOKUP(A1000,'(1) Project Reference Item List'!$B$2:$B$499,1,FALSE)),\"\",\"Y\")","v":""}]
["511E34447","CLASS QC2 CNCRT W/QC/QA, BRIDGE DCK, APP","CY","COMPONENT","43201","HIGH MOLECULAR WEIGHT METHACRYLATE","GAL","705.15","0.00000","QPL",{"$f":"IF(ISNA(VLOOKUP(A1001,'(1) Project Reference Item List'!$B$2:$B$499,1,FALSE)),\"\",\"Y\")","v":""}]
["511E34447","CLASS QC2 CNCRT W/QC/QA, BRIDGE DCK, APP","CY","COMPONENT","42404OH","CLEAR CURE TYPE1 CL A OR B OR W/DYE","GAL","705.07OH","0.00000","QPL",{"$f":"IF(ISNA(VLOOKUP(A1002,'(1) Project Reference Item List'!$B$2:$B$499,1,FALSE)),\"\",\"Y\")","v":""}]
["511E40511","CLS QC1 CNCRT, PIER ABOVE FOOTINGS, APP","CY","PRIMARY","215QC1","QC 1 CONCRETE - 4000 PSI - WELL GRADED","CY","499","1.00000","JCTL",{"$f":"IF(ISNA(VLOOKUP(A1003,'(1) Project Reference Item List'!$B$2:$B$499,1,FALSE)),\"\",\"Y\")","v":""}]
["511E40511","CLS QC1 CNCRT, PIER ABOVE FOOTINGS, APP","CY","COMPONENT","62001","P.V.C. EXPANSION SPONGE","SF","705.03-711","0.00000","QPL",{"$f":"IF(ISNA(VLOOKUP(A1004,'(1) Project Reference Item List'!$B$2:$B$499,1,FALSE)),\"\",\"Y\")","v":""}]
["511E40511","CLS QC1 CNCRT, PIER ABOVE FOOTINGS, APP","CY","COMPONENT","619025","PREFORMED EXPANSION JOINT FILLER 1/4\"","SF","705.03-711","0.00000","QPL",{"$f":"IF(ISNA(VLOOKUP(A1005,'(1) Project Reference Item List'!$B$2:$B$499,1,FALSE)),\"\",\"Y\")","v":""}]
["511E40511","CLS QC1 CNCRT, PIER ABOVE FOOTINGS, APP","CY","COMPONENT","61606","PREFORMED ELASTOMERIC COMPRESSION SEAL","FT","705.11","0.00000","QPL",{"$f":"IF(ISNA(VLOOKUP(A1006,'(1) Project Reference Item List'!$B$2:$B$499,1,FALSE)),\"\",\"Y\")","v":""}]
["511E40511","CLS QC1 CNCRT, PIER ABOVE FOOTINGS, APP","CY","COMPONENT","43201","HIGH MOLECULAR WEIGHT METHACRYLATE","GAL","705.15","0.00000","QPL",{"$f":"IF(ISNA(VLOOKUP(A1007,'(1) Project Reference Item List'!$B$2:$B$499,1,FALSE)),\"\",\"Y\")","v":""}]
["511E41012","CLS QC1 CNCRT W/QC/QA, PIER ABVE FTINGS","CY","PRIMARY","215QC1","QC 1 CONCRETE - 4000 PSI - WELL GRADED","CY","499","1.00000","JCTL",{"$f":"IF(ISNA(VLOOKUP(A1008,'(1) Project Reference Item List'!$B$2:$B$499,1,FALSE)),\"\",\"Y\")","v":""}]
["511E41012","CLS QC1 CNCRT W/QC/QA, PIER ABVE FTINGS","CY","COMPONENT","62001","P.V.C. EXPANSION SPONGE","SF","705.03-711","0.00000","QPL",{"$f":"IF(ISNA(VLOOKUP(A1009,'(1) Project Reference Item List'!$B$2:$B$499,1,FALSE)),\"\",\"Y\")","v":""}]
["511E41012","CLS QC1 CNCRT W/QC/QA, PIER ABVE FTINGS","CY","COMPONENT","619025","PREFORMED EXPANSION JOINT FILLER 1/4\"","SF","705.03-711","0.00000","QPL",{"$f":"IF(ISNA(VLOOKUP(A1010,'(1) Project Reference Item List'!$B$2:$B$499,1,FALSE)),\"\",\"Y\")","v":""}]
["511E41012","CLS QC1 CNCRT W/QC/QA, PIER ABVE FTINGS","CY","COMPONENT","61606","PREFORMED ELASTOMERIC COMPRESSION SEAL","FT","705.11","0.00000","QPL",{"$f":"IF(ISNA(VLOOKUP(A1011,'(1) Project Reference Item List'!$B$2:$B$499,1,FALSE)),\"\",\"Y\")","v":""}]
["511E41012","CLS QC1 CNCRT W/QC/QA, PIER ABVE FTINGS","CY","COMPONENT","43201","HIGH MOLECULAR WEIGHT METHACRYLATE","GAL","705.15","0.00000","QPL",{"$f":"IF(ISNA(VLOOKUP(A1012,'(1) Project Reference Item List'!$B$2:$B$499,1,FALSE)),\"\",\"Y\")","v":""}]
["511E41013","CLS QC1 CNCRT W/QC/QA,PIER ABV FTNGS, AP","CY","PRIMARY","215QC1","QC 1 CONCRETE - 4000 PSI - WELL GRADED","CY","499","1.00000","JCTL",{"$f":"IF(ISNA(VLOOKUP(A1013,'(1) Project Reference Item List'!$B$2:$B$499,1,FALSE)),\"\",\"Y\")","v":""}]
["511E41013","CLS QC1 CNCRT W/QC/QA,PIER ABV FTNGS, AP","CY","COMPONENT","62001","P.V.C. EXPANSION SPONGE","SF","705.03-711","0.00000","QPL",{"$f":"IF(ISNA(VLOOKUP(A1014,'(1) Project Reference Item List'!$B$2:$B$499,1,FALSE)),\"\",\"Y\")","v":""}]
["511E41013","CLS QC1 CNCRT W/QC/QA,PIER ABV FTNGS, AP","CY","COMPONENT","619025","PREFORMED EXPANSION JOINT FILLER 1/4\"","SF","705.03-711","0.00000","QPL",{"$f":"IF(ISNA(VLOOKUP(A1015,'(1) Project Reference Item List'!$B$2:$B$499,1,FALSE)),\"\",\"Y\")","v":""}]
["511E41013","CLS QC1 CNCRT W/QC/QA,PIER ABV FTNGS, AP","CY","COMPONENT","61606","PREFORMED ELASTOMERIC COMPRESSION SEAL","FT","705.11","0.00000","QPL",{"$f":"IF(ISNA(VLOOKUP(A1016,'(1) Project Reference Item List'!$B$2:$B$499,1,FALSE)),\"\",\"Y\")","v":""}]
["511E41013","CLS QC1 CNCRT W/QC/QA,PIER ABV FTNGS, AP","CY","COMPONENT","43201","HIGH MOLECULAR WEIGHT METHACRYLATE","GAL","705.15","0.00000","QPL",{"$f":"IF(ISNA(VLOOKUP(A1017,'(1) Project Reference Item List'!$B$2:$B$499,1,FALSE)),\"\",\"Y\")","v":""}]
["511E41510","CLS QC1 CNCRT, PIER ABOVE FOOTINGS","CY","PRIMARY","215QC1","QC 1 CONCRETE - 4000 PSI - WELL GRADED","CY","499","1.00000","JCTL",{"$f":"IF(ISNA(VLOOKUP(A1018,'(1) Project Reference Item List'!$B$2:$B$499,1,FALSE)),\"\",\"Y\")","v":""}]
["511E41510","CLS QC1 CNCRT, PIER ABOVE FOOTINGS","CY","COMPONENT","62001","P.V.C. EXPANSION SPONGE","SF","705.03-711","0.00000","QPL",{"$f":"IF(ISNA(VLOOKUP(A1019,'(1) Project Reference Item List'!$B$2:$B$499,1,FALSE)),\"\",\"Y\")","v":""}]
["511E41510","CLS QC1 CNCRT, PIER ABOVE FOOTINGS","CY","COMPONENT","619025","PREFORMED EXPANSION JOINT FILLER 1/4\"","SF","705.03-711","0.00000","QPL",{"$f":"IF(ISNA(VLOOKUP(A1020,'(1) Project Reference Item List'!$B$2:$B$499,1,FALSE)),\"\",\"Y\")","v":""}]
["511E41510","CLS QC1 CNCRT, PIER ABOVE FOOTINGS","CY","COMPONENT","61606","PREFORMED ELASTOMERIC COMPRESSION SEAL","FT","705.11","0.00000","QPL",{"$f":"IF(ISNA(VLOOKUP(A1021,'(1) Project Reference Item List'!$B$2:$B$499,1,FALSE)),\"\",\"Y\")","v":""}]
["511E41510","CLS QC1 CNCRT, PIER ABOVE FOOTINGS","CY","COMPONENT","43201","HIGH MOLECULAR WEIGHT METHACRYLATE","GAL","705.15","0.00000","QPL",{"$f":"IF(ISNA(VLOOKUP(A1022,'(1) Project Reference Item List'!$B$2:$B$499,1,FALSE)),\"\",\"Y\")","v":""}]
["423E00109","CRACK SEALING, TYPE III, APP","LB","COMPONENT","1016422","PERFORMANCE GRADED ASPHALT (PG 64-22)","GAL","SS 1032","0.00000","CERT",{"$f":"IF(ISNA(VLOOKUP(A1023,'(1) Project Reference Item List'!$B$2:$B$499,1,FALSE)),\"\",\"Y\")","v":""}]
["423E00109","CRACK SEALING, TYPE III, APP","LB","COMPONENT","61802B","POLYPROPYLENE FIBERS SS826 TYPE B","LB","826","0.00000","QPL",{"$f":"IF(ISNA(VLOOKUP(A1024,'(1) Project Reference Item List'!$B$2:$B$499,1,FALSE)),\"\",\"Y\")","v":""}]
["423E00202","CRACK SEALING WITH ROUTING, TYPE I","SY","COMPONENT","61607","JOINT & CRACK SEALER, HOT APPLIED 705.04","LB","705.04","0.00000","CERT",{"$f":"IF(ISNA(VLOOKUP(A1025,'(1) Project Reference Item List'!$B$2:$B$499,1,FALSE)),\"\",\"Y\")","v":""}]
["423E00208","CRACK SEALING, TYPE III","SY","COMPONENT","1016422","PERFORMANCE GRADED ASPHALT (PG 64-22)","GAL","SS 1032","0.00000","CERT",{"$f":"IF(ISNA(VLOOKUP(A1026,'(1) Project Reference Item List'!$B$2:$B$499,1,FALSE)),\"\",\"Y\")","v":""}]
["423E00208","CRACK SEALING, TYPE III","SY","PRIMARY","NOMATL","CODE TO ADD TO CONTRACT S & T REQ","EACH","NONE","0.00000",null,{"$f":"IF(ISNA(VLOOKUP(A1027,'(1) Project Reference Item List'!$B$2:$B$499,1,FALSE)),\"\",\"Y\")","v":""}]
["424E10000","FINE GRADED POLYMER ASPHALT CONCRETE, A","CY","SUBSTITUTE","0010MF","MINERAL FILLER","TON","703.07","0.00000","JCTL",{"$f":"IF(ISNA(VLOOKUP(A1028,'(1) Project Reference Item List'!$B$2:$B$499,1,FALSE)),\"\",\"Y\")","v":""}]
["424E10000","FINE GRADED POLYMER ASPHALT CONCRETE, A","CY","COMPONENT","616AJAM","HOT APPLIED ASPHALT JOINT ADHESIVE","LB","SS-875","0.00000","CERT",{"$f":"IF(ISNA(VLOOKUP(A1029,'(1) Project Reference Item List'!$B$2:$B$499,1,FALSE)),\"\",\"Y\")","v":""}]
["424E10000","FINE GRADED POLYMER ASPHALT CONCRETE, A","CY","PRIMARY","177424A","FINE GRADED POLYMER ASPHALT CONCRETE","TON","424","1.75000","JCTL",{"$f":"IF(ISNA(VLOOKUP(A1030,'(1) Project Reference Item List'!$B$2:$B$499,1,FALSE)),\"\",\"Y\")","v":""}]
["424E10000","FINE GRADED POLYMER ASPHALT CONCRETE, A","CY","SUBSTITUTE","1016422","PERFORMANCE GRADED ASPHALT (PG 64-22)","GAL","SS 1032","0.00000","CERT",{"$f":"IF(ISNA(VLOOKUP(A1031,'(1) Project Reference Item List'!$B$2:$B$499,1,FALSE)),\"\",\"Y\")","v":""}]
["424E10000","FINE GRADED POLYMER ASPHALT CONCRETE, A","CY","SUBSTITUTE","100SBR","SBR RUBBER MODIFIER","GAL","702.14","0.00000","CTD",{"$f":"IF(ISNA(VLOOKUP(A1032,'(1) Project Reference Item List'!$B$2:$B$499,1,FALSE)),\"\",\"Y\")","v":""}]
["424E12000","FINE GRADED POLYMER ASPHALT CONCRETE, B","CY","SUBSTITUTE","1016422","PERFORMANCE GRADED ASPHALT (PG 64-22)","GAL","SS 1032","0.00000","CERT",{"$f":"IF(ISNA(VLOOKUP(A1033,'(1) Project Reference Item List'!$B$2:$B$499,1,FALSE)),\"\",\"Y\")","v":""}]
["424E12000","FINE GRADED POLYMER ASPHALT CONCRETE, B","CY","SUBSTITUTE","100SBR","SBR RUBBER MODIFIER","GAL","702.14","0.00000","CTD",{"$f":"IF(ISNA(VLOOKUP(A1034,'(1) Project Reference Item List'!$B$2:$B$499,1,FALSE)),\"\",\"Y\")","v":""}]
["424E12000","FINE GRADED POLYMER ASPHALT CONCRETE, B","CY","SUBSTITUTE","051SD54","SAND, NATURAL 703.05 SILICON DIOXIDE REQ","TON","703.05","0.00000","CERT",{"$f":"IF(ISNA(VLOOKUP(A1035,'(1) Project Reference Item List'!$B$2:$B$499,1,FALSE)),\"\",\"Y\")","v":""}]
["424E12000","FINE GRADED POLYMER ASPHALT CONCRETE, B","CY","SUBSTITUTE","0010MF","MINERAL FILLER","TON","703.07","0.00000","JCTL",{"$f":"IF(ISNA(VLOOKUP(A1036,'(1) Project Reference Item List'!$B$2:$B$499,1,FALSE)),\"\",\"Y\")","v":""}]
["441E10000","ASPH CONC SURFACE, TYPE 1, (446) PG64-22","CY","COMPONENT","1016422","PERFORMANCE GRADED ASPHALT (PG 64-22)","GAL","SS 1032","0.00000","CERT",{"$f":"IF(ISNA(VLOOKUP(A1037,'(1) Project Reference Item List'!$B$2:$B$499,1,FALSE)),\"\",\"Y\")","v":""}]
["441E50000","ASPH CONC SURFACE, TYPE 1, (448) PG64-22","CY","PRIMARY","1774411","BIT CONC 441 TYPE 1 SURFACE","TON","441","2.00000","JCTL",{"$f":"IF(ISNA(VLOOKUP(A1038,'(1) Project Reference Item List'!$B$2:$B$499,1,FALSE)),\"\",\"Y\")","v":""}]
["441E50000","ASPH CONC SURFACE, TYPE 1, (448) PG64-22","CY","SUBSTITUTE","616AJAM","HOT APPLIED ASPHALT JOINT ADHESIVE","LB","SS-875","0.00000","CERT",{"$f":"IF(ISNA(VLOOKUP(A1039,'(1) Project Reference Item List'!$B$2:$B$499,1,FALSE)),\"\",\"Y\")","v":""}]
["511E42013","CLS QC1 CNCRT W/QC/QA,PIER ABV FTNGS, AP","CY","COMPONENT","62001","P.V.C. EXPANSION SPONGE","SF","705.03-711","0.00000","QPL",{"$f":"IF(ISNA(VLOOKUP(A1040,'(1) Project Reference Item List'!$B$2:$B$499,1,FALSE)),\"\",\"Y\")","v":""}]
["511E42013","CLS QC1 CNCRT W/QC/QA,PIER ABV FTNGS, AP","CY","COMPONENT","619025","PREFORMED EXPANSION JOINT FILLER 1/4\"","SF","705.03-711","0.00000","QPL",{"$f":"IF(ISNA(VLOOKUP(A1041,'(1) Project Reference Item List'!$B$2:$B$499,1,FALSE)),\"\",\"Y\")","v":""}]
["511E42013","CLS QC1 CNCRT W/QC/QA,PIER ABV FTNGS, AP","CY","COMPONENT","61606","PREFORMED ELASTOMERIC COMPRESSION SEAL","FT","705.11","0.00000","QPL",{"$f":"IF(ISNA(VLOOKUP(A1042,'(1) Project Reference Item List'!$B$2:$B$499,1,FALSE)),\"\",\"Y\")","v":""}]
["511E42013","CLS QC1 CNCRT W/QC/QA,PIER ABV FTNGS, AP","CY","COMPONENT","43201","HIGH MOLECULAR WEIGHT METHACRYLATE","GAL","705.15","0.00000","QPL",{"$f":"IF(ISNA(VLOOKUP(A1043,'(1) Project Reference Item List'!$B$2:$B$499,1,FALSE)),\"\",\"Y\")","v":""}]
["511E42013","CLS QC1 CNCRT W/QC/QA,PIER ABV FTNGS, AP","CY","COMPONENT","42404OH","CLEAR CURE TYPE1 CL A OR B OR W/DYE","GAL","705.07OH","0.00000","QPL",{"$f":"IF(ISNA(VLOOKUP(A1044,'(1) Project Reference Item List'!$B$2:$B$499,1,FALSE)),\"\",\"Y\")","v":""}]
["511E44112","CLQC1 CNCRT W/QC/QA,ABTMNT NOT INCL FTNG","CY","PRIMARY","215QC1","QC 1 CONCRETE - 4000 PSI - WELL GRADED","CY","499","1.00000","JCTL",{"$f":"IF(ISNA(VLOOKUP(A1045,'(1) Project Reference Item List'!$B$2:$B$499,1,FALSE)),\"\",\"Y\")","v":""}]
["511E44112","CLQC1 CNCRT W/QC/QA,ABTMNT NOT INCL FTNG","CY","COMPONENT","62001","P.V.C. EXPANSION SPONGE","SF","705.03-711","0.00000","QPL",{"$f":"IF(ISNA(VLOOKUP(A1046,'(1) Project Reference Item List'!$B$2:$B$499,1,FALSE)),\"\",\"Y\")","v":""}]
["511E44112","CLQC1 CNCRT W/QC/QA,ABTMNT NOT INCL FTNG","CY","COMPONENT","619025","PREFORMED EXPANSION JOINT FILLER 1/4\"","SF","705.03-711","0.00000","QPL",{"$f":"IF(ISNA(VLOOKUP(A1047,'(1) Project Reference Item List'!$B$2:$B$499,1,FALSE)),\"\",\"Y\")","v":""}]
["511E44112","CLQC1 CNCRT W/QC/QA,ABTMNT NOT INCL FTNG","CY","COMPONENT","61606","PREFORMED ELASTOMERIC COMPRESSION SEAL","FT","705.11","0.00000","QPL",{"$f":"IF(ISNA(VLOOKUP(A1048,'(1) Project Reference Item List'!$B$2:$B$499,1,FALSE)),\"\",\"Y\")","v":""}]
["511E44112","CLQC1 CNCRT W/QC/QA,ABTMNT NOT INCL FTNG","CY","COMPONENT","43201","HIGH MOLECULAR WEIGHT METHACRYLATE","GAL","705.15","0.00000","QPL",{"$f":"IF(ISNA(VLOOKUP(A1049,'(1) Project Reference Item List'!$B$2:$B$499,1,FALSE)),\"\",\"Y\")","v":""}]
["511E44113","CLQC1 CNCRT W/QC/QA,ABT NT INCL FTNG, AP","CY","PRIMARY","215QC1","QC 1 CONCRETE - 4000 PSI - WELL GRADED","CY","499","1.00000","JCTL",{"$f":"IF(ISNA(VLOOKUP(A1050,'(1) Project Reference Item List'!$B$2:$B$499,1,FALSE)),\"\",\"Y\")","v":""}]
["511E44113","CLQC1 CNCRT W/QC/QA,ABT NT INCL FTNG, AP","CY","COMPONENT","62001","P.V.C. EXPANSION SPONGE","SF","705.03-711","0.00000","QPL",{"$f":"IF(ISNA(VLOOKUP(A1051,'(1) Project Reference Item List'!$B$2:$B$499,1,FALSE)),\"\",\"Y\")","v":""}]
["511E44113","CLQC1 CNCRT W/QC/QA,ABT NT INCL FTNG, AP","CY","COMPONENT","619025","PREFORMED EXPANSION JOINT FILLER 1/4\"","SF","705.03-711","0.00000","QPL",{"$f":"IF(ISNA(VLOOKUP(A1052,'(1) Project Reference Item List'!$B$2:$B$499,1,FALSE)),\"\",\"Y\")","v":""}]
["511E44113","CLQC1 CNCRT W/QC/QA,ABT NT INCL FTNG, AP","CY","COMPONENT","61606","PREFORMED ELASTOMERIC COMPRESSION SEAL","FT","705.11","0.00000","QPL",{"$f":"IF(ISNA(VLOOKUP(A1053,'(1) Project Reference Item List'!$B$2:$B$499,1,FALSE)),\"\",\"Y\")","v":""}]
["511E44113","CLQC1 CNCRT W/QC/QA,ABT NT INCL FTNG, AP","CY","COMPONENT","43201","HIGH MOLECULAR WEIGHT METHACRYLATE","GAL","705.15","0.00000","QPL",{"$f":"IF(ISNA(VLOOKUP(A1054,'(1) Project Reference Item List'!$B$2:$B$499,1,FALSE)),\"\",\"Y\")","v":""}]
["441E50101","ASPH CONC SURFACE, TYPE 1,(448) APP","CY","COMPONENT","1016422","PERFORMANCE GRADED ASPHALT (PG 64-22)","GAL","SS 1032","0.00000","CERT",{"$f":"IF(ISNA(VLOOKUP(A1055,'(1) Project Reference Item List'!$B$2:$B$499,1,FALSE)),\"\",\"Y\")","v":""}]
["441E50301","ASPH CONC INTERMEDIATE, TYP 2,(448), APP","CY","COMPONENT","1016422","PERFORMANCE GRADED ASPHALT (PG 64-22)","GAL","SS 1032","0.00000","CERT",{"$f":"IF(ISNA(VLOOKUP(A1056,'(1) Project Reference Item List'!$B$2:$B$499,1,FALSE)),\"\",\"Y\")","v":""}]
["441E50400","ASPH CONC SURF, TYPE 1,(448),(DRIVEWAYS)","CY","PRIMARY","1774411","BIT CONC 441 TYPE 1 SURFACE","TON","441","2.00000","JCTL",{"$f":"IF(ISNA(VLOOKUP(A1057,'(1) Project Reference Item List'!$B$2:$B$499,1,FALSE)),\"\",\"Y\")","v":""}]
["441E60000","ASPH CONC SURF,(448), W/1059 WARRANTY","CY","COMPONENT","1016422","PERFORMANCE GRADED ASPHALT (PG 64-22)","GAL","SS 1032","0.00000","CERT",{"$f":"IF(ISNA(VLOOKUP(A1058,'(1) Project Reference Item List'!$B$2:$B$499,1,FALSE)),\"\",\"Y\")","v":""}]
["442E00201","ASPHALT CONCRETE, 9.5 MM, T-A, APP","CY","COMPONENT","1016422","PERFORMANCE GRADED ASPHALT (PG 64-22)","GAL","SS 1032","0.00000","CERT",{"$f":"IF(ISNA(VLOOKUP(A1059,'(1) Project Reference Item List'!$B$2:$B$499,1,FALSE)),\"\",\"Y\")","v":""}]
["442E00201","ASPHALT CONCRETE, 9.5 MM, T-A, APP","CY","COMPONENT","616AJAM","HOT APPLIED ASPHALT JOINT ADHESIVE","LB","SS-875","0.00000","CERT",{"$f":"IF(ISNA(VLOOKUP(A1060,'(1) Project Reference Item List'!$B$2:$B$499,1,FALSE)),\"\",\"Y\")","v":""}]
["442E10003","ASPH CONC SURF, 12.5MM, T-A (446), APP","CY","COMPONENT","1016422","PERFORMANCE GRADED ASPHALT (PG 64-22)","GAL","SS 1032","0.00000","CERT",{"$f":"IF(ISNA(VLOOKUP(A1061,'(1) Project Reference Item List'!$B$2:$B$499,1,FALSE)),\"\",\"Y\")","v":""}]
["442E10003","ASPH CONC SURF, 12.5MM, T-A (446), APP","CY","COMPONENT","616AJAM","HOT APPLIED ASPHALT JOINT ADHESIVE","LB","SS-875","0.00000","CERT",{"$f":"IF(ISNA(VLOOKUP(A1062,'(1) Project Reference Item List'!$B$2:$B$499,1,FALSE)),\"\",\"Y\")","v":""}]
["442E10051","ASPH CONC SURFACE, 12.5 MM, TYPE B, APP","CY","PRIMARY","177441125","SUPERPAVE 12.5MM","TON","SP #2","2.00000","JCTL",{"$f":"IF(ISNA(VLOOKUP(A1063,'(1) Project Reference Item List'!$B$2:$B$499,1,FALSE)),\"\",\"Y\")","v":""}]
["442E10051","ASPH CONC SURFACE, 12.5 MM, TYPE B, APP","CY","COMPONENT","1016422","PERFORMANCE GRADED ASPHALT (PG 64-22)","GAL","SS 1032","0.00000","CERT",{"$f":"IF(ISNA(VLOOKUP(A1064,'(1) Project Reference Item List'!$B$2:$B$499,1,FALSE)),\"\",\"Y\")","v":""}]
["511E46210","CLS QC1 CONC, RET/WW INCL FOOTING","CY","PRIMARY","215QC1","QC 1 CONCRETE - 4000 PSI - WELL GRADED","CY","499","1.00000","JCTL",{"$f":"IF(ISNA(VLOOKUP(A1065,'(1) Project Reference Item List'!$B$2:$B$499,1,FALSE)),\"\",\"Y\")","v":""}]
["511E46210","CLS QC1 CONC, RET/WW INCL FOOTING","CY","COMPONENT","62001","P.V.C. EXPANSION SPONGE","SF","705.03-711","0.00000","QPL",{"$f":"IF(ISNA(VLOOKUP(A1066,'(1) Project Reference Item List'!$B$2:$B$499,1,FALSE)),\"\",\"Y\")","v":""}]
["511E46210","CLS QC1 CONC, RET/WW INCL FOOTING","CY","COMPONENT","619025","PREFORMED EXPANSION JOINT FILLER 1/4\"","SF","705.03-711","0.00000","QPL",{"$f":"IF(ISNA(VLOOKUP(A1067,'(1) Project Reference Item List'!$B$2:$B$499,1,FALSE)),\"\",\"Y\")","v":""}]
["511E46210","CLS QC1 CONC, RET/WW INCL FOOTING","CY","COMPONENT","61606","PREFORMED ELASTOMERIC COMPRESSION SEAL","FT","705.11","0.00000","QPL",{"$f":"IF(ISNA(VLOOKUP(A1068,'(1) Project Reference Item List'!$B$2:$B$499,1,FALSE)),\"\",\"Y\")","v":""}]
["511E46210","CLS QC1 CONC, RET/WW INCL FOOTING","CY","COMPONENT","43201","HIGH MOLECULAR WEIGHT METHACRYLATE","GAL","705.15","0.00000","QPL",{"$f":"IF(ISNA(VLOOKUP(A1069,'(1) Project Reference Item List'!$B$2:$B$499,1,FALSE)),\"\",\"Y\")","v":""}]
["511E46610","CLASS QC1 CONCRETE, HEADWALL","CY","PRIMARY","215QC1","QC 1 CONCRETE - 4000 PSI - WELL GRADED","CY","499","1.00000","JCTL",{"$f":"IF(ISNA(VLOOKUP(A1070,'(1) Project Reference Item List'!$B$2:$B$499,1,FALSE)),\"\",\"Y\")","v":""}]
["511E46610","CLASS QC1 CONCRETE, HEADWALL","CY","COMPONENT","42404OH","CLEAR CURE TYPE1 CL A OR B OR W/DYE","GAL","705.07OH","0.00000","QPL",{"$f":"IF(ISNA(VLOOKUP(A1071,'(1) Project Reference Item List'!$B$2:$B$499,1,FALSE)),\"\",\"Y\")","v":""}]
["511E46612","CLASS QC1 CONCRETE W/ QC/QA, HEADWALL","CY","PRIMARY","215QC1","QC 1 CONCRETE - 4000 PSI - WELL GRADED","CY","499","1.00000","JCTL",{"$f":"IF(ISNA(VLOOKUP(A1072,'(1) Project Reference Item List'!$B$2:$B$499,1,FALSE)),\"\",\"Y\")","v":""}]
["511E46612","CLASS QC1 CONCRETE W/ QC/QA, HEADWALL","CY","COMPONENT","42404OH","CLEAR CURE TYPE1 CL A OR B OR W/DYE","GAL","705.07OH","0.00000","QPL",{"$f":"IF(ISNA(VLOOKUP(A1073,'(1) Project Reference Item List'!$B$2:$B$499,1,FALSE)),\"\",\"Y\")","v":""}]
["511E46613","CLS QC1 CONCRETE W/QC/QA, HEADWALL, APP","CY","COMPONENT","42404OH","CLEAR CURE TYPE1 CL A OR B OR W/DYE","GAL","705.07OH","0.00000","QPL",{"$f":"IF(ISNA(VLOOKUP(A1074,'(1) Project Reference Item List'!$B$2:$B$499,1,FALSE)),\"\",\"Y\")","v":""}]
["511E46613","CLS QC1 CONCRETE W/QC/QA, HEADWALL, APP","CY","PRIMARY","27102","CERTIFIED PRECAST HEADWALL","EACH","602.03 S10","0.00000","CERT",{"$f":"IF(ISNA(VLOOKUP(A1075,'(1) Project Reference Item List'!$B$2:$B$499,1,FALSE)),\"\",\"Y\")","v":""}]
["442E10110","ASPH CONC INT, 19MM, TYPE A (446) (DRIVE","CY","COMPONENT","1016422","PERFORMANCE GRADED ASPHALT (PG 64-22)","GAL","SS 1032","0.00000","CERT",{"$f":"IF(ISNA(VLOOKUP(A1076,'(1) Project Reference Item List'!$B$2:$B$499,1,FALSE)),\"\",\"Y\")","v":""}]
["442E10110","ASPH CONC INT, 19MM, TYPE A (446) (DRIVE","CY","COMPONENT","616AJAM","HOT APPLIED ASPHALT JOINT ADHESIVE","LB","SS-875","0.00000","CERT",{"$f":"IF(ISNA(VLOOKUP(A1077,'(1) Project Reference Item List'!$B$2:$B$499,1,FALSE)),\"\",\"Y\")","v":""}]
["442E10500","ASPH CONC SURF, 9.5 MM, T-A (448)","CY","SUBSTITUTE","1016422","PERFORMANCE GRADED ASPHALT (PG 64-22)","GAL","SS 1032","0.00000","CERT",{"$f":"IF(ISNA(VLOOKUP(A1078,'(1) Project Reference Item List'!$B$2:$B$499,1,FALSE)),\"\",\"Y\")","v":""}]
["442E10500","ASPH CONC SURF, 9.5 MM, T-A (448)","CY","COMPONENT","616AJAM","HOT APPLIED ASPHALT JOINT ADHESIVE","LB","SS-875","0.00000","CERT",{"$f":"IF(ISNA(VLOOKUP(A1079,'(1) Project Reference Item List'!$B$2:$B$499,1,FALSE)),\"\",\"Y\")","v":""}]
["442E10501","ASPHALT CONCRETE, 9.5 MM, T-A, APP","CY","SUBSTITUTE","1016422","PERFORMANCE GRADED ASPHALT (PG 64-22)","GAL","SS 1032","0.00000","CERT",{"$f":"IF(ISNA(VLOOKUP(A1080,'(1) Project Reference Item List'!$B$2:$B$499,1,FALSE)),\"\",\"Y\")","v":""}]
["442E10501","ASPHALT CONCRETE, 9.5 MM, T-A, APP","CY","COMPONENT","616AJAM","HOT APPLIED ASPHALT JOINT ADHESIVE","LB","SS-875","0.00000","CERT",{"$f":"IF(ISNA(VLOOKUP(A1081,'(1) Project Reference Item List'!$B$2:$B$499,1,FALSE)),\"\",\"Y\")","v":""}]
["442E10510","ASPH CONC SURF, 9.5MM, T- A (448)","CY","SUBSTITUTE","1016422","PERFORMANCE GRADED ASPHALT (PG 64-22)","GAL","SS 1032","0.00000","CERT",{"$f":"IF(ISNA(VLOOKUP(A1082,'(1) Project Reference Item List'!$B$2:$B$499,1,FALSE)),\"\",\"Y\")","v":""}]
["442E10510","ASPH CONC SURF, 9.5MM, T- A (448)","CY","COMPONENT","616AJAM","HOT APPLIED ASPHALT JOINT ADHESIVE","LB","SS-875","0.00000","CERT",{"$f":"IF(ISNA(VLOOKUP(A1083,'(1) Project Reference Item List'!$B$2:$B$499,1,FALSE)),\"\",\"Y\")","v":""}]
["442E20001","ASPHALT CONCRETE, 12.5 MM, T-A, APP","CY","COMPONENT","616AJAM","HOT APPLIED ASPHALT JOINT ADHESIVE","LB","SS-875","0.00000","CERT",{"$f":"IF(ISNA(VLOOKUP(A1084,'(1) Project Reference Item List'!$B$2:$B$499,1,FALSE)),\"\",\"Y\")","v":""}]
["442E20001","ASPHALT CONCRETE, 12.5 MM, T-A, APP","CY","PRIMARY","177441125","SUPERPAVE 12.5MM","TON","SP #2","2.00000","JCTL",{"$f":"IF(ISNA(VLOOKUP(A1085,'(1) Project Reference Item List'!$B$2:$B$499,1,FALSE)),\"\",\"Y\")","v":""}]
["442E20151","ASPHAL CONCRETE, 9.5 MM, T-B, APP","CY","PRIMARY","17744195","SUPERPAVE 9.5MM","TON","SP #2","2.00000","JCTL",{"$f":"IF(ISNA(VLOOKUP(A1086,'(1) Project Reference Item List'!$B$2:$B$499,1,FALSE)),\"\",\"Y\")","v":""}]
["442E20151","ASPHAL CONCRETE, 9.5 MM, T-B, APP","CY","SUBSTITUTE","1016422","PERFORMANCE GRADED ASPHALT (PG 64-22)","GAL","SS 1032","0.00000","CERT",{"$f":"IF(ISNA(VLOOKUP(A1087,'(1) Project Reference Item List'!$B$2:$B$499,1,FALSE)),\"\",\"Y\")","v":""}]
["442E20200","ASPH CONC INT, 19MM, TYPE A (448)","CY","COMPONENT","616AJAM","HOT APPLIED ASPHALT JOINT ADHESIVE","LB","SS-875","0.00000","CERT",{"$f":"IF(ISNA(VLOOKUP(A1088,'(1) Project Reference Item List'!$B$2:$B$499,1,FALSE)),\"\",\"Y\")","v":""}]
["442E20200","ASPH CONC INT, 19MM, TYPE A (448)","CY","PRIMARY","17644119","SUPERPAVE 19MM","TON","SP #2","2.00000","JCTL",{"$f":"IF(ISNA(VLOOKUP(A1089,'(1) Project Reference Item List'!$B$2:$B$499,1,FALSE)),\"\",\"Y\")","v":""}]
["442E20250","ASPH CONC INT, 19MM, TYPE B (448)","CY","SUBSTITUTE","1016422","PERFORMANCE GRADED ASPHALT (PG 64-22)","GAL","SS 1032","0.00000","CERT",{"$f":"IF(ISNA(VLOOKUP(A1090,'(1) Project Reference Item List'!$B$2:$B$499,1,FALSE)),\"\",\"Y\")","v":""}]
["442E20250","ASPH CONC INT, 19MM, TYPE B (448)","CY","COMPONENT","616AJAM","HOT APPLIED ASPHALT JOINT ADHESIVE","LB","SS-875","0.00000","CERT",{"$f":"IF(ISNA(VLOOKUP(A1091,'(1) Project Reference Item List'!$B$2:$B$499,1,FALSE)),\"\",\"Y\")","v":""}]
["511E53014","CLASS QC3 CONCRETE, MISC.:","CY","PRIMARY","215QC3","QC 3 CONCRETE - PROJ SPEC - WELL GRADED","CY","499","1.00000","JCTL",{"$f":"IF(ISNA(VLOOKUP(A1092,'(1) Project Reference Item List'!$B$2:$B$499,1,FALSE)),\"\",\"Y\")","v":""}]
["511E53014","CLASS QC3 CONCRETE, MISC.:","CY","COMPONENT","619025","PREFORMED EXPANSION JOINT FILLER 1/4\"","SF","705.03-711","0.00000","QPL",{"$f":"IF(ISNA(VLOOKUP(A1093,'(1) Project Reference Item List'!$B$2:$B$499,1,FALSE)),\"\",\"Y\")","v":""}]
["511E53014","CLASS QC3 CONCRETE, MISC.:","CY","COMPONENT","43201","HIGH MOLECULAR WEIGHT METHACRYLATE","GAL","705.15","0.00000","QPL",{"$f":"IF(ISNA(VLOOKUP(A1094,'(1) Project Reference Item List'!$B$2:$B$499,1,FALSE)),\"\",\"Y\")","v":""}]
["517E75301","RLG, CONC PPT W/CL FENCE, APP","FT","COMPONENT","585MISC","FENCE HARDWARE BNW,CAPS,BRACES,ETC","EACH","710","0.00000","JCTL",{"$f":"IF(ISNA(VLOOKUP(A1095,'(1) Project Reference Item List'!$B$2:$B$499,1,FALSE)),\"\",\"Y\")","v":""}]
["517E75301","RLG, CONC PPT W/CL FENCE, APP","FT","COMPONENT","582LPOST","FENCELINEPOSTS-TOPRAILS - STEEL OR ALU","EACH","710.03,11","0.00000","JCTL",{"$f":"IF(ISNA(VLOOKUP(A1096,'(1) Project Reference Item List'!$B$2:$B$499,1,FALSE)),\"\",\"Y\")","v":""}]
["517E75301","RLG, CONC PPT W/CL FENCE, APP","FT","COMPONENT","575FABRIC","FENCE FABRIC BARB WIRE, CL & TYPE 47","FT","710.01,02,","1.00000","CERT",{"$f":"IF(ISNA(VLOOKUP(A1097,'(1) Project Reference Item List'!$B$2:$B$499,1,FALSE)),\"\",\"Y\")","v":""}]
["517E75301","RLG, CONC PPT W/CL FENCE, APP","FT","COMPONENT","42404OH","CLEAR CURE TYPE1 CL A OR B OR W/DYE","GAL","705.07OH","0.00000","QPL",{"$f":"IF(ISNA(VLOOKUP(A1098,'(1) Project Reference Item List'!$B$2:$B$499,1,FALSE)),\"\",\"Y\")","v":""}]
["517E75301","RLG, CONC PPT W/CL FENCE, APP","FT","PRIMARY","215QC2","QC 2 CONCRETE - 4500 PSI - WELL GRADED","CY","499","0.10670","JCTL",{"$f":"IF(ISNA(VLOOKUP(A1099,'(1) Project Reference Item List'!$B$2:$B$499,1,FALSE)),\"\",\"Y\")","v":""}]
["517E75301","RLG, CONC PPT W/CL FENCE, APP","FT","COMPONENT","62560","REINFORCING, EPOXY COATED GRADE 60","LB","709.00","14.08000","CERT",{"$f":"IF(ISNA(VLOOKUP(A1100,'(1) Project Reference Item List'!$B$2:$B$499,1,FALSE)),\"\",\"Y\")","v":""}]
["517E75301","RLG, CONC PPT W/CL FENCE, APP","FT","SUBSTITUTE","62001","P.V.C. EXPANSION SPONGE","SF","705.03-711","0.00000","QPL",{"$f":"IF(ISNA(VLOOKUP(A1101,'(1) Project Reference Item List'!$B$2:$B$499,1,FALSE)),\"\",\"Y\")","v":""}]
["518E21100","POROUS BACKFILL","CY","PRIMARY","075057","57 CRUSHED STONE (703)","TON","703.18","1.20000","CERT",{"$f":"IF(ISNA(VLOOKUP(A1102,'(1) Project Reference Item List'!$B$2:$B$499,1,FALSE)),\"\",\"Y\")","v":""}]
["518E21100","POROUS BACKFILL","CY","SUBSTITUTE","074057","57 CRUSHED GRAVEL (703)","TON","703.18","1.25000","CERT",{"$f":"IF(ISNA(VLOOKUP(A1103,'(1) Project Reference Item List'!$B$2:$B$499,1,FALSE)),\"\",\"Y\")","v":""}]
["518E21100","POROUS BACKFILL","CY","PRIMARY","073057","57 GRAVEL 703","TON","703.18","1.25000","CERT",{"$f":"IF(ISNA(VLOOKUP(A1104,'(1) Project Reference Item List'!$B$2:$B$499,1,FALSE)),\"\",\"Y\")","v":""}]
["451E15011","10\" REINF CONC PVMT, CLS QC 1P, APP","SY","COMPONENT","62560","REINFORCING, EPOXY COATED GRADE 60","LB","709.00","0.00000","CERT",{"$f":"IF(ISNA(VLOOKUP(A1105,'(1) Project Reference Item List'!$B$2:$B$499,1,FALSE)),\"\",\"Y\")","v":""}]
["451E15011","10\" REINF CONC PVMT, CLS QC 1P, APP","SY","COMPONENT","619100","PREFORMED EXPANSION JOINT FILLER 1\"","SF","705.03-711","0.00000","QPL",{"$f":"IF(ISNA(VLOOKUP(A1106,'(1) Project Reference Item List'!$B$2:$B$499,1,FALSE)),\"\",\"Y\")","v":""}]
["451E15011","10\" REINF CONC PVMT, CLS QC 1P, APP","SY","COMPONENT","61607","JOINT & CRACK SEALER, HOT APPLIED 705.04","LB","705.04","0.00000","CERT",{"$f":"IF(ISNA(VLOOKUP(A1107,'(1) Project Reference Item List'!$B$2:$B$499,1,FALSE)),\"\",\"Y\")","v":""}]
["451E15011","10\" REINF CONC PVMT, CLS QC 1P, APP","SY","COMPONENT","61606","PREFORMED ELASTOMERIC COMPRESSION SEAL","FT","705.11","0.00000","QPL",{"$f":"IF(ISNA(VLOOKUP(A1108,'(1) Project Reference Item List'!$B$2:$B$499,1,FALSE)),\"\",\"Y\")","v":""}]
["451E15011","10\" REINF CONC PVMT, CLS QC 1P, APP","SY","COMPONENT","42406OH","WHITE CURE TYPE 2 CLASS A OR B","GAL","705.07OH","0.06000","QPL",{"$f":"IF(ISNA(VLOOKUP(A1109,'(1) Project Reference Item List'!$B$2:$B$499,1,FALSE)),\"\",\"Y\")","v":""}]
["451E15011","10\" REINF CONC PVMT, CLS QC 1P, APP","SY","SUBSTITUTE","215QCMS","QC MODERATE SET CONCRETE 400 PSI_24 HRS","CY","499","0.27778","JCTL",{"$f":"IF(ISNA(VLOOKUP(A1110,'(1) Project Reference Item List'!$B$2:$B$499,1,FALSE)),\"\",\"Y\")","v":""}]
["451E15011","10\" REINF CONC PVMT, CLS QC 1P, APP","SY","SUBSTITUTE","215QCFS","QC FAST SET CONCRETE 400 PSI_4 HRS","CY","499","0.27778","JCTL",{"$f":"IF(ISNA(VLOOKUP(A1111,'(1) Project Reference Item List'!$B$2:$B$499,1,FALSE)),\"\",\"Y\")","v":""}]
["451E15011","10\" REINF CONC PVMT, CLS QC 1P, APP","SY","PRIMARY","215QC1","QC 1 CONCRETE - 4000 PSI - WELL GRADED","CY","499","0.27778","JCTL",{"$f":"IF(ISNA(VLOOKUP(A1112,'(1) Project Reference Item List'!$B$2:$B$499,1,FALSE)),\"\",\"Y\")","v":""}]
["451E15011","10\" REINF CONC PVMT, CLS QC 1P, APP","SY","COMPONENT","67502","5/8\"X8\" HOOK BOLT","EACH","BP2.1","0.00000","QPL",{"$f":"IF(ISNA(VLOOKUP(A1113,'(1) Project Reference Item List'!$B$2:$B$499,1,FALSE)),\"\",\"Y\")","v":""}]
["451E15011","10\" REINF CONC PVMT, CLS QC 1P, APP","SY","COMPONENT","63013","STEEL ROD, COATED DOWEL, JOINT ASSY","LB","709.13","0.00000","CERT",{"$f":"IF(ISNA(VLOOKUP(A1114,'(1) Project Reference Item List'!$B$2:$B$499,1,FALSE)),\"\",\"Y\")","v":""}]
["451E15021","10\" REINF CONC PVMT,CLS QC 1P QC/QA, APP","SY","PRIMARY","215QCMISC","QC MISCELLANEOUS 4000 PSI","CY","499","0.27778","JCTL",{"$f":"IF(ISNA(VLOOKUP(A1115,'(1) Project Reference Item List'!$B$2:$B$499,1,FALSE)),\"\",\"Y\")","v":""}]
["451E15021","10\" REINF CONC PVMT,CLS QC 1P QC/QA, APP","SY","PRIMARY","215QCFS","QC FAST SET CONCRETE 400 PSI_4 HRS","CY","499","0.27778","JCTL",{"$f":"IF(ISNA(VLOOKUP(A1116,'(1) Project Reference Item List'!$B$2:$B$499,1,FALSE)),\"\",\"Y\")","v":""}]
["451E15021","10\" REINF CONC PVMT,CLS QC 1P QC/QA, APP","SY","PRIMARY","215QC1","QC 1 CONCRETE - 4000 PSI - WELL GRADED","CY","499","0.27778","JCTL",{"$f":"IF(ISNA(VLOOKUP(A1117,'(1) Project Reference Item List'!$B$2:$B$499,1,FALSE)),\"\",\"Y\")","v":""}]
["451E15021","10\" REINF CONC PVMT,CLS QC 1P QC/QA, APP","SY","COMPONENT","67502","5/8\"X8\" HOOK BOLT","EACH","BP2.1","0.00000","QPL",{"$f":"IF(ISNA(VLOOKUP(A1118,'(1) Project Reference Item List'!$B$2:$B$499,1,FALSE)),\"\",\"Y\")","v":""}]
["451E15021","10\" REINF CONC PVMT,CLS QC 1P QC/QA, APP","SY","COMPONENT","63013","STEEL ROD, COATED DOWEL, JOINT ASSY","LB","709.13","0.00000","CERT",{"$f":"IF(ISNA(VLOOKUP(A1119,'(1) Project Reference Item List'!$B$2:$B$499,1,FALSE)),\"\",\"Y\")","v":""}]
["451E15021","10\" REINF CONC PVMT,CLS QC 1P QC/QA, APP","SY","COMPONENT","62710","REINFORCING, WELDED WIRE FABRIC","SF","709.10","9.00000","CERT",{"$f":"IF(ISNA(VLOOKUP(A1120,'(1) Project Reference Item List'!$B$2:$B$499,1,FALSE)),\"\",\"Y\")","v":""}]
["451E15021","10\" REINF CONC PVMT,CLS QC 1P QC/QA, APP","SY","COMPONENT","62560","REINFORCING, EPOXY COATED GRADE 60","LB","709.00","0.00000","CERT",{"$f":"IF(ISNA(VLOOKUP(A1121,'(1) Project Reference Item List'!$B$2:$B$499,1,FALSE)),\"\",\"Y\")","v":""}]
["451E15021","10\" REINF CONC PVMT,CLS QC 1P QC/QA, APP","SY","COMPONENT","619100","PREFORMED EXPANSION JOINT FILLER 1\"","SF","705.03-711","0.00000","QPL",{"$f":"IF(ISNA(VLOOKUP(A1122,'(1) Project Reference Item List'!$B$2:$B$499,1,FALSE)),\"\",\"Y\")","v":""}]
["451E15021","10\" REINF CONC PVMT,CLS QC 1P QC/QA, APP","SY","COMPONENT","61607","JOINT & CRACK SEALER, HOT APPLIED 705.04","LB","705.04","0.00000","CERT",{"$f":"IF(ISNA(VLOOKUP(A1123,'(1) Project Reference Item List'!$B$2:$B$499,1,FALSE)),\"\",\"Y\")","v":""}]
["451E15021","10\" REINF CONC PVMT,CLS QC 1P QC/QA, APP","SY","COMPONENT","61606","PREFORMED ELASTOMERIC COMPRESSION SEAL","FT","705.11","0.00000","QPL",{"$f":"IF(ISNA(VLOOKUP(A1124,'(1) Project Reference Item List'!$B$2:$B$499,1,FALSE)),\"\",\"Y\")","v":""}]
["443E10000","STONE MATRIX CON, 12.5 MM, PG70-22M(446)","CY","SUBSTITUTE","1016422","PERFORMANCE GRADED ASPHALT (PG 64-22)","GAL","SS 1032","0.00000","CERT",{"$f":"IF(ISNA(VLOOKUP(A1125,'(1) Project Reference Item List'!$B$2:$B$499,1,FALSE)),\"\",\"Y\")","v":""}]
["443E10000","STONE MATRIX CON, 12.5 MM, PG70-22M(446)","CY","COMPONENT","616AJAM","HOT APPLIED ASPHALT JOINT ADHESIVE","LB","SS-875","0.00000","CERT",{"$f":"IF(ISNA(VLOOKUP(A1126,'(1) Project Reference Item List'!$B$2:$B$499,1,FALSE)),\"\",\"Y\")","v":""}]
["451E14010","9\" REINF CONC PVMT, CLS QC 1P","SY","COMPONENT","62560","REINFORCING, EPOXY COATED GRADE 60","LB","709.00","0.00000","CERT",{"$f":"IF(ISNA(VLOOKUP(A1127,'(1) Project Reference Item List'!$B$2:$B$499,1,FALSE)),\"\",\"Y\")","v":""}]
["451E14010","9\" REINF CONC PVMT, CLS QC 1P","SY","COMPONENT","619100","PREFORMED EXPANSION JOINT FILLER 1\"","SF","705.03-711","0.00000","QPL",{"$f":"IF(ISNA(VLOOKUP(A1128,'(1) Project Reference Item List'!$B$2:$B$499,1,FALSE)),\"\",\"Y\")","v":""}]
["451E14010","9\" REINF CONC PVMT, CLS QC 1P","SY","COMPONENT","61607","JOINT & CRACK SEALER, HOT APPLIED 705.04","LB","705.04","0.00000","CERT",{"$f":"IF(ISNA(VLOOKUP(A1129,'(1) Project Reference Item List'!$B$2:$B$499,1,FALSE)),\"\",\"Y\")","v":""}]
["451E14010","9\" REINF CONC PVMT, CLS QC 1P","SY","COMPONENT","61606","PREFORMED ELASTOMERIC COMPRESSION SEAL","FT","705.11","0.00000","QPL",{"$f":"IF(ISNA(VLOOKUP(A1130,'(1) Project Reference Item List'!$B$2:$B$499,1,FALSE)),\"\",\"Y\")","v":""}]
["451E14010","9\" REINF CONC PVMT, CLS QC 1P","SY","COMPONENT","42406OH","WHITE CURE TYPE 2 CLASS A OR B","GAL","705.07OH","0.06000","QPL",{"$f":"IF(ISNA(VLOOKUP(A1131,'(1) Project Reference Item List'!$B$2:$B$499,1,FALSE)),\"\",\"Y\")","v":""}]
["451E14010","9\" REINF CONC PVMT, CLS QC 1P","SY","SUBSTITUTE","215QCMS","QC MODERATE SET CONCRETE 400 PSI_24 HRS","CY","499","0.25000","JCTL",{"$f":"IF(ISNA(VLOOKUP(A1132,'(1) Project Reference Item List'!$B$2:$B$499,1,FALSE)),\"\",\"Y\")","v":""}]
["451E14010","9\" REINF CONC PVMT, CLS QC 1P","SY","SUBSTITUTE","215QCFS","QC FAST SET CONCRETE 400 PSI_4 HRS","CY","499","0.25000","JCTL",{"$f":"IF(ISNA(VLOOKUP(A1133,'(1) Project Reference Item List'!$B$2:$B$499,1,FALSE)),\"\",\"Y\")","v":""}]
["451E14010","9\" REINF CONC PVMT, CLS QC 1P","SY","PRIMARY","215QC1","QC 1 CONCRETE - 4000 PSI - WELL GRADED","CY","499","0.25000","JCTL",{"$f":"IF(ISNA(VLOOKUP(A1134,'(1) Project Reference Item List'!$B$2:$B$499,1,FALSE)),\"\",\"Y\")","v":""}]
["451E14010","9\" REINF CONC PVMT, CLS QC 1P","SY","COMPONENT","67502","5/8\"X8\" HOOK BOLT","EACH","BP2.1","0.00000","QPL",{"$f":"IF(ISNA(VLOOKUP(A1135,'(1) Project Reference Item List'!$B$2:$B$499,1,FALSE)),\"\",\"Y\")","v":""}]
["451E14010","9\" REINF CONC PVMT, CLS QC 1P","SY","COMPONENT","63013","STEEL ROD, COATED DOWEL, JOINT ASSY","LB","709.13","0.00000","CERT",{"$f":"IF(ISNA(VLOOKUP(A1136,'(1) Project Reference Item List'!$B$2:$B$499,1,FALSE)),\"\",\"Y\")","v":""}]
["512E33011","TYPE 3 WATERPROOFING, APP","SY","COMPONENT","61607","JOINT & CRACK SEALER, HOT APPLIED 705.04","LB","705.04","0.00000","CERT",{"$f":"IF(ISNA(VLOOKUP(A1137,'(1) Project Reference Item List'!$B$2:$B$499,1,FALSE)),\"\",\"Y\")","v":""}]
["512E44401","TYPE B WATERPROOFING, APP","SY","PRIMARY","61715","FABRIC COTTON WATERPROOFING","SY","711.24","2.00000","QPL",{"$f":"IF(ISNA(VLOOKUP(A1138,'(1) Project Reference Item List'!$B$2:$B$499,1,FALSE)),\"\",\"Y\")","v":""}]
["512E44401","TYPE B WATERPROOFING, APP","SY","COMPONENT","106WPA","ASPHALT WATERPROOFING WPA","LB","702.06","8.36800","QPL",{"$f":"IF(ISNA(VLOOKUP(A1139,'(1) Project Reference Item List'!$B$2:$B$499,1,FALSE)),\"\",\"Y\")","v":""}]
["512E44401","TYPE B WATERPROOFING, APP","SY","COMPONENT","105PRIM","ASPHALT PRIMER GRADE WATERPROOFING","GAL","702.05","0.10000","QPL",{"$f":"IF(ISNA(VLOOKUP(A1140,'(1) Project Reference Item List'!$B$2:$B$499,1,FALSE)),\"\",\"Y\")","v":""}]
["512E44401","TYPE B WATERPROOFING, APP","SY","SUBSTITUTE","104SS1","ASPHALT ANIONIC EMULS SLOW SET GRADE SS1","GAL","702.04","0.10000","CERT",{"$f":"IF(ISNA(VLOOKUP(A1141,'(1) Project Reference Item List'!$B$2:$B$499,1,FALSE)),\"\",\"Y\")","v":""}]
["512E55910","TYPE 3 WATERPROOFING","LS","COMPONENT","61607","JOINT & CRACK SEALER, HOT APPLIED 705.04","LB","705.04","0.00000","CERT",{"$f":"IF(ISNA(VLOOKUP(A1142,'(1) Project Reference Item List'!$B$2:$B$499,1,FALSE)),\"\",\"Y\")","v":""}]
["518E42010","8\" NON-PERF CORR PLASTIC PIPE","FT","PRIMARY","494P33NPREC","RECYCLED PE CORR M294 SD PIPE","FT","707.33","1.00000",null,{"$f":"IF(ISNA(VLOOKUP(A1143,'(1) Project Reference Item List'!$B$2:$B$499,1,FALSE)),\"\",\"Y\")","v":""}]
["518E39800","4\" PERF CORR. PLASTIC PIPE","FT","PRIMARY","494P33PREC","RECYCLED CORR PERF M294 SP-DP PIPE","FT","707.33","1.00000",null,{"$f":"IF(ISNA(VLOOKUP(A1144,'(1) Project Reference Item List'!$B$2:$B$499,1,FALSE)),\"\",\"Y\")","v":""}]
["518E40000","6\" PERF CORR PLASTIC PIPE","FT","PRIMARY","494P33PREC","RECYCLED CORR PERF M294 SP-DP PIPE","FT","707.33","1.00000",null,{"$f":"IF(ISNA(VLOOKUP(A1145,'(1) Project Reference Item List'!$B$2:$B$499,1,FALSE)),\"\",\"Y\")","v":""}]
["518E40000","6\" PERF CORR PLASTIC PIPE","FT","PRIMARY","495P31PS","PE CORR SMOOTH INT PERF M252 SP PIPE","FT","707.31","1.00000","CERT",{"$f":"IF(ISNA(VLOOKUP(A1146,'(1) Project Reference Item List'!$B$2:$B$499,1,FALSE)),\"\",\"Y\")","v":""}]
["518E40001","6\" PERF CORR PLASTIC PIPE, APP","FT","PRIMARY","494P33PREC","RECYCLED CORR PERF M294 SP-DP PIPE","FT","707.33","1.00000",null,{"$f":"IF(ISNA(VLOOKUP(A1147,'(1) Project Reference Item List'!$B$2:$B$499,1,FALSE)),\"\",\"Y\")","v":""}]
["518E40001","6\" PERF CORR PLASTIC PIPE, APP","FT","PRIMARY","495P31PS","PE CORR SMOOTH INT PERF M252 SP PIPE","FT","707.31","1.00000","CERT",{"$f":"IF(ISNA(VLOOKUP(A1148,'(1) Project Reference Item List'!$B$2:$B$499,1,FALSE)),\"\",\"Y\")","v":""}]
["518E40012","6\" NON-PERF CORR PLASTIC PIPE","FT","PRIMARY","494P33NP","PE CORR M294 S-D PIPE","FT","707.33","1.00000","CERT",{"$f":"IF(ISNA(VLOOKUP(A1149,'(1) Project Reference Item List'!$B$2:$B$499,1,FALSE)),\"\",\"Y\")","v":""}]
["451E15061","11\" REINF CONC PVMT, CLS QC 1P, APP","SY","COMPONENT","619100","PREFORMED EXPANSION JOINT FILLER 1\"","SF","705.03-711","0.00000","QPL",{"$f":"IF(ISNA(VLOOKUP(A1150,'(1) Project Reference Item List'!$B$2:$B$499,1,FALSE)),\"\",\"Y\")","v":""}]
["451E15061","11\" REINF CONC PVMT, CLS QC 1P, APP","SY","COMPONENT","61607","JOINT & CRACK SEALER, HOT APPLIED 705.04","LB","705.04","0.00000","CERT",{"$f":"IF(ISNA(VLOOKUP(A1151,'(1) Project Reference Item List'!$B$2:$B$499,1,FALSE)),\"\",\"Y\")","v":""}]
["451E15061","11\" REINF CONC PVMT, CLS QC 1P, APP","SY","COMPONENT","61606","PREFORMED ELASTOMERIC COMPRESSION SEAL","FT","705.11","0.00000","QPL",{"$f":"IF(ISNA(VLOOKUP(A1152,'(1) Project Reference Item List'!$B$2:$B$499,1,FALSE)),\"\",\"Y\")","v":""}]
["451E15061","11\" REINF CONC PVMT, CLS QC 1P, APP","SY","COMPONENT","42406OH","WHITE CURE TYPE 2 CLASS A OR B","GAL","705.07OH","0.06000","QPL",{"$f":"IF(ISNA(VLOOKUP(A1153,'(1) Project Reference Item List'!$B$2:$B$499,1,FALSE)),\"\",\"Y\")","v":""}]
["451E15061","11\" REINF CONC PVMT, CLS QC 1P, APP","SY","SUBSTITUTE","215QCMS","QC MODERATE SET CONCRETE 400 PSI_24 HRS","CY","499","0.30556","JCTL",{"$f":"IF(ISNA(VLOOKUP(A1154,'(1) Project Reference Item List'!$B$2:$B$499,1,FALSE)),\"\",\"Y\")","v":""}]
["451E15061","11\" REINF CONC PVMT, CLS QC 1P, APP","SY","SUBSTITUTE","215QCFS","QC FAST SET CONCRETE 400 PSI_4 HRS","CY","499","0.30556","JCTL",{"$f":"IF(ISNA(VLOOKUP(A1155,'(1) Project Reference Item List'!$B$2:$B$499,1,FALSE)),\"\",\"Y\")","v":""}]
["451E15061","11\" REINF CONC PVMT, CLS QC 1P, APP","SY","PRIMARY","215QC1","QC 1 CONCRETE - 4000 PSI - WELL GRADED","CY","499","0.30556","JCTL",{"$f":"IF(ISNA(VLOOKUP(A1156,'(1) Project Reference Item List'!$B$2:$B$499,1,FALSE)),\"\",\"Y\")","v":""}]
["451E15061","11\" REINF CONC PVMT, CLS QC 1P, APP","SY","COMPONENT","67502","5/8\"X8\" HOOK BOLT","EACH","BP2.1","0.00000","QPL",{"$f":"IF(ISNA(VLOOKUP(A1157,'(1) Project Reference Item List'!$B$2:$B$499,1,FALSE)),\"\",\"Y\")","v":""}]
["451E15061","11\" REINF CONC PVMT, CLS QC 1P, APP","SY","COMPONENT","63013","STEEL ROD, COATED DOWEL, JOINT ASSY","LB","709.13","0.00000","CERT",{"$f":"IF(ISNA(VLOOKUP(A1158,'(1) Project Reference Item List'!$B$2:$B$499,1,FALSE)),\"\",\"Y\")","v":""}]
["451E15061","11\" REINF CONC PVMT, CLS QC 1P, APP","SY","COMPONENT","62710","REINFORCING, WELDED WIRE FABRIC","SF","709.10","9.00000","CERT",{"$f":"IF(ISNA(VLOOKUP(A1159,'(1) Project Reference Item List'!$B$2:$B$499,1,FALSE)),\"\",\"Y\")","v":""}]
["451E16020","12\" REINF CONC PVMT, CLS QC 1P QC/QA","SY","COMPONENT","61606","PREFORMED ELASTOMERIC COMPRESSION SEAL","FT","705.11","0.00000","QPL",{"$f":"IF(ISNA(VLOOKUP(A1160,'(1) Project Reference Item List'!$B$2:$B$499,1,FALSE)),\"\",\"Y\")","v":""}]
["451E16020","12\" REINF CONC PVMT, CLS QC 1P QC/QA","SY","COMPONENT","42406OH","WHITE CURE TYPE 2 CLASS A OR B","GAL","705.07OH","0.06000","QPL",{"$f":"IF(ISNA(VLOOKUP(A1161,'(1) Project Reference Item List'!$B$2:$B$499,1,FALSE)),\"\",\"Y\")","v":""}]
["451E16020","12\" REINF CONC PVMT, CLS QC 1P QC/QA","SY","SUBSTITUTE","215QCMS","QC MODERATE SET CONCRETE 400 PSI_24 HRS","CY","499","0.33333","JCTL",{"$f":"IF(ISNA(VLOOKUP(A1162,'(1) Project Reference Item List'!$B$2:$B$499,1,FALSE)),\"\",\"Y\")","v":""}]
["451E16020","12\" REINF CONC PVMT, CLS QC 1P QC/QA","SY","SUBSTITUTE","215QCFS","QC FAST SET CONCRETE 400 PSI_4 HRS","CY","499","0.33333","JCTL",{"$f":"IF(ISNA(VLOOKUP(A1163,'(1) Project Reference Item List'!$B$2:$B$499,1,FALSE)),\"\",\"Y\")","v":""}]
["451E16020","12\" REINF CONC PVMT, CLS QC 1P QC/QA","SY","PRIMARY","215QC1","QC 1 CONCRETE - 4000 PSI - WELL GRADED","CY","499","0.33333","JCTL",{"$f":"IF(ISNA(VLOOKUP(A1164,'(1) Project Reference Item List'!$B$2:$B$499,1,FALSE)),\"\",\"Y\")","v":""}]
["451E16020","12\" REINF CONC PVMT, CLS QC 1P QC/QA","SY","COMPONENT","67502","5/8\"X8\" HOOK BOLT","EACH","BP2.1","0.00000","QPL",{"$f":"IF(ISNA(VLOOKUP(A1165,'(1) Project Reference Item List'!$B$2:$B$499,1,FALSE)),\"\",\"Y\")","v":""}]
["451E16020","12\" REINF CONC PVMT, CLS QC 1P QC/QA","SY","COMPONENT","63013","STEEL ROD, COATED DOWEL, JOINT ASSY","LB","709.13","0.00000","CERT",{"$f":"IF(ISNA(VLOOKUP(A1166,'(1) Project Reference Item List'!$B$2:$B$499,1,FALSE)),\"\",\"Y\")","v":""}]
["451E16020","12\" REINF CONC PVMT, CLS QC 1P QC/QA","SY","COMPONENT","62710","REINFORCING, WELDED WIRE FABRIC","SF","709.10","9.00000","CERT",{"$f":"IF(ISNA(VLOOKUP(A1167,'(1) Project Reference Item List'!$B$2:$B$499,1,FALSE)),\"\",\"Y\")","v":""}]
["451E16020","12\" REINF CONC PVMT, CLS QC 1P QC/QA","SY","COMPONENT","62560","REINFORCING, EPOXY COATED GRADE 60","LB","709.00","0.00000","CERT",{"$f":"IF(ISNA(VLOOKUP(A1168,'(1) Project Reference Item List'!$B$2:$B$499,1,FALSE)),\"\",\"Y\")","v":""}]
["451E16020","12\" REINF CONC PVMT, CLS QC 1P QC/QA","SY","COMPONENT","619100","PREFORMED EXPANSION JOINT FILLER 1\"","SF","705.03-711","0.00000","QPL",{"$f":"IF(ISNA(VLOOKUP(A1169,'(1) Project Reference Item List'!$B$2:$B$499,1,FALSE)),\"\",\"Y\")","v":""}]
["451E16110","13\" REINF CONC PVMT, CLS QC 1P","SY","SUBSTITUTE","215QCMS","QC MODERATE SET CONCRETE 400 PSI_24 HRS","CY","499","0.36111","JCTL",{"$f":"IF(ISNA(VLOOKUP(A1170,'(1) Project Reference Item List'!$B$2:$B$499,1,FALSE)),\"\",\"Y\")","v":""}]
["451E16110","13\" REINF CONC PVMT, CLS QC 1P","SY","SUBSTITUTE","215QCFS","QC FAST SET CONCRETE 400 PSI_4 HRS","CY","499","0.36111","JCTL",{"$f":"IF(ISNA(VLOOKUP(A1171,'(1) Project Reference Item List'!$B$2:$B$499,1,FALSE)),\"\",\"Y\")","v":""}]
["451E16110","13\" REINF CONC PVMT, CLS QC 1P","SY","PRIMARY","215QC1","QC 1 CONCRETE - 4000 PSI - WELL GRADED","CY","499","0.36111","JCTL",{"$f":"IF(ISNA(VLOOKUP(A1172,'(1) Project Reference Item List'!$B$2:$B$499,1,FALSE)),\"\",\"Y\")","v":""}]
["451E16110","13\" REINF CONC PVMT, CLS QC 1P","SY","COMPONENT","67502","5/8\"X8\" HOOK BOLT","EACH","BP2.1","0.00000","QPL",{"$f":"IF(ISNA(VLOOKUP(A1173,'(1) Project Reference Item List'!$B$2:$B$499,1,FALSE)),\"\",\"Y\")","v":""}]
["451E16110","13\" REINF CONC PVMT, CLS QC 1P","SY","COMPONENT","63013","STEEL ROD, COATED DOWEL, JOINT ASSY","LB","709.13","0.00000","CERT",{"$f":"IF(ISNA(VLOOKUP(A1174,'(1) Project Reference Item List'!$B$2:$B$499,1,FALSE)),\"\",\"Y\")","v":""}]
["451E16110","13\" REINF CONC PVMT, CLS QC 1P","SY","COMPONENT","62710","REINFORCING, WELDED WIRE FABRIC","SF","709.10","9.00000","CERT",{"$f":"IF(ISNA(VLOOKUP(A1175,'(1) Project Reference Item List'!$B$2:$B$499,1,FALSE)),\"\",\"Y\")","v":""}]
["451E16110","13\" REINF CONC PVMT, CLS QC 1P","SY","COMPONENT","62560","REINFORCING, EPOXY COATED GRADE 60","LB","709.00","0.00000","CERT",{"$f":"IF(ISNA(VLOOKUP(A1176,'(1) Project Reference Item List'!$B$2:$B$499,1,FALSE)),\"\",\"Y\")","v":""}]
["451E16110","13\" REINF CONC PVMT, CLS QC 1P","SY","COMPONENT","619100","PREFORMED EXPANSION JOINT FILLER 1\"","SF","705.03-711","0.00000","QPL",{"$f":"IF(ISNA(VLOOKUP(A1177,'(1) Project Reference Item List'!$B$2:$B$499,1,FALSE)),\"\",\"Y\")","v":""}]
["451E16110","13\" REINF CONC PVMT, CLS QC 1P","SY","COMPONENT","61607","JOINT & CRACK SEALER, HOT APPLIED 705.04","LB","705.04","0.00000","CERT",{"$f":"IF(ISNA(VLOOKUP(A1178,'(1) Project Reference Item List'!$B$2:$B$499,1,FALSE)),\"\",\"Y\")","v":""}]
["451E16110","13\" REINF CONC PVMT, CLS QC 1P","SY","COMPONENT","61606","PREFORMED ELASTOMERIC COMPRESSION SEAL","FT","705.11","0.00000","QPL",{"$f":"IF(ISNA(VLOOKUP(A1179,'(1) Project Reference Item List'!$B$2:$B$499,1,FALSE)),\"\",\"Y\")","v":""}]
["424E10000","FINE GRADED POLYMER ASPHALT CONCRETE, A","CY","SUBSTITUTE","051SD54","SAND, NATURAL 703.05 SILICON DIOXIDE REQ","TON","703.05","0.00000","CERT",{"$f":"IF(ISNA(VLOOKUP(A1180,'(1) Project Reference Item List'!$B$2:$B$499,1,FALSE)),\"\",\"Y\")","v":""}]
["424E12000","FINE GRADED POLYMER ASPHALT CONCRETE, B","CY","PRIMARY","177424B","FINE GRADED POLYMER ASPHALT CONCRETE","TON","424","2.00000","JCTL",{"$f":"IF(ISNA(VLOOKUP(A1181,'(1) Project Reference Item List'!$B$2:$B$499,1,FALSE)),\"\",\"Y\")","v":""}]
["441E10000","ASPH CONC SURFACE, TYPE 1, (446) PG64-22","CY","PRIMARY","1774411","BIT CONC 441 TYPE 1 SURFACE","TON","441","2.00000","JCTL",{"$f":"IF(ISNA(VLOOKUP(A1182,'(1) Project Reference Item List'!$B$2:$B$499,1,FALSE)),\"\",\"Y\")","v":""}]
["441E50000","ASPH CONC SURFACE, TYPE 1, (448) PG64-22","CY","COMPONENT","1016422","PERFORMANCE GRADED ASPHALT (PG 64-22)","GAL","SS 1032","0.00000","JCTL",{"$f":"IF(ISNA(VLOOKUP(A1183,'(1) Project Reference Item List'!$B$2:$B$499,1,FALSE)),\"\",\"Y\")","v":""}]
["511E42013","CLS QC1 CNCRT W/QC/QA,PIER ABV FTNGS, AP","CY","PRIMARY","215QC1","QC 1 CONCRETE - 4000 PSI - WELL GRADED","CY","499","1.00000","JCTL",{"$f":"IF(ISNA(VLOOKUP(A1184,'(1) Project Reference Item List'!$B$2:$B$499,1,FALSE)),\"\",\"Y\")","v":""}]
["511E44112","CLQC1 CNCRT W/QC/QA,ABTMNT NOT INCL FTNG","CY","COMPONENT","42404OH","CLEAR CURE TYPE1 CL A OR B OR W/DYE","GAL","705.07OH","0.00000","QPL",{"$f":"IF(ISNA(VLOOKUP(A1185,'(1) Project Reference Item List'!$B$2:$B$499,1,FALSE)),\"\",\"Y\")","v":""}]
["511E44113","CLQC1 CNCRT W/QC/QA,ABT NT INCL FTNG, AP","CY","COMPONENT","42404OH","CLEAR CURE TYPE1 CL A OR B OR W/DYE","GAL","705.07OH","0.00000","QPL",{"$f":"IF(ISNA(VLOOKUP(A1186,'(1) Project Reference Item List'!$B$2:$B$499,1,FALSE)),\"\",\"Y\")","v":""}]
["511E45651","CL QC4 MASS CONC, SUPERSTR, APP","CY","PRIMARY","215QC4","QC 4 CONCRETE - MASS - WELL GRADED","CY","499","0.00000","JCTL",{"$f":"IF(ISNA(VLOOKUP(A1187,'(1) Project Reference Item List'!$B$2:$B$499,1,FALSE)),\"\",\"Y\")","v":""}]
["517E75120","RLG (CONC PARP W/TWIN STEEL TUBE RAIL)","FT","PRIMARY","55100","STEEL BRIDGE RAILING SYSTEM PER PLAN","FT","517","1.00000","CERT",{"$f":"IF(ISNA(VLOOKUP(A1188,'(1) Project Reference Item List'!$B$2:$B$499,1,FALSE)),\"\",\"Y\")","v":""}]
["517E75121","RAILING, APP","FT","PRIMARY","55100","STEEL BRIDGE RAILING SYSTEM PER PLAN","FT","517","1.00000","CERT",{"$f":"IF(ISNA(VLOOKUP(A1189,'(1) Project Reference Item List'!$B$2:$B$499,1,FALSE)),\"\",\"Y\")","v":""}]
["517E75125","RAILING, APP","FT","PRIMARY","55100","STEEL BRIDGE RAILING SYSTEM PER PLAN","FT","517","0.00000","CERT",{"$f":"IF(ISNA(VLOOKUP(A1190,'(1) Project Reference Item List'!$B$2:$B$499,1,FALSE)),\"\",\"Y\")","v":""}]
["441E50101","ASPH CONC SURFACE, TYPE 1,(448) APP","CY","PRIMARY","1774411","BIT CONC 441 TYPE 1 SURFACE","TON","441","2.00000","JCTL",{"$f":"IF(ISNA(VLOOKUP(A1191,'(1) Project Reference Item List'!$B$2:$B$499,1,FALSE)),\"\",\"Y\")","v":""}]
["441E50301","ASPH CONC INTERMEDIATE, TYP 2,(448), APP","CY","PRIMARY","1764412","BIT CONC 441 TYPE 2","TON","441","2.00000","JCTL",{"$f":"IF(ISNA(VLOOKUP(A1192,'(1) Project Reference Item List'!$B$2:$B$499,1,FALSE)),\"\",\"Y\")","v":""}]
["441E50400","ASPH CONC SURF, TYPE 1,(448),(DRIVEWAYS)","CY","COMPONENT","1016422","PERFORMANCE GRADED ASPHALT (PG 64-22)","GAL","SS 1032","0.00000","CERT",{"$f":"IF(ISNA(VLOOKUP(A1193,'(1) Project Reference Item List'!$B$2:$B$499,1,FALSE)),\"\",\"Y\")","v":""}]
["441E60000","ASPH CONC SURF,(448), W/1059 WARRANTY","CY","PRIMARY","1774411","BIT CONC 441 TYPE 1 SURFACE","TON","441","0.00000","JCTL",{"$f":"IF(ISNA(VLOOKUP(A1194,'(1) Project Reference Item List'!$B$2:$B$499,1,FALSE)),\"\",\"Y\")","v":""}]
["442E00201","ASPHALT CONCRETE, 9.5 MM, T-A, APP","CY","PRIMARY","17744195","SUPERPAVE 9.5MM","TON","SP #2","2.00000","JCTL",{"$f":"IF(ISNA(VLOOKUP(A1195,'(1) Project Reference Item List'!$B$2:$B$499,1,FALSE)),\"\",\"Y\")","v":""}]
["442E10003","ASPH CONC SURF, 12.5MM, T-A (446), APP","CY","PRIMARY","177441125","SUPERPAVE 12.5MM","TON","SP #2","2.00000","JCTL",{"$f":"IF(ISNA(VLOOKUP(A1196,'(1) Project Reference Item List'!$B$2:$B$499,1,FALSE)),\"\",\"Y\")","v":""}]
["442E10051","ASPH CONC SURFACE, 12.5 MM, TYPE B, APP","CY","COMPONENT","616AJAM","HOT APPLIED ASPHALT JOINT ADHESIVE","LB","SS-875","0.00000","CERT",{"$f":"IF(ISNA(VLOOKUP(A1197,'(1) Project Reference Item List'!$B$2:$B$499,1,FALSE)),\"\",\"Y\")","v":""}]
["503E21102","UNCL EXC, INCL SHALE","CY","PRIMARY","NOMATL","CODE TO ADD TO CONTRACT S & T REQ","EACH","NONE","0.00000",null,{"$f":"IF(ISNA(VLOOKUP(A1198,'(1) Project Reference Item List'!$B$2:$B$499,1,FALSE)),\"\",\"Y\")","v":""}]
["503E21300","UNCLASSIFIED EXCAVATION","LS","PRIMARY","NOMATL","CODE TO ADD TO CONTRACT S & T REQ","EACH","NONE","0.00000",null,{"$f":"IF(ISNA(VLOOKUP(A1199,'(1) Project Reference Item List'!$B$2:$B$499,1,FALSE)),\"\",\"Y\")","v":""}]
["503E21331","UNCLASSIFIED EXC, INCL ROCK & SHALE, APP","LS","PRIMARY","NOMATL","CODE TO ADD TO CONTRACT S & T REQ","EACH","NONE","0.00000",null,{"$f":"IF(ISNA(VLOOKUP(A1200,'(1) Project Reference Item List'!$B$2:$B$499,1,FALSE)),\"\",\"Y\")","v":""}]
["503E22200","UNCL EXC INCL ROCK AND/OR SHALE","CY","PRIMARY","NOMATL","CODE TO ADD TO CONTRACT S & T REQ","EACH","NONE","0.00000",null,{"$f":"IF(ISNA(VLOOKUP(A1201,'(1) Project Reference Item List'!$B$2:$B$499,1,FALSE)),\"\",\"Y\")","v":""}]
["503E22201","UNCL EXC INCL ROCK AND/OR SHALE, APP","CY","PRIMARY","NOMATL","CODE TO ADD TO CONTRACT S & T REQ","EACH","NONE","0.00000",null,{"$f":"IF(ISNA(VLOOKUP(A1202,'(1) Project Reference Item List'!$B$2:$B$499,1,FALSE)),\"\",\"Y\")","v":""}]
["507E00100","STEEL PILES HP10X42, FURNISHED","FT","PRIMARY","365HPILE","STEEL H-PILE","FT","711.03","1.00000",null,{"$f":"IF(ISNA(VLOOKUP(A1203,'(1) Project Reference Item List'!$B$2:$B$499,1,FALSE)),\"\",\"Y\")","v":""}]
["503E21321","UNCL EXCAVATION, INCL ROCK, APP","LS","PRIMARY","NOMATL","CODE TO ADD TO CONTRACT S & T REQ","EACH","NONE","0.00000",null,{"$f":"IF(ISNA(VLOOKUP(A1204,'(1) Project Reference Item List'!$B$2:$B$499,1,FALSE)),\"\",\"Y\")","v":""}]
["506E12200","SUBSEQUENT STATIC LOAD TEST","EACH","PRIMARY","NOMATL","CODE TO ADD TO CONTRACT S & T REQ","EACH","NONE","0.00000",null,{"$f":"IF(ISNA(VLOOKUP(A1205,'(1) Project Reference Item List'!$B$2:$B$499,1,FALSE)),\"\",\"Y\")","v":""}]
["511E46210","CLS QC1 CONC, RET/WW INCL FOOTING","CY","COMPONENT","42404OH","CLEAR CURE TYPE1 CL A OR B OR W/DYE","GAL","705.07OH","0.00000","QPL",{"$f":"IF(ISNA(VLOOKUP(A1206,'(1) Project Reference Item List'!$B$2:$B$499,1,FALSE)),\"\",\"Y\")","v":""}]
["511E46610","CLASS QC1 CONCRETE, HEADWALL","CY","PRIMARY","27102","CERTIFIED PRECAST HEADWALL","EACH","602.03 S10","0.00000","CERT",{"$f":"IF(ISNA(VLOOKUP(A1207,'(1) Project Reference Item List'!$B$2:$B$499,1,FALSE)),\"\",\"Y\")","v":""}]
["511E46611","CLASS QC1 CONCRETE, HEADWALL, APP","CY","PRIMARY","215QC1","QC 1 CONCRETE - 4000 PSI - WELL GRADED","CY","499","1.00000","JCTL",{"$f":"IF(ISNA(VLOOKUP(A1208,'(1) Project Reference Item List'!$B$2:$B$499,1,FALSE)),\"\",\"Y\")","v":""}]
["511E46612","CLASS QC1 CONCRETE W/ QC/QA, HEADWALL","CY","PRIMARY","27102","CERTIFIED PRECAST HEADWALL","EACH","602.03 S10","0.00000","CERT",{"$f":"IF(ISNA(VLOOKUP(A1209,'(1) Project Reference Item List'!$B$2:$B$499,1,FALSE)),\"\",\"Y\")","v":""}]
["511E46613","CLS QC1 CONCRETE W/QC/QA, HEADWALL, APP","CY","PRIMARY","215QC1","QC 1 CONCRETE - 4000 PSI - WELL GRADED","CY","499","1.00000","JCTL",{"$f":"IF(ISNA(VLOOKUP(A1210,'(1) Project Reference Item List'!$B$2:$B$499,1,FALSE)),\"\",\"Y\")","v":""}]
["442E10110","ASPH CONC INT, 19MM, TYPE A (446) (DRIVE","CY","PRIMARY","17644119","SUPERPAVE 19MM","TON","SP #2","0.00000","JCTL",{"$f":"IF(ISNA(VLOOKUP(A1211,'(1) Project Reference Item List'!$B$2:$B$499,1,FALSE)),\"\",\"Y\")","v":""}]
["442E10500","ASPH CONC SURF, 9.5 MM, T-A (448)","CY","PRIMARY","17744195","SUPERPAVE 9.5MM","TON","SP #2","2.00000","JCTL",{"$f":"IF(ISNA(VLOOKUP(A1212,'(1) Project Reference Item List'!$B$2:$B$499,1,FALSE)),\"\",\"Y\")","v":""}]
["442E10501","ASPHALT CONCRETE, 9.5 MM, T-A, APP","CY","PRIMARY","17744195","SUPERPAVE 9.5MM","TON","SP #2","2.00000","JCTL",{"$f":"IF(ISNA(VLOOKUP(A1213,'(1) Project Reference Item List'!$B$2:$B$499,1,FALSE)),\"\",\"Y\")","v":""}]
["442E10510","ASPH CONC SURF, 9.5MM, T- A (448)","CY","PRIMARY","17744195","SUPERPAVE 9.5MM","TON","SP #2","2.00000","JCTL",{"$f":"IF(ISNA(VLOOKUP(A1214,'(1) Project Reference Item List'!$B$2:$B$499,1,FALSE)),\"\",\"Y\")","v":""}]
["442E20001","ASPHALT CONCRETE, 12.5 MM, T-A, APP","CY","SUBSTITUTE","1016422","PERFORMANCE GRADED ASPHALT (PG 64-22)","GAL","SS 1032","0.00000","CERT",{"$f":"IF(ISNA(VLOOKUP(A1215,'(1) Project Reference Item List'!$B$2:$B$499,1,FALSE)),\"\",\"Y\")","v":""}]
["442E20151","ASPHAL CONCRETE, 9.5 MM, T-B, APP","CY","COMPONENT","616AJAM","HOT APPLIED ASPHALT JOINT ADHESIVE","LB","SS-875","0.00000","CERT",{"$f":"IF(ISNA(VLOOKUP(A1216,'(1) Project Reference Item List'!$B$2:$B$499,1,FALSE)),\"\",\"Y\")","v":""}]
["442E20200","ASPH CONC INT, 19MM, TYPE A (448)","CY","SUBSTITUTE","1016422","PERFORMANCE GRADED ASPHALT (PG 64-22)","GAL","SS 1032","0.00000","CERT",{"$f":"IF(ISNA(VLOOKUP(A1217,'(1) Project Reference Item List'!$B$2:$B$499,1,FALSE)),\"\",\"Y\")","v":""}]
["442E20250","ASPH CONC INT, 19MM, TYPE B (448)","CY","PRIMARY","17644119","SUPERPAVE 19MM","TON","SP #2","2.00000","JCTL",{"$f":"IF(ISNA(VLOOKUP(A1218,'(1) Project Reference Item List'!$B$2:$B$499,1,FALSE)),\"\",\"Y\")","v":""}]
["507E00201","STEEL PILES HP12X53, FURNISHED, APP","FT","PRIMARY","365HPILE","STEEL H-PILE","FT","711.03","1.00000",null,{"$f":"IF(ISNA(VLOOKUP(A1219,'(1) Project Reference Item List'!$B$2:$B$499,1,FALSE)),\"\",\"Y\")","v":""}]
["507E00250","STEEL PILES HP12X53, DRIVEN","FT","PRIMARY","NOMATL","CODE TO ADD TO CONTRACT S & T REQ","EACH","NONE","0.00000",null,{"$f":"IF(ISNA(VLOOKUP(A1220,'(1) Project Reference Item List'!$B$2:$B$499,1,FALSE)),\"\",\"Y\")","v":""}]
["507E00301","STEEL PILES HP14X73, FURNISHED, APP","FT","PRIMARY","365HPILE","STEEL H-PILE","FT","711.03","1.00000",null,{"$f":"IF(ISNA(VLOOKUP(A1221,'(1) Project Reference Item List'!$B$2:$B$499,1,FALSE)),\"\",\"Y\")","v":""}]
["507E00370","STEEL PILES, HP14X117, FURNISHED","FT","PRIMARY","365HPILE","STEEL H-PILE","FT","711.03","1.00000",null,{"$f":"IF(ISNA(VLOOKUP(A1222,'(1) Project Reference Item List'!$B$2:$B$499,1,FALSE)),\"\",\"Y\")","v":""}]
["507E00380","STEEL PILES, HP14X117, DRIVEN","FT","PRIMARY","NOMATL","CODE TO ADD TO CONTRACT S & T REQ","EACH","NONE","0.00000",null,{"$f":"IF(ISNA(VLOOKUP(A1223,'(1) Project Reference Item List'!$B$2:$B$499,1,FALSE)),\"\",\"Y\")","v":""}]
["512E10601","CONC RPR BY EPOXY INJ, APP","FT","PRIMARY","43103","EPOXY INJECTION RESIN AND PASTE","GAL","705.26","0.00000","QPL",{"$f":"IF(ISNA(VLOOKUP(A1224,'(1) Project Reference Item List'!$B$2:$B$499,1,FALSE)),\"\",\"Y\")","v":""}]
["511E53014","CLASS QC3 CONCRETE, MISC.:","CY","COMPONENT","42404OH","CLEAR CURE TYPE1 CL A OR B OR W/DYE","GAL","705.07OH","0.00000","QPL",{"$f":"IF(ISNA(VLOOKUP(A1225,'(1) Project Reference Item List'!$B$2:$B$499,1,FALSE)),\"\",\"Y\")","v":""}]
["512E10400","TREATING OF CONCRETE BRIDGE DECK W/SRS","SY","PRIMARY","42505","SOLUBLE REACTIVE SILICATE CONC TREATMENT","GAL","705.24","0.00000","QPL",{"$f":"IF(ISNA(VLOOKUP(A1226,'(1) Project Reference Item List'!$B$2:$B$499,1,FALSE)),\"\",\"Y\")","v":""}]
["517E75301","RLG, CONC PPT W/CL FENCE, APP","FT","COMPONENT","619025","PREFORMED EXPANSION JOINT FILLER 1/4\"","SF","705.03-711","0.00000","QPL",{"$f":"IF(ISNA(VLOOKUP(A1227,'(1) Project Reference Item List'!$B$2:$B$499,1,FALSE)),\"\",\"Y\")","v":""}]
["517E75400","RLG (UPGRADING EX)","FT","PRIMARY","999999","MATERIALS AS NEEDED","EACH","NONE","1.00000","JCTL",{"$f":"IF(ISNA(VLOOKUP(A1228,'(1) Project Reference Item List'!$B$2:$B$499,1,FALSE)),\"\",\"Y\")","v":""}]
["517E75401","RLG (UPGRADING EX), APP","FT","PRIMARY","999999","MATERIALS AS NEEDED","EACH","NONE","1.00000","JCTL",{"$f":"IF(ISNA(VLOOKUP(A1229,'(1) Project Reference Item List'!$B$2:$B$499,1,FALSE)),\"\",\"Y\")","v":""}]
["517E75501","BRIDGE RLG REBUILT, APP","FT","PRIMARY","999999","MATERIALS AS NEEDED","EACH","NONE","0.00000","JCTL",{"$f":"IF(ISNA(VLOOKUP(A1230,'(1) Project Reference Item List'!$B$2:$B$499,1,FALSE)),\"\",\"Y\")","v":""}]
["517E76200","RAILING FACED","FT","PRIMARY","999999","MATERIALS AS NEEDED","EACH","NONE","0.00000","JCTL",{"$f":"IF(ISNA(VLOOKUP(A1231,'(1) Project Reference Item List'!$B$2:$B$499,1,FALSE)),\"\",\"Y\")","v":""}]
["517E76400","RAILING POST","EACH","PRIMARY","999999","MATERIALS AS NEEDED","EACH","NONE","0.00000","JCTL",{"$f":"IF(ISNA(VLOOKUP(A1232,'(1) Project Reference Item List'!$B$2:$B$499,1,FALSE)),\"\",\"Y\")","v":""}]
["517E80000","RLG(NOISE AND TRAFFIC BARR. IND. FTG)","FT","PRIMARY","999999","MATERIALS AS NEEDED","EACH","NONE","0.00000","JCTL",{"$f":"IF(ISNA(VLOOKUP(A1233,'(1) Project Reference Item List'!$B$2:$B$499,1,FALSE)),\"\",\"Y\")","v":""}]
["518E12301","SCUPPERS, INC SUPP (GIRDER), APP","EACH","PRIMARY","66201","FABRICATED METAL SCUPPER PER PLAN","EACH","518.07","1.00000","CERT",{"$f":"IF(ISNA(VLOOKUP(A1234,'(1) Project Reference Item List'!$B$2:$B$499,1,FALSE)),\"\",\"Y\")","v":""}]
["518E21100","POROUS BACKFILL","CY","SUBSTITUTE","076057","57 ACBF SLAG (703)","TON","703.18","1.15000","CERT",{"$f":"IF(ISNA(VLOOKUP(A1235,'(1) Project Reference Item List'!$B$2:$B$499,1,FALSE)),\"\",\"Y\")","v":""}]
["451E15011","10\" REINF CONC PVMT, CLS QC 1P, APP","SY","COMPONENT","62710","REINFORCING, WELDED WIRE FABRIC","SF","709.10","9.00000","CERT",{"$f":"IF(ISNA(VLOOKUP(A1236,'(1) Project Reference Item List'!$B$2:$B$499,1,FALSE)),\"\",\"Y\")","v":""}]
["451E15021","10\" REINF CONC PVMT,CLS QC 1P QC/QA, APP","SY","COMPONENT","42406OH","WHITE CURE TYPE 2 CLASS A OR B","GAL","705.07OH","0.06000","QPL",{"$f":"IF(ISNA(VLOOKUP(A1237,'(1) Project Reference Item List'!$B$2:$B$499,1,FALSE)),\"\",\"Y\")","v":""}]
["443E10000","STONE MATRIX CON, 12.5 MM, PG70-22M(446)","CY","PRIMARY","177SSMA","BIT CONC SUPERPAVE STONE MASTIC","TON","443","2.00000","JCTL",{"$f":"IF(ISNA(VLOOKUP(A1238,'(1) Project Reference Item List'!$B$2:$B$499,1,FALSE)),\"\",\"Y\")","v":""}]
["451E14010","9\" REINF CONC PVMT, CLS QC 1P","SY","COMPONENT","62710","REINFORCING, WELDED WIRE FABRIC","SF","709.10","9.00000","CERT",{"$f":"IF(ISNA(VLOOKUP(A1239,'(1) Project Reference Item List'!$B$2:$B$499,1,FALSE)),\"\",\"Y\")","v":""}]
["512E21300","PROT CONC SURFACE","SF","PRIMARY","999999","MATERIALS AS NEEDED","EACH","NONE","0.00000","JCTL",{"$f":"IF(ISNA(VLOOKUP(A1240,'(1) Project Reference Item List'!$B$2:$B$499,1,FALSE)),\"\",\"Y\")","v":""}]
["512E33000","TYPE 2 WATERPROOFING","SY","PRIMARY","61716","MEMBRANE WATERPROOF SHEET, TYPE 2","SY","711.25","1.00000","QPL",{"$f":"IF(ISNA(VLOOKUP(A1241,'(1) Project Reference Item List'!$B$2:$B$499,1,FALSE)),\"\",\"Y\")","v":""}]
["512E33001","TYPE 2 WATERPROOFING, APP","SY","PRIMARY","61716","MEMBRANE WATERPROOF SHEET, TYPE 2","SY","711.25","1.00000","QPL",{"$f":"IF(ISNA(VLOOKUP(A1242,'(1) Project Reference Item List'!$B$2:$B$499,1,FALSE)),\"\",\"Y\")","v":""}]
["512E33011","TYPE 3 WATERPROOFING, APP","SY","PRIMARY","61717","MEMBRANE WATERPROOF SHEETING, TYPE 3","SY","711.29","1.00000","CERT",{"$f":"IF(ISNA(VLOOKUP(A1243,'(1) Project Reference Item List'!$B$2:$B$499,1,FALSE)),\"\",\"Y\")","v":""}]
["512E44401","TYPE B WATERPROOFING, APP","SY","SUBSTITUTE","104MS2","ASPHALT ANIONIC EMULS MEDIUM SET GRD MS2","GAL","702.04","0.10000","CERT",{"$f":"IF(ISNA(VLOOKUP(A1244,'(1) Project Reference Item List'!$B$2:$B$499,1,FALSE)),\"\",\"Y\")","v":""}]
["512E74001","REMVL OF EXSTNG COATINGS CONC SURF, APP","SY","PRIMARY","NOMATL","CODE TO ADD TO CONTRACT S & T REQ","EACH","NONE","0.00000",null,{"$f":"IF(ISNA(VLOOKUP(A1245,'(1) Project Reference Item List'!$B$2:$B$499,1,FALSE)),\"\",\"Y\")","v":""}]
["512E55910","TYPE 3 WATERPROOFING","LS","PRIMARY","61717","MEMBRANE WATERPROOF SHEETING, TYPE 3","SY","711.29","0.00000","CERT",{"$f":"IF(ISNA(VLOOKUP(A1246,'(1) Project Reference Item List'!$B$2:$B$499,1,FALSE)),\"\",\"Y\")","v":""}]
["512E56202","ASPHALTIC PANEL","SY","PRIMARY","999999","MATERIALS AS NEEDED","EACH","NONE","0.00000","JCTL",{"$f":"IF(ISNA(VLOOKUP(A1247,'(1) Project Reference Item List'!$B$2:$B$499,1,FALSE)),\"\",\"Y\")","v":""}]
["512E67200","SPECIAL WATERPROOFING","SY","PRIMARY","999999","MATERIALS AS NEEDED","EACH","NONE","0.00000","JCTL",{"$f":"IF(ISNA(VLOOKUP(A1248,'(1) Project Reference Item List'!$B$2:$B$499,1,FALSE)),\"\",\"Y\")","v":""}]
["512E67450","SPECIAL WATERPROOFING","LS","PRIMARY","999999","MATERIALS AS NEEDED","EACH","NONE","0.00000","JCTL",{"$f":"IF(ISNA(VLOOKUP(A1249,'(1) Project Reference Item List'!$B$2:$B$499,1,FALSE)),\"\",\"Y\")","v":""}]
["512E73500","TRTING CONC DECKS W/GRAVITY FED RESIN","SY","PRIMARY","43105","GRAVITY FED EPOXY RESIN","GAL","705.25","0.09000","QPL",{"$f":"IF(ISNA(VLOOKUP(A1250,'(1) Project Reference Item List'!$B$2:$B$499,1,FALSE)),\"\",\"Y\")","v":""}]
["512E73501","TRTING CONC DECKS W/GRAVITY FED RESIN, A","SY","PRIMARY","43105","GRAVITY FED EPOXY RESIN","GAL","705.25","0.00000","QPL",{"$f":"IF(ISNA(VLOOKUP(A1251,'(1) Project Reference Item List'!$B$2:$B$499,1,FALSE)),\"\",\"Y\")","v":""}]
["518E42010","8\" NON-PERF CORR PLASTIC PIPE","FT","PRIMARY","494P33NP","PE CORR M294 S-D PIPE","FT","707.33","1.00000","CERT",{"$f":"IF(ISNA(VLOOKUP(A1252,'(1) Project Reference Item List'!$B$2:$B$499,1,FALSE)),\"\",\"Y\")","v":""}]
["518E39800","4\" PERF CORR. PLASTIC PIPE","FT","PRIMARY","494P33P","PE CORR PERF M294 SP-DP PIPE","FT","707.33","1.00000","CERT",{"$f":"IF(ISNA(VLOOKUP(A1253,'(1) Project Reference Item List'!$B$2:$B$499,1,FALSE)),\"\",\"Y\")","v":""}]
["518E40000","6\" PERF CORR PLASTIC PIPE","FT","PRIMARY","494P33P","PE CORR PERF M294 SP-DP PIPE","FT","707.33","1.00000","CERT",{"$f":"IF(ISNA(VLOOKUP(A1254,'(1) Project Reference Item List'!$B$2:$B$499,1,FALSE)),\"\",\"Y\")","v":""}]
["518E40001","6\" PERF CORR PLASTIC PIPE, APP","FT","PRIMARY","494P33P","PE CORR PERF M294 SP-DP PIPE","FT","707.33","1.00000","CERT",{"$f":"IF(ISNA(VLOOKUP(A1255,'(1) Project Reference Item List'!$B$2:$B$499,1,FALSE)),\"\",\"Y\")","v":""}]
["518E40012","6\" NON-PERF CORR PLASTIC PIPE","FT","PRIMARY","494P33NPREC","RECYCLED PE CORR M294 SD PIPE","FT","707.33","1.00000",null,{"$f":"IF(ISNA(VLOOKUP(A1256,'(1) Project Reference Item List'!$B$2:$B$499,1,FALSE)),\"\",\"Y\")","v":""}]
["518E41100","6\" PERF HEL CSP, 707.01","FT","PRIMARY","4513","METALLIC COATED CMP PERF PIPE 707.01","FT","707.01","1.00000","CERT",{"$f":"IF(ISNA(VLOOKUP(A1257,'(1) Project Reference Item List'!$B$2:$B$499,1,FALSE)),\"\",\"Y\")","v":""}]
["451E15061","11\" REINF CONC PVMT, CLS QC 1P, APP","SY","COMPONENT","62560","REINFORCING, EPOXY COATED GRADE 60","LB","709.00","0.00000","CERT",{"$f":"IF(ISNA(VLOOKUP(A1258,'(1) Project Reference Item List'!$B$2:$B$499,1,FALSE)),\"\",\"Y\")","v":""}]
["451E16020","12\" REINF CONC PVMT, CLS QC 1P QC/QA","SY","COMPONENT","61607","JOINT & CRACK SEALER, HOT APPLIED 705.04","LB","705.04","0.00000","CERT",{"$f":"IF(ISNA(VLOOKUP(A1259,'(1) Project Reference Item List'!$B$2:$B$499,1,FALSE)),\"\",\"Y\")","v":""}]
["451E16110","13\" REINF CONC PVMT, CLS QC 1P","SY","COMPONENT","42406OH","WHITE CURE TYPE 2 CLASS A OR B","GAL","705.07OH","0.06000","QPL",{"$f":"IF(ISNA(VLOOKUP(A1260,'(1) Project Reference Item List'!$B$2:$B$499,1,FALSE)),\"\",\"Y\")","v":""}]
["451E17010","15\" REINF CONC PVMT, CLS QC 1P","SY","COMPONENT","62640","REINFORCING, UNCOATED GRADE 40","LB","709.01","0.00000","CERT",{"$f":"IF(ISNA(VLOOKUP(A1261,'(1) Project Reference Item List'!$B$2:$B$499,1,FALSE)),\"\",\"Y\")","v":""}]
["451E17521","24\" REINF CONC PVMT,CLS QC 1P QC/QA, APP","SY","COMPONENT","63013","STEEL ROD, COATED DOWEL, JOINT ASSY","LB","709.13","0.00000","CERT",{"$f":"IF(ISNA(VLOOKUP(A1262,'(1) Project Reference Item List'!$B$2:$B$499,1,FALSE)),\"\",\"Y\")","v":""}]
["451E31000","PRESSURE RELIEF JT, TYPE B","FT","COMPONENT","1764412","BIT CONC 441 TYPE 2","TON","441","0.11110","JCTL",{"$f":"IF(ISNA(VLOOKUP(A1263,'(1) Project Reference Item List'!$B$2:$B$499,1,FALSE)),\"\",\"Y\")","v":""}]
["507E00550","12\" CIP REIN CONC PILES, FURN","FT","PRIMARY","366CIPCYL","STEEL PILE CASING,  CYLINDRICAL","FT","711.03","1.00000",null,{"$f":"IF(ISNA(VLOOKUP(A1264,'(1) Project Reference Item List'!$B$2:$B$499,1,FALSE)),\"\",\"Y\")","v":""}]
["507E00750","16\" CIP REIN CONC PILES, FURN","FT","PRIMARY","366CIPCYL","STEEL PILE CASING,  CYLINDRICAL","FT","711.03","1.00000",null,{"$f":"IF(ISNA(VLOOKUP(A1265,'(1) Project Reference Item List'!$B$2:$B$499,1,FALSE)),\"\",\"Y\")","v":""}]
["513E10261","STRUCTURAL STEEL MEMBERS, L-3, APP","LB","PRIMARY","65100L3","LEVEL 3 FABRICATED STEEL MEMBER","EACH","513","0.00000","CERT",{"$f":"IF(ISNA(VLOOKUP(A1266,'(1) Project Reference Item List'!$B$2:$B$499,1,FALSE)),\"\",\"Y\")","v":""}]
["513E10281","STRC STEEL MEM, L-4, APP","LB","COMPONENT","6583251","HS HVY HEX HD BLT,A325,TY 1","EACH","711.09","0.00000","CERT",{"$f":"IF(ISNA(VLOOKUP(A1267,'(1) Project Reference Item List'!$B$2:$B$499,1,FALSE)),\"\",\"Y\")","v":""}]
["512E99000","SEALING OF CONCRETE","LS","PRIMARY","NOMATL","CODE TO ADD TO CONTRACT S & T REQ","EACH","NONE","0.00000",null,{"$f":"IF(ISNA(VLOOKUP(A1268,'(1) Project Reference Item List'!$B$2:$B$499,1,FALSE)),\"\",\"Y\")","v":""}]
["513E10041","STRC STEEL, L-2, APP","LS","COMPONENT","6584361","WASHER, F 436, PLAIN (UNCOATED)","EACH","711.09","0.00000","CERT",{"$f":"IF(ISNA(VLOOKUP(A1269,'(1) Project Reference Item List'!$B$2:$B$499,1,FALSE)),\"\",\"Y\")","v":""}]
["513E10101","STRUC STEEL MEM, L5, APP","LS","COMPONENT","6583251","HS HVY HEX HD BLT,A325,TY 1","EACH","711.09","0.00000","CERT",{"$f":"IF(ISNA(VLOOKUP(A1270,'(1) Project Reference Item List'!$B$2:$B$499,1,FALSE)),\"\",\"Y\")","v":""}]
["513E10201","STRC STEEL MEM, LEVEL UF, APP","LB","PRIMARY","65100UF","UF LEVEL FABRICATED STEEL MEMBER","EACH","513","0.00000","CERT",{"$f":"IF(ISNA(VLOOKUP(A1271,'(1) Project Reference Item List'!$B$2:$B$499,1,FALSE)),\"\",\"Y\")","v":""}]
["518E51201","PIPE DOWNSPOUT (NOT6\"/8\"), APP","FT","PRIMARY","999999","MATERIALS AS NEEDED","EACH","NONE","0.00000","JCTL",{"$f":"IF(ISNA(VLOOKUP(A1272,'(1) Project Reference Item List'!$B$2:$B$499,1,FALSE)),\"\",\"Y\")","v":""}]
["518E62200","STRUC DRNG, MISC.","EACH","PRIMARY","999999","MATERIALS AS NEEDED","EACH","NONE","0.00000","JCTL",{"$f":"IF(ISNA(VLOOKUP(A1273,'(1) Project Reference Item List'!$B$2:$B$499,1,FALSE)),\"\",\"Y\")","v":""}]
["519E12602","LOW PRESS EPOXY INJECTING","SF","PRIMARY","43103","EPOXY INJECTION RESIN AND PASTE","GAL","705.26","0.00000","QPL",{"$f":"IF(ISNA(VLOOKUP(A1274,'(1) Project Reference Item List'!$B$2:$B$499,1,FALSE)),\"\",\"Y\")","v":""}]
["519E12610","CONC RPR BY EPOXY INJ W/SURF PREP","FT","PRIMARY","43103","EPOXY INJECTION RESIN AND PASTE","GAL","705.26","0.00000","QPL",{"$f":"IF(ISNA(VLOOKUP(A1275,'(1) Project Reference Item List'!$B$2:$B$499,1,FALSE)),\"\",\"Y\")","v":""}]
["519E12700","SURF PREP FOR EPOXY INJECT","FT","PRIMARY","NOMATL","CODE TO ADD TO CONTRACT S & T REQ","EACH","NONE","0.00000",null,{"$f":"IF(ISNA(VLOOKUP(A1276,'(1) Project Reference Item List'!$B$2:$B$499,1,FALSE)),\"\",\"Y\")","v":""}]
["452E09011","4\" NO-REINF CNC PVMT, QC1P, APP","SY","COMPONENT","67502","5/8\"X8\" HOOK BOLT","EACH","BP2.1","0.00000","QPL",{"$f":"IF(ISNA(VLOOKUP(A1277,'(1) Project Reference Item List'!$B$2:$B$499,1,FALSE)),\"\",\"Y\")","v":""}]
["452E10011","6\" NO-REINF CNC PVMT, QC1P, APP","SY","PRIMARY","215QC1","QC 1 CONCRETE - 4000 PSI - WELL GRADED","CY","499","0.16667","JCTL",{"$f":"IF(ISNA(VLOOKUP(A1278,'(1) Project Reference Item List'!$B$2:$B$499,1,FALSE)),\"\",\"Y\")","v":""}]
["452E10050","6\" NO-REINF CNC PVMT, QCMS","SY","COMPONENT","67502","5/8\"X8\" HOOK BOLT","EACH","BP2.1","0.00000","QPL",{"$f":"IF(ISNA(VLOOKUP(A1279,'(1) Project Reference Item List'!$B$2:$B$499,1,FALSE)),\"\",\"Y\")","v":""}]
["452E10061","6\" NO-REINF CNC PVMT, QCMS QC/QA, APP","SY","COMPONENT","42406OH","WHITE CURE TYPE 2 CLASS A OR B","GAL","705.07OH","0.00000","QPL",{"$f":"IF(ISNA(VLOOKUP(A1280,'(1) Project Reference Item List'!$B$2:$B$499,1,FALSE)),\"\",\"Y\")","v":""}]
["452E12010","8\" NO-REINF CNC PVMT, QC1P","SY","COMPONENT","42406OH","WHITE CURE TYPE 2 CLASS A OR B","GAL","705.07OH","0.06000","QPL",{"$f":"IF(ISNA(VLOOKUP(A1281,'(1) Project Reference Item List'!$B$2:$B$499,1,FALSE)),\"\",\"Y\")","v":""}]
["507E00850","18\" CIP REIN CONC PILES, FURN","FT","PRIMARY","366CIPCYL","STEEL PILE CASING,  CYLINDRICAL","FT","711.03","1.00000",null,{"$f":"IF(ISNA(VLOOKUP(A1282,'(1) Project Reference Item List'!$B$2:$B$499,1,FALSE)),\"\",\"Y\")","v":""}]
["507E50000","TIMBER PILES, CREOSOTED","FT","PRIMARY","369PILE","TIMBER PILING","FT","711.26","1.00000","CERT",{"$f":"IF(ISNA(VLOOKUP(A1283,'(1) Project Reference Item List'!$B$2:$B$499,1,FALSE)),\"\",\"Y\")","v":""}]
["509E25001","UNCOATED STEEL REINFORCEMENT, APP","LB","SUBSTITUTE","631RBS","REINFORCING, BAR SPLICES","EACH","709.19","0.00000","CERT",{"$f":"IF(ISNA(VLOOKUP(A1284,'(1) Project Reference Item List'!$B$2:$B$499,1,FALSE)),\"\",\"Y\")","v":""}]
["510E09950","DOWEL HOLES W/CEMENT GROUT","EACH","PRIMARY","42609","NON-SHRINK NON-METALLIC MATERIAL","GAL","705.20(08)","0.00000","QPL",{"$f":"IF(ISNA(VLOOKUP(A1285,'(1) Project Reference Item List'!$B$2:$B$499,1,FALSE)),\"\",\"Y\")","v":""}]
["513E10401","STRCT STEEL MEM, HYBRID GIRDER, L-6, APP","LB","PRIMARY","65100L6","LEVEL 6 FABRICATED STEEL MEMBER","EACH","513","0.00000","CERT",{"$f":"IF(ISNA(VLOOKUP(A1286,'(1) Project Reference Item List'!$B$2:$B$499,1,FALSE)),\"\",\"Y\")","v":""}]
["514E00060","FLD PTG OF STR STEEL, INTERMED","SF","COMPONENT","40022","CAULKING/STRUCTURAL STEEL PAINT IN FIELD","GAL","514.02","0.00000","QPL",{"$f":"IF(ISNA(VLOOKUP(A1287,'(1) Project Reference Item List'!$B$2:$B$499,1,FALSE)),\"\",\"Y\")","v":""}]
["513E21501","REPLACEMENT OF DET. END CROSSFRAMES, APP","LB","PRIMARY","65100UF","UF LEVEL FABRICATED STEEL MEMBER","EACH","513","0.00000","CERT",{"$f":"IF(ISNA(VLOOKUP(A1288,'(1) Project Reference Item List'!$B$2:$B$499,1,FALSE)),\"\",\"Y\")","v":""}]
["513E21600","STRUCTURAL STEEL FOR REHAB, APP","LB","PRIMARY","65100UF","UF LEVEL FABRICATED STEEL MEMBER","EACH","513","0.00000","CERT",{"$f":"IF(ISNA(VLOOKUP(A1289,'(1) Project Reference Item List'!$B$2:$B$499,1,FALSE)),\"\",\"Y\")","v":""}]
["513E95020","STRUCTURAL STEEL, MISC.:","LS","PRIMARY","65100UF","UF LEVEL FABRICATED STEEL MEMBER","EACH","513","0.00000","CERT",{"$f":"IF(ISNA(VLOOKUP(A1290,'(1) Project Reference Item List'!$B$2:$B$499,1,FALSE)),\"\",\"Y\")","v":""}]
["202E75100","FENCE REMOVED FOR STRG","FT","PRIMARY","NOMATL","CODE TO ADD TO CONTRACT S & T REQ","EACH","NONE","0.00000",null,{"$f":"IF(ISNA(VLOOKUP(A1291,'(1) Project Reference Item List'!$B$2:$B$499,1,FALSE)),\"\",\"Y\")","v":""}]
["202E98200","REMOVAL MISC.:","FT","PRIMARY","NOMATL","CODE TO ADD TO CONTRACT S & T REQ","EACH","NONE","0.00000",null,{"$f":"IF(ISNA(VLOOKUP(A1292,'(1) Project Reference Item List'!$B$2:$B$499,1,FALSE)),\"\",\"Y\")","v":""}]
["202E75250","GATE REMOVED","EACH","PRIMARY","NOMATL","CODE TO ADD TO CONTRACT S & T REQ","EACH","NONE","0.00000",null,{"$f":"IF(ISNA(VLOOKUP(A1293,'(1) Project Reference Item List'!$B$2:$B$499,1,FALSE)),\"\",\"Y\")","v":""}]
["202E75610","VALVE BOX REMOVED","EACH","PRIMARY","NOMATL","CODE TO ADD TO CONTRACT S & T REQ","EACH","NONE","0.00000",null,{"$f":"IF(ISNA(VLOOKUP(A1294,'(1) Project Reference Item List'!$B$2:$B$499,1,FALSE)),\"\",\"Y\")","v":""}]
["202E75711","SPECIAL EXISTING CONDUIT CLEANED","FT","PRIMARY","NOMATL","CODE TO ADD TO CONTRACT S & T REQ","EACH","NONE","0.00000",null,{"$f":"IF(ISNA(VLOOKUP(A1295,'(1) Project Reference Item List'!$B$2:$B$499,1,FALSE)),\"\",\"Y\")","v":""}]
["202E75801","DISCONNECT EXISTING CIRCUIT, APP","EACH","PRIMARY","NOMATL","CODE TO ADD TO CONTRACT S & T REQ","EACH","NONE","0.00000",null,{"$f":"IF(ISNA(VLOOKUP(A1296,'(1) Project Reference Item List'!$B$2:$B$499,1,FALSE)),\"\",\"Y\")","v":""}]
["202E99000","STRUCTURE REMOVED","LS","PRIMARY","NOMATL","CODE TO ADD TO CONTRACT S & T REQ","EACH","NONE","0.00000",null,{"$f":"IF(ISNA(VLOOKUP(A1297,'(1) Project Reference Item List'!$B$2:$B$499,1,FALSE)),\"\",\"Y\")","v":""}]
["202E99020","PAVEMENT REMOVED","LS","PRIMARY","NOMATL","CODE TO ADD TO CONTRACT S & T REQ","EACH","NONE","0.00000",null,{"$f":"IF(ISNA(VLOOKUP(A1298,'(1) Project Reference Item List'!$B$2:$B$499,1,FALSE)),\"\",\"Y\")","v":""}]
["203E07510","PIEZOMETER","EACH","PRIMARY","NOMATL","CODE TO ADD TO CONTRACT S & T REQ","EACH","NONE","0.00000",null,{"$f":"IF(ISNA(VLOOKUP(A1299,'(1) Project Reference Item List'!$B$2:$B$499,1,FALSE)),\"\",\"Y\")","v":""}]
["203E10000","EXCAVATION","CY","PRIMARY","NOMATL","CODE TO ADD TO CONTRACT S & T REQ","EACH","NONE","0.00000",null,{"$f":"IF(ISNA(VLOOKUP(A1300,'(1) Project Reference Item List'!$B$2:$B$499,1,FALSE)),\"\",\"Y\")","v":""}]
["203E35110","GRANULAR MATERIAL, TYPE B","CY","SUBSTITUTE","075617","617 CRUSHED STONE (703)","TON","703","1.90000","CERT",{"$f":"IF(ISNA(VLOOKUP(A1301,'(1) Project Reference Item List'!$B$2:$B$499,1,FALSE)),\"\",\"Y\")","v":""}]
["203E35121","GRANULAR MATERIAL, TYPE C, APP","CY","PRIMARY","002C16","GRANULAR EMBANKMENT TYPE C","CY","703.16.C.3","0.00000","CERT",{"$f":"IF(ISNA(VLOOKUP(A1302,'(1) Project Reference Item List'!$B$2:$B$499,1,FALSE)),\"\",\"Y\")","v":""}]
["203E40011","BORROW, USING GRAN MAT, INC EXC","CY","PRIMARY","002016","GRANULAR EMBANKMENT MATERIALS","CY","703.16.B","0.00000","JCTL",{"$f":"IF(ISNA(VLOOKUP(A1303,'(1) Project Reference Item List'!$B$2:$B$499,1,FALSE)),\"\",\"Y\")","v":""}]
["203E45110","GRANULAR MATERIAL, TYPE B","TON","PRIMARY","076411","411 ACBF SLAG (703)","TON","703.18","1.80000","CERT",{"$f":"IF(ISNA(VLOOKUP(A1304,'(1) Project Reference Item List'!$B$2:$B$499,1,FALSE)),\"\",\"Y\")","v":""}]
["203E45111","GRANULAR MATERIAL, TYPE B, APP","TON","PRIMARY","076411","411 ACBF SLAG (703)","TON","703.18","1.80000","CERT",{"$f":"IF(ISNA(VLOOKUP(A1305,'(1) Project Reference Item List'!$B$2:$B$499,1,FALSE)),\"\",\"Y\")","v":""}]
["203E48020","ROCK","TON","PRIMARY","NOMATL","CODE TO ADD TO CONTRACT S & T REQ","EACH","NONE","0.00000",null,{"$f":"IF(ISNA(VLOOKUP(A1306,'(1) Project Reference Item List'!$B$2:$B$499,1,FALSE)),\"\",\"Y\")","v":""}]
["203E57060","FOUNDATION COMPACTION","SY","PRIMARY","NOMATL","CODE TO ADD TO CONTRACT S & T REQ","EACH","NONE","0.00000",null,{"$f":"IF(ISNA(VLOOKUP(A1307,'(1) Project Reference Item List'!$B$2:$B$499,1,FALSE)),\"\",\"Y\")","v":""}]
["204E30051","GRANULAR MATERIAL, TYPE F, APP","CY","PRIMARY","002F16","GRANULAR EMBANKMENT TYPE F","CY","703.16.C.6","1.00000","CERT",{"$f":"IF(ISNA(VLOOKUP(A1308,'(1) Project Reference Item List'!$B$2:$B$499,1,FALSE)),\"\",\"Y\")","v":""}]
["204E50001","GEOTEXTILE FABRIC, APP","SY","PRIMARY","71209D","GEOTEXTILE FABRIC TYPE D","SY","712.09","1.00000","APPR",{"$f":"IF(ISNA(VLOOKUP(A1309,'(1) Project Reference Item List'!$B$2:$B$499,1,FALSE)),\"\",\"Y\")","v":""}]
["203E63600","ROLLER RENTAL","HOUR","PRIMARY","NOMATL","CODE TO ADD TO CONTRACT S & T REQ","EACH","NONE","0.00000",null,{"$f":"IF(ISNA(VLOOKUP(A1310,'(1) Project Reference Item List'!$B$2:$B$499,1,FALSE)),\"\",\"Y\")","v":""}]
["204E45000","PROOF ROLLING","HOUR","PRIMARY","NOMATL","CODE TO ADD TO CONTRACT S & T REQ","EACH","NONE","0.00000",null,{"$f":"IF(ISNA(VLOOKUP(A1311,'(1) Project Reference Item List'!$B$2:$B$499,1,FALSE)),\"\",\"Y\")","v":""}]
["204E45001","PROOF ROLLING, APP","HOUR","PRIMARY","NOMATL","CODE TO ADD TO CONTRACT S & T REQ","EACH","NONE","0.00000",null,{"$f":"IF(ISNA(VLOOKUP(A1312,'(1) Project Reference Item List'!$B$2:$B$499,1,FALSE)),\"\",\"Y\")","v":""}]
["203E98400","ROADWAY, MISC.","STA","PRIMARY","999999","MATERIALS AS NEEDED","EACH","NONE","0.00000","JCTL",{"$f":"IF(ISNA(VLOOKUP(A1313,'(1) Project Reference Item List'!$B$2:$B$499,1,FALSE)),\"\",\"Y\")","v":""}]
["203E98500","ROADWAY, MISC.:","LS","PRIMARY","999999","MATERIALS AS NEEDED","EACH","NONE","0.00000","JCTL",{"$f":"IF(ISNA(VLOOKUP(A1314,'(1) Project Reference Item List'!$B$2:$B$499,1,FALSE)),\"\",\"Y\")","v":""}]
["203E98600","ROADWAY, MISC.:","EACH","PRIMARY","999999","MATERIALS AS NEEDED","EACH","NONE","0.00000","JCTL",{"$f":"IF(ISNA(VLOOKUP(A1315,'(1) Project Reference Item List'!$B$2:$B$499,1,FALSE)),\"\",\"Y\")","v":""}]
["204E10000","SUBGRADE COMPACTION","SY","PRIMARY","NOMATL","CODE TO ADD TO CONTRACT S & T REQ","EACH","NONE","0.00000",null,{"$f":"IF(ISNA(VLOOKUP(A1316,'(1) Project Reference Item List'!$B$2:$B$499,1,FALSE)),\"\",\"Y\")","v":""}]
["204E10001","SUBGRADE COMPACTION, APP","SY","PRIMARY","NOMATL","CODE TO ADD TO CONTRACT S & T REQ","EACH","NONE","0.00000",null,{"$f":"IF(ISNA(VLOOKUP(A1317,'(1) Project Reference Item List'!$B$2:$B$499,1,FALSE)),\"\",\"Y\")","v":""}]
["204E30011","GRANULAR MATERIAL, TYPE B, APP","CY","SUBSTITUTE","076617","617 ACBF SLAG (703)","TON","703","1.80000","CERT",{"$f":"IF(ISNA(VLOOKUP(A1318,'(1) Project Reference Item List'!$B$2:$B$499,1,FALSE)),\"\",\"Y\")","v":""}]
["204E30020","GRANULAR MATERIAL, TYPE C","CY","PRIMARY","002C16","GRANULAR EMBANKMENT TYPE C","CY","703.16.C.3","1.00000","CERT",{"$f":"IF(ISNA(VLOOKUP(A1319,'(1) Project Reference Item List'!$B$2:$B$499,1,FALSE)),\"\",\"Y\")","v":""}]
["204E30030","GRANULAR MATERIAL, TYPE D","CY","PRIMARY","002D16","GRANULAR EMBANKMENT TYPE D","CY","703.16.C.4","1.00000","CERT",{"$f":"IF(ISNA(VLOOKUP(A1320,'(1) Project Reference Item List'!$B$2:$B$499,1,FALSE)),\"\",\"Y\")","v":""}]
["204E51001","GEOGRID, APP","SY","PRIMARY","71205B","BIAXAL GEOGRID","SF","SS861","1.00000",null,{"$f":"IF(ISNA(VLOOKUP(A1321,'(1) Project Reference Item List'!$B$2:$B$499,1,FALSE)),\"\",\"Y\")","v":""}]
["205E10300","LIME","TON","PRIMARY","001005","QUICK LIME","TON","712.04.B","1.00000","QPL",{"$f":"IF(ISNA(VLOOKUP(A1322,'(1) Project Reference Item List'!$B$2:$B$499,1,FALSE)),\"\",\"Y\")","v":""}]
["206E98400","SPECIAL CHEMICALLY STABILIZED SUBGRADE","LS","PRIMARY","NOMATL","CODE TO ADD TO CONTRACT S & T REQ","EACH","NONE","0.00000",null,{"$f":"IF(ISNA(VLOOKUP(A1323,'(1) Project Reference Item List'!$B$2:$B$499,1,FALSE)),\"\",\"Y\")","v":""}]
["206E10300","LIME","TON","PRIMARY","001005","QUICK LIME","TON","712.04.B","1.00000","QPL",{"$f":"IF(ISNA(VLOOKUP(A1324,'(1) Project Reference Item List'!$B$2:$B$499,1,FALSE)),\"\",\"Y\")","v":""}]
["206E11000","CURING COAT","SY","PRIMARY","42406OH","WHITE CURE TYPE 2 CLASS A OR B","GAL","705.07OH","0.05000","QPL",{"$f":"IF(ISNA(VLOOKUP(A1325,'(1) Project Reference Item List'!$B$2:$B$499,1,FALSE)),\"\",\"Y\")","v":""}]
["206E11001","CURING COAT, APP","SY","PRIMARY","104RS2","ASPHALT ANIONIC EMULS RAPID SET GRD RS-2","GAL","702.04","0.30000","CERT",{"$f":"IF(ISNA(VLOOKUP(A1326,'(1) Project Reference Item List'!$B$2:$B$499,1,FALSE)),\"\",\"Y\")","v":""}]
["208E10001","PRE-BLAST CONDITION SURVEY, APP","LS","PRIMARY","NOMATL","CODE TO ADD TO CONTRACT S & T REQ","EACH","NONE","0.00000",null,{"$f":"IF(ISNA(VLOOKUP(A1327,'(1) Project Reference Item List'!$B$2:$B$499,1,FALSE)),\"\",\"Y\")","v":""}]
["251E01000","PRTL DEPTH PVMT REPAIR (441)","SY","SUBSTITUTE","104CSS1H","ASPHALT CATIONIC EMULS GRD CSS-1H","GAL","702.04","0.00000","CERT",{"$f":"IF(ISNA(VLOOKUP(A1328,'(1) Project Reference Item List'!$B$2:$B$499,1,FALSE)),\"\",\"Y\")","v":""}]
["209E98300","LINEAR GRADING MISC","SY","PRIMARY","NOMATL","CODE TO ADD TO CONTRACT S & T REQ","EACH","NONE","0.00000",null,{"$f":"IF(ISNA(VLOOKUP(A1329,'(1) Project Reference Item List'!$B$2:$B$499,1,FALSE)),\"\",\"Y\")","v":""}]
["253E01000","PAVEMENT REPAIR","SY","PRIMARY","1764412","BIT CONC 441 TYPE 2","TON","441","0.00000","JCTL",{"$f":"IF(ISNA(VLOOKUP(A1330,'(1) Project Reference Item List'!$B$2:$B$499,1,FALSE)),\"\",\"Y\")","v":""}]
["253E01001","PAVEMENT REPAIR, APP","SY","PRIMARY","1764412","BIT CONC 441 TYPE 2","TON","441","0.00000","JCTL",{"$f":"IF(ISNA(VLOOKUP(A1331,'(1) Project Reference Item List'!$B$2:$B$499,1,FALSE)),\"\",\"Y\")","v":""}]
["253E02000","PAVEMENT REPAIR","CY","PRIMARY","1764412","BIT CONC 441 TYPE 2","TON","441","2.00000","JCTL",{"$f":"IF(ISNA(VLOOKUP(A1332,'(1) Project Reference Item List'!$B$2:$B$499,1,FALSE)),\"\",\"Y\")","v":""}]
["253E02001","PAVEMENT REPAIR, APP","CY","PRIMARY","1764412","BIT CONC 441 TYPE 2","TON","441","2.00000","JCTL",{"$f":"IF(ISNA(VLOOKUP(A1333,'(1) Project Reference Item List'!$B$2:$B$499,1,FALSE)),\"\",\"Y\")","v":""}]
["254E01001","PAVEMENT PLANING, ASPH CONC, APP","SY","PRIMARY","NOMATL","CODE TO ADD TO CONTRACT S & T REQ","EACH","NONE","0.00000",null,{"$f":"IF(ISNA(VLOOKUP(A1334,'(1) Project Reference Item List'!$B$2:$B$499,1,FALSE)),\"\",\"Y\")","v":""}]
["255E20001","FULL DEPTH PVMT SAWING, APP","FT","PRIMARY","NOMATL","CODE TO ADD TO CONTRACT S & T REQ","EACH","NONE","0.00000",null,{"$f":"IF(ISNA(VLOOKUP(A1335,'(1) Project Reference Item List'!$B$2:$B$499,1,FALSE)),\"\",\"Y\")","v":""}]
["255E98000","FULL DEPTH REPAIR, MISC.:","CY","PRIMARY","NOMATL","CODE TO ADD TO CONTRACT S & T REQ","EACH","NONE","0.00000",null,{"$f":"IF(ISNA(VLOOKUP(A1336,'(1) Project Reference Item List'!$B$2:$B$499,1,FALSE)),\"\",\"Y\")","v":""}]
["258E10001","RETROFIT DOWEL BARS, APP","EACH","COMPONENT","619050","PREFORMED EXPANSION JOINT FILLER 1/2\"","SF","705.03-711","0.00000","QPL",{"$f":"IF(ISNA(VLOOKUP(A1337,'(1) Project Reference Item List'!$B$2:$B$499,1,FALSE)),\"\",\"Y\")","v":""}]
["258E10010","RETROFIT DEFORMED BAR","EACH","PRIMARY","42805","DOWEL BAR RETROFIT GROUT","LB","258.02","0.00000","QPL",{"$f":"IF(ISNA(VLOOKUP(A1338,'(1) Project Reference Item List'!$B$2:$B$499,1,FALSE)),\"\",\"Y\")","v":""}]
["301E46000","ASPHALT CONCRETE BASE, PG64-22","CY","SUBSTITUTE","616AJAM","HOT APPLIED ASPHALT JOINT ADHESIVE","LB","SS-875","0.00000","CERT",{"$f":"IF(ISNA(VLOOKUP(A1339,'(1) Project Reference Item List'!$B$2:$B$499,1,FALSE)),\"\",\"Y\")","v":""}]
["301E46001","ASPHALT CONCRETE BASE, PG64-22, APP","CY","PRIMARY","175301","ASPHALT CONCRETE BASE 301","TON","301","2.00000","JCTL",{"$f":"IF(ISNA(VLOOKUP(A1340,'(1) Project Reference Item List'!$B$2:$B$499,1,FALSE)),\"\",\"Y\")","v":""}]
["301E46011","ASPHALT CONCRETE BASE, PG64-28, APP","CY","PRIMARY","175301","ASPHALT CONCRETE BASE 301","TON","301","2.00000","JCTL",{"$f":"IF(ISNA(VLOOKUP(A1341,'(1) Project Reference Item List'!$B$2:$B$499,1,FALSE)),\"\",\"Y\")","v":""}]
["301E46021","ASPHALT CONCRETE BASE, PG70-22M, APP","CY","PRIMARY","175301","ASPHALT CONCRETE BASE 301","TON","301","2.00000","JCTL",{"$f":"IF(ISNA(VLOOKUP(A1342,'(1) Project Reference Item List'!$B$2:$B$499,1,FALSE)),\"\",\"Y\")","v":""}]
["301E48000","ASPH CONC BASE, PG64-22 (DRIVWAYS)","CY","COMPONENT","616AJAM","HOT APPLIED ASPHALT JOINT ADHESIVE","LB","SS-875","0.00000","CERT",{"$f":"IF(ISNA(VLOOKUP(A1343,'(1) Project Reference Item List'!$B$2:$B$499,1,FALSE)),\"\",\"Y\")","v":""}]
["304E20000","AGGREGATE BASE","CY","SUBSTITUTE","09AGS8","GRANULATED (BF) SLAG 703.08","TON","703.08","1.40000","CERT",{"$f":"IF(ISNA(VLOOKUP(A1344,'(1) Project Reference Item List'!$B$2:$B$499,1,FALSE)),\"\",\"Y\")","v":""}]
["305E10011","6\" CONC BASE, CL QC 1P, APP","SY","COMPONENT","67601A","EXPANSION SHIELD ANCHOR, TYPE A","EACH","712.01","0.00000","JCTL",{"$f":"IF(ISNA(VLOOKUP(A1345,'(1) Project Reference Item List'!$B$2:$B$499,1,FALSE)),\"\",\"Y\")","v":""}]
["305E10021","6\" CONC BASE, CLASS QC 1P W/ QC/QA, APP","SY","PRIMARY","NOMATL","CODE TO ADD TO CONTRACT S & T REQ","EACH","NONE","0.00000",null,{"$f":"IF(ISNA(VLOOKUP(A1346,'(1) Project Reference Item List'!$B$2:$B$499,1,FALSE)),\"\",\"Y\")","v":""}]
["305E11020","7\" CONC BASE, CLASS QC 1P W/ QC/QA","SY","COMPONENT","67504","5/8\"X12\" WIGGLE BOLT","EACH","BP2.1","0.00000","JCTL",{"$f":"IF(ISNA(VLOOKUP(A1347,'(1) Project Reference Item List'!$B$2:$B$499,1,FALSE)),\"\",\"Y\")","v":""}]
["409E98020","SEALING, MISC:","GAL","PRIMARY","61607","JOINT & CRACK SEALER, HOT APPLIED 705.04","LB","705.04","0.00000","CERT",{"$f":"IF(ISNA(VLOOKUP(A1348,'(1) Project Reference Item List'!$B$2:$B$499,1,FALSE)),\"\",\"Y\")","v":""}]
["305E14011","10\" CONC BASE, CLASS QC 1P, APP","SY","COMPONENT","67503","HOOK BOLT COUPLER","EACH","BP2.1","0.00000","QPL",{"$f":"IF(ISNA(VLOOKUP(A1349,'(1) Project Reference Item List'!$B$2:$B$499,1,FALSE)),\"\",\"Y\")","v":""}]
["305E15010","11\" CONC BASE, CLASS QC 1P","SY","COMPONENT","67504","5/8\"X12\" WIGGLE BOLT","EACH","BP2.1","0.00000","JCTL",{"$f":"IF(ISNA(VLOOKUP(A1350,'(1) Project Reference Item List'!$B$2:$B$499,1,FALSE)),\"\",\"Y\")","v":""}]
["305E17010","13\" CONC BASE, CLASS QC 1P","SY","COMPONENT","61607","JOINT & CRACK SEALER, HOT APPLIED 705.04","LB","705.04","0.00000","CERT",{"$f":"IF(ISNA(VLOOKUP(A1351,'(1) Project Reference Item List'!$B$2:$B$499,1,FALSE)),\"\",\"Y\")","v":""}]
["305E17021","13\" CONC BASE, CLASS QC 1P W/ QC/QA, APP","SY","COMPONENT","61607","JOINT & CRACK SEALER, HOT APPLIED 705.04","LB","705.04","0.00000","CERT",{"$f":"IF(ISNA(VLOOKUP(A1352,'(1) Project Reference Item List'!$B$2:$B$499,1,FALSE)),\"\",\"Y\")","v":""}]
["305E17500","CONCRETE BASE, MISC.:","SY","COMPONENT","42406OH","WHITE CURE TYPE 2 CLASS A OR B","GAL","705.07OH","0.00000","QPL",{"$f":"IF(ISNA(VLOOKUP(A1353,'(1) Project Reference Item List'!$B$2:$B$499,1,FALSE)),\"\",\"Y\")","v":""}]
["320E70000","RUBBLIZE AND ROLL","SY","PRIMARY","NOMATL","CODE TO ADD TO CONTRACT S & T REQ","EACH","NONE","0.00000",null,{"$f":"IF(ISNA(VLOOKUP(A1354,'(1) Project Reference Item List'!$B$2:$B$499,1,FALSE)),\"\",\"Y\")","v":""}]
["320E80000","FILLER AGGREGATE","CY","PRIMARY","045304","304 CRUSHED STONE 703.17","TON","703.17","2.00000","CERT",{"$f":"IF(ISNA(VLOOKUP(A1355,'(1) Project Reference Item List'!$B$2:$B$499,1,FALSE)),\"\",\"Y\")","v":""}]
["400E99000","SPECIAL - FLEXIBLE PAVEMENT","LS","PRIMARY","999999","MATERIALS AS NEEDED","EACH","NONE","0.00000","JCTL",{"$f":"IF(ISNA(VLOOKUP(A1356,'(1) Project Reference Item List'!$B$2:$B$499,1,FALSE)),\"\",\"Y\")","v":""}]
["407E10001","TACK COAT, APP","GAL","PRIMARY","104SS1H","ASPHALT ANIONIC EMULS SLOW SET GRD SS-1H","GAL","702.04","1.00000","CERT",{"$f":"IF(ISNA(VLOOKUP(A1357,'(1) Project Reference Item List'!$B$2:$B$499,1,FALSE)),\"\",\"Y\")","v":""}]
["408E10000","PRIME COAT","GAL","SUBSTITUTE","102MC30","ASPHALT LIQUID MED CURING GRD MC-30","GAL","702.02","1.00000","CERT",{"$f":"IF(ISNA(VLOOKUP(A1358,'(1) Project Reference Item List'!$B$2:$B$499,1,FALSE)),\"\",\"Y\")","v":""}]
["409E30000","SAWING & SLG ASPH CONC PVMT JOINTS","FT","PRIMARY","61607","JOINT & CRACK SEALER, HOT APPLIED 705.04","LB","705.04","0.45300","CERT",{"$f":"IF(ISNA(VLOOKUP(A1359,'(1) Project Reference Item List'!$B$2:$B$499,1,FALSE)),\"\",\"Y\")","v":""}]
["100E00300","RAILROAD INSURANCE BOND","LS","PRIMARY","NOMATL","CODE TO ADD TO CONTRACT S & T REQ","EACH","NONE","0.00000",null,{"$f":"IF(ISNA(VLOOKUP(A1360,'(1) Project Reference Item List'!$B$2:$B$499,1,FALSE)),\"\",\"Y\")","v":""}]
["108E99100","CPM PROGRESS SCHEDULE","LS","PRIMARY","NOMATL","CODE TO ADD TO CONTRACT S & T REQ","EACH","NONE","0.00000",null,{"$f":"IF(ISNA(VLOOKUP(A1361,'(1) Project Reference Item List'!$B$2:$B$499,1,FALSE)),\"\",\"Y\")","v":""}]
["201E24800","TREE REMOVED, 48\"","EACH","PRIMARY","NOMATL","CODE TO ADD TO CONTRACT S & T REQ","EACH","NONE","0.00000",null,{"$f":"IF(ISNA(VLOOKUP(A1362,'(1) Project Reference Item List'!$B$2:$B$499,1,FALSE)),\"\",\"Y\")","v":""}]
["201E26000","TREE REMOVED, 60\"","EACH","PRIMARY","NOMATL","CODE TO ADD TO CONTRACT S & T REQ","EACH","NONE","0.00000",null,{"$f":"IF(ISNA(VLOOKUP(A1363,'(1) Project Reference Item List'!$B$2:$B$499,1,FALSE)),\"\",\"Y\")","v":""}]
["100E99000","PREMIUM ON RR'S/LIABILITY & PROPERTY","LS","PRIMARY","NOMATL","CODE TO ADD TO CONTRACT S & T REQ","EACH","NONE","0.00000",null,{"$f":"IF(ISNA(VLOOKUP(A1364,'(1) Project Reference Item List'!$B$2:$B$499,1,FALSE)),\"\",\"Y\")","v":""}]
["107E99000","UTILITY COORDINATION","LS","PRIMARY","NOMATL","CODE TO ADD TO CONTRACT S & T REQ","EACH","NONE","0.00000",null,{"$f":"IF(ISNA(VLOOKUP(A1365,'(1) Project Reference Item List'!$B$2:$B$499,1,FALSE)),\"\",\"Y\")","v":""}]
["100E99010","PROFESSIONAL LIABILITY INSURANCE","LS","PRIMARY","NOMATL","CODE TO ADD TO CONTRACT S & T REQ","EACH","NONE","0.00000",null,{"$f":"IF(ISNA(VLOOKUP(A1366,'(1) Project Reference Item List'!$B$2:$B$499,1,FALSE)),\"\",\"Y\")","v":""}]
["108E10000","CPM PROGRESS SCHEDULE","LS","PRIMARY","NOMATL","CODE TO ADD TO CONTRACT S & T REQ","EACH","NONE","0.00000",null,{"$f":"IF(ISNA(VLOOKUP(A1367,'(1) Project Reference Item List'!$B$2:$B$499,1,FALSE)),\"\",\"Y\")","v":""}]
["201E21800","TREE REMOVED, 18\"","EACH","PRIMARY","NOMATL","CODE TO ADD TO CONTRACT S & T REQ","EACH","NONE","0.00000",null,{"$f":"IF(ISNA(VLOOKUP(A1368,'(1) Project Reference Item List'!$B$2:$B$499,1,FALSE)),\"\",\"Y\")","v":""}]
["202E11004","STRUCTURE REMOVED","EACH","PRIMARY","NOMATL","CODE TO ADD TO CONTRACT S & T REQ","EACH","NONE","0.00000",null,{"$f":"IF(ISNA(VLOOKUP(A1369,'(1) Project Reference Item List'!$B$2:$B$499,1,FALSE)),\"\",\"Y\")","v":""}]
["202E11304","PORTIONS OF STR REM","SY","PRIMARY","NOMATL","CODE TO ADD TO CONTRACT S & T REQ","EACH","NONE","0.00000",null,{"$f":"IF(ISNA(VLOOKUP(A1370,'(1) Project Reference Item List'!$B$2:$B$499,1,FALSE)),\"\",\"Y\")","v":""}]
["202E11100","STRUCTURE REMOVED","CY","PRIMARY","NOMATL","CODE TO ADD TO CONTRACT S & T REQ","EACH","NONE","0.00000",null,{"$f":"IF(ISNA(VLOOKUP(A1371,'(1) Project Reference Item List'!$B$2:$B$499,1,FALSE)),\"\",\"Y\")","v":""}]
["201E26520","STUMP REMOVED, 48\"","EACH","PRIMARY","NOMATL","CODE TO ADD TO CONTRACT S & T REQ","EACH","NONE","0.00000",null,{"$f":"IF(ISNA(VLOOKUP(A1372,'(1) Project Reference Item List'!$B$2:$B$499,1,FALSE)),\"\",\"Y\")","v":""}]
["201E26530","STUMP REMOVED, 60\"","EACH","PRIMARY","NOMATL","CODE TO ADD TO CONTRACT S & T REQ","EACH","NONE","0.00000",null,{"$f":"IF(ISNA(VLOOKUP(A1373,'(1) Project Reference Item List'!$B$2:$B$499,1,FALSE)),\"\",\"Y\")","v":""}]
["201E26531","STUMP REMOVED, 60\", APP","EACH","PRIMARY","NOMATL","CODE TO ADD TO CONTRACT S & T REQ","EACH","NONE","0.00000",null,{"$f":"IF(ISNA(VLOOKUP(A1374,'(1) Project Reference Item List'!$B$2:$B$499,1,FALSE)),\"\",\"Y\")","v":""}]
["202E11002","STR REMOVED, > 20 SPAN","LS","PRIMARY","NOMATL","CODE TO ADD TO CONTRACT S & T REQ","EACH","NONE","0.00000",null,{"$f":"IF(ISNA(VLOOKUP(A1375,'(1) Project Reference Item List'!$B$2:$B$499,1,FALSE)),\"\",\"Y\")","v":""}]
["202E23901","CONCRETE BASE REMOVED, APP","SY","PRIMARY","NOMATL","CODE TO ADD TO CONTRACT S & T REQ","EACH","NONE","0.00000",null,{"$f":"IF(ISNA(VLOOKUP(A1376,'(1) Project Reference Item List'!$B$2:$B$499,1,FALSE)),\"\",\"Y\")","v":""}]
["202E24000","BRICK BASE REMOVED","SY","PRIMARY","NOMATL","CODE TO ADD TO CONTRACT S & T REQ","EACH","NONE","0.00000",null,{"$f":"IF(ISNA(VLOOKUP(A1377,'(1) Project Reference Item List'!$B$2:$B$499,1,FALSE)),\"\",\"Y\")","v":""}]
["202E11500","PORTIONS OF STRUCTURE REMOVED","EACH","PRIMARY","NOMATL","CODE TO ADD TO CONTRACT S & T REQ","EACH","NONE","0.00000",null,{"$f":"IF(ISNA(VLOOKUP(A1378,'(1) Project Reference Item List'!$B$2:$B$499,1,FALSE)),\"\",\"Y\")","v":""}]
["202E30000","WALK REMOVED","SF","PRIMARY","NOMATL","CODE TO ADD TO CONTRACT S & T REQ","EACH","NONE","0.00000",null,{"$f":"IF(ISNA(VLOOKUP(A1379,'(1) Project Reference Item List'!$B$2:$B$499,1,FALSE)),\"\",\"Y\")","v":""}]
["202E30704","CONC BARRIER REMOVED FOR STRG","FT","PRIMARY","NOMATL","CODE TO ADD TO CONTRACT S & T REQ","EACH","NONE","0.00000",null,{"$f":"IF(ISNA(VLOOKUP(A1380,'(1) Project Reference Item List'!$B$2:$B$499,1,FALSE)),\"\",\"Y\")","v":""}]
["202E30600","CONC MEDIAN REMOVED","SY","PRIMARY","NOMATL","CODE TO ADD TO CONTRACT S & T REQ","EACH","NONE","0.00000",null,{"$f":"IF(ISNA(VLOOKUP(A1381,'(1) Project Reference Item List'!$B$2:$B$499,1,FALSE)),\"\",\"Y\")","v":""}]
["202E30700","CONC BARRIER REMOVED","FT","PRIMARY","NOMATL","CODE TO ADD TO CONTRACT S & T REQ","EACH","NONE","0.00000",null,{"$f":"IF(ISNA(VLOOKUP(A1382,'(1) Project Reference Item List'!$B$2:$B$499,1,FALSE)),\"\",\"Y\")","v":""}]
["202E23001","PAVEMENT REMOVED, APP","SY","PRIMARY","NOMATL","CODE TO ADD TO CONTRACT S & T REQ","EACH","NONE","0.00000",null,{"$f":"IF(ISNA(VLOOKUP(A1383,'(1) Project Reference Item List'!$B$2:$B$499,1,FALSE)),\"\",\"Y\")","v":""}]
["202E23010","PAVEMENT REMOVED, ASPHALT","SY","PRIMARY","NOMATL","CODE TO ADD TO CONTRACT S & T REQ","EACH","NONE","0.00000",null,{"$f":"IF(ISNA(VLOOKUP(A1384,'(1) Project Reference Item List'!$B$2:$B$499,1,FALSE)),\"\",\"Y\")","v":""}]
["202E23011","PAVEMENT REMOVED, ASPHALT, APP","SY","PRIMARY","NOMATL","CODE TO ADD TO CONTRACT S & T REQ","EACH","NONE","0.00000",null,{"$f":"IF(ISNA(VLOOKUP(A1385,'(1) Project Reference Item List'!$B$2:$B$499,1,FALSE)),\"\",\"Y\")","v":""}]
["202E30800","TRAFFIC ISLAND REMOVED","SY","PRIMARY","NOMATL","CODE TO ADD TO CONTRACT S & T REQ","EACH","NONE","0.00000",null,{"$f":"IF(ISNA(VLOOKUP(A1386,'(1) Project Reference Item List'!$B$2:$B$499,1,FALSE)),\"\",\"Y\")","v":""}]
["202E32200","CURB REMOVED FOR REUSE","FT","PRIMARY","NOMATL","CODE TO ADD TO CONTRACT S & T REQ","EACH","NONE","0.00000",null,{"$f":"IF(ISNA(VLOOKUP(A1387,'(1) Project Reference Item List'!$B$2:$B$499,1,FALSE)),\"\",\"Y\")","v":""}]
["202E32700","GUTTER REMOVED","SY","PRIMARY","NOMATL","CODE TO ADD TO CONTRACT S & T REQ","EACH","NONE","0.00000",null,{"$f":"IF(ISNA(VLOOKUP(A1388,'(1) Project Reference Item List'!$B$2:$B$499,1,FALSE)),\"\",\"Y\")","v":""}]
["202E35201","PIPE REMOVED, OVER 24\", APP","FT","PRIMARY","NOMATL","CODE TO ADD TO CONTRACT S & T REQ","EACH","NONE","0.00000",null,{"$f":"IF(ISNA(VLOOKUP(A1389,'(1) Project Reference Item List'!$B$2:$B$499,1,FALSE)),\"\",\"Y\")","v":""}]
["202E35500","PIPE REM/REUSE, 24\" & UNDER","FT","PRIMARY","NOMATL","CODE TO ADD TO CONTRACT S & T REQ","EACH","NONE","0.00000",null,{"$f":"IF(ISNA(VLOOKUP(A1390,'(1) Project Reference Item List'!$B$2:$B$499,1,FALSE)),\"\",\"Y\")","v":""}]
["202E35601","PIPE REMOVED FOR REUSE, OVER 24\", APP","FT","PRIMARY","NOMATL","CODE TO ADD TO CONTRACT S & T REQ","EACH","NONE","0.00000",null,{"$f":"IF(ISNA(VLOOKUP(A1391,'(1) Project Reference Item List'!$B$2:$B$499,1,FALSE)),\"\",\"Y\")","v":""}]
["202E35700","ASBESTOS PIPE REMOVED","FT","PRIMARY","NOMATL","CODE TO ADD TO CONTRACT S & T REQ","EACH","NONE","0.00000",null,{"$f":"IF(ISNA(VLOOKUP(A1392,'(1) Project Reference Item List'!$B$2:$B$499,1,FALSE)),\"\",\"Y\")","v":""}]
["202E38400","GR REM/STRG, BARRIER DESIGN","FT","PRIMARY","NOMATL","CODE TO ADD TO CONTRACT S & T REQ","EACH","NONE","0.00000",null,{"$f":"IF(ISNA(VLOOKUP(A1393,'(1) Project Reference Item List'!$B$2:$B$499,1,FALSE)),\"\",\"Y\")","v":""}]
["202E38600","BRIDGE RAILING REM/STRG","FT","PRIMARY","NOMATL","CODE TO ADD TO CONTRACT S & T REQ","EACH","NONE","0.00000",null,{"$f":"IF(ISNA(VLOOKUP(A1394,'(1) Project Reference Item List'!$B$2:$B$499,1,FALSE)),\"\",\"Y\")","v":""}]
["202E38601","BRIDGE RAILING REM/STRG, APP","FT","PRIMARY","NOMATL","CODE TO ADD TO CONTRACT S & T REQ","EACH","NONE","0.00000",null,{"$f":"IF(ISNA(VLOOKUP(A1395,'(1) Project Reference Item List'!$B$2:$B$499,1,FALSE)),\"\",\"Y\")","v":""}]
["202E38800","GUARD POST REMOVED","EACH","PRIMARY","NOMATL","CODE TO ADD TO CONTRACT S & T REQ","EACH","NONE","0.00000",null,{"$f":"IF(ISNA(VLOOKUP(A1396,'(1) Project Reference Item List'!$B$2:$B$499,1,FALSE)),\"\",\"Y\")","v":""}]
["202E42207","ANCHOR ASSEMBLY REMOVED, APP","EACH","PRIMARY","NOMATL","CODE TO ADD TO CONTRACT S & T REQ","EACH","NONE","0.00000",null,{"$f":"IF(ISNA(VLOOKUP(A1397,'(1) Project Reference Item List'!$B$2:$B$499,1,FALSE)),\"\",\"Y\")","v":""}]
["202E38000","GUARDRAIL REMOVED","FT","PRIMARY","NOMATL","CODE TO ADD TO CONTRACT S & T REQ","EACH","NONE","0.00000",null,{"$f":"IF(ISNA(VLOOKUP(A1398,'(1) Project Reference Item List'!$B$2:$B$499,1,FALSE)),\"\",\"Y\")","v":""}]
["202E38101","GUARDRAIL REM FOR STRG, APP","FT","PRIMARY","NOMATL","CODE TO ADD TO CONTRACT S & T REQ","EACH","NONE","0.00000",null,{"$f":"IF(ISNA(VLOOKUP(A1399,'(1) Project Reference Item List'!$B$2:$B$499,1,FALSE)),\"\",\"Y\")","v":""}]
["202E42050","ANCHOR ASSEMBLY REMOVED, TYPE B","EACH","PRIMARY","NOMATL","CODE TO ADD TO CONTRACT S & T REQ","EACH","NONE","0.00000",null,{"$f":"IF(ISNA(VLOOKUP(A1400,'(1) Project Reference Item List'!$B$2:$B$499,1,FALSE)),\"\",\"Y\")","v":""}]
["202E42051","ANCHOR ASSEMBLY REMOVED, TYPE B, APP","EACH","PRIMARY","NOMATL","CODE TO ADD TO CONTRACT S & T REQ","EACH","NONE","0.00000",null,{"$f":"IF(ISNA(VLOOKUP(A1401,'(1) Project Reference Item List'!$B$2:$B$499,1,FALSE)),\"\",\"Y\")","v":""}]
["202E47201","BR TERM ASSY REM FOR REUSE, APP","EACH","PRIMARY","NOMATL","CODE TO ADD TO CONTRACT S & T REQ","EACH","NONE","0.00000",null,{"$f":"IF(ISNA(VLOOKUP(A1402,'(1) Project Reference Item List'!$B$2:$B$499,1,FALSE)),\"\",\"Y\")","v":""}]
["202E42806","ANCHOR ASSY REM/REUSE","EACH","PRIMARY","NOMATL","CODE TO ADD TO CONTRACT S & T REQ","EACH","NONE","0.00000",null,{"$f":"IF(ISNA(VLOOKUP(A1403,'(1) Project Reference Item List'!$B$2:$B$499,1,FALSE)),\"\",\"Y\")","v":""}]
["202E48000","CABLE BARRIER REMOVED","FT","PRIMARY","NOMATL","CODE TO ADD TO CONTRACT S & T REQ","EACH","NONE","0.00000",null,{"$f":"IF(ISNA(VLOOKUP(A1404,'(1) Project Reference Item List'!$B$2:$B$499,1,FALSE)),\"\",\"Y\")","v":""}]
["202E43001","ANCH ASSY POST REMOVED, APP","EACH","PRIMARY","NOMATL","CODE TO ADD TO CONTRACT S & T REQ","EACH","NONE","0.00000",null,{"$f":"IF(ISNA(VLOOKUP(A1405,'(1) Project Reference Item List'!$B$2:$B$499,1,FALSE)),\"\",\"Y\")","v":""}]
["202E52001","PRECAST TRAFFIC DIVIDER REM, APP","EACH","PRIMARY","NOMATL","CODE TO ADD TO CONTRACT S & T REQ","EACH","NONE","0.00000",null,{"$f":"IF(ISNA(VLOOKUP(A1406,'(1) Project Reference Item List'!$B$2:$B$499,1,FALSE)),\"\",\"Y\")","v":""}]
["202E53000","SPEC-PARKING BLOCK REMOVED/REPL","EACH","PRIMARY","NOMATL","CODE TO ADD TO CONTRACT S & T REQ","EACH","NONE","0.00000",null,{"$f":"IF(ISNA(VLOOKUP(A1407,'(1) Project Reference Item List'!$B$2:$B$499,1,FALSE)),\"\",\"Y\")","v":""}]
["202E62700","SEPTIC TANK REMOVED","EACH","PRIMARY","NOMATL","CODE TO ADD TO CONTRACT S & T REQ","EACH","NONE","0.00000",null,{"$f":"IF(ISNA(VLOOKUP(A1408,'(1) Project Reference Item List'!$B$2:$B$499,1,FALSE)),\"\",\"Y\")","v":""}]
["202E56000","BUILDING DEMOLISHED","LS","PRIMARY","NOMATL","CODE TO ADD TO CONTRACT S & T REQ","EACH","NONE","0.00000",null,{"$f":"IF(ISNA(VLOOKUP(A1409,'(1) Project Reference Item List'!$B$2:$B$499,1,FALSE)),\"\",\"Y\")","v":""}]
["202E58700","MANHOLE ABANDONED","EACH","PRIMARY","NOMATL","CODE TO ADD TO CONTRACT S & T REQ","EACH","NONE","0.00000",null,{"$f":"IF(ISNA(VLOOKUP(A1410,'(1) Project Reference Item List'!$B$2:$B$499,1,FALSE)),\"\",\"Y\")","v":""}]
["202E58201","INLET REMOVED, APP","EACH","PRIMARY","NOMATL","CODE TO ADD TO CONTRACT S & T REQ","EACH","NONE","0.00000",null,{"$f":"IF(ISNA(VLOOKUP(A1411,'(1) Project Reference Item List'!$B$2:$B$499,1,FALSE)),\"\",\"Y\")","v":""}]
["202E62000","JUNCTION BOX REMOVED","EACH","PRIMARY","NOMATL","CODE TO ADD TO CONTRACT S & T REQ","EACH","NONE","0.00000",null,{"$f":"IF(ISNA(VLOOKUP(A1412,'(1) Project Reference Item List'!$B$2:$B$499,1,FALSE)),\"\",\"Y\")","v":""}]
["202E62001","JUNCTION BOX REMOVED, APP","EACH","PRIMARY","NOMATL","CODE TO ADD TO CONTRACT S & T REQ","EACH","NONE","0.00000",null,{"$f":"IF(ISNA(VLOOKUP(A1413,'(1) Project Reference Item List'!$B$2:$B$499,1,FALSE)),\"\",\"Y\")","v":""}]
["202E58600","CB OR INLET ABANDONED","EACH","PRIMARY","NOMATL","CODE TO ADD TO CONTRACT S & T REQ","EACH","NONE","0.00000",null,{"$f":"IF(ISNA(VLOOKUP(A1414,'(1) Project Reference Item List'!$B$2:$B$499,1,FALSE)),\"\",\"Y\")","v":""}]
["202E62600","PRIVY VAULT REMOVED","EACH","PRIMARY","NOMATL","CODE TO ADD TO CONTRACT S & T REQ","EACH","NONE","0.00000",null,{"$f":"IF(ISNA(VLOOKUP(A1415,'(1) Project Reference Item List'!$B$2:$B$499,1,FALSE)),\"\",\"Y\")","v":""}]
["632E27108","LOOP DET UNIT, 4 CH,DELAY/EXT","EACH","PRIMARY","NOMATL","CODE TO ADD TO CONTRACT S & T REQ","EACH","NONE","0.00000",null,{"$f":"IF(ISNA(VLOOKUP(A1416,'(1) Project Reference Item List'!$B$2:$B$499,1,FALSE)),\"\",\"Y\")","v":""}]
["632E40300","SGNL CABLE, 3 COND, 14AWG","FT","PRIMARY","307IMSA","SIGNAL CABLE IMSA 19-1/20-1","FT","732.19(1)","1.00000","QPL",{"$f":"IF(ISNA(VLOOKUP(A1417,'(1) Project Reference Item List'!$B$2:$B$499,1,FALSE)),\"\",\"Y\")","v":""}]
["632E76450","COMB SG SPP, 12.30, W/81.21 D13 & D12","EACH","COMPONENT","62660","REINFORCING, UNCOATED GRADE 60","LB","709.01","191.00000","CERT",{"$f":"IF(ISNA(VLOOKUP(A1418,'(1) Project Reference Item List'!$B$2:$B$499,1,FALSE)),\"\",\"Y\")","v":""}]
["632E77043","COMB SIG SUP, 81.21, D4, D3, D2, APP","EACH","COMPONENT","607BNW","SIGN/SIGNAL ANCHOR BOLT, NUT, WASHER","EACH","730.02","0.00000","QPL",{"$f":"IF(ISNA(VLOOKUP(A1419,'(1) Project Reference Item List'!$B$2:$B$499,1,FALSE)),\"\",\"Y\")","v":""}]
["632E76460","COMB SG SPP, 12.30, W/81.21 D14 & D2","EACH","COMPONENT","607BNW","SIGN/SIGNAL ANCHOR BOLT, NUT, WASHER","EACH","730.02","4.00000","QPL",{"$f":"IF(ISNA(VLOOKUP(A1420,'(1) Project Reference Item List'!$B$2:$B$499,1,FALSE)),\"\",\"Y\")","v":""}]
["632E76468","COMB SG SPP, 12.30, W/81.21 D14 & D4","EACH","COMPONENT","607BNW","SIGN/SIGNAL ANCHOR BOLT, NUT, WASHER","EACH","730.02","4.00000","QPL",{"$f":"IF(ISNA(VLOOKUP(A1421,'(1) Project Reference Item List'!$B$2:$B$499,1,FALSE)),\"\",\"Y\")","v":""}]
["632E76469","COMB SG SPP, 12.30, W/81.21 D14 & D4,APP","EACH","COMPONENT","62660","REINFORCING, UNCOATED GRADE 60","LB","709.01","191.00000","CERT",{"$f":"IF(ISNA(VLOOKUP(A1422,'(1) Project Reference Item List'!$B$2:$B$499,1,FALSE)),\"\",\"Y\")","v":""}]
["632E77022","COMB SG SPP, 81.21, W/81.21 D2 & D2","EACH","COMPONENT","607BNW","SIGN/SIGNAL ANCHOR BOLT, NUT, WASHER","EACH","730.02","4.00000","QPL",{"$f":"IF(ISNA(VLOOKUP(A1423,'(1) Project Reference Item List'!$B$2:$B$499,1,FALSE)),\"\",\"Y\")","v":""}]
["632E77032","COMB SG SPP, 81.21, W/81.21 D3 & D1","EACH","PRIMARY","34200SS","SIGNAL SUPPORT","EACH","732.11","1.00000","CERT",{"$f":"IF(ISNA(VLOOKUP(A1424,'(1) Project Reference Item List'!$B$2:$B$499,1,FALSE)),\"\",\"Y\")","v":""}]
["638E03504","20\" DIP CL 53, MECH JTS & FTGS","FT","SUBSTITUTE","074057","57 CRUSHED GRAVEL (703)","TON","703.18","0.00000","CERT",{"$f":"IF(ISNA(VLOOKUP(A1425,'(1) Project Reference Item List'!$B$2:$B$499,1,FALSE)),\"\",\"Y\")","v":""}]
["638E03508","20\" DIP CL 56, MECH JTS & FTGS","FT","SUBSTITUTE","074057","57 CRUSHED GRAVEL (703)","TON","703.18","0.00000","CERT",{"$f":"IF(ISNA(VLOOKUP(A1426,'(1) Project Reference Item List'!$B$2:$B$499,1,FALSE)),\"\",\"Y\")","v":""}]
["638E03509","20\" DIP CL 56, MJ & FTGS, APP","FT","SUBSTITUTE","09AGS8","GRANULATED (BF) SLAG 703.08","TON","703.08","0.00000","CERT",{"$f":"IF(ISNA(VLOOKUP(A1427,'(1) Project Reference Item List'!$B$2:$B$499,1,FALSE)),\"\",\"Y\")","v":""}]
["638E03800","24\" DIP CL 52, PO JTS & FTGS","FT","SUBSTITUTE","074057","57 CRUSHED GRAVEL (703)","TON","703.18","0.00000","CERT",{"$f":"IF(ISNA(VLOOKUP(A1428,'(1) Project Reference Item List'!$B$2:$B$499,1,FALSE)),\"\",\"Y\")","v":""}]
["638E03804","24\" DIP CL 53, PO JTS & FTGS","FT","SUBSTITUTE","07E057","57 RECYCLED CONCRETE (703.11 703.18)","TON","703.18","0.00000","CERT",{"$f":"IF(ISNA(VLOOKUP(A1429,'(1) Project Reference Item List'!$B$2:$B$499,1,FALSE)),\"\",\"Y\")","v":""}]
["638E20392","SPECIAL - 36\" DIP 54 BLTS-REST JTS & FTG","FT","SUBSTITUTE","21504","CONCRETE PORTLAND CEMENT CLASS C OPT 1","CY","499 511","0.00000","JCTL",{"$f":"IF(ISNA(VLOOKUP(A1430,'(1) Project Reference Item List'!$B$2:$B$499,1,FALSE)),\"\",\"Y\")","v":""}]
["638E20406","SPECIAL - 36\" MS 56 MJ & FTGS, MS","FT","SUBSTITUTE","075057","57 CRUSHED STONE (703)","TON","703.18","0.00000","CERT",{"$f":"IF(ISNA(VLOOKUP(A1431,'(1) Project Reference Item List'!$B$2:$B$499,1,FALSE)),\"\",\"Y\")","v":""}]
["638E20410","SPECIAL - 36\" MS 56 BLTS-REST JTS & FTGS","FT","SUBSTITUTE","07E057","57 RECYCLED CONCRETE (703.11 703.18)","TON","703.18","0.00000","CERT",{"$f":"IF(ISNA(VLOOKUP(A1432,'(1) Project Reference Item List'!$B$2:$B$499,1,FALSE)),\"\",\"Y\")","v":""}]
["638E20418","SPECIAL - 6\" PVC PIPE & FTGS, MS","FT","SUBSTITUTE","21504","CONCRETE PORTLAND CEMENT CLASS C OPT 1","CY","499 511","0.00000","JCTL",{"$f":"IF(ISNA(VLOOKUP(A1433,'(1) Project Reference Item List'!$B$2:$B$499,1,FALSE)),\"\",\"Y\")","v":""}]
["638E20844","SPECIAL - INSTALL 1 1/2\" COPPER WATER SE","FT","COMPONENT","7481202","CORPORATION STOP","EACH","748.12","0.00000","QPL",{"$f":"IF(ISNA(VLOOKUP(A1434,'(1) Project Reference Item List'!$B$2:$B$499,1,FALSE)),\"\",\"Y\")","v":""}]
["638E20848","SPECIAL - RAISE & EXTEND 1 1/2\" PE WATER","FT","PRIMARY","NOMATL","CODE TO ADD TO CONTRACT S & T REQ","EACH","NONE","0.00000",null,{"$f":"IF(ISNA(VLOOKUP(A1435,'(1) Project Reference Item List'!$B$2:$B$499,1,FALSE)),\"\",\"Y\")","v":""}]
["638E20852","SPECIAL - EXTEND 1 1/2\" PE WATER SERVICE","FT","PRIMARY","NOMATL","CODE TO ADD TO CONTRACT S & T REQ","EACH","NONE","0.00000",null,{"$f":"IF(ISNA(VLOOKUP(A1436,'(1) Project Reference Item List'!$B$2:$B$499,1,FALSE)),\"\",\"Y\")","v":""}]
["638E20886","SPECIAL - CUT & PLUG EXISTING 16\" WATER","EACH","PRIMARY","NOMATL","CODE TO ADD TO CONTRACT S & T REQ","EACH","NONE","0.00000",null,{"$f":"IF(ISNA(VLOOKUP(A1437,'(1) Project Reference Item List'!$B$2:$B$499,1,FALSE)),\"\",\"Y\")","v":""}]
["632E77122","COMB SG SPP, 12.30, W/81.21 D4 & D4","EACH","COMPONENT","607BNW","SIGN/SIGNAL ANCHOR BOLT, NUT, WASHER","EACH","730.02","4.00000","QPL",{"$f":"IF(ISNA(VLOOKUP(A1438,'(1) Project Reference Item List'!$B$2:$B$499,1,FALSE)),\"\",\"Y\")","v":""}]
["632E77052","COMB SG SPP, 81.21, W/81.21 D3 & D3","EACH","COMPONENT","607BNW","SIGN/SIGNAL ANCHOR BOLT, NUT, WASHER","EACH","730.02","4.00000","QPL",{"$f":"IF(ISNA(VLOOKUP(A1439,'(1) Project Reference Item List'!$B$2:$B$499,1,FALSE)),\"\",\"Y\")","v":""}]
["632E77092","COMB SG SPP, 81.21, W/81.21 D11 & D1","EACH","COMPONENT","607BNW","SIGN/SIGNAL ANCHOR BOLT, NUT, WASHER","EACH","730.02","4.00000","QPL",{"$f":"IF(ISNA(VLOOKUP(A1440,'(1) Project Reference Item List'!$B$2:$B$499,1,FALSE)),\"\",\"Y\")","v":""}]
["632E77102","COMB SG SPP, 81.21, W/81.21 D11 & D2","EACH","COMPONENT","62640","REINFORCING, UNCOATED GRADE 40","LB","709.01","129.00000","CERT",{"$f":"IF(ISNA(VLOOKUP(A1441,'(1) Project Reference Item List'!$B$2:$B$499,1,FALSE)),\"\",\"Y\")","v":""}]
["632E77132","COMB SG SPP, 12.30, W/81.21 D11 & D4","EACH","COMPONENT","607BNW","SIGN/SIGNAL ANCHOR BOLT, NUT, WASHER","EACH","730.02","4.00000","QPL",{"$f":"IF(ISNA(VLOOKUP(A1442,'(1) Project Reference Item List'!$B$2:$B$499,1,FALSE)),\"\",\"Y\")","v":""}]
["632E77133","COMB SG SPP, 12.30, W/81.21 D11 & D4, AP","EACH","PRIMARY","34200SS","SIGNAL SUPPORT","EACH","732.11","1.00000","CERT",{"$f":"IF(ISNA(VLOOKUP(A1443,'(1) Project Reference Item List'!$B$2:$B$499,1,FALSE)),\"\",\"Y\")","v":""}]
["632E77082","COMB SG SPP, 81.21, W/81.21 D4 & D3","EACH","SUBSTITUTE","62640","REINFORCING, UNCOATED GRADE 40","LB","709.01","129.00000","CERT",{"$f":"IF(ISNA(VLOOKUP(A1444,'(1) Project Reference Item List'!$B$2:$B$499,1,FALSE)),\"\",\"Y\")","v":""}]
["638E05000","1-1/2\" COPPER SVC BRANCH","FT","COMPONENT","7481201","TAPPING SADDLE","EACH","748.12","0.00000","QPL",{"$f":"IF(ISNA(VLOOKUP(A1445,'(1) Project Reference Item List'!$B$2:$B$499,1,FALSE)),\"\",\"Y\")","v":""}]
["638E05100","2\" COPPER SERVICE BRANCH","FT","COMPONENT","7481201","TAPPING SADDLE","EACH","748.12","0.00000","QPL",{"$f":"IF(ISNA(VLOOKUP(A1446,'(1) Project Reference Item List'!$B$2:$B$499,1,FALSE)),\"\",\"Y\")","v":""}]
["638E05600","2\" POLYETHYLENE SVC BRANCH","FT","COMPONENT","7481202","CORPORATION STOP","EACH","748.12","0.00000","QPL",{"$f":"IF(ISNA(VLOOKUP(A1447,'(1) Project Reference Item List'!$B$2:$B$499,1,FALSE)),\"\",\"Y\")","v":""}]
["638E20424","SPECIAL - 12\" PVC PIPE & FTGS, MS","FT","SUBSTITUTE","21507","CONCRETE PORTLAND CEMENT CLASS C OPT 2","CY","499 511","0.00000","JCTL",{"$f":"IF(ISNA(VLOOKUP(A1448,'(1) Project Reference Item List'!$B$2:$B$499,1,FALSE)),\"\",\"Y\")","v":""}]
["638E20438","10\" STEEL CASING, JACKED OR BORED, MS","FT","SUBSTITUTE","21504","CONCRETE PORTLAND CEMENT CLASS C OPT 1","CY","499 511","0.00000","JCTL",{"$f":"IF(ISNA(VLOOKUP(A1449,'(1) Project Reference Item List'!$B$2:$B$499,1,FALSE)),\"\",\"Y\")","v":""}]
["638E20442","SPECIAL - 10\" STEEL CASING, OPEN CUT, MS","FT","SUBSTITUTE","073057","57 GRAVEL 703","TON","703.18","0.00000","CERT",{"$f":"IF(ISNA(VLOOKUP(A1450,'(1) Project Reference Item List'!$B$2:$B$499,1,FALSE)),\"\",\"Y\")","v":""}]
["638E20456","18\" STEEL CASING, JACKED OR BORED, MS","FT","SUBSTITUTE","21504","CONCRETE PORTLAND CEMENT CLASS C OPT 1","CY","499 511","0.00000","JCTL",{"$f":"IF(ISNA(VLOOKUP(A1451,'(1) Project Reference Item List'!$B$2:$B$499,1,FALSE)),\"\",\"Y\")","v":""}]
["638E20478","SPECIAL - 42\" STEEL CASING, OPEN CUT, MS","FT","SUBSTITUTE","074057","57 CRUSHED GRAVEL (703)","TON","703.18","0.00000","CERT",{"$f":"IF(ISNA(VLOOKUP(A1452,'(1) Project Reference Item List'!$B$2:$B$499,1,FALSE)),\"\",\"Y\")","v":""}]
["638E20480","48\" STEEL CASING, JACKED OR BORED, MS","FT","SUBSTITUTE","21504","CONCRETE PORTLAND CEMENT CLASS C OPT 1","CY","499 511","0.00000","JCTL",{"$f":"IF(ISNA(VLOOKUP(A1453,'(1) Project Reference Item List'!$B$2:$B$499,1,FALSE)),\"\",\"Y\")","v":""}]
["642E00200","LANE LINE, 4\", TYPE 1","MILE","PRIMARY","40112","TRAFFIC PAINT WHITE FASTDRY ACRYLIC TY-1","GAL","740.02","5.50000","CERT",{"$f":"IF(ISNA(VLOOKUP(A1454,'(1) Project Reference Item List'!$B$2:$B$499,1,FALSE)),\"\",\"Y\")","v":""}]
["642E00090","EDGE LINE, 4\"","MILE","PRIMARY","40113","TRAFFIC PAINT YELLOW FASTDRY ACRYLIC T-1","GAL","740.02","22.00000","CERT",{"$f":"IF(ISNA(VLOOKUP(A1455,'(1) Project Reference Item List'!$B$2:$B$499,1,FALSE)),\"\",\"Y\")","v":""}]
["632E77220","COMB SG SPP, 12.30, W/81.21 D14 & D14","EACH","PRIMARY","607BNW","SIGN/SIGNAL ANCHOR BOLT, NUT, WASHER","EACH","730.02","4.00000","QPL",{"$f":"IF(ISNA(VLOOKUP(A1456,'(1) Project Reference Item List'!$B$2:$B$499,1,FALSE)),\"\",\"Y\")","v":""}]
["632E80603","SGNL SUPP, 81.21, DES 12, APP","EACH","COMPONENT","607BNW","SIGN/SIGNAL ANCHOR BOLT, NUT, WASHER","EACH","730.02","4.00000","QPL",{"$f":"IF(ISNA(VLOOKUP(A1457,'(1) Project Reference Item List'!$B$2:$B$499,1,FALSE)),\"\",\"Y\")","v":""}]
["632E77163","COMB SG SPP, 12.30, W/81.21 D12 & D3, AP","EACH","COMPONENT","62660","REINFORCING, UNCOATED GRADE 60","LB","709.01","0.00000","CERT",{"$f":"IF(ISNA(VLOOKUP(A1458,'(1) Project Reference Item List'!$B$2:$B$499,1,FALSE)),\"\",\"Y\")","v":""}]
["632E80202","SGNL SUPP, 81.21, DES 2","EACH","PRIMARY","34200SS","SIGNAL SUPPORT","EACH","732.11","1.00000","CERT",{"$f":"IF(ISNA(VLOOKUP(A1459,'(1) Project Reference Item List'!$B$2:$B$499,1,FALSE)),\"\",\"Y\")","v":""}]
["632E80203","SGNL SUPP, 81.21, DES 2, APP","EACH","COMPONENT","607BNW","SIGN/SIGNAL ANCHOR BOLT, NUT, WASHER","EACH","730.02","4.00000","QPL",{"$f":"IF(ISNA(VLOOKUP(A1460,'(1) Project Reference Item List'!$B$2:$B$499,1,FALSE)),\"\",\"Y\")","v":""}]
["638E06704","20\" ST PIPE ENCSMT, OPEN CUT","FT","PRIMARY","74806920","STEEL CASING PIPE 20\" A-139","FT","748.06","1.00000","CERT",{"$f":"IF(ISNA(VLOOKUP(A1461,'(1) Project Reference Item List'!$B$2:$B$499,1,FALSE)),\"\",\"Y\")","v":""}]
["638E06705","20\" ST PIPE ENCSMT, OPEN CUT, APP","FT","PRIMARY","74806320","STEEL CASING PIPE 20\" A-53","FT","748.06","0.00000","CTD",{"$f":"IF(ISNA(VLOOKUP(A1462,'(1) Project Reference Item List'!$B$2:$B$499,1,FALSE)),\"\",\"Y\")","v":""}]
["638E06708","24\" ST PIPE ENCSMT, OPEN CUT","FT","COMPONENT","074057","57 CRUSHED GRAVEL (703)","TON","703.18","0.00000","CERT",{"$f":"IF(ISNA(VLOOKUP(A1463,'(1) Project Reference Item List'!$B$2:$B$499,1,FALSE)),\"\",\"Y\")","v":""}]
["638E06714","26\" ST PIPE ENCSMT, OPEN CUT","FT","PRIMARY","74806926","STEEL CASING PIPE 26\" A-139","FT","748.06","0.00000","CTD",{"$f":"IF(ISNA(VLOOKUP(A1464,'(1) Project Reference Item List'!$B$2:$B$499,1,FALSE)),\"\",\"Y\")","v":""}]
["638E06921","60\" ST ENCSMT, OPEN CUT, APP","FT","COMPONENT","074057","57 CRUSHED GRAVEL (703)","TON","703.18","0.00000","CERT",{"$f":"IF(ISNA(VLOOKUP(A1465,'(1) Project Reference Item List'!$B$2:$B$499,1,FALSE)),\"\",\"Y\")","v":""}]
["638E20492","78\" STEEL CASING, JACKED OR BORED, MS","FT","SUBSTITUTE","21504","CONCRETE PORTLAND CEMENT CLASS C OPT 1","CY","499 511","0.00000","JCTL",{"$f":"IF(ISNA(VLOOKUP(A1466,'(1) Project Reference Item List'!$B$2:$B$499,1,FALSE)),\"\",\"Y\")","v":""}]
["638E20494","SPECIAL - 78\" STEEL CASING, OPEN CUT, MS","FT","SUBSTITUTE","074057","57 CRUSHED GRAVEL (703)","TON","703.18","0.00000","CERT",{"$f":"IF(ISNA(VLOOKUP(A1467,'(1) Project Reference Item List'!$B$2:$B$499,1,FALSE)),\"\",\"Y\")","v":""}]
["638E20522","SPECIAL - 4\" GATE VALVE WITH VALVE BOX,","EACH","PRIMARY","74808VB","VALVE BOX","EACH","748.08","1.00000","QPL",{"$f":"IF(ISNA(VLOOKUP(A1468,'(1) Project Reference Item List'!$B$2:$B$499,1,FALSE)),\"\",\"Y\")","v":""}]
["638E20502","SPECIAL - VALVE BOX REBUILT TO GRADE, MS","EACH","PRIMARY","74808VB","VALVE BOX","EACH","748.08","1.00000","QPL",{"$f":"IF(ISNA(VLOOKUP(A1469,'(1) Project Reference Item List'!$B$2:$B$499,1,FALSE)),\"\",\"Y\")","v":""}]
["638E20504","SPECIAL - 2\" GATE VALVE, MS","EACH","PRIMARY","74808VB","VALVE BOX","EACH","748.08","1.00000","QPL",{"$f":"IF(ISNA(VLOOKUP(A1470,'(1) Project Reference Item List'!$B$2:$B$499,1,FALSE)),\"\",\"Y\")","v":""}]
["638E20532","SPECIAL - 4\" CUTTING IN SLEEVE, MS","EACH","PRIMARY","74810CS","CUTTING-IN SLEEVE","EACH","748.10(CS)","1.00000","QPL",{"$f":"IF(ISNA(VLOOKUP(A1471,'(1) Project Reference Item List'!$B$2:$B$499,1,FALSE)),\"\",\"Y\")","v":""}]
["638E20514","SPECIAL - 2\" BUTTERFLY VALVE WITH VALVE","EACH","PRIMARY","74808VB","VALVE BOX","EACH","748.08","1.00000","QPL",{"$f":"IF(ISNA(VLOOKUP(A1472,'(1) Project Reference Item List'!$B$2:$B$499,1,FALSE)),\"\",\"Y\")","v":""}]
["638E20516","SPECIAL - 2\" CUTTING IN SLEEVE, MS","EACH","PRIMARY","74808VB","VALVE BOX","EACH","748.08","1.00000","QPL",{"$f":"IF(ISNA(VLOOKUP(A1473,'(1) Project Reference Item List'!$B$2:$B$499,1,FALSE)),\"\",\"Y\")","v":""}]
["638E20518","SPECIAL - 2\" CUTTING IN SLV VLV W/ VLVBX","EACH","PRIMARY","74808VB","VALVE BOX","EACH","748.08","1.00000","QPL",{"$f":"IF(ISNA(VLOOKUP(A1474,'(1) Project Reference Item List'!$B$2:$B$499,1,FALSE)),\"\",\"Y\")","v":""}]
["642E00204","LANE LINE, 6\", TYPE 1","MILE","PRIMARY","40120","TP WHITE 60 SEC DRY WATER BASED","GAL","NTPEP SPEC","8.25000","CERT",{"$f":"IF(ISNA(VLOOKUP(A1475,'(1) Project Reference Item List'!$B$2:$B$499,1,FALSE)),\"\",\"Y\")","v":""}]
["642E00205","LANE LINE, 6\", TYPE 1, APP","MILE","PRIMARY","40120","TP WHITE 60 SEC DRY WATER BASED","GAL","NTPEP SPEC","8.25000","CERT",{"$f":"IF(ISNA(VLOOKUP(A1476,'(1) Project Reference Item List'!$B$2:$B$499,1,FALSE)),\"\",\"Y\")","v":""}]
["642E00211","LANE LINE, 4\", TYPE 1A, APP","MILE","PRIMARY","40114","TRAFFIC PAINT WHITE COLD WEATHER ACRYLIC","GAL","SPEC PENDI","4.00000","CERT",{"$f":"IF(ISNA(VLOOKUP(A1477,'(1) Project Reference Item List'!$B$2:$B$499,1,FALSE)),\"\",\"Y\")","v":""}]
["642E00301","CENTER LINE, TYPE 1, APP","MILE","PRIMARY","40121","TP YELLOW 60 SEC DRY LEADFREE WATER BASE","GAL","NTPEP SPEC","5.50000","CERT",{"$f":"IF(ISNA(VLOOKUP(A1478,'(1) Project Reference Item List'!$B$2:$B$499,1,FALSE)),\"\",\"Y\")","v":""}]
["642E00311","CENTER LINE, TYPE 1A, APP","MILE","COMPONENT","40705","GLASS BEADS TYPE A, MOIST/RES & ADHESION","LB","740.09TAMP","35.20000","CERT",{"$f":"IF(ISNA(VLOOKUP(A1479,'(1) Project Reference Item List'!$B$2:$B$499,1,FALSE)),\"\",\"Y\")","v":""}]
["642E00404","CHANNELIZING LINE, 12\", TYPE 1","FT","PRIMARY","40112","TRAFFIC PAINT WHITE FASTDRY ACRYLIC TY-1","GAL","740.02","0.01250","CERT",{"$f":"IF(ISNA(VLOOKUP(A1480,'(1) Project Reference Item List'!$B$2:$B$499,1,FALSE)),\"\",\"Y\")","v":""}]
["642E00410","CHANNELIZING LINE, 8\", TYPE 1A","FT","COMPONENT","40705","GLASS BEADS TYPE A, MOIST/RES & ADHESION","LB","740.09TAMP","0.05333","CERT",{"$f":"IF(ISNA(VLOOKUP(A1481,'(1) Project Reference Item List'!$B$2:$B$499,1,FALSE)),\"\",\"Y\")","v":""}]
["642E00500","STOP LINE, TYPE 1","FT","PRIMARY","40120","TP WHITE 60 SEC DRY WATER BASED","GAL","NTPEP SPEC","0.02500","CERT",{"$f":"IF(ISNA(VLOOKUP(A1482,'(1) Project Reference Item List'!$B$2:$B$499,1,FALSE)),\"\",\"Y\")","v":""}]
["642E00591","CROSSWALK LINE, APP","FT","PRIMARY","40120","TP WHITE 60 SEC DRY WATER BASED","GAL","NTPEP SPEC","0.01250","CERT",{"$f":"IF(ISNA(VLOOKUP(A1483,'(1) Project Reference Item List'!$B$2:$B$499,1,FALSE)),\"\",\"Y\")","v":""}]
["642E00601","CROSSWALK LINE, TYPE 1, APP","FT","PRIMARY","40120","TP WHITE 60 SEC DRY WATER BASED","GAL","NTPEP SPEC","0.01250","CERT",{"$f":"IF(ISNA(VLOOKUP(A1484,'(1) Project Reference Item List'!$B$2:$B$499,1,FALSE)),\"\",\"Y\")","v":""}]
["632E81000","COMB SG SUP, 81.21, DES 4","EACH","COMPONENT","607BNW","SIGN/SIGNAL ANCHOR BOLT, NUT, WASHER","EACH","730.02","4.00000","QPL",{"$f":"IF(ISNA(VLOOKUP(A1485,'(1) Project Reference Item List'!$B$2:$B$499,1,FALSE)),\"\",\"Y\")","v":""}]
["632E80620","SGNL SUPP, 81.21, DES 13","EACH","COMPONENT","607BNW","SIGN/SIGNAL ANCHOR BOLT, NUT, WASHER","EACH","730.02","4.00000","QPL",{"$f":"IF(ISNA(VLOOKUP(A1486,'(1) Project Reference Item List'!$B$2:$B$499,1,FALSE)),\"\",\"Y\")","v":""}]
["632E80628","SGNL SUPP, 81.21, DES 14","EACH","COMPONENT","607BNW","SIGN/SIGNAL ANCHOR BOLT, NUT, WASHER","EACH","730.02","4.00000","QPL",{"$f":"IF(ISNA(VLOOKUP(A1487,'(1) Project Reference Item List'!$B$2:$B$499,1,FALSE)),\"\",\"Y\")","v":""}]
["632E80700","SIGNAL SUPPORT, MISC.","EACH","PRIMARY","999999","MATERIALS AS NEEDED","EACH","NONE","0.00000","JCTL",{"$f":"IF(ISNA(VLOOKUP(A1488,'(1) Project Reference Item List'!$B$2:$B$499,1,FALSE)),\"\",\"Y\")","v":""}]
["632E80970","COMB SG SUP, 81.21, DES 1","EACH","COMPONENT","62660","REINFORCING, UNCOATED GRADE 60","LB","709.01","0.00000","CERT",{"$f":"IF(ISNA(VLOOKUP(A1489,'(1) Project Reference Item List'!$B$2:$B$499,1,FALSE)),\"\",\"Y\")","v":""}]
["632E81081","COMB SG SUP, 81.21, DES 12, APP","EACH","COMPONENT","607BNW","SIGN/SIGNAL ANCHOR BOLT, NUT, WASHER","EACH","730.02","4.00000","QPL",{"$f":"IF(ISNA(VLOOKUP(A1490,'(1) Project Reference Item List'!$B$2:$B$499,1,FALSE)),\"\",\"Y\")","v":""}]
["632E81040","COMB SIGNAL SUPPORT, TC12.30, DESIGN 8","EACH","COMPONENT","607BNW","SIGN/SIGNAL ANCHOR BOLT, NUT, WASHER","EACH","730.02","4.00000","QPL",{"$f":"IF(ISNA(VLOOKUP(A1491,'(1) Project Reference Item List'!$B$2:$B$499,1,FALSE)),\"\",\"Y\")","v":""}]
["632E81095","COMB SG SUP, 81.21, DES 14, APP","EACH","COMPONENT","62660","REINFORCING, UNCOATED GRADE 60","LB","709.01","119.00000","CERT",{"$f":"IF(ISNA(VLOOKUP(A1492,'(1) Project Reference Item List'!$B$2:$B$499,1,FALSE)),\"\",\"Y\")","v":""}]
["638E07100","12\" ST PIPE ENCSMT, BORED","FT","PRIMARY","74806312","STEEL CASING PIPE 12\" A-53","FT","748.06","1.00000","JCTL",{"$f":"IF(ISNA(VLOOKUP(A1493,'(1) Project Reference Item List'!$B$2:$B$499,1,FALSE)),\"\",\"Y\")","v":""}]
["638E07307","22\" ST PIPE ENCSMT, BORED OR JACKED, APP","FT","PRIMARY","74806322","STEEL CASING PIPE 22\" A-53","FT","748.06","0.00000","CTD",{"$f":"IF(ISNA(VLOOKUP(A1494,'(1) Project Reference Item List'!$B$2:$B$499,1,FALSE)),\"\",\"Y\")","v":""}]
["638E07311","24\" ST ENCSMT, BORED OR JACKED, APP","FT","PRIMARY","74806324","STEEL CASING PIPE 24\" A-53","FT","748.06","1.00000","CTD",{"$f":"IF(ISNA(VLOOKUP(A1495,'(1) Project Reference Item List'!$B$2:$B$499,1,FALSE)),\"\",\"Y\")","v":""}]
["638E07470","4\" GATE VALVE","EACH","PRIMARY","74808GV","GATE VALVE","EACH","748.08","1.00000","QPL",{"$f":"IF(ISNA(VLOOKUP(A1496,'(1) Project Reference Item List'!$B$2:$B$499,1,FALSE)),\"\",\"Y\")","v":""}]
["638E07608","VALVE BOX","EACH","PRIMARY","74808VB","VALVE BOX","EACH","748.08","1.00000","QPL",{"$f":"IF(ISNA(VLOOKUP(A1497,'(1) Project Reference Item List'!$B$2:$B$499,1,FALSE)),\"\",\"Y\")","v":""}]
["638E20544","SPECIAL - 6\" BUTTERFLY VALVE, MS","EACH","PRIMARY","74808VB","VALVE BOX","EACH","748.08","1.00000","QPL",{"$f":"IF(ISNA(VLOOKUP(A1498,'(1) Project Reference Item List'!$B$2:$B$499,1,FALSE)),\"\",\"Y\")","v":""}]
["638E20546","SPECIAL - 6\" BUTTERFLY VALVE WITH VALVE","EACH","PRIMARY","74808VB","VALVE BOX","EACH","748.08","1.00000","QPL",{"$f":"IF(ISNA(VLOOKUP(A1499,'(1) Project Reference Item List'!$B$2:$B$499,1,FALSE)),\"\",\"Y\")","v":""}]
["638E20552","SPECIAL - 8\" GATE VALVE, MS","EACH","PRIMARY","74808GV","GATE VALVE","EACH","748.08","1.00000","QPL",{"$f":"IF(ISNA(VLOOKUP(A1500,'(1) Project Reference Item List'!$B$2:$B$499,1,FALSE)),\"\",\"Y\")","v":""}]
["638E20556","SPECIAL - 8\" INSERTING VALVE, MS","EACH","COMPONENT","74809IVS","INSERTING VALVE SLEEVE","EACH","748.09","0.00000","QPL",{"$f":"IF(ISNA(VLOOKUP(A1501,'(1) Project Reference Item List'!$B$2:$B$499,1,FALSE)),\"\",\"Y\")","v":""}]
["638E20582","SPECIAL - 10\" CUTTING IN SLV VLV W/ VLBX","EACH","PRIMARY","74808VB","VALVE BOX","EACH","748.08","1.00000","QPL",{"$f":"IF(ISNA(VLOOKUP(A1502,'(1) Project Reference Item List'!$B$2:$B$499,1,FALSE)),\"\",\"Y\")","v":""}]
["638E20584","SPECIAL - 12\" GATE VALVE, MS","EACH","PRIMARY","74808GV","GATE VALVE","EACH","748.08","1.00000","QPL",{"$f":"IF(ISNA(VLOOKUP(A1503,'(1) Project Reference Item List'!$B$2:$B$499,1,FALSE)),\"\",\"Y\")","v":""}]
["638E20588","SPECIAL - 12\" INSERTING VALVE, MS","EACH","COMPONENT","74809IVS","INSERTING VALVE SLEEVE","EACH","748.09","1.00000","QPL",{"$f":"IF(ISNA(VLOOKUP(A1504,'(1) Project Reference Item List'!$B$2:$B$499,1,FALSE)),\"\",\"Y\")","v":""}]
["638E20568","SPECIAL - 10\" GATE VALVE, MS","EACH","PRIMARY","74808GV","GATE VALVE","EACH","748.08","1.00000","QPL",{"$f":"IF(ISNA(VLOOKUP(A1505,'(1) Project Reference Item List'!$B$2:$B$499,1,FALSE)),\"\",\"Y\")","v":""}]
["638E20598","SPECIAL - 12\" CUTTING IN SLV VLVW/ VLVBX","EACH","PRIMARY","74808VB","VALVE BOX","EACH","748.08","1.00000","QPL",{"$f":"IF(ISNA(VLOOKUP(A1506,'(1) Project Reference Item List'!$B$2:$B$499,1,FALSE)),\"\",\"Y\")","v":""}]
["642E00711","TRANSVERSE/DIAGONAL LINE, TYPE 1A, APP","FT","PRIMARY","40115","TRAFF PAINT YELLOW COLD WEATHER ACRYLIC","GAL","SPEC PENDI","0.01818","CERT",{"$f":"IF(ISNA(VLOOKUP(A1507,'(1) Project Reference Item List'!$B$2:$B$499,1,FALSE)),\"\",\"Y\")","v":""}]
["642E00731","CHEVRON MARKING, TYPE 1A, APP","FT","COMPONENT","40705","GLASS BEADS TYPE A, MOIST/RES & ADHESION","LB","740.09TAMP","0.16000","CERT",{"$f":"IF(ISNA(VLOOKUP(A1508,'(1) Project Reference Item List'!$B$2:$B$499,1,FALSE)),\"\",\"Y\")","v":""}]
["642E00810","CURB MARKING, TYPE 1A","FT","PRIMARY","40115","TRAFF PAINT YELLOW COLD WEATHER ACRYLIC","GAL","SPEC PENDI","0.00940","CERT",{"$f":"IF(ISNA(VLOOKUP(A1509,'(1) Project Reference Item List'!$B$2:$B$499,1,FALSE)),\"\",\"Y\")","v":""}]
["642E00900","ISLAND MARKING, TYPE 1","SF","PRIMARY","40113","TRAFFIC PAINT YELLOW FASTDRY ACRYLIC T-1","GAL","740.02","0.01250","CERT",{"$f":"IF(ISNA(VLOOKUP(A1510,'(1) Project Reference Item List'!$B$2:$B$499,1,FALSE)),\"\",\"Y\")","v":""}]
["642E00990","RR SYMBOL MARKING","EACH","PRIMARY","40120","TP WHITE 60 SEC DRY WATER BASED","GAL","NTPEP SPEC","1.43750","CERT",{"$f":"IF(ISNA(VLOOKUP(A1511,'(1) Project Reference Item List'!$B$2:$B$499,1,FALSE)),\"\",\"Y\")","v":""}]
["642E01000","RR SYMBOL MARKING, TYPE 1","EACH","PRIMARY","40120","TP WHITE 60 SEC DRY WATER BASED","GAL","NTPEP SPEC","1.43750","CERT",{"$f":"IF(ISNA(VLOOKUP(A1512,'(1) Project Reference Item List'!$B$2:$B$499,1,FALSE)),\"\",\"Y\")","v":""}]
["642E01116","SCHOOL SYMBOL MKG, 96\",TYPE 1A","EACH","COMPONENT","40705","GLASS BEADS TYPE A, MOIST/RES & ADHESION","LB","740.09TAMP","2.96000","CERT",{"$f":"IF(ISNA(VLOOKUP(A1513,'(1) Project Reference Item List'!$B$2:$B$499,1,FALSE)),\"\",\"Y\")","v":""}]
["632E82100","STR POLE, 81.10, DES 1","EACH","COMPONENT","607BNW","SIGN/SIGNAL ANCHOR BOLT, NUT, WASHER","EACH","730.02","4.00000","QPL",{"$f":"IF(ISNA(VLOOKUP(A1514,'(1) Project Reference Item List'!$B$2:$B$499,1,FALSE)),\"\",\"Y\")","v":""}]
["632E82401","STR POLE, 81.10, DES 4, APP","EACH","COMPONENT","607BNW","SIGN/SIGNAL ANCHOR BOLT, NUT, WASHER","EACH","730.02","4.00000","QPL",{"$f":"IF(ISNA(VLOOKUP(A1515,'(1) Project Reference Item List'!$B$2:$B$499,1,FALSE)),\"\",\"Y\")","v":""}]
["632E83300","STR POLE, 81.10, DES 13","EACH","COMPONENT","607BNW","SIGN/SIGNAL ANCHOR BOLT, NUT, WASHER","EACH","730.02","1.00000","QPL",{"$f":"IF(ISNA(VLOOKUP(A1516,'(1) Project Reference Item List'!$B$2:$B$499,1,FALSE)),\"\",\"Y\")","v":""}]
["632E83502","STR POLE,81.10,6,INSTALL ONLY","EACH","PRIMARY","NOMATL","CODE TO ADD TO CONTRACT S & T REQ","EACH","NONE","0.00000",null,{"$f":"IF(ISNA(VLOOKUP(A1517,'(1) Project Reference Item List'!$B$2:$B$499,1,FALSE)),\"\",\"Y\")","v":""}]
["632E82901","STR POLE, 81.10, DES 9, APP","EACH","COMPONENT","607BNW","SIGN/SIGNAL ANCHOR BOLT, NUT, WASHER","EACH","730.02","4.00000","QPL",{"$f":"IF(ISNA(VLOOKUP(A1518,'(1) Project Reference Item List'!$B$2:$B$499,1,FALSE)),\"\",\"Y\")","v":""}]
["632E82300","STR POLE, 81.10, DES 3","EACH","PRIMARY","34100SP","STRAIN POLE","EACH","732.12","1.00000","CERT",{"$f":"IF(ISNA(VLOOKUP(A1519,'(1) Project Reference Item List'!$B$2:$B$499,1,FALSE)),\"\",\"Y\")","v":""}]
["632E82600","STR POLE, 81.10, DES 6","EACH","COMPONENT","607BNW","SIGN/SIGNAL ANCHOR BOLT, NUT, WASHER","EACH","730.02","4.00000","QPL",{"$f":"IF(ISNA(VLOOKUP(A1520,'(1) Project Reference Item List'!$B$2:$B$499,1,FALSE)),\"\",\"Y\")","v":""}]
["632E82601","STR POLE, 81.10, DES 6, APP","EACH","COMPONENT","607BNW","SIGN/SIGNAL ANCHOR BOLT, NUT, WASHER","EACH","730.02","4.00000","QPL",{"$f":"IF(ISNA(VLOOKUP(A1521,'(1) Project Reference Item List'!$B$2:$B$499,1,FALSE)),\"\",\"Y\")","v":""}]
["632E82800","STR POLE, 81.10, DSG 8","EACH","COMPONENT","607BNW","SIGN/SIGNAL ANCHOR BOLT, NUT, WASHER","EACH","730.02","4.00000","QPL",{"$f":"IF(ISNA(VLOOKUP(A1522,'(1) Project Reference Item List'!$B$2:$B$499,1,FALSE)),\"\",\"Y\")","v":""}]
["638E07690","2\" GATE VALVE AND VALVE BOX","EACH","PRIMARY","74808VB","VALVE BOX","EACH","748.08","0.00000","QPL",{"$f":"IF(ISNA(VLOOKUP(A1523,'(1) Project Reference Item List'!$B$2:$B$499,1,FALSE)),\"\",\"Y\")","v":""}]
["638E07900","8\" GATE VALVE AND VALVE BOX","EACH","PRIMARY","74808VB","VALVE BOX","EACH","748.08","1.00000","QPL",{"$f":"IF(ISNA(VLOOKUP(A1524,'(1) Project Reference Item List'!$B$2:$B$499,1,FALSE)),\"\",\"Y\")","v":""}]
["638E08501","8\" INSERTING VALVE & VALVE BOX, APP","EACH","PRIMARY","74809IV","INSERTING VALVE","EACH","748.09","0.00000","QPL",{"$f":"IF(ISNA(VLOOKUP(A1525,'(1) Project Reference Item List'!$B$2:$B$499,1,FALSE)),\"\",\"Y\")","v":""}]
["638E08104","18\" GATE VALVE & VALVE BOX","EACH","PRIMARY","74808VB","VALVE BOX","EACH","748.08","1.00000","QPL",{"$f":"IF(ISNA(VLOOKUP(A1526,'(1) Project Reference Item List'!$B$2:$B$499,1,FALSE)),\"\",\"Y\")","v":""}]
["638E07901","8\" GATE VALVE & VALVE BOX, APP","EACH","PRIMARY","74808GV","GATE VALVE","EACH","748.08","1.00000","QPL",{"$f":"IF(ISNA(VLOOKUP(A1527,'(1) Project Reference Item List'!$B$2:$B$499,1,FALSE)),\"\",\"Y\")","v":""}]
["638E08195","12\" BUTTERFLY VALVE & VALVE BOX, APP","EACH","PRIMARY","74809BV","BUTTERFLY VALVE","EACH","748.09","0.00000","QPL",{"$f":"IF(ISNA(VLOOKUP(A1528,'(1) Project Reference Item List'!$B$2:$B$499,1,FALSE)),\"\",\"Y\")","v":""}]
["638E08105","18\" GATE VALVE & VALVE BOX, APP","EACH","PRIMARY","74808VB","VALVE BOX","EACH","748.08","0.00000","QPL",{"$f":"IF(ISNA(VLOOKUP(A1529,'(1) Project Reference Item List'!$B$2:$B$499,1,FALSE)),\"\",\"Y\")","v":""}]
["638E08106","20\" GATE VALVE & VALVE BOX","EACH","PRIMARY","74808GV","GATE VALVE","EACH","748.08","1.00000","QPL",{"$f":"IF(ISNA(VLOOKUP(A1530,'(1) Project Reference Item List'!$B$2:$B$499,1,FALSE)),\"\",\"Y\")","v":""}]
["638E08200","16\" BUTTERFLY VALVE & VALVE BOX","EACH","PRIMARY","74808VB","VALVE BOX","EACH","748.08","1.00000","QPL",{"$f":"IF(ISNA(VLOOKUP(A1531,'(1) Project Reference Item List'!$B$2:$B$499,1,FALSE)),\"\",\"Y\")","v":""}]
["638E20622","SPECIAL - 16\" GATE VALVE WITH VALVE BOX,","EACH","PRIMARY","74808VB","VALVE BOX","EACH","748.08","1.00000","QPL",{"$f":"IF(ISNA(VLOOKUP(A1532,'(1) Project Reference Item List'!$B$2:$B$499,1,FALSE)),\"\",\"Y\")","v":""}]
["638E20608","SPECIAL - 14\" INSERTING VALVE, MS","EACH","COMPONENT","74809IVS","INSERTING VALVE SLEEVE","EACH","748.09","1.00000","QPL",{"$f":"IF(ISNA(VLOOKUP(A1533,'(1) Project Reference Item List'!$B$2:$B$499,1,FALSE)),\"\",\"Y\")","v":""}]
["638E20670","SPECIAL - 20\" CUTTING IN SLV VLVW/ VLVBX","EACH","PRIMARY","74808VB","VALVE BOX","EACH","748.08","1.00000","QPL",{"$f":"IF(ISNA(VLOOKUP(A1534,'(1) Project Reference Item List'!$B$2:$B$499,1,FALSE)),\"\",\"Y\")","v":""}]
["638E20620","SPECIAL - 16\" GATE VALVE, MS","EACH","PRIMARY","74808GV","GATE VALVE","EACH","748.08","1.00000","QPL",{"$f":"IF(ISNA(VLOOKUP(A1535,'(1) Project Reference Item List'!$B$2:$B$499,1,FALSE)),\"\",\"Y\")","v":""}]
["638E20632","SPECIAL - 16\" CUTTING IN SLEEVE, MS","EACH","PRIMARY","74810CS","CUTTING-IN SLEEVE","EACH","748.10(CS)","1.00000","QPL",{"$f":"IF(ISNA(VLOOKUP(A1536,'(1) Project Reference Item List'!$B$2:$B$499,1,FALSE)),\"\",\"Y\")","v":""}]
["638E20636","SPECIAL - 18\" GATE VALVE, MS","EACH","PRIMARY","74808VB","VALVE BOX","EACH","748.08","1.00000","QPL",{"$f":"IF(ISNA(VLOOKUP(A1537,'(1) Project Reference Item List'!$B$2:$B$499,1,FALSE)),\"\",\"Y\")","v":""}]
["638E20648","SPECIAL - 18\" BUTTERFLY VALVE WITH VALVE","EACH","PRIMARY","74808VB","VALVE BOX","EACH","748.08","1.00000","QPL",{"$f":"IF(ISNA(VLOOKUP(A1538,'(1) Project Reference Item List'!$B$2:$B$499,1,FALSE)),\"\",\"Y\")","v":""}]
["638E20658","SPECIAL - 20\" GATE VALVE W/ VALVE BOX, M","EACH","PRIMARY","74808VB","VALVE BOX","EACH","748.08","1.00000","QPL",{"$f":"IF(ISNA(VLOOKUP(A1539,'(1) Project Reference Item List'!$B$2:$B$499,1,FALSE)),\"\",\"Y\")","v":""}]
["638E20660","SPECIAL - 20\" INSERTING VALVE, MS","EACH","COMPONENT","74809IVS","INSERTING VALVE SLEEVE","EACH","748.09","1.00000","QPL",{"$f":"IF(ISNA(VLOOKUP(A1540,'(1) Project Reference Item List'!$B$2:$B$499,1,FALSE)),\"\",\"Y\")","v":""}]
["638E20662","SPECIAL - 20\" INSERTING VALVE W/ VALVE B","EACH","PRIMARY","74808VB","VALVE BOX","EACH","748.08","1.00000","QPL",{"$f":"IF(ISNA(VLOOKUP(A1541,'(1) Project Reference Item List'!$B$2:$B$499,1,FALSE)),\"\",\"Y\")","v":""}]
["642E01500","DOTTED LINE, 4\", TYPE 1","FT","PRIMARY","40113","TRAFFIC PAINT YELLOW FASTDRY ACRYLIC T-1","GAL","740.02","0.00104","CERT",{"$f":"IF(ISNA(VLOOKUP(A1542,'(1) Project Reference Item List'!$B$2:$B$499,1,FALSE)),\"\",\"Y\")","v":""}]
["642E01310","LANE ARROW, TYPE 1A","EACH","COMPONENT","40705","GLASS BEADS TYPE A, MOIST/RES & ADHESION","LB","740.09TAMP","1.04000","CERT",{"$f":"IF(ISNA(VLOOKUP(A1543,'(1) Project Reference Item List'!$B$2:$B$499,1,FALSE)),\"\",\"Y\")","v":""}]
["642E01131","SC SYM MKG, 120\", TYPE 1A, APP","EACH","COMPONENT","40705","GLASS BEADS TYPE A, MOIST/RES & ADHESION","LB","740.09TAMP","7.20000","CERT",{"$f":"IF(ISNA(VLOOKUP(A1544,'(1) Project Reference Item List'!$B$2:$B$499,1,FALSE)),\"\",\"Y\")","v":""}]
["642E01190","PARKING LOT STALL MARKING","FT","PRIMARY","40120","TP WHITE 60 SEC DRY WATER BASED","GAL","NTPEP SPEC","0.00417","CERT",{"$f":"IF(ISNA(VLOOKUP(A1545,'(1) Project Reference Item List'!$B$2:$B$499,1,FALSE)),\"\",\"Y\")","v":""}]
["642E01191","PARKING LOT STALL MARKING, APP","FT","PRIMARY","40120","TP WHITE 60 SEC DRY WATER BASED","GAL","NTPEP SPEC","0.00417","CERT",{"$f":"IF(ISNA(VLOOKUP(A1546,'(1) Project Reference Item List'!$B$2:$B$499,1,FALSE)),\"\",\"Y\")","v":""}]
["642E01210","PARKING LOT STALL MKG, TYPE 1A","FT","COMPONENT","40705","GLASS BEADS TYPE A, MOIST/RES & ADHESION","LB","740.09TAMP","0.02667","CERT",{"$f":"IF(ISNA(VLOOKUP(A1547,'(1) Project Reference Item List'!$B$2:$B$499,1,FALSE)),\"\",\"Y\")","v":""}]
["642E01301","LANE ARROW, TYPE 1, APP","EACH","PRIMARY","40120","TP WHITE 60 SEC DRY WATER BASED","GAL","NTPEP SPEC","0.16250","CERT",{"$f":"IF(ISNA(VLOOKUP(A1548,'(1) Project Reference Item List'!$B$2:$B$499,1,FALSE)),\"\",\"Y\")","v":""}]
["642E01380","WORD ON PAVEMENT, 48\"","EACH","COMPONENT","40705","GLASS BEADS TYPE A, MOIST/RES & ADHESION","LB","740.09TAMP","1.08000","CERT",{"$f":"IF(ISNA(VLOOKUP(A1549,'(1) Project Reference Item List'!$B$2:$B$499,1,FALSE)),\"\",\"Y\")","v":""}]
["642E01410","WORD ON PVMT, 96\", TYPE 1","EACH","PRIMARY","40120","TP WHITE 60 SEC DRY WATER BASED","GAL","NTPEP SPEC","0.28750","CERT",{"$f":"IF(ISNA(VLOOKUP(A1550,'(1) Project Reference Item List'!$B$2:$B$499,1,FALSE)),\"\",\"Y\")","v":""}]
["642E01400","WORD ON PVMT, 72\", TYPE 1","EACH","PRIMARY","40120","TP WHITE 60 SEC DRY WATER BASED","GAL","NTPEP SPEC","0.21250","CERT",{"$f":"IF(ISNA(VLOOKUP(A1551,'(1) Project Reference Item List'!$B$2:$B$499,1,FALSE)),\"\",\"Y\")","v":""}]
["642E01421","WORD ON PVMT, 96\", TYPE 1A, APP","EACH","COMPONENT","40705","GLASS BEADS TYPE A, MOIST/RES & ADHESION","LB","740.09TAMP","1.84000","CERT",{"$f":"IF(ISNA(VLOOKUP(A1552,'(1) Project Reference Item List'!$B$2:$B$499,1,FALSE)),\"\",\"Y\")","v":""}]
["642E01490","DOTTED LINE, 4\"","FT","PRIMARY","40113","TRAFFIC PAINT YELLOW FASTDRY ACRYLIC T-1","GAL","740.02","0.00104","CERT",{"$f":"IF(ISNA(VLOOKUP(A1553,'(1) Project Reference Item List'!$B$2:$B$499,1,FALSE)),\"\",\"Y\")","v":""}]
["632E84601","COMB ST POLE,81.10, DES 6, APP","EACH","PRIMARY","34100SP","STRAIN POLE","EACH","732.12","1.00000","CERT",{"$f":"IF(ISNA(VLOOKUP(A1554,'(1) Project Reference Item List'!$B$2:$B$499,1,FALSE)),\"\",\"Y\")","v":""}]
["632E84700","COMB ST POLE,81.10, DES 7","EACH","COMPONENT","607BNW","SIGN/SIGNAL ANCHOR BOLT, NUT, WASHER","EACH","730.02","4.00000","QPL",{"$f":"IF(ISNA(VLOOKUP(A1555,'(1) Project Reference Item List'!$B$2:$B$499,1,FALSE)),\"\",\"Y\")","v":""}]
["632E84100","COMB ST POLE,81.10,DES 1","EACH","COMPONENT","62675","REINFORCING, UNCOATED GRADE 75","LB","709.01","91.00000","CERT",{"$f":"IF(ISNA(VLOOKUP(A1556,'(1) Project Reference Item List'!$B$2:$B$499,1,FALSE)),\"\",\"Y\")","v":""}]
["632E84101","COMB ST POLE,81.10,DES 1, APP","EACH","COMPONENT","62660","REINFORCING, UNCOATED GRADE 60","LB","709.01","91.00000","CERT",{"$f":"IF(ISNA(VLOOKUP(A1557,'(1) Project Reference Item List'!$B$2:$B$499,1,FALSE)),\"\",\"Y\")","v":""}]
["632E84301","COMB ST POLE, 81.10,DES 3, APP","EACH","COMPONENT","607BNW","SIGN/SIGNAL ANCHOR BOLT, NUT, WASHER","EACH","730.02","4.00000","QPL",{"$f":"IF(ISNA(VLOOKUP(A1558,'(1) Project Reference Item List'!$B$2:$B$499,1,FALSE)),\"\",\"Y\")","v":""}]
["632E84200","COMB ST POLE, 81.10,DES 2","EACH","COMPONENT","62640","REINFORCING, UNCOATED GRADE 40","LB","709.01","91.00000","CERT",{"$f":"IF(ISNA(VLOOKUP(A1559,'(1) Project Reference Item List'!$B$2:$B$499,1,FALSE)),\"\",\"Y\")","v":""}]
["632E84600","COMB ST POLE,81.10, DES 6","EACH","COMPONENT","607BNW","SIGN/SIGNAL ANCHOR BOLT, NUT, WASHER","EACH","730.02","4.00000","QPL",{"$f":"IF(ISNA(VLOOKUP(A1560,'(1) Project Reference Item List'!$B$2:$B$499,1,FALSE)),\"\",\"Y\")","v":""}]
["632E85000","COMB ST POLE, 81.10, DES 10","EACH","COMPONENT","607BNW","SIGN/SIGNAL ANCHOR BOLT, NUT, WASHER","EACH","730.02","4.00000","QPL",{"$f":"IF(ISNA(VLOOKUP(A1561,'(1) Project Reference Item List'!$B$2:$B$499,1,FALSE)),\"\",\"Y\")","v":""}]
["638E08790","2\" CUTTING-IN SLEEVE, VLVE & BOX","EACH","PRIMARY","74810CV","CUTTING-IN VALVE","EACH","748.10(CV)","0.00000","QPL",{"$f":"IF(ISNA(VLOOKUP(A1562,'(1) Project Reference Item List'!$B$2:$B$499,1,FALSE)),\"\",\"Y\")","v":""}]
["638E09201","12\" CUTTING-IN SLV, VLV & BOX, APP","EACH","PRIMARY","74811TS","TAPPING SLEEVE","EACH","748.11","0.00000","QPL",{"$f":"IF(ISNA(VLOOKUP(A1563,'(1) Project Reference Item List'!$B$2:$B$499,1,FALSE)),\"\",\"Y\")","v":""}]
["638E08704","6\" CUTTING-IN SLEEVE","EACH","PRIMARY","74810CS","CUTTING-IN SLEEVE","EACH","748.10(CS)","1.00000","QPL",{"$f":"IF(ISNA(VLOOKUP(A1564,'(1) Project Reference Item List'!$B$2:$B$499,1,FALSE)),\"\",\"Y\")","v":""}]
["638E08620","12\" INSERTING VALVE & VALVE BOX","EACH","PRIMARY","74809IV","INSERTING VALVE","EACH","748.09","1.00000","QPL",{"$f":"IF(ISNA(VLOOKUP(A1565,'(1) Project Reference Item List'!$B$2:$B$499,1,FALSE)),\"\",\"Y\")","v":""}]
["638E08621","12\" INSERTING VALVE & VALVE BOX, APP","EACH","PRIMARY","NOMATL","CODE TO ADD TO CONTRACT S & T REQ","EACH","NONE","0.00000",null,{"$f":"IF(ISNA(VLOOKUP(A1566,'(1) Project Reference Item List'!$B$2:$B$499,1,FALSE)),\"\",\"Y\")","v":""}]
["638E09000","8\" CUTTING-IN SLV, VLV & VLV BOX","EACH","PRIMARY","74808VB","VALVE BOX","EACH","748.08","1.00000","QPL",{"$f":"IF(ISNA(VLOOKUP(A1567,'(1) Project Reference Item List'!$B$2:$B$499,1,FALSE)),\"\",\"Y\")","v":""}]
["638E08711","12\" CUTTING-IN SLEEVE, APP","EACH","PRIMARY","74810CS","CUTTING-IN SLEEVE","EACH","748.10(CS)","0.00000","QPL",{"$f":"IF(ISNA(VLOOKUP(A1568,'(1) Project Reference Item List'!$B$2:$B$499,1,FALSE)),\"\",\"Y\")","v":""}]
["638E09001","8\" CUTTING-IN SLV, VLV & VLV BOX, APP","EACH","PRIMARY","74810CV","CUTTING-IN VALVE","EACH","748.10(CV)","1.00000","QPL",{"$f":"IF(ISNA(VLOOKUP(A1569,'(1) Project Reference Item List'!$B$2:$B$499,1,FALSE)),\"\",\"Y\")","v":""}]
["638E20724","SPECIAL - 16\"X12\" TAPPING SLVE, VALVE &","EACH","PRIMARY","NOMATL","CODE TO ADD TO CONTRACT S & T REQ","EACH","NONE","0.00000",null,{"$f":"IF(ISNA(VLOOKUP(A1570,'(1) Project Reference Item List'!$B$2:$B$499,1,FALSE)),\"\",\"Y\")","v":""}]
["638E20704","SPECIAL - 12\"X4\" TAPPING SLVE, VALVE & B","EACH","PRIMARY","NOMATL","CODE TO ADD TO CONTRACT S & T REQ","EACH","NONE","0.00000",null,{"$f":"IF(ISNA(VLOOKUP(A1571,'(1) Project Reference Item List'!$B$2:$B$499,1,FALSE)),\"\",\"Y\")","v":""}]
["638E20680","SPECIAL - 24\" BUTTERFLY VALVE, MS","EACH","PRIMARY","74808VB","VALVE BOX","EACH","748.08","1.00000","QPL",{"$f":"IF(ISNA(VLOOKUP(A1572,'(1) Project Reference Item List'!$B$2:$B$499,1,FALSE)),\"\",\"Y\")","v":""}]
["638E20708","SPECIAL - 12\"X8\" TAPPING SLVE, VALVE & B","EACH","PRIMARY","NOMATL","CODE TO ADD TO CONTRACT S & T REQ","EACH","NONE","0.00000",null,{"$f":"IF(ISNA(VLOOKUP(A1573,'(1) Project Reference Item List'!$B$2:$B$499,1,FALSE)),\"\",\"Y\")","v":""}]
["638E20694","SPECIAL - 8\"X8\" TAPPING SLVE, VALVE & BO","EACH","PRIMARY","NOMATL","CODE TO ADD TO CONTRACT S & T REQ","EACH","NONE","0.00000",null,{"$f":"IF(ISNA(VLOOKUP(A1574,'(1) Project Reference Item List'!$B$2:$B$499,1,FALSE)),\"\",\"Y\")","v":""}]
["638E20716","SPECIAL - 14\"X6\" TAPPING SLVE, VALVE & B","EACH","PRIMARY","NOMATL","CODE TO ADD TO CONTRACT S & T REQ","EACH","NONE","0.00000",null,{"$f":"IF(ISNA(VLOOKUP(A1575,'(1) Project Reference Item List'!$B$2:$B$499,1,FALSE)),\"\",\"Y\")","v":""}]
["638E20718","SPECIAL - 16\"X6\" TAPPING SLVE, VALVE & B","EACH","PRIMARY","NOMATL","CODE TO ADD TO CONTRACT S & T REQ","EACH","NONE","0.00000",null,{"$f":"IF(ISNA(VLOOKUP(A1576,'(1) Project Reference Item List'!$B$2:$B$499,1,FALSE)),\"\",\"Y\")","v":""}]
["642E01508","DOTTED LINE, 6\"","FT","PRIMARY","40113","TRAFFIC PAINT YELLOW FASTDRY ACRYLIC T-1","GAL","740.02","0.00156","CERT",{"$f":"IF(ISNA(VLOOKUP(A1577,'(1) Project Reference Item List'!$B$2:$B$499,1,FALSE)),\"\",\"Y\")","v":""}]
["642E01510","DOTTED LINE, 6\", TYPE 1","FT","PRIMARY","40121","TP YELLOW 60 SEC DRY LEADFREE WATER BASE","GAL","NTPEP SPEC","0.00156","CERT",{"$f":"IF(ISNA(VLOOKUP(A1578,'(1) Project Reference Item List'!$B$2:$B$499,1,FALSE)),\"\",\"Y\")","v":""}]
["642E01516","DOTTED LINE, 6\", TYPE 1A","FT","COMPONENT","40705","GLASS BEADS TYPE A, MOIST/RES & ADHESION","LB","740.09TAMP","0.01000","CERT",{"$f":"IF(ISNA(VLOOKUP(A1579,'(1) Project Reference Item List'!$B$2:$B$499,1,FALSE)),\"\",\"Y\")","v":""}]
["642E01517","DOTTED LINE, 6\", TYPE 1A, APP","FT","PRIMARY","40115","TRAFF PAINT YELLOW COLD WEATHER ACRYLIC","GAL","SPEC PENDI","0.00114","CERT",{"$f":"IF(ISNA(VLOOKUP(A1580,'(1) Project Reference Item List'!$B$2:$B$499,1,FALSE)),\"\",\"Y\")","v":""}]
["642E01520","DOTTED LINE, 8\"","FT","COMPONENT","40705","GLASS BEADS TYPE A, MOIST/RES & ADHESION","LB","740.09TAMP","0.02500","CERT",{"$f":"IF(ISNA(VLOOKUP(A1581,'(1) Project Reference Item List'!$B$2:$B$499,1,FALSE)),\"\",\"Y\")","v":""}]
["642E01522","DOTTED LINE, 8\", TYPE 1","FT","PRIMARY","40113","TRAFFIC PAINT YELLOW FASTDRY ACRYLIC T-1","GAL","740.02","0.00208","CERT",{"$f":"IF(ISNA(VLOOKUP(A1582,'(1) Project Reference Item List'!$B$2:$B$499,1,FALSE)),\"\",\"Y\")","v":""}]
["642E01551","DOTTED LINE, 12\", APP","FT","PRIMARY","40113","TRAFFIC PAINT YELLOW FASTDRY ACRYLIC T-1","GAL","740.02","0.00313","CERT",{"$f":"IF(ISNA(VLOOKUP(A1583,'(1) Project Reference Item List'!$B$2:$B$499,1,FALSE)),\"\",\"Y\")","v":""}]
["642E01570","DOTTED LINE, 12\", TYPE 1A","FT","PRIMARY","40115","TRAFF PAINT YELLOW COLD WEATHER ACRYLIC","GAL","SPEC PENDI","0.00227","CERT",{"$f":"IF(ISNA(VLOOKUP(A1584,'(1) Project Reference Item List'!$B$2:$B$499,1,FALSE)),\"\",\"Y\")","v":""}]
["642E19010","SHARED LANE MARKING, TYPE 1A","EACH","COMPONENT","40705","GLASS BEADS TYPE A, MOIST/RES & ADHESION","LB","740.09TAMP","1.54400","CERT",{"$f":"IF(ISNA(VLOOKUP(A1585,'(1) Project Reference Item List'!$B$2:$B$499,1,FALSE)),\"\",\"Y\")","v":""}]
["642E01600","BIKE LANE SYMBOL MARKING","EACH","PRIMARY","40120","TP WHITE 60 SEC DRY WATER BASED","GAL","NTPEP SPEC","0.24125","CERT",{"$f":"IF(ISNA(VLOOKUP(A1586,'(1) Project Reference Item List'!$B$2:$B$499,1,FALSE)),\"\",\"Y\")","v":""}]
["642E01610","BIKE LANE SYMBOL MKG, TYPE 1A","EACH","COMPONENT","40705","GLASS BEADS TYPE A, MOIST/RES & ADHESION","LB","740.09TAMP","1.54400","CERT",{"$f":"IF(ISNA(VLOOKUP(A1587,'(1) Project Reference Item List'!$B$2:$B$499,1,FALSE)),\"\",\"Y\")","v":""}]
["642E01702","HANDICAP SYMBOL MARKING, TYPE 1","EACH","PRIMARY","40112","TRAFFIC PAINT WHITE FASTDRY ACRYLIC TY-1","GAL","740.02","0.03375","CERT",{"$f":"IF(ISNA(VLOOKUP(A1588,'(1) Project Reference Item List'!$B$2:$B$499,1,FALSE)),\"\",\"Y\")","v":""}]
["632E85400","COMB ST POLE, 81.10, DES 14","EACH","COMPONENT","62640","REINFORCING, UNCOATED GRADE 40","LB","709.01","53.00000","CERT",{"$f":"IF(ISNA(VLOOKUP(A1589,'(1) Project Reference Item List'!$B$2:$B$499,1,FALSE)),\"\",\"Y\")","v":""}]
["632E89520","PEDESTAL, 6'","EACH","COMPONENT","343AB","ANCHOR BOLT, PEDESTAL A307","EACH","732.15","4.00000","CTD",{"$f":"IF(ISNA(VLOOKUP(A1590,'(1) Project Reference Item List'!$B$2:$B$499,1,FALSE)),\"\",\"Y\")","v":""}]
["632E89801","PEDESTAL, 3', TRANSF BASE, APP","EACH","COMPONENT","343AB","ANCHOR BOLT, PEDESTAL A307","EACH","732.15","0.00000","CTD",{"$f":"IF(ISNA(VLOOKUP(A1591,'(1) Project Reference Item List'!$B$2:$B$499,1,FALSE)),\"\",\"Y\")","v":""}]
["632E85200","COMB ST POLE, 81.10, DES 12","EACH","COMPONENT","607BNW","SIGN/SIGNAL ANCHOR BOLT, NUT, WASHER","EACH","730.02","4.00000","QPL",{"$f":"IF(ISNA(VLOOKUP(A1592,'(1) Project Reference Item List'!$B$2:$B$499,1,FALSE)),\"\",\"Y\")","v":""}]
["632E89301","WOOD POLE, APP","EACH","PRIMARY","34113","WOOD POLE 732.13","EACH","732.13","1.00000","CERT",{"$f":"IF(ISNA(VLOOKUP(A1593,'(1) Project Reference Item List'!$B$2:$B$499,1,FALSE)),\"\",\"Y\")","v":""}]
["632E85303","COMB SIGNAL, 81.10 & SIGN,12.30, APP","EACH","COMPONENT","607BNW","SIGN/SIGNAL ANCHOR BOLT, NUT, WASHER","EACH","730.02","4.00000","QPL",{"$f":"IF(ISNA(VLOOKUP(A1594,'(1) Project Reference Item List'!$B$2:$B$499,1,FALSE)),\"\",\"Y\")","v":""}]
["632E89601","PEDESTAL, 8', APP","EACH","COMPONENT","343AB","ANCHOR BOLT, PEDESTAL A307","EACH","732.15","4.00000","CTD",{"$f":"IF(ISNA(VLOOKUP(A1595,'(1) Project Reference Item List'!$B$2:$B$499,1,FALSE)),\"\",\"Y\")","v":""}]
["632E85304","COMB ST POLE,TC-81.10/SGN SUPP,TC-9.10","EACH","COMPONENT","607BNW","SIGN/SIGNAL ANCHOR BOLT, NUT, WASHER","EACH","730.02","4.00000","QPL",{"$f":"IF(ISNA(VLOOKUP(A1596,'(1) Project Reference Item List'!$B$2:$B$499,1,FALSE)),\"\",\"Y\")","v":""}]
["632E89610","PEDESTAL, 9'","EACH","COMPONENT","343AB","ANCHOR BOLT, PEDESTAL A307","EACH","732.15","4.00000","CTD",{"$f":"IF(ISNA(VLOOKUP(A1597,'(1) Project Reference Item List'!$B$2:$B$499,1,FALSE)),\"\",\"Y\")","v":""}]
["632E89501","PEDESTAL, 3', APP","EACH","COMPONENT","343AB","ANCHOR BOLT, PEDESTAL A307","EACH","732.15","4.00000","CTD",{"$f":"IF(ISNA(VLOOKUP(A1598,'(1) Project Reference Item List'!$B$2:$B$499,1,FALSE)),\"\",\"Y\")","v":""}]
["632E89700","PEDESTAL, 11'","EACH","COMPONENT","343AB","ANCHOR BOLT, PEDESTAL A307","EACH","732.15","4.00000","CTD",{"$f":"IF(ISNA(VLOOKUP(A1599,'(1) Project Reference Item List'!$B$2:$B$499,1,FALSE)),\"\",\"Y\")","v":""}]
["632E89511","PEDESTAL, 5', APP","EACH","COMPONENT","343AB","ANCHOR BOLT, PEDESTAL A307","EACH","732.15","4.00000","CTD",{"$f":"IF(ISNA(VLOOKUP(A1600,'(1) Project Reference Item List'!$B$2:$B$499,1,FALSE)),\"\",\"Y\")","v":""}]
["632E89701","PEDESTAL, 11', APP","EACH","COMPONENT","343AB","ANCHOR BOLT, PEDESTAL A307","EACH","732.15","4.00000","CTD",{"$f":"IF(ISNA(VLOOKUP(A1601,'(1) Project Reference Item List'!$B$2:$B$499,1,FALSE)),\"\",\"Y\")","v":""}]
["638E09390","8\"X6\" TAPPING SLV, VALVE & BOX","EACH","COMPONENT","74811TS","TAPPING SLEEVE","EACH","748.11","0.00000","QPL",{"$f":"IF(ISNA(VLOOKUP(A1602,'(1) Project Reference Item List'!$B$2:$B$499,1,FALSE)),\"\",\"Y\")","v":""}]
["638E09510","10\"X8\" TAPPING SLV, VLV & BOX","EACH","PRIMARY","74811TV","TAPPING VALVE","EACH","748.11","1.00000","QPL",{"$f":"IF(ISNA(VLOOKUP(A1603,'(1) Project Reference Item List'!$B$2:$B$499,1,FALSE)),\"\",\"Y\")","v":""}]
["638E09710","12\"X8\" TAPPING SLV, VALVE & BOX","EACH","PRIMARY","74811TV","TAPPING VALVE","EACH","748.11","1.00000","QPL",{"$f":"IF(ISNA(VLOOKUP(A1604,'(1) Project Reference Item List'!$B$2:$B$499,1,FALSE)),\"\",\"Y\")","v":""}]
["638E09895","16\" X 8\" TAPPING SLV, VLV & VLV BOX, APP","EACH","PRIMARY","74811TS","TAPPING SLEEVE","EACH","748.11","0.00000","QPL",{"$f":"IF(ISNA(VLOOKUP(A1605,'(1) Project Reference Item List'!$B$2:$B$499,1,FALSE)),\"\",\"Y\")","v":""}]
["638E09900","16\"X10\" TAPPING SLV, VALVE & BOX","EACH","PRIMARY","74811TV","TAPPING VALVE","EACH","748.11","1.00000","QPL",{"$f":"IF(ISNA(VLOOKUP(A1606,'(1) Project Reference Item List'!$B$2:$B$499,1,FALSE)),\"\",\"Y\")","v":""}]
["638E09908","16\"X12\" TAPPING SLV, VALVE & BOX","EACH","COMPONENT","74811TS","TAPPING SLEEVE","EACH","748.11","1.00000","QPL",{"$f":"IF(ISNA(VLOOKUP(A1607,'(1) Project Reference Item List'!$B$2:$B$499,1,FALSE)),\"\",\"Y\")","v":""}]
["638E20782","SPECIAL - 2 1/2\" COPPER WATER SERV LINE","FT","COMPONENT","7481202","CORPORATION STOP","EACH","748.12","0.00000","QPL",{"$f":"IF(ISNA(VLOOKUP(A1608,'(1) Project Reference Item List'!$B$2:$B$499,1,FALSE)),\"\",\"Y\")","v":""}]
["638E20732","SPECIAL - 3/4\" AIR RELEASE VALVE, MS","EACH","PRIMARY","7482001","PRESSURE AIR RELEASE VALVE","EACH","748","1.00000","CTD",{"$f":"IF(ISNA(VLOOKUP(A1609,'(1) Project Reference Item List'!$B$2:$B$499,1,FALSE)),\"\",\"Y\")","v":""}]
["638E20734","SPECIAL - 1\" AIR RELEASE VALVE, MS","EACH","PRIMARY","7482001","PRESSURE AIR RELEASE VALVE","EACH","748","1.00000","CTD",{"$f":"IF(ISNA(VLOOKUP(A1610,'(1) Project Reference Item List'!$B$2:$B$499,1,FALSE)),\"\",\"Y\")","v":""}]
["638E20760","SPECIAL - FIRE HYDRANT REMOVED & DISPOSE","EACH","PRIMARY","NOMATL","CODE TO ADD TO CONTRACT S & T REQ","EACH","NONE","0.00000",null,{"$f":"IF(ISNA(VLOOKUP(A1611,'(1) Project Reference Item List'!$B$2:$B$499,1,FALSE)),\"\",\"Y\")","v":""}]
["642E30010","REMOVAL OF PAVEMENT MARKING","SF","PRIMARY","NOMATL","CODE TO ADD TO CONTRACT S & T REQ","EACH","NONE","0.00000",null,{"$f":"IF(ISNA(VLOOKUP(A1612,'(1) Project Reference Item List'!$B$2:$B$499,1,FALSE)),\"\",\"Y\")","v":""}]
["642E60010","GREEN COLORED PVMNT FOR BIKE LNS,TYPE 1A","SF","PRIMARY","999999","MATERIALS AS NEEDED","EACH","NONE","0.00000","JCTL",{"$f":"IF(ISNA(VLOOKUP(A1613,'(1) Project Reference Item List'!$B$2:$B$499,1,FALSE)),\"\",\"Y\")","v":""}]
["643E00501","STOP LINE, APP","FT","COMPONENT","40702","GLASS BEADS FOR POLYESTER","LB","740.09TYPE","0.33000","CERT",{"$f":"IF(ISNA(VLOOKUP(A1614,'(1) Project Reference Item List'!$B$2:$B$499,1,FALSE)),\"\",\"Y\")","v":""}]
["643E00600","CROSSWALK LINE","FT","COMPONENT","40702","GLASS BEADS FOR POLYESTER","LB","740.09TYPE","0.16500","CERT",{"$f":"IF(ISNA(VLOOKUP(A1615,'(1) Project Reference Item List'!$B$2:$B$499,1,FALSE)),\"\",\"Y\")","v":""}]
["643E00601","CROSSWALK LINE, APP","FT","COMPONENT","40702","GLASS BEADS FOR POLYESTER","LB","740.09TYPE","0.16500","CERT",{"$f":"IF(ISNA(VLOOKUP(A1616,'(1) Project Reference Item List'!$B$2:$B$499,1,FALSE)),\"\",\"Y\")","v":""}]
["643E00700","TRANSVERSE/DIAGONAL LINE","FT","PRIMARY","40104","TRAFFIC PAINT WHITE POLYESTER","GAL","740.03","0.01818","CERT",{"$f":"IF(ISNA(VLOOKUP(A1617,'(1) Project Reference Item List'!$B$2:$B$499,1,FALSE)),\"\",\"Y\")","v":""}]
["643E00720","CHEVRON MARKING","FT","COMPONENT","40702","GLASS BEADS FOR POLYESTER","LB","740.09TYPE","0.33000","CERT",{"$f":"IF(ISNA(VLOOKUP(A1618,'(1) Project Reference Item List'!$B$2:$B$499,1,FALSE)),\"\",\"Y\")","v":""}]
["643E00101","EDGE LINE, 4\", APP","MILE","PRIMARY","40105","TRAFFIC PAINT YELLOW POLYESTER","GAL","740.03","16.00000","CERT",{"$f":"IF(ISNA(VLOOKUP(A1619,'(1) Project Reference Item List'!$B$2:$B$499,1,FALSE)),\"\",\"Y\")","v":""}]
["643E00200","LANE LINE, 4\"","MILE","COMPONENT","40702","GLASS BEADS FOR POLYESTER","LB","740.09TYPE","72.60000","CERT",{"$f":"IF(ISNA(VLOOKUP(A1620,'(1) Project Reference Item List'!$B$2:$B$499,1,FALSE)),\"\",\"Y\")","v":""}]
["643E00204","LANE LINE, 6\"","MILE","PRIMARY","40105","TRAFFIC PAINT YELLOW POLYESTER","GAL","740.03","6.00000","CERT",{"$f":"IF(ISNA(VLOOKUP(A1621,'(1) Project Reference Item List'!$B$2:$B$499,1,FALSE)),\"\",\"Y\")","v":""}]
["451E17010","15\" REINF CONC PVMT, CLS QC 1P","SY","COMPONENT","62560","REINFORCING, EPOXY COATED GRADE 60","LB","709.00","0.00000","CERT",{"$f":"IF(ISNA(VLOOKUP(A1622,'(1) Project Reference Item List'!$B$2:$B$499,1,FALSE)),\"\",\"Y\")","v":""}]
["451E17010","15\" REINF CONC PVMT, CLS QC 1P","SY","COMPONENT","619100","PREFORMED EXPANSION JOINT FILLER 1\"","SF","705.03-711","0.00000","QPL",{"$f":"IF(ISNA(VLOOKUP(A1623,'(1) Project Reference Item List'!$B$2:$B$499,1,FALSE)),\"\",\"Y\")","v":""}]
["451E17010","15\" REINF CONC PVMT, CLS QC 1P","SY","COMPONENT","61607","JOINT & CRACK SEALER, HOT APPLIED 705.04","LB","705.04","0.00000","CERT",{"$f":"IF(ISNA(VLOOKUP(A1624,'(1) Project Reference Item List'!$B$2:$B$499,1,FALSE)),\"\",\"Y\")","v":""}]
["451E17010","15\" REINF CONC PVMT, CLS QC 1P","SY","COMPONENT","61606","PREFORMED ELASTOMERIC COMPRESSION SEAL","FT","705.11","0.00000","QPL",{"$f":"IF(ISNA(VLOOKUP(A1625,'(1) Project Reference Item List'!$B$2:$B$499,1,FALSE)),\"\",\"Y\")","v":""}]
["451E17010","15\" REINF CONC PVMT, CLS QC 1P","SY","COMPONENT","42406OH","WHITE CURE TYPE 2 CLASS A OR B","GAL","705.07OH","0.00000","QPL",{"$f":"IF(ISNA(VLOOKUP(A1626,'(1) Project Reference Item List'!$B$2:$B$499,1,FALSE)),\"\",\"Y\")","v":""}]
["451E17010","15\" REINF CONC PVMT, CLS QC 1P","SY","SUBSTITUTE","215QCMS","QC MODERATE SET CONCRETE 400 PSI_24 HRS","CY","499","0.00000","JCTL",{"$f":"IF(ISNA(VLOOKUP(A1627,'(1) Project Reference Item List'!$B$2:$B$499,1,FALSE)),\"\",\"Y\")","v":""}]
["451E17010","15\" REINF CONC PVMT, CLS QC 1P","SY","SUBSTITUTE","215QCFS","QC FAST SET CONCRETE 400 PSI_4 HRS","CY","499","0.00000","JCTL",{"$f":"IF(ISNA(VLOOKUP(A1628,'(1) Project Reference Item List'!$B$2:$B$499,1,FALSE)),\"\",\"Y\")","v":""}]
["451E17010","15\" REINF CONC PVMT, CLS QC 1P","SY","PRIMARY","215QC1","QC 1 CONCRETE - 4000 PSI - WELL GRADED","CY","499","0.00000","JCTL",{"$f":"IF(ISNA(VLOOKUP(A1629,'(1) Project Reference Item List'!$B$2:$B$499,1,FALSE)),\"\",\"Y\")","v":""}]
["451E17010","15\" REINF CONC PVMT, CLS QC 1P","SY","COMPONENT","67502","5/8\"X8\" HOOK BOLT","EACH","BP2.1","0.00000","QPL",{"$f":"IF(ISNA(VLOOKUP(A1630,'(1) Project Reference Item List'!$B$2:$B$499,1,FALSE)),\"\",\"Y\")","v":""}]
["451E17010","15\" REINF CONC PVMT, CLS QC 1P","SY","COMPONENT","63013","STEEL ROD, COATED DOWEL, JOINT ASSY","LB","709.13","0.00000","CERT",{"$f":"IF(ISNA(VLOOKUP(A1631,'(1) Project Reference Item List'!$B$2:$B$499,1,FALSE)),\"\",\"Y\")","v":""}]
["451E17010","15\" REINF CONC PVMT, CLS QC 1P","SY","COMPONENT","62710","REINFORCING, WELDED WIRE FABRIC","SF","709.10","0.00000","CERT",{"$f":"IF(ISNA(VLOOKUP(A1632,'(1) Project Reference Item List'!$B$2:$B$499,1,FALSE)),\"\",\"Y\")","v":""}]
["451E17521","24\" REINF CONC PVMT,CLS QC 1P QC/QA, APP","SY","COMPONENT","62710","REINFORCING, WELDED WIRE FABRIC","SF","709.10","9.00000","CERT",{"$f":"IF(ISNA(VLOOKUP(A1633,'(1) Project Reference Item List'!$B$2:$B$499,1,FALSE)),\"\",\"Y\")","v":""}]
["451E17521","24\" REINF CONC PVMT,CLS QC 1P QC/QA, APP","SY","COMPONENT","62560","REINFORCING, EPOXY COATED GRADE 60","LB","709.00","0.00000","CERT",{"$f":"IF(ISNA(VLOOKUP(A1634,'(1) Project Reference Item List'!$B$2:$B$499,1,FALSE)),\"\",\"Y\")","v":""}]
["451E17521","24\" REINF CONC PVMT,CLS QC 1P QC/QA, APP","SY","COMPONENT","61607","JOINT & CRACK SEALER, HOT APPLIED 705.04","LB","705.04","0.00000","CERT",{"$f":"IF(ISNA(VLOOKUP(A1635,'(1) Project Reference Item List'!$B$2:$B$499,1,FALSE)),\"\",\"Y\")","v":""}]
["451E17521","24\" REINF CONC PVMT,CLS QC 1P QC/QA, APP","SY","COMPONENT","61606","PREFORMED ELASTOMERIC COMPRESSION SEAL","FT","705.11","0.00000","QPL",{"$f":"IF(ISNA(VLOOKUP(A1636,'(1) Project Reference Item List'!$B$2:$B$499,1,FALSE)),\"\",\"Y\")","v":""}]
["451E17521","24\" REINF CONC PVMT,CLS QC 1P QC/QA, APP","SY","COMPONENT","42406OH","WHITE CURE TYPE 2 CLASS A OR B","GAL","705.07OH","0.06000","QPL",{"$f":"IF(ISNA(VLOOKUP(A1637,'(1) Project Reference Item List'!$B$2:$B$499,1,FALSE)),\"\",\"Y\")","v":""}]
["451E17521","24\" REINF CONC PVMT,CLS QC 1P QC/QA, APP","SY","SUBSTITUTE","215QCMS","QC MODERATE SET CONCRETE 400 PSI_24 HRS","CY","499","0.66667","JCTL",{"$f":"IF(ISNA(VLOOKUP(A1638,'(1) Project Reference Item List'!$B$2:$B$499,1,FALSE)),\"\",\"Y\")","v":""}]
["451E17521","24\" REINF CONC PVMT,CLS QC 1P QC/QA, APP","SY","SUBSTITUTE","215QCFS","QC FAST SET CONCRETE 400 PSI_4 HRS","CY","499","0.66667","JCTL",{"$f":"IF(ISNA(VLOOKUP(A1639,'(1) Project Reference Item List'!$B$2:$B$499,1,FALSE)),\"\",\"Y\")","v":""}]
["451E17521","24\" REINF CONC PVMT,CLS QC 1P QC/QA, APP","SY","PRIMARY","215QC1","QC 1 CONCRETE - 4000 PSI - WELL GRADED","CY","499","0.66667","JCTL",{"$f":"IF(ISNA(VLOOKUP(A1640,'(1) Project Reference Item List'!$B$2:$B$499,1,FALSE)),\"\",\"Y\")","v":""}]
["451E17521","24\" REINF CONC PVMT,CLS QC 1P QC/QA, APP","SY","COMPONENT","67502","5/8\"X8\" HOOK BOLT","EACH","BP2.1","0.00000","QPL",{"$f":"IF(ISNA(VLOOKUP(A1641,'(1) Project Reference Item List'!$B$2:$B$499,1,FALSE)),\"\",\"Y\")","v":""}]
["451E31000","PRESSURE RELIEF JT, TYPE B","FT","PRIMARY","215QCMISC","QC MISCELLANEOUS 4000 PSI","CY","499","0.83333","JCTL",{"$f":"IF(ISNA(VLOOKUP(A1642,'(1) Project Reference Item List'!$B$2:$B$499,1,FALSE)),\"\",\"Y\")","v":""}]
["451E31000","PRESSURE RELIEF JT, TYPE B","FT","PRIMARY","215QCFS","QC FAST SET CONCRETE 400 PSI_4 HRS","CY","499","0.83333","JCTL",{"$f":"IF(ISNA(VLOOKUP(A1643,'(1) Project Reference Item List'!$B$2:$B$499,1,FALSE)),\"\",\"Y\")","v":""}]
["451E31000","PRESSURE RELIEF JT, TYPE B","FT","PRIMARY","215QC1","QC 1 CONCRETE - 4000 PSI - WELL GRADED","CY","499","0.83333","JCTL",{"$f":"IF(ISNA(VLOOKUP(A1644,'(1) Project Reference Item List'!$B$2:$B$499,1,FALSE)),\"\",\"Y\")","v":""}]
["451E31000","PRESSURE RELIEF JT, TYPE B","FT","COMPONENT","177I4411","BIT CONC 441 TYPE 1 INTERMEDIATE","TON","441","0.11110","JCTL",{"$f":"IF(ISNA(VLOOKUP(A1645,'(1) Project Reference Item List'!$B$2:$B$499,1,FALSE)),\"\",\"Y\")","v":""}]
["451E31000","PRESSURE RELIEF JT, TYPE B","FT","COMPONENT","1774411","BIT CONC 441 TYPE 1 SURFACE","TON","441","0.11110","JCTL",{"$f":"IF(ISNA(VLOOKUP(A1646,'(1) Project Reference Item List'!$B$2:$B$499,1,FALSE)),\"\",\"Y\")","v":""}]
["513E10261","STRUCTURAL STEEL MEMBERS, L-3, APP","LB","COMPONENT","6585631","HVY HEX NUT,A563(GR C,C3,D,DH,DH3)","EACH","711.09","0.00000","CERT",{"$f":"IF(ISNA(VLOOKUP(A1647,'(1) Project Reference Item List'!$B$2:$B$499,1,FALSE)),\"\",\"Y\")","v":""}]
["513E10261","STRUCTURAL STEEL MEMBERS, L-3, APP","LB","COMPONENT","6584361","WASHER, F 436, PLAIN (UNCOATED)","EACH","711.09","0.00000","CERT",{"$f":"IF(ISNA(VLOOKUP(A1648,'(1) Project Reference Item List'!$B$2:$B$499,1,FALSE)),\"\",\"Y\")","v":""}]
["513E10261","STRUCTURAL STEEL MEMBERS, L-3, APP","LB","COMPONENT","6583251","HS HVY HEX HD BLT,A325,TY 1","EACH","711.09","0.00000","CERT",{"$f":"IF(ISNA(VLOOKUP(A1649,'(1) Project Reference Item List'!$B$2:$B$499,1,FALSE)),\"\",\"Y\")","v":""}]
["513E10281","STRC STEEL MEM, L-4, APP","LB","PRIMARY","65100L4","LEVEL 4 FABRICATED STEEL MEMBER","EACH","513","0.00000","CERT",{"$f":"IF(ISNA(VLOOKUP(A1650,'(1) Project Reference Item List'!$B$2:$B$499,1,FALSE)),\"\",\"Y\")","v":""}]
["513E10281","STRC STEEL MEM, L-4, APP","LB","COMPONENT","6585631","HVY HEX NUT,A563(GR C,C3,D,DH,DH3)","EACH","711.09","0.00000","CERT",{"$f":"IF(ISNA(VLOOKUP(A1651,'(1) Project Reference Item List'!$B$2:$B$499,1,FALSE)),\"\",\"Y\")","v":""}]
["513E10281","STRC STEEL MEM, L-4, APP","LB","COMPONENT","6584361","WASHER, F 436, PLAIN (UNCOATED)","EACH","711.09","0.00000","CERT",{"$f":"IF(ISNA(VLOOKUP(A1652,'(1) Project Reference Item List'!$B$2:$B$499,1,FALSE)),\"\",\"Y\")","v":""}]
["512E99000","SEALING OF CONCRETE","LS","PRIMARY","999999","MATERIALS AS NEEDED","EACH","NONE","0.00000","JCTL",{"$f":"IF(ISNA(VLOOKUP(A1653,'(1) Project Reference Item List'!$B$2:$B$499,1,FALSE)),\"\",\"Y\")","v":""}]
["513E10041","STRC STEEL, L-2, APP","LS","PRIMARY","65100L2","LEVEL 2 FABRICATED STEEL MEMBER","EACH","513","0.00000","CERT",{"$f":"IF(ISNA(VLOOKUP(A1654,'(1) Project Reference Item List'!$B$2:$B$499,1,FALSE)),\"\",\"Y\")","v":""}]
["513E10041","STRC STEEL, L-2, APP","LS","COMPONENT","6585631","HVY HEX NUT,A563(GR C,C3,D,DH,DH3)","EACH","711.09","0.00000","CERT",{"$f":"IF(ISNA(VLOOKUP(A1655,'(1) Project Reference Item List'!$B$2:$B$499,1,FALSE)),\"\",\"Y\")","v":""}]
["513E10101","STRUC STEEL MEM, L5, APP","LS","PRIMARY","65100L5","LEVEL 5 FABRICATED STEEL MEMBER","EACH","513","0.00000","CERT",{"$f":"IF(ISNA(VLOOKUP(A1656,'(1) Project Reference Item List'!$B$2:$B$499,1,FALSE)),\"\",\"Y\")","v":""}]
["513E10101","STRUC STEEL MEM, L5, APP","LS","COMPONENT","6585631","HVY HEX NUT,A563(GR C,C3,D,DH,DH3)","EACH","711.09","0.00000","CERT",{"$f":"IF(ISNA(VLOOKUP(A1657,'(1) Project Reference Item List'!$B$2:$B$499,1,FALSE)),\"\",\"Y\")","v":""}]
["513E10101","STRUC STEEL MEM, L5, APP","LS","COMPONENT","6584361","WASHER, F 436, PLAIN (UNCOATED)","EACH","711.09","0.00000","CERT",{"$f":"IF(ISNA(VLOOKUP(A1658,'(1) Project Reference Item List'!$B$2:$B$499,1,FALSE)),\"\",\"Y\")","v":""}]
["452E09011","4\" NO-REINF CNC PVMT, QC1P, APP","SY","COMPONENT","63013","STEEL ROD, COATED DOWEL, JOINT ASSY","LB","709.13","0.00000","CERT",{"$f":"IF(ISNA(VLOOKUP(A1659,'(1) Project Reference Item List'!$B$2:$B$499,1,FALSE)),\"\",\"Y\")","v":""}]
["452E09011","4\" NO-REINF CNC PVMT, QC1P, APP","SY","COMPONENT","619100","PREFORMED EXPANSION JOINT FILLER 1\"","SF","705.03-711","0.00000","QPL",{"$f":"IF(ISNA(VLOOKUP(A1660,'(1) Project Reference Item List'!$B$2:$B$499,1,FALSE)),\"\",\"Y\")","v":""}]
["452E09011","4\" NO-REINF CNC PVMT, QC1P, APP","SY","COMPONENT","61607","JOINT & CRACK SEALER, HOT APPLIED 705.04","LB","705.04","0.00000","CERT",{"$f":"IF(ISNA(VLOOKUP(A1661,'(1) Project Reference Item List'!$B$2:$B$499,1,FALSE)),\"\",\"Y\")","v":""}]
["452E09011","4\" NO-REINF CNC PVMT, QC1P, APP","SY","COMPONENT","61606","PREFORMED ELASTOMERIC COMPRESSION SEAL","FT","705.11","0.00000","QPL",{"$f":"IF(ISNA(VLOOKUP(A1662,'(1) Project Reference Item List'!$B$2:$B$499,1,FALSE)),\"\",\"Y\")","v":""}]
["452E09011","4\" NO-REINF CNC PVMT, QC1P, APP","SY","COMPONENT","42406OH","WHITE CURE TYPE 2 CLASS A OR B","GAL","705.07OH","0.06000","QPL",{"$f":"IF(ISNA(VLOOKUP(A1663,'(1) Project Reference Item List'!$B$2:$B$499,1,FALSE)),\"\",\"Y\")","v":""}]
["452E09011","4\" NO-REINF CNC PVMT, QC1P, APP","SY","SUBSTITUTE","215QCMS","QC MODERATE SET CONCRETE 400 PSI_24 HRS","CY","499","0.11111","JCTL",{"$f":"IF(ISNA(VLOOKUP(A1664,'(1) Project Reference Item List'!$B$2:$B$499,1,FALSE)),\"\",\"Y\")","v":""}]
["452E09011","4\" NO-REINF CNC PVMT, QC1P, APP","SY","SUBSTITUTE","215QCFS","QC FAST SET CONCRETE 400 PSI_4 HRS","CY","499","0.11111","JCTL",{"$f":"IF(ISNA(VLOOKUP(A1665,'(1) Project Reference Item List'!$B$2:$B$499,1,FALSE)),\"\",\"Y\")","v":""}]
["452E09011","4\" NO-REINF CNC PVMT, QC1P, APP","SY","PRIMARY","215QC1","QC 1 CONCRETE - 4000 PSI - WELL GRADED","CY","499","0.11111","JCTL",{"$f":"IF(ISNA(VLOOKUP(A1666,'(1) Project Reference Item List'!$B$2:$B$499,1,FALSE)),\"\",\"Y\")","v":""}]
["452E10011","6\" NO-REINF CNC PVMT, QC1P, APP","SY","COMPONENT","67502","5/8\"X8\" HOOK BOLT","EACH","BP2.1","0.00000","QPL",{"$f":"IF(ISNA(VLOOKUP(A1667,'(1) Project Reference Item List'!$B$2:$B$499,1,FALSE)),\"\",\"Y\")","v":""}]
["452E10011","6\" NO-REINF CNC PVMT, QC1P, APP","SY","COMPONENT","63013","STEEL ROD, COATED DOWEL, JOINT ASSY","LB","709.13","0.00000","CERT",{"$f":"IF(ISNA(VLOOKUP(A1668,'(1) Project Reference Item List'!$B$2:$B$499,1,FALSE)),\"\",\"Y\")","v":""}]
["452E10011","6\" NO-REINF CNC PVMT, QC1P, APP","SY","COMPONENT","619100","PREFORMED EXPANSION JOINT FILLER 1\"","SF","705.03-711","0.00000","QPL",{"$f":"IF(ISNA(VLOOKUP(A1669,'(1) Project Reference Item List'!$B$2:$B$499,1,FALSE)),\"\",\"Y\")","v":""}]
["452E10011","6\" NO-REINF CNC PVMT, QC1P, APP","SY","COMPONENT","61607","JOINT & CRACK SEALER, HOT APPLIED 705.04","LB","705.04","0.00000","CERT",{"$f":"IF(ISNA(VLOOKUP(A1670,'(1) Project Reference Item List'!$B$2:$B$499,1,FALSE)),\"\",\"Y\")","v":""}]
["452E10011","6\" NO-REINF CNC PVMT, QC1P, APP","SY","COMPONENT","61606","PREFORMED ELASTOMERIC COMPRESSION SEAL","FT","705.11","0.00000","QPL",{"$f":"IF(ISNA(VLOOKUP(A1671,'(1) Project Reference Item List'!$B$2:$B$499,1,FALSE)),\"\",\"Y\")","v":""}]
["452E10011","6\" NO-REINF CNC PVMT, QC1P, APP","SY","COMPONENT","42406OH","WHITE CURE TYPE 2 CLASS A OR B","GAL","705.07OH","0.06000","QPL",{"$f":"IF(ISNA(VLOOKUP(A1672,'(1) Project Reference Item List'!$B$2:$B$499,1,FALSE)),\"\",\"Y\")","v":""}]
["452E10050","6\" NO-REINF CNC PVMT, QCMS","SY","COMPONENT","63013","STEEL ROD, COATED DOWEL, JOINT ASSY","LB","709.13","0.00000","CERT",{"$f":"IF(ISNA(VLOOKUP(A1673,'(1) Project Reference Item List'!$B$2:$B$499,1,FALSE)),\"\",\"Y\")","v":""}]
["452E10050","6\" NO-REINF CNC PVMT, QCMS","SY","COMPONENT","619100","PREFORMED EXPANSION JOINT FILLER 1\"","SF","705.03-711","0.00000","QPL",{"$f":"IF(ISNA(VLOOKUP(A1674,'(1) Project Reference Item List'!$B$2:$B$499,1,FALSE)),\"\",\"Y\")","v":""}]
["452E10050","6\" NO-REINF CNC PVMT, QCMS","SY","SUBSTITUTE","61607","JOINT & CRACK SEALER, HOT APPLIED 705.04","LB","705.04","0.00000","CERT",{"$f":"IF(ISNA(VLOOKUP(A1675,'(1) Project Reference Item List'!$B$2:$B$499,1,FALSE)),\"\",\"Y\")","v":""}]
["452E10050","6\" NO-REINF CNC PVMT, QCMS","SY","SUBSTITUTE","61606","PREFORMED ELASTOMERIC COMPRESSION SEAL","FT","705.11","0.00000","QPL",{"$f":"IF(ISNA(VLOOKUP(A1676,'(1) Project Reference Item List'!$B$2:$B$499,1,FALSE)),\"\",\"Y\")","v":""}]
["452E10050","6\" NO-REINF CNC PVMT, QCMS","SY","COMPONENT","42406OH","WHITE CURE TYPE 2 CLASS A OR B","GAL","705.07OH","0.00000","QPL",{"$f":"IF(ISNA(VLOOKUP(A1677,'(1) Project Reference Item List'!$B$2:$B$499,1,FALSE)),\"\",\"Y\")","v":""}]
["452E10050","6\" NO-REINF CNC PVMT, QCMS","SY","PRIMARY","215QCMS","QC MODERATE SET CONCRETE 400 PSI_24 HRS","CY","499","0.16667","JCTL",{"$f":"IF(ISNA(VLOOKUP(A1678,'(1) Project Reference Item List'!$B$2:$B$499,1,FALSE)),\"\",\"Y\")","v":""}]
["452E10061","6\" NO-REINF CNC PVMT, QCMS QC/QA, APP","SY","PRIMARY","215QCMS","QC MODERATE SET CONCRETE 400 PSI_24 HRS","CY","499","0.00000","JCTL",{"$f":"IF(ISNA(VLOOKUP(A1679,'(1) Project Reference Item List'!$B$2:$B$499,1,FALSE)),\"\",\"Y\")","v":""}]
["452E10061","6\" NO-REINF CNC PVMT, QCMS QC/QA, APP","SY","COMPONENT","67502","5/8\"X8\" HOOK BOLT","EACH","BP2.1","0.00000","QPL",{"$f":"IF(ISNA(VLOOKUP(A1680,'(1) Project Reference Item List'!$B$2:$B$499,1,FALSE)),\"\",\"Y\")","v":""}]
["452E10061","6\" NO-REINF CNC PVMT, QCMS QC/QA, APP","SY","COMPONENT","63013","STEEL ROD, COATED DOWEL, JOINT ASSY","LB","709.13","0.00000","CERT",{"$f":"IF(ISNA(VLOOKUP(A1681,'(1) Project Reference Item List'!$B$2:$B$499,1,FALSE)),\"\",\"Y\")","v":""}]
["452E10061","6\" NO-REINF CNC PVMT, QCMS QC/QA, APP","SY","COMPONENT","619100","PREFORMED EXPANSION JOINT FILLER 1\"","SF","705.03-711","0.00000","QPL",{"$f":"IF(ISNA(VLOOKUP(A1682,'(1) Project Reference Item List'!$B$2:$B$499,1,FALSE)),\"\",\"Y\")","v":""}]
["452E10061","6\" NO-REINF CNC PVMT, QCMS QC/QA, APP","SY","SUBSTITUTE","61607","JOINT & CRACK SEALER, HOT APPLIED 705.04","LB","705.04","0.00000","CERT",{"$f":"IF(ISNA(VLOOKUP(A1683,'(1) Project Reference Item List'!$B$2:$B$499,1,FALSE)),\"\",\"Y\")","v":""}]
["452E10061","6\" NO-REINF CNC PVMT, QCMS QC/QA, APP","SY","SUBSTITUTE","61606","PREFORMED ELASTOMERIC COMPRESSION SEAL","FT","705.11","0.00000","QPL",{"$f":"IF(ISNA(VLOOKUP(A1684,'(1) Project Reference Item List'!$B$2:$B$499,1,FALSE)),\"\",\"Y\")","v":""}]
["452E12010","8\" NO-REINF CNC PVMT, QC1P","SY","PRIMARY","215QC1","QC 1 CONCRETE - 4000 PSI - WELL GRADED","CY","499","0.22222","JCTL",{"$f":"IF(ISNA(VLOOKUP(A1685,'(1) Project Reference Item List'!$B$2:$B$499,1,FALSE)),\"\",\"Y\")","v":""}]
["452E12010","8\" NO-REINF CNC PVMT, QC1P","SY","COMPONENT","67502","5/8\"X8\" HOOK BOLT","EACH","BP2.1","0.00000","QPL",{"$f":"IF(ISNA(VLOOKUP(A1686,'(1) Project Reference Item List'!$B$2:$B$499,1,FALSE)),\"\",\"Y\")","v":""}]
["452E12010","8\" NO-REINF CNC PVMT, QC1P","SY","COMPONENT","63013","STEEL ROD, COATED DOWEL, JOINT ASSY","LB","709.13","0.00000","CERT",{"$f":"IF(ISNA(VLOOKUP(A1687,'(1) Project Reference Item List'!$B$2:$B$499,1,FALSE)),\"\",\"Y\")","v":""}]
["452E12010","8\" NO-REINF CNC PVMT, QC1P","SY","COMPONENT","619100","PREFORMED EXPANSION JOINT FILLER 1\"","SF","705.03-711","0.00000","QPL",{"$f":"IF(ISNA(VLOOKUP(A1688,'(1) Project Reference Item List'!$B$2:$B$499,1,FALSE)),\"\",\"Y\")","v":""}]
["452E12010","8\" NO-REINF CNC PVMT, QC1P","SY","COMPONENT","61607","JOINT & CRACK SEALER, HOT APPLIED 705.04","LB","705.04","0.00000","CERT",{"$f":"IF(ISNA(VLOOKUP(A1689,'(1) Project Reference Item List'!$B$2:$B$499,1,FALSE)),\"\",\"Y\")","v":""}]
["452E12010","8\" NO-REINF CNC PVMT, QC1P","SY","COMPONENT","61606","PREFORMED ELASTOMERIC COMPRESSION SEAL","FT","705.11","0.00000","QPL",{"$f":"IF(ISNA(VLOOKUP(A1690,'(1) Project Reference Item List'!$B$2:$B$499,1,FALSE)),\"\",\"Y\")","v":""}]
["509E25001","UNCOATED STEEL REINFORCEMENT, APP","LB","PRIMARY","62560","REINFORCING, EPOXY COATED GRADE 60","LB","709.00","1.00000","CERT",{"$f":"IF(ISNA(VLOOKUP(A1691,'(1) Project Reference Item List'!$B$2:$B$499,1,FALSE)),\"\",\"Y\")","v":""}]
["514E00060","FLD PTG OF STR STEEL, INTERMED","SF","PRIMARY","40015","OZEU INTERMEDIATE COAT RESIN & CURE","GAL","708.02","0.00000","QPL",{"$f":"IF(ISNA(VLOOKUP(A1692,'(1) Project Reference Item List'!$B$2:$B$499,1,FALSE)),\"\",\"Y\")","v":""}]
["203E35110","GRANULAR MATERIAL, TYPE B","CY","SUBSTITUTE","075411","411 CRUSHED STONE (703)","TON","703.18","1.90000","CERT",{"$f":"IF(ISNA(VLOOKUP(A1693,'(1) Project Reference Item List'!$B$2:$B$499,1,FALSE)),\"\",\"Y\")","v":""}]
["203E35110","GRANULAR MATERIAL, TYPE B","CY","SUBSTITUTE","074617","617 CRUSHED GRAVEL (703)","TON","703","1.95000","CERT",{"$f":"IF(ISNA(VLOOKUP(A1694,'(1) Project Reference Item List'!$B$2:$B$499,1,FALSE)),\"\",\"Y\")","v":""}]
["203E35110","GRANULAR MATERIAL, TYPE B","CY","SUBSTITUTE","047304","304 OH SLAG 703.17","TON","703.17","2.00000","CERT",{"$f":"IF(ISNA(VLOOKUP(A1695,'(1) Project Reference Item List'!$B$2:$B$499,1,FALSE)),\"\",\"Y\")","v":""}]
["203E35110","GRANULAR MATERIAL, TYPE B","CY","SUBSTITUTE","046304","304 ACBF SLAG 703.17","TON","703.17","1.80000","CERT",{"$f":"IF(ISNA(VLOOKUP(A1696,'(1) Project Reference Item List'!$B$2:$B$499,1,FALSE)),\"\",\"Y\")","v":""}]
["203E35110","GRANULAR MATERIAL, TYPE B","CY","PRIMARY","045304","304 CRUSHED STONE 703.17","TON","703.17","2.00000","CERT",{"$f":"IF(ISNA(VLOOKUP(A1697,'(1) Project Reference Item List'!$B$2:$B$499,1,FALSE)),\"\",\"Y\")","v":""}]
["203E35110","GRANULAR MATERIAL, TYPE B","CY","PRIMARY","044304","304 CRUSHED GRAVEL 703.17","TON","703.17","2.00000","CERT",{"$f":"IF(ISNA(VLOOKUP(A1698,'(1) Project Reference Item List'!$B$2:$B$499,1,FALSE)),\"\",\"Y\")","v":""}]
["203E35110","GRANULAR MATERIAL, TYPE B","CY","SUBSTITUTE","076617","617 ACBF SLAG (703)","TON","703","1.80000","CERT",{"$f":"IF(ISNA(VLOOKUP(A1699,'(1) Project Reference Item List'!$B$2:$B$499,1,FALSE)),\"\",\"Y\")","v":""}]
["203E35110","GRANULAR MATERIAL, TYPE B","CY","SUBSTITUTE","076411","411 ACBF SLAG (703)","TON","703.18","1.80000","CERT",{"$f":"IF(ISNA(VLOOKUP(A1700,'(1) Project Reference Item List'!$B$2:$B$499,1,FALSE)),\"\",\"Y\")","v":""}]
["203E35110","GRANULAR MATERIAL, TYPE B","CY","SUBSTITUTE","09AGS8","GRANULATED (BF) SLAG 703.08","TON","703.08","1.40000","CERT",{"$f":"IF(ISNA(VLOOKUP(A1701,'(1) Project Reference Item List'!$B$2:$B$499,1,FALSE)),\"\",\"Y\")","v":""}]
["203E35110","GRANULAR MATERIAL, TYPE B","CY","PRIMARY","07E617","617 RECYCLED CONCRETE (703.18)","TON","703.18","1.70000","CERT",{"$f":"IF(ISNA(VLOOKUP(A1702,'(1) Project Reference Item List'!$B$2:$B$499,1,FALSE)),\"\",\"Y\")","v":""}]
["203E35110","GRANULAR MATERIAL, TYPE B","CY","SUBSTITUTE","078617","617 BO SLAG (703)","TON","703","2.00000","CERT",{"$f":"IF(ISNA(VLOOKUP(A1703,'(1) Project Reference Item List'!$B$2:$B$499,1,FALSE)),\"\",\"Y\")","v":""}]
["203E35110","GRANULAR MATERIAL, TYPE B","CY","SUBSTITUTE","077617","617 OH SLAG (703)","TON","703","2.00000","CERT",{"$f":"IF(ISNA(VLOOKUP(A1704,'(1) Project Reference Item List'!$B$2:$B$499,1,FALSE)),\"\",\"Y\")","v":""}]
["203E35110","GRANULAR MATERIAL, TYPE B","CY","SUBSTITUTE","077411","411 OH SLAG (703)","TON","703.18","2.00000","CERT",{"$f":"IF(ISNA(VLOOKUP(A1705,'(1) Project Reference Item List'!$B$2:$B$499,1,FALSE)),\"\",\"Y\")","v":""}]
["203E45110","GRANULAR MATERIAL, TYPE B","TON","PRIMARY","075617","617 CRUSHED STONE (703)","TON","703","1.00000","CERT",{"$f":"IF(ISNA(VLOOKUP(A1706,'(1) Project Reference Item List'!$B$2:$B$499,1,FALSE)),\"\",\"Y\")","v":""}]
["203E45110","GRANULAR MATERIAL, TYPE B","TON","PRIMARY","075411","411 CRUSHED STONE (703)","TON","703.18","1.00000","CERT",{"$f":"IF(ISNA(VLOOKUP(A1707,'(1) Project Reference Item List'!$B$2:$B$499,1,FALSE)),\"\",\"Y\")","v":""}]
["203E45110","GRANULAR MATERIAL, TYPE B","TON","PRIMARY","074617","617 CRUSHED GRAVEL (703)","TON","703","1.00000","CERT",{"$f":"IF(ISNA(VLOOKUP(A1708,'(1) Project Reference Item List'!$B$2:$B$499,1,FALSE)),\"\",\"Y\")","v":""}]
["203E45110","GRANULAR MATERIAL, TYPE B","TON","PRIMARY","047304","304 OH SLAG 703.17","TON","703.17","1.00000","CERT",{"$f":"IF(ISNA(VLOOKUP(A1709,'(1) Project Reference Item List'!$B$2:$B$499,1,FALSE)),\"\",\"Y\")","v":""}]
["203E45110","GRANULAR MATERIAL, TYPE B","TON","PRIMARY","046304","304 ACBF SLAG 703.17","TON","703.17","1.00000","CERT",{"$f":"IF(ISNA(VLOOKUP(A1710,'(1) Project Reference Item List'!$B$2:$B$499,1,FALSE)),\"\",\"Y\")","v":""}]
["203E45110","GRANULAR MATERIAL, TYPE B","TON","PRIMARY","045304","304 CRUSHED STONE 703.17","TON","703.17","1.00000","CERT",{"$f":"IF(ISNA(VLOOKUP(A1711,'(1) Project Reference Item List'!$B$2:$B$499,1,FALSE)),\"\",\"Y\")","v":""}]
["203E45110","GRANULAR MATERIAL, TYPE B","TON","PRIMARY","044304","304 CRUSHED GRAVEL 703.17","TON","703.17","1.00000","CERT",{"$f":"IF(ISNA(VLOOKUP(A1712,'(1) Project Reference Item List'!$B$2:$B$499,1,FALSE)),\"\",\"Y\")","v":""}]
["203E45110","GRANULAR MATERIAL, TYPE B","TON","PRIMARY","09AGS8","GRANULATED (BF) SLAG 703.08","TON","703.08","1.00000","CERT",{"$f":"IF(ISNA(VLOOKUP(A1713,'(1) Project Reference Item List'!$B$2:$B$499,1,FALSE)),\"\",\"Y\")","v":""}]
["203E45110","GRANULAR MATERIAL, TYPE B","TON","PRIMARY","07E617","617 RECYCLED CONCRETE (703.18)","TON","703.18","1.00000","CERT",{"$f":"IF(ISNA(VLOOKUP(A1714,'(1) Project Reference Item List'!$B$2:$B$499,1,FALSE)),\"\",\"Y\")","v":""}]
["203E45110","GRANULAR MATERIAL, TYPE B","TON","PRIMARY","078617","617 BO SLAG (703)","TON","703","1.00000","CERT",{"$f":"IF(ISNA(VLOOKUP(A1715,'(1) Project Reference Item List'!$B$2:$B$499,1,FALSE)),\"\",\"Y\")","v":""}]
["203E45110","GRANULAR MATERIAL, TYPE B","TON","PRIMARY","077617","617 OH SLAG (703)","TON","703","1.00000","CERT",{"$f":"IF(ISNA(VLOOKUP(A1716,'(1) Project Reference Item List'!$B$2:$B$499,1,FALSE)),\"\",\"Y\")","v":""}]
["203E45110","GRANULAR MATERIAL, TYPE B","TON","PRIMARY","077411","411 OH SLAG (703)","TON","703.18","1.00000","CERT",{"$f":"IF(ISNA(VLOOKUP(A1717,'(1) Project Reference Item List'!$B$2:$B$499,1,FALSE)),\"\",\"Y\")","v":""}]
["203E45110","GRANULAR MATERIAL, TYPE B","TON","PRIMARY","076617","617 ACBF SLAG (703)","TON","703","1.00000","CERT",{"$f":"IF(ISNA(VLOOKUP(A1718,'(1) Project Reference Item List'!$B$2:$B$499,1,FALSE)),\"\",\"Y\")","v":""}]
["203E45111","GRANULAR MATERIAL, TYPE B, APP","TON","PRIMARY","075617","617 CRUSHED STONE (703)","TON","703","1.90000","CERT",{"$f":"IF(ISNA(VLOOKUP(A1719,'(1) Project Reference Item List'!$B$2:$B$499,1,FALSE)),\"\",\"Y\")","v":""}]
["203E45111","GRANULAR MATERIAL, TYPE B, APP","TON","PRIMARY","075411","411 CRUSHED STONE (703)","TON","703.18","1.90000","CERT",{"$f":"IF(ISNA(VLOOKUP(A1720,'(1) Project Reference Item List'!$B$2:$B$499,1,FALSE)),\"\",\"Y\")","v":""}]
["203E45111","GRANULAR MATERIAL, TYPE B, APP","TON","PRIMARY","074617","617 CRUSHED GRAVEL (703)","TON","703","1.95000","CERT",{"$f":"IF(ISNA(VLOOKUP(A1721,'(1) Project Reference Item List'!$B$2:$B$499,1,FALSE)),\"\",\"Y\")","v":""}]
["203E45111","GRANULAR MATERIAL, TYPE B, APP","TON","PRIMARY","047304","304 OH SLAG 703.17","TON","703.17","2.00000","CERT",{"$f":"IF(ISNA(VLOOKUP(A1722,'(1) Project Reference Item List'!$B$2:$B$499,1,FALSE)),\"\",\"Y\")","v":""}]
["203E45111","GRANULAR MATERIAL, TYPE B, APP","TON","PRIMARY","046304","304 ACBF SLAG 703.17","TON","703.17","1.80000","CERT",{"$f":"IF(ISNA(VLOOKUP(A1723,'(1) Project Reference Item List'!$B$2:$B$499,1,FALSE)),\"\",\"Y\")","v":""}]
["203E45111","GRANULAR MATERIAL, TYPE B, APP","TON","PRIMARY","045304","304 CRUSHED STONE 703.17","TON","703.17","2.00000","CERT",{"$f":"IF(ISNA(VLOOKUP(A1724,'(1) Project Reference Item List'!$B$2:$B$499,1,FALSE)),\"\",\"Y\")","v":""}]
["203E45111","GRANULAR MATERIAL, TYPE B, APP","TON","PRIMARY","044304","304 CRUSHED GRAVEL 703.17","TON","703.17","2.00000","CERT",{"$f":"IF(ISNA(VLOOKUP(A1725,'(1) Project Reference Item List'!$B$2:$B$499,1,FALSE)),\"\",\"Y\")","v":""}]
["203E45111","GRANULAR MATERIAL, TYPE B, APP","TON","PRIMARY","09AGS8","GRANULATED (BF) SLAG 703.08","TON","703.08","1.40000","CERT",{"$f":"IF(ISNA(VLOOKUP(A1726,'(1) Project Reference Item List'!$B$2:$B$499,1,FALSE)),\"\",\"Y\")","v":""}]
["203E45111","GRANULAR MATERIAL, TYPE B, APP","TON","PRIMARY","07E617","617 RECYCLED CONCRETE (703.18)","TON","703.18","1.70000","CERT",{"$f":"IF(ISNA(VLOOKUP(A1727,'(1) Project Reference Item List'!$B$2:$B$499,1,FALSE)),\"\",\"Y\")","v":""}]
["203E45111","GRANULAR MATERIAL, TYPE B, APP","TON","PRIMARY","078617","617 BO SLAG (703)","TON","703","2.00000","CERT",{"$f":"IF(ISNA(VLOOKUP(A1728,'(1) Project Reference Item List'!$B$2:$B$499,1,FALSE)),\"\",\"Y\")","v":""}]
["203E45111","GRANULAR MATERIAL, TYPE B, APP","TON","PRIMARY","077617","617 OH SLAG (703)","TON","703","2.00000","CERT",{"$f":"IF(ISNA(VLOOKUP(A1729,'(1) Project Reference Item List'!$B$2:$B$499,1,FALSE)),\"\",\"Y\")","v":""}]
["203E45111","GRANULAR MATERIAL, TYPE B, APP","TON","PRIMARY","077411","411 OH SLAG (703)","TON","703.18","2.00000","CERT",{"$f":"IF(ISNA(VLOOKUP(A1730,'(1) Project Reference Item List'!$B$2:$B$499,1,FALSE)),\"\",\"Y\")","v":""}]
["203E45111","GRANULAR MATERIAL, TYPE B, APP","TON","PRIMARY","076617","617 ACBF SLAG (703)","TON","703","1.80000","CERT",{"$f":"IF(ISNA(VLOOKUP(A1731,'(1) Project Reference Item List'!$B$2:$B$499,1,FALSE)),\"\",\"Y\")","v":""}]
["204E30011","GRANULAR MATERIAL, TYPE B, APP","CY","SUBSTITUTE","076411","411 ACBF SLAG (703)","TON","703.18","1.80000","CERT",{"$f":"IF(ISNA(VLOOKUP(A1732,'(1) Project Reference Item List'!$B$2:$B$499,1,FALSE)),\"\",\"Y\")","v":""}]
["204E30011","GRANULAR MATERIAL, TYPE B, APP","CY","SUBSTITUTE","075617","617 CRUSHED STONE (703)","TON","703","1.90000","CERT",{"$f":"IF(ISNA(VLOOKUP(A1733,'(1) Project Reference Item List'!$B$2:$B$499,1,FALSE)),\"\",\"Y\")","v":""}]
["204E30011","GRANULAR MATERIAL, TYPE B, APP","CY","SUBSTITUTE","075411","411 CRUSHED STONE (703)","TON","703.18","1.90000","CERT",{"$f":"IF(ISNA(VLOOKUP(A1734,'(1) Project Reference Item List'!$B$2:$B$499,1,FALSE)),\"\",\"Y\")","v":""}]
["204E30011","GRANULAR MATERIAL, TYPE B, APP","CY","SUBSTITUTE","074617","617 CRUSHED GRAVEL (703)","TON","703","1.95000","CERT",{"$f":"IF(ISNA(VLOOKUP(A1735,'(1) Project Reference Item List'!$B$2:$B$499,1,FALSE)),\"\",\"Y\")","v":""}]
["204E30011","GRANULAR MATERIAL, TYPE B, APP","CY","SUBSTITUTE","047304","304 OH SLAG 703.17","TON","703.17","2.00000","CERT",{"$f":"IF(ISNA(VLOOKUP(A1736,'(1) Project Reference Item List'!$B$2:$B$499,1,FALSE)),\"\",\"Y\")","v":""}]
["204E30011","GRANULAR MATERIAL, TYPE B, APP","CY","SUBSTITUTE","046304","304 ACBF SLAG 703.17","TON","703.17","1.80000","CERT",{"$f":"IF(ISNA(VLOOKUP(A1737,'(1) Project Reference Item List'!$B$2:$B$499,1,FALSE)),\"\",\"Y\")","v":""}]
["204E30011","GRANULAR MATERIAL, TYPE B, APP","CY","PRIMARY","045304","304 CRUSHED STONE 703.17","TON","703.17","2.00000","CERT",{"$f":"IF(ISNA(VLOOKUP(A1738,'(1) Project Reference Item List'!$B$2:$B$499,1,FALSE)),\"\",\"Y\")","v":""}]
["204E30011","GRANULAR MATERIAL, TYPE B, APP","CY","PRIMARY","044304","304 CRUSHED GRAVEL 703.17","TON","703.17","2.00000","CERT",{"$f":"IF(ISNA(VLOOKUP(A1739,'(1) Project Reference Item List'!$B$2:$B$499,1,FALSE)),\"\",\"Y\")","v":""}]
["204E30011","GRANULAR MATERIAL, TYPE B, APP","CY","SUBSTITUTE","09AGS8","GRANULATED (BF) SLAG 703.08","TON","703.08","1.40000","CERT",{"$f":"IF(ISNA(VLOOKUP(A1740,'(1) Project Reference Item List'!$B$2:$B$499,1,FALSE)),\"\",\"Y\")","v":""}]
["204E30011","GRANULAR MATERIAL, TYPE B, APP","CY","PRIMARY","07E617","617 RECYCLED CONCRETE (703.18)","TON","703.18","1.70000","CERT",{"$f":"IF(ISNA(VLOOKUP(A1741,'(1) Project Reference Item List'!$B$2:$B$499,1,FALSE)),\"\",\"Y\")","v":""}]
["204E30011","GRANULAR MATERIAL, TYPE B, APP","CY","SUBSTITUTE","078617","617 BO SLAG (703)","TON","703","2.00000","CERT",{"$f":"IF(ISNA(VLOOKUP(A1742,'(1) Project Reference Item List'!$B$2:$B$499,1,FALSE)),\"\",\"Y\")","v":""}]
["204E30011","GRANULAR MATERIAL, TYPE B, APP","CY","SUBSTITUTE","077617","617 OH SLAG (703)","TON","703","2.00000","CERT",{"$f":"IF(ISNA(VLOOKUP(A1743,'(1) Project Reference Item List'!$B$2:$B$499,1,FALSE)),\"\",\"Y\")","v":""}]
["204E30011","GRANULAR MATERIAL, TYPE B, APP","CY","SUBSTITUTE","077411","411 OH SLAG (703)","TON","703.18","2.00000","CERT",{"$f":"IF(ISNA(VLOOKUP(A1744,'(1) Project Reference Item List'!$B$2:$B$499,1,FALSE)),\"\",\"Y\")","v":""}]
["204E30030","GRANULAR MATERIAL, TYPE D","CY","PRIMARY","002C16","GRANULAR EMBANKMENT TYPE C","CY","703.16.C.3","1.00000","CERT",{"$f":"IF(ISNA(VLOOKUP(A1745,'(1) Project Reference Item List'!$B$2:$B$499,1,FALSE)),\"\",\"Y\")","v":""}]
["205E10300","LIME","TON","PRIMARY","001004","HYDRATED LIME","TON","712.04.B","1.00000","QPL",{"$f":"IF(ISNA(VLOOKUP(A1746,'(1) Project Reference Item List'!$B$2:$B$499,1,FALSE)),\"\",\"Y\")","v":""}]
["206E10300","LIME","TON","PRIMARY","001004","HYDRATED LIME","TON","712.04.B","1.00000","QPL",{"$f":"IF(ISNA(VLOOKUP(A1747,'(1) Project Reference Item List'!$B$2:$B$499,1,FALSE)),\"\",\"Y\")","v":""}]
["206E11000","CURING COAT","SY","PRIMARY","104RS2","ASPHALT ANIONIC EMULS RAPID SET GRD RS-2","GAL","702.04","0.30000","CERT",{"$f":"IF(ISNA(VLOOKUP(A1748,'(1) Project Reference Item List'!$B$2:$B$499,1,FALSE)),\"\",\"Y\")","v":""}]
["206E11000","CURING COAT","SY","PRIMARY","104CRS2","ASPHALT CATIONIC EMULS GRD CRS-2","GAL","702.04","0.30000","CERT",{"$f":"IF(ISNA(VLOOKUP(A1749,'(1) Project Reference Item List'!$B$2:$B$499,1,FALSE)),\"\",\"Y\")","v":""}]
["206E11001","CURING COAT, APP","SY","PRIMARY","104CRS2","ASPHALT CATIONIC EMULS GRD CRS-2","GAL","702.04","0.30000","CERT",{"$f":"IF(ISNA(VLOOKUP(A1750,'(1) Project Reference Item List'!$B$2:$B$499,1,FALSE)),\"\",\"Y\")","v":""}]
["206E11001","CURING COAT, APP","SY","PRIMARY","42406OH","WHITE CURE TYPE 2 CLASS A OR B","GAL","705.07OH","0.05000","QPL",{"$f":"IF(ISNA(VLOOKUP(A1751,'(1) Project Reference Item List'!$B$2:$B$499,1,FALSE)),\"\",\"Y\")","v":""}]
["251E01000","PRTL DEPTH PVMT REPAIR (441)","SY","SUBSTITUTE","104CSS1","ASPHALT CATIONIC EMULS GRD CSS-1","GAL","702.04","0.00000","CERT",{"$f":"IF(ISNA(VLOOKUP(A1752,'(1) Project Reference Item List'!$B$2:$B$499,1,FALSE)),\"\",\"Y\")","v":""}]
["251E01000","PRTL DEPTH PVMT REPAIR (441)","SY","SUBSTITUTE","177I4411","BIT CONC 441 TYPE 1 INTERMEDIATE","TON","441","0.00000","JCTL",{"$f":"IF(ISNA(VLOOKUP(A1753,'(1) Project Reference Item List'!$B$2:$B$499,1,FALSE)),\"\",\"Y\")","v":""}]
["251E01000","PRTL DEPTH PVMT REPAIR (441)","SY","PRIMARY","1774411","BIT CONC 441 TYPE 1 SURFACE","TON","441","0.00000","JCTL",{"$f":"IF(ISNA(VLOOKUP(A1754,'(1) Project Reference Item List'!$B$2:$B$499,1,FALSE)),\"\",\"Y\")","v":""}]
["251E01000","PRTL DEPTH PVMT REPAIR (441)","SY","PRIMARY","1764412","BIT CONC 441 TYPE 2","TON","441","0.00000","JCTL",{"$f":"IF(ISNA(VLOOKUP(A1755,'(1) Project Reference Item List'!$B$2:$B$499,1,FALSE)),\"\",\"Y\")","v":""}]
["251E01000","PRTL DEPTH PVMT REPAIR (441)","SY","COMPONENT","104SS1H","ASPHALT ANIONIC EMULS SLOW SET GRD SS-1H","GAL","702.04","0.00000","CERT",{"$f":"IF(ISNA(VLOOKUP(A1756,'(1) Project Reference Item List'!$B$2:$B$499,1,FALSE)),\"\",\"Y\")","v":""}]
["253E01000","PAVEMENT REPAIR","SY","PRIMARY","175301","ASPHALT CONCRETE BASE 301","TON","301","0.00000","JCTL",{"$f":"IF(ISNA(VLOOKUP(A1757,'(1) Project Reference Item List'!$B$2:$B$499,1,FALSE)),\"\",\"Y\")","v":""}]
["253E01000","PAVEMENT REPAIR","SY","PRIMARY","177I4411","BIT CONC 441 TYPE 1 INTERMEDIATE","TON","441","0.00000","JCTL",{"$f":"IF(ISNA(VLOOKUP(A1758,'(1) Project Reference Item List'!$B$2:$B$499,1,FALSE)),\"\",\"Y\")","v":""}]
["253E01000","PAVEMENT REPAIR","SY","PRIMARY","1774411","BIT CONC 441 TYPE 1 SURFACE","TON","441","0.00000","JCTL",{"$f":"IF(ISNA(VLOOKUP(A1759,'(1) Project Reference Item List'!$B$2:$B$499,1,FALSE)),\"\",\"Y\")","v":""}]
["253E01001","PAVEMENT REPAIR, APP","SY","PRIMARY","175301","ASPHALT CONCRETE BASE 301","TON","301","0.00000","JCTL",{"$f":"IF(ISNA(VLOOKUP(A1760,'(1) Project Reference Item List'!$B$2:$B$499,1,FALSE)),\"\",\"Y\")","v":""}]
["253E01001","PAVEMENT REPAIR, APP","SY","PRIMARY","177I4411","BIT CONC 441 TYPE 1 INTERMEDIATE","TON","441","0.00000","JCTL",{"$f":"IF(ISNA(VLOOKUP(A1761,'(1) Project Reference Item List'!$B$2:$B$499,1,FALSE)),\"\",\"Y\")","v":""}]
["253E01001","PAVEMENT REPAIR, APP","SY","PRIMARY","1774411","BIT CONC 441 TYPE 1 SURFACE","TON","441","0.00000","JCTL",{"$f":"IF(ISNA(VLOOKUP(A1762,'(1) Project Reference Item List'!$B$2:$B$499,1,FALSE)),\"\",\"Y\")","v":""}]
["253E02000","PAVEMENT REPAIR","CY","PRIMARY","175301","ASPHALT CONCRETE BASE 301","TON","301","2.00000","JCTL",{"$f":"IF(ISNA(VLOOKUP(A1763,'(1) Project Reference Item List'!$B$2:$B$499,1,FALSE)),\"\",\"Y\")","v":""}]
["253E02001","PAVEMENT REPAIR, APP","CY","PRIMARY","175301","ASPHALT CONCRETE BASE 301","TON","301","2.00000","JCTL",{"$f":"IF(ISNA(VLOOKUP(A1764,'(1) Project Reference Item List'!$B$2:$B$499,1,FALSE)),\"\",\"Y\")","v":""}]
["253E02001","PAVEMENT REPAIR, APP","CY","PRIMARY","177I4411","BIT CONC 441 TYPE 1 INTERMEDIATE","TON","441","2.00000","JCTL",{"$f":"IF(ISNA(VLOOKUP(A1765,'(1) Project Reference Item List'!$B$2:$B$499,1,FALSE)),\"\",\"Y\")","v":""}]
["253E02001","PAVEMENT REPAIR, APP","CY","PRIMARY","1774411","BIT CONC 441 TYPE 1 SURFACE","TON","441","2.00000","JCTL",{"$f":"IF(ISNA(VLOOKUP(A1766,'(1) Project Reference Item List'!$B$2:$B$499,1,FALSE)),\"\",\"Y\")","v":""}]
["258E10001","RETROFIT DOWEL BARS, APP","EACH","PRIMARY","42805","DOWEL BAR RETROFIT GROUT","LB","258.02","0.00000","QPL",{"$f":"IF(ISNA(VLOOKUP(A1767,'(1) Project Reference Item List'!$B$2:$B$499,1,FALSE)),\"\",\"Y\")","v":""}]
["258E10001","RETROFIT DOWEL BARS, APP","EACH","PRIMARY","63013","STEEL ROD, COATED DOWEL, JOINT ASSY","LB","709.13","0.00000","CERT",{"$f":"IF(ISNA(VLOOKUP(A1768,'(1) Project Reference Item List'!$B$2:$B$499,1,FALSE)),\"\",\"Y\")","v":""}]
["258E10001","RETROFIT DOWEL BARS, APP","EACH","COMPONENT","42406OH","WHITE CURE TYPE 2 CLASS A OR B","GAL","705.07OH","0.00000","QPL",{"$f":"IF(ISNA(VLOOKUP(A1769,'(1) Project Reference Item List'!$B$2:$B$499,1,FALSE)),\"\",\"Y\")","v":""}]
["258E10001","RETROFIT DOWEL BARS, APP","EACH","COMPONENT","021SD2","SAND, NATURAL 703.02","TON","703.02","0.00000","CERT",{"$f":"IF(ISNA(VLOOKUP(A1770,'(1) Project Reference Item List'!$B$2:$B$499,1,FALSE)),\"\",\"Y\")","v":""}]
["258E10010","RETROFIT DEFORMED BAR","EACH","COMPONENT","42406OH","WHITE CURE TYPE 2 CLASS A OR B","GAL","705.07OH","0.00000","QPL",{"$f":"IF(ISNA(VLOOKUP(A1771,'(1) Project Reference Item List'!$B$2:$B$499,1,FALSE)),\"\",\"Y\")","v":""}]
["258E10010","RETROFIT DEFORMED BAR","EACH","COMPONENT","021SD2","SAND, NATURAL 703.02","TON","703.02","0.00000","CERT",{"$f":"IF(ISNA(VLOOKUP(A1772,'(1) Project Reference Item List'!$B$2:$B$499,1,FALSE)),\"\",\"Y\")","v":""}]
["258E10010","RETROFIT DEFORMED BAR","EACH","PRIMARY","63013","STEEL ROD, COATED DOWEL, JOINT ASSY","LB","709.13","0.00000","CERT",{"$f":"IF(ISNA(VLOOKUP(A1773,'(1) Project Reference Item List'!$B$2:$B$499,1,FALSE)),\"\",\"Y\")","v":""}]
["258E10010","RETROFIT DEFORMED BAR","EACH","COMPONENT","619050","PREFORMED EXPANSION JOINT FILLER 1/2\"","SF","705.03-711","0.00000","QPL",{"$f":"IF(ISNA(VLOOKUP(A1774,'(1) Project Reference Item List'!$B$2:$B$499,1,FALSE)),\"\",\"Y\")","v":""}]
["301E46000","ASPHALT CONCRETE BASE, PG64-22","CY","SUBSTITUTE","1016422","PERFORMANCE GRADED ASPHALT (PG 64-22)","GAL","SS 1032","0.00000","JCTL",{"$f":"IF(ISNA(VLOOKUP(A1775,'(1) Project Reference Item List'!$B$2:$B$499,1,FALSE)),\"\",\"Y\")","v":""}]
["301E46000","ASPHALT CONCRETE BASE, PG64-22","CY","PRIMARY","175301","ASPHALT CONCRETE BASE 301","TON","301","2.00000","JCTL",{"$f":"IF(ISNA(VLOOKUP(A1776,'(1) Project Reference Item List'!$B$2:$B$499,1,FALSE)),\"\",\"Y\")","v":""}]
["301E46001","ASPHALT CONCRETE BASE, PG64-22, APP","CY","SUBSTITUTE","1016422","PERFORMANCE GRADED ASPHALT (PG 64-22)","GAL","SS 1032","0.00000","CERT",{"$f":"IF(ISNA(VLOOKUP(A1777,'(1) Project Reference Item List'!$B$2:$B$499,1,FALSE)),\"\",\"Y\")","v":""}]
["301E46001","ASPHALT CONCRETE BASE, PG64-22, APP","CY","COMPONENT","616AJAM","HOT APPLIED ASPHALT JOINT ADHESIVE","LB","SS-875","0.00000","CERT",{"$f":"IF(ISNA(VLOOKUP(A1778,'(1) Project Reference Item List'!$B$2:$B$499,1,FALSE)),\"\",\"Y\")","v":""}]
["301E46011","ASPHALT CONCRETE BASE, PG64-28, APP","CY","SUBSTITUTE","1016422","PERFORMANCE GRADED ASPHALT (PG 64-22)","GAL","SS 1032","0.00000","CERT",{"$f":"IF(ISNA(VLOOKUP(A1779,'(1) Project Reference Item List'!$B$2:$B$499,1,FALSE)),\"\",\"Y\")","v":""}]
["301E46011","ASPHALT CONCRETE BASE, PG64-28, APP","CY","COMPONENT","616AJAM","HOT APPLIED ASPHALT JOINT ADHESIVE","LB","SS-875","0.00000","CERT",{"$f":"IF(ISNA(VLOOKUP(A1780,'(1) Project Reference Item List'!$B$2:$B$499,1,FALSE)),\"\",\"Y\")","v":""}]
["301E46021","ASPHALT CONCRETE BASE, PG70-22M, APP","CY","SUBSTITUTE","1016422","PERFORMANCE GRADED ASPHALT (PG 64-22)","GAL","SS 1032","0.00000","CERT",{"$f":"IF(ISNA(VLOOKUP(A1781,'(1) Project Reference Item List'!$B$2:$B$499,1,FALSE)),\"\",\"Y\")","v":""}]
["301E46021","ASPHALT CONCRETE BASE, PG70-22M, APP","CY","COMPONENT","616AJAM","HOT APPLIED ASPHALT JOINT ADHESIVE","LB","SS-875","0.00000","CERT",{"$f":"IF(ISNA(VLOOKUP(A1782,'(1) Project Reference Item List'!$B$2:$B$499,1,FALSE)),\"\",\"Y\")","v":""}]
["301E48000","ASPH CONC BASE, PG64-22 (DRIVWAYS)","CY","PRIMARY","175301","ASPHALT CONCRETE BASE 301","TON","301","2.00000","JCTL",{"$f":"IF(ISNA(VLOOKUP(A1783,'(1) Project Reference Item List'!$B$2:$B$499,1,FALSE)),\"\",\"Y\")","v":""}]
["301E48000","ASPH CONC BASE, PG64-22 (DRIVWAYS)","CY","SUBSTITUTE","1016422","PERFORMANCE GRADED ASPHALT (PG 64-22)","GAL","SS 1032","0.00000","CERT",{"$f":"IF(ISNA(VLOOKUP(A1784,'(1) Project Reference Item List'!$B$2:$B$499,1,FALSE)),\"\",\"Y\")","v":""}]
["304E20000","AGGREGATE BASE","CY","SUBSTITUTE","047304","304 OH SLAG 703.17","TON","703.17","2.00000","CERT",{"$f":"IF(ISNA(VLOOKUP(A1785,'(1) Project Reference Item List'!$B$2:$B$499,1,FALSE)),\"\",\"Y\")","v":""}]
["304E20000","AGGREGATE BASE","CY","SUBSTITUTE","046304","304 ACBF SLAG 703.17","TON","703.17","1.80000","CERT",{"$f":"IF(ISNA(VLOOKUP(A1786,'(1) Project Reference Item List'!$B$2:$B$499,1,FALSE)),\"\",\"Y\")","v":""}]
["304E20000","AGGREGATE BASE","CY","PRIMARY","045304","304 CRUSHED STONE 703.17","TON","703.17","2.00000","CERT",{"$f":"IF(ISNA(VLOOKUP(A1787,'(1) Project Reference Item List'!$B$2:$B$499,1,FALSE)),\"\",\"Y\")","v":""}]
["304E20000","AGGREGATE BASE","CY","PRIMARY","044304","304 CRUSHED GRAVEL 703.17","TON","703.17","2.00000","CERT",{"$f":"IF(ISNA(VLOOKUP(A1788,'(1) Project Reference Item List'!$B$2:$B$499,1,FALSE)),\"\",\"Y\")","v":""}]
["305E10011","6\" CONC BASE, CL QC 1P, APP","SY","COMPONENT","67504","5/8\"X12\" WIGGLE BOLT","EACH","BP2.1","0.00000","JCTL",{"$f":"IF(ISNA(VLOOKUP(A1789,'(1) Project Reference Item List'!$B$2:$B$499,1,FALSE)),\"\",\"Y\")","v":""}]
["305E10011","6\" CONC BASE, CL QC 1P, APP","SY","COMPONENT","67503","HOOK BOLT COUPLER","EACH","BP2.1","0.00000","QPL",{"$f":"IF(ISNA(VLOOKUP(A1790,'(1) Project Reference Item List'!$B$2:$B$499,1,FALSE)),\"\",\"Y\")","v":""}]
["305E10011","6\" CONC BASE, CL QC 1P, APP","SY","COMPONENT","67502","5/8\"X8\" HOOK BOLT","EACH","BP2.1","0.00000","QPL",{"$f":"IF(ISNA(VLOOKUP(A1791,'(1) Project Reference Item List'!$B$2:$B$499,1,FALSE)),\"\",\"Y\")","v":""}]
["305E10011","6\" CONC BASE, CL QC 1P, APP","SY","COMPONENT","63013","STEEL ROD, COATED DOWEL, JOINT ASSY","LB","709.13","0.00000","CERT",{"$f":"IF(ISNA(VLOOKUP(A1792,'(1) Project Reference Item List'!$B$2:$B$499,1,FALSE)),\"\",\"Y\")","v":""}]
["305E10011","6\" CONC BASE, CL QC 1P, APP","SY","COMPONENT","619100","PREFORMED EXPANSION JOINT FILLER 1\"","SF","705.03-711","0.00000","QPL",{"$f":"IF(ISNA(VLOOKUP(A1793,'(1) Project Reference Item List'!$B$2:$B$499,1,FALSE)),\"\",\"Y\")","v":""}]
["305E10011","6\" CONC BASE, CL QC 1P, APP","SY","COMPONENT","61607","JOINT & CRACK SEALER, HOT APPLIED 705.04","LB","705.04","0.00000","CERT",{"$f":"IF(ISNA(VLOOKUP(A1794,'(1) Project Reference Item List'!$B$2:$B$499,1,FALSE)),\"\",\"Y\")","v":""}]
["305E10011","6\" CONC BASE, CL QC 1P, APP","SY","COMPONENT","42406OH","WHITE CURE TYPE 2 CLASS A OR B","GAL","705.07OH","0.04500","QPL",{"$f":"IF(ISNA(VLOOKUP(A1795,'(1) Project Reference Item List'!$B$2:$B$499,1,FALSE)),\"\",\"Y\")","v":""}]
["305E10011","6\" CONC BASE, CL QC 1P, APP","SY","PRIMARY","215QC1","QC 1 CONCRETE - 4000 PSI - WELL GRADED","CY","499","0.16670","JCTL",{"$f":"IF(ISNA(VLOOKUP(A1796,'(1) Project Reference Item List'!$B$2:$B$499,1,FALSE)),\"\",\"Y\")","v":""}]
["305E10011","6\" CONC BASE, CL QC 1P, APP","SY","COMPONENT","NOMATL","CODE TO ADD TO CONTRACT S & T REQ","EACH","NONE","0.00000",null,{"$f":"IF(ISNA(VLOOKUP(A1797,'(1) Project Reference Item List'!$B$2:$B$499,1,FALSE)),\"\",\"Y\")","v":""}]
["305E11020","7\" CONC BASE, CLASS QC 1P W/ QC/QA","SY","COMPONENT","67503","HOOK BOLT COUPLER","EACH","BP2.1","0.00000","QPL",{"$f":"IF(ISNA(VLOOKUP(A1798,'(1) Project Reference Item List'!$B$2:$B$499,1,FALSE)),\"\",\"Y\")","v":""}]
["305E11020","7\" CONC BASE, CLASS QC 1P W/ QC/QA","SY","COMPONENT","67502","5/8\"X8\" HOOK BOLT","EACH","BP2.1","0.00000","QPL",{"$f":"IF(ISNA(VLOOKUP(A1799,'(1) Project Reference Item List'!$B$2:$B$499,1,FALSE)),\"\",\"Y\")","v":""}]
["305E11020","7\" CONC BASE, CLASS QC 1P W/ QC/QA","SY","COMPONENT","67501","5/8\"X6\" HOOK BOLT","EACH","BP2.1","0.00000","QPL",{"$f":"IF(ISNA(VLOOKUP(A1800,'(1) Project Reference Item List'!$B$2:$B$499,1,FALSE)),\"\",\"Y\")","v":""}]
["305E11020","7\" CONC BASE, CLASS QC 1P W/ QC/QA","SY","COMPONENT","63013","STEEL ROD, COATED DOWEL, JOINT ASSY","LB","709.13","0.00000","CERT",{"$f":"IF(ISNA(VLOOKUP(A1801,'(1) Project Reference Item List'!$B$2:$B$499,1,FALSE)),\"\",\"Y\")","v":""}]
["305E11020","7\" CONC BASE, CLASS QC 1P W/ QC/QA","SY","COMPONENT","619100","PREFORMED EXPANSION JOINT FILLER 1\"","SF","705.03-711","0.00000","QPL",{"$f":"IF(ISNA(VLOOKUP(A1802,'(1) Project Reference Item List'!$B$2:$B$499,1,FALSE)),\"\",\"Y\")","v":""}]
["305E11020","7\" CONC BASE, CLASS QC 1P W/ QC/QA","SY","COMPONENT","61607","JOINT & CRACK SEALER, HOT APPLIED 705.04","LB","705.04","0.00000","CERT",{"$f":"IF(ISNA(VLOOKUP(A1803,'(1) Project Reference Item List'!$B$2:$B$499,1,FALSE)),\"\",\"Y\")","v":""}]
["305E11020","7\" CONC BASE, CLASS QC 1P W/ QC/QA","SY","COMPONENT","42406OH","WHITE CURE TYPE 2 CLASS A OR B","GAL","705.07OH","0.04500","QPL",{"$f":"IF(ISNA(VLOOKUP(A1804,'(1) Project Reference Item List'!$B$2:$B$499,1,FALSE)),\"\",\"Y\")","v":""}]
["305E11020","7\" CONC BASE, CLASS QC 1P W/ QC/QA","SY","PRIMARY","215QC1","QC 1 CONCRETE - 4000 PSI - WELL GRADED","CY","499","0.19440","JCTL",{"$f":"IF(ISNA(VLOOKUP(A1805,'(1) Project Reference Item List'!$B$2:$B$499,1,FALSE)),\"\",\"Y\")","v":""}]
["305E11020","7\" CONC BASE, CLASS QC 1P W/ QC/QA","SY","COMPONENT","67601A","EXPANSION SHIELD ANCHOR, TYPE A","EACH","712.01","0.00000","JCTL",{"$f":"IF(ISNA(VLOOKUP(A1806,'(1) Project Reference Item List'!$B$2:$B$499,1,FALSE)),\"\",\"Y\")","v":""}]
["305E14011","10\" CONC BASE, CLASS QC 1P, APP","SY","COMPONENT","67502","5/8\"X8\" HOOK BOLT","EACH","BP2.1","0.00000","QPL",{"$f":"IF(ISNA(VLOOKUP(A1807,'(1) Project Reference Item List'!$B$2:$B$499,1,FALSE)),\"\",\"Y\")","v":""}]
["305E14011","10\" CONC BASE, CLASS QC 1P, APP","SY","COMPONENT","67501","5/8\"X6\" HOOK BOLT","EACH","BP2.1","0.00000","QPL",{"$f":"IF(ISNA(VLOOKUP(A1808,'(1) Project Reference Item List'!$B$2:$B$499,1,FALSE)),\"\",\"Y\")","v":""}]
["305E14011","10\" CONC BASE, CLASS QC 1P, APP","SY","COMPONENT","63013","STEEL ROD, COATED DOWEL, JOINT ASSY","LB","709.13","0.00000","CERT",{"$f":"IF(ISNA(VLOOKUP(A1809,'(1) Project Reference Item List'!$B$2:$B$499,1,FALSE)),\"\",\"Y\")","v":""}]
["305E14011","10\" CONC BASE, CLASS QC 1P, APP","SY","COMPONENT","619100","PREFORMED EXPANSION JOINT FILLER 1\"","SF","705.03-711","0.00000","QPL",{"$f":"IF(ISNA(VLOOKUP(A1810,'(1) Project Reference Item List'!$B$2:$B$499,1,FALSE)),\"\",\"Y\")","v":""}]
["305E14011","10\" CONC BASE, CLASS QC 1P, APP","SY","COMPONENT","61607","JOINT & CRACK SEALER, HOT APPLIED 705.04","LB","705.04","0.00000","CERT",{"$f":"IF(ISNA(VLOOKUP(A1811,'(1) Project Reference Item List'!$B$2:$B$499,1,FALSE)),\"\",\"Y\")","v":""}]
["305E14011","10\" CONC BASE, CLASS QC 1P, APP","SY","COMPONENT","42406OH","WHITE CURE TYPE 2 CLASS A OR B","GAL","705.07OH","0.02500","QPL",{"$f":"IF(ISNA(VLOOKUP(A1812,'(1) Project Reference Item List'!$B$2:$B$499,1,FALSE)),\"\",\"Y\")","v":""}]
["305E14011","10\" CONC BASE, CLASS QC 1P, APP","SY","PRIMARY","215QC1","QC 1 CONCRETE - 4000 PSI - WELL GRADED","CY","499","0.27780","JCTL",{"$f":"IF(ISNA(VLOOKUP(A1813,'(1) Project Reference Item List'!$B$2:$B$499,1,FALSE)),\"\",\"Y\")","v":""}]
["305E14011","10\" CONC BASE, CLASS QC 1P, APP","SY","COMPONENT","67504","5/8\"X12\" WIGGLE BOLT","EACH","BP2.1","0.00000","JCTL",{"$f":"IF(ISNA(VLOOKUP(A1814,'(1) Project Reference Item List'!$B$2:$B$499,1,FALSE)),\"\",\"Y\")","v":""}]
["305E15010","11\" CONC BASE, CLASS QC 1P","SY","COMPONENT","67503","HOOK BOLT COUPLER","EACH","BP2.1","0.00000","QPL",{"$f":"IF(ISNA(VLOOKUP(A1815,'(1) Project Reference Item List'!$B$2:$B$499,1,FALSE)),\"\",\"Y\")","v":""}]
["305E15010","11\" CONC BASE, CLASS QC 1P","SY","COMPONENT","67502","5/8\"X8\" HOOK BOLT","EACH","BP2.1","0.00000","QPL",{"$f":"IF(ISNA(VLOOKUP(A1816,'(1) Project Reference Item List'!$B$2:$B$499,1,FALSE)),\"\",\"Y\")","v":""}]
["305E15010","11\" CONC BASE, CLASS QC 1P","SY","COMPONENT","67501","5/8\"X6\" HOOK BOLT","EACH","BP2.1","0.00000","QPL",{"$f":"IF(ISNA(VLOOKUP(A1817,'(1) Project Reference Item List'!$B$2:$B$499,1,FALSE)),\"\",\"Y\")","v":""}]
["305E15010","11\" CONC BASE, CLASS QC 1P","SY","COMPONENT","63013","STEEL ROD, COATED DOWEL, JOINT ASSY","LB","709.13","0.00000","CERT",{"$f":"IF(ISNA(VLOOKUP(A1818,'(1) Project Reference Item List'!$B$2:$B$499,1,FALSE)),\"\",\"Y\")","v":""}]
["305E15010","11\" CONC BASE, CLASS QC 1P","SY","COMPONENT","619100","PREFORMED EXPANSION JOINT FILLER 1\"","SF","705.03-711","0.00000","QPL",{"$f":"IF(ISNA(VLOOKUP(A1819,'(1) Project Reference Item List'!$B$2:$B$499,1,FALSE)),\"\",\"Y\")","v":""}]
["305E15010","11\" CONC BASE, CLASS QC 1P","SY","COMPONENT","61607","JOINT & CRACK SEALER, HOT APPLIED 705.04","LB","705.04","0.00000","CERT",{"$f":"IF(ISNA(VLOOKUP(A1820,'(1) Project Reference Item List'!$B$2:$B$499,1,FALSE)),\"\",\"Y\")","v":""}]
["305E15010","11\" CONC BASE, CLASS QC 1P","SY","COMPONENT","42406OH","WHITE CURE TYPE 2 CLASS A OR B","GAL","705.07OH","0.04500","QPL",{"$f":"IF(ISNA(VLOOKUP(A1821,'(1) Project Reference Item List'!$B$2:$B$499,1,FALSE)),\"\",\"Y\")","v":""}]
["305E15010","11\" CONC BASE, CLASS QC 1P","SY","PRIMARY","215QC1","QC 1 CONCRETE - 4000 PSI - WELL GRADED","CY","499","0.30560","JCTL",{"$f":"IF(ISNA(VLOOKUP(A1822,'(1) Project Reference Item List'!$B$2:$B$499,1,FALSE)),\"\",\"Y\")","v":""}]
["305E15010","11\" CONC BASE, CLASS QC 1P","SY","COMPONENT","67601A","EXPANSION SHIELD ANCHOR, TYPE A","EACH","712.01","0.00000","JCTL",{"$f":"IF(ISNA(VLOOKUP(A1823,'(1) Project Reference Item List'!$B$2:$B$499,1,FALSE)),\"\",\"Y\")","v":""}]
["305E17010","13\" CONC BASE, CLASS QC 1P","SY","PRIMARY","215QC1","QC 1 CONCRETE - 4000 PSI - WELL GRADED","CY","499","0.25000","JCTL",{"$f":"IF(ISNA(VLOOKUP(A1824,'(1) Project Reference Item List'!$B$2:$B$499,1,FALSE)),\"\",\"Y\")","v":""}]
["305E17010","13\" CONC BASE, CLASS QC 1P","SY","COMPONENT","63013","STEEL ROD, COATED DOWEL, JOINT ASSY","LB","709.13","0.00000","CERT",{"$f":"IF(ISNA(VLOOKUP(A1825,'(1) Project Reference Item List'!$B$2:$B$499,1,FALSE)),\"\",\"Y\")","v":""}]
["305E17021","13\" CONC BASE, CLASS QC 1P W/ QC/QA, APP","SY","PRIMARY","215QC1","QC 1 CONCRETE - 4000 PSI - WELL GRADED","CY","499","0.25000","JCTL",{"$f":"IF(ISNA(VLOOKUP(A1826,'(1) Project Reference Item List'!$B$2:$B$499,1,FALSE)),\"\",\"Y\")","v":""}]
["305E17021","13\" CONC BASE, CLASS QC 1P W/ QC/QA, APP","SY","COMPONENT","63013","STEEL ROD, COATED DOWEL, JOINT ASSY","LB","709.13","0.00000","CERT",{"$f":"IF(ISNA(VLOOKUP(A1827,'(1) Project Reference Item List'!$B$2:$B$499,1,FALSE)),\"\",\"Y\")","v":""}]
["305E17500","CONCRETE BASE, MISC.:","SY","PRIMARY","215QC1","QC 1 CONCRETE - 4000 PSI - WELL GRADED","CY","499","0.00000",null,{"$f":"IF(ISNA(VLOOKUP(A1828,'(1) Project Reference Item List'!$B$2:$B$499,1,FALSE)),\"\",\"Y\")","v":""}]
["305E17500","CONCRETE BASE, MISC.:","SY","COMPONENT","67504","5/8\"X12\" WIGGLE BOLT","EACH","BP2.1","0.00000","QPL",{"$f":"IF(ISNA(VLOOKUP(A1829,'(1) Project Reference Item List'!$B$2:$B$499,1,FALSE)),\"\",\"Y\")","v":""}]
["305E17500","CONCRETE BASE, MISC.:","SY","COMPONENT","67503","HOOK BOLT COUPLER","EACH","BP2.1","0.00000","QPL",{"$f":"IF(ISNA(VLOOKUP(A1830,'(1) Project Reference Item List'!$B$2:$B$499,1,FALSE)),\"\",\"Y\")","v":""}]
["305E17500","CONCRETE BASE, MISC.:","SY","COMPONENT","67502","5/8\"X8\" HOOK BOLT","EACH","BP2.1","0.00000","QPL",{"$f":"IF(ISNA(VLOOKUP(A1831,'(1) Project Reference Item List'!$B$2:$B$499,1,FALSE)),\"\",\"Y\")","v":""}]
["305E17500","CONCRETE BASE, MISC.:","SY","COMPONENT","67501","5/8\"X6\" HOOK BOLT","EACH","BP2.1","0.00000","QPL",{"$f":"IF(ISNA(VLOOKUP(A1832,'(1) Project Reference Item List'!$B$2:$B$499,1,FALSE)),\"\",\"Y\")","v":""}]
["305E17500","CONCRETE BASE, MISC.:","SY","COMPONENT","63013","STEEL ROD, COATED DOWEL, JOINT ASSY","LB","709.13","0.00000","CERT",{"$f":"IF(ISNA(VLOOKUP(A1833,'(1) Project Reference Item List'!$B$2:$B$499,1,FALSE)),\"\",\"Y\")","v":""}]
["305E17500","CONCRETE BASE, MISC.:","SY","COMPONENT","67601A","EXPANSION SHIELD ANCHOR, TYPE A","EACH","712.01","0.00000","QPL",{"$f":"IF(ISNA(VLOOKUP(A1834,'(1) Project Reference Item List'!$B$2:$B$499,1,FALSE)),\"\",\"Y\")","v":""}]
["305E17500","CONCRETE BASE, MISC.:","SY","COMPONENT","619100","PREFORMED EXPANSION JOINT FILLER 1\"","SF","705.03-711","0.00000","QPL",{"$f":"IF(ISNA(VLOOKUP(A1835,'(1) Project Reference Item List'!$B$2:$B$499,1,FALSE)),\"\",\"Y\")","v":""}]
["305E17500","CONCRETE BASE, MISC.:","SY","COMPONENT","61607","JOINT & CRACK SEALER, HOT APPLIED 705.04","LB","705.04","0.00000","CERT",{"$f":"IF(ISNA(VLOOKUP(A1836,'(1) Project Reference Item List'!$B$2:$B$499,1,FALSE)),\"\",\"Y\")","v":""}]
["320E80000","FILLER AGGREGATE","CY","PRIMARY","044304","304 CRUSHED GRAVEL 703.17","TON","703.17","2.00000","CERT",{"$f":"IF(ISNA(VLOOKUP(A1837,'(1) Project Reference Item List'!$B$2:$B$499,1,FALSE)),\"\",\"Y\")","v":""}]
["320E80000","FILLER AGGREGATE","CY","PRIMARY","09AGS8","GRANULATED (BF) SLAG 703.08","TON","703.08","1.40000","CERT",{"$f":"IF(ISNA(VLOOKUP(A1838,'(1) Project Reference Item List'!$B$2:$B$499,1,FALSE)),\"\",\"Y\")","v":""}]
["320E80000","FILLER AGGREGATE","CY","PRIMARY","047304","304 OH SLAG 703.17","TON","703.17","2.00000","CERT",{"$f":"IF(ISNA(VLOOKUP(A1839,'(1) Project Reference Item List'!$B$2:$B$499,1,FALSE)),\"\",\"Y\")","v":""}]
["320E80000","FILLER AGGREGATE","CY","PRIMARY","046304","304 ACBF SLAG 703.17","TON","703.17","1.80000","CERT",{"$f":"IF(ISNA(VLOOKUP(A1840,'(1) Project Reference Item List'!$B$2:$B$499,1,FALSE)),\"\",\"Y\")","v":""}]
["407E10001","TACK COAT, APP","GAL","SUBSTITUTE","104SS1","ASPHALT ANIONIC EMULS SLOW SET GRADE SS1","GAL","702.04","1.00000","CERT",{"$f":"IF(ISNA(VLOOKUP(A1841,'(1) Project Reference Item List'!$B$2:$B$499,1,FALSE)),\"\",\"Y\")","v":""}]
["407E10001","TACK COAT, APP","GAL","SUBSTITUTE","104TT","EMULSIFIED ASPHALT NON-TRACKING TACK","GAL","702.12","1.00000","CERT",{"$f":"IF(ISNA(VLOOKUP(A1842,'(1) Project Reference Item List'!$B$2:$B$499,1,FALSE)),\"\",\"Y\")","v":""}]
["408E10000","PRIME COAT","GAL","PRIMARY","102MC70","ASPHALT LIQUID MED CURING GRD MC-70","GAL","702.02","1.00000","CERT",{"$f":"IF(ISNA(VLOOKUP(A1843,'(1) Project Reference Item List'!$B$2:$B$499,1,FALSE)),\"\",\"Y\")","v":""}]
["632E76450","COMB SG SPP, 12.30, W/81.21 D13 & D12","EACH","COMPONENT","607BNW","SIGN/SIGNAL ANCHOR BOLT, NUT, WASHER","EACH","730.02","4.00000","QPL",{"$f":"IF(ISNA(VLOOKUP(A1844,'(1) Project Reference Item List'!$B$2:$B$499,1,FALSE)),\"\",\"Y\")","v":""}]
["632E76450","COMB SG SPP, 12.30, W/81.21 D13 & D12","EACH","PRIMARY","34200SS","SIGNAL SUPPORT","EACH","732.11","0.00000","CERT",{"$f":"IF(ISNA(VLOOKUP(A1845,'(1) Project Reference Item List'!$B$2:$B$499,1,FALSE)),\"\",\"Y\")","v":""}]
["632E77043","COMB SIG SUP, 81.21, D4, D3, D2, APP","EACH","PRIMARY","34200SS","SIGNAL SUPPORT","EACH","732.11","1.00000","CERT",{"$f":"IF(ISNA(VLOOKUP(A1846,'(1) Project Reference Item List'!$B$2:$B$499,1,FALSE)),\"\",\"Y\")","v":""}]
["632E76460","COMB SG SPP, 12.30, W/81.21 D14 & D2","EACH","PRIMARY","34200SS","SIGNAL SUPPORT","EACH","732.11","1.00000","CERT",{"$f":"IF(ISNA(VLOOKUP(A1847,'(1) Project Reference Item List'!$B$2:$B$499,1,FALSE)),\"\",\"Y\")","v":""}]
["632E76460","COMB SG SPP, 12.30, W/81.21 D14 & D2","EACH","COMPONENT","62660","REINFORCING, UNCOATED GRADE 60","LB","709.01","191.00000","CERT",{"$f":"IF(ISNA(VLOOKUP(A1848,'(1) Project Reference Item List'!$B$2:$B$499,1,FALSE)),\"\",\"Y\")","v":""}]
["632E76468","COMB SG SPP, 12.30, W/81.21 D14 & D4","EACH","PRIMARY","34200SS","SIGNAL SUPPORT","EACH","732.11","0.00000","CERT",{"$f":"IF(ISNA(VLOOKUP(A1849,'(1) Project Reference Item List'!$B$2:$B$499,1,FALSE)),\"\",\"Y\")","v":""}]
["632E76468","COMB SG SPP, 12.30, W/81.21 D14 & D4","EACH","COMPONENT","62660","REINFORCING, UNCOATED GRADE 60","LB","709.01","191.00000","CERT",{"$f":"IF(ISNA(VLOOKUP(A1850,'(1) Project Reference Item List'!$B$2:$B$499,1,FALSE)),\"\",\"Y\")","v":""}]
["632E76469","COMB SG SPP, 12.30, W/81.21 D14 & D4,APP","EACH","COMPONENT","607BNW","SIGN/SIGNAL ANCHOR BOLT, NUT, WASHER","EACH","730.02","4.00000","QPL",{"$f":"IF(ISNA(VLOOKUP(A1851,'(1) Project Reference Item List'!$B$2:$B$499,1,FALSE)),\"\",\"Y\")","v":""}]
["632E76469","COMB SG SPP, 12.30, W/81.21 D14 & D4,APP","EACH","PRIMARY","34200SS","SIGNAL SUPPORT","EACH","732.11","0.00000","CERT",{"$f":"IF(ISNA(VLOOKUP(A1852,'(1) Project Reference Item List'!$B$2:$B$499,1,FALSE)),\"\",\"Y\")","v":""}]
["632E77022","COMB SG SPP, 81.21, W/81.21 D2 & D2","EACH","PRIMARY","34200SS","SIGNAL SUPPORT","EACH","732.11","1.00000","CERT",{"$f":"IF(ISNA(VLOOKUP(A1853,'(1) Project Reference Item List'!$B$2:$B$499,1,FALSE)),\"\",\"Y\")","v":""}]
["632E77022","COMB SG SPP, 81.21, W/81.21 D2 & D2","EACH","COMPONENT","62660","REINFORCING, UNCOATED GRADE 60","LB","709.01","114.00000","CERT",{"$f":"IF(ISNA(VLOOKUP(A1854,'(1) Project Reference Item List'!$B$2:$B$499,1,FALSE)),\"\",\"Y\")","v":""}]
["632E77022","COMB SG SPP, 81.21, W/81.21 D2 & D2","EACH","COMPONENT","62650","REINFORCING, UNCOATED GRADE 50","LB","709.01","114.00000","CERT",{"$f":"IF(ISNA(VLOOKUP(A1855,'(1) Project Reference Item List'!$B$2:$B$499,1,FALSE)),\"\",\"Y\")","v":""}]
["632E77022","COMB SG SPP, 81.21, W/81.21 D2 & D2","EACH","COMPONENT","62640","REINFORCING, UNCOATED GRADE 40","LB","709.01","114.00000","CERT",{"$f":"IF(ISNA(VLOOKUP(A1856,'(1) Project Reference Item List'!$B$2:$B$499,1,FALSE)),\"\",\"Y\")","v":""}]
["632E77032","COMB SG SPP, 81.21, W/81.21 D3 & D1","EACH","COMPONENT","62675","REINFORCING, UNCOATED GRADE 75","LB","709.01","129.00000","CERT",{"$f":"IF(ISNA(VLOOKUP(A1857,'(1) Project Reference Item List'!$B$2:$B$499,1,FALSE)),\"\",\"Y\")","v":""}]
["632E77032","COMB SG SPP, 81.21, W/81.21 D3 & D1","EACH","COMPONENT","62650","REINFORCING, UNCOATED GRADE 50","LB","709.01","129.00000","CERT",{"$f":"IF(ISNA(VLOOKUP(A1858,'(1) Project Reference Item List'!$B$2:$B$499,1,FALSE)),\"\",\"Y\")","v":""}]
["632E77032","COMB SG SPP, 81.21, W/81.21 D3 & D1","EACH","COMPONENT","62640","REINFORCING, UNCOATED GRADE 40","LB","709.01","129.00000","CERT",{"$f":"IF(ISNA(VLOOKUP(A1859,'(1) Project Reference Item List'!$B$2:$B$499,1,FALSE)),\"\",\"Y\")","v":""}]
["632E77032","COMB SG SPP, 81.21, W/81.21 D3 & D1","EACH","COMPONENT","607BNW","SIGN/SIGNAL ANCHOR BOLT, NUT, WASHER","EACH","730.02","4.00000","QPL",{"$f":"IF(ISNA(VLOOKUP(A1860,'(1) Project Reference Item List'!$B$2:$B$499,1,FALSE)),\"\",\"Y\")","v":""}]
["638E03504","20\" DIP CL 53, MECH JTS & FTGS","FT","SUBSTITUTE","073057","57 GRAVEL 703","TON","703.18","0.00000","CERT",{"$f":"IF(ISNA(VLOOKUP(A1861,'(1) Project Reference Item List'!$B$2:$B$499,1,FALSE)),\"\",\"Y\")","v":""}]
["638E03504","20\" DIP CL 53, MECH JTS & FTGS","FT","PRIMARY","5153MJ","DUCT IRON PIPE CL53 MECHANICAL JOINT","FT","748.01(53)","1.00000","QPL",{"$f":"IF(ISNA(VLOOKUP(A1862,'(1) Project Reference Item List'!$B$2:$B$499,1,FALSE)),\"\",\"Y\")","v":""}]
["638E03504","20\" DIP CL 53, MECH JTS & FTGS","FT","COMPONENT","215QCMISC","QC MISCELLANEOUS 4000 PSI","CY","499","0.00000","JCTL",{"$f":"IF(ISNA(VLOOKUP(A1863,'(1) Project Reference Item List'!$B$2:$B$499,1,FALSE)),\"\",\"Y\")","v":""}]
["638E03504","20\" DIP CL 53, MECH JTS & FTGS","FT","SUBSTITUTE","09AGS8","GRANULATED (BF) SLAG 703.08","TON","703.08","0.00000","CERT",{"$f":"IF(ISNA(VLOOKUP(A1864,'(1) Project Reference Item List'!$B$2:$B$499,1,FALSE)),\"\",\"Y\")","v":""}]
["638E03504","20\" DIP CL 53, MECH JTS & FTGS","FT","SUBSTITUTE","07E057","57 RECYCLED CONCRETE (703.11 703.18)","TON","703.18","0.00000","CERT",{"$f":"IF(ISNA(VLOOKUP(A1865,'(1) Project Reference Item List'!$B$2:$B$499,1,FALSE)),\"\",\"Y\")","v":""}]
["638E03504","20\" DIP CL 53, MECH JTS & FTGS","FT","SUBSTITUTE","075057","57 CRUSHED STONE (703)","TON","703.18","0.00000","CERT",{"$f":"IF(ISNA(VLOOKUP(A1866,'(1) Project Reference Item List'!$B$2:$B$499,1,FALSE)),\"\",\"Y\")","v":""}]
["638E03508","20\" DIP CL 56, MECH JTS & FTGS","FT","SUBSTITUTE","073057","57 GRAVEL 703","TON","703.18","0.00000","CERT",{"$f":"IF(ISNA(VLOOKUP(A1867,'(1) Project Reference Item List'!$B$2:$B$499,1,FALSE)),\"\",\"Y\")","v":""}]
["638E03508","20\" DIP CL 56, MECH JTS & FTGS","FT","PRIMARY","5156MJ","DUCT IRON PIPE CL56 MECHANICAL JOINT","FT","748.01(56)","1.00000","JCTL",{"$f":"IF(ISNA(VLOOKUP(A1868,'(1) Project Reference Item List'!$B$2:$B$499,1,FALSE)),\"\",\"Y\")","v":""}]
["638E03508","20\" DIP CL 56, MECH JTS & FTGS","FT","COMPONENT","215QCMISC","QC MISCELLANEOUS 4000 PSI","CY","499","0.00000","JCTL",{"$f":"IF(ISNA(VLOOKUP(A1869,'(1) Project Reference Item List'!$B$2:$B$499,1,FALSE)),\"\",\"Y\")","v":""}]
["638E03508","20\" DIP CL 56, MECH JTS & FTGS","FT","SUBSTITUTE","09AGS8","GRANULATED (BF) SLAG 703.08","TON","703.08","0.00000","CERT",{"$f":"IF(ISNA(VLOOKUP(A1870,'(1) Project Reference Item List'!$B$2:$B$499,1,FALSE)),\"\",\"Y\")","v":""}]
["638E03508","20\" DIP CL 56, MECH JTS & FTGS","FT","SUBSTITUTE","07E057","57 RECYCLED CONCRETE (703.11 703.18)","TON","703.18","0.00000","CERT",{"$f":"IF(ISNA(VLOOKUP(A1871,'(1) Project Reference Item List'!$B$2:$B$499,1,FALSE)),\"\",\"Y\")","v":""}]
["638E03508","20\" DIP CL 56, MECH JTS & FTGS","FT","SUBSTITUTE","076057","57 ACBF SLAG (703)","TON","703.18","0.00000","CERT",{"$f":"IF(ISNA(VLOOKUP(A1872,'(1) Project Reference Item List'!$B$2:$B$499,1,FALSE)),\"\",\"Y\")","v":""}]
["638E03508","20\" DIP CL 56, MECH JTS & FTGS","FT","SUBSTITUTE","075057","57 CRUSHED STONE (703)","TON","703.18","0.00000","CERT",{"$f":"IF(ISNA(VLOOKUP(A1873,'(1) Project Reference Item List'!$B$2:$B$499,1,FALSE)),\"\",\"Y\")","v":""}]
["638E03509","20\" DIP CL 56, MJ & FTGS, APP","FT","SUBSTITUTE","07E057","57 RECYCLED CONCRETE (703.11 703.18)","TON","703.18","0.00000","CERT",{"$f":"IF(ISNA(VLOOKUP(A1874,'(1) Project Reference Item List'!$B$2:$B$499,1,FALSE)),\"\",\"Y\")","v":""}]
["638E03509","20\" DIP CL 56, MJ & FTGS, APP","FT","SUBSTITUTE","076057","57 ACBF SLAG (703)","TON","703.18","0.00000","CERT",{"$f":"IF(ISNA(VLOOKUP(A1875,'(1) Project Reference Item List'!$B$2:$B$499,1,FALSE)),\"\",\"Y\")","v":""}]
["638E03509","20\" DIP CL 56, MJ & FTGS, APP","FT","SUBSTITUTE","075057","57 CRUSHED STONE (703)","TON","703.18","0.00000","CERT",{"$f":"IF(ISNA(VLOOKUP(A1876,'(1) Project Reference Item List'!$B$2:$B$499,1,FALSE)),\"\",\"Y\")","v":""}]
["638E03509","20\" DIP CL 56, MJ & FTGS, APP","FT","SUBSTITUTE","074057","57 CRUSHED GRAVEL (703)","TON","703.18","0.00000","CERT",{"$f":"IF(ISNA(VLOOKUP(A1877,'(1) Project Reference Item List'!$B$2:$B$499,1,FALSE)),\"\",\"Y\")","v":""}]
["638E03509","20\" DIP CL 56, MJ & FTGS, APP","FT","SUBSTITUTE","073057","57 GRAVEL 703","TON","703.18","0.00000","CERT",{"$f":"IF(ISNA(VLOOKUP(A1878,'(1) Project Reference Item List'!$B$2:$B$499,1,FALSE)),\"\",\"Y\")","v":""}]
["638E03509","20\" DIP CL 56, MJ & FTGS, APP","FT","PRIMARY","5156MJ","DUCT IRON PIPE CL56 MECHANICAL JOINT","FT","748.01(56)","1.00000","JCTL",{"$f":"IF(ISNA(VLOOKUP(A1879,'(1) Project Reference Item List'!$B$2:$B$499,1,FALSE)),\"\",\"Y\")","v":""}]
["638E03509","20\" DIP CL 56, MJ & FTGS, APP","FT","COMPONENT","215QCMISC","QC MISCELLANEOUS 4000 PSI","CY","499","0.00000","JCTL",{"$f":"IF(ISNA(VLOOKUP(A1880,'(1) Project Reference Item List'!$B$2:$B$499,1,FALSE)),\"\",\"Y\")","v":""}]
["638E03800","24\" DIP CL 52, PO JTS & FTGS","FT","SUBSTITUTE","073057","57 GRAVEL 703","TON","703.18","0.00000","CERT",{"$f":"IF(ISNA(VLOOKUP(A1881,'(1) Project Reference Item List'!$B$2:$B$499,1,FALSE)),\"\",\"Y\")","v":""}]
["638E03800","24\" DIP CL 52, PO JTS & FTGS","FT","PRIMARY","5152PO","DUCT IRON PIPE CL52 PUSH-ON JOINT","FT","748.01(52)","1.00000","QPL",{"$f":"IF(ISNA(VLOOKUP(A1882,'(1) Project Reference Item List'!$B$2:$B$499,1,FALSE)),\"\",\"Y\")","v":""}]
["638E03800","24\" DIP CL 52, PO JTS & FTGS","FT","COMPONENT","215QCMISC","QC MISCELLANEOUS 4000 PSI","CY","499","0.00000","JCTL",{"$f":"IF(ISNA(VLOOKUP(A1883,'(1) Project Reference Item List'!$B$2:$B$499,1,FALSE)),\"\",\"Y\")","v":""}]
["638E03800","24\" DIP CL 52, PO JTS & FTGS","FT","SUBSTITUTE","09AGS8","GRANULATED (BF) SLAG 703.08","TON","703.08","0.00000","CERT",{"$f":"IF(ISNA(VLOOKUP(A1884,'(1) Project Reference Item List'!$B$2:$B$499,1,FALSE)),\"\",\"Y\")","v":""}]
["638E03800","24\" DIP CL 52, PO JTS & FTGS","FT","SUBSTITUTE","07E057","57 RECYCLED CONCRETE (703.11 703.18)","TON","703.18","0.00000","CERT",{"$f":"IF(ISNA(VLOOKUP(A1885,'(1) Project Reference Item List'!$B$2:$B$499,1,FALSE)),\"\",\"Y\")","v":""}]
["638E03800","24\" DIP CL 52, PO JTS & FTGS","FT","SUBSTITUTE","076057","57 ACBF SLAG (703)","TON","703.18","0.00000","CERT",{"$f":"IF(ISNA(VLOOKUP(A1886,'(1) Project Reference Item List'!$B$2:$B$499,1,FALSE)),\"\",\"Y\")","v":""}]
["638E03800","24\" DIP CL 52, PO JTS & FTGS","FT","SUBSTITUTE","075057","57 CRUSHED STONE (703)","TON","703.18","0.00000","CERT",{"$f":"IF(ISNA(VLOOKUP(A1887,'(1) Project Reference Item List'!$B$2:$B$499,1,FALSE)),\"\",\"Y\")","v":""}]
["638E03804","24\" DIP CL 53, PO JTS & FTGS","FT","SUBSTITUTE","076057","57 ACBF SLAG (703)","TON","703.18","0.00000","CERT",{"$f":"IF(ISNA(VLOOKUP(A1888,'(1) Project Reference Item List'!$B$2:$B$499,1,FALSE)),\"\",\"Y\")","v":""}]
["638E03804","24\" DIP CL 53, PO JTS & FTGS","FT","PRIMARY","5153PO","DUCT IRON PIPE CL53 PUSH-ON JOINT","FT","748.01(53)","1.00000","QPL",{"$f":"IF(ISNA(VLOOKUP(A1889,'(1) Project Reference Item List'!$B$2:$B$499,1,FALSE)),\"\",\"Y\")","v":""}]
["638E03804","24\" DIP CL 53, PO JTS & FTGS","FT","COMPONENT","215QCMISC","QC MISCELLANEOUS 4000 PSI","CY","499","0.00000","JCTL",{"$f":"IF(ISNA(VLOOKUP(A1890,'(1) Project Reference Item List'!$B$2:$B$499,1,FALSE)),\"\",\"Y\")","v":""}]
["638E03804","24\" DIP CL 53, PO JTS & FTGS","FT","SUBSTITUTE","09AGS8","GRANULATED (BF) SLAG 703.08","TON","703.08","0.00000","CERT",{"$f":"IF(ISNA(VLOOKUP(A1891,'(1) Project Reference Item List'!$B$2:$B$499,1,FALSE)),\"\",\"Y\")","v":""}]
["638E20392","SPECIAL - 36\" DIP 54 BLTS-REST JTS & FTG","FT","COMPONENT","21501","CONCRETE PORTLAND CEMENT CLASS C","CY","499 511","0.00000","JCTL",{"$f":"IF(ISNA(VLOOKUP(A1892,'(1) Project Reference Item List'!$B$2:$B$499,1,FALSE)),\"\",\"Y\")","v":""}]
["638E20392","SPECIAL - 36\" DIP 54 BLTS-REST JTS & FTG","FT","SUBSTITUTE","09AGS8","GRANULATED (BF) SLAG 703.08","TON","703.08","0.00000","CERT",{"$f":"IF(ISNA(VLOOKUP(A1893,'(1) Project Reference Item List'!$B$2:$B$499,1,FALSE)),\"\",\"Y\")","v":""}]
["638E20392","SPECIAL - 36\" DIP 54 BLTS-REST JTS & FTG","FT","SUBSTITUTE","07E057","57 RECYCLED CONCRETE (703.11 703.18)","TON","703.18","0.00000","CERT",{"$f":"IF(ISNA(VLOOKUP(A1894,'(1) Project Reference Item List'!$B$2:$B$499,1,FALSE)),\"\",\"Y\")","v":""}]
["638E20392","SPECIAL - 36\" DIP 54 BLTS-REST JTS & FTG","FT","SUBSTITUTE","075057","57 CRUSHED STONE (703)","TON","703.18","0.00000","CERT",{"$f":"IF(ISNA(VLOOKUP(A1895,'(1) Project Reference Item List'!$B$2:$B$499,1,FALSE)),\"\",\"Y\")","v":""}]
["638E20392","SPECIAL - 36\" DIP 54 BLTS-REST JTS & FTG","FT","PRIMARY","5150BR","DUCT IRON PIPE CL50 BOLTLESS RESTRAINED","FT","748.01(50)","0.00000","QPL",{"$f":"IF(ISNA(VLOOKUP(A1896,'(1) Project Reference Item List'!$B$2:$B$499,1,FALSE)),\"\",\"Y\")","v":""}]
["638E20392","SPECIAL - 36\" DIP 54 BLTS-REST JTS & FTG","FT","SUBSTITUTE","21507","CONCRETE PORTLAND CEMENT CLASS C OPT 2","CY","499 511","0.00000","JCTL",{"$f":"IF(ISNA(VLOOKUP(A1897,'(1) Project Reference Item List'!$B$2:$B$499,1,FALSE)),\"\",\"Y\")","v":""}]
["638E20406","SPECIAL - 36\" MS 56 MJ & FTGS, MS","FT","PRIMARY","5152MJ","DUCT IRON PIPE CL52 MECHANICAL JOINT","FT","748.01(52)","0.00000","QPL",{"$f":"IF(ISNA(VLOOKUP(A1898,'(1) Project Reference Item List'!$B$2:$B$499,1,FALSE)),\"\",\"Y\")","v":""}]
["638E20406","SPECIAL - 36\" MS 56 MJ & FTGS, MS","FT","PRIMARY","510DI1","DUCTILE IRON PIPE FITTING, MECH. JOINT","EACH","748.01","0.00000","QPL",{"$f":"IF(ISNA(VLOOKUP(A1899,'(1) Project Reference Item List'!$B$2:$B$499,1,FALSE)),\"\",\"Y\")","v":""}]
["638E20406","SPECIAL - 36\" MS 56 MJ & FTGS, MS","FT","SUBSTITUTE","21504","CONCRETE PORTLAND CEMENT CLASS C OPT 1","CY","499 511","0.00000","JCTL",{"$f":"IF(ISNA(VLOOKUP(A1900,'(1) Project Reference Item List'!$B$2:$B$499,1,FALSE)),\"\",\"Y\")","v":""}]
["638E20406","SPECIAL - 36\" MS 56 MJ & FTGS, MS","FT","COMPONENT","21501","CONCRETE PORTLAND CEMENT CLASS C","CY","499 511","0.00000","JCTL",{"$f":"IF(ISNA(VLOOKUP(A1901,'(1) Project Reference Item List'!$B$2:$B$499,1,FALSE)),\"\",\"Y\")","v":""}]
["638E20406","SPECIAL - 36\" MS 56 MJ & FTGS, MS","FT","SUBSTITUTE","09AGS8","GRANULATED (BF) SLAG 703.08","TON","703.08","0.00000","CERT",{"$f":"IF(ISNA(VLOOKUP(A1902,'(1) Project Reference Item List'!$B$2:$B$499,1,FALSE)),\"\",\"Y\")","v":""}]
["638E20406","SPECIAL - 36\" MS 56 MJ & FTGS, MS","FT","SUBSTITUTE","07E057","57 RECYCLED CONCRETE (703.11 703.18)","TON","703.18","0.00000","CERT",{"$f":"IF(ISNA(VLOOKUP(A1903,'(1) Project Reference Item List'!$B$2:$B$499,1,FALSE)),\"\",\"Y\")","v":""}]
["638E20410","SPECIAL - 36\" MS 56 BLTS-REST JTS & FTGS","FT","SUBSTITUTE","075057","57 CRUSHED STONE (703)","TON","703.18","0.00000","CERT",{"$f":"IF(ISNA(VLOOKUP(A1904,'(1) Project Reference Item List'!$B$2:$B$499,1,FALSE)),\"\",\"Y\")","v":""}]
["638E20410","SPECIAL - 36\" MS 56 BLTS-REST JTS & FTGS","FT","PRIMARY","5150BR","DUCT IRON PIPE CL50 BOLTLESS RESTRAINED","FT","748.01(50)","0.00000","QPL",{"$f":"IF(ISNA(VLOOKUP(A1905,'(1) Project Reference Item List'!$B$2:$B$499,1,FALSE)),\"\",\"Y\")","v":""}]
["638E20410","SPECIAL - 36\" MS 56 BLTS-REST JTS & FTGS","FT","SUBSTITUTE","21507","CONCRETE PORTLAND CEMENT CLASS C OPT 2","CY","499 511","0.00000","JCTL",{"$f":"IF(ISNA(VLOOKUP(A1906,'(1) Project Reference Item List'!$B$2:$B$499,1,FALSE)),\"\",\"Y\")","v":""}]
["638E20410","SPECIAL - 36\" MS 56 BLTS-REST JTS & FTGS","FT","SUBSTITUTE","21504","CONCRETE PORTLAND CEMENT CLASS C OPT 1","CY","499 511","0.00000","JCTL",{"$f":"IF(ISNA(VLOOKUP(A1907,'(1) Project Reference Item List'!$B$2:$B$499,1,FALSE)),\"\",\"Y\")","v":""}]
["638E20410","SPECIAL - 36\" MS 56 BLTS-REST JTS & FTGS","FT","COMPONENT","21501","CONCRETE PORTLAND CEMENT CLASS C","CY","499 511","0.00000","JCTL",{"$f":"IF(ISNA(VLOOKUP(A1908,'(1) Project Reference Item List'!$B$2:$B$499,1,FALSE)),\"\",\"Y\")","v":""}]
["638E20410","SPECIAL - 36\" MS 56 BLTS-REST JTS & FTGS","FT","SUBSTITUTE","09AGS8","GRANULATED (BF) SLAG 703.08","TON","703.08","0.00000","CERT",{"$f":"IF(ISNA(VLOOKUP(A1909,'(1) Project Reference Item List'!$B$2:$B$499,1,FALSE)),\"\",\"Y\")","v":""}]
["638E20418","SPECIAL - 6\" PVC PIPE & FTGS, MS","FT","COMPONENT","21501","CONCRETE PORTLAND CEMENT CLASS C","CY","499 511","0.00000","JCTL",{"$f":"IF(ISNA(VLOOKUP(A1910,'(1) Project Reference Item List'!$B$2:$B$499,1,FALSE)),\"\",\"Y\")","v":""}]
["638E20418","SPECIAL - 6\" PVC PIPE & FTGS, MS","FT","SUBSTITUTE","09AGS8","GRANULATED (BF) SLAG 703.08","TON","703.08","0.00000","CERT",{"$f":"IF(ISNA(VLOOKUP(A1911,'(1) Project Reference Item List'!$B$2:$B$499,1,FALSE)),\"\",\"Y\")","v":""}]
["638E20418","SPECIAL - 6\" PVC PIPE & FTGS, MS","FT","SUBSTITUTE","07E057","57 RECYCLED CONCRETE (703.11 703.18)","TON","703.18","0.00000","CERT",{"$f":"IF(ISNA(VLOOKUP(A1912,'(1) Project Reference Item List'!$B$2:$B$499,1,FALSE)),\"\",\"Y\")","v":""}]
["638E20418","SPECIAL - 6\" PVC PIPE & FTGS, MS","FT","SUBSTITUTE","076057","57 ACBF SLAG (703)","TON","703.18","0.00000","CERT",{"$f":"IF(ISNA(VLOOKUP(A1913,'(1) Project Reference Item List'!$B$2:$B$499,1,FALSE)),\"\",\"Y\")","v":""}]
["638E20418","SPECIAL - 6\" PVC PIPE & FTGS, MS","FT","SUBSTITUTE","075057","57 CRUSHED STONE (703)","TON","703.18","0.00000","CERT",{"$f":"IF(ISNA(VLOOKUP(A1914,'(1) Project Reference Item List'!$B$2:$B$499,1,FALSE)),\"\",\"Y\")","v":""}]
["638E20418","SPECIAL - 6\" PVC PIPE & FTGS, MS","FT","SUBSTITUTE","074057","57 CRUSHED GRAVEL (703)","TON","703.18","0.00000","CERT",{"$f":"IF(ISNA(VLOOKUP(A1915,'(1) Project Reference Item List'!$B$2:$B$499,1,FALSE)),\"\",\"Y\")","v":""}]
["638E20418","SPECIAL - 6\" PVC PIPE & FTGS, MS","FT","PRIMARY","74802PVC","PVC WATER PIPE","FT","748.02","1.00000","QPL",{"$f":"IF(ISNA(VLOOKUP(A1916,'(1) Project Reference Item List'!$B$2:$B$499,1,FALSE)),\"\",\"Y\")","v":""}]
["638E20418","SPECIAL - 6\" PVC PIPE & FTGS, MS","FT","SUBSTITUTE","21507","CONCRETE PORTLAND CEMENT CLASS C OPT 2","CY","499 511","0.00000","JCTL",{"$f":"IF(ISNA(VLOOKUP(A1917,'(1) Project Reference Item List'!$B$2:$B$499,1,FALSE)),\"\",\"Y\")","v":""}]
["638E20844","SPECIAL - INSTALL 1 1/2\" COPPER WATER SE","FT","COMPONENT","7481201","TAPPING SADDLE","EACH","748.12","0.00000","QPL",{"$f":"IF(ISNA(VLOOKUP(A1918,'(1) Project Reference Item List'!$B$2:$B$499,1,FALSE)),\"\",\"Y\")","v":""}]
["638E20844","SPECIAL - INSTALL 1 1/2\" COPPER WATER SE","FT","COMPONENT","7481302","SERVICE BOX","EACH","748.13","0.00000","QPL",{"$f":"IF(ISNA(VLOOKUP(A1919,'(1) Project Reference Item List'!$B$2:$B$499,1,FALSE)),\"\",\"Y\")","v":""}]
["638E20844","SPECIAL - INSTALL 1 1/2\" COPPER WATER SE","FT","COMPONENT","7481301","SERVICE STOP","EACH","748.13","0.00000","QPL",{"$f":"IF(ISNA(VLOOKUP(A1920,'(1) Project Reference Item List'!$B$2:$B$499,1,FALSE)),\"\",\"Y\")","v":""}]
["632E77122","COMB SG SPP, 12.30, W/81.21 D4 & D4","EACH","PRIMARY","34200SS","SIGNAL SUPPORT","EACH","732.11","1.00000","CERT",{"$f":"IF(ISNA(VLOOKUP(A1921,'(1) Project Reference Item List'!$B$2:$B$499,1,FALSE)),\"\",\"Y\")","v":""}]
["632E77122","COMB SG SPP, 12.30, W/81.21 D4 & D4","EACH","COMPONENT","62660","REINFORCING, UNCOATED GRADE 60","LB","709.01","114.00000","CERT",{"$f":"IF(ISNA(VLOOKUP(A1922,'(1) Project Reference Item List'!$B$2:$B$499,1,FALSE)),\"\",\"Y\")","v":""}]
["632E77122","COMB SG SPP, 12.30, W/81.21 D4 & D4","EACH","COMPONENT","62650","REINFORCING, UNCOATED GRADE 50","LB","709.01","114.00000","CERT",{"$f":"IF(ISNA(VLOOKUP(A1923,'(1) Project Reference Item List'!$B$2:$B$499,1,FALSE)),\"\",\"Y\")","v":""}]
["632E77052","COMB SG SPP, 81.21, W/81.21 D3 & D3","EACH","PRIMARY","34200SS","SIGNAL SUPPORT","EACH","732.11","1.00000","CERT",{"$f":"IF(ISNA(VLOOKUP(A1924,'(1) Project Reference Item List'!$B$2:$B$499,1,FALSE)),\"\",\"Y\")","v":""}]
["632E77052","COMB SG SPP, 81.21, W/81.21 D3 & D3","EACH","COMPONENT","62675","REINFORCING, UNCOATED GRADE 75","LB","709.01","129.00000","CERT",{"$f":"IF(ISNA(VLOOKUP(A1925,'(1) Project Reference Item List'!$B$2:$B$499,1,FALSE)),\"\",\"Y\")","v":""}]
["632E77052","COMB SG SPP, 81.21, W/81.21 D3 & D3","EACH","COMPONENT","62660","REINFORCING, UNCOATED GRADE 60","LB","709.01","129.00000","CERT",{"$f":"IF(ISNA(VLOOKUP(A1926,'(1) Project Reference Item List'!$B$2:$B$499,1,FALSE)),\"\",\"Y\")","v":""}]
["632E77052","COMB SG SPP, 81.21, W/81.21 D3 & D3","EACH","PRIMARY","62650","REINFORCING, UNCOATED GRADE 50","LB","709.01","129.00000","CERT",{"$f":"IF(ISNA(VLOOKUP(A1927,'(1) Project Reference Item List'!$B$2:$B$499,1,FALSE)),\"\",\"Y\")","v":""}]
["632E77052","COMB SG SPP, 81.21, W/81.21 D3 & D3","EACH","PRIMARY","62640","REINFORCING, UNCOATED GRADE 40","LB","709.01","129.00000","CERT",{"$f":"IF(ISNA(VLOOKUP(A1928,'(1) Project Reference Item List'!$B$2:$B$499,1,FALSE)),\"\",\"Y\")","v":""}]
["632E77092","COMB SG SPP, 81.21, W/81.21 D11 & D1","EACH","PRIMARY","34200SS","SIGNAL SUPPORT","EACH","732.11","1.00000","CERT",{"$f":"IF(ISNA(VLOOKUP(A1929,'(1) Project Reference Item List'!$B$2:$B$499,1,FALSE)),\"\",\"Y\")","v":""}]
["632E77092","COMB SG SPP, 81.21, W/81.21 D11 & D1","EACH","COMPONENT","62675","REINFORCING, UNCOATED GRADE 75","LB","709.01","129.00000","CERT",{"$f":"IF(ISNA(VLOOKUP(A1930,'(1) Project Reference Item List'!$B$2:$B$499,1,FALSE)),\"\",\"Y\")","v":""}]
["632E77092","COMB SG SPP, 81.21, W/81.21 D11 & D1","EACH","COMPONENT","62660","REINFORCING, UNCOATED GRADE 60","LB","709.01","129.00000","CERT",{"$f":"IF(ISNA(VLOOKUP(A1931,'(1) Project Reference Item List'!$B$2:$B$499,1,FALSE)),\"\",\"Y\")","v":""}]
["632E77092","COMB SG SPP, 81.21, W/81.21 D11 & D1","EACH","COMPONENT","62650","REINFORCING, UNCOATED GRADE 50","LB","709.01","129.00000","CERT",{"$f":"IF(ISNA(VLOOKUP(A1932,'(1) Project Reference Item List'!$B$2:$B$499,1,FALSE)),\"\",\"Y\")","v":""}]
["632E77092","COMB SG SPP, 81.21, W/81.21 D11 & D1","EACH","COMPONENT","62640","REINFORCING, UNCOATED GRADE 40","LB","709.01","129.00000","CERT",{"$f":"IF(ISNA(VLOOKUP(A1933,'(1) Project Reference Item List'!$B$2:$B$499,1,FALSE)),\"\",\"Y\")","v":""}]
["632E77102","COMB SG SPP, 81.21, W/81.21 D11 & D2","EACH","COMPONENT","607BNW","SIGN/SIGNAL ANCHOR BOLT, NUT, WASHER","EACH","730.02","4.00000","QPL",{"$f":"IF(ISNA(VLOOKUP(A1934,'(1) Project Reference Item List'!$B$2:$B$499,1,FALSE)),\"\",\"Y\")","v":""}]
["632E77102","COMB SG SPP, 81.21, W/81.21 D11 & D2","EACH","PRIMARY","34200SS","SIGNAL SUPPORT","EACH","732.11","1.00000","CERT",{"$f":"IF(ISNA(VLOOKUP(A1935,'(1) Project Reference Item List'!$B$2:$B$499,1,FALSE)),\"\",\"Y\")","v":""}]
["632E77102","COMB SG SPP, 81.21, W/81.21 D11 & D2","EACH","COMPONENT","62675","REINFORCING, UNCOATED GRADE 75","LB","709.01","129.00000","CERT",{"$f":"IF(ISNA(VLOOKUP(A1936,'(1) Project Reference Item List'!$B$2:$B$499,1,FALSE)),\"\",\"Y\")","v":""}]
["632E77102","COMB SG SPP, 81.21, W/81.21 D11 & D2","EACH","COMPONENT","62660","REINFORCING, UNCOATED GRADE 60","LB","709.01","129.00000","CERT",{"$f":"IF(ISNA(VLOOKUP(A1937,'(1) Project Reference Item List'!$B$2:$B$499,1,FALSE)),\"\",\"Y\")","v":""}]
["632E77102","COMB SG SPP, 81.21, W/81.21 D11 & D2","EACH","COMPONENT","62650","REINFORCING, UNCOATED GRADE 50","LB","709.01","129.00000","CERT",{"$f":"IF(ISNA(VLOOKUP(A1938,'(1) Project Reference Item List'!$B$2:$B$499,1,FALSE)),\"\",\"Y\")","v":""}]
["632E77132","COMB SG SPP, 12.30, W/81.21 D11 & D4","EACH","PRIMARY","34200SS","SIGNAL SUPPORT","EACH","732.11","1.00000","CERT",{"$f":"IF(ISNA(VLOOKUP(A1939,'(1) Project Reference Item List'!$B$2:$B$499,1,FALSE)),\"\",\"Y\")","v":""}]
["632E77132","COMB SG SPP, 12.30, W/81.21 D11 & D4","EACH","COMPONENT","62660","REINFORCING, UNCOATED GRADE 60","LB","709.01","144.00000","CERT",{"$f":"IF(ISNA(VLOOKUP(A1940,'(1) Project Reference Item List'!$B$2:$B$499,1,FALSE)),\"\",\"Y\")","v":""}]
["632E77133","COMB SG SPP, 12.30, W/81.21 D11 & D4, AP","EACH","COMPONENT","62660","REINFORCING, UNCOATED GRADE 60","LB","709.01","144.00000","CERT",{"$f":"IF(ISNA(VLOOKUP(A1941,'(1) Project Reference Item List'!$B$2:$B$499,1,FALSE)),\"\",\"Y\")","v":""}]
["632E77133","COMB SG SPP, 12.30, W/81.21 D11 & D4, AP","EACH","COMPONENT","607BNW","SIGN/SIGNAL ANCHOR BOLT, NUT, WASHER","EACH","730.02","4.00000","QPL",{"$f":"IF(ISNA(VLOOKUP(A1942,'(1) Project Reference Item List'!$B$2:$B$499,1,FALSE)),\"\",\"Y\")","v":""}]
["632E77082","COMB SG SPP, 81.21, W/81.21 D4 & D3","EACH","COMPONENT","607BNW","SIGN/SIGNAL ANCHOR BOLT, NUT, WASHER","EACH","730.02","4.00000","QPL",{"$f":"IF(ISNA(VLOOKUP(A1943,'(1) Project Reference Item List'!$B$2:$B$499,1,FALSE)),\"\",\"Y\")","v":""}]
["632E77082","COMB SG SPP, 81.21, W/81.21 D4 & D3","EACH","PRIMARY","34200SS","SIGNAL SUPPORT","EACH","732.11","1.00000","CERT",{"$f":"IF(ISNA(VLOOKUP(A1944,'(1) Project Reference Item List'!$B$2:$B$499,1,FALSE)),\"\",\"Y\")","v":""}]
["632E77082","COMB SG SPP, 81.21, W/81.21 D4 & D3","EACH","SUBSTITUTE","62675","REINFORCING, UNCOATED GRADE 75","LB","709.01","129.00000","CERT",{"$f":"IF(ISNA(VLOOKUP(A1945,'(1) Project Reference Item List'!$B$2:$B$499,1,FALSE)),\"\",\"Y\")","v":""}]
["632E77082","COMB SG SPP, 81.21, W/81.21 D4 & D3","EACH","COMPONENT","62660","REINFORCING, UNCOATED GRADE 60","LB","709.01","129.00000","CERT",{"$f":"IF(ISNA(VLOOKUP(A1946,'(1) Project Reference Item List'!$B$2:$B$499,1,FALSE)),\"\",\"Y\")","v":""}]
["632E77082","COMB SG SPP, 81.21, W/81.21 D4 & D3","EACH","SUBSTITUTE","62650","REINFORCING, UNCOATED GRADE 50","LB","709.01","129.00000","CERT",{"$f":"IF(ISNA(VLOOKUP(A1947,'(1) Project Reference Item List'!$B$2:$B$499,1,FALSE)),\"\",\"Y\")","v":""}]
["638E05000","1-1/2\" COPPER SVC BRANCH","FT","PRIMARY","74800CU","COPPER WATER TUBING","FT","748.05","1.00000","QPL",{"$f":"IF(ISNA(VLOOKUP(A1948,'(1) Project Reference Item List'!$B$2:$B$499,1,FALSE)),\"\",\"Y\")","v":""}]
["638E05000","1-1/2\" COPPER SVC BRANCH","FT","COMPONENT","7481302","SERVICE BOX","EACH","748.13","0.00000","QPL",{"$f":"IF(ISNA(VLOOKUP(A1949,'(1) Project Reference Item List'!$B$2:$B$499,1,FALSE)),\"\",\"Y\")","v":""}]
["638E05000","1-1/2\" COPPER SVC BRANCH","FT","COMPONENT","7481301","SERVICE STOP","EACH","748.13","0.00000","QPL",{"$f":"IF(ISNA(VLOOKUP(A1950,'(1) Project Reference Item List'!$B$2:$B$499,1,FALSE)),\"\",\"Y\")","v":""}]
["638E05000","1-1/2\" COPPER SVC BRANCH","FT","COMPONENT","7481202","CORPORATION STOP","EACH","748.12","0.00000","QPL",{"$f":"IF(ISNA(VLOOKUP(A1951,'(1) Project Reference Item List'!$B$2:$B$499,1,FALSE)),\"\",\"Y\")","v":""}]
["638E05100","2\" COPPER SERVICE BRANCH","FT","PRIMARY","74800CU","COPPER WATER TUBING","FT","748.05","1.00000","QPL",{"$f":"IF(ISNA(VLOOKUP(A1952,'(1) Project Reference Item List'!$B$2:$B$499,1,FALSE)),\"\",\"Y\")","v":""}]
["638E05100","2\" COPPER SERVICE BRANCH","FT","COMPONENT","7481302","SERVICE BOX","EACH","748.13","0.00000","QPL",{"$f":"IF(ISNA(VLOOKUP(A1953,'(1) Project Reference Item List'!$B$2:$B$499,1,FALSE)),\"\",\"Y\")","v":""}]
["638E05100","2\" COPPER SERVICE BRANCH","FT","COMPONENT","7481301","SERVICE STOP","EACH","748.13","0.00000","QPL",{"$f":"IF(ISNA(VLOOKUP(A1954,'(1) Project Reference Item List'!$B$2:$B$499,1,FALSE)),\"\",\"Y\")","v":""}]
["638E05100","2\" COPPER SERVICE BRANCH","FT","COMPONENT","7481202","CORPORATION STOP","EACH","748.12","0.00000","QPL",{"$f":"IF(ISNA(VLOOKUP(A1955,'(1) Project Reference Item List'!$B$2:$B$499,1,FALSE)),\"\",\"Y\")","v":""}]
["638E05600","2\" POLYETHYLENE SVC BRANCH","FT","COMPONENT","7481201","TAPPING SADDLE","EACH","748.12","0.00000","QPL",{"$f":"IF(ISNA(VLOOKUP(A1956,'(1) Project Reference Item List'!$B$2:$B$499,1,FALSE)),\"\",\"Y\")","v":""}]
["638E05600","2\" POLYETHYLENE SVC BRANCH","FT","PRIMARY","74800CU","COPPER WATER TUBING","FT","748.05","1.00000","QPL",{"$f":"IF(ISNA(VLOOKUP(A1957,'(1) Project Reference Item List'!$B$2:$B$499,1,FALSE)),\"\",\"Y\")","v":""}]
["638E05600","2\" POLYETHYLENE SVC BRANCH","FT","COMPONENT","7481302","SERVICE BOX","EACH","748.13","0.00000","QPL",{"$f":"IF(ISNA(VLOOKUP(A1958,'(1) Project Reference Item List'!$B$2:$B$499,1,FALSE)),\"\",\"Y\")","v":""}]
["638E05600","2\" POLYETHYLENE SVC BRANCH","FT","COMPONENT","7481301","SERVICE STOP","EACH","748.13","0.00000","QPL",{"$f":"IF(ISNA(VLOOKUP(A1959,'(1) Project Reference Item List'!$B$2:$B$499,1,FALSE)),\"\",\"Y\")","v":""}]
["638E20424","SPECIAL - 12\" PVC PIPE & FTGS, MS","FT","SUBSTITUTE","21504","CONCRETE PORTLAND CEMENT CLASS C OPT 1","CY","499 511","0.00000","JCTL",{"$f":"IF(ISNA(VLOOKUP(A1960,'(1) Project Reference Item List'!$B$2:$B$499,1,FALSE)),\"\",\"Y\")","v":""}]
["638E20424","SPECIAL - 12\" PVC PIPE & FTGS, MS","FT","COMPONENT","21501","CONCRETE PORTLAND CEMENT CLASS C","CY","499 511","0.00000","JCTL",{"$f":"IF(ISNA(VLOOKUP(A1961,'(1) Project Reference Item List'!$B$2:$B$499,1,FALSE)),\"\",\"Y\")","v":""}]
["638E20424","SPECIAL - 12\" PVC PIPE & FTGS, MS","FT","SUBSTITUTE","09AGS8","GRANULATED (BF) SLAG 703.08","TON","703.08","0.00000","CERT",{"$f":"IF(ISNA(VLOOKUP(A1962,'(1) Project Reference Item List'!$B$2:$B$499,1,FALSE)),\"\",\"Y\")","v":""}]
["638E20424","SPECIAL - 12\" PVC PIPE & FTGS, MS","FT","SUBSTITUTE","07E057","57 RECYCLED CONCRETE (703.11 703.18)","TON","703.18","0.00000","CERT",{"$f":"IF(ISNA(VLOOKUP(A1963,'(1) Project Reference Item List'!$B$2:$B$499,1,FALSE)),\"\",\"Y\")","v":""}]
["638E20424","SPECIAL - 12\" PVC PIPE & FTGS, MS","FT","SUBSTITUTE","076057","57 ACBF SLAG (703)","TON","703.18","0.00000","CERT",{"$f":"IF(ISNA(VLOOKUP(A1964,'(1) Project Reference Item List'!$B$2:$B$499,1,FALSE)),\"\",\"Y\")","v":""}]
["638E20424","SPECIAL - 12\" PVC PIPE & FTGS, MS","FT","SUBSTITUTE","075057","57 CRUSHED STONE (703)","TON","703.18","0.00000","CERT",{"$f":"IF(ISNA(VLOOKUP(A1965,'(1) Project Reference Item List'!$B$2:$B$499,1,FALSE)),\"\",\"Y\")","v":""}]
["638E20424","SPECIAL - 12\" PVC PIPE & FTGS, MS","FT","SUBSTITUTE","074057","57 CRUSHED GRAVEL (703)","TON","703.18","0.00000","CERT",{"$f":"IF(ISNA(VLOOKUP(A1966,'(1) Project Reference Item List'!$B$2:$B$499,1,FALSE)),\"\",\"Y\")","v":""}]
["638E20424","SPECIAL - 12\" PVC PIPE & FTGS, MS","FT","PRIMARY","74802PVC","PVC WATER PIPE","FT","748.02","1.00000","QPL",{"$f":"IF(ISNA(VLOOKUP(A1967,'(1) Project Reference Item List'!$B$2:$B$499,1,FALSE)),\"\",\"Y\")","v":""}]
["638E20438","10\" STEEL CASING, JACKED OR BORED, MS","FT","COMPONENT","21501","CONCRETE PORTLAND CEMENT CLASS C","CY","499 511","0.00000","JCTL",{"$f":"IF(ISNA(VLOOKUP(A1968,'(1) Project Reference Item List'!$B$2:$B$499,1,FALSE)),\"\",\"Y\")","v":""}]
["638E20438","10\" STEEL CASING, JACKED OR BORED, MS","FT","PRIMARY","74806910","STEEL CASING PIPE 10\" A-139","FT","748.06","1.00000","CERT",{"$f":"IF(ISNA(VLOOKUP(A1969,'(1) Project Reference Item List'!$B$2:$B$499,1,FALSE)),\"\",\"Y\")","v":""}]
["638E20438","10\" STEEL CASING, JACKED OR BORED, MS","FT","PRIMARY","74806310","STEEL CASING PIPE 10\" A-53","FT","748.06","1.00000","CERT",{"$f":"IF(ISNA(VLOOKUP(A1970,'(1) Project Reference Item List'!$B$2:$B$499,1,FALSE)),\"\",\"Y\")","v":""}]
["638E20438","10\" STEEL CASING, JACKED OR BORED, MS","FT","SUBSTITUTE","21507","CONCRETE PORTLAND CEMENT CLASS C OPT 2","CY","499 511","0.00000","JCTL",{"$f":"IF(ISNA(VLOOKUP(A1971,'(1) Project Reference Item List'!$B$2:$B$499,1,FALSE)),\"\",\"Y\")","v":""}]
["638E20442","SPECIAL - 10\" STEEL CASING, OPEN CUT, MS","FT","PRIMARY","74806928","STEEL CASING PIPE 28\" A-139","FT","748.06","1.00000","CERT",{"$f":"IF(ISNA(VLOOKUP(A1972,'(1) Project Reference Item List'!$B$2:$B$499,1,FALSE)),\"\",\"Y\")","v":""}]
["638E20442","SPECIAL - 10\" STEEL CASING, OPEN CUT, MS","FT","PRIMARY","74806328","STEEL CASING PIPE 28\" A-53","FT","748.06","1.00000","CERT",{"$f":"IF(ISNA(VLOOKUP(A1973,'(1) Project Reference Item List'!$B$2:$B$499,1,FALSE)),\"\",\"Y\")","v":""}]
["638E20442","SPECIAL - 10\" STEEL CASING, OPEN CUT, MS","FT","SUBSTITUTE","21507","CONCRETE PORTLAND CEMENT CLASS C OPT 2","CY","499 511","0.00000","JCTL",{"$f":"IF(ISNA(VLOOKUP(A1974,'(1) Project Reference Item List'!$B$2:$B$499,1,FALSE)),\"\",\"Y\")","v":""}]
["638E20442","SPECIAL - 10\" STEEL CASING, OPEN CUT, MS","FT","SUBSTITUTE","21504","CONCRETE PORTLAND CEMENT CLASS C OPT 1","CY","499 511","0.00000","JCTL",{"$f":"IF(ISNA(VLOOKUP(A1975,'(1) Project Reference Item List'!$B$2:$B$499,1,FALSE)),\"\",\"Y\")","v":""}]
["638E20442","SPECIAL - 10\" STEEL CASING, OPEN CUT, MS","FT","COMPONENT","21501","CONCRETE PORTLAND CEMENT CLASS C","CY","499 511","0.00000","JCTL",{"$f":"IF(ISNA(VLOOKUP(A1976,'(1) Project Reference Item List'!$B$2:$B$499,1,FALSE)),\"\",\"Y\")","v":""}]
["638E20442","SPECIAL - 10\" STEEL CASING, OPEN CUT, MS","FT","SUBSTITUTE","07E057","57 RECYCLED CONCRETE (703.11 703.18)","TON","703.18","0.00000","CERT",{"$f":"IF(ISNA(VLOOKUP(A1977,'(1) Project Reference Item List'!$B$2:$B$499,1,FALSE)),\"\",\"Y\")","v":""}]
["638E20442","SPECIAL - 10\" STEEL CASING, OPEN CUT, MS","FT","SUBSTITUTE","076057","57 ACBF SLAG (703)","TON","703.18","0.00000","CERT",{"$f":"IF(ISNA(VLOOKUP(A1978,'(1) Project Reference Item List'!$B$2:$B$499,1,FALSE)),\"\",\"Y\")","v":""}]
["638E20442","SPECIAL - 10\" STEEL CASING, OPEN CUT, MS","FT","SUBSTITUTE","075057","57 CRUSHED STONE (703)","TON","703.18","0.00000","CERT",{"$f":"IF(ISNA(VLOOKUP(A1979,'(1) Project Reference Item List'!$B$2:$B$499,1,FALSE)),\"\",\"Y\")","v":""}]
["638E20442","SPECIAL - 10\" STEEL CASING, OPEN CUT, MS","FT","SUBSTITUTE","074057","57 CRUSHED GRAVEL (703)","TON","703.18","0.00000","CERT",{"$f":"IF(ISNA(VLOOKUP(A1980,'(1) Project Reference Item List'!$B$2:$B$499,1,FALSE)),\"\",\"Y\")","v":""}]
["638E20456","18\" STEEL CASING, JACKED OR BORED, MS","FT","COMPONENT","21501","CONCRETE PORTLAND CEMENT CLASS C","CY","499 511","0.00000","JCTL",{"$f":"IF(ISNA(VLOOKUP(A1981,'(1) Project Reference Item List'!$B$2:$B$499,1,FALSE)),\"\",\"Y\")","v":""}]
["638E20456","18\" STEEL CASING, JACKED OR BORED, MS","FT","PRIMARY","74806910","STEEL CASING PIPE 10\" A-139","FT","748.06","1.00000","CERT",{"$f":"IF(ISNA(VLOOKUP(A1982,'(1) Project Reference Item List'!$B$2:$B$499,1,FALSE)),\"\",\"Y\")","v":""}]
["638E20456","18\" STEEL CASING, JACKED OR BORED, MS","FT","PRIMARY","74806310","STEEL CASING PIPE 10\" A-53","FT","748.06","1.00000","CERT",{"$f":"IF(ISNA(VLOOKUP(A1983,'(1) Project Reference Item List'!$B$2:$B$499,1,FALSE)),\"\",\"Y\")","v":""}]
["638E20456","18\" STEEL CASING, JACKED OR BORED, MS","FT","SUBSTITUTE","21507","CONCRETE PORTLAND CEMENT CLASS C OPT 2","CY","499 511","0.00000","JCTL",{"$f":"IF(ISNA(VLOOKUP(A1984,'(1) Project Reference Item List'!$B$2:$B$499,1,FALSE)),\"\",\"Y\")","v":""}]
["638E20478","SPECIAL - 42\" STEEL CASING, OPEN CUT, MS","FT","SUBSTITUTE","073057","57 GRAVEL 703","TON","703.18","0.00000","CERT",{"$f":"IF(ISNA(VLOOKUP(A1985,'(1) Project Reference Item List'!$B$2:$B$499,1,FALSE)),\"\",\"Y\")","v":""}]
["638E20478","SPECIAL - 42\" STEEL CASING, OPEN CUT, MS","FT","PRIMARY","74806928","STEEL CASING PIPE 28\" A-139","FT","748.06","1.00000","CERT",{"$f":"IF(ISNA(VLOOKUP(A1986,'(1) Project Reference Item List'!$B$2:$B$499,1,FALSE)),\"\",\"Y\")","v":""}]
["638E20478","SPECIAL - 42\" STEEL CASING, OPEN CUT, MS","FT","PRIMARY","74806328","STEEL CASING PIPE 28\" A-53","FT","748.06","1.00000","CERT",{"$f":"IF(ISNA(VLOOKUP(A1987,'(1) Project Reference Item List'!$B$2:$B$499,1,FALSE)),\"\",\"Y\")","v":""}]
["638E20478","SPECIAL - 42\" STEEL CASING, OPEN CUT, MS","FT","SUBSTITUTE","21507","CONCRETE PORTLAND CEMENT CLASS C OPT 2","CY","499 511","0.00000","JCTL",{"$f":"IF(ISNA(VLOOKUP(A1988,'(1) Project Reference Item List'!$B$2:$B$499,1,FALSE)),\"\",\"Y\")","v":""}]
["638E20478","SPECIAL - 42\" STEEL CASING, OPEN CUT, MS","FT","SUBSTITUTE","21504","CONCRETE PORTLAND CEMENT CLASS C OPT 1","CY","499 511","0.00000","JCTL",{"$f":"IF(ISNA(VLOOKUP(A1989,'(1) Project Reference Item List'!$B$2:$B$499,1,FALSE)),\"\",\"Y\")","v":""}]
["638E20478","SPECIAL - 42\" STEEL CASING, OPEN CUT, MS","FT","COMPONENT","21501","CONCRETE PORTLAND CEMENT CLASS C","CY","499 511","0.00000","JCTL",{"$f":"IF(ISNA(VLOOKUP(A1990,'(1) Project Reference Item List'!$B$2:$B$499,1,FALSE)),\"\",\"Y\")","v":""}]
["638E20478","SPECIAL - 42\" STEEL CASING, OPEN CUT, MS","FT","SUBSTITUTE","07E057","57 RECYCLED CONCRETE (703.11 703.18)","TON","703.18","0.00000","CERT",{"$f":"IF(ISNA(VLOOKUP(A1991,'(1) Project Reference Item List'!$B$2:$B$499,1,FALSE)),\"\",\"Y\")","v":""}]
["638E20478","SPECIAL - 42\" STEEL CASING, OPEN CUT, MS","FT","SUBSTITUTE","076057","57 ACBF SLAG (703)","TON","703.18","0.00000","CERT",{"$f":"IF(ISNA(VLOOKUP(A1992,'(1) Project Reference Item List'!$B$2:$B$499,1,FALSE)),\"\",\"Y\")","v":""}]
["638E20478","SPECIAL - 42\" STEEL CASING, OPEN CUT, MS","FT","SUBSTITUTE","075057","57 CRUSHED STONE (703)","TON","703.18","0.00000","CERT",{"$f":"IF(ISNA(VLOOKUP(A1993,'(1) Project Reference Item List'!$B$2:$B$499,1,FALSE)),\"\",\"Y\")","v":""}]
["638E20480","48\" STEEL CASING, JACKED OR BORED, MS","FT","COMPONENT","21501","CONCRETE PORTLAND CEMENT CLASS C","CY","499 511","0.00000","JCTL",{"$f":"IF(ISNA(VLOOKUP(A1994,'(1) Project Reference Item List'!$B$2:$B$499,1,FALSE)),\"\",\"Y\")","v":""}]
["638E20480","48\" STEEL CASING, JACKED OR BORED, MS","FT","PRIMARY","74806910","STEEL CASING PIPE 10\" A-139","FT","748.06","1.00000","CERT",{"$f":"IF(ISNA(VLOOKUP(A1995,'(1) Project Reference Item List'!$B$2:$B$499,1,FALSE)),\"\",\"Y\")","v":""}]
["638E20480","48\" STEEL CASING, JACKED OR BORED, MS","FT","PRIMARY","74806310","STEEL CASING PIPE 10\" A-53","FT","748.06","1.00000","CERT",{"$f":"IF(ISNA(VLOOKUP(A1996,'(1) Project Reference Item List'!$B$2:$B$499,1,FALSE)),\"\",\"Y\")","v":""}]
["638E20480","48\" STEEL CASING, JACKED OR BORED, MS","FT","SUBSTITUTE","21507","CONCRETE PORTLAND CEMENT CLASS C OPT 2","CY","499 511","0.00000","JCTL",{"$f":"IF(ISNA(VLOOKUP(A1997,'(1) Project Reference Item List'!$B$2:$B$499,1,FALSE)),\"\",\"Y\")","v":""}]
["642E00200","LANE LINE, 4\", TYPE 1","MILE","COMPONENT","40705","GLASS BEADS TYPE A, MOIST/RES & ADHESION","LB","740.09TAMP","66.00000","CERT",{"$f":"IF(ISNA(VLOOKUP(A1998,'(1) Project Reference Item List'!$B$2:$B$499,1,FALSE)),\"\",\"Y\")","v":""}]
["642E00200","LANE LINE, 4\", TYPE 1","MILE","PRIMARY","40120","TP WHITE 60 SEC DRY WATER BASED","GAL","NTPEP SPEC","5.50000","CERT",{"$f":"IF(ISNA(VLOOKUP(A1999,'(1) Project Reference Item List'!$B$2:$B$499,1,FALSE)),\"\",\"Y\")","v":""}]
["642E00090","EDGE LINE, 4\"","MILE","PRIMARY","40112","TRAFFIC PAINT WHITE FASTDRY ACRYLIC TY-1","GAL","740.02","22.00000","CERT",{"$f":"IF(ISNA(VLOOKUP(A2000,'(1) Project Reference Item List'!$B$2:$B$499,1,FALSE)),\"\",\"Y\")","v":""}]
["638E20492","78\" STEEL CASING, JACKED OR BORED, MS","FT","SUBSTITUTE","21507","CONCRETE PORTLAND CEMENT CLASS C OPT 2","CY","499 511","0.00000","JCTL",{"$f":"IF(ISNA(VLOOKUP(A2046,'(1) Project Reference Item List'!$B$2:$B$499,1,FALSE)),\"\",\"Y\")","v":""}]
["642E00204","LANE LINE, 6\", TYPE 1","MILE","PRIMARY","40112","TRAFFIC PAINT WHITE FASTDRY ACRYLIC TY-1","GAL","740.02","8.25000","CERT",{"$f":"IF(ISNA(VLOOKUP(A2057,'(1) Project Reference Item List'!$B$2:$B$499,1,FALSE)),\"\",\"Y\")","v":""}]
["632E82100","STR POLE, 81.10, DES 1","EACH","COMPONENT","62640","REINFORCING, UNCOATED GRADE 40","LB","709.01","91.00000","CERT",{"$f":"IF(ISNA(VLOOKUP(A2122,'(1) Project Reference Item List'!$B$2:$B$499,1,FALSE)),\"\",\"Y\")","v":""}]
["642E01210","PARKING LOT STALL MKG, TYPE 1A","FT","PRIMARY","40114","TRAFFIC PAINT WHITE COLD WEATHER ACRYLIC","GAL","SPEC PENDI","0.00303","CERT",{"$f":"IF(ISNA(VLOOKUP(A2183,'(1) Project Reference Item List'!$B$2:$B$499,1,FALSE)),\"\",\"Y\")","v":""}]
["642E01508","DOTTED LINE, 6\"","FT","PRIMARY","40121","TP YELLOW 60 SEC DRY LEADFREE WATER BASE","GAL","NTPEP SPEC","0.00156","CERT",{"$f":"IF(ISNA(VLOOKUP(A2248,'(1) Project Reference Item List'!$B$2:$B$499,1,FALSE)),\"\",\"Y\")","v":""}]
["642E01522","DOTTED LINE, 8\", TYPE 1","FT","COMPONENT","40705","GLASS BEADS TYPE A, MOIST/RES & ADHESION","LB","740.09TAMP","0.02500","CERT",{"$f":"IF(ISNA(VLOOKUP(A2263,'(1) Project Reference Item List'!$B$2:$B$499,1,FALSE)),\"\",\"Y\")","v":""}]
["643E00700","TRANSVERSE/DIAGONAL LINE","FT","COMPONENT","40702","GLASS BEADS FOR POLYESTER","LB","740.09TYPE","0.33000","CERT",{"$f":"IF(ISNA(VLOOKUP(A2324,'(1) Project Reference Item List'!$B$2:$B$499,1,FALSE)),\"\",\"Y\")","v":""}]
["638E00090","3\" DIP CL 52, BLTLSS-RESTR JTS&FTGS","FT","COMPONENT","215QCMISC","QC MISCELLANEOUS 4000 PSI","CY","499","0.00000","JCTL",{"$f":"IF(ISNA(VLOOKUP(A2389,'(1) Project Reference Item List'!$B$2:$B$499,1,FALSE)),\"\",\"Y\")","v":""}]
["638E20156","SPECIAL - 10\" DIP 55 PO JTS & FTGS, MS","FT","COMPONENT","21501","CONCRETE PORTLAND CEMENT CLASS C","CY","499 511","0.00000","JCTL",{"$f":"IF(ISNA(VLOOKUP(A2450,'(1) Project Reference Item List'!$B$2:$B$499,1,FALSE)),\"\",\"Y\")","v":""}]
["638E20164","SPECIAL - 10\" DIP 56 BLTS-REST JTS & FTG","FT","SUBSTITUTE","075057","57 CRUSHED STONE (703)","TON","703.18","0.00000","CERT",{"$f":"IF(ISNA(VLOOKUP(A2465,'(1) Project Reference Item List'!$B$2:$B$499,1,FALSE)),\"\",\"Y\")","v":""}]
["638E20800","SPECIAL - LOWER & EXTEND 3/4\" COPPER WAT","FT","PRIMARY","NOMATL","CODE TO ADD TO CONTRACT S & T REQ","EACH","NONE","0.00000",null,{"$f":"IF(ISNA(VLOOKUP(A2530,'(1) Project Reference Item List'!$B$2:$B$499,1,FALSE)),\"\",\"Y\")","v":""}]
["632E65203","LOOP DET LEAD-IN,INT,14AWG, APP","FT","PRIMARY","309IMSA","INTERCONNECT, INTEGRAL, IMSA 19-3/20-3","FT","732.19(3)","1.00000","QPL",{"$f":"IF(ISNA(VLOOKUP(A2591,'(1) Project Reference Item List'!$B$2:$B$499,1,FALSE)),\"\",\"Y\")","v":""}]
["631E85500","SWITCH ENCL MTG BR ASSY","EACH","PRIMARY","60907S","SWITCH ENC MTG BRACKET ASSY, GALV STL","EACH","725.19","1.00000","JCTL",{"$f":"IF(ISNA(VLOOKUP(A2606,'(1) Project Reference Item List'!$B$2:$B$499,1,FALSE)),\"\",\"Y\")","v":""}]
["632E05010","VH SG HD, (LED),3SEC,12\",2WAY, POLY","EACH","COMPONENT","338LED06","VEHICLE & PEDESTRIAN SIGNAL LED LAMPS","EACH","732.04LED","0.00000","QPL",{"$f":"IF(ISNA(VLOOKUP(A2671,'(1) Project Reference Item List'!$B$2:$B$499,1,FALSE)),\"\",\"Y\")","v":""}]
["638E03100","16\" DIP CL 52, MECH JTS & FTGS","FT","SUBSTITUTE","07E057","57 RECYCLED CONCRETE (703.11 703.18)","TON","703.18","0.00000","CERT",{"$f":"IF(ISNA(VLOOKUP(A2732,'(1) Project Reference Item List'!$B$2:$B$499,1,FALSE)),\"\",\"Y\")","v":""}]
["630E77001","OVERPASS MTD SUPP, 18.24, APP","EACH","COMPONENT","60610","BOLT, SS ASTM A320, AISI 300 SERIES","EACH","730.10","0.00000","CTD",{"$f":"IF(ISNA(VLOOKUP(A2797,'(1) Project Reference Item List'!$B$2:$B$499,1,FALSE)),\"\",\"Y\")","v":""}]
["624E15001","MOBILIZATION, APP","EACH","PRIMARY","NOMATL","CODE TO ADD TO CONTRACT S & T REQ","EACH","NONE","0.00000",null,{"$f":"IF(ISNA(VLOOKUP(A2808,'(1) Project Reference Item List'!$B$2:$B$499,1,FALSE)),\"\",\"Y\")","v":""}]
["630E15203","COMB OVHD SUPP, 16.21, DES 2, APP","EACH","COMPONENT","607BNW","SIGN/SIGNAL ANCHOR BOLT, NUT, WASHER","EACH","730.02","4.00000","QPL",{"$f":"IF(ISNA(VLOOKUP(A2873,'(1) Project Reference Item List'!$B$2:$B$499,1,FALSE)),\"\",\"Y\")","v":""}]
["638E01130","6\" PVC PIPE & FTGS, AWWA C900, DR18","FT","COMPONENT","215QCMISC","QC MISCELLANEOUS 4000 PSI","CY","499","0.00000","JCTL",{"$f":"IF(ISNA(VLOOKUP(A2938,'(1) Project Reference Item List'!$B$2:$B$499,1,FALSE)),\"\",\"Y\")","v":""}]
["638E20242","SPECIAL - 16\" DIP 56 BALL & SOCKET JTS &","FT","SUBSTITUTE","09AGS8","GRANULATED (BF) SLAG 703.08","TON","703.08","0.00000","CERT",{"$f":"IF(ISNA(VLOOKUP(A2999,'(1) Project Reference Item List'!$B$2:$B$499,1,FALSE)),\"\",\"Y\")","v":""}]
["632E75080","SG SUPP, 81.21 D12, 81.21 D4 & D1","EACH","COMPONENT","62560","REINFORCING, EPOXY COATED GRADE 60","LB","709.00","114.00000",null,{"$f":"IF(ISNA(VLOOKUP(A3014,'(1) Project Reference Item List'!$B$2:$B$499,1,FALSE)),\"\",\"Y\")","v":""}]
["638E20288","SPECIAL - 24\" DIP 52 MJ & FTGS, MS","FT","COMPONENT","21501","CONCRETE PORTLAND CEMENT CLASS C","CY","499 511","0.00000","JCTL",{"$f":"IF(ISNA(VLOOKUP(A3075,'(1) Project Reference Item List'!$B$2:$B$499,1,FALSE)),\"\",\"Y\")","v":""}]
["638E20326","SPECIAL - 24\" DIP 56 BALL & SOCKET JTS &","FT","SUBSTITUTE","21507","CONCRETE PORTLAND CEMENT CLASS C OPT 2","CY","499 511","0.00000","JCTL",{"$f":"IF(ISNA(VLOOKUP(A3140,'(1) Project Reference Item List'!$B$2:$B$499,1,FALSE)),\"\",\"Y\")","v":""}]
["638E20362","SPECIAL - 30\" DIP 55 PO JTS & FTGS, MS","FT","SUBSTITUTE","075057","57 CRUSHED STONE (703)","TON","703.18","0.00000","CERT",{"$f":"IF(ISNA(VLOOKUP(A3155,'(1) Project Reference Item List'!$B$2:$B$499,1,FALSE)),\"\",\"Y\")","v":""}]
["611E52400","22\"X34\" CONDUIT, TYPE A","FT","SUBSTITUTE","494P33NP","PE CORR M294 S-D PIPE","FT","707.33","1.00000","CERT",{"$f":"IF(ISNA(VLOOKUP(A3216,'(1) Project Reference Item List'!$B$2:$B$499,1,FALSE)),\"\",\"Y\")","v":""}]
["611E98571","CATCH BASIN, NO. 2-5, APP","EACH","COMPONENT","202GR","NO. 2 GRATE","EACH","711.12","1.00000","CERT",{"$f":"IF(ISNA(VLOOKUP(A3281,'(1) Project Reference Item List'!$B$2:$B$499,1,FALSE)),\"\",\"Y\")","v":""}]
["622E24840","CONC BARRIER END SECTION, TYPE B","EACH","COMPONENT","42406OH","WHITE CURE TYPE 2 CLASS A OR B","GAL","705.07OH","1.26000","QPL",{"$f":"IF(ISNA(VLOOKUP(A3346,'(1) Project Reference Item List'!$B$2:$B$499,1,FALSE)),\"\",\"Y\")","v":""}]
["630E70070","CONCRETE BARRIER MEDIAN OVRHD SGN SUPP","EACH","PRIMARY","60200","RIGID OVERHEAD SIGN SUPPORT","EACH","630.06","1.00000","CERT",{"$f":"IF(ISNA(VLOOKUP(A3357,'(1) Project Reference Item List'!$B$2:$B$499,1,FALSE)),\"\",\"Y\")","v":""}]
["611E98790","INLET, NO. 3A","EACH","COMPONENT","37507","PORTLAND CEMENT MASONRY","LB","701.07","0.00000","CERT",{"$f":"IF(ISNA(VLOOKUP(A3422,'(1) Project Reference Item List'!$B$2:$B$499,1,FALSE)),\"\",\"Y\")","v":""}]
["630E75701","SPAN WIRE SUPP, 17.10, 7, APP","EACH","COMPONENT","60502","SIGN HANGER ASSEMBLY, SPAN WIRE","EACH","TC-41.41(S","0.00000","QPL",{"$f":"IF(ISNA(VLOOKUP(A3483,'(1) Project Reference Item List'!$B$2:$B$499,1,FALSE)),\"\",\"Y\")","v":""}]
["611E98824","INLET, NO. 3D50","EACH","COMPONENT","37501","PORTLAND CEMENT TYPE 1A","TON","701.01","0.00000","CERT",{"$f":"IF(ISNA(VLOOKUP(A3548,'(1) Project Reference Item List'!$B$2:$B$499,1,FALSE)),\"\",\"Y\")","v":""}]
["611E98841","INLET, NO. 2-A-6, APP","EACH","COMPONENT","62540","REINFORCING, EPOXY COATED GRADE 40","LB","709.00","156.00000","CERT",{"$f":"IF(ISNA(VLOOKUP(A3563,'(1) Project Reference Item List'!$B$2:$B$499,1,FALSE)),\"\",\"Y\")","v":""}]
["611E99855","WATER QUALITY BASIN, DETENTION, APP","EACH","COMPONENT","015002","2 CRUSHED STONE 703-1","TON","703-1","0.00000","CERT",{"$f":"IF(ISNA(VLOOKUP(A3624,'(1) Project Reference Item List'!$B$2:$B$499,1,FALSE)),\"\",\"Y\")","v":""}]
["614E20401","WORK ZONE LANE LINE, CL II, 4\", APP","MILE","COMPONENT","40705","GLASS BEADS TYPE A, MOIST/RES & ADHESION","LB","740.09TAMP","26.40000","CERT",{"$f":"IF(ISNA(VLOOKUP(A3689,'(1) Project Reference Item List'!$B$2:$B$499,1,FALSE)),\"\",\"Y\")","v":""}]
["609E72100","CONCRETE MEDIAN","CY","COMPONENT","619100","PREFORMED EXPANSION JOINT FILLER 1\"","SF","705.03-711","0.00000","QPL",{"$f":"IF(ISNA(VLOOKUP(A3704,'(1) Project Reference Item List'!$B$2:$B$499,1,FALSE)),\"\",\"Y\")","v":""}]
["611E53102","43\"X68\" CONDUIT, TYPE B","FT","PRIMARY","484HE2","CERT REIN CONC PIPE HE-2 1000D LOAD","FT","706.04 S10","1.00000","CERT",{"$f":"IF(ISNA(VLOOKUP(A3765,'(1) Project Reference Item List'!$B$2:$B$499,1,FALSE)),\"\",\"Y\")","v":""}]
["611E53601","68\"X106\" CONDUIT, TYPE A, 706.04, APP","FT","SUBSTITUTE","055SD5","SAND STONE 703.05","TON","703.05","0.00000","CERT",{"$f":"IF(ISNA(VLOOKUP(A3830,'(1) Project Reference Item List'!$B$2:$B$499,1,FALSE)),\"\",\"Y\")","v":""}]
["614E18020","MAINTAINING TRAFFIC, MISC.:","HOUR","PRIMARY","NOMATL","CODE TO ADD TO CONTRACT S & T REQ","EACH","NONE","0.00000",null,{"$f":"IF(ISNA(VLOOKUP(A3891,'(1) Project Reference Item List'!$B$2:$B$499,1,FALSE)),\"\",\"Y\")","v":""}]
["609E98000","CURB, MISC.:","FT","PRIMARY","215QCMISC","QC MISCELLANEOUS 4000 PSI","CY","499","0.00000","JCTL",{"$f":"IF(ISNA(VLOOKUP(A3906,'(1) Project Reference Item List'!$B$2:$B$499,1,FALSE)),\"\",\"Y\")","v":""}]
["614E25200","WORK ZONE TRANS/DIAGO LINE, CL I, 642 PT","FT","PRIMARY","40112","TRAFFIC PAINT WHITE FASTDRY ACRYLIC TY-1","GAL","740.02","0.02500","CERT",{"$f":"IF(ISNA(VLOOKUP(A3971,'(1) Project Reference Item List'!$B$2:$B$499,1,FALSE)),\"\",\"Y\")","v":""}]
["614E98100","WORK ZONE PVMT MRKG, MISC.","FT","PRIMARY","40120","TP WHITE 60 SEC DRY WATER BASED","GAL","NTPEP SPEC","0.00417","CERT",{"$f":"IF(ISNA(VLOOKUP(A4032,'(1) Project Reference Item List'!$B$2:$B$499,1,FALSE)),\"\",\"Y\")","v":""}]
["611E02600","8\" CONDUIT, TYPE F","FT","SUBSTITUTE","4551","BITUMINOUS COATED CSP 707.05","FT","707.05","1.00000","CERT",{"$f":"IF(ISNA(VLOOKUP(A4097,'(1) Project Reference Item List'!$B$2:$B$499,1,FALSE)),\"\",\"Y\")","v":""}]
["611E03300","10\" CONDUIT, TYPE C","FT","SUBSTITUTE","051SD5","SAND, NATURAL 703.05","TON","703.05","0.00000","CERT",{"$f":"IF(ISNA(VLOOKUP(A4108,'(1) Project Reference Item List'!$B$2:$B$499,1,FALSE)),\"\",\"Y\")","v":""}]
["611E58100","83\"X57\" CONDUIT, TYPE A","FT","SUBSTITUTE","5212","ALUMINUM PIPE ARCH 707.21","FT","707.21","1.00000","CERT",{"$f":"IF(ISNA(VLOOKUP(A4173,'(1) Project Reference Item List'!$B$2:$B$499,1,FALSE)),\"\",\"Y\")","v":""}]
["611E04401","12\" CONDUIT, TYPE B, APP","FT","SUBSTITUTE","042603","SAND & GRAVEL, 603 TYPE 2 GRADATION # 1","TON","703.11","0.00000","CERT",{"$f":"IF(ISNA(VLOOKUP(A4238,'(1) Project Reference Item List'!$B$2:$B$499,1,FALSE)),\"\",\"Y\")","v":""}]
["611E08100","18\" CONDUIT, TYPE E","FT","SUBSTITUTE","4511","ALUMINUM COATED CSP PIPE 707.01","FT","707.01","1.00000","CERT",{"$f":"IF(ISNA(VLOOKUP(A4299,'(1) Project Reference Item List'!$B$2:$B$499,1,FALSE)),\"\",\"Y\")","v":""}]
["611E58800","81\"X59\" CONDUIT, TYPE A","FT","SUBSTITUTE","4542","PRECOATED GALV STEEL CULVERTS 707.04","FT","707.04","1.00000","CERT",{"$f":"IF(ISNA(VLOOKUP(A4314,'(1) Project Reference Item List'!$B$2:$B$499,1,FALSE)),\"\",\"Y\")","v":""}]
["611E10600","24\" CONDUIT, TYPE C","FT","SUBSTITUTE","47014","FLEXIBLE PLASTIC GASKETS","EACH","706.14","0.00000","QPL",{"$f":"IF(ISNA(VLOOKUP(A4379,'(1) Project Reference Item List'!$B$2:$B$499,1,FALSE)),\"\",\"Y\")","v":""}]
["611E11900","27\" CONDUIT, TYPE B","FT","SUBSTITUTE","4821000D","CERT REINF CIRCULAR CONC PIPE 1000D LOAD","FT","706.02 S10","1.00000","CERT",{"$f":"IF(ISNA(VLOOKUP(A4440,'(1) Project Reference Item List'!$B$2:$B$499,1,FALSE)),\"\",\"Y\")","v":""}]
["611E13201","30\" CONDUIT, TYPE A, APP","FT","SUBSTITUTE","508JG","RESILIENT & FLEXABLE JOINT GASKET","EACH","706.12","0.00000","QPL",{"$f":"IF(ISNA(VLOOKUP(A4455,'(1) Project Reference Item List'!$B$2:$B$499,1,FALSE)),\"\",\"Y\")","v":""}]
["611E94810","8'X4' CONDUIT, TYPE B, 706.05","FT","SUBSTITUTE","484HE3","CERT REIN CONC PIPE HE-3 1350D LOAD","FT","706.04 S10","1.00000","CERT",{"$f":"IF(ISNA(VLOOKUP(A4516,'(1) Project Reference Item List'!$B$2:$B$499,1,FALSE)),\"\",\"Y\")","v":""}]
["611E95200","10'X6' CONDUIT, TYPE A, 706.05","FT","COMPONENT","47014","FLEXIBLE PLASTIC GASKETS","EACH","706.14","0.00000","QPL",{"$f":"IF(ISNA(VLOOKUP(A4581,'(1) Project Reference Item List'!$B$2:$B$499,1,FALSE)),\"\",\"Y\")","v":""}]
["614E32800","WORK ZONE ISLAND MARKING, CL-III, PAINT","SF","PRIMARY","40120","TP WHITE 60 SEC DRY WATER BASED","GAL","NTPEP SPEC","0.00750","CERT",{"$f":"IF(ISNA(VLOOKUP(A4646,'(1) Project Reference Item List'!$B$2:$B$499,1,FALSE)),\"\",\"Y\")","v":""}]
["611E13601","30\" CONDUIT, TYPE C, APP","FT","SUBSTITUTE","055SD5","SAND STONE 703.05","TON","703.05","0.00000","CERT",{"$f":"IF(ISNA(VLOOKUP(A4657,'(1) Project Reference Item List'!$B$2:$B$499,1,FALSE)),\"\",\"Y\")","v":""}]
["611E22200","54\" CONDUIT, TYPE A","FT","SUBSTITUTE","4521","ALUMINUM COATED CSP PIPE 707.02","FT","707.02","1.00000","CERT",{"$f":"IF(ISNA(VLOOKUP(A4722,'(1) Project Reference Item List'!$B$2:$B$499,1,FALSE)),\"\",\"Y\")","v":""}]
["611E96441","16'X6' CONDUIT, 706.05, APP","FT","SUBSTITUTE","37507","PORTLAND CEMENT MASONRY","LB","701.07","0.00000","CERT",{"$f":"IF(ISNA(VLOOKUP(A4783,'(1) Project Reference Item List'!$B$2:$B$499,1,FALSE)),\"\",\"Y\")","v":""}]
["614E98100","WORK ZONE PVMT MRKG, MISC.","FT","PRIMARY","40112","TRAFFIC PAINT WHITE FASTDRY ACRYLIC TY-1","GAL","740.02","0.00417","CERT",{"$f":"IF(ISNA(VLOOKUP(A4848,'(1) Project Reference Item List'!$B$2:$B$499,1,FALSE)),\"\",\"Y\")","v":""}]
["611E24300","60\" CONDUIT, TYPE D","FT","SUBSTITUTE","47014","FLEXIBLE PLASTIC GASKETS","EACH","706.14","0.00000","QPL",{"$f":"IF(ISNA(VLOOKUP(A4863,'(1) Project Reference Item List'!$B$2:$B$499,1,FALSE)),\"\",\"Y\")","v":""}]
["611E28200","84\" CONDUIT, TYPE B","FT","SUBSTITUTE","051SD5","SAND, NATURAL 703.05","TON","703.05","0.00000","CERT",{"$f":"IF(ISNA(VLOOKUP(A4924,'(1) Project Reference Item List'!$B$2:$B$499,1,FALSE)),\"\",\"Y\")","v":""}]
["622E10040","CONCRETE BARRIER, SINGLE SLOPE, TYPE A1","FT","COMPONENT","42406OH","WHITE CURE TYPE 2 CLASS A OR B","GAL","705.07OH","0.00000","QPL",{"$f":"IF(ISNA(VLOOKUP(A4989,'(1) Project Reference Item List'!$B$2:$B$499,1,FALSE)),\"\",\"Y\")","v":""}]
["442E10200","ASPH CONC SURF, 9.5MM, TYPE A (447)","CY","COMPONENT","616AJAM","HOT APPLIED ASPHALT JOINT ADHESIVE","LB","SS-875","0.00000","CERT",{"$f":"IF(ISNA(VLOOKUP(A5004,'(1) Project Reference Item List'!$B$2:$B$499,1,FALSE)),\"\",\"Y\")","v":""}]
["804E20266","FIBER OPTIC CABLE, ARM, INT MSS, 36 FIB","FT","PRIMARY","300FIBOPT","FIBER OPTIC CABLE","FT","SS904.01","1.00000","QPL",{"$f":"IF(ISNA(VLOOKUP(A5065,'(1) Project Reference Item List'!$B$2:$B$499,1,FALSE)),\"\",\"Y\")","v":""}]
["659E00541","SEEDING AND MULCHING, CLASS 3C, APP","SY","PRIMARY","56004","SEED","LB","659.07-.09","0.02700","CERT",{"$f":"IF(ISNA(VLOOKUP(A5130,'(1) Project Reference Item List'!$B$2:$B$499,1,FALSE)),\"\",\"Y\")","v":""}]
["842E10000","CORRECTING ELEVATION CONCRETE APPROACH","LB","PRIMARY","72001","POLYURETHANE, HIGH DENSITY UNDERSEAL","LB","S842 SPECI","1.00000","JCTL",{"$f":"IF(ISNA(VLOOKUP(A5191,'(1) Project Reference Item List'!$B$2:$B$499,1,FALSE)),\"\",\"Y\")","v":""}]
["666E10001","PRUNING EXISTING TREE, 8-16\", APP","EACH","PRIMARY","NOMATL","CODE TO ADD TO CONTRACT S & T REQ","EACH","NONE","0.00000",null,{"$f":"IF(ISNA(VLOOKUP(A5206,'(1) Project Reference Item List'!$B$2:$B$499,1,FALSE)),\"\",\"Y\")","v":""}]
["645E00726","CHEVRON MARKING, TYPE A3","FT","PRIMARY","40306","PREFORMED YELLOW TYPE A-3 WAFFLE","FT","740.05","0.00000","APPR",{"$f":"IF(ISNA(VLOOKUP(A5271,'(1) Project Reference Item List'!$B$2:$B$499,1,FALSE)),\"\",\"Y\")","v":""}]
["885E00300","FIELD PTG STR STEEL, INTERM COAT, W/WARR","LS","COMPONENT","40022","CAULKING/STRUCTURAL STEEL PAINT IN FIELD","GAL","514.02","0.00000","QPL",{"$f":"IF(ISNA(VLOOKUP(A5332,'(1) Project Reference Item List'!$B$2:$B$499,1,FALSE)),\"\",\"Y\")","v":""}]
["644E00105","EDGE LINE, 6\", APP","MILE","PRIMARY","40224","THERMOPLASTIC GRANULAR (YELLOW)","LB","SPEC NTPEP","3,510.00000","CERT",{"$f":"IF(ISNA(VLOOKUP(A5397,'(1) Project Reference Item List'!$B$2:$B$499,1,FALSE)),\"\",\"Y\")","v":""}]
["611E96492","20'X4' CONDUIT, TYPE A, 706.05","FT","SUBSTITUTE","051SD5","SAND, NATURAL 703.05","TON","703.05","0.00000","CERT",{"$f":"IF(ISNA(VLOOKUP(A5412,'(1) Project Reference Item List'!$B$2:$B$499,1,FALSE)),\"\",\"Y\")","v":""}]
["611E30201","96\" CONDUIT, TYPE B, APP","FT","PRIMARY","4821000D","CERT REINF CIRCULAR CONC PIPE 1000D LOAD","FT","706.02 S10","1.00000","CERT",{"$f":"IF(ISNA(VLOOKUP(A5473,'(1) Project Reference Item List'!$B$2:$B$499,1,FALSE)),\"\",\"Y\")","v":""}]
["611E98261","CATCH BASIN, 4 W/O APRON, APP","EACH","SUBSTITUTE","204FR","NO. 4 FRAME","EACH","711.12","1.00000","CERT",{"$f":"IF(ISNA(VLOOKUP(A5538,'(1) Project Reference Item List'!$B$2:$B$499,1,FALSE)),\"\",\"Y\")","v":""}]
["611E98241","CATCH BASIN, 4 W/E GRATE, APP","EACH","SUBSTITUTE","25003","CONCRETE MASONRY BLOCKS","EACH","704.03","0.00000","QPL",{"$f":"IF(ISNA(VLOOKUP(A5599,'(1) Project Reference Item List'!$B$2:$B$499,1,FALSE)),\"\",\"Y\")","v":""}]
["622E23304","CONC BARRIER, TYPE A1","FT","COMPONENT","62560","REINFORCING, EPOXY COATED GRADE 60","LB","709.00","0.66800","CERT",{"$f":"IF(ISNA(VLOOKUP(A5614,'(1) Project Reference Item List'!$B$2:$B$499,1,FALSE)),\"\",\"Y\")","v":""}]
["646E10800","ISLAND MARKING","SF","PRIMARY","40101F","TRAFFIC PAINT FAST DRY WHITE EPOXY RESIN","GAL","740.07","0.01250",null,{"$f":"IF(ISNA(VLOOKUP(A5679,'(1) Project Reference Item List'!$B$2:$B$499,1,FALSE)),\"\",\"Y\")","v":""}]
["804E34023","FIBER TERMINATION PANEL, 24 FIBER, APP","EACH","PRIMARY","300FOCTP","FIBER OPTIC CABLE TERM PANEL","EACH","SS904.08.B","1.00000","QPL",{"$f":"IF(ISNA(VLOOKUP(A5740,'(1) Project Reference Item List'!$B$2:$B$499,1,FALSE)),\"\",\"Y\")","v":""}]
["648E01514","DOTTED LINE, 8\"","FT","PRIMARY","40225","SPRAY THERMOPLASTIC (WHITE)","LB","740.10","0.07235","CERT",{"$f":"IF(ISNA(VLOOKUP(A5755,'(1) Project Reference Item List'!$B$2:$B$499,1,FALSE)),\"\",\"Y\")","v":""}]
["644E40000","SPEED MEASUREMENT MARKING","EACH","PRIMARY","40203","THERMOPLASTIC GRANULAR (WHITE)","LB","740.04","5.32000","CERT",{"$f":"IF(ISNA(VLOOKUP(A5816,'(1) Project Reference Item List'!$B$2:$B$499,1,FALSE)),\"\",\"Y\")","v":""}]
["880E15001","ASPHALT CONCRETE W/WARRANTY, APP","CY","PRIMARY","1774411L","BIT CONC 441 TYPE 1 WITH SBR LATEX","TON","SS 908","2.00000","JCTL",{"$f":"IF(ISNA(VLOOKUP(A5881,'(1) Project Reference Item List'!$B$2:$B$499,1,FALSE)),\"\",\"Y\")","v":""}]
["884E10300","14\" PORTLAND CEMENT CONCRETE PAVEMENT","SY","COMPONENT","62675","REINFORCING, UNCOATED GRADE 75","LB","709.01","0.00000","CERT",{"$f":"IF(ISNA(VLOOKUP(A5946,'(1) Project Reference Item List'!$B$2:$B$499,1,FALSE)),\"\",\"Y\")","v":""}]
["884E99000","PORTLAND CEMENT CONCRETE PAVEMENT","LS","COMPONENT","61607","JOINT & CRACK SEALER, HOT APPLIED 705.04","LB","705.04","0.00000","CERT",{"$f":"IF(ISNA(VLOOKUP(A5957,'(1) Project Reference Item List'!$B$2:$B$499,1,FALSE)),\"\",\"Y\")","v":""}]
["611E94700","6'X4' CONDUIT, TYPE A, 706.05","FT","COMPONENT","021SD2","SAND, NATURAL 703.02","TON","703.02","0.00000","CERT",{"$f":"IF(ISNA(VLOOKUP(A6022,'(1) Project Reference Item List'!$B$2:$B$499,1,FALSE)),\"\",\"Y\")","v":""}]
["894E10000","THERMAL INTEGRITY PROFILING (TIP) TEST","EACH","COMPONENT","61606","PREFORMED ELASTOMERIC COMPRESSION SEAL","FT","705.11","0.00000","QPL",{"$f":"IF(ISNA(VLOOKUP(A6087,'(1) Project Reference Item List'!$B$2:$B$499,1,FALSE)),\"\",\"Y\")","v":""}]
["611E57100","21\"X15\" CONDUIT, TYPE A","FT","SUBSTITUTE","4552","BITUMINOUS COATED CSP ARCH 707.05","FT","707.05","1.00000","CERT",{"$f":"IF(ISNA(VLOOKUP(A6148,'(1) Project Reference Item List'!$B$2:$B$499,1,FALSE)),\"\",\"Y\")","v":""}]
["611E30001","96\" CONDUIT, TYPE A, APP","FT","SUBSTITUTE","4731350D","CERT REINF CONC PIPE EPOXY/COATED 1350D","FT","706.03 S10","1.00000","CERT",{"$f":"IF(ISNA(VLOOKUP(A6163,'(1) Project Reference Item List'!$B$2:$B$499,1,FALSE)),\"\",\"Y\")","v":""}]
["611E57900","71\"X47\" CONDUIT, TYPE A","FT","SUBSTITUTE","5212","ALUMINUM PIPE ARCH 707.21","FT","707.21","1.00000","CERT",{"$f":"IF(ISNA(VLOOKUP(A6224,'(1) Project Reference Item List'!$B$2:$B$499,1,FALSE)),\"\",\"Y\")","v":""}]
["885E00066","FLD PTG STR STEEL, FINISH COAT, W/WARR","SF","COMPONENT","40022","CAULKING/STRUCTURAL STEEL PAINT IN FIELD","GAL","514.02","0.00000","QPL",{"$f":"IF(ISNA(VLOOKUP(A6289,'(1) Project Reference Item List'!$B$2:$B$499,1,FALSE)),\"\",\"Y\")","v":""}]
["611E52700","29\"X45\" CONDUIT, TYPE A","FT","COMPONENT","61501","BITUMINOUS PIPE JOINT FILLER","GAL","706.10","0.00000","QPL",{"$f":"IF(ISNA(VLOOKUP(A6304,'(1) Project Reference Item List'!$B$2:$B$499,1,FALSE)),\"\",\"Y\")","v":""}]
["631E90101","CHGBLE MSGE SIGN, LTD, APP","EACH","PRIMARY","61001B","SIGN, CHANGEABLE MESSAGE, LTD MSG, TY B","EACH","731.03","1.00000","QPL",{"$f":"IF(ISNA(VLOOKUP(A6365,'(1) Project Reference Item List'!$B$2:$B$499,1,FALSE)),\"\",\"Y\")","v":""}]
["611E54000","87\"X136\" CONDUIT, TYPE A, 706.04","FT","SUBSTITUTE","47014","FLEXIBLE PLASTIC GASKETS","EACH","706.14","0.00000","QPL",{"$f":"IF(ISNA(VLOOKUP(A6430,'(1) Project Reference Item List'!$B$2:$B$499,1,FALSE)),\"\",\"Y\")","v":""}]
["648E01510","DOTTED LINE, 6\"","FT","PRIMARY","40226","SPRAY THERMOPLASTIC (YELLOW)","LB","740.10","0.05426","CERT",{"$f":"IF(ISNA(VLOOKUP(A6495,'(1) Project Reference Item List'!$B$2:$B$499,1,FALSE)),\"\",\"Y\")","v":""}]
["611E95801","12'X6' CONDUIT, TYPE A, 706.05, APP","FT","COMPONENT","61501","BITUMINOUS PIPE JOINT FILLER","GAL","706.10","0.00000","QPL",{"$f":"IF(ISNA(VLOOKUP(A6506,'(1) Project Reference Item List'!$B$2:$B$499,1,FALSE)),\"\",\"Y\")","v":""}]
["638E20144","SPECIAL - 10\" DIP 54 BLTS-REST JTS & FTG","FT","SUBSTITUTE","09AGS8","GRANULATED (BF) SLAG 703.08","TON","703.08","0.00000","CERT",{"$f":"IF(ISNA(VLOOKUP(A6571,'(1) Project Reference Item List'!$B$2:$B$499,1,FALSE)),\"\",\"Y\")","v":""}]
["611E95801","12'X6' CONDUIT, TYPE A, 706.05, APP","FT","SUBSTITUTE","042603","SAND & GRAVEL, 603 TYPE 2 GRADATION # 1","TON","703.11","0.00000","CERT",{"$f":"IF(ISNA(VLOOKUP(A6632,'(1) Project Reference Item List'!$B$2:$B$499,1,FALSE)),\"\",\"Y\")","v":""}]
["611E71001","CONDUIT,A,PRECAST ARCH, APP","FT","COMPONENT","47001","JOINT WRAP/PIPE CULVERTS,SEWERS,DRAINS","FT","603.02C877","0.00000","QPL",{"$f":"IF(ISNA(VLOOKUP(A6697,'(1) Project Reference Item List'!$B$2:$B$499,1,FALSE)),\"\",\"Y\")","v":""}]
["638E20894","SPECIAL - 1\" CORPORATION STOP","EACH","PRIMARY","7481202","CORPORATION STOP","EACH","748.12","0.00000","QPL",{"$f":"IF(ISNA(VLOOKUP(A6712,'(1) Project Reference Item List'!$B$2:$B$499,1,FALSE)),\"\",\"Y\")","v":""}]
["611E00301","4\" CONDUIT, TYPE D, APP","FT","SUBSTITUTE","508JG","RESILIENT & FLEXABLE JOINT GASKET","EACH","706.12","0.00000","QPL",{"$f":"IF(ISNA(VLOOKUP(A6773,'(1) Project Reference Item List'!$B$2:$B$499,1,FALSE)),\"\",\"Y\")","v":""}]
["611E57900","71\"X47\" CONDUIT, TYPE A","FT","SUBSTITUTE","051SD5","SAND, NATURAL 703.05","TON","703.05","0.00000","CERT",{"$f":"IF(ISNA(VLOOKUP(A6838,'(1) Project Reference Item List'!$B$2:$B$499,1,FALSE)),\"\",\"Y\")","v":""}]
["611E58900","87\"X63\" CONDUIT, TYPE A","FT","COMPONENT","021SD2","SAND, NATURAL 703.02","TON","703.02","0.00000","CERT",{"$f":"IF(ISNA(VLOOKUP(A6899,'(1) Project Reference Item List'!$B$2:$B$499,1,FALSE)),\"\",\"Y\")","v":""}]
["611E04901","12\" CONDUIT, TYPE D, APP","FT","SUBSTITUTE","47011","RESILIENT & FLEX GASKET(LUB JOINT/MFG)","EACH","706.11","0.00000","QPL",{"$f":"IF(ISNA(VLOOKUP(A6914,'(1) Project Reference Item List'!$B$2:$B$499,1,FALSE)),\"\",\"Y\")","v":""}]
["611E30001","96\" CONDUIT, TYPE A, APP","FT","SUBSTITUTE","055SD5","SAND STONE 703.05","TON","703.05","0.00000","CERT",{"$f":"IF(ISNA(VLOOKUP(A6979,'(1) Project Reference Item List'!$B$2:$B$499,1,FALSE)),\"\",\"Y\")","v":""}]
["606E17350","GUARDRAIL, TYPE MGS, 25' LONG-SPAN","FT","COMPONENT","350WPOST","WOODPOST","EACH","710.12-14","0.00000","CERT",{"$f":"IF(ISNA(VLOOKUP(A7040,'(1) Project Reference Item List'!$B$2:$B$499,1,FALSE)),\"\",\"Y\")","v":""}]
["511E31611","CLASS QC2 CONC, SUPERSTRUCTURE, APP","CY","COMPONENT","42404OH","CLEAR CURE TYPE1 CL A OR B OR W/DYE","GAL","705.07OH","0.00000","QPL",{"$f":"IF(ISNA(VLOOKUP(A7055,'(1) Project Reference Item List'!$B$2:$B$499,1,FALSE)),\"\",\"Y\")","v":""}]
["611E52704","29\"X45\" CONDUIT, TYPE C","FT","COMPONENT","021SD2","SAND, NATURAL 703.02","TON","703.02","0.00000","CERT",{"$f":"IF(ISNA(VLOOKUP(A7120,'(1) Project Reference Item List'!$B$2:$B$499,1,FALSE)),\"\",\"Y\")","v":""}]
["638E20454","SPECIAL - 16\" STEEL CASING, OPEN CUT, MS","FT","SUBSTITUTE","21507","CONCRETE PORTLAND CEMENT CLASS C OPT 2","CY","499 511","0.00000","JCTL",{"$f":"IF(ISNA(VLOOKUP(A7181,'(1) Project Reference Item List'!$B$2:$B$499,1,FALSE)),\"\",\"Y\")","v":""}]
["625E15000","LT TOWER FOUND, 36\"X15'","EACH","PRIMARY","215QCMISC","QC MISCELLANEOUS 4000 PSI","CY","499","3.92500","JCTL",{"$f":"IF(ISNA(VLOOKUP(A7246,'(1) Project Reference Item List'!$B$2:$B$499,1,FALSE)),\"\",\"Y\")","v":""}]
["645E00094","EDGE LINE, 6\", TYPE A","MILE","PRIMARY","40303","PREFORMED WHITE TYPE A-2 60 MIL","FT","740.05","5,280.00000","CERT",{"$f":"IF(ISNA(VLOOKUP(A7257,'(1) Project Reference Item List'!$B$2:$B$499,1,FALSE)),\"\",\"Y\")","v":""}]
["632E64011","SIGNAL SUPPORT FOUNDATION, APP","EACH","COMPONENT","62560","REINFORCING, EPOXY COATED GRADE 60","LB","709.00","0.00000","CERT",{"$f":"IF(ISNA(VLOOKUP(A7322,'(1) Project Reference Item List'!$B$2:$B$499,1,FALSE)),\"\",\"Y\")","v":""}]
["622E23302","CONC BARRIER, TYPE A, REINFORCED","FT","PRIMARY","215QC1","QC 1 CONCRETE - 4000 PSI - WELL GRADED","CY","499","0.18400","JCTL",{"$f":"IF(ISNA(VLOOKUP(A7387,'(1) Project Reference Item List'!$B$2:$B$499,1,FALSE)),\"\",\"Y\")","v":""}]
["638E04405","30\" DIP CL 53, BLT-REST FTGS, APP","FT","SECONDARY","09AGS8","GRANULATED (BF) SLAG 703.08","TON","703.08","0.00000","CERT",{"$f":"IF(ISNA(VLOOKUP(A7448,'(1) Project Reference Item List'!$B$2:$B$499,1,FALSE)),\"\",\"Y\")","v":""}]
["638E00105","4\" DIP CL 53, P.O. JTS & FTGS, APP","FT","COMPONENT","055SD5","SAND STONE 703.05","TON","703.05","0.00000","CERT",{"$f":"IF(ISNA(VLOOKUP(A7463,'(1) Project Reference Item List'!$B$2:$B$499,1,FALSE)),\"\",\"Y\")","v":""}]
["638E02711","12\" DIP CL 56, BOLTLESS RESTRAINED, APP","FT","SUBSTITUTE","076057","57 ACBF SLAG (703)","TON","703.18","0.00000","CERT",{"$f":"IF(ISNA(VLOOKUP(A7524,'(1) Project Reference Item List'!$B$2:$B$499,1,FALSE)),\"\",\"Y\")","v":""}]
["611E96484","18'X10' CONDUIT, TYPE A, 706.05","FT","SUBSTITUTE","042603","SAND & GRAVEL, 603 TYPE 2 GRADATION # 1","TON","703.11","0.00000","CERT",{"$f":"IF(ISNA(VLOOKUP(A7589,'(1) Project Reference Item List'!$B$2:$B$499,1,FALSE)),\"\",\"Y\")","v":""}]
["632E75103","SG SUPP, 81.21 D12, 81.21 D11 & D2, APP","EACH","COMPONENT","607BNW","SIGN/SIGNAL ANCHOR BOLT, NUT, WASHER","EACH","730.02","4.00000","QPL",{"$f":"IF(ISNA(VLOOKUP(A7604,'(1) Project Reference Item List'!$B$2:$B$499,1,FALSE)),\"\",\"Y\")","v":""}]
["625E25908","COND, JACKED OR DRILLED, 725.052","FT","PRIMARY","3160001","POLYETHYLENE CONDUITS & FITTING","FT","725.052","1.00000","QPL",{"$f":"IF(ISNA(VLOOKUP(A7665,'(1) Project Reference Item List'!$B$2:$B$499,1,FALSE)),\"\",\"Y\")","v":""}]
["632E75460","SG SUPP, 12.30 D9, 81.21 D14 & D2","EACH","PRIMARY","34200SS","SIGNAL SUPPORT","EACH","732.11","0.00000","CERT",{"$f":"IF(ISNA(VLOOKUP(A7730,'(1) Project Reference Item List'!$B$2:$B$499,1,FALSE)),\"\",\"Y\")","v":""}]
["630E80201","SIGN, GROUND MOUNTED EXTRUSHEET, APP","SF","COMPONENT","60616","CLIP, SELF-ALIGNING ALUM MOUNTING","EACH","TC-51.11","0.00000",null,{"$f":"IF(ISNA(VLOOKUP(A7795,'(1) Project Reference Item List'!$B$2:$B$499,1,FALSE)),\"\",\"Y\")","v":""}]
["441E70201","ASPH CONC INTERM CRSE, T-1, (449), APP","CY","PRIMARY","1764412","BIT CONC 441 TYPE 2","TON","441","2.00000","JCTL",{"$f":"IF(ISNA(VLOOKUP(A7806,'(1) Project Reference Item List'!$B$2:$B$499,1,FALSE)),\"\",\"Y\")","v":""}]
["254E01600","PATCHING PLANED SURF","SY","COMPONENT","104SS1H","ASPHALT ANIONIC EMULS SLOW SET GRD SS-1H","GAL","702.04","0.00000","CERT",{"$f":"IF(ISNA(VLOOKUP(A7871,'(1) Project Reference Item List'!$B$2:$B$499,1,FALSE)),\"\",\"Y\")","v":""}]
["611E53900","82\"X128\" CONDUIT, TYPE A, 706.04","FT","SUBSTITUTE","483HE3","CERT REIN CONC PIPE EPX/COAT HE-3 1350D","FT","706.03 S10","1.00000","CERT",{"$f":"IF(ISNA(VLOOKUP(A7932,'(1) Project Reference Item List'!$B$2:$B$499,1,FALSE)),\"\",\"Y\")","v":""}]
["611E07200","18\" CONDUIT, TYPE A","FT","SUBSTITUTE","4731350D","CERT REINF CONC PIPE EPOXY/COATED 1350D","FT","706.03 S10","1.00000","QPL",{"$f":"IF(ISNA(VLOOKUP(A7997,'(1) Project Reference Item List'!$B$2:$B$499,1,FALSE)),\"\",\"Y\")","v":""}]
["611E16601","36\" CONDUIT, TYPE C, APP","FT","SUBSTITUTE","49170742","PVC CORRUGATED SANITARY SEWER PIPE","FT","707.42","1.00000","QPL",{"$f":"IF(ISNA(VLOOKUP(A8012,'(1) Project Reference Item List'!$B$2:$B$499,1,FALSE)),\"\",\"Y\")","v":""}]
["611E04601","12\" CONDUIT, TYPE C, APP","FT","SUBSTITUTE","508SS","VCP STANDARD STRENGTH","FT","706.08","1.00000","QPL",{"$f":"IF(ISNA(VLOOKUP(A8073,'(1) Project Reference Item List'!$B$2:$B$499,1,FALSE)),\"\",\"Y\")","v":""}]
["526E15001","APPROACH SLABS (T=13\"), APP","SY","PRIMARY","215QC2","QC 2 CONCRETE - 4500 PSI - WELL GRADED","CY","499","0.36111","JCTL",{"$f":"IF(ISNA(VLOOKUP(A8138,'(1) Project Reference Item List'!$B$2:$B$499,1,FALSE)),\"\",\"Y\")","v":""}]
["451E34000","PRESSURE RELIEF JOINT","FT","PRIMARY","215QCFS","QC FAST SET CONCRETE 400 PSI_4 HRS","CY","499","0.00000","JCTL",{"$f":"IF(ISNA(VLOOKUP(A8153,'(1) Project Reference Item List'!$B$2:$B$499,1,FALSE)),\"\",\"Y\")","v":""}]
["601E39001","PAVED GUTTER, TYPE 4, APP","FT","PRIMARY","215QCMISC","QC MISCELLANEOUS 4000 PSI","CY","499","0.09700","JCTL",{"$f":"IF(ISNA(VLOOKUP(A8214,'(1) Project Reference Item List'!$B$2:$B$499,1,FALSE)),\"\",\"Y\")","v":""}]
["605E05111","4\" SHALLOW PIPE UD W/GEOTEX FAB, APP","FT","PRIMARY","495P31P","PE CORR PERFORATED M252 CP PIPE","FT","707.31","1.00000","CERT",{"$f":"IF(ISNA(VLOOKUP(A8279,'(1) Project Reference Item List'!$B$2:$B$499,1,FALSE)),\"\",\"Y\")","v":""}]
["451E17020","15\" REINF CONC PVMT, CLS QC 1P QC/QA","SY","COMPONENT","42406OH","WHITE CURE TYPE 2 CLASS A OR B","GAL","705.07OH","0.06000","QPL",{"$f":"IF(ISNA(VLOOKUP(A8340,'(1) Project Reference Item List'!$B$2:$B$499,1,FALSE)),\"\",\"Y\")","v":""}]
["517E71502","RLG(CONC PPT W/DOUBLE PIPE)QC/QA","FT","COMPONENT","42404OH","CLEAR CURE TYPE1 CL A OR B OR W/DYE","GAL","705.07OH","0.00000","QPL",{"$f":"IF(ISNA(VLOOKUP(A8355,'(1) Project Reference Item List'!$B$2:$B$499,1,FALSE)),\"\",\"Y\")","v":""}]
["611E53800","77\"X121\" CONDUIT, TYPE A, 706.04","FT","SUBSTITUTE","483HE4","CERT REIN CONC PIPE EPX/COAT HE-4 2000D","FT","706.03 S10","1.00000","CERT",{"$f":"IF(ISNA(VLOOKUP(A8420,'(1) Project Reference Item List'!$B$2:$B$499,1,FALSE)),\"\",\"Y\")","v":""}]
["611E07400","18\" CONDUIT, TYPE B","FT","SUBSTITUTE","4561","CSP SPIRAL RIB CONDUIT 707.12","FT","707.12","1.00000","CERT",{"$f":"IF(ISNA(VLOOKUP(A8481,'(1) Project Reference Item List'!$B$2:$B$499,1,FALSE)),\"\",\"Y\")","v":""}]
["511E43510","CLS QC1 CNCRT, ABUTMENT INCL FOOTING","CY","COMPONENT","62001","P.V.C. EXPANSION SPONGE","SF","705.03-711","0.00000","QPL",{"$f":"IF(ISNA(VLOOKUP(A8546,'(1) Project Reference Item List'!$B$2:$B$499,1,FALSE)),\"\",\"Y\")","v":""}]
["611E04601","12\" CONDUIT, TYPE C, APP","FT","SUBSTITUTE","481CL1","CERT NON-REINFORCED CONC PIPE CLASS 1","FT","706.01 S10","1.00000","CERT",{"$f":"IF(ISNA(VLOOKUP(A8557,'(1) Project Reference Item List'!$B$2:$B$499,1,FALSE)),\"\",\"Y\")","v":""}]
["611E59200","112\"X75\" CONDUIT, TYPE A","FT","SUBSTITUTE","5222","ALUMINUM CMP PIPE-ARCH 707.22","FT","707.22","1.00000","CERT",{"$f":"IF(ISNA(VLOOKUP(A8622,'(1) Project Reference Item List'!$B$2:$B$499,1,FALSE)),\"\",\"Y\")","v":""}]
["611E44101","240\" CONDUIT, TYPE A, APP","FT","COMPONENT","021SD2","SAND, NATURAL 703.02","TON","703.02","0.00000","CERT",{"$f":"IF(ISNA(VLOOKUP(A8687,'(1) Project Reference Item List'!$B$2:$B$499,1,FALSE)),\"\",\"Y\")","v":""}]
["661E30020","EVERGREEN SHRUB, 15\" HEIGHT","EACH","PRIMARY","56700","SHRUB, EVERGREEN","EACH","661","1.00000","QPL",{"$f":"IF(ISNA(VLOOKUP(A8748,'(1) Project Reference Item List'!$B$2:$B$499,1,FALSE)),\"\",\"Y\")","v":""}]
["611E21100","48\" CONDUIT, TYPE C","FT","SUBSTITUTE","47011","RESILIENT & FLEX GASKET(LUB JOINT/MFG)","EACH","706.11","0.00000","QPL",{"$f":"IF(ISNA(VLOOKUP(A8763,'(1) Project Reference Item List'!$B$2:$B$499,1,FALSE)),\"\",\"Y\")","v":""}]
["611E58200","40\"X31\" CONDUIT, TYPE A","FT","SUBSTITUTE","4522","METALLIC COATED CSP PIPE-ARCH 707.02","FT","707.02","1.00000","CERT",{"$f":"IF(ISNA(VLOOKUP(A8828,'(1) Project Reference Item List'!$B$2:$B$499,1,FALSE)),\"\",\"Y\")","v":""}]
["880E10000","ASPHALT CONCRETE (5 YR WARRANTY)","CY","PRIMARY","880WB","ASPHALT CONCRETE WARRANTY BASE","CY","SS 880","0.00000","JCTL",{"$f":"IF(ISNA(VLOOKUP(A8889,'(1) Project Reference Item List'!$B$2:$B$499,1,FALSE)),\"\",\"Y\")","v":""}]
["644E19000","SHARED LANE MARKING","EACH","COMPONENT","40703","GLASS BEADS FOR THERMOPLASTIC, DROP ON","LB","740.09 C","2.32000","CERT",{"$f":"IF(ISNA(VLOOKUP(A8904,'(1) Project Reference Item List'!$B$2:$B$499,1,FALSE)),\"\",\"Y\")","v":""}]
["633E01541","CONTROLLER UNIT, TYP TS2/A2, APP","EACH","PRIMARY","344TS2A2","CONTROLLER TYPE TS 2-A2","EACH","733.02","0.00000","QPL",{"$f":"IF(ISNA(VLOOKUP(A8965,'(1) Project Reference Item List'!$B$2:$B$499,1,FALSE)),\"\",\"Y\")","v":""}]
["638E06911","40\" ST ENCSMT, OPEN CUT, APP","FT","COMPONENT","09AGS8","GRANULATED (BF) SLAG 703.08","TON","703.08","0.00000","CERT",{"$f":"IF(ISNA(VLOOKUP(A9030,'(1) Project Reference Item List'!$B$2:$B$499,1,FALSE)),\"\",\"Y\")","v":""}]
["632E27200","LOOP DETECTOR TIE IN","EACH","PRIMARY","33020","UNFUSED PERMANENT CONNECTION","EACH","725.15E","1.00000","QPL",{"$f":"IF(ISNA(VLOOKUP(A9095,'(1) Project Reference Item List'!$B$2:$B$499,1,FALSE)),\"\",\"Y\")","v":""}]
["638E20360","SPECIAL - 30\" DIP 55 BLTS-REST JTS & FTG","FT","PRIMARY","5150BR","DUCT IRON PIPE CL50 BOLTLESS RESTRAINED","FT","748.01(50)","0.00000","QPL",{"$f":"IF(ISNA(VLOOKUP(A9106,'(1) Project Reference Item List'!$B$2:$B$499,1,FALSE)),\"\",\"Y\")","v":""}]
["638E04901","1\" COPPER SVC BRANCH, APP","FT","PRIMARY","74800CU","COPPER WATER TUBING","FT","748.05","1.00000","QPL",{"$f":"IF(ISNA(VLOOKUP(A9171,'(1) Project Reference Item List'!$B$2:$B$499,1,FALSE)),\"\",\"Y\")","v":""}]
["645E01604","HANDICAP SYMBOL MARKING,TYPE A2","EACH","PRIMARY","40303L","PREFORMED WHITE TYPE A-2 60 MIL LEGEND","EACH","740.05","1.00000","CERT",{"$f":"IF(ISNA(VLOOKUP(A9232,'(1) Project Reference Item List'!$B$2:$B$499,1,FALSE)),\"\",\"Y\")","v":""}]
["630E75400","SPAN WIRE SUPP, 17.10, DES 4","EACH","COMPONENT","607BNW","SIGN/SIGNAL ANCHOR BOLT, NUT, WASHER","EACH","730.02","8.00000","QPL",{"$f":"IF(ISNA(VLOOKUP(A9297,'(1) Project Reference Item List'!$B$2:$B$499,1,FALSE)),\"\",\"Y\")","v":""}]
["632E82900","STR POLE, 81.10, DES 9","EACH","PRIMARY","34100SP","STRAIN POLE","EACH","732.12","1.00000","CERT",{"$f":"IF(ISNA(VLOOKUP(A9312,'(1) Project Reference Item List'!$B$2:$B$499,1,FALSE)),\"\",\"Y\")","v":""}]
["611E96488","20'X5' CONDUIT, TYPE A, 706.05","FT","SUBSTITUTE","042603","SAND & GRAVEL, 603 TYPE 2 GRADATION # 1","TON","703.11","0.00000","CERT",{"$f":"IF(ISNA(VLOOKUP(A9373,'(1) Project Reference Item List'!$B$2:$B$499,1,FALSE)),\"\",\"Y\")","v":""}]
["611E98890","INLET, NO. 2-A-16","EACH","COMPONENT","37501","PORTLAND CEMENT TYPE 1A","TON","701.01","0.00000","CERT",{"$f":"IF(ISNA(VLOOKUP(A9438,'(1) Project Reference Item List'!$B$2:$B$499,1,FALSE)),\"\",\"Y\")","v":""}]
["611E99150","INLET ADJ TO GRADE","EACH","COMPONENT","035S3D","SAND STONE 703.03","TON","703.03","0.00000","CERT",{"$f":"IF(ISNA(VLOOKUP(A9453,'(1) Project Reference Item List'!$B$2:$B$499,1,FALSE)),\"\",\"Y\")","v":""}]
["630E25800","COMB OVHD SUPP, 12.30, DES 8","EACH","PRIMARY","60200","RIGID OVERHEAD SIGN SUPPORT","EACH","630.06","1.00000","CERT",{"$f":"IF(ISNA(VLOOKUP(A9514,'(1) Project Reference Item List'!$B$2:$B$499,1,FALSE)),\"\",\"Y\")","v":""}]
["424E14001","FINE GRD POLY ASPH CONC, T-B (448) APP","CY","SUBSTITUTE","100SBR","SBR RUBBER MODIFIER","GAL","702.14","0.00000","CTD",{"$f":"IF(ISNA(VLOOKUP(A9579,'(1) Project Reference Item List'!$B$2:$B$499,1,FALSE)),\"\",\"Y\")","v":""}]
["630E72331","OVERHEAD SIGN SUPP, TC-12.31, DES 10 APP","EACH","PRIMARY","607BNW","SIGN/SIGNAL ANCHOR BOLT, NUT, WASHER","EACH","730.02","0.00000","QPL",{"$f":"IF(ISNA(VLOOKUP(A9640,'(1) Project Reference Item List'!$B$2:$B$499,1,FALSE)),\"\",\"Y\")","v":""}]
["632E87120","COMBO STRAIN POLE, TC-81.11, DES 8","EACH","COMPONENT","62640","REINFORCING, UNCOATED GRADE 40","LB","709.01","144.00000","CERT",{"$f":"IF(ISNA(VLOOKUP(A9655,'(1) Project Reference Item List'!$B$2:$B$499,1,FALSE)),\"\",\"Y\")","v":""}]
["611E00401","4\" CONDUIT, TYPE E, APP","FT","SUBSTITUTE","495P31NPS","PE CORR SMOOTH INT NON PERF M252 S PIPE","FT","707.31","1.00000","CERT",{"$f":"IF(ISNA(VLOOKUP(A9720,'(1) Project Reference Item List'!$B$2:$B$499,1,FALSE)),\"\",\"Y\")","v":""}]
["511E32211","CLASS QC2 CONC, SUPERSTRUCTURE, APP","CY","COMPONENT","62001","P.V.C. EXPANSION SPONGE","SF","705.03-711","0.00000","QPL",{"$f":"IF(ISNA(VLOOKUP(A9781,'(1) Project Reference Item List'!$B$2:$B$499,1,FALSE)),\"\",\"Y\")","v":""}]
["606E27800","ANCH ASSY REBUILT, TYPE A","EACH","COMPONENT","550SPOST","STEEL POST","EACH","710.15","2.00000","CERT",{"$f":"IF(ISNA(VLOOKUP(A9846,'(1) Project Reference Item List'!$B$2:$B$499,1,FALSE)),\"\",\"Y\")","v":""}]
["607E98100","FENCE, MISC.","EACH","PRIMARY","582LPOST","FENCELINEPOSTS-TOPRAILS - STEEL OR ALU","EACH","710.03,11","1.00000","CERT",{"$f":"IF(ISNA(VLOOKUP(A9861,'(1) Project Reference Item List'!$B$2:$B$499,1,FALSE)),\"\",\"Y\")","v":""}]
["606E26050","ANCHOR ASSEMBLY, MGS TYPE B","EACH","COMPONENT","550RAIL","RAIL ELEMENT","FT","710.06","37.50000","CERT",{"$f":"IF(ISNA(VLOOKUP(A9922,'(1) Project Reference Item List'!$B$2:$B$499,1,FALSE)),\"\",\"Y\")","v":""}]
["451E11011","7\" REINF CONC PVMT, CLS QC 1P, APP","SY","SUBSTITUTE","215QCMS","QC MODERATE SET CONCRETE 400 PSI_24 HRS","CY","499","0.19440","JCTL",{"$f":"IF(ISNA(VLOOKUP(A9987,'(1) Project Reference Item List'!$B$2:$B$499,1,FALSE)),\"\",\"Y\")","v":""}]
["452E16051","13.5\" NO-REINF CNC PVMT, QC1P, APP","SY","PRIMARY","215QC1","QC 1 CONCRETE - 4000 PSI - WELL GRADED","CY","499","0.38889","JCTL",{"$f":"IF(ISNA(VLOOKUP(A10048,'(1) Project Reference Item List'!$B$2:$B$499,1,FALSE)),\"\",\"Y\")","v":""}]
["606E27800","ANCH ASSY REBUILT, TYPE A","EACH","COMPONENT","550ESECT","GUARDRAIL END SECTION","EACH","710.06","1.00000","CERT",{"$f":"IF(ISNA(VLOOKUP(A10063,'(1) Project Reference Item List'!$B$2:$B$499,1,FALSE)),\"\",\"Y\")","v":""}]
["410E24001","TRAF COMP SURF, APP","TON","PRIMARY","073004","4 GRAVEL 703","TON","703.18","1.25000","CERT",{"$f":"IF(ISNA(VLOOKUP(A10128,'(1) Project Reference Item List'!$B$2:$B$499,1,FALSE)),\"\",\"Y\")","v":""}]
["526E98100","APPROACH SLABS, MISC.:","SY","COMPONENT","42404OH","CLEAR CURE TYPE1 CL A OR B OR W/DYE","GAL","705.07OH","0.00000","QPL",{"$f":"IF(ISNA(VLOOKUP(A10189,'(1) Project Reference Item List'!$B$2:$B$499,1,FALSE)),\"\",\"Y\")","v":""}]
["451E14021","9\" REINF CONC PVMT, CLS QC 1P QC/QA, APP","SY","COMPONENT","619100","PREFORMED EXPANSION JOINT FILLER 1\"","SF","705.03-711","0.00000","QPL",{"$f":"IF(ISNA(VLOOKUP(A10204,'(1) Project Reference Item List'!$B$2:$B$499,1,FALSE)),\"\",\"Y\")","v":""}]
["611E25200","66\" CONDUIT, TYPE B","FT","SUBSTITUTE","04263A","SAND & GRAVEL, 603 TYPE 2 GRADATION # 2","TON","703.11","0.00000","CERT",{"$f":"IF(ISNA(VLOOKUP(A10265,'(1) Project Reference Item List'!$B$2:$B$499,1,FALSE)),\"\",\"Y\")","v":""}]
["638E20206","SPECIAL - 12\" DIP 56 PO JTS & FTGS, MS","FT","SUBSTITUTE","075057","57 CRUSHED STONE (703)","TON","703.18","0.00000","CERT",{"$f":"IF(ISNA(VLOOKUP(A10330,'(1) Project Reference Item List'!$B$2:$B$499,1,FALSE)),\"\",\"Y\")","v":""}]
["611E35400","126\" CONDUIT, TYPE C","FT","SUBSTITUTE","4821350D","CERT REINF CIRCULAR CONC PIPE 1350D LOAD","FT","706.02 S10","1.00000","CERT",{"$f":"IF(ISNA(VLOOKUP(A10395,'(1) Project Reference Item List'!$B$2:$B$499,1,FALSE)),\"\",\"Y\")","v":""}]
["643E00105","EDGE LINE, 6\", APP","MILE","PRIMARY","40104","TRAFFIC PAINT WHITE POLYESTER","GAL","740.03","24.00000","CERT",{"$f":"IF(ISNA(VLOOKUP(A10406,'(1) Project Reference Item List'!$B$2:$B$499,1,FALSE)),\"\",\"Y\")","v":""}]
["642E00401","CHANNELIZING LINE, 8\", TYPE 1, APP","FT","PRIMARY","40120","TP WHITE 60 SEC DRY WATER BASED","GAL","NTPEP SPEC","0.00833","CERT",{"$f":"IF(ISNA(VLOOKUP(A10471,'(1) Project Reference Item List'!$B$2:$B$499,1,FALSE)),\"\",\"Y\")","v":""}]
["611E21501","48\" CONDUIT, TYPE F, APP","FT","SUBSTITUTE","5221","ALUMINUM PIPE 707.22","FT","707.22","1.00000","CERT",{"$f":"IF(ISNA(VLOOKUP(A10536,'(1) Project Reference Item List'!$B$2:$B$499,1,FALSE)),\"\",\"Y\")","v":""}]
["611E52500","24\"X38\" CONDUIT, TYPE A","FT","SUBSTITUTE","47014","FLEXIBLE PLASTIC GASKETS","EACH","706.14","0.00000","QPL",{"$f":"IF(ISNA(VLOOKUP(A10597,'(1) Project Reference Item List'!$B$2:$B$499,1,FALSE)),\"\",\"Y\")","v":""}]
["611E57300","28\"X20\" CONDUIT, TYPE A","FT","SUBSTITUTE","5212","ALUMINUM PIPE ARCH 707.21","FT","707.21","1.00000","CERT",{"$f":"IF(ISNA(VLOOKUP(A10612,'(1) Project Reference Item List'!$B$2:$B$499,1,FALSE)),\"\",\"Y\")","v":""}]
["638E08702","4\" CUTTING-IN SLEEVE","EACH","PRIMARY","74810CS","CUTTING-IN SLEEVE","EACH","748.10(CS)","1.00000","QPL",{"$f":"IF(ISNA(VLOOKUP(A10673,'(1) Project Reference Item List'!$B$2:$B$499,1,FALSE)),\"\",\"Y\")","v":""}]
["832E30000","EROSION CONTROL","EACH","COMPONENT","71209C","GEOTEXTILE FABRIC TYPE C","SY","712.09","0.00000","APPR",{"$f":"IF(ISNA(VLOOKUP(A10738,'(1) Project Reference Item List'!$B$2:$B$499,1,FALSE)),\"\",\"Y\")","v":""}]
["611E98750","INLET, NO. 2-14","EACH","COMPONENT","25002","CONCRETE BRICK","EACH","704.02","0.00000","QPL",{"$f":"IF(ISNA(VLOOKUP(A10753,'(1) Project Reference Item List'!$B$2:$B$499,1,FALSE)),\"\",\"Y\")","v":""}]
["644E50300","PAVEMENT MARKING, MISC.","FT","PRIMARY","40223","THERMOPLASTIC GRANULAR (WHITE)","LB","SPEC NTPEP","0.00000","CERT",{"$f":"IF(ISNA(VLOOKUP(A10814,'(1) Project Reference Item List'!$B$2:$B$499,1,FALSE)),\"\",\"Y\")","v":""}]
["646E10600","TRANSVERSE/DIAGONAL LINE","FT","COMPONENT","40720","GLASS BEADS, EPOXY, SIZE 1","LB","740.09D LA","0.31000","CERT",{"$f":"IF(ISNA(VLOOKUP(A10879,'(1) Project Reference Item List'!$B$2:$B$499,1,FALSE)),\"\",\"Y\")","v":""}]
["645E01108","SCHOOL SYMBOL MKG, 96\", TYPE A","EACH","PRIMARY","40301L","PREFORMED WHITE  TYPE A-1 90 MIL LEGEND","EACH","740.05","1.00000","CERT",{"$f":"IF(ISNA(VLOOKUP(A10944,'(1) Project Reference Item List'!$B$2:$B$499,1,FALSE)),\"\",\"Y\")","v":""}]
["631E85000","DISCONNECT SWITCH, 30 AMP","EACH","PRIMARY","33906","DISCONNECT SWITCH W/ENCLOSURE 732.21","EACH","732.21","1.00000","QPL",{"$f":"IF(ISNA(VLOOKUP(A10955,'(1) Project Reference Item List'!$B$2:$B$499,1,FALSE)),\"\",\"Y\")","v":""}]
["646E20600","BIKE LANE SYMBOL MARKING","EACH","COMPONENT","40720","GLASS BEADS, EPOXY, SIZE 1","LB","740.09D LA","0.00000","CERT",{"$f":"IF(ISNA(VLOOKUP(A11020,'(1) Project Reference Item List'!$B$2:$B$499,1,FALSE)),\"\",\"Y\")","v":""}]
["645E01424","WORD ON PAVEMENT, 96\", TYPE A3","EACH","PRIMARY","40305L","PREFORMED WHITE TYPE A-3 LEGEND/WAFFLE","EACH","740.05","1.00000","CERT",{"$f":"IF(ISNA(VLOOKUP(A11073,'(1) Project Reference Item List'!$B$2:$B$499,1,FALSE)),\"\",\"Y\")","v":""}]
["630E11103","OVHD SUPP, 16.21, DES 11, APP","EACH","COMPONENT","607BNW","SIGN/SIGNAL ANCHOR BOLT, NUT, WASHER","EACH","730.02","4.00000","QPL",{"$f":"IF(ISNA(VLOOKUP(A11147,'(1) Project Reference Item List'!$B$2:$B$499,1,FALSE)),\"\",\"Y\")","v":""}]
["630E72541","OVERHEAD SIGN SUPP, TC-16.22, DES 12 APP","EACH","PRIMARY","607BNW","SIGN/SIGNAL ANCHOR BOLT, NUT, WASHER","EACH","730.02","0.00000","QPL",{"$f":"IF(ISNA(VLOOKUP(A11162,'(1) Project Reference Item List'!$B$2:$B$499,1,FALSE)),\"\",\"Y\")","v":""}]
["611E98341","CATCH BASIN, NO. 5A","EACH","PRIMARY","27200","CERTIFIED PRECAST CATCH BASIN","EACH","706.13 S10","1.00000","CERT",{"$f":"IF(ISNA(VLOOKUP(A11223,'(1) Project Reference Item List'!$B$2:$B$499,1,FALSE)),\"\",\"Y\")","v":""}]
["614E18040","MAINTAINING TRAFFIC, MISC.:","DAY","PRIMARY","NOMATL","CODE TO ADD TO CONTRACT S & T REQ","EACH","NONE","0.00000",null,{"$f":"IF(ISNA(VLOOKUP(A11288,'(1) Project Reference Item List'!$B$2:$B$499,1,FALSE)),\"\",\"Y\")","v":""}]
["630E55001","CONCRETE BARRIER MDN OVRHD SGN SUPP, APP","EACH","COMPONENT","607BNW","SIGN/SIGNAL ANCHOR BOLT, NUT, WASHER","EACH","730.02","4.00000","QPL",{"$f":"IF(ISNA(VLOOKUP(A11349,'(1) Project Reference Item List'!$B$2:$B$499,1,FALSE)),\"\",\"Y\")","v":""}]
["511E45720","CLASS QC SCC CONCRETE, ABUTMENT","CY","PRIMARY","21504","CONCRETE PORTLAND CEMENT CLASS C OPT 1","CY","499 511","1.00000","JCTL",{"$f":"IF(ISNA(VLOOKUP(A11364,'(1) Project Reference Item List'!$B$2:$B$499,1,FALSE)),\"\",\"Y\")","v":""}]
["646E20350","LANE REDUCTION ARROW","EACH","PRIMARY","40101","TRAFFIC PAINT WHITE EPOXY RESIN","GAL","740.07 O&P","0.57500","CERT",{"$f":"IF(ISNA(VLOOKUP(A11429,'(1) Project Reference Item List'!$B$2:$B$499,1,FALSE)),\"\",\"Y\")","v":""}]
["645E00191","LANE LINE, 4\", TYPE A, APP","MILE","PRIMARY","40305","PREFORMED WHITE TYPE A-3","FT","740.05","1,320.00000","CERT",{"$f":"IF(ISNA(VLOOKUP(A11490,'(1) Project Reference Item List'!$B$2:$B$499,1,FALSE)),\"\",\"Y\")","v":""}]
["606E16001","GUARDRAIL REBUILT, APP","FT","COMPONENT","350WPOST","WOODPOST","EACH","710.12-14","0.16000","CERT",{"$f":"IF(ISNA(VLOOKUP(A11505,'(1) Project Reference Item List'!$B$2:$B$499,1,FALSE)),\"\",\"Y\")","v":""}]
["611E98800","INLET, NO. 3B","EACH","COMPONENT","62575","REINFORCING, EPOXY COATED GRADE 75","LB","709.00","328.00000","CERT",{"$f":"IF(ISNA(VLOOKUP(A11570,'(1) Project Reference Item List'!$B$2:$B$499,1,FALSE)),\"\",\"Y\")","v":""}]
["611E95521","10'X9' CONDUIT, TYPE A, 706.05, APP","FT","COMPONENT","61501","BITUMINOUS PIPE JOINT FILLER","GAL","706.10","0.00000","QPL",{"$f":"IF(ISNA(VLOOKUP(A11631,'(1) Project Reference Item List'!$B$2:$B$499,1,FALSE)),\"\",\"Y\")","v":""}]
["638E20338","SPECIAL - 30\" DIP 52 PO JTS & FTGS, MS","FT","SUBSTITUTE","09AGS8","GRANULATED (BF) SLAG 703.08","TON","703.08","0.00000","CERT",{"$f":"IF(ISNA(VLOOKUP(A11696,'(1) Project Reference Item List'!$B$2:$B$499,1,FALSE)),\"\",\"Y\")","v":""}]
["807E10410","WET RFLCTV TRAF PNT, DOTTED LINE, 6\"","FT","COMPONENT","40721","GLASS BEADS, EPOXY, SIZE 2","LB","740.09DII","1.00000","CERT",{"$f":"IF(ISNA(VLOOKUP(A11707,'(1) Project Reference Item List'!$B$2:$B$499,1,FALSE)),\"\",\"Y\")","v":""}]
["611E98511","CATCH BASIN, NO. 2-3, APP","EACH","COMPONENT","37507","PORTLAND CEMENT MASONRY","LB","701.07","0.00000","CERT",{"$f":"IF(ISNA(VLOOKUP(A11772,'(1) Project Reference Item List'!$B$2:$B$499,1,FALSE)),\"\",\"Y\")","v":""}]
["611E30400","96\" CONDUIT, TYPE C","FT","COMPONENT","61501","BITUMINOUS PIPE JOINT FILLER","GAL","706.10","0.00000","QPL",{"$f":"IF(ISNA(VLOOKUP(A11837,'(1) Project Reference Item List'!$B$2:$B$499,1,FALSE)),\"\",\"Y\")","v":""}]
["884E10080","9.5\" PORTLAND CEMENT CONCRETE PAVEMENT","SY","COMPONENT","62660","REINFORCING, UNCOATED GRADE 60","LB","709.01","0.00000","CERT",{"$f":"IF(ISNA(VLOOKUP(A11898,'(1) Project Reference Item List'!$B$2:$B$499,1,FALSE)),\"\",\"Y\")","v":""}]
["632E84300","COMB ST POLE, 81.10,DES 3","EACH","COMPONENT","62675","REINFORCING, UNCOATED GRADE 75","LB","709.01","100.00000","CERT",{"$f":"IF(ISNA(VLOOKUP(A11913,'(1) Project Reference Item List'!$B$2:$B$499,1,FALSE)),\"\",\"Y\")","v":""}]
["632E41500","SGNL CABLE, 15 COND, 14AWG","FT","PRIMARY","307IMSA","SIGNAL CABLE IMSA 19-1/20-1","FT","732.19(1)","1.00000","QPL",{"$f":"IF(ISNA(VLOOKUP(A11974,'(1) Project Reference Item List'!$B$2:$B$499,1,FALSE)),\"\",\"Y\")","v":""}]
["515E15054","DRAPED PREST CONC I-BM, LV 3, TYPE 4 (78","EACH","COMPONENT","42701","NON-SHRINK GROUT FOR PRESTRESS 705.22","LB","705.22","0.00000","CERT",{"$f":"IF(ISNA(VLOOKUP(A12039,'(1) Project Reference Item List'!$B$2:$B$499,1,FALSE)),\"\",\"Y\")","v":""}]
["611E00900","6\" CONDUIT, TYPE B","FT","SUBSTITUTE","508JG","RESILIENT & FLEXABLE JOINT GASKET","EACH","706.12","0.00000","QPL",{"$f":"IF(ISNA(VLOOKUP(A12054,'(1) Project Reference Item List'!$B$2:$B$499,1,FALSE)),\"\",\"Y\")","v":""}]
["611E07601","18\" CONDUIT, TYPE C, APP","FT","SUBSTITUTE","4823000D","CERT REINF CIRCULAR CONC PIPE 3000D LOAD","FT","706.02 S10","1.00000","CERT",{"$f":"IF(ISNA(VLOOKUP(A12115,'(1) Project Reference Item List'!$B$2:$B$499,1,FALSE)),\"\",\"Y\")","v":""}]
["202E11200","PORTIONS OF STR REM","LS","PRIMARY","NOMATL","CODE TO ADD TO CONTRACT S & T REQ","EACH","NONE","0.00000",null,{"$f":"IF(ISNA(VLOOKUP(A12180,'(1) Project Reference Item List'!$B$2:$B$499,1,FALSE)),\"\",\"Y\")","v":""}]
["503E11101","COFFERDAMS AND EXCAVATION BRACING, APP","LS","PRIMARY","NOMATL","CODE TO ADD TO CONTRACT S & T REQ","EACH","NONE","0.00000",null,{"$f":"IF(ISNA(VLOOKUP(A12245,'(1) Project Reference Item List'!$B$2:$B$499,1,FALSE)),\"\",\"Y\")","v":""}]
["507E93301","STEEL POINTS OR SHOES, APP","EACH","PRIMARY","36802","CAST STEEL PILE POINT OR SHOE","EACH","711.07","1.00000","CTD",{"$f":"IF(ISNA(VLOOKUP(A12256,'(1) Project Reference Item List'!$B$2:$B$499,1,FALSE)),\"\",\"Y\")","v":""}]
["605E11100","6\" SHALLOW PIPE UD","FT","PRIMARY","495P31P","PE CORR PERFORATED M252 CP PIPE","FT","707.31","1.00000","CERT",{"$f":"IF(ISNA(VLOOKUP(A12321,'(1) Project Reference Item List'!$B$2:$B$499,1,FALSE)),\"\",\"Y\")","v":""}]
["511E41011","CLS QC1 CNCRT, PIER ABOVE FOOTINGS, APP","CY","COMPONENT","61606","PREFORMED ELASTOMERIC COMPRESSION SEAL","FT","705.11","0.00000","QPL",{"$f":"IF(ISNA(VLOOKUP(A12382,'(1) Project Reference Item List'!$B$2:$B$499,1,FALSE)),\"\",\"Y\")","v":""}]
["524E94903","DRILLED SHAFTS, 48\", ABOVE BR, APP","FT","PRIMARY","215QC5","QC 5  CONCRETE-4000-4500 PSI_3/8' -1\"AGG","CY","499","0.06542","JCTL",{"$f":"IF(ISNA(VLOOKUP(A12447,'(1) Project Reference Item List'!$B$2:$B$499,1,FALSE)),\"\",\"Y\")","v":""}]
["513E20000","WELDED STUD SHEAR CONNECTORS","EACH","PRIMARY","65901","STUD SHEAR CONNECTORS A 108","EACH","513.22","1.00000","CTD",{"$f":"IF(ISNA(VLOOKUP(A12462,'(1) Project Reference Item List'!$B$2:$B$499,1,FALSE)),\"\",\"Y\")","v":""}]
["452E17050","14.5\" NO-REINF CNC PVMT, QC1P","SY","COMPONENT","619100","PREFORMED EXPANSION JOINT FILLER 1\"","SF","705.03-711","0.00000","QPL",{"$f":"IF(ISNA(VLOOKUP(A12523,'(1) Project Reference Item List'!$B$2:$B$499,1,FALSE)),\"\",\"Y\")","v":""}]
["605E11101","6\" SHALLOW PIPE UD, APP","FT","SUBSTITUTE","49770741","PVC SMOOTH WALL UNDERDRAIN PIPE","FT","707.41","1.00000","QPL",{"$f":"IF(ISNA(VLOOKUP(A12588,'(1) Project Reference Item List'!$B$2:$B$499,1,FALSE)),\"\",\"Y\")","v":""}]
["605E11101","6\" SHALLOW PIPE UD, APP","FT","SUBSTITUTE","076008","8 ACBF SLAG (703)","TON","703","0.00000","CERT",{"$f":"IF(ISNA(VLOOKUP(A12603,'(1) Project Reference Item List'!$B$2:$B$499,1,FALSE)),\"\",\"Y\")","v":""}]
["301E46020","ASPHALT CONCRETE BASE, PG70-22M","CY","SUBSTITUTE","1016422","PERFORMANCE GRADED ASPHALT (PG 64-22)","GAL","SS 1032","0.00000","CERT",{"$f":"IF(ISNA(VLOOKUP(A12664,'(1) Project Reference Item List'!$B$2:$B$499,1,FALSE)),\"\",\"Y\")","v":""}]
["611E98710","INLET, NO. 2-6","EACH","COMPONENT","25003","CONCRETE MASONRY BLOCKS","EACH","704.03","0.00000","QPL",{"$f":"IF(ISNA(VLOOKUP(A12729,'(1) Project Reference Item List'!$B$2:$B$499,1,FALSE)),\"\",\"Y\")","v":""}]
["512E55911","TYPE 3 WATERPROOFING, APP","LS","COMPONENT","61607","JOINT & CRACK SEALER, HOT APPLIED 705.04","LB","705.04","0.00000","CERT",{"$f":"IF(ISNA(VLOOKUP(A12790,'(1) Project Reference Item List'!$B$2:$B$499,1,FALSE)),\"\",\"Y\")","v":""}]
["513E10121","STRC STEEL MEM, L6 , APP","LS","COMPONENT","6583251","HS HVY HEX HD BLT,A325,TY 1","EACH","711.09","0.00000","CERT",{"$f":"IF(ISNA(VLOOKUP(A12805,'(1) Project Reference Item List'!$B$2:$B$499,1,FALSE)),\"\",\"Y\")","v":""}]
["611E96551","FIELD PAVING OF EXIS. PIPE, APP","FT","COMPONENT","42406OH","WHITE CURE TYPE 2 CLASS A OR B","GAL","705.07OH","0.00000","QPL",{"$f":"IF(ISNA(VLOOKUP(A12870,'(1) Project Reference Item List'!$B$2:$B$499,1,FALSE)),\"\",\"Y\")","v":""}]
["632E75022","SG SUPP, 81.21 D4, 81.21 D2 & D2","EACH","COMPONENT","607BNW","SIGN/SIGNAL ANCHOR BOLT, NUT, WASHER","EACH","730.02","4.00000","QPL",{"$f":"IF(ISNA(VLOOKUP(A12931,'(1) Project Reference Item List'!$B$2:$B$499,1,FALSE)),\"\",\"Y\")","v":""}]
["633E65523","CABINET, TYPE 332L, APP","EACH","PRIMARY","345332","CABINET 332","EACH","733.03.C","1.00000",null,{"$f":"IF(ISNA(VLOOKUP(A12996,'(1) Project Reference Item List'!$B$2:$B$499,1,FALSE)),\"\",\"Y\")","v":""}]
["630E72420","OVERHEAD SIGN SUPP, TC-15.116, DES 2","EACH","PRIMARY","60200","RIGID OVERHEAD SIGN SUPPORT","EACH","630.06","1.00000","CERT",{"$f":"IF(ISNA(VLOOKUP(A13007,'(1) Project Reference Item List'!$B$2:$B$499,1,FALSE)),\"\",\"Y\")","v":""}]
["601E32111","ROCK CH PROT, B W/AGG FILTER, APP","CY","PRIMARY","NOMATL","CODE TO ADD TO CONTRACT S & T REQ","EACH","NONE","0.00000",null,{"$f":"IF(ISNA(VLOOKUP(A13072,'(1) Project Reference Item List'!$B$2:$B$499,1,FALSE)),\"\",\"Y\")","v":""}]
["606E35140","BRIDGE TERM ASSY, TYPE 4","EACH","COMPONENT","550SPOST","STEEL POST","EACH","710.15","1.00000","CERT",{"$f":"IF(ISNA(VLOOKUP(A13137,'(1) Project Reference Item List'!$B$2:$B$499,1,FALSE)),\"\",\"Y\")","v":""}]
["515E15090","DRAPED PREST CONC I-BM, LV 3, WF48-49","EACH","COMPONENT","42701","NON-SHRINK GROUT FOR PRESTRESS 705.22","LB","705.22","0.00000","CERT",{"$f":"IF(ISNA(VLOOKUP(A13198,'(1) Project Reference Item List'!$B$2:$B$499,1,FALSE)),\"\",\"Y\")","v":""}]
["512E33301","TYPE A WATERPROOFING, APP","SY","SUBSTITUTE","104MS2","ASPHALT ANIONIC EMULS MEDIUM SET GRD MS2","GAL","702.04","0.10000","CERT",{"$f":"IF(ISNA(VLOOKUP(A13213,'(1) Project Reference Item List'!$B$2:$B$499,1,FALSE)),\"\",\"Y\")","v":""}]
["206E15030","CEMENT STABILIZED SUBGRADE, 16","SY","COMPONENT","001014","WATER (499.02)","GAL","499.02","0.00000","JCTL",{"$f":"IF(ISNA(VLOOKUP(A13278,'(1) Project Reference Item List'!$B$2:$B$499,1,FALSE)),\"\",\"Y\")","v":""}]
["611E19600","42\" CONDUIT, TYPE C","FT","SUBSTITUTE","4611","MORTAR LINED CSP 707.11","FT","707.11","1.00000","CERT",{"$f":"IF(ISNA(VLOOKUP(A13339,'(1) Project Reference Item List'!$B$2:$B$499,1,FALSE)),\"\",\"Y\")","v":""}]
["202E42610","ANCHOR ASSEMBLY REMOVED/REUSE, T-B-98","EACH","PRIMARY","NOMATL","CODE TO ADD TO CONTRACT S & T REQ","EACH","NONE","0.00000",null,{"$f":"IF(ISNA(VLOOKUP(A13354,'(1) Project Reference Item List'!$B$2:$B$499,1,FALSE)),\"\",\"Y\")","v":""}]
["611E01100","6\" CONDUIT, TYPE C","FT","SUBSTITUTE","481CL3","CERT NON-REINFORCED CONC PIPE CLASS 3","FT","706.01 S10","1.00000","CERT",{"$f":"IF(ISNA(VLOOKUP(A13415,'(1) Project Reference Item List'!$B$2:$B$499,1,FALSE)),\"\",\"Y\")","v":""}]
["601E28100","DUMPED ROCK FILL","CY","PRIMARY","001019D","GRAVEL FOR DUMP ROCK FILL TYPE D","TON","703.19","1.21400","CERT",{"$f":"IF(ISNA(VLOOKUP(A13480,'(1) Project Reference Item List'!$B$2:$B$499,1,FALSE)),\"\",\"Y\")","v":""}]
["606E27850","ANCHOR ASSY REBUILT, TYPE E","EACH","COMPONENT","350WPOST","WOODPOST","EACH","710.12-14","6.00000","CERT",{"$f":"IF(ISNA(VLOOKUP(A13545,'(1) Project Reference Item List'!$B$2:$B$499,1,FALSE)),\"\",\"Y\")","v":""}]
["517E71514","RLG (CONC PPT DOUBL PIPE), HIGH PERF CON","FT","COMPONENT","619025","PREFORMED EXPANSION JOINT FILLER 1/4\"","SF","705.03-711","0.00000","QPL",{"$f":"IF(ISNA(VLOOKUP(A13556,'(1) Project Reference Item List'!$B$2:$B$499,1,FALSE)),\"\",\"Y\")","v":""}]
["524E94700","DRILLED SHAFTS, 36\"","FT","PRIMARY","215QC4","QC 4 CONCRETE - MASS - WELL GRADED","CY","499","0.06542","JCTL",{"$f":"IF(ISNA(VLOOKUP(A13621,'(1) Project Reference Item List'!$B$2:$B$499,1,FALSE)),\"\",\"Y\")","v":""}]
["638E20202","SPECIAL - 12\" DIP 56 BALL & SOCKET JTS &","FT","COMPONENT","21501","CONCRETE PORTLAND CEMENT CLASS C","CY","499 511","0.00000","JCTL",{"$f":"IF(ISNA(VLOOKUP(A13686,'(1) Project Reference Item List'!$B$2:$B$499,1,FALSE)),\"\",\"Y\")","v":""}]
["691E20100","HERB SPRYG, WD & BR OFF ROAD","GAL","PRIMARY","80001","HERBICIDE","GAL","661.10","1.00000","JCTL",{"$f":"IF(ISNA(VLOOKUP(A13747,'(1) Project Reference Item List'!$B$2:$B$499,1,FALSE)),\"\",\"Y\")","v":""}]
["611E58901","87\"X63\" CONDUIT, TYPE A, APP","FT","PRIMARY","4572","BITUMINOUS COATED CSP ARCH 707.07","FT","707.07","1.00000","CERT",{"$f":"IF(ISNA(VLOOKUP(A13762,'(1) Project Reference Item List'!$B$2:$B$499,1,FALSE)),\"\",\"Y\")","v":""}]
["638E20256","SPECIAL - 20\" DIP 53 MJ & FTGS, MS","FT","SUBSTITUTE","07E057","57 RECYCLED CONCRETE (703.11 703.18)","TON","703.18","0.00000","CERT",{"$f":"IF(ISNA(VLOOKUP(A13823,'(1) Project Reference Item List'!$B$2:$B$499,1,FALSE)),\"\",\"Y\")","v":""}]
["611E57308","28\"X20\" CONDUIT, TYPE D","FT","PRIMARY","5212","ALUMINUM PIPE ARCH 707.21","FT","707.21","1.00000","CERT",{"$f":"IF(ISNA(VLOOKUP(A13888,'(1) Project Reference Item List'!$B$2:$B$499,1,FALSE)),\"\",\"Y\")","v":""}]
["611E23801","60\" CONDUIT, TYPE B, APP","FT","SUBSTITUTE","4641","BITUMINOUS LINED CSP 707.14","FT","707.14","1.00000","CERT",{"$f":"IF(ISNA(VLOOKUP(A13903,'(1) Project Reference Item List'!$B$2:$B$499,1,FALSE)),\"\",\"Y\")","v":""}]
["823E10000","ASPH CONC SURFACE, TYPE 1,(448)","CY","PRIMARY","1774411","BIT CONC 441 TYPE 1 SURFACE","TON","441","0.00000","JCTL",{"$f":"IF(ISNA(VLOOKUP(A13964,'(1) Project Reference Item List'!$B$2:$B$499,1,FALSE)),\"\",\"Y\")","v":""}]
["646E10010","EDGE LINE, 6\"","MILE","PRIMARY","40102NTPP","TRAFFIC PAINT YELLOW EPOXY RESIN","GAL","NTPEP","33.00000","CERT",{"$f":"IF(ISNA(VLOOKUP(A14029,'(1) Project Reference Item List'!$B$2:$B$499,1,FALSE)),\"\",\"Y\")","v":""}]
["638E03700","20\" DIP CL 56, BALL & SOCKET JTS","FT","SUBSTITUTE","09AGS8","GRANULATED (BF) SLAG 703.08","TON","703.08","0.00000","CERT",{"$f":"IF(ISNA(VLOOKUP(A14090,'(1) Project Reference Item List'!$B$2:$B$499,1,FALSE)),\"\",\"Y\")","v":""}]
["638E04004","24\" DIP CL 53, BLTL-REST JTS","FT","COMPONENT","215QCMISC","QC MISCELLANEOUS 4000 PSI","CY","499","0.00000","JCTL",{"$f":"IF(ISNA(VLOOKUP(A14105,'(1) Project Reference Item List'!$B$2:$B$499,1,FALSE)),\"\",\"Y\")","v":""}]
["632E66104","POWER CABLE, 3 COND, 10AWG","FT","PRIMARY","302CU1002","2/C,NO. 10 AWG (CU) 600V RHH-RHW-USE","FT","732.19","1.00000","QPL",{"$f":"IF(ISNA(VLOOKUP(A14170,'(1) Project Reference Item List'!$B$2:$B$499,1,FALSE)),\"\",\"Y\")","v":""}]
["804E38151","FBER OPTIC CBLE MEDIA CNVERTER, SER, APP","EACH","PRIMARY","330MISC","FIBER OPTIC, MISCELLANEOUS","EACH","SPECIAL","0.00000","CTD",{"$f":"IF(ISNA(VLOOKUP(A14231,'(1) Project Reference Item List'!$B$2:$B$499,1,FALSE)),\"\",\"Y\")","v":""}]
["645E01390","WORD ON PAVEMENT, 72\", TYPE A","EACH","PRIMARY","40303L","PREFORMED WHITE TYPE A-2 60 MIL LEGEND","EACH","740.05","1.00000","CERT",{"$f":"IF(ISNA(VLOOKUP(A14296,'(1) Project Reference Item List'!$B$2:$B$499,1,FALSE)),\"\",\"Y\")","v":""}]
["632E81091","COMB SG SUP, 81.21, DES 13, APP","EACH","PRIMARY","34200SS","SIGNAL SUPPORT","EACH","732.11","1.00000","CERT",{"$f":"IF(ISNA(VLOOKUP(A14311,'(1) Project Reference Item List'!$B$2:$B$499,1,FALSE)),\"\",\"Y\")","v":""}]
["630E70082","OVHD SIGN SUPP FOUNDATION, DMS PED","EACH","PRIMARY","60200","RIGID OVERHEAD SIGN SUPPORT","EACH","630.06","1.00000","CERT",{"$f":"IF(ISNA(VLOOKUP(A14372,'(1) Project Reference Item List'!$B$2:$B$499,1,FALSE)),\"\",\"Y\")","v":""}]
["614E25620","WORK ZONE TRANS/DIAGO LINE, CL III, 642","FT","PRIMARY","40120","TP WHITE 60 SEC DRY WATER BASED","GAL","NTPEP SPEC","0.01364","CERT",{"$f":"IF(ISNA(VLOOKUP(A14437,'(1) Project Reference Item List'!$B$2:$B$499,1,FALSE)),\"\",\"Y\")","v":""}]
["625E31511","PULL BOX REMOVED, APP","EACH","PRIMARY","NOMATL","CODE TO ADD TO CONTRACT S & T REQ","EACH","NONE","0.00000",null,{"$f":"IF(ISNA(VLOOKUP(A14498,'(1) Project Reference Item List'!$B$2:$B$499,1,FALSE)),\"\",\"Y\")","v":""}]
["630E79100","SIGN HNGR ASSY, MAST ARM","EACH","PRIMARY","60503","SIGN HANGER ASSEMBLY, MAST ARM","EACH","TC-41.41(M","1.00000","QPL",{"$f":"IF(ISNA(VLOOKUP(A14513,'(1) Project Reference Item List'!$B$2:$B$499,1,FALSE)),\"\",\"Y\")","v":""}]
["646E10010","EDGE LINE, 6\"","MILE","PRIMARY","40102F","TRAFFIC PAINT FAST DRY YELLOW EPOXY RES","GAL","740.07","33.00000",null,{"$f":"IF(ISNA(VLOOKUP(A14578,'(1) Project Reference Item List'!$B$2:$B$499,1,FALSE)),\"\",\"Y\")","v":""}]
["611E01100","6\" CONDUIT, TYPE C","FT","PRIMARY","494P33NPREC","RECYCLED PE CORR M294 SD PIPE","FT","707.33","1.00000",null,{"$f":"IF(ISNA(VLOOKUP(A14639,'(1) Project Reference Item List'!$B$2:$B$499,1,FALSE)),\"\",\"Y\")","v":""}]
["526E90021","TYPE B INSTALLATION, APP","SY","PRIMARY","21527","CONCRETE HIGH PERFORMANCE MIX 4","CY","499 511","0.47222","JCTL",{"$f":"IF(ISNA(VLOOKUP(A14654,'(1) Project Reference Item List'!$B$2:$B$499,1,FALSE)),\"\",\"Y\")","v":""}]
["611E53401","58\" X 91\" CONDUIT, TYPE A, APP","FT","PRIMARY","484HE2","CERT REIN CONC PIPE HE-2 1000D LOAD","FT","706.04 S10","1.00000","CERT",{"$f":"IF(ISNA(VLOOKUP(A14715,'(1) Project Reference Item List'!$B$2:$B$499,1,FALSE)),\"\",\"Y\")","v":""}]
["611E43300","216\" CONDUIT, TYPE A","FT","SUBSTITUTE","055SD5","SAND STONE 703.05","TON","703.05","0.00000","CERT",{"$f":"IF(ISNA(VLOOKUP(A14780,'(1) Project Reference Item List'!$B$2:$B$499,1,FALSE)),\"\",\"Y\")","v":""}]
["606E35011","BR TERM ASSY REBUILT, TYPE 1, APP","EACH","COMPONENT","550SPOST","STEEL POST","EACH","710.15","6.00000","CERT",{"$f":"IF(ISNA(VLOOKUP(A14845,'(1) Project Reference Item List'!$B$2:$B$499,1,FALSE)),\"\",\"Y\")","v":""}]
["515E12091","PRESTR CONC COMP BM, LV 1, CB33-48, APP","EACH","COMPONENT","42701","NON-SHRINK GROUT FOR PRESTRESS 705.22","LB","705.22","0.00000","CERT",{"$f":"IF(ISNA(VLOOKUP(A14856,'(1) Project Reference Item List'!$B$2:$B$499,1,FALSE)),\"\",\"Y\")","v":""}]
["611E16200","36\" CONDUIT, TYPE A","FT","COMPONENT","61501","BITUMINOUS PIPE JOINT FILLER","GAL","706.10","0.00000","QPL",{"$f":"IF(ISNA(VLOOKUP(A14921,'(1) Project Reference Item List'!$B$2:$B$499,1,FALSE)),\"\",\"Y\")","v":""}]
["611E98570","CATCH BASIN, NO. 2-5","EACH","COMPONENT","37501","PORTLAND CEMENT TYPE 1A","TON","701.01","0.00000","CERT",{"$f":"IF(ISNA(VLOOKUP(A14986,'(1) Project Reference Item List'!$B$2:$B$499,1,FALSE)),\"\",\"Y\")","v":""}]
["513E10021","STRC STEEL MEM, L-1, APP","LS","PRIMARY","65100L1","LEVEL ONE FABRICATED STEEL MEMBER","EACH","513","0.00000","CERT",{"$f":"IF(ISNA(VLOOKUP(A15047,'(1) Project Reference Item List'!$B$2:$B$499,1,FALSE)),\"\",\"Y\")","v":""}]
["638E20346","SPECIAL - 30\" DIP 53 PO JTS & FTGS, MS","FT","COMPONENT","21501","CONCRETE PORTLAND CEMENT CLASS C","CY","499 511","0.00000","JCTL",{"$f":"IF(ISNA(VLOOKUP(A15062,'(1) Project Reference Item List'!$B$2:$B$499,1,FALSE)),\"\",\"Y\")","v":""}]
["611E96000","12'X8' CONDUIT, TYPE A, 706.05","FT","SUBSTITUTE","37501","PORTLAND CEMENT TYPE 1A","TON","701.01","0.00000","CERT",{"$f":"IF(ISNA(VLOOKUP(A15123,'(1) Project Reference Item List'!$B$2:$B$499,1,FALSE)),\"\",\"Y\")","v":""}]
["605E05210","4\" UNCL PIPE UD W/GEOTEX FAB","FT","PRIMARY","495P31P","PE CORR PERFORATED M252 CP PIPE","FT","707.31","1.00000","CERT",{"$f":"IF(ISNA(VLOOKUP(A15188,'(1) Project Reference Item List'!$B$2:$B$499,1,FALSE)),\"\",\"Y\")","v":""}]
["515E12101","PRESTR CONC COMP BM, LV 1, CB42-36, APP","EACH","COMPONENT","42701","NON-SHRINK GROUT FOR PRESTRESS 705.22","LB","705.22","0.00000","APPR",{"$f":"IF(ISNA(VLOOKUP(A15203,'(1) Project Reference Item List'!$B$2:$B$499,1,FALSE)),\"\",\"Y\")","v":""}]
["524E94904","DRILLED SHAFTS, 48\", INTO BR","FT","COMPONENT","62560","REINFORCING, EPOXY COATED GRADE 60","LB","709.00","0.00000","CERT",{"$f":"IF(ISNA(VLOOKUP(A15264,'(1) Project Reference Item List'!$B$2:$B$499,1,FALSE)),\"\",\"Y\")","v":""}]
["638E08650","16\" INSERTING VALVE & VALVE BOX","EACH","PRIMARY","74808VB","VALVE BOX","EACH","748.08","1.00000","QPL",{"$f":"IF(ISNA(VLOOKUP(A15329,'(1) Project Reference Item List'!$B$2:$B$499,1,FALSE)),\"\",\"Y\")","v":""}]
["611E27600","78\" CONDUIT, TYPE D","FT","SUBSTITUTE","5221","ALUMINUM PIPE 707.22","FT","707.22","1.00000","CERT",{"$f":"IF(ISNA(VLOOKUP(A15394,'(1) Project Reference Item List'!$B$2:$B$499,1,FALSE)),\"\",\"Y\")","v":""}]
["611E31200","102\" CONDUIT, TYPE B","FT","SUBSTITUTE","4821350D","CERT REINF CIRCULAR CONC PIPE 1350D LOAD","FT","706.02 S10","1.00000","CERT",{"$f":"IF(ISNA(VLOOKUP(A15405,'(1) Project Reference Item List'!$B$2:$B$499,1,FALSE)),\"\",\"Y\")","v":""}]
["513E21000","TRIMMING OF BEAM END","EACH","PRIMARY","NOMATL","CODE TO ADD TO CONTRACT S & T REQ","EACH","NONE","0.00000",null,{"$f":"IF(ISNA(VLOOKUP(A15470,'(1) Project Reference Item List'!$B$2:$B$499,1,FALSE)),\"\",\"Y\")","v":""}]
["611E35001","126\" CONDUIT, TYPE A, APP","FT","SUBSTITUTE","042603","SAND & GRAVEL, 603 TYPE 2 GRADATION # 1","TON","703.11","0.00000","CERT",{"$f":"IF(ISNA(VLOOKUP(A15531,'(1) Project Reference Item List'!$B$2:$B$499,1,FALSE)),\"\",\"Y\")","v":""}]
["606E35011","BR TERM ASSY REBUILT, TYPE 1, APP","EACH","COMPONENT","350WPOST","WOODPOST","EACH","710.12-14","6.00000","CERT",{"$f":"IF(ISNA(VLOOKUP(A15596,'(1) Project Reference Item List'!$B$2:$B$499,1,FALSE)),\"\",\"Y\")","v":""}]
["611E07900","18\" CONDUIT, TYPE D","FT","SUBSTITUTE","49170742","PVC CORRUGATED SANITARY SEWER PIPE","FT","707.42","1.00000","QPL",{"$f":"IF(ISNA(VLOOKUP(A15611,'(1) Project Reference Item List'!$B$2:$B$499,1,FALSE)),\"\",\"Y\")","v":""}]
["611E53301","53\"X83\" CONDUIT, TYPE A, 706.04, APP","FT","SUBSTITUTE","042603","SAND & GRAVEL, 603 TYPE 2 GRADATION # 1","TON","703.11","0.00000","CERT",{"$f":"IF(ISNA(VLOOKUP(A15672,'(1) Project Reference Item List'!$B$2:$B$499,1,FALSE)),\"\",\"Y\")","v":""}]
["204E30010","GRANULAR MATERIAL, TYPE B","CY","SUBSTITUTE","078617","617 BO SLAG (703)","TON","703","2.00000","CERT",{"$f":"IF(ISNA(VLOOKUP(A15737,'(1) Project Reference Item List'!$B$2:$B$499,1,FALSE)),\"\",\"Y\")","v":""}]
["452E19250","NON-REINFORCED CONCRETE PAVEMENT, MISC.:","SF","PRIMARY","215QC1","QC 1 CONCRETE - 4000 PSI - WELL GRADED","CY","499","0.00000","JCTL",{"$f":"IF(ISNA(VLOOKUP(A15798,'(1) Project Reference Item List'!$B$2:$B$499,1,FALSE)),\"\",\"Y\")","v":""}]
["606E12000","GUARDRAIL, TYPE 5MR","FT","COMPONENT","550HWMISC","GUARDRAIL HARDWARE","EACH","710.15","1.00000","CERT",{"$f":"IF(ISNA(VLOOKUP(A15813,'(1) Project Reference Item List'!$B$2:$B$499,1,FALSE)),\"\",\"Y\")","v":""}]
["611E53003","38\"X60\" CONDUIT, TYPE B, APP","FT","SUBSTITUTE","47014","FLEXIBLE PLASTIC GASKETS","EACH","706.14","0.00000","QPL",{"$f":"IF(ISNA(VLOOKUP(A15878,'(1) Project Reference Item List'!$B$2:$B$499,1,FALSE)),\"\",\"Y\")","v":""}]
["644E00201","LANE LINE, 4\", APP","MILE","COMPONENT","40703","GLASS BEADS FOR THERMOPLASTIC, DROP ON","LB","740.09 C","52.80000","CERT",{"$f":"IF(ISNA(VLOOKUP(A15939,'(1) Project Reference Item List'!$B$2:$B$499,1,FALSE)),\"\",\"Y\")","v":""}]
["638E00400","4\" PVC PIPE & FTGS, ASTM SDR26","FT","SUBSTITUTE","074057","57 CRUSHED GRAVEL (703)","TON","703.18","0.00000","CERT",{"$f":"IF(ISNA(VLOOKUP(A15954,'(1) Project Reference Item List'!$B$2:$B$499,1,FALSE)),\"\",\"Y\")","v":""}]
["884E10350","15\" PORTLAND CEMENT CONCRETE PAVEMENT","SY","SUBSTITUTE","67601A","EXPANSION SHIELD ANCHOR, TYPE A","EACH","712.01","0.00000","QPL",{"$f":"IF(ISNA(VLOOKUP(A16019,'(1) Project Reference Item List'!$B$2:$B$499,1,FALSE)),\"\",\"Y\")","v":""}]
["625E25405","CONDUIT, 2-1/2\", 725.04, APP","FT","PRIMARY","3150000","RIGID METAL CONDUIT","FT","725.04","1.00000","QPL",{"$f":"IF(ISNA(VLOOKUP(A16080,'(1) Project Reference Item List'!$B$2:$B$499,1,FALSE)),\"\",\"Y\")","v":""}]
["614E31000","WORK ZONE WORD, 72\", CL I","EACH","PRIMARY","40112","TRAFFIC PAINT WHITE FASTDRY ACRYLIC TY-1","GAL","740.02","0.23800","CERT",{"$f":"IF(ISNA(VLOOKUP(A16145,'(1) Project Reference Item List'!$B$2:$B$499,1,FALSE)),\"\",\"Y\")","v":""}]
["611E96493","20'X4' CONDUIT, TYPE A, 706.05, APP","FT","SUBSTITUTE","051SD5","SAND, NATURAL 703.05","TON","703.05","0.00000","CERT",{"$f":"IF(ISNA(VLOOKUP(A16156,'(1) Project Reference Item List'!$B$2:$B$499,1,FALSE)),\"\",\"Y\")","v":""}]
["611E98370","CATCH BASIN, NO. 6","EACH","COMPONENT","619100","PREFORMED EXPANSION JOINT FILLER 1\"","SF","705.03-711","0.00000","QPL",{"$f":"IF(ISNA(VLOOKUP(A16221,'(1) Project Reference Item List'!$B$2:$B$499,1,FALSE)),\"\",\"Y\")","v":""}]
["632E68201","POWER CABLE, 2/C, 6 AWG, APP","FT","PRIMARY","314CU0602","600V COPPER CABLE","FT","732.19(CU)","1.00000","QPL",{"$f":"IF(ISNA(VLOOKUP(A16286,'(1) Project Reference Item List'!$B$2:$B$499,1,FALSE)),\"\",\"Y\")","v":""}]
["614E12391","WZ IMPACT ATTNTR, 24\"-36\" UNIDIRECT, APP","EACH","PRIMARY","NOMATL","CODE TO ADD TO CONTRACT S & T REQ","EACH","NONE","0.00000",null,{"$f":"IF(ISNA(VLOOKUP(A16347,'(1) Project Reference Item List'!$B$2:$B$499,1,FALSE)),\"\",\"Y\")","v":""}]
["511E46513","CLASS QC1 CONCRETE W/QC/QA, FOOTING, APP","CY","COMPONENT","61606","PREFORMED ELASTOMERIC COMPRESSION SEAL","FT","705.11","0.00000","QPL",{"$f":"IF(ISNA(VLOOKUP(A16362,'(1) Project Reference Item List'!$B$2:$B$499,1,FALSE)),\"\",\"Y\")","v":""}]
["611E16201","36\" CONDUIT, TYPE A, APP","FT","SUBSTITUTE","5211","ALUMINUM PIPE 707.21","FT","707.21","1.00000","CERT",{"$f":"IF(ISNA(VLOOKUP(A16423,'(1) Project Reference Item List'!$B$2:$B$499,1,FALSE)),\"\",\"Y\")","v":""}]
["606E26150","ANCHOR ASSEMBLY, MGS TYPE E","EACH","COMPONENT","550HWMISC","GUARDRAIL HARDWARE","EACH","710.15","0.00000","CERT",{"$f":"IF(ISNA(VLOOKUP(A16488,'(1) Project Reference Item List'!$B$2:$B$499,1,FALSE)),\"\",\"Y\")","v":""}]
["255E10161","FULL DPT RMVL & REPL, CL QC MS, APP","SY","SUBSTITUTE","67504","5/8\"X12\" WIGGLE BOLT","EACH","BP2.1","0.00000","QPL",{"$f":"IF(ISNA(VLOOKUP(A16503,'(1) Project Reference Item List'!$B$2:$B$499,1,FALSE)),\"\",\"Y\")","v":""}]
["609E50001","4\" CONCRETE TRAFFIC ISLAND, APP","SY","COMPONENT","61607","JOINT & CRACK SEALER, HOT APPLIED 705.04","LB","705.04","0.00000","CERT",{"$f":"IF(ISNA(VLOOKUP(A16564,'(1) Project Reference Item List'!$B$2:$B$499,1,FALSE)),\"\",\"Y\")","v":""}]
["611E19201","42\" CONDUIT, TYPE A, APP","FT","SUBSTITUTE","4521","ALUMINUM COATED CSP PIPE 707.02","FT","707.02","1.00000","CERT",{"$f":"IF(ISNA(VLOOKUP(A16629,'(1) Project Reference Item List'!$B$2:$B$499,1,FALSE)),\"\",\"Y\")","v":""}]
["611E16401","36\" CONDUIT, TYPE B, APP","FT","SUBSTITUTE","49170742","PVC CORRUGATED SANITARY SEWER PIPE","FT","707.42","1.00000","QPL",{"$f":"IF(ISNA(VLOOKUP(A16694,'(1) Project Reference Item List'!$B$2:$B$499,1,FALSE)),\"\",\"Y\")","v":""}]
["611E16401","36\" CONDUIT, TYPE B, APP","FT","SUBSTITUTE","055SD5","SAND STONE 703.05","TON","703.05","0.00000","CERT",{"$f":"IF(ISNA(VLOOKUP(A16705,'(1) Project Reference Item List'!$B$2:$B$499,1,FALSE)),\"\",\"Y\")","v":""}]
["452E09010","4\" NO-REINF CNC PVMT, QC1P","SY","COMPONENT","61606","PREFORMED ELASTOMERIC COMPRESSION SEAL","FT","705.11","0.00000","QPL",{"$f":"IF(ISNA(VLOOKUP(A16770,'(1) Project Reference Item List'!$B$2:$B$499,1,FALSE)),\"\",\"Y\")","v":""}]
["611E00300","4\" CONDUIT, TYPE D","FT","SUBSTITUTE","47014","FLEXIBLE PLASTIC GASKETS","EACH","706.14","0.00000","QPL",{"$f":"IF(ISNA(VLOOKUP(A16831,'(1) Project Reference Item List'!$B$2:$B$499,1,FALSE)),\"\",\"Y\")","v":""}]
["611E13600","30\" CONDUIT, TYPE C","FT","SUBSTITUTE","508ES","VCP EXTRA STRENGTH","FT","706.08","1.00000","QPL",{"$f":"IF(ISNA(VLOOKUP(A16896,'(1) Project Reference Item List'!$B$2:$B$499,1,FALSE)),\"\",\"Y\")","v":""}]
["611E13901","30\" CONDUIT, TYPE D, APP","FT","SUBSTITUTE","496P32NP","PE CORR NON PERF M294 C PIPE","FT","707.32","1.00000","CERT",{"$f":"IF(ISNA(VLOOKUP(A16911,'(1) Project Reference Item List'!$B$2:$B$499,1,FALSE)),\"\",\"Y\")","v":""}]
["605E05230","4\" ROCK CUT UD W/GEOTEX FAB","FT","COMPONENT","073008","8 GRAVEL 703","TON","703","0.00000","CERT",{"$f":"IF(ISNA(VLOOKUP(A16972,'(1) Project Reference Item List'!$B$2:$B$499,1,FALSE)),\"\",\"Y\")","v":""}]
["611E07901","18\" CONDUIT, TYPE D, APP","FT","SUBSTITUTE","5211","ALUMINUM PIPE 707.21","FT","707.21","1.00000","CERT",{"$f":"IF(ISNA(VLOOKUP(A17037,'(1) Project Reference Item List'!$B$2:$B$499,1,FALSE)),\"\",\"Y\")","v":""}]
["897E02001","PATCHING PLANED SURFACE, APP","SY","PRIMARY","1774411","BIT CONC 441 TYPE 1 SURFACE","TON","441","2.00000","JCTL",{"$f":"IF(ISNA(VLOOKUP(A17052,'(1) Project Reference Item List'!$B$2:$B$499,1,FALSE)),\"\",\"Y\")","v":""}]
["611E33000","114\" CONDUIT, TYPE A","FT","SUBSTITUTE","4571","BITUMINOUS COATED CSP 707.07","FT","707.07","1.00000","CERT",{"$f":"IF(ISNA(VLOOKUP(A17113,'(1) Project Reference Item List'!$B$2:$B$499,1,FALSE)),\"\",\"Y\")","v":""}]
["611E38400","144\" CONDUIT, TYPE C","FT","SUBSTITUTE","055SD5","SAND STONE 703.05","TON","703.05","0.00000","CERT",{"$f":"IF(ISNA(VLOOKUP(A17178,'(1) Project Reference Item List'!$B$2:$B$499,1,FALSE)),\"\",\"Y\")","v":""}]
["632E72130","SGNL SUPP, TYPE TC-81.22, DESIGN 12","EACH","COMPONENT","62560","REINFORCING, EPOXY COATED GRADE 60","LB","709.00","114.00000","CERT",{"$f":"IF(ISNA(VLOOKUP(A17239,'(1) Project Reference Item List'!$B$2:$B$499,1,FALSE)),\"\",\"Y\")","v":""}]
["632E79101","COMBO SGNL SUPP, TC-81.22, DESIGN 2, APP","EACH","COMPONENT","607BNW","SIGN/SIGNAL ANCHOR BOLT, NUT, WASHER","EACH","730.02","4.00000","QPL",{"$f":"IF(ISNA(VLOOKUP(A17254,'(1) Project Reference Item List'!$B$2:$B$499,1,FALSE)),\"\",\"Y\")","v":""}]
["611E94920","8'X7' CONDUIT, TYPE A, 706.05","FT","SUBSTITUTE","04263A","SAND & GRAVEL, 603 TYPE 2 GRADATION # 2","TON","703.11","0.00000","CERT",{"$f":"IF(ISNA(VLOOKUP(A17319,'(1) Project Reference Item List'!$B$2:$B$499,1,FALSE)),\"\",\"Y\")","v":""}]
["874E10021","ULTRATHIN BONDED ASPHALT CONCRETE, APP","CY","COMPONENT","1017022R","PG 64-22 MOD W/ SBR TO BE PG 70-22","GAL","702.01-1","0.00000","JCTL",{"$f":"IF(ISNA(VLOOKUP(A17380,'(1) Project Reference Item List'!$B$2:$B$499,1,FALSE)),\"\",\"Y\")","v":""}]
["638E06700","16\" ST PIPE ENCSMT, OPEN CUT","FT","COMPONENT","215QCMISC","QC MISCELLANEOUS 4000 PSI","CY","499","0.00000","JCTL",{"$f":"IF(ISNA(VLOOKUP(A17445,'(1) Project Reference Item List'!$B$2:$B$499,1,FALSE)),\"\",\"Y\")","v":""}]
["638E01140","6\" PVC PIPE & FTGS, AWWA C900, DR14","FT","COMPONENT","215QCMISC","QC MISCELLANEOUS 4000 PSI","CY","499","0.00000","JCTL",{"$f":"IF(ISNA(VLOOKUP(A17456,'(1) Project Reference Item List'!$B$2:$B$499,1,FALSE)),\"\",\"Y\")","v":""}]
["625E10481","LIGHT POLE, DECORATIVE, APP","EACH","PRIMARY","33200LP","LIGHT POLE","EACH","725.21","1.00000","CERT",{"$f":"IF(ISNA(VLOOKUP(A17521,'(1) Project Reference Item List'!$B$2:$B$499,1,FALSE)),\"\",\"Y\")","v":""}]
["839E30100","TRENCH DRAIN, TYPE B PEDESTRIAN GRATE","FT","COMPONENT","7270PTD","PRECAST POLYMER CONCRETE TRENCH DRAIN","FT","SS-939","0.00000","JCTL",{"$f":"IF(ISNA(VLOOKUP(A17586,'(1) Project Reference Item List'!$B$2:$B$499,1,FALSE)),\"\",\"Y\")","v":""}]
["632E27107","LOOP DETECTOR UNIT, 4 CHANNEL, APP","EACH","PRIMARY","3390TS1","LOOP DETECTOR UNIT, NEMA-TS1","EACH","732.07","1.00000","QPL",{"$f":"IF(ISNA(VLOOKUP(A17647,'(1) Project Reference Item List'!$B$2:$B$499,1,FALSE)),\"\",\"Y\")","v":""}]
["611E98630","CATCH BASIN ADJ TO GRADE","EACH","COMPONENT","37507","PORTLAND CEMENT MASONRY","LB","701.07","0.00000","CERT",{"$f":"IF(ISNA(VLOOKUP(A17662,'(1) Project Reference Item List'!$B$2:$B$499,1,FALSE)),\"\",\"Y\")","v":""}]
["638E01408","8\" DIP CL 56, RESTRAINED JTS & FTGS","FT","SUBSTITUTE","075057","57 CRUSHED STONE (703)","TON","703.18","0.00000","CERT",{"$f":"IF(ISNA(VLOOKUP(A17727,'(1) Project Reference Item List'!$B$2:$B$499,1,FALSE)),\"\",\"Y\")","v":""}]
["638E03004","16\" DIP CL 53, PO JTS & FTGS","FT","SUBSTITUTE","074057","57 CRUSHED GRAVEL (703)","TON","703.18","0.00000","CERT",{"$f":"IF(ISNA(VLOOKUP(A17788,'(1) Project Reference Item List'!$B$2:$B$499,1,FALSE)),\"\",\"Y\")","v":""}]
["645E01508","DOTTED LINE, 6\", TYPE A","FT","PRIMARY","40306","PREFORMED YELLOW TYPE A-3 WAFFLE","FT","740.05","0.25000","CERT",{"$f":"IF(ISNA(VLOOKUP(A17803,'(1) Project Reference Item List'!$B$2:$B$499,1,FALSE)),\"\",\"Y\")","v":""}]
["614E22100","WZ EDGE LINE, CL I, 4\", 642 PT","MILE","PRIMARY","40113","TRAFFIC PAINT YELLOW FASTDRY ACRYLIC T-1","GAL","740.02","22.00000","CERT",{"$f":"IF(ISNA(VLOOKUP(A17864,'(1) Project Reference Item List'!$B$2:$B$499,1,FALSE)),\"\",\"Y\")","v":""}]
["632E82801","STR POLE, 81.10, DES 8, APP","EACH","COMPONENT","62640","REINFORCING, UNCOATED GRADE 40","LB","709.01","129.00000","CERT",{"$f":"IF(ISNA(VLOOKUP(A17929,'(1) Project Reference Item List'!$B$2:$B$499,1,FALSE)),\"\",\"Y\")","v":""}]
["625E29002","TRENCH, 24\" DEEP","FT","PRIMARY","NOMATL","CODE TO ADD TO CONTRACT S & T REQ","EACH","NONE","0.00000",null,{"$f":"IF(ISNA(VLOOKUP(A17994,'(1) Project Reference Item List'!$B$2:$B$499,1,FALSE)),\"\",\"Y\")","v":""}]
["632E75172","SG SUPP, 12.30 D6, 81.21 D11 & D11","EACH","COMPONENT","607BNW","SIGN/SIGNAL ANCHOR BOLT, NUT, WASHER","EACH","730.02","6.00000","QPL",{"$f":"IF(ISNA(VLOOKUP(A18005,'(1) Project Reference Item List'!$B$2:$B$499,1,FALSE)),\"\",\"Y\")","v":""}]
["632E80403","SGNL SUPP, 81.21, DES 4, APP","EACH","PRIMARY","34200SS","SIGNAL SUPPORT","EACH","732.11","1.00000","CERT",{"$f":"IF(ISNA(VLOOKUP(A18070,'(1) Project Reference Item List'!$B$2:$B$499,1,FALSE)),\"\",\"Y\")","v":""}]
["611E98150","CATCH BASIN, NO. 3","EACH","COMPONENT","203FR","NO. 3 FRAME","EACH","711.12","1.00000","CERT",{"$f":"IF(ISNA(VLOOKUP(A18135,'(1) Project Reference Item List'!$B$2:$B$499,1,FALSE)),\"\",\"Y\")","v":""}]
["671E15080","EROSION CONTROL MAT, TYPE I","SY","PRIMARY","56309","TEMP EROSION CONTROL MAT TYPE I","SY","712.11","1.00000","CTD",{"$f":"IF(ISNA(VLOOKUP(A18196,'(1) Project Reference Item List'!$B$2:$B$499,1,FALSE)),\"\",\"Y\")","v":""}]
["601E38400","PAVED GUTTER, TYPE 2","FT","COMPONENT","42406OH","WHITE CURE TYPE 2 CLASS A OR B","GAL","705.07OH","0.01610","QPL",{"$f":"IF(ISNA(VLOOKUP(A18211,'(1) Project Reference Item List'!$B$2:$B$499,1,FALSE)),\"\",\"Y\")","v":""}]
["611E04600","12\" CONDUIT, TYPE C","FT","SUBSTITUTE","49170742","PVC CORRUGATED SANITARY SEWER PIPE","FT","707.42","1.00000","QPL",{"$f":"IF(ISNA(VLOOKUP(A18272,'(1) Project Reference Item List'!$B$2:$B$499,1,FALSE)),\"\",\"Y\")","v":""}]
["611E17100","36\" CONDUIT, TYPE E","FT","SUBSTITUTE","4870000","CERT CONC DRAIN TILE EX QUALITY","FT","706.07 S10","1.00000","CERT",{"$f":"IF(ISNA(VLOOKUP(A18337,'(1) Project Reference Item List'!$B$2:$B$499,1,FALSE)),\"\",\"Y\")","v":""}]
["611E32001","108\" CONDUIT, TYPE A, APP","FT","SUBSTITUTE","4822000D","CERT REINF CIRCULAR CONC PIPE 2000D LOAD","FT","706.02 S10","1.00000","CERT",{"$f":"IF(ISNA(VLOOKUP(A18352,'(1) Project Reference Item List'!$B$2:$B$499,1,FALSE)),\"\",\"Y\")","v":""}]
["611E59400","128\"X83\" CONDUIT, TYPE A","FT","SUBSTITUTE","055SD5","SAND STONE 703.05","TON","703.05","0.00000","CERT",{"$f":"IF(ISNA(VLOOKUP(A18413,'(1) Project Reference Item List'!$B$2:$B$499,1,FALSE)),\"\",\"Y\")","v":""}]
["611E03100","10\" CONDUIT, TYPE B","FT","SUBSTITUTE","49970746","PVC DRAIN WASTE AND VENT PIPE","FT","707.46","1.00000","QPL",{"$f":"IF(ISNA(VLOOKUP(A18478,'(1) Project Reference Item List'!$B$2:$B$499,1,FALSE)),\"\",\"Y\")","v":""}]
["690E99800","SPECIAL","DLR","PRIMARY","NOMATL","CODE TO ADD TO CONTRACT S & T REQ","EACH","NONE","0.00000",null,{"$f":"IF(ISNA(VLOOKUP(A18539,'(1) Project Reference Item List'!$B$2:$B$499,1,FALSE)),\"\",\"Y\")","v":""}]
["302E46000","ASPHALT CONCRETE BASE, PG64-22","CY","PRIMARY","175302","LARGE ROCK BITUMINOUS AGGREGATE BASE","TON","302","2.00000","JCTL",{"$f":"IF(ISNA(VLOOKUP(A18554,'(1) Project Reference Item List'!$B$2:$B$499,1,FALSE)),\"\",\"Y\")","v":""}]
["611E36200","132\" CONDUIT, TYPE B","FT","SUBSTITUTE","4821350D","CERT REINF CIRCULAR CONC PIPE 1350D LOAD","FT","706.02 S10","1.00000","CERT",{"$f":"IF(ISNA(VLOOKUP(A18619,'(1) Project Reference Item List'!$B$2:$B$499,1,FALSE)),\"\",\"Y\")","v":""}]
["511E34444","CLASS QC2 CONCRETE, BRIDGE DECK","CY","COMPONENT","43201","HIGH MOLECULAR WEIGHT METHACRYLATE","GAL","705.15","0.00000","QPL",{"$f":"IF(ISNA(VLOOKUP(A18680,'(1) Project Reference Item List'!$B$2:$B$499,1,FALSE)),\"\",\"Y\")","v":""}]
["524E94902","DRILLED SHAFTS, 48\", ABOVE BR","FT","COMPONENT","62560","REINFORCING, EPOXY COATED GRADE 60","LB","709.00","0.00000","CERT",{"$f":"IF(ISNA(VLOOKUP(A18745,'(1) Project Reference Item List'!$B$2:$B$499,1,FALSE)),\"\",\"Y\")","v":""}]
["611E32001","108\" CONDUIT, TYPE A, APP","FT","SUBSTITUTE","4731000D","CERT REINF CONC PIPE EPOXY/COATED 1000D","FT","706.03 S10","1.00000","CERT",{"$f":"IF(ISNA(VLOOKUP(A18760,'(1) Project Reference Item List'!$B$2:$B$499,1,FALSE)),\"\",\"Y\")","v":""}]
["611E04200","12\" CONDUIT, TYPE A","FT","SUBSTITUTE","4733000D","CERT REINF CONC PIPE EPOXY/COATED 3000D","FT","706.03 S10","1.00000","CERT",{"$f":"IF(ISNA(VLOOKUP(A18821,'(1) Project Reference Item List'!$B$2:$B$499,1,FALSE)),\"\",\"Y\")","v":""}]
["524E95533","DRILLED SHAFTS, 96\", ABOVE BR, QC/QA APP","FT","PRIMARY","215QC5","QC 5  CONCRETE-4000-4500 PSI_3/8' -1\"AGG","CY","499","0.00000","JCTL",{"$f":"IF(ISNA(VLOOKUP(A18886,'(1) Project Reference Item List'!$B$2:$B$499,1,FALSE)),\"\",\"Y\")","v":""}]
["606E28051","ANCHOR ASSEMBLY REBUILT, TYPE E-98, APP","EACH","PRIMARY","550RAIL","RAIL ELEMENT","FT","710.06","50.00000","CERT",{"$f":"IF(ISNA(VLOOKUP(A18947,'(1) Project Reference Item List'!$B$2:$B$499,1,FALSE)),\"\",\"Y\")","v":""}]
["607E39920","VNDL PROT FENCE, 10' CURVED","FT","COMPONENT","42609","NON-SHRINK NON-METALLIC MATERIAL","GAL","705.20(08)","0.00000","QPL",{"$f":"IF(ISNA(VLOOKUP(A18962,'(1) Project Reference Item List'!$B$2:$B$499,1,FALSE)),\"\",\"Y\")","v":""}]
["452E19200","NON-REINFORCED CONCRETE PAVEMENT, MISC.:","SY","COMPONENT","619100","PREFORMED EXPANSION JOINT FILLER 1\"","SF","705.03-711","0.00000","QPL",{"$f":"IF(ISNA(VLOOKUP(A19027,'(1) Project Reference Item List'!$B$2:$B$499,1,FALSE)),\"\",\"Y\")","v":""}]
["611E21101","48\" CONDUIT, TYPE C, APP","FT","SUBSTITUTE","4822000D","CERT REINF CIRCULAR CONC PIPE 2000D LOAD","FT","706.02 S10","1.00000","CERT",{"$f":"IF(ISNA(VLOOKUP(A19088,'(1) Project Reference Item List'!$B$2:$B$499,1,FALSE)),\"\",\"Y\")","v":""}]
["642E01300","LANE ARROW, TYPE 1","EACH","PRIMARY","40112","TRAFFIC PAINT WHITE FASTDRY ACRYLIC TY-1","GAL","740.02","0.16250","CERT",{"$f":"IF(ISNA(VLOOKUP(A19103,'(1) Project Reference Item List'!$B$2:$B$499,1,FALSE)),\"\",\"Y\")","v":""}]
["638E20302","SPECIAL - 24\" DIP 53 PO JTS & FTGS, MS","FT","COMPONENT","21501","CONCRETE PORTLAND CEMENT CLASS C","CY","499 511","0.00000","JCTL",{"$f":"IF(ISNA(VLOOKUP(A19164,'(1) Project Reference Item List'!$B$2:$B$499,1,FALSE)),\"\",\"Y\")","v":""}]
["611E98770","INLET, NO. 2-18","EACH","COMPONENT","035S3D","SAND STONE 703.03","TON","703.03","0.00000","CERT",{"$f":"IF(ISNA(VLOOKUP(A19229,'(1) Project Reference Item List'!$B$2:$B$499,1,FALSE)),\"\",\"Y\")","v":""}]
["620E31200","REMOVAL OF DELINEATOR","EACH","PRIMARY","NOMATL","CODE TO ADD TO CONTRACT S & T REQ","EACH","NONE","0.00000",null,{"$f":"IF(ISNA(VLOOKUP(A19294,'(1) Project Reference Item List'!$B$2:$B$499,1,FALSE)),\"\",\"Y\")","v":""}]
["638E06712","30\" ST PIPE ENCSMT, OPEN CUT","FT","COMPONENT","074057","57 CRUSHED GRAVEL (703)","TON","703.18","0.00000","CERT",{"$f":"IF(ISNA(VLOOKUP(A19305,'(1) Project Reference Item List'!$B$2:$B$499,1,FALSE)),\"\",\"Y\")","v":""}]
["638E04100","24\" DIP CL 56, BALL & SOCKET JTS","FT","COMPONENT","215QCMISC","QC MISCELLANEOUS 4000 PSI","CY","499","0.00000","JCTL",{"$f":"IF(ISNA(VLOOKUP(A19370,'(1) Project Reference Item List'!$B$2:$B$499,1,FALSE)),\"\",\"Y\")","v":""}]
["638E04800","3/4\" COPPER SERVICE BRANCH","FT","COMPONENT","7481301","SERVICE STOP","EACH","748.13","0.00000","QPL",{"$f":"IF(ISNA(VLOOKUP(A19435,'(1) Project Reference Item List'!$B$2:$B$499,1,FALSE)),\"\",\"Y\")","v":""}]
["645E01490","DOTTED LINE, 4\", TYPE A","FT","PRIMARY","40302","PREFORMED YELLOW TYPE A-1 90 MIL","FT","740.05","0.25000","CERT",{"$f":"IF(ISNA(VLOOKUP(A19496,'(1) Project Reference Item List'!$B$2:$B$499,1,FALSE)),\"\",\"Y\")","v":""}]
["625E75541","LIGHT TOWER FOUNDATION REMOVED, APP","EACH","PRIMARY","NOMATL","CODE TO ADD TO CONTRACT S & T REQ","EACH","NONE","0.00000",null,{"$f":"IF(ISNA(VLOOKUP(A19511,'(1) Project Reference Item List'!$B$2:$B$499,1,FALSE)),\"\",\"Y\")","v":""}]
["630E70061","CATWALK, DMS PEDESTAL, APP","EACH","PRIMARY","NOMATL","CODE TO ADD TO CONTRACT S & T REQ","EACH","NONE","0.00000",null,{"$f":"IF(ISNA(VLOOKUP(A19572,'(1) Project Reference Item List'!$B$2:$B$499,1,FALSE)),\"\",\"Y\")","v":""}]
["611E98301","CATCH BASIN, NO. 5, APP","EACH","SUBSTITUTE","031SD3","SAND, NATURAL 703.03","TON","703.03","0.00000","CERT",{"$f":"IF(ISNA(VLOOKUP(A19637,'(1) Project Reference Item List'!$B$2:$B$499,1,FALSE)),\"\",\"Y\")","v":""}]
["625E29500","TRENCH IN PVD AREA, A","FT","COMPONENT","1774411","BIT CONC 441 TYPE 1 SURFACE","TON","441","0.00000","JCTL",{"$f":"IF(ISNA(VLOOKUP(A19652,'(1) Project Reference Item List'!$B$2:$B$499,1,FALSE)),\"\",\"Y\")","v":""}]
["630E25200","COMB OVHD SUPP, 12.30, DES 2","EACH","PRIMARY","60200","RIGID OVERHEAD SIGN SUPPORT","EACH","630.06","1.00000","CERT",{"$f":"IF(ISNA(VLOOKUP(A19713,'(1) Project Reference Item List'!$B$2:$B$499,1,FALSE)),\"\",\"Y\")","v":""}]
["632E76401","COMB SG SPP, 12.30, W/81.21 D13 &D4, APP","EACH","COMPONENT","62660","REINFORCING, UNCOATED GRADE 60","LB","709.01","191.00000","CERT",{"$f":"IF(ISNA(VLOOKUP(A19778,'(1) Project Reference Item List'!$B$2:$B$499,1,FALSE)),\"\",\"Y\")","v":""}]
["630E55000","CONCRETE BARRIER MEDIAN OVRHD SGN SUPP","EACH","COMPONENT","607BNW","SIGN/SIGNAL ANCHOR BOLT, NUT, WASHER","EACH","730.02","4.00000","QPL",{"$f":"IF(ISNA(VLOOKUP(A19843,'(1) Project Reference Item List'!$B$2:$B$499,1,FALSE)),\"\",\"Y\")","v":""}]
["606E34601","MGS BRIDGE TERM ASSEMBLY, TP TST-2 APP","EACH","PRIMARY","550ESECT","GUARDRAIL END SECTION","EACH","710.06","1.00000","CERT",{"$f":"IF(ISNA(VLOOKUP(A19854,'(1) Project Reference Item List'!$B$2:$B$499,1,FALSE)),\"\",\"Y\")","v":""}]
["524E95524","DRILLED SHAFTS, 90\", INTO BR, QC/QA","FT","PRIMARY","215QC5","QC 5  CONCRETE-4000-4500 PSI_3/8' -1\"AGG","CY","499","0.02909","JCTL",{"$f":"IF(ISNA(VLOOKUP(A19919,'(1) Project Reference Item List'!$B$2:$B$499,1,FALSE)),\"\",\"Y\")","v":""}]
["606E17291","GUARDRAIL, TYPE 5, LONG-SPAN, APP","FT","COMPONENT","550HWMISC","GUARDRAIL HARDWARE","EACH","710.15","0.00000","CERT",{"$f":"IF(ISNA(VLOOKUP(A19980,'(1) Project Reference Item List'!$B$2:$B$499,1,FALSE)),\"\",\"Y\")","v":""}]
["611E09401","21\" CONDUIT, TYPE D, APP","FT","COMPONENT","61501","BITUMINOUS PIPE JOINT FILLER","GAL","706.10","0.00000","QPL",{"$f":"IF(ISNA(VLOOKUP(A20045,'(1) Project Reference Item List'!$B$2:$B$499,1,FALSE)),\"\",\"Y\")","v":""}]
["606E27811","ANCHOR ASSEMBLY REBUILT, MGS TYPE A, APP","EACH","COMPONENT","62709","REINFORCING, WELDED REBAR AND ROD MATS","SF","709.10","0.00000","CERT",{"$f":"IF(ISNA(VLOOKUP(A20060,'(1) Project Reference Item List'!$B$2:$B$499,1,FALSE)),\"\",\"Y\")","v":""}]
["410E12001","TRAFFIC COMP. SURF, A OR B, APP","CY","PRIMARY","07241B","410B SAND AND GRAVEL 703","TON","703.18","1.35000","CERT",{"$f":"IF(ISNA(VLOOKUP(A20121,'(1) Project Reference Item List'!$B$2:$B$499,1,FALSE)),\"\",\"Y\")","v":""}]
["611E09401","21\" CONDUIT, TYPE D, APP","FT","SUBSTITUTE","4823000D","CERT REINF CIRCULAR CONC PIPE 3000D LOAD","FT","706.02 S10","1.00000","CERT",{"$f":"IF(ISNA(VLOOKUP(A20192,'(1) Project Reference Item List'!$B$2:$B$499,1,FALSE)),\"\",\"Y\")","v":""}]
["611E12400","27\" CONDUIT, TYPE D","FT","SUBSTITUTE","508ES","VCP EXTRA STRENGTH","FT","706.08","1.00000","QPL",{"$f":"IF(ISNA(VLOOKUP(A20248,'(1) Project Reference Item List'!$B$2:$B$499,1,FALSE)),\"\",\"Y\")","v":""}]
["611E12400","27\" CONDUIT, TYPE D","FT","SUBSTITUTE","47014","FLEXIBLE PLASTIC GASKETS","EACH","706.14","0.00000","QPL",{"$f":"IF(ISNA(VLOOKUP(A20263,'(1) Project Reference Item List'!$B$2:$B$499,1,FALSE)),\"\",\"Y\")","v":""}]
["611E10400","24\" CONDUIT, TYPE B","FT","COMPONENT","045304","304 CRUSHED STONE 703.17","TON","703.17","0.00000","CERT",{"$f":"IF(ISNA(VLOOKUP(A20328,'(1) Project Reference Item List'!$B$2:$B$499,1,FALSE)),\"\",\"Y\")","v":""}]
["609E54000","6\" CONCRETE TRAFFIC ISLAND","SY","COMPONENT","619050","PREFORMED EXPANSION JOINT FILLER 1/2\"","SF","705.03-711","0.00000","QPL",{"$f":"IF(ISNA(VLOOKUP(A20389,'(1) Project Reference Item List'!$B$2:$B$499,1,FALSE)),\"\",\"Y\")","v":""}]
["601E34201","ROCK CH PROT, C W/O FLT, APP","CY","PRIMARY","001019C","GRAVEL FOR DUMP ROCK FILL TYPE C","TON","703.19","1.21400","CERT",{"$f":"IF(ISNA(VLOOKUP(A20404,'(1) Project Reference Item List'!$B$2:$B$499,1,FALSE)),\"\",\"Y\")","v":""}]
["517E73200","RLG(DEFLECTOR PPT TYPE)","FT","PRIMARY","215QC2","QC 2 CONCRETE - 4500 PSI - WELL GRADED","CY","499","0.10667","JCTL",{"$f":"IF(ISNA(VLOOKUP(A20469,'(1) Project Reference Item List'!$B$2:$B$499,1,FALSE)),\"\",\"Y\")","v":""}]
["605E13510","6\" ROCK CUT UD W/GEOTEX FAB","FT","SUBSTITUTE","49770741","PVC SMOOTH WALL UNDERDRAIN PIPE","FT","707.41","1.00000","QPL",{"$f":"IF(ISNA(VLOOKUP(A20530,'(1) Project Reference Item List'!$B$2:$B$499,1,FALSE)),\"\",\"Y\")","v":""}]
["611E25404","66\" CONDUIT, TYPE D","FT","SUBSTITUTE","4521","ALUMINUM COATED CSP PIPE 707.02","FT","707.02","1.00000","CERT",{"$f":"IF(ISNA(VLOOKUP(A20595,'(1) Project Reference Item List'!$B$2:$B$499,1,FALSE)),\"\",\"Y\")","v":""}]
["611E53103","43\"X68\" CONDUIT, TYPE B, APP","FT","SUBSTITUTE","042603","SAND & GRAVEL, 603 TYPE 2 GRADATION # 1","TON","703.11","0.00000","CERT",{"$f":"IF(ISNA(VLOOKUP(A20606,'(1) Project Reference Item List'!$B$2:$B$499,1,FALSE)),\"\",\"Y\")","v":""}]
["611E29000","90\" CONDUIT, TYPE A","FT","SUBSTITUTE","47011","RESILIENT & FLEX GASKET(LUB JOINT/MFG)","EACH","706.11","0.00000","QPL",{"$f":"IF(ISNA(VLOOKUP(A20671,'(1) Project Reference Item List'!$B$2:$B$499,1,FALSE)),\"\",\"Y\")","v":""}]
["638E20254","SPECIAL - 20\" DIP 52 PO JTS & FTGS, MS","FT","SUBSTITUTE","075057","57 CRUSHED STONE (703)","TON","703.18","0.00000","CERT",{"$f":"IF(ISNA(VLOOKUP(A20736,'(1) Project Reference Item List'!$B$2:$B$499,1,FALSE)),\"\",\"Y\")","v":""}]
["611E95501","10'X8' CONDUIT, TYPE A, 706.05, APP","FT","COMPONENT","47001","JOINT WRAP/PIPE CULVERTS,SEWERS,DRAINS","FT","603.02C877","0.00000","CERT",{"$f":"IF(ISNA(VLOOKUP(A20797,'(1) Project Reference Item List'!$B$2:$B$499,1,FALSE)),\"\",\"Y\")","v":""}]
["804E20056","FIBER OPTIC CABLE, ARMORED, 60 FIBER","FT","PRIMARY","300FIBOPT","FIBER OPTIC CABLE","FT","SS904.01","1.00000","QPL",{"$f":"IF(ISNA(VLOOKUP(A20812,'(1) Project Reference Item List'!$B$2:$B$499,1,FALSE)),\"\",\"Y\")","v":""}]
["611E29001","90\" CONDUIT, TYPE A, APP","FT","SUBSTITUTE","4731000D","CERT REINF CONC PIPE EPOXY/COATED 1000D","FT","706.03 S10","1.00000","CERT",{"$f":"IF(ISNA(VLOOKUP(A20873,'(1) Project Reference Item List'!$B$2:$B$499,1,FALSE)),\"\",\"Y\")","v":""}]
["611E23800","60\" CONDUIT, TYPE B","FT","SUBSTITUTE","4561","CSP SPIRAL RIB CONDUIT 707.12","FT","707.12","1.00000","CERT",{"$f":"IF(ISNA(VLOOKUP(A20938,'(1) Project Reference Item List'!$B$2:$B$499,1,FALSE)),\"\",\"Y\")","v":""}]
["611E52705","29\"X45\" CONDUIT, TYPE C, APP","FT","SUBSTITUTE","051SD5","SAND, NATURAL 703.05","TON","703.05","0.00000","CERT",{"$f":"IF(ISNA(VLOOKUP(A20953,'(1) Project Reference Item List'!$B$2:$B$499,1,FALSE)),\"\",\"Y\")","v":""}]
["611E98741","INLET, NO. 2-12, APP","EACH","COMPONENT","37501","PORTLAND CEMENT TYPE 1A","TON","701.01","0.00000","CERT",{"$f":"IF(ISNA(VLOOKUP(A21014,'(1) Project Reference Item List'!$B$2:$B$499,1,FALSE)),\"\",\"Y\")","v":""}]
["611E98504","CATCH BASIN, NO. 2-2C","EACH","COMPONENT","202GR","NO. 2 GRATE","EACH","711.12","1.00000","CERT",{"$f":"IF(ISNA(VLOOKUP(A21079,'(1) Project Reference Item List'!$B$2:$B$499,1,FALSE)),\"\",\"Y\")","v":""}]
["633E67200","CONTROLLER WORK PAD","EACH","COMPONENT","42404OH","CLEAR CURE TYPE1 CL A OR B OR W/DYE","GAL","705.07OH","0.00000","QPL",{"$f":"IF(ISNA(VLOOKUP(A21144,'(1) Project Reference Item List'!$B$2:$B$499,1,FALSE)),\"\",\"Y\")","v":""}]
["638E04000","24\" DIP CL 52, BLTL-REST JTS","FT","SUBSTITUTE","073057","57 GRAVEL 703","TON","703.18","0.00000","CERT",{"$f":"IF(ISNA(VLOOKUP(A21155,'(1) Project Reference Item List'!$B$2:$B$499,1,FALSE)),\"\",\"Y\")","v":""}]
["622E24004","CONC BARRIER, TYPE D1","FT","COMPONENT","42406OH","WHITE CURE TYPE 2 CLASS A OR B","GAL","705.07OH","0.00000","QPL",{"$f":"IF(ISNA(VLOOKUP(A21220,'(1) Project Reference Item List'!$B$2:$B$499,1,FALSE)),\"\",\"Y\")","v":""}]
["638E00301","4\" DIP CL 52, BOLTLS-RESTRD JTS, APP","FT","COMPONENT","21501","CONCRETE PORTLAND CEMENT CLASS C","CY","499 511","0.00000","JCTL",{"$f":"IF(ISNA(VLOOKUP(A21281,'(1) Project Reference Item List'!$B$2:$B$499,1,FALSE)),\"\",\"Y\")","v":""}]
["632E81052","COMB SG SUP, 81.21, DES 2","EACH","COMPONENT","607BNW","SIGN/SIGNAL ANCHOR BOLT, NUT, WASHER","EACH","730.02","4.00000","QPL",{"$f":"IF(ISNA(VLOOKUP(A21346,'(1) Project Reference Item List'!$B$2:$B$499,1,FALSE)),\"\",\"Y\")","v":""}]
["625E25107","CONDUIT, 1\", 725.052, APP","FT","PRIMARY","3160001","POLYETHYLENE CONDUITS & FITTING","FT","725.052","1.00000","QPL",{"$f":"IF(ISNA(VLOOKUP(A21361,'(1) Project Reference Item List'!$B$2:$B$499,1,FALSE)),\"\",\"Y\")","v":""}]
["611E98271","CATCH BASIN, NO. 4A, APP","EACH","PRIMARY","27200","CERTIFIED PRECAST CATCH BASIN","EACH","706.13 S10","1.00000","CERT",{"$f":"IF(ISNA(VLOOKUP(A21422,'(1) Project Reference Item List'!$B$2:$B$499,1,FALSE)),\"\",\"Y\")","v":""}]
["630E15502","COMB OVHD SUPP, 16.21, DES 5","EACH","COMPONENT","607BNW","SIGN/SIGNAL ANCHOR BOLT, NUT, WASHER","EACH","730.02","4.00000","QPL",{"$f":"IF(ISNA(VLOOKUP(A21487,'(1) Project Reference Item List'!$B$2:$B$499,1,FALSE)),\"\",\"Y\")","v":""}]
["611E98814","INLET, NO. 3C50","EACH","COMPONENT","035S3D","SAND STONE 703.03","TON","703.03","0.00000","CERT",{"$f":"IF(ISNA(VLOOKUP(A21552,'(1) Project Reference Item List'!$B$2:$B$499,1,FALSE)),\"\",\"Y\")","v":""}]
["611E98814","INLET, NO. 3C50","EACH","COMPONENT","62540","REINFORCING, EPOXY COATED GRADE 40","LB","709.00","328.00000","CERT",{"$f":"IF(ISNA(VLOOKUP(A21563,'(1) Project Reference Item List'!$B$2:$B$499,1,FALSE)),\"\",\"Y\")","v":""}]
["630E25901","COMB OVHD SUPP, 12.30, 9, APP","EACH","COMPONENT","607BNW","SIGN/SIGNAL ANCHOR BOLT, NUT, WASHER","EACH","730.02","4.00000","QPL",{"$f":"IF(ISNA(VLOOKUP(A21628,'(1) Project Reference Item List'!$B$2:$B$499,1,FALSE)),\"\",\"Y\")","v":""}]
["646E20510","DOTTED LINE, 12\"","FT","PRIMARY","40102F","TRAFFIC PAINT FAST DRY YELLOW EPOXY RES","GAL","740.07","0.00310",null,{"$f":"IF(ISNA(VLOOKUP(A21689,'(1) Project Reference Item List'!$B$2:$B$499,1,FALSE)),\"\",\"Y\")","v":""}]
["807E10010","WET RFLCTV TRAF PNT, EDGE LINE, 6\"","MILE","COMPONENT","40720","GLASS BEADS, EPOXY, SIZE 1","LB","740.09D LA","0.00000","CERT",{"$f":"IF(ISNA(VLOOKUP(A21704,'(1) Project Reference Item List'!$B$2:$B$499,1,FALSE)),\"\",\"Y\")","v":""}]
["524E94992","DRILLED SHAFTS, 84\", INTO BR","FT","PRIMARY","215QC5","QC 5  CONCRETE-4000-4500 PSI_3/8' -1\"AGG","CY","499","0.06542","JCTL",{"$f":"IF(ISNA(VLOOKUP(A21769,'(1) Project Reference Item List'!$B$2:$B$499,1,FALSE)),\"\",\"Y\")","v":""}]
["611E03601","10\" CONDUIT, TYPE E, APP","FT","SUBSTITUTE","509EQ","CLAY DRAIN TILE EXTRA QUALITY","FT","706.09","10.00000","QPL",{"$f":"IF(ISNA(VLOOKUP(A21830,'(1) Project Reference Item List'!$B$2:$B$499,1,FALSE)),\"\",\"Y\")","v":""}]
["611E00400","4\" CONDUIT, TYPE E","FT","SUBSTITUTE","4870000","CERT CONC DRAIN TILE EX QUALITY","FT","706.07 S10","1.00000","CERT",{"$f":"IF(ISNA(VLOOKUP(A21895,'(1) Project Reference Item List'!$B$2:$B$499,1,FALSE)),\"\",\"Y\")","v":""}]
["611E00400","4\" CONDUIT, TYPE E","FT","SUBSTITUTE","5211","ALUMINUM PIPE 707.21","FT","707.21","1.00000","CERT",{"$f":"IF(ISNA(VLOOKUP(A21906,'(1) Project Reference Item List'!$B$2:$B$499,1,FALSE)),\"\",\"Y\")","v":""}]
["611E16600","36\" CONDUIT, TYPE C","FT","SUBSTITUTE","4641","BITUMINOUS LINED CSP 707.14","FT","707.14","1.00000","CERT",{"$f":"IF(ISNA(VLOOKUP(A21971,'(1) Project Reference Item List'!$B$2:$B$499,1,FALSE)),\"\",\"Y\")","v":""}]
["305E12021","8\" CONC BASE, CLASS QC 1P W/ QC/QA, APP","SY","COMPONENT","619100","PREFORMED EXPANSION JOINT FILLER 1\"","SF","705.03-711","0.00000","QPL",{"$f":"IF(ISNA(VLOOKUP(A22036,'(1) Project Reference Item List'!$B$2:$B$499,1,FALSE)),\"\",\"Y\")","v":""}]
["511E34448","CLASS QC2 CONCRETE, BRIDGE DECK (PRPT)","CY","COMPONENT","619025","PREFORMED EXPANSION JOINT FILLER 1/4\"","SF","705.03-711","0.00000","QPL",{"$f":"IF(ISNA(VLOOKUP(A22097,'(1) Project Reference Item List'!$B$2:$B$499,1,FALSE)),\"\",\"Y\")","v":""}]
["611E09100","21\" CONDUIT, TYPE C","FT","SUBSTITUTE","508ES","VCP EXTRA STRENGTH","FT","706.08","1.00000","QPL",{"$f":"IF(ISNA(VLOOKUP(A22112,'(1) Project Reference Item List'!$B$2:$B$499,1,FALSE)),\"\",\"Y\")","v":""}]
["611E03601","10\" CONDUIT, TYPE E, APP","FT","SUBSTITUTE","49970748","PVC LARGE DIA SW SANITARY SEWER PIPE","FT","707.48","1.00000","QPL",{"$f":"IF(ISNA(VLOOKUP(A22177,'(1) Project Reference Item List'!$B$2:$B$499,1,FALSE)),\"\",\"Y\")","v":""}]
["606E32500","BR TERM ASSY, TYPE F","EACH","PRIMARY","550RAIL","RAIL ELEMENT","FT","710.06","12.50000","CERT",{"$f":"IF(ISNA(VLOOKUP(A22238,'(1) Project Reference Item List'!$B$2:$B$499,1,FALSE)),\"\",\"Y\")","v":""}]
["609E60001","9\" CONCRETE TRAFFIC ISLAND, APP","CY","COMPONENT","42406OH","WHITE CURE TYPE 2 CLASS A OR B","GAL","705.07OH","0.00000","QPL",{"$f":"IF(ISNA(VLOOKUP(A22253,'(1) Project Reference Item List'!$B$2:$B$499,1,FALSE)),\"\",\"Y\")","v":""}]
["601E38110","PAVED GUTTER, TYPE 1-8","FT","COMPONENT","42406OH","WHITE CURE TYPE 2 CLASS A OR B","GAL","705.07OH","0.37900","QPL",{"$f":"IF(ISNA(VLOOKUP(A22314,'(1) Project Reference Item List'!$B$2:$B$499,1,FALSE)),\"\",\"Y\")","v":""}]
["638E20188","SPECIAL - 12\" DIP 54 BLTS-REST JTS & FTG","FT","SUBSTITUTE","09AGS8","GRANULATED (BF) SLAG 703.08","TON","703.08","0.00000","CERT",{"$f":"IF(ISNA(VLOOKUP(A22379,'(1) Project Reference Item List'!$B$2:$B$499,1,FALSE)),\"\",\"Y\")","v":""}]
["611E53212","48\"X76\" CONDUIT, TYPE C, 706.04","FT","SUBSTITUTE","484HE3","CERT REIN CONC PIPE HE-3 1350D LOAD","FT","706.04 S10","1.00000","CERT",{"$f":"IF(ISNA(VLOOKUP(A22444,'(1) Project Reference Item List'!$B$2:$B$499,1,FALSE)),\"\",\"Y\")","v":""}]
["638E20218","SPECIAL - 16\" DIP 53 BALL & SOCKET JTS &","FT","COMPONENT","21501","CONCRETE PORTLAND CEMENT CLASS C","CY","499 511","0.00000","JCTL",{"$f":"IF(ISNA(VLOOKUP(A22455,'(1) Project Reference Item List'!$B$2:$B$499,1,FALSE)),\"\",\"Y\")","v":""}]
["611E34400","120\" CONDUIT, TYPE C","FT","SUBSTITUTE","4641","BITUMINOUS LINED CSP 707.14","FT","707.14","1.00000","CERT",{"$f":"IF(ISNA(VLOOKUP(A22520,'(1) Project Reference Item List'!$B$2:$B$499,1,FALSE)),\"\",\"Y\")","v":""}]
["611E37001","138\" CONDUIT, TYPE A, APP","FT","SUBSTITUTE","4731000D","CERT REINF CONC PIPE EPOXY/COATED 1000D","FT","706.03 S10","1.00000","QPL",{"$f":"IF(ISNA(VLOOKUP(A22585,'(1) Project Reference Item List'!$B$2:$B$499,1,FALSE)),\"\",\"Y\")","v":""}]
["611E43100","210\" CONDUIT, TYPE A","FT","COMPONENT","021SD2","SAND, NATURAL 703.02","TON","703.02","0.00000","CERT",{"$f":"IF(ISNA(VLOOKUP(A22646,'(1) Project Reference Item List'!$B$2:$B$499,1,FALSE)),\"\",\"Y\")","v":""}]
["638E02507","12\" DIP CL 54, MECH JTS & FTGS, APP","FT","SUBSTITUTE","076057","57 ACBF SLAG (703)","TON","703.18","0.00000","CERT",{"$f":"IF(ISNA(VLOOKUP(A22661,'(1) Project Reference Item List'!$B$2:$B$499,1,FALSE)),\"\",\"Y\")","v":""}]
["611E12100","27\" CONDUIT, TYPE C","FT","SUBSTITUTE","508SS","VCP STANDARD STRENGTH","FT","706.08","1.00000","QPL",{"$f":"IF(ISNA(VLOOKUP(A22722,'(1) Project Reference Item List'!$B$2:$B$499,1,FALSE)),\"\",\"Y\")","v":""}]
["874E10001","ULTRATHIN BONDED ASPHALT CONCRETE, APP","CY","COMPONENT","055SD5","SAND STONE 703.05","TON","703.05","0.00000","CERT",{"$f":"IF(ISNA(VLOOKUP(A22787,'(1) Project Reference Item List'!$B$2:$B$499,1,FALSE)),\"\",\"Y\")","v":""}]
["611E98771","INLET, NO. 2-18, APP","EACH","COMPONENT","212FR","NO. I-2 INLET FRAME","EACH","711.12","1.00000","CERT",{"$f":"IF(ISNA(VLOOKUP(A22852,'(1) Project Reference Item List'!$B$2:$B$499,1,FALSE)),\"\",\"Y\")","v":""}]
["611E98771","INLET, NO. 2-18, APP","EACH","COMPONENT","62560","REINFORCING, EPOXY COATED GRADE 60","LB","709.00","590.00000","CERT",{"$f":"IF(ISNA(VLOOKUP(A22863,'(1) Project Reference Item List'!$B$2:$B$499,1,FALSE)),\"\",\"Y\")","v":""}]
["630E87501","RMVL POLE MTD SIGN & DISP, APP","EACH","PRIMARY","NOMATL","CODE TO ADD TO CONTRACT S & T REQ","EACH","NONE","0.00000",null,{"$f":"IF(ISNA(VLOOKUP(A22928,'(1) Project Reference Item List'!$B$2:$B$499,1,FALSE)),\"\",\"Y\")","v":""}]
["638E20370","SPECIAL - 30\" DIP 56 PO JTS & FTGS, MS","FT","SUBSTITUTE","075057","57 CRUSHED STONE (703)","TON","703.18","0.00000","CERT",{"$f":"IF(ISNA(VLOOKUP(A22989,'(1) Project Reference Item List'!$B$2:$B$499,1,FALSE)),\"\",\"Y\")","v":""}]
["884E10150","11\" PORTLAND CEMENT CONCRETE PAVEMENT","SY","COMPONENT","61606","PREFORMED ELASTOMERIC COMPRESSION SEAL","FT","705.11","0.00000","QPL",{"$f":"IF(ISNA(VLOOKUP(A23004,'(1) Project Reference Item List'!$B$2:$B$499,1,FALSE)),\"\",\"Y\")","v":""}]
["862E00600","SLOPE DRAPE","SY","COMPONENT","68101","WIRE ROPE","FT","SPECIAL","0.00000","JCTL",{"$f":"IF(ISNA(VLOOKUP(A23069,'(1) Project Reference Item List'!$B$2:$B$499,1,FALSE)),\"\",\"Y\")","v":""}]
["645E01602","HANDICAP SYMBOL MARKING,TYPE A1","EACH","PRIMARY","40301L","PREFORMED WHITE  TYPE A-1 90 MIL LEGEND","EACH","740.05","1.00000","CERT",{"$f":"IF(ISNA(VLOOKUP(A23130,'(1) Project Reference Item List'!$B$2:$B$499,1,FALSE)),\"\",\"Y\")","v":""}]
["632E77073","COMB SG SPP, 81.21, W/81.21 D4 & D2, APP","EACH","COMPONENT","62675","REINFORCING, UNCOATED GRADE 75","LB","709.01","129.00000","CERT",{"$f":"IF(ISNA(VLOOKUP(A23195,'(1) Project Reference Item List'!$B$2:$B$499,1,FALSE)),\"\",\"Y\")","v":""}]
["625E26273","LUMINRE, LO MAST, SOLID STATE (LED), APP","EACH","PRIMARY","33400LM","LUMINAIRE, LOW MAST","EACH","725.11G","0.00000","QPL",{"$f":"IF(ISNA(VLOOKUP(A23210,'(1) Project Reference Item List'!$B$2:$B$499,1,FALSE)),\"\",\"Y\")","v":""}]
["611E96455","16'X9' CONDUIT, TYPE A, 706.05, APP","FT","SUBSTITUTE","042603","SAND & GRAVEL, 603 TYPE 2 GRADATION # 1","TON","703.11","0.00000","CERT",{"$f":"IF(ISNA(VLOOKUP(A23271,'(1) Project Reference Item List'!$B$2:$B$499,1,FALSE)),\"\",\"Y\")","v":""}]
["632E75204","SG SUPP, 12.30 D7, 81.21 D13 & D1","EACH","COMPONENT","607BNW","SIGN/SIGNAL ANCHOR BOLT, NUT, WASHER","EACH","730.02","4.00000","QPL",{"$f":"IF(ISNA(VLOOKUP(A23336,'(1) Project Reference Item List'!$B$2:$B$499,1,FALSE)),\"\",\"Y\")","v":""}]
["611E96474","18'X4' CONDUIT, TYPE A, 706.05","FT","PRIMARY","41433","CERTIFIED REINFORCED CONC BOX SEC C1577","FT","706.05 S10","1.00000","CERT",{"$f":"IF(ISNA(VLOOKUP(A23397,'(1) Project Reference Item List'!$B$2:$B$499,1,FALSE)),\"\",\"Y\")","v":""}]
["630E30300","OVHD SUPP, 9.30, DES 3","EACH","COMPONENT","607BNW","SIGN/SIGNAL ANCHOR BOLT, NUT, WASHER","EACH","730.02","4.00000","QPL",{"$f":"IF(ISNA(VLOOKUP(A23412,'(1) Project Reference Item List'!$B$2:$B$499,1,FALSE)),\"\",\"Y\")","v":""}]
["441E70600","AC INTERM CRSE, T-1, (449), (DRIVES)","CY","PRIMARY","1764412","BIT CONC 441 TYPE 2","TON","441","2.00000","JCTL",{"$f":"IF(ISNA(VLOOKUP(A23477,'(1) Project Reference Item List'!$B$2:$B$499,1,FALSE)),\"\",\"Y\")","v":""}]
["611E16901","36\" CONDUIT, TYPE D, APP","FT","SUBSTITUTE","5221","ALUMINUM PIPE 707.22","FT","707.22","1.00000","CERT",{"$f":"IF(ISNA(VLOOKUP(A23538,'(1) Project Reference Item List'!$B$2:$B$499,1,FALSE)),\"\",\"Y\")","v":""}]
["452E14020","10\" NO-REINF CNC PVMT, QC1P QC/QA","SY","COMPONENT","42406OH","WHITE CURE TYPE 2 CLASS A OR B","GAL","705.07OH","0.06000","QPL",{"$f":"IF(ISNA(VLOOKUP(A23553,'(1) Project Reference Item List'!$B$2:$B$499,1,FALSE)),\"\",\"Y\")","v":""}]
["900E12000","SPECIAL RAIL","TKFT","PRIMARY","999999","MATERIALS AS NEEDED","EACH","NONE","0.00000","JCTL",{"$f":"IF(ISNA(VLOOKUP(A23614,'(1) Project Reference Item List'!$B$2:$B$499,1,FALSE)),\"\",\"Y\")","v":""}]
["509E10000","EPOXY COATED STEEL REINFORCEMENT","LB","PRIMARY","62560","REINFORCING, EPOXY COATED GRADE 60","LB","709.00","1.00000","CERT",{"$f":"IF(ISNA(VLOOKUP(A23679,'(1) Project Reference Item List'!$B$2:$B$499,1,FALSE)),\"\",\"Y\")","v":""}]
["605E05200","4\" UNCL PIPE UD","FT","PRIMARY","495P31P","PE CORR PERFORATED M252 CP PIPE","FT","707.31","1.00000","CERT",{"$f":"IF(ISNA(VLOOKUP(A23744,'(1) Project Reference Item List'!$B$2:$B$499,1,FALSE)),\"\",\"Y\")","v":""}]
["452E11050","7\" NO-REINF CNC PVMT, QCMS","SY","COMPONENT","42406OH","WHITE CURE TYPE 2 CLASS A OR B","GAL","705.07OH","0.00000","QPL",{"$f":"IF(ISNA(VLOOKUP(A23755,'(1) Project Reference Item List'!$B$2:$B$499,1,FALSE)),\"\",\"Y\")","v":""}]
["526E30010","APPROACH SLABS WITH QC/QA (T=17\")","SY","COMPONENT","61606","PREFORMED ELASTOMERIC COMPRESSION SEAL","FT","705.11","0.00000","QPL",{"$f":"IF(ISNA(VLOOKUP(A23820,'(1) Project Reference Item List'!$B$2:$B$499,1,FALSE)),\"\",\"Y\")","v":""}]
["611E20700","48\" CONDUIT, TYPE A","FT","SUBSTITUTE","042603","SAND & GRAVEL, 603 TYPE 2 GRADATION # 1","TON","703.11","0.00000","CERT",{"$f":"IF(ISNA(VLOOKUP(A23885,'(1) Project Reference Item List'!$B$2:$B$499,1,FALSE)),\"\",\"Y\")","v":""}]
["611E25001","66\" CONDUIT, TYPE A, APP","FT","SUBSTITUTE","042603","SAND & GRAVEL, 603 TYPE 2 GRADATION # 1","TON","703.11","0.00000","CERT",{"$f":"IF(ISNA(VLOOKUP(A23946,'(1) Project Reference Item List'!$B$2:$B$499,1,FALSE)),\"\",\"Y\")","v":""}]
["611E08200","18\" CONDUIT, TYPE F","FT","SUBSTITUTE","49170742","PVC CORRUGATED SANITARY SEWER PIPE","FT","707.42","1.00000","QPL",{"$f":"IF(ISNA(VLOOKUP(A23961,'(1) Project Reference Item List'!$B$2:$B$499,1,FALSE)),\"\",\"Y\")","v":""}]
["524E94400","DRILLED SHAFTS, 18\"","FT","PRIMARY","215QC2","QC 2 CONCRETE - 4500 PSI - WELL GRADED","CY","499","0.06542","JCTL",{"$f":"IF(ISNA(VLOOKUP(A24022,'(1) Project Reference Item List'!$B$2:$B$499,1,FALSE)),\"\",\"Y\")","v":""}]
["611E08701","21\" CONDUIT, TYPE A, APP","FT","SUBSTITUTE","47014","FLEXIBLE PLASTIC GASKETS","EACH","706.14","0.00000","QPL",{"$f":"IF(ISNA(VLOOKUP(A24087,'(1) Project Reference Item List'!$B$2:$B$499,1,FALSE)),\"\",\"Y\")","v":""}]
["605E12211","6\" DEEP PIPE UD W/GEOTEX FAB, APP","FT","SUBSTITUTE","476CL1","CERT PERF NON-REINFORCED CONC PIPE CL1","FT","706.061074","1.00000","CERT",{"$f":"IF(ISNA(VLOOKUP(A24152,'(1) Project Reference Item List'!$B$2:$B$499,1,FALSE)),\"\",\"Y\")","v":""}]
["605E12211","6\" DEEP PIPE UD W/GEOTEX FAB, APP","FT","COMPONENT","71209A","GEOTEXTILE FABRIC TYPE A","SY","712.09","0.00000","APPR",{"$f":"IF(ISNA(VLOOKUP(A24163,'(1) Project Reference Item List'!$B$2:$B$499,1,FALSE)),\"\",\"Y\")","v":""}]
["451E17510","24\" REINF CONC PVMT, CLS QC 1P","SY","COMPONENT","63013","STEEL ROD, COATED DOWEL, JOINT ASSY","LB","709.13","0.00000","CERT",{"$f":"IF(ISNA(VLOOKUP(A24228,'(1) Project Reference Item List'!$B$2:$B$499,1,FALSE)),\"\",\"Y\")","v":""}]
["638E09810","14\"X6\" TAPPING SLV, VALVE & BOX","EACH","PRIMARY","74811TV","TAPPING VALVE","EACH","748.11","1.00000","QPL",{"$f":"IF(ISNA(VLOOKUP(A24293,'(1) Project Reference Item List'!$B$2:$B$499,1,FALSE)),\"\",\"Y\")","v":""}]
["680E17000","8' WOOD BENCH","EACH","PRIMARY","NOMATL","CODE TO ADD TO CONTRACT S & T REQ","EACH","NONE","0.00000",null,{"$f":"IF(ISNA(VLOOKUP(A24304,'(1) Project Reference Item List'!$B$2:$B$499,1,FALSE)),\"\",\"Y\")","v":""}]
["611E36000","132\" CONDUIT, TYPE A","FT","COMPONENT","021SD2","SAND, NATURAL 703.02","TON","703.02","0.00000","CERT",{"$f":"IF(ISNA(VLOOKUP(A24369,'(1) Project Reference Item List'!$B$2:$B$499,1,FALSE)),\"\",\"Y\")","v":""}]
["643E01100","SCHOOL SYMBOL MARKING, 72\"","EACH","PRIMARY","40104","TRAFFIC PAINT WHITE POLYESTER","GAL","740.03","0.25280","CERT",{"$f":"IF(ISNA(VLOOKUP(A24430,'(1) Project Reference Item List'!$B$2:$B$499,1,FALSE)),\"\",\"Y\")","v":""}]
["659E14000","REPAIR SEEDING AND MULCHING","SY","PRIMARY","56004","SEED","LB","659.07-.09","0.02700","CERT",{"$f":"IF(ISNA(VLOOKUP(A24495,'(1) Project Reference Item List'!$B$2:$B$499,1,FALSE)),\"\",\"Y\")","v":""}]
["611E52203","14\"X23\" CONDUIT, TYPE B, APP","FT","SUBSTITUTE","47014","FLEXIBLE PLASTIC GASKETS","EACH","706.14","0.00000","QPL",{"$f":"IF(ISNA(VLOOKUP(A24510,'(1) Project Reference Item List'!$B$2:$B$499,1,FALSE)),\"\",\"Y\")","v":""}]
["611E22600","54\" CONDUIT, TYPE C","FT","SUBSTITUTE","4561","CSP SPIRAL RIB CONDUIT 707.12","FT","707.12","1.00000","CERT",{"$f":"IF(ISNA(VLOOKUP(A24571,'(1) Project Reference Item List'!$B$2:$B$499,1,FALSE)),\"\",\"Y\")","v":""}]
["638E20322","SPECIAL - 24\" DIP 55 PO JTS & FTGS, MS","FT","SUBSTITUTE","09AGS8","GRANULATED (BF) SLAG 703.08","TON","703.08","0.00000","CERT",{"$f":"IF(ISNA(VLOOKUP(A24636,'(1) Project Reference Item List'!$B$2:$B$499,1,FALSE)),\"\",\"Y\")","v":""}]
["633E01831","CONTRL UNIT, TS2/A2, FURNISH ONLY, APP","EACH","PRIMARY","344TS2A2","CONTROLLER TYPE TS 2-A2","EACH","733.02","0.00000","QPL",{"$f":"IF(ISNA(VLOOKUP(A24697,'(1) Project Reference Item List'!$B$2:$B$499,1,FALSE)),\"\",\"Y\")","v":""}]
["625E12300","LIGHT TOWER, BBB110","EACH","PRIMARY","33300LT","LIGHT TOWER","EACH","725.21","1.00000","CERT",{"$f":"IF(ISNA(VLOOKUP(A24712,'(1) Project Reference Item List'!$B$2:$B$499,1,FALSE)),\"\",\"Y\")","v":""}]
["630E84520","SPAN WIRE SIGN SUPPORT FOUNDATION","EACH","COMPONENT","62660","REINFORCING, UNCOATED GRADE 60","LB","709.01","0.00000","CERT",{"$f":"IF(ISNA(VLOOKUP(A24777,'(1) Project Reference Item List'!$B$2:$B$499,1,FALSE)),\"\",\"Y\")","v":""}]
["645E00906","ISLAND MARKING, TYPE C","SF","PRIMARY","40310","YELLOW WRKZONE TYPE I REMOVABLE","FT","740.06,TYP","0.00000","APPR",{"$f":"IF(ISNA(VLOOKUP(A24838,'(1) Project Reference Item List'!$B$2:$B$499,1,FALSE)),\"\",\"Y\")","v":""}]
["622E23500","CONC BARRIER, TYPE C","FT","COMPONENT","42406OH","WHITE CURE TYPE 2 CLASS A OR B","GAL","705.07OH","0.00000","QPL",{"$f":"IF(ISNA(VLOOKUP(A24853,'(1) Project Reference Item List'!$B$2:$B$499,1,FALSE)),\"\",\"Y\")","v":""}]
["638E02731","12\" PVC PIPE & FTGS, AWWA C900, DR18, AP","FT","SUBSTITUTE","076057","57 ACBF SLAG (703)","TON","703.18","0.00000","CERT",{"$f":"IF(ISNA(VLOOKUP(A24918,'(1) Project Reference Item List'!$B$2:$B$499,1,FALSE)),\"\",\"Y\")","v":""}]
["638E02200","10\" PVC PIPE & FTGS, ASTM SDR26","FT","PRIMARY","74802PVC","PVC WATER PIPE","FT","748.02","1.00000","QPL",{"$f":"IF(ISNA(VLOOKUP(A24979,'(1) Project Reference Item List'!$B$2:$B$499,1,FALSE)),\"\",\"Y\")","v":""}]
["611E96480","18'X8' CONDUIT, TYPE A, 706.05","FT","COMPONENT","021SD2","SAND, NATURAL 703.02","TON","703.02","0.00000","CERT",{"$f":"IF(ISNA(VLOOKUP(A25044,'(1) Project Reference Item List'!$B$2:$B$499,1,FALSE)),\"\",\"Y\")","v":""}]
["611E96480","18'X8' CONDUIT, TYPE A, 706.05","FT","COMPONENT","47014","FLEXIBLE PLASTIC GASKETS","EACH","706.14","0.00000","QPL",{"$f":"IF(ISNA(VLOOKUP(A25055,'(1) Project Reference Item List'!$B$2:$B$499,1,FALSE)),\"\",\"Y\")","v":""}]
["611E96490","20'X9' CONDUIT, TYPE A, 706.05","FT","COMPONENT","021SD2","SAND, NATURAL 703.02","TON","703.02","0.00000","CERT",{"$f":"IF(ISNA(VLOOKUP(A25120,'(1) Project Reference Item List'!$B$2:$B$499,1,FALSE)),\"\",\"Y\")","v":""}]
["638E20276","SPECIAL - 20\" DIP 55 BLTS-REST JTS & FTG","FT","SUBSTITUTE","075057","57 CRUSHED STONE (703)","TON","703.18","0.00000","CERT",{"$f":"IF(ISNA(VLOOKUP(A25185,'(1) Project Reference Item List'!$B$2:$B$499,1,FALSE)),\"\",\"Y\")","v":""}]
["615E20001","PAVEMENT FOR MAINT TRAFF, CLASS A, APP","SY","COMPONENT","044304","304 CRUSHED GRAVEL 703.17","TON","703.17","0.22222","CERT",{"$f":"IF(ISNA(VLOOKUP(A25246,'(1) Project Reference Item List'!$B$2:$B$499,1,FALSE)),\"\",\"Y\")","v":""}]
["614E20110","WZ LANE LINE, CL I, 6\", 642 PT","MILE","PRIMARY","40120","TP WHITE 60 SEC DRY WATER BASED","GAL","NTPEP SPEC","8.25000","CERT",{"$f":"IF(ISNA(VLOOKUP(A25261,'(1) Project Reference Item List'!$B$2:$B$499,1,FALSE)),\"\",\"Y\")","v":""}]
["517E70100","RAILING (THREE STEEL TUBE)","FT","COMPONENT","62660","REINFORCING, UNCOATED GRADE 60","LB","709.01","0.00000","CERT",{"$f":"IF(ISNA(VLOOKUP(A25326,'(1) Project Reference Item List'!$B$2:$B$499,1,FALSE)),\"\",\"Y\")","v":""}]
["611E28400","84\" CONDUIT, TYPE C","FT","SUBSTITUTE","4641","BITUMINOUS LINED CSP 707.14","FT","707.14","1.00000","CERT",{"$f":"IF(ISNA(VLOOKUP(A25387,'(1) Project Reference Item List'!$B$2:$B$499,1,FALSE)),\"\",\"Y\")","v":""}]
["611E53901","82\"X128\" CONDUIT, TYPE A, 706.04, APP","FT","COMPONENT","61501","BITUMINOUS PIPE JOINT FILLER","GAL","706.10","0.00000","QPL",{"$f":"IF(ISNA(VLOOKUP(A25452,'(1) Project Reference Item List'!$B$2:$B$499,1,FALSE)),\"\",\"Y\")","v":""}]
["638E20224","SPECIAL - 16\" DIP 54 MJ & FTGS, MS","FT","SUBSTITUTE","075057","57 CRUSHED STONE (703)","TON","703.18","0.00000","CERT",{"$f":"IF(ISNA(VLOOKUP(A25463,'(1) Project Reference Item List'!$B$2:$B$499,1,FALSE)),\"\",\"Y\")","v":""}]
["642E00291","CENTER LINE, APP","MILE","PRIMARY","40113","TRAFFIC PAINT YELLOW FASTDRY ACRYLIC T-1","GAL","740.02","5.50000","CERT",{"$f":"IF(ISNA(VLOOKUP(A25528,'(1) Project Reference Item List'!$B$2:$B$499,1,FALSE)),\"\",\"Y\")","v":""}]
["515E12061","PRESTR CONC COMP BM, LV 1, CB27-36, APP","EACH","PRIMARY","280A001","PRESTRESSED CONCRETE MEMBER","EACH","515 SS865","1.00000","CERT",{"$f":"IF(ISNA(VLOOKUP(A25593,'(1) Project Reference Item List'!$B$2:$B$499,1,FALSE)),\"\",\"Y\")","v":""}]
["661E19000","DECIDUOUS SHRUB, 12\" HEIGHT","EACH","PRIMARY","56600","SHRUBS, DECIDUOUS","EACH","661","1.00000","QPL",{"$f":"IF(ISNA(VLOOKUP(A25604,'(1) Project Reference Item List'!$B$2:$B$499,1,FALSE)),\"\",\"Y\")","v":""}]
["611E22401","54\" CONDUIT, TYPE B, APP","FT","SUBSTITUTE","5281A","ALUMINUM SPIRAL CMP PIPE 707.24","FT","707.24","1.00000","CERT",{"$f":"IF(ISNA(VLOOKUP(A25669,'(1) Project Reference Item List'!$B$2:$B$499,1,FALSE)),\"\",\"Y\")","v":""}]
["670E00701","DITCH EROSION PROTECTION, APP","SY","PRIMARY","56301","TEMP EROSION CONTROL MAT TYPE G","SY","712.11","0.00000","CTD",{"$f":"IF(ISNA(VLOOKUP(A25730,'(1) Project Reference Item List'!$B$2:$B$499,1,FALSE)),\"\",\"Y\")","v":""}]
["836E10000","SEEDING & EROSION CONTROL W/TURF, TYPE 1","SY","PRIMARY","560T1","TURF REINFORCING MAT TYPE 1","SY","SS-836","0.00000","CERT",{"$f":"IF(ISNA(VLOOKUP(A25795,'(1) Project Reference Item List'!$B$2:$B$499,1,FALSE)),\"\",\"Y\")","v":""}]
["638E20428","SPECIAL - 6\" GALVANIZED STEEL PIPE, MS","FT","PRIMARY","67900","WELDED & SEAMLSS GALV PIPE","FT","707.70","1.00000","QPL",{"$f":"IF(ISNA(VLOOKUP(A25810,'(1) Project Reference Item List'!$B$2:$B$499,1,FALSE)),\"\",\"Y\")","v":""}]
["645E00091","EDGE LINE, 4\", TYPE A, APP","MILE","PRIMARY","40304","PREFORMED YELLOW TYPE A-2 60 MIL","FT","740.05","5,280.00000","CERT",{"$f":"IF(ISNA(VLOOKUP(A25871,'(1) Project Reference Item List'!$B$2:$B$499,1,FALSE)),\"\",\"Y\")","v":""}]
["630E89100","RMVL/OVHD SUPP/REERECT,12.30","EACH","PRIMARY","NOMATL","CODE TO ADD TO CONTRACT S & T REQ","EACH","NONE","0.00000",null,{"$f":"IF(ISNA(VLOOKUP(A25936,'(1) Project Reference Item List'!$B$2:$B$499,1,FALSE)),\"\",\"Y\")","v":""}]
["884E10100","10\" PORTLAND CEMENT CONCRETE PAVEMENT","SY","SUBSTITUTE","67601A","EXPANSION SHIELD ANCHOR, TYPE A","EACH","712.01","0.00000","QPL",{"$f":"IF(ISNA(VLOOKUP(A26001,'(1) Project Reference Item List'!$B$2:$B$499,1,FALSE)),\"\",\"Y\")","v":""}]
["645E00990","RAILROAD SYMBOL MARKING, TYPE A","EACH","COMPONENT","40301","PREFORMED WHITE TYPE A-1 90 MIL","FT","740.05","0.00000","CERT",{"$f":"IF(ISNA(VLOOKUP(A26012,'(1) Project Reference Item List'!$B$2:$B$499,1,FALSE)),\"\",\"Y\")","v":""}]
["638E05400","1\" POLYETHYLENE SERVICE BRANCH","FT","COMPONENT","7481301","SERVICE STOP","EACH","748.13","0.00000","QPL",{"$f":"IF(ISNA(VLOOKUP(A26077,'(1) Project Reference Item List'!$B$2:$B$499,1,FALSE)),\"\",\"Y\")","v":""}]
["632E81071","COMB SG SUP, 81.21, DES 11, APP","EACH","PRIMARY","34200SS","SIGNAL SUPPORT","EACH","732.11","1.00000","CERT",{"$f":"IF(ISNA(VLOOKUP(A26138,'(1) Project Reference Item List'!$B$2:$B$499,1,FALSE)),\"\",\"Y\")","v":""}]
["611E98231","CATCH BASIN, NO. 4, APP","EACH","SUBSTITUTE","204GRD","NO. 4 GRATE \"D\"","EACH","711.12","2.00000","CERT",{"$f":"IF(ISNA(VLOOKUP(A26153,'(1) Project Reference Item List'!$B$2:$B$499,1,FALSE)),\"\",\"Y\")","v":""}]
["646E10311","CHANNELIZING LINE, 12\", APP","FT","PRIMARY","40101NTPP","TRAFFIC PAINT WHITE EPOXY RESIN","GAL","NTPEP","0.01250","CERT",{"$f":"IF(ISNA(VLOOKUP(A26218,'(1) Project Reference Item List'!$B$2:$B$499,1,FALSE)),\"\",\"Y\")","v":""}]
["625E25900","COND, JACKED OR DRILLED","FT","SUBSTITUTE","3160001","POLYETHYLENE CONDUITS & FITTING","FT","725.052","1.00000","QPL",{"$f":"IF(ISNA(VLOOKUP(A26279,'(1) Project Reference Item List'!$B$2:$B$499,1,FALSE)),\"\",\"Y\")","v":""}]
["632E84801","COMB ST POLE,81.10, DES 8, APP","EACH","COMPONENT","62675","REINFORCING, UNCOATED GRADE 75","LB","709.01","129.00000","CERT",{"$f":"IF(ISNA(VLOOKUP(A26344,'(1) Project Reference Item List'!$B$2:$B$499,1,FALSE)),\"\",\"Y\")","v":""}]
["611E98350","CATCH BASIN, NO. 5A, APP","EACH","SUBSTITUTE","37507","PORTLAND CEMENT MASONRY","LB","701.07","0.00000","CERT",{"$f":"IF(ISNA(VLOOKUP(A26355,'(1) Project Reference Item List'!$B$2:$B$499,1,FALSE)),\"\",\"Y\")","v":""}]
["614E21001","WORK ZONE CL, CL I, APP","MILE","PRIMARY","40113","TRAFFIC PAINT YELLOW FASTDRY ACRYLIC T-1","GAL","740.02","5.50000","CERT",{"$f":"IF(ISNA(VLOOKUP(A26420,'(1) Project Reference Item List'!$B$2:$B$499,1,FALSE)),\"\",\"Y\")","v":""}]
["611E53006","38\" X 60\" CONDUIT, TYPE D, 706.04","FT","SUBSTITUTE","483HE4","CERT REIN CONC PIPE EPX/COAT HE-4 2000D","FT","706.03 S10","1.00000","CERT",{"$f":"IF(ISNA(VLOOKUP(A26485,'(1) Project Reference Item List'!$B$2:$B$499,1,FALSE)),\"\",\"Y\")","v":""}]
["451E13020","8\" REINF CONC PVMT, CLS QC 1P QC/QA","SY","COMPONENT","63013","STEEL ROD, COATED DOWEL, JOINT ASSY","LB","709.13","0.00000","CERT",{"$f":"IF(ISNA(VLOOKUP(A26546,'(1) Project Reference Item List'!$B$2:$B$499,1,FALSE)),\"\",\"Y\")","v":""}]
["203E40121","BORROW, USING GRAN MAT, INC EXC","TON","PRIMARY","002016","GRANULAR EMBANKMENT MATERIALS","CY","703.16.B","0.00000","JCTL",{"$f":"IF(ISNA(VLOOKUP(A26561,'(1) Project Reference Item List'!$B$2:$B$499,1,FALSE)),\"\",\"Y\")","v":""}]
["410E22000","TRAF COMP SURF, TYPE A OR B","TON","SUBSTITUTE","07ER18","RECYCLED ASPHALT CONCRETE 410/411/617","TON",703.18,1.325,"CERT",{"$f":"IF(ISNA(VLOOKUP(A26626,'(1) Project Reference Item List'!$B$2:$B$499,1,FALSE)),\"\",\"Y\")","v":""}]
["511E33416","CLASS QC2 CONC, SUPERSTRUCTURE","CY","COMPONENT","62001","P.V.C. EXPANSION SPONGE","SF","705.03-711",0,"QPL",{"$f":"IF(ISNA(VLOOKUP(A26687,'(1) Project Reference Item List'!$B$2:$B$499,1,FALSE)),\"\",\"Y\")","v":""}]
["452E14122","11.5\" NO-REINF CNC PVMT, QC1P QC/QA","SY","COMPONENT","619100","PREFORMED EXPANSION JOINT FILLER 1\"","SF","705.03-711",0,"QPL",{"$f":"IF(ISNA(VLOOKUP(A26752,'(1) Project Reference Item List'!$B$2:$B$499,1,FALSE)),\"\",\"Y\")","v":""}]
["442E20215","ASPHALT CONC, 19 MM, T-A (DRIVES), APP","CY","PRIMARY","17644119","SUPERPAVE 19MM","TON","SP #2",2,"JCTL",{"$f":"IF(ISNA(VLOOKUP(A26763,'(1) Project Reference Item List'!$B$2:$B$499,1,FALSE)),\"\",\"Y\")","v":""}]
["611E09101","21\" CONDUIT, TYPE C, APP","FT","SUBSTITUTE","508ES","VCP EXTRA STRENGTH","FT",706.08,1,"QPL",{"$f":"IF(ISNA(VLOOKUP(A26828,'(1) Project Reference Item List'!$B$2:$B$499,1,FALSE)),\"\",\"Y\")","v":""}]
["255E10111","FULL DPT RMVL & REPL, CL QC FS, APP","SY","SUBSTITUTE","619100","PREFORMED EXPANSION JOINT FILLER 1\"","SF","705.03-711",0,"QPL",{"$f":"IF(ISNA(VLOOKUP(A26893,'(1) Project Reference Item List'!$B$2:$B$499,1,FALSE)),\"\",\"Y\")","v":""}]
["606E27840","ANCHOR ASSEMBLY REBUILT, TYPE B","EACH","COMPONENT","550HWMISC","GUARDRAIL HARDWARE","EACH",710.15,1,"CERT",{"$f":"IF(ISNA(VLOOKUP(A26904,'(1) Project Reference Item List'!$B$2:$B$499,1,FALSE)),\"\",\"Y\")","v":""}]
["452E15020","12\" NO-REINF CNC PVMT, QC1P QC/QA","SY","COMPONENT","67503","HOOK BOLT COUPLER","EACH","BP2.1",0,"QPL",{"$f":"IF(ISNA(VLOOKUP(A26969,'(1) Project Reference Item List'!$B$2:$B$499,1,FALSE)),\"\",\"Y\")","v":""}]
["605E12201","6\" DEEP PIPE UD, APP","FT","SUBSTITUTE","4870000","CERT CONC DRAIN TILE EX QUALITY","FT","706.07 S10",1,"CERT",{"$f":"IF(ISNA(VLOOKUP(A27034,'(1) Project Reference Item List'!$B$2:$B$499,1,FALSE)),\"\",\"Y\")","v":""}]
["606E32501","BR TERM ASSY, TYPE F, APP","EACH","COMPONENT","350WPOST","WOODPOST","EACH","710.12-14",0,"CERT",{"$f":"IF(ISNA(VLOOKUP(A27095,'(1) Project Reference Item List'!$B$2:$B$499,1,FALSE)),\"\",\"Y\")","v":""}]
["606E33601","BR TERM ASSY REBUILT, H, APP","EACH","PRIMARY","550RAIL","RAIL ELEMENT","FT",710.06,25,"CERT",{"$f":"IF(ISNA(VLOOKUP(A27110,'(1) Project Reference Item List'!$B$2:$B$499,1,FALSE)),\"\",\"Y\")","v":""}]
["606E98100","GUARDRAIL, MISC.","EACH","COMPONENT","550HWMISC","GUARDRAIL HARDWARE","EACH",710.15,0,"CERT",{"$f":"IF(ISNA(VLOOKUP(A27171,'(1) Project Reference Item List'!$B$2:$B$499,1,FALSE)),\"\",\"Y\")","v":""}]
["611E07401","18\" CONDUIT, TYPE B, APP","FT","SUBSTITUTE","055SD5","SAND STONE 703.05","TON",703.05,0,"CERT",{"$f":"IF(ISNA(VLOOKUP(A27236,'(1) Project Reference Item List'!$B$2:$B$499,1,FALSE)),\"\",\"Y\")","v":""}]
["638E20754","SPECIAL - FIRE HYDR REMOV & RESET, MS","EACH","PRIMARY","NOMATL","CODE TO ADD TO CONTRACT S & T REQ","EACH","NONE",0,null,{"$f":"IF(ISNA(VLOOKUP(A27301,'(1) Project Reference Item List'!$B$2:$B$499,1,FALSE)),\"\",\"Y\")","v":""}]
["638E20220","SPECIAL - 16\" DIP 53 BLTS-REST JTS & FTG","FT","SUBSTITUTE","07E057","57 RECYCLED CONCRETE (703.11 703.18)","TON",703.18,0,"CERT",{"$f":"IF(ISNA(VLOOKUP(A27312,'(1) Project Reference Item List'!$B$2:$B$499,1,FALSE)),\"\",\"Y\")","v":""}]
[null,null,null,null,null,null,null,null,null,null,{"$f":"IF(ISNA(VLOOKUP(A27377,'(1) Project Reference Item List'!$B$2:$B$499,1,FALSE)),\"\",\"Y\")","v":""}]
[null,null,null,null,null,null,null,null,null,null,{"$f":"IF(ISNA(VLOOKUP(A27438,'(1) Project Reference Item List'!$B$2:$B$499,1,FALSE)),\"\",\"Y\")","v":""}]
[null,null,null,null,null,null,null,null,null,null,{"$f":"IF(ISNA(VLOOKUP(A27453,'(1) Project Reference Item List'!$B$2:$B$499,1,FALSE)),\"\",\"Y\")","v":""}]
[null,null,null,null,null,null,null,null,null,null,{"$f":"IF(ISNA(VLOOKUP(A27518,'(1) Project Reference Item List'!$B$2:$B$499,1,FALSE)),\"\",\"Y\")","v":""}]
[null,null,null,null,null,null,null,null,null,null,{"$f":"IF(ISNA(VLOOKUP(A27579,'(1) Project Reference Item List'!$B$2:$B$499,1,FALSE)),\"\",\"Y\")","v":""}]
[null,null,null,null,null,null,null,null,null,null,{"$f":"IF(ISNA(VLOOKUP(A27644,'(1) Project Reference Item List'!$B$2:$B$499,1,FALSE)),\"\",\"Y\")","v":""}]
[null,null,null,null,null,null,null,null,null,null,{"$f":"IF(ISNA(VLOOKUP(A27659,'(1) Project Reference Item List'!$B$2:$B$499,1,FALSE)),\"\",\"Y\")","v":""}]
[null,null,null,null,null,null,null,null,null,null,{"$f":"IF(ISNA(VLOOKUP(A27720,'(1) Project Reference Item List'!$B$2:$B$499,1,FALSE)),\"\",\"Y\")","v":""}]
[null,null,null,null,null,null,null,null,null,null,{"$f":"IF(ISNA(VLOOKUP(A27785,'(1) Project Reference Item List'!$B$2:$B$499,1,FALSE)),\"\",\"Y\")","v":""}]
[null,null,null,null,null,null,null,null,null,null,{"$f":"IF(ISNA(VLOOKUP(A27846,'(1) Project Reference Item List'!$B$2:$B$499,1,FALSE)),\"\",\"Y\")","v":""}]
[null,null,null,null,null,null,null,null,null,null,{"$f":"IF(ISNA(VLOOKUP(A27861,'(1) Project Reference Item List'!$B$2:$B$499,1,FALSE)),\"\",\"Y\")","v":""}]
[null,null,null,null,null,null,null,null,null,null,{"$f":"IF(ISNA(VLOOKUP(A27926,'(1) Project Reference Item List'!$B$2:$B$499,1,FALSE)),\"\",\"Y\")","v":""}]
[null,null,null,null,null,null,null,null,null,null,{"$f":"IF(ISNA(VLOOKUP(A27987,'(1) Project Reference Item List'!$B$2:$B$499,1,FALSE)),\"\",\"Y\")","v":""}]
[null,null,null,null,null,null,null,null,null,null,{"$f":"IF(ISNA(VLOOKUP(A28052,'(1) Project Reference Item List'!$B$2:$B$499,1,FALSE)),\"\",\"Y\")","v":""}]
[null,null,null,null,null,null,null,null,null,null,{"$f":"IF(ISNA(VLOOKUP(A28063,'(1) Project Reference Item List'!$B$2:$B$499,1,FALSE)),\"\",\"Y\")","v":""}]
[null,null,null,null,null,null,null,null,null,null,{"$f":"IF(ISNA(VLOOKUP(A28128,'(1) Project Reference Item List'!$B$2:$B$499,1,FALSE)),\"\",\"Y\")","v":""}]
[null,null,null,null,null,null,null,null,null,null,{"$f":"IF(ISNA(VLOOKUP(A28193,'(1) Project Reference Item List'!$B$2:$B$499,1,FALSE)),\"\",\"Y\")","v":""}]
[null,null,null,null,null,null,null,null,null,null,{"$f":"IF(ISNA(VLOOKUP(A28204,'(1) Project Reference Item List'!$B$2:$B$499,1,FALSE)),\"\",\"Y\")","v":""}]
[null,null,null,null,null,null,null,null,null,null,{"$f":"IF(ISNA(VLOOKUP(A28269,'(1) Project Reference Item List'!$B$2:$B$499,1,FALSE)),\"\",\"Y\")","v":""}]
[null,null,null,null,null,null,null,null,null,null,{"$f":"IF(ISNA(VLOOKUP(A28334,'(1) Project Reference Item List'!$B$2:$B$499,1,FALSE)),\"\",\"Y\")","v":""}]
[null,null,null,null,null,null,null,null,null,null,{"$f":"IF(ISNA(VLOOKUP(A28395,'(1) Project Reference Item List'!$B$2:$B$499,1,FALSE)),\"\",\"Y\")","v":""}]
[null,null,null,null,null,null,null,null,null,null,{"$f":"IF(ISNA(VLOOKUP(A28410,'(1) Project Reference Item List'!$B$2:$B$499,1,FALSE)),\"\",\"Y\")","v":""}]
[null,null,null,null,null,null,null,null,null,null,{"$f":"IF(ISNA(VLOOKUP(A28471,'(1) Project Reference Item List'!$B$2:$B$499,1,FALSE)),\"\",\"Y\")","v":""}]
[null,null,null,null,null,null,null,null,null,null,{"$f":"IF(ISNA(VLOOKUP(A28536,'(1) Project Reference Item List'!$B$2:$B$499,1,FALSE)),\"\",\"Y\")","v":""}]
[null,null,null,null,null,null,null,null,null,null,{"$f":"IF(ISNA(VLOOKUP(A28601,'(1) Project Reference Item List'!$B$2:$B$499,1,FALSE)),\"\",\"Y\")","v":""}]
[null,null,null,null,null,null,null,null,null,null,{"$f":"IF(ISNA(VLOOKUP(A28612,'(1) Project Reference Item List'!$B$2:$B$499,1,FALSE)),\"\",\"Y\")","v":""}]
[null,null,null,null,null,null,null,null,null,null,{"$f":"IF(ISNA(VLOOKUP(A28677,'(1) Project Reference Item List'!$B$2:$B$499,1,FALSE)),\"\",\"Y\")","v":""}]
[null,null,null,null,null,null,null,null,null,null,{"$f":"IF(ISNA(VLOOKUP(A28742,'(1) Project Reference Item List'!$B$2:$B$499,1,FALSE)),\"\",\"Y\")","v":""}]
[null,null,null,null,null,null,null,null,null,null,{"$f":"IF(ISNA(VLOOKUP(A28753,'(1) Project Reference Item List'!$B$2:$B$499,1,FALSE)),\"\",\"Y\")","v":""}]
[null,null,null,null,null,null,null,null,null,null,{"$f":"IF(ISNA(VLOOKUP(A28818,'(1) Project Reference Item List'!$B$2:$B$499,1,FALSE)),\"\",\"Y\")","v":""}]
[null,null,null,null,null,null,null,null,null,null,{"$f":"IF(ISNA(VLOOKUP(A28879,'(1) Project Reference Item List'!$B$2:$B$499,1,FALSE)),\"\",\"Y\")","v":""}]
[null,null,null,null,null,null,null,null,null,null,{"$f":"IF(ISNA(VLOOKUP(A28944,'(1) Project Reference Item List'!$B$2:$B$499,1,FALSE)),\"\",\"Y\")","v":""}]
[null,null,null,null,null,null,null,null,null,null,{"$f":"IF(ISNA(VLOOKUP(A28959,'(1) Project Reference Item List'!$B$2:$B$499,1,FALSE)),\"\",\"Y\")","v":""}]
[null,null,null,null,null,null,null,null,null,null,{"$f":"IF(ISNA(VLOOKUP(A29020,'(1) Project Reference Item List'!$B$2:$B$499,1,FALSE)),\"\",\"Y\")","v":""}]
[null,null,null,null,null,null,null,null,null,null,{"$f":"IF(ISNA(VLOOKUP(A29085,'(1) Project Reference Item List'!$B$2:$B$499,1,FALSE)),\"\",\"Y\")","v":""}]
[null,null,null,null,null,null,null,null,null,null,{"$f":"IF(ISNA(VLOOKUP(A29146,'(1) Project Reference Item List'!$B$2:$B$499,1,FALSE)),\"\",\"Y\")","v":""}]
[null,null,null,null,null,null,null,null,null,null,{"$f":"IF(ISNA(VLOOKUP(A29161,'(1) Project Reference Item List'!$B$2:$B$499,1,FALSE)),\"\",\"Y\")","v":""}]
[null,null,null,null,null,null,null,null,null,null,{"$f":"IF(ISNA(VLOOKUP(A29226,'(1) Project Reference Item List'!$B$2:$B$499,1,FALSE)),\"\",\"Y\")","v":""}]
[null,null,null,null,null,null,null,null,null,null,{"$f":"IF(ISNA(VLOOKUP(A29261,'(1) Project Reference Item List'!$B$2:$B$499,1,FALSE)),\"\",\"Y\")","v":""}]
[null,null,null,null,null,null,null,null,null,null,{"$f":"IF(ISNA(VLOOKUP(A29353,'(1) Project Reference Item List'!$B$2:$B$499,1,FALSE)),\"\",\"Y\")","v":""}]
[null,null,null,null,null,null,null,null,null,null,{"$f":"IF(ISNA(VLOOKUP(A29368,'(1) Project Reference Item List'!$B$2:$B$499,1,FALSE)),\"\",\"Y\")","v":""}]
[null,null,null,null,null,null,null,null,null,null,{"$f":"IF(ISNA(VLOOKUP(A29429,'(1) Project Reference Item List'!$B$2:$B$499,1,FALSE)),\"\",\"Y\")","v":""}]
[null,null,null,null,null,null,null,null,null,null,{"$f":"IF(ISNA(VLOOKUP(A29494,'(1) Project Reference Item List'!$B$2:$B$499,1,FALSE)),\"\",\"Y\")","v":""}]
[null,null,null,null,null,null,null,null,null,null,{"$f":"IF(ISNA(VLOOKUP(A29505,'(1) Project Reference Item List'!$B$2:$B$499,1,FALSE)),\"\",\"Y\")","v":""}]
[null,null,null,null,null,null,null,null,null,null,{"$f":"IF(ISNA(VLOOKUP(A29570,'(1) Project Reference Item List'!$B$2:$B$499,1,FALSE)),\"\",\"Y\")","v":""}]
[null,null,null,null,null,null,null,null,null,null,{"$f":"IF(ISNA(VLOOKUP(A29635,'(1) Project Reference Item List'!$B$2:$B$499,1,FALSE)),\"\",\"Y\")","v":""}]
[null,null,null,null,null,null,null,null,null,null,{"$f":"IF(ISNA(VLOOKUP(A29696,'(1) Project Reference Item List'!$B$2:$B$499,1,FALSE)),\"\",\"Y\")","v":""}]
[null,null,null,null,null,null,null,null,null,null,{"$f":"IF(ISNA(VLOOKUP(A29711,'(1) Project Reference Item List'!$B$2:$B$499,1,FALSE)),\"\",\"Y\")","v":""}]
[null,null,null,null,null,null,null,null,null,null,{"$f":"IF(ISNA(VLOOKUP(A29776,'(1) Project Reference Item List'!$B$2:$B$499,1,FALSE)),\"\",\"Y\")","v":""}]
[null,null,null,null,null,null,null,null,null,null,{"$f":"IF(ISNA(VLOOKUP(A29837,'(1) Project Reference Item List'!$B$2:$B$499,1,FALSE)),\"\",\"Y\")","v":""}]
[null,null,null,null,null,null,null,null,null,null,{"$f":"IF(ISNA(VLOOKUP(A29902,'(1) Project Reference Item List'!$B$2:$B$499,1,FALSE)),\"\",\"Y\")","v":""}]
[null,null,null,null,null,null,null,null,null,null,{"$f":"IF(ISNA(VLOOKUP(A29913,'(1) Project Reference Item List'!$B$2:$B$499,1,FALSE)),\"\",\"Y\")","v":""}]
[null,null,null,null,null,null,null,null,null,null,{"$f":"IF(ISNA(VLOOKUP(A29978,'(1) Project Reference Item List'!$B$2:$B$499,1,FALSE)),\"\",\"Y\")","v":""}]
[null,null,null,null,null,null,null,null,null,null,{"$f":"IF(ISNA(VLOOKUP(A30043,'(1) Project Reference Item List'!$B$2:$B$499,1,FALSE)),\"\",\"Y\")","v":""}]
[null,null,null,null,null,null,null,null,null,null,{"$f":"IF(ISNA(VLOOKUP(A30054,'(1) Project Reference Item List'!$B$2:$B$499,1,FALSE)),\"\",\"Y\")","v":""}]
[null,null,null,null,null,null,null,null,null,null,{"$f":"IF(ISNA(VLOOKUP(A30119,'(1) Project Reference Item List'!$B$2:$B$499,1,FALSE)),\"\",\"Y\")","v":""}]
[null,null,null,null,null,null,null,null,null,null,{"$f":"IF(ISNA(VLOOKUP(A30180,'(1) Project Reference Item List'!$B$2:$B$499,1,FALSE)),\"\",\"Y\")","v":""}]
[null,null,null,null,null,null,null,null,null,null,{"$f":"IF(ISNA(VLOOKUP(A30245,'(1) Project Reference Item List'!$B$2:$B$499,1,FALSE)),\"\",\"Y\")","v":""}]
[null,null,null,null,null,null,null,null,null,null,{"$f":"IF(ISNA(VLOOKUP(A30260,'(1) Project Reference Item List'!$B$2:$B$499,1,FALSE)),\"\",\"Y\")","v":""}]
[null,null,null,null,null,null,null,null,null,null,{"$f":"IF(ISNA(VLOOKUP(A30321,'(1) Project Reference Item List'!$B$2:$B$499,1,FALSE)),\"\",\"Y\")","v":""}]
[null,null,null,null,null,null,null,null,null,null,{"$f":"IF(ISNA(VLOOKUP(A30386,'(1) Project Reference Item List'!$B$2:$B$499,1,FALSE)),\"\",\"Y\")","v":""}]
[null,null,null,null,null,null,null,null,null,null,{"$f":"IF(ISNA(VLOOKUP(A30451,'(1) Project Reference Item List'!$B$2:$B$499,1,FALSE)),\"\",\"Y\")","v":""}]
[null,null,null,null,null,null,null,null,null,null,{"$f":"IF(ISNA(VLOOKUP(A30462,'(1) Project Reference Item List'!$B$2:$B$499,1,FALSE)),\"\",\"Y\")","v":""}]
[null,null,null,null,null,null,null,null,null,null,{"$f":"IF(ISNA(VLOOKUP(A30527,'(1) Project Reference Item List'!$B$2:$B$499,1,FALSE)),\"\",\"Y\")","v":""}]
[null,null,null,null,null,null,null,null,null,null,{"$f":"IF(ISNA(VLOOKUP(A30588,'(1) Project Reference Item List'!$B$2:$B$499,1,FALSE)),\"\",\"Y\")","v":""}]
[null,null,null,null,null,null,null,null,null,null,{"$f":"IF(ISNA(VLOOKUP(A30653,'(1) Project Reference Item List'!$B$2:$B$499,1,FALSE)),\"\",\"Y\")","v":""}]
[null,null,null,null,null,null,null,null,null,null,{"$f":"IF(ISNA(VLOOKUP(A30668,'(1) Project Reference Item List'!$B$2:$B$499,1,FALSE)),\"\",\"Y\")","v":""}]
[null,null,null,null,null,null,null,null,null,null,{"$f":"IF(ISNA(VLOOKUP(A30729,'(1) Project Reference Item List'!$B$2:$B$499,1,FALSE)),\"\",\"Y\")","v":""}]
[null,null,null,null,null,null,null,null,null,null,{"$f":"IF(ISNA(VLOOKUP(A30794,'(1) Project Reference Item List'!$B$2:$B$499,1,FALSE)),\"\",\"Y\")","v":""}]
[null,null,null,null,null,null,null,null,null,null,{"$f":"IF(ISNA(VLOOKUP(A30805,'(1) Project Reference Item List'!$B$2:$B$499,1,FALSE)),\"\",\"Y\")","v":""}]
[null,null,null,null,null,null,null,null,null,null,{"$f":"IF(ISNA(VLOOKUP(A30870,'(1) Project Reference Item List'!$B$2:$B$499,1,FALSE)),\"\",\"Y\")","v":""}]
[null,null,null,null,null,null,null,null,null,null,{"$f":"IF(ISNA(VLOOKUP(A30935,'(1) Project Reference Item List'!$B$2:$B$499,1,FALSE)),\"\",\"Y\")","v":""}]
[null,null,null,null,null,null,null,null,null,null,{"$f":"IF(ISNA(VLOOKUP(A30996,'(1) Project Reference Item List'!$B$2:$B$499,1,FALSE)),\"\",\"Y\")","v":""}]
[null,null,null,null,null,null,null,null,null,null,{"$f":"IF(ISNA(VLOOKUP(A31011,'(1) Project Reference Item List'!$B$2:$B$499,1,FALSE)),\"\",\"Y\")","v":""}]
[null,null,null,null,null,null,null,null,null,null,{"$f":"IF(ISNA(VLOOKUP(A31076,'(1) Project Reference Item List'!$B$2:$B$499,1,FALSE)),\"\",\"Y\")","v":""}]
[null,null,null,null,null,null,null,null,null,null,{"$f":"IF(ISNA(VLOOKUP(A31137,'(1) Project Reference Item List'!$B$2:$B$499,1,FALSE)),\"\",\"Y\")","v":""}]
[null,null,null,null,null,null,null,null,null,null,{"$f":"IF(ISNA(VLOOKUP(A31202,'(1) Project Reference Item List'!$B$2:$B$499,1,FALSE)),\"\",\"Y\")","v":""}]
[null,null,null,null,null,null,null,null,null,null,{"$f":"IF(ISNA(VLOOKUP(A31213,'(1) Project Reference Item List'!$B$2:$B$499,1,FALSE)),\"\",\"Y\")","v":""}]
[null,null,null,null,null,null,null,null,null,null,{"$f":"IF(ISNA(VLOOKUP(A31278,'(1) Project Reference Item List'!$B$2:$B$499,1,FALSE)),\"\",\"Y\")","v":""}]
[null,null,null,null,null,null,null,null,null,null,{"$f":"IF(ISNA(VLOOKUP(A31343,'(1) Project Reference Item List'!$B$2:$B$499,1,FALSE)),\"\",\"Y\")","v":""}]
[null,null,null,null,null,null,null,null,null,null,{"$f":"IF(ISNA(VLOOKUP(A31354,'(1) Project Reference Item List'!$B$2:$B$499,1,FALSE)),\"\",\"Y\")","v":""}]
[null,null,null,null,null,null,null,null,null,null,{"$f":"IF(ISNA(VLOOKUP(A31419,'(1) Project Reference Item List'!$B$2:$B$499,1,FALSE)),\"\",\"Y\")","v":""}]
[null,null,null,null,null,null,null,null,null,null,{"$f":"IF(ISNA(VLOOKUP(A31484,'(1) Project Reference Item List'!$B$2:$B$499,1,FALSE)),\"\",\"Y\")","v":""}]
[null,null,null,null,null,null,null,null,null,null,{"$f":"IF(ISNA(VLOOKUP(A31545,'(1) Project Reference Item List'!$B$2:$B$499,1,FALSE)),\"\",\"Y\")","v":""}]
[null,null,null,null,null,null,null,null,null,null,{"$f":"IF(ISNA(VLOOKUP(A31560,'(1) Project Reference Item List'!$B$2:$B$499,1,FALSE)),\"\",\"Y\")","v":""}]
[null,null,null,null,null,null,null,null,null,null,{"$f":"IF(ISNA(VLOOKUP(A31621,'(1) Project Reference Item List'!$B$2:$B$499,1,FALSE)),\"\",\"Y\")","v":""}]
[null,null,null,null,null,null,null,null,null,null,{"$f":"IF(ISNA(VLOOKUP(A31686,'(1) Project Reference Item List'!$B$2:$B$499,1,FALSE)),\"\",\"Y\")","v":""}]
[null,null,null,null,null,null,null,null,null,null,{"$f":"IF(ISNA(VLOOKUP(A31751,'(1) Project Reference Item List'!$B$2:$B$499,1,FALSE)),\"\",\"Y\")","v":""}]
[null,null,null,null,null,null,null,null,null,null,{"$f":"IF(ISNA(VLOOKUP(A31762,'(1) Project Reference Item List'!$B$2:$B$499,1,FALSE)),\"\",\"Y\")","v":""}]
[null,null,null,null,null,null,null,null,null,null,{"$f":"IF(ISNA(VLOOKUP(A31827,'(1) Project Reference Item List'!$B$2:$B$499,1,FALSE)),\"\",\"Y\")","v":""}]
[null,null,null,null,null,null,null,null,null,null,{"$f":"IF(ISNA(VLOOKUP(A31888,'(1) Project Reference Item List'!$B$2:$B$499,1,FALSE)),\"\",\"Y\")","v":""}]
[null,null,null,null,null,null,null,null,null,null,{"$f":"IF(ISNA(VLOOKUP(A31953,'(1) Project Reference Item List'!$B$2:$B$499,1,FALSE)),\"\",\"Y\")","v":""}]
[null,null,null,null,null,null,null,null,null,null,{"$f":"IF(ISNA(VLOOKUP(A31968,'(1) Project Reference Item List'!$B$2:$B$499,1,FALSE)),\"\",\"Y\")","v":""}]
[null,null,null,null,null,null,null,null,null,null,{"$f":"IF(ISNA(VLOOKUP(A32029,'(1) Project Reference Item List'!$B$2:$B$499,1,FALSE)),\"\",\"Y\")","v":""}]
[null,null,null,null,null,null,null,null,null,null,{"$f":"IF(ISNA(VLOOKUP(A32094,'(1) Project Reference Item List'!$B$2:$B$499,1,FALSE)),\"\",\"Y\")","v":""}]
[null,null,null,null,null,null,null,null,null,null,{"$f":"IF(ISNA(VLOOKUP(A32109,'(1) Project Reference Item List'!$B$2:$B$499,1,FALSE)),\"\",\"Y\")","v":""}]
[null,null,null,null,null,null,null,null,null,null,{"$f":"IF(ISNA(VLOOKUP(A32170,'(1) Project Reference Item List'!$B$2:$B$499,1,FALSE)),\"\",\"Y\")","v":""}]
[null,null,null,null,null,null,null,null,null,null,{"$f":"IF(ISNA(VLOOKUP(A32235,'(1) Project Reference Item List'!$B$2:$B$499,1,FALSE)),\"\",\"Y\")","v":""}]
[null,null,null,null,null,null,null,null,null,null,{"$f":"IF(ISNA(VLOOKUP(A32296,'(1) Project Reference Item List'!$B$2:$B$499,1,FALSE)),\"\",\"Y\")","v":""}]
[null,null,null,null,null,null,null,null,null,null,{"$f":"IF(ISNA(VLOOKUP(A32311,'(1) Project Reference Item List'!$B$2:$B$499,1,FALSE)),\"\",\"Y\")","v":""}]
[null,null,null,null,null,null,null,null,null,null,{"$f":"IF(ISNA(VLOOKUP(A32376,'(1) Project Reference Item List'!$B$2:$B$499,1,FALSE)),\"\",\"Y\")","v":""}]
[null,null,null,null,null,null,null,null,null,null,{"$f":"IF(ISNA(VLOOKUP(A32437,'(1) Project Reference Item List'!$B$2:$B$499,1,FALSE)),\"\",\"Y\")","v":""}]
[null,null,null,null,null,null,null,null,null,null,{"$f":"IF(ISNA(VLOOKUP(A32502,'(1) Project Reference Item List'!$B$2:$B$499,1,FALSE)),\"\",\"Y\")","v":""}]
[null,null,null,null,null,null,null,null,null,null,{"$f":"IF(ISNA(VLOOKUP(A32517,'(1) Project Reference Item List'!$B$2:$B$499,1,FALSE)),\"\",\"Y\")","v":""}]
[null,null,null,null,null,null,null,null,null,null,{"$f":"IF(ISNA(VLOOKUP(A32578,'(1) Project Reference Item List'!$B$2:$B$499,1,FALSE)),\"\",\"Y\")","v":""}]
[null,null,null,null,null,null,null,null,null,null,{"$f":"IF(ISNA(VLOOKUP(A32643,'(1) Project Reference Item List'!$B$2:$B$499,1,FALSE)),\"\",\"Y\")","v":""}]
[null,null,null,null,null,null,null,null,null,null,{"$f":"IF(ISNA(VLOOKUP(A32654,'(1) Project Reference Item List'!$B$2:$B$499,1,FALSE)),\"\",\"Y\")","v":""}]
[null,null,null,null,null,null,null,null,null,null,{"$f":"IF(ISNA(VLOOKUP(A32719,'(1) Project Reference Item List'!$B$2:$B$499,1,FALSE)),\"\",\"Y\")","v":""}]
[null,null,null,null,null,null,null,null,null,null,{"$f":"IF(ISNA(VLOOKUP(A32784,'(1) Project Reference Item List'!$B$2:$B$499,1,FALSE)),\"\",\"Y\")","v":""}]
[null,null,null,null,null,null,null,null,null,null,{"$f":"IF(ISNA(VLOOKUP(A32845,'(1) Project Reference Item List'!$B$2:$B$499,1,FALSE)),\"\",\"Y\")","v":""}]
[null,null,null,null,null,null,null,null,null,null,{"$f":"IF(ISNA(VLOOKUP(A32860,'(1) Project Reference Item List'!$B$2:$B$499,1,FALSE)),\"\",\"Y\")","v":""}]
[null,null,null,null,null,null,null,null,null,null,{"$f":"IF(ISNA(VLOOKUP(A32921,'(1) Project Reference Item List'!$B$2:$B$499,1,FALSE)),\"\",\"Y\")","v":""}]
[null,null,null,null,null,null,null,null,null,null,{"$f":"IF(ISNA(VLOOKUP(A32986,'(1) Project Reference Item List'!$B$2:$B$499,1,FALSE)),\"\",\"Y\")","v":""}]
[null,null,null,null,null,null,null,null,null,null,{"$f":"IF(ISNA(VLOOKUP(A33051,'(1) Project Reference Item List'!$B$2:$B$499,1,FALSE)),\"\",\"Y\")","v":""}]
[null,null,null,null,null,null,null,null,null,null,{"$f":"IF(ISNA(VLOOKUP(A33062,'(1) Project Reference Item List'!$B$2:$B$499,1,FALSE)),\"\",\"Y\")","v":""}]
[null,null,null,null,null,null,null,null,null,null,{"$f":"IF(ISNA(VLOOKUP(A33127,'(1) Project Reference Item List'!$B$2:$B$499,1,FALSE)),\"\",\"Y\")","v":""}]
[null,null,null,null,null,null,null,null,null,null,{"$f":"IF(ISNA(VLOOKUP(A33192,'(1) Project Reference Item List'!$B$2:$B$499,1,FALSE)),\"\",\"Y\")","v":""}]
[null,null,null,null,null,null,null,null,null,null,{"$f":"IF(ISNA(VLOOKUP(A33253,'(1) Project Reference Item List'!$B$2:$B$499,1,FALSE)),\"\",\"Y\")","v":""}]
[null,null,null,null,null,null,null,null,null,null,{"$f":"IF(ISNA(VLOOKUP(A33268,'(1) Project Reference Item List'!$B$2:$B$499,1,FALSE)),\"\",\"Y\")","v":""}]
[null,null,null,null,null,null,null,null,null,null,{"$f":"IF(ISNA(VLOOKUP(A33329,'(1) Project Reference Item List'!$B$2:$B$499,1,FALSE)),\"\",\"Y\")","v":""}]
[null,null,null,null,null,null,null,null,null,null,{"$f":"IF(ISNA(VLOOKUP(A33394,'(1) Project Reference Item List'!$B$2:$B$499,1,FALSE)),\"\",\"Y\")","v":""}]
[null,null,null,null,null,null,null,null,null,null,{"$f":"IF(ISNA(VLOOKUP(A33409,'(1) Project Reference Item List'!$B$2:$B$499,1,FALSE)),\"\",\"Y\")","v":""}]
[null,null,null,null,null,null,null,null,null,null,{"$f":"IF(ISNA(VLOOKUP(A33470,'(1) Project Reference Item List'!$B$2:$B$499,1,FALSE)),\"\",\"Y\")","v":""}]
[null,null,null,null,null,null,null,null,null,null,{"$f":"IF(ISNA(VLOOKUP(A33535,'(1) Project Reference Item List'!$B$2:$B$499,1,FALSE)),\"\",\"Y\")","v":""}]
[null,null,null,null,null,null,null,null,null,null,{"$f":"IF(ISNA(VLOOKUP(A33596,'(1) Project Reference Item List'!$B$2:$B$499,1,FALSE)),\"\",\"Y\")","v":""}]
[null,null,null,null,null,null,null,null,null,null,{"$f":"IF(ISNA(VLOOKUP(A33611,'(1) Project Reference Item List'!$B$2:$B$499,1,FALSE)),\"\",\"Y\")","v":""}]
[null,null,null,null,null,null,null,null,null,null,{"$f":"IF(ISNA(VLOOKUP(A33676,'(1) Project Reference Item List'!$B$2:$B$499,1,FALSE)),\"\",\"Y\")","v":""}]
[null,null,null,null,null,null,null,null,null,null,{"$f":"IF(ISNA(VLOOKUP(A33737,'(1) Project Reference Item List'!$B$2:$B$499,1,FALSE)),\"\",\"Y\")","v":""}]
[null,null,null,null,null,null,null,null,null,null,{"$f":"IF(ISNA(VLOOKUP(A33802,'(1) Project Reference Item List'!$B$2:$B$499,1,FALSE)),\"\",\"Y\")","v":""}]
[null,null,null,null,null,null,null,null,null,null,{"$f":"IF(ISNA(VLOOKUP(A33817,'(1) Project Reference Item List'!$B$2:$B$499,1,FALSE)),\"\",\"Y\")","v":""}]
[null,null,null,null,null,null,null,null,null,null,{"$f":"IF(ISNA(VLOOKUP(A33878,'(1) Project Reference Item List'!$B$2:$B$499,1,FALSE)),\"\",\"Y\")","v":""}]
[null,null,null,null,null,null,null,null,null,null,{"$f":"IF(ISNA(VLOOKUP(A33943,'(1) Project Reference Item List'!$B$2:$B$499,1,FALSE)),\"\",\"Y\")","v":""}]
[null,null,null,null,null,null,null,null,null,null,{"$f":"IF(ISNA(VLOOKUP(A33954,'(1) Project Reference Item List'!$B$2:$B$499,1,FALSE)),\"\",\"Y\")","v":""}]
[null,null,null,null,null,null,null,null,null,null,{"$f":"IF(ISNA(VLOOKUP(A34019,'(1) Project Reference Item List'!$B$2:$B$499,1,FALSE)),\"\",\"Y\")","v":""}]
[null,null,null,null,null,null,null,null,null,null,{"$f":"IF(ISNA(VLOOKUP(A34084,'(1) Project Reference Item List'!$B$2:$B$499,1,FALSE)),\"\",\"Y\")","v":""}]
[null,null,null,null,null,null,null,null,null,null,{"$f":"IF(ISNA(VLOOKUP(A34145,'(1) Project Reference Item List'!$B$2:$B$499,1,FALSE)),\"\",\"Y\")","v":""}]
[null,null,null,null,null,null,null,null,null,null,{"$f":"IF(ISNA(VLOOKUP(A34160,'(1) Project Reference Item List'!$B$2:$B$499,1,FALSE)),\"\",\"Y\")","v":""}]
[null,null,null,null,null,null,null,null,null,null,{"$f":"IF(ISNA(VLOOKUP(A34225,'(1) Project Reference Item List'!$B$2:$B$499,1,FALSE)),\"\",\"Y\")","v":""}]
[null,null,null,null,null,null,null,null,null,null,{"$f":"IF(ISNA(VLOOKUP(A34286,'(1) Project Reference Item List'!$B$2:$B$499,1,FALSE)),\"\",\"Y\")","v":""}]
[null,null,null,null,null,null,null,null,null,null,{"$f":"IF(ISNA(VLOOKUP(A34351,'(1) Project Reference Item List'!$B$2:$B$499,1,FALSE)),\"\",\"Y\")","v":""}]
[null,null,null,null,null,null,null,null,null,null,{"$f":"IF(ISNA(VLOOKUP(A34362,'(1) Project Reference Item List'!$B$2:$B$499,1,FALSE)),\"\",\"Y\")","v":""}]
[null,null,null,null,null,null,null,null,null,null,{"$f":"IF(ISNA(VLOOKUP(A34427,'(1) Project Reference Item List'!$B$2:$B$499,1,FALSE)),\"\",\"Y\")","v":""}]
[null,null,null,null,null,null,null,null,null,null,{"$f":"IF(ISNA(VLOOKUP(A34492,'(1) Project Reference Item List'!$B$2:$B$499,1,FALSE)),\"\",\"Y\")","v":""}]
[null,null,null,null,null,null,null,null,null,null,{"$f":"IF(ISNA(VLOOKUP(A34553,'(1) Project Reference Item List'!$B$2:$B$499,1,FALSE)),\"\",\"Y\")","v":""}]
[null,null,null,null,null,null,null,null,null,null,{"$f":"IF(ISNA(VLOOKUP(A34568,'(1) Project Reference Item List'!$B$2:$B$499,1,FALSE)),\"\",\"Y\")","v":""}]
[null,null,null,null,null,null,null,null,null,null,{"$f":"IF(ISNA(VLOOKUP(A34629,'(1) Project Reference Item List'!$B$2:$B$499,1,FALSE)),\"\",\"Y\")","v":""}]
[null,null,null,null,null,null,null,null,null,null,{"$f":"IF(ISNA(VLOOKUP(A34694,'(1) Project Reference Item List'!$B$2:$B$499,1,FALSE)),\"\",\"Y\")","v":""}]
[null,null,null,null,null,null,null,null,null,null,{"$f":"IF(ISNA(VLOOKUP(A34709,'(1) Project Reference Item List'!$B$2:$B$499,1,FALSE)),\"\",\"Y\")","v":""}]
[null,null,null,null,null,null,null,null,null,null,{"$f":"IF(ISNA(VLOOKUP(A34770,'(1) Project Reference Item List'!$B$2:$B$499,1,FALSE)),\"\",\"Y\")","v":""}]
[null,null,null,null,null,null,null,null,null,null,{"$f":"IF(ISNA(VLOOKUP(A34835,'(1) Project Reference Item List'!$B$2:$B$499,1,FALSE)),\"\",\"Y\")","v":""}]
[null,null,null,null,null,null,null,null,null,null,{"$f":"IF(ISNA(VLOOKUP(A34900,'(1) Project Reference Item List'!$B$2:$B$499,1,FALSE)),\"\",\"Y\")","v":""}]
[null,null,null,null,null,null,null,null,null,null,{"$f":"IF(ISNA(VLOOKUP(A34911,'(1) Project Reference Item List'!$B$2:$B$499,1,FALSE)),\"\",\"Y\")","v":""}]
[null,null,null,null,null,null,null,null,null,null,{"$f":"IF(ISNA(VLOOKUP(A34976,'(1) Project Reference Item List'!$B$2:$B$499,1,FALSE)),\"\",\"Y\")","v":""}]
[null,null,null,null,null,null,null,null,null,null,{"$f":"IF(ISNA(VLOOKUP(A35037,'(1) Project Reference Item List'!$B$2:$B$499,1,FALSE)),\"\",\"Y\")","v":""}]
[null,null,null,null,null,null,null,null,null,null,{"$f":"IF(ISNA(VLOOKUP(A35102,'(1) Project Reference Item List'!$B$2:$B$499,1,FALSE)),\"\",\"Y\")","v":""}]
[null,null,null,null,null,null,null,null,null,null,{"$f":"IF(ISNA(VLOOKUP(A35117,'(1) Project Reference Item List'!$B$2:$B$499,1,FALSE)),\"\",\"Y\")","v":""}]
[null,null,null,null,null,null,null,null,null,null,{"$f":"IF(ISNA(VLOOKUP(A35178,'(1) Project Reference Item List'!$B$2:$B$499,1,FALSE)),\"\",\"Y\")","v":""}]
[null,null,null,null,null,null,null,null,null,null,{"$f":"IF(ISNA(VLOOKUP(A35243,'(1) Project Reference Item List'!$B$2:$B$499,1,FALSE)),\"\",\"Y\")","v":""}]
[null,null,null,null,null,null,null,null,null,null,{"$f":"IF(ISNA(VLOOKUP(A35254,'(1) Project Reference Item List'!$B$2:$B$499,1,FALSE)),\"\",\"Y\")","v":""}]
[null,null,null,null,null,null,null,null,null,null,{"$f":"IF(ISNA(VLOOKUP(A35319,'(1) Project Reference Item List'!$B$2:$B$499,1,FALSE)),\"\",\"Y\")","v":""}]
[null,null,null,null,null,null,null,null,null,null,{"$f":"IF(ISNA(VLOOKUP(A35384,'(1) Project Reference Item List'!$B$2:$B$499,1,FALSE)),\"\",\"Y\")","v":""}]
[null,null,null,null,null,null,null,null,null,null,{"$f":"IF(ISNA(VLOOKUP(A35445,'(1) Project Reference Item List'!$B$2:$B$499,1,FALSE)),\"\",\"Y\")","v":""}]
[null,null,null,null,null,null,null,null,null,null,{"$f":"IF(ISNA(VLOOKUP(A35460,'(1) Project Reference Item List'!$B$2:$B$499,1,FALSE)),\"\",\"Y\")","v":""}]
[null,null,null,null,null,null,null,null,null,null,{"$f":"IF(ISNA(VLOOKUP(A35525,'(1) Project Reference Item List'!$B$2:$B$499,1,FALSE)),\"\",\"Y\")","v":""}]
[null,null,null,null,null,null,null,null,null,null,{"$f":"IF(ISNA(VLOOKUP(A35586,'(1) Project Reference Item List'!$B$2:$B$499,1,FALSE)),\"\",\"Y\")","v":""}]
[null,null,null,null,null,null,null,null,null,null,{"$f":"IF(ISNA(VLOOKUP(A35651,'(1) Project Reference Item List'!$B$2:$B$499,1,FALSE)),\"\",\"Y\")","v":""}]
[null,null,null,null,null,null,null,null,null,null,{"$f":"IF(ISNA(VLOOKUP(A35662,'(1) Project Reference Item List'!$B$2:$B$499,1,FALSE)),\"\",\"Y\")","v":""}]
[null,null,null,null,null,null,null,null,null,null,{"$f":"IF(ISNA(VLOOKUP(A35727,'(1) Project Reference Item List'!$B$2:$B$499,1,FALSE)),\"\",\"Y\")","v":""}]
[null,null,null,null,null,null,null,null,null,null,{"$f":"IF(ISNA(VLOOKUP(A35792,'(1) Project Reference Item List'!$B$2:$B$499,1,FALSE)),\"\",\"Y\")","v":""}]
[null,null,null,null,null,null,null,null,null,null,{"$f":"IF(ISNA(VLOOKUP(A35853,'(1) Project Reference Item List'!$B$2:$B$499,1,FALSE)),\"\",\"Y\")","v":""}]
[null,null,null,null,null,null,null,null,null,null,{"$f":"IF(ISNA(VLOOKUP(A35868,'(1) Project Reference Item List'!$B$2:$B$499,1,FALSE)),\"\",\"Y\")","v":""}]
[null,null,null,null,null,null,null,null,null,null,{"$f":"IF(ISNA(VLOOKUP(A35933,'(1) Project Reference Item List'!$B$2:$B$499,1,FALSE)),\"\",\"Y\")","v":""}]
[null,null,null,null,null,null,null,null,null,null,{"$f":"IF(ISNA(VLOOKUP(A35994,'(1) Project Reference Item List'!$B$2:$B$499,1,FALSE)),\"\",\"Y\")","v":""}]
[null,null,null,null,null,null,null,null,null,null,{"$f":"IF(ISNA(VLOOKUP(A36009,'(1) Project Reference Item List'!$B$2:$B$499,1,FALSE)),\"\",\"Y\")","v":""}]
[null,null,null,null,null,null,null,null,null,null,{"$f":"IF(ISNA(VLOOKUP(A36070,'(1) Project Reference Item List'!$B$2:$B$499,1,FALSE)),\"\",\"Y\")","v":""}]
[null,null,null,null,null,null,null,null,null,null,{"$f":"IF(ISNA(VLOOKUP(A36135,'(1) Project Reference Item List'!$B$2:$B$499,1,FALSE)),\"\",\"Y\")","v":""}]
[null,null,null,null,null,null,null,null,null,null,{"$f":"IF(ISNA(VLOOKUP(A36200,'(1) Project Reference Item List'!$B$2:$B$499,1,FALSE)),\"\",\"Y\")","v":""}]
[null,null,null,null,null,null,null,null,null,null,{"$f":"IF(ISNA(VLOOKUP(A36211,'(1) Project Reference Item List'!$B$2:$B$499,1,FALSE)),\"\",\"Y\")","v":""}]
[null,null,null,null,null,null,null,null,null,null,{"$f":"IF(ISNA(VLOOKUP(A36276,'(1) Project Reference Item List'!$B$2:$B$499,1,FALSE)),\"\",\"Y\")","v":""}]
[null,null,null,null,null,null,null,null,null,null,{"$f":"IF(ISNA(VLOOKUP(A36337,'(1) Project Reference Item List'!$B$2:$B$499,1,FALSE)),\"\",\"Y\")","v":""}]
[null,null,null,null,null,null,null,null,null,null,{"$f":"IF(ISNA(VLOOKUP(A36402,'(1) Project Reference Item List'!$B$2:$B$499,1,FALSE)),\"\",\"Y\")","v":""}]
[null,null,null,null,null,null,null,null,null,null,{"$f":"IF(ISNA(VLOOKUP(A36417,'(1) Project Reference Item List'!$B$2:$B$499,1,FALSE)),\"\",\"Y\")","v":""}]
[null,null,null,null,null,null,null,null,null,null,{"$f":"IF(ISNA(VLOOKUP(A36478,'(1) Project Reference Item List'!$B$2:$B$499,1,FALSE)),\"\",\"Y\")","v":""}]
[null,null,null,null,null,null,null,null,null,null,{"$f":"IF(ISNA(VLOOKUP(A36543,'(1) Project Reference Item List'!$B$2:$B$499,1,FALSE)),\"\",\"Y\")","v":""}]
[null,null,null,null,null,null,null,null,null,null,{"$f":"IF(ISNA(VLOOKUP(A36558,'(1) Project Reference Item List'!$B$2:$B$499,1,FALSE)),\"\",\"Y\")","v":""}]
[null,null,null,null,null,null,null,null,null,null,{"$f":"IF(ISNA(VLOOKUP(A36619,'(1) Project Reference Item List'!$B$2:$B$499,1,FALSE)),\"\",\"Y\")","v":""}]
[null,null,null,null,null,null,null,null,null,null,{"$f":"IF(ISNA(VLOOKUP(A36684,'(1) Project Reference Item List'!$B$2:$B$499,1,FALSE)),\"\",\"Y\")","v":""}]
[null,null,null,null,null,null,null,null,null,null,{"$f":"IF(ISNA(VLOOKUP(A36745,'(1) Project Reference Item List'!$B$2:$B$499,1,FALSE)),\"\",\"Y\")","v":""}]
[null,null,null,null,null,null,null,null,null,null,{"$f":"IF(ISNA(VLOOKUP(A36760,'(1) Project Reference Item List'!$B$2:$B$499,1,FALSE)),\"\",\"Y\")","v":""}]
[null,null,null,null,null,null,null,null,null,null,{"$f":"IF(ISNA(VLOOKUP(A36825,'(1) Project Reference Item List'!$B$2:$B$499,1,FALSE)),\"\",\"Y\")","v":""}]
[null,null,null,null,null,null,null,null,null,null,{"$f":"IF(ISNA(VLOOKUP(A36886,'(1) Project Reference Item List'!$B$2:$B$499,1,FALSE)),\"\",\"Y\")","v":""}]
[null,null,null,null,null,null,null,null,null,null,{"$f":"IF(ISNA(VLOOKUP(A36951,'(1) Project Reference Item List'!$B$2:$B$499,1,FALSE)),\"\",\"Y\")","v":""}]
[null,null,null,null,null,null,null,null,null,null,{"$f":"IF(ISNA(VLOOKUP(A36966,'(1) Project Reference Item List'!$B$2:$B$499,1,FALSE)),\"\",\"Y\")","v":""}]
[null,null,null,null,null,null,null,null,null,null,{"$f":"IF(ISNA(VLOOKUP(A37027,'(1) Project Reference Item List'!$B$2:$B$499,1,FALSE)),\"\",\"Y\")","v":""}]
[null,null,null,null,null,null,null,null,null,null,{"$f":"IF(ISNA(VLOOKUP(A37092,'(1) Project Reference Item List'!$B$2:$B$499,1,FALSE)),\"\",\"Y\")","v":""}]
[null,null,null,null,null,null,null,null,null,null,{"$f":"IF(ISNA(VLOOKUP(A37153,'(1) Project Reference Item List'!$B$2:$B$499,1,FALSE)),\"\",\"Y\")","v":""}]
[null,null,null,null,null,null,null,null,null,null,{"$f":"IF(ISNA(VLOOKUP(A37168,'(1) Project Reference Item List'!$B$2:$B$499,1,FALSE)),\"\",\"Y\")","v":""}]
[null,null,null,null,null,null,null,null,null,null,{"$f":"IF(ISNA(VLOOKUP(A37233,'(1) Project Reference Item List'!$B$2:$B$499,1,FALSE)),\"\",\"Y\")","v":""}]
[null,null,null,null,null,null,null,null,null,null,{"$f":"IF(ISNA(VLOOKUP(A37294,'(1) Project Reference Item List'!$B$2:$B$499,1,FALSE)),\"\",\"Y\")","v":""}]
[null,null,null,null,null,null,null,null,null,null,{"$f":"IF(ISNA(VLOOKUP(A37309,'(1) Project Reference Item List'!$B$2:$B$499,1,FALSE)),\"\",\"Y\")","v":""}]
[null,null,null,null,null,null,null,null,null,null,{"$f":"IF(ISNA(VLOOKUP(A37370,'(1) Project Reference Item List'!$B$2:$B$499,1,FALSE)),\"\",\"Y\")","v":""}]
[null,null,null,null,null,null,null,null,null,null,{"$f":"IF(ISNA(VLOOKUP(A37435,'(1) Project Reference Item List'!$B$2:$B$499,1,FALSE)),\"\",\"Y\")","v":""}]
[null,null,null,null,null,null,null,null,null,null,{"$f":"IF(ISNA(VLOOKUP(A37500,'(1) Project Reference Item List'!$B$2:$B$499,1,FALSE)),\"\",\"Y\")","v":""}]
[null,null,null,null,null,null,null,null,null,null,{"$f":"IF(ISNA(VLOOKUP(A37511,'(1) Project Reference Item List'!$B$2:$B$499,1,FALSE)),\"\",\"Y\")","v":""}]
[null,null,null,null,null,null,null,null,null,null,{"$f":"IF(ISNA(VLOOKUP(A37576,'(1) Project Reference Item List'!$B$2:$B$499,1,FALSE)),\"\",\"Y\")","v":""}]
[null,null,null,null,null,null,null,null,null,null,{"$f":"IF(ISNA(VLOOKUP(A37641,'(1) Project Reference Item List'!$B$2:$B$499,1,FALSE)),\"\",\"Y\")","v":""}]
[null,null,null,null,null,null,null,null,null,null,{"$f":"IF(ISNA(VLOOKUP(A37702,'(1) Project Reference Item List'!$B$2:$B$499,1,FALSE)),\"\",\"Y\")","v":""}]
[null,null,null,null,null,null,null,null,null,null,{"$f":"IF(ISNA(VLOOKUP(A37717,'(1) Project Reference Item List'!$B$2:$B$499,1,FALSE)),\"\",\"Y\")","v":""}]
[null,null,null,null,null,null,null,null,null,null,{"$f":"IF(ISNA(VLOOKUP(A37778,'(1) Project Reference Item List'!$B$2:$B$499,1,FALSE)),\"\",\"Y\")","v":""}]
[null,null,null,null,null,null,null,null,null,null,{"$f":"IF(ISNA(VLOOKUP(A37843,'(1) Project Reference Item List'!$B$2:$B$499,1,FALSE)),\"\",\"Y\")","v":""}]
[null,null,null,null,null,null,null,null,null,null,{"$f":"IF(ISNA(VLOOKUP(A37858,'(1) Project Reference Item List'!$B$2:$B$499,1,FALSE)),\"\",\"Y\")","v":""}]
[null,null,null,null,null,null,null,null,null,null,{"$f":"IF(ISNA(VLOOKUP(A37919,'(1) Project Reference Item List'!$B$2:$B$499,1,FALSE)),\"\",\"Y\")","v":""}]
[null,null,null,null,null,null,null,null,null,null,{"$f":"IF(ISNA(VLOOKUP(A37984,'(1) Project Reference Item List'!$B$2:$B$499,1,FALSE)),\"\",\"Y\")","v":""}]
[null,null,null,null,null,null,null,null,null,null,{"$f":"IF(ISNA(VLOOKUP(A38045,'(1) Project Reference Item List'!$B$2:$B$499,1,FALSE)),\"\",\"Y\")","v":""}]
[null,null,null,null,null,null,null,null,null,null,{"$f":"IF(ISNA(VLOOKUP(A38060,'(1) Project Reference Item List'!$B$2:$B$499,1,FALSE)),\"\",\"Y\")","v":""}]
[null,null,null,null,null,null,null,null,null,null,{"$f":"IF(ISNA(VLOOKUP(A38125,'(1) Project Reference Item List'!$B$2:$B$499,1,FALSE)),\"\",\"Y\")","v":""}]
[null,null,null,null,null,null,null,null,null,null,{"$f":"IF(ISNA(VLOOKUP(A38186,'(1) Project Reference Item List'!$B$2:$B$499,1,FALSE)),\"\",\"Y\")","v":""}]
[null,null,null,null,null,null,null,null,null,null,{"$f":"IF(ISNA(VLOOKUP(A38251,'(1) Project Reference Item List'!$B$2:$B$499,1,FALSE)),\"\",\"Y\")","v":""}]
[null,null,null,null,null,null,null,null,null,null,{"$f":"IF(ISNA(VLOOKUP(A38266,'(1) Project Reference Item List'!$B$2:$B$499,1,FALSE)),\"\",\"Y\")","v":""}]
[null,null,null,null,null,null,null,null,null,null,{"$f":"IF(ISNA(VLOOKUP(A38327,'(1) Project Reference Item List'!$B$2:$B$499,1,FALSE)),\"\",\"Y\")","v":""}]
[null,null,null,null,null,null,null,null,null,null,{"$f":"IF(ISNA(VLOOKUP(A38380,'(1) Project Reference Item List'!$B$2:$B$499,1,FALSE)),\"\",\"Y\")","v":""}]
[null,null,null,null,null,null,null,null,null,null,{"$f":"IF(ISNA(VLOOKUP(A38454,'(1) Project Reference Item List'!$B$2:$B$499,1,FALSE)),\"\",\"Y\")","v":""}]
[null,null,null,null,null,null,null,null,null,null,{"$f":"IF(ISNA(VLOOKUP(A38469,'(1) Project Reference Item List'!$B$2:$B$499,1,FALSE)),\"\",\"Y\")","v":""}]
[null,null,null,null,null,null,null,null,null,null,{"$f":"IF(ISNA(VLOOKUP(A38534,'(1) Project Reference Item List'!$B$2:$B$499,1,FALSE)),\"\",\"Y\")","v":""}]
[null,null,null,null,null,null,null,null,null,null,{"$f":"IF(ISNA(VLOOKUP(A38595,'(1) Project Reference Item List'!$B$2:$B$499,1,FALSE)),\"\",\"Y\")","v":""}]
[null,null,null,null,null,null,null,null,null,null,{"$f":"IF(ISNA(VLOOKUP(A38610,'(1) Project Reference Item List'!$B$2:$B$499,1,FALSE)),\"\",\"Y\")","v":""}]
[null,null,null,null,null,null,null,null,null,null,{"$f":"IF(ISNA(VLOOKUP(A38675,'(1) Project Reference Item List'!$B$2:$B$499,1,FALSE)),\"\",\"Y\")","v":""}]
[null,null,null,null,null,null,null,null,null,null,{"$f":"IF(ISNA(VLOOKUP(A38736,'(1) Project Reference Item List'!$B$2:$B$499,1,FALSE)),\"\",\"Y\")","v":""}]
[null,null,null,null,null,null,null,null,null,null,{"$f":"IF(ISNA(VLOOKUP(A38801,'(1) Project Reference Item List'!$B$2:$B$499,1,FALSE)),\"\",\"Y\")","v":""}]
[null,null,null,null,null,null,null,null,null,null,{"$f":"IF(ISNA(VLOOKUP(A38812,'(1) Project Reference Item List'!$B$2:$B$499,1,FALSE)),\"\",\"Y\")","v":""}]
[null,null,null,null,null,null,null,null,null,null,{"$f":"IF(ISNA(VLOOKUP(A38877,'(1) Project Reference Item List'!$B$2:$B$499,1,FALSE)),\"\",\"Y\")","v":""}]
[null,null,null,null,null,null,null,null,null,null,{"$f":"IF(ISNA(VLOOKUP(A38942,'(1) Project Reference Item List'!$B$2:$B$499,1,FALSE)),\"\",\"Y\")","v":""}]
[null,null,null,null,null,null,null,null,null,null,{"$f":"IF(ISNA(VLOOKUP(A39003,'(1) Project Reference Item List'!$B$2:$B$499,1,FALSE)),\"\",\"Y\")","v":""}]
[null,null,null,null,null,null,null,null,null,null,{"$f":"IF(ISNA(VLOOKUP(A39018,'(1) Project Reference Item List'!$B$2:$B$499,1,FALSE)),\"\",\"Y\")","v":""}]
[null,null,null,null,null,null,null,null,null,null,{"$f":"IF(ISNA(VLOOKUP(A39079,'(1) Project Reference Item List'!$B$2:$B$499,1,FALSE)),\"\",\"Y\")","v":""}]
[null,null,null,null,null,null,null,null,null,null,{"$f":"IF(ISNA(VLOOKUP(A39144,'(1) Project Reference Item List'!$B$2:$B$499,1,FALSE)),\"\",\"Y\")","v":""}]
[null,null,null,null,null,null,null,null,null,null,{"$f":"IF(ISNA(VLOOKUP(A39159,'(1) Project Reference Item List'!$B$2:$B$499,1,FALSE)),\"\",\"Y\")","v":""}]
[null,null,null,null,null,null,null,null,null,null,{"$f":"IF(ISNA(VLOOKUP(A39220,'(1) Project Reference Item List'!$B$2:$B$499,1,FALSE)),\"\",\"Y\")","v":""}]
[null,null,null,null,null,null,null,null,null,null,{"$f":"IF(ISNA(VLOOKUP(A39285,'(1) Project Reference Item List'!$B$2:$B$499,1,FALSE)),\"\",\"Y\")","v":""}]
[null,null,null,null,null,null,null,null,null,null,{"$f":"IF(ISNA(VLOOKUP(A39350,'(1) Project Reference Item List'!$B$2:$B$499,1,FALSE)),\"\",\"Y\")","v":""}]
[null,null,null,null,null,null,null,null,null,null,{"$f":"IF(ISNA(VLOOKUP(A39361,'(1) Project Reference Item List'!$B$2:$B$499,1,FALSE)),\"\",\"Y\")","v":""}]
[null,null,null,null,null,null,null,null,null,null,{"$f":"IF(ISNA(VLOOKUP(A39426,'(1) Project Reference Item List'!$B$2:$B$499,1,FALSE)),\"\",\"Y\")","v":""}]
[null,null,null,null,null,null,null,null,null,null,{"$f":"IF(ISNA(VLOOKUP(A39487,'(1) Project Reference Item List'!$B$2:$B$499,1,FALSE)),\"\",\"Y\")","v":""}]
[null,null,null,null,null,null,null,null,null,null,{"$f":"IF(ISNA(VLOOKUP(A39552,'(1) Project Reference Item List'!$B$2:$B$499,1,FALSE)),\"\",\"Y\")","v":""}]
[null,null,null,null,null,null,null,null,null,null,{"$f":"IF(ISNA(VLOOKUP(A39567,'(1) Project Reference Item List'!$B$2:$B$499,1,FALSE)),\"\",\"Y\")","v":""}]
[null,null,null,null,null,null,null,null,null,null,{"$f":"IF(ISNA(VLOOKUP(A39628,'(1) Project Reference Item List'!$B$2:$B$499,1,FALSE)),\"\",\"Y\")","v":""}]
[null,null,null,null,null,null,null,null,null,null,{"$f":"IF(ISNA(VLOOKUP(A39693,'(1) Project Reference Item List'!$B$2:$B$499,1,FALSE)),\"\",\"Y\")","v":""}]
[null,null,null,null,null,null,null,null,null,null,{"$f":"IF(ISNA(VLOOKUP(A39754,'(1) Project Reference Item List'!$B$2:$B$499,1,FALSE)),\"\",\"Y\")","v":""}]
[null,null,null,null,null,null,null,null,null,null,{"$f":"IF(ISNA(VLOOKUP(A39769,'(1) Project Reference Item List'!$B$2:$B$499,1,FALSE)),\"\",\"Y\")","v":""}]
[null,null,null,null,null,null,null,null,null,null,{"$f":"IF(ISNA(VLOOKUP(A39834,'(1) Project Reference Item List'!$B$2:$B$499,1,FALSE)),\"\",\"Y\")","v":""}]
[null,null,null,null,null,null,null,null,null,null,{"$f":"IF(ISNA(VLOOKUP(A39895,'(1) Project Reference Item List'!$B$2:$B$499,1,FALSE)),\"\",\"Y\")","v":""}]
[null,null,null,null,null,null,null,null,null,null,{"$f":"IF(ISNA(VLOOKUP(A39910,'(1) Project Reference Item List'!$B$2:$B$499,1,FALSE)),\"\",\"Y\")","v":""}]
[null,null,null,null,null,null,null,null,null,null,{"$f":"IF(ISNA(VLOOKUP(A39975,'(1) Project Reference Item List'!$B$2:$B$499,1,FALSE)),\"\",\"Y\")","v":""}]
[null,null,null,null,null,null,null,null,null,null,{"$f":"IF(ISNA(VLOOKUP(A40036,'(1) Project Reference Item List'!$B$2:$B$499,1,FALSE)),\"\",\"Y\")","v":""}]
[null,null,null,null,null,null,null,null,null,null,{"$f":"IF(ISNA(VLOOKUP(A40101,'(1) Project Reference Item List'!$B$2:$B$499,1,FALSE)),\"\",\"Y\")","v":""}]
[null,null,null,null,null,null,null,null,null,null,{"$f":"IF(ISNA(VLOOKUP(A40112,'(1) Project Reference Item List'!$B$2:$B$499,1,FALSE)),\"\",\"Y\")","v":""}]
[null,null,null,null,null,null,null,null,null,null,{"$f":"IF(ISNA(VLOOKUP(A40177,'(1) Project Reference Item List'!$B$2:$B$499,1,FALSE)),\"\",\"Y\")","v":""}]
[null,null,null,null,null,null,null,null,null,null,{"$f":"IF(ISNA(VLOOKUP(A40242,'(1) Project Reference Item List'!$B$2:$B$499,1,FALSE)),\"\",\"Y\")","v":""}]
[null,null,null,null,null,null,null,null,null,null,{"$f":"IF(ISNA(VLOOKUP(A40303,'(1) Project Reference Item List'!$B$2:$B$499,1,FALSE)),\"\",\"Y\")","v":""}]
[null,null,null,null,null,null,null,null,null,null,{"$f":"IF(ISNA(VLOOKUP(A40318,'(1) Project Reference Item List'!$B$2:$B$499,1,FALSE)),\"\",\"Y\")","v":""}]
[null,null,null,null,null,null,null,null,null,null,{"$f":"IF(ISNA(VLOOKUP(A40383,'(1) Project Reference Item List'!$B$2:$B$499,1,FALSE)),\"\",\"Y\")","v":""}]
[null,null,null,null,null,null,null,null,null,null,{"$f":"IF(ISNA(VLOOKUP(A40444,'(1) Project Reference Item List'!$B$2:$B$499,1,FALSE)),\"\",\"Y\")","v":""}]
[null,null,null,null,null,null,null,null,null,null,{"$f":"IF(ISNA(VLOOKUP(A40459,'(1) Project Reference Item List'!$B$2:$B$499,1,FALSE)),\"\",\"Y\")","v":""}]
[null,null,null,null,null,null,null,null,null,null,{"$f":"IF(ISNA(VLOOKUP(A40520,'(1) Project Reference Item List'!$B$2:$B$499,1,FALSE)),\"\",\"Y\")","v":""}]
[null,null,null,null,null,null,null,null,null,null,{"$f":"IF(ISNA(VLOOKUP(A40585,'(1) Project Reference Item List'!$B$2:$B$499,1,FALSE)),\"\",\"Y\")","v":""}]
[null,null,null,null,null,null,null,null,null,null,{"$f":"IF(ISNA(VLOOKUP(A40650,'(1) Project Reference Item List'!$B$2:$B$499,1,FALSE)),\"\",\"Y\")","v":""}]
[null,null,null,null,null,null,null,null,null,null,{"$f":"IF(ISNA(VLOOKUP(A40661,'(1) Project Reference Item List'!$B$2:$B$499,1,FALSE)),\"\",\"Y\")","v":""}]
[null,null,null,null,null,null,null,null,null,null,{"$f":"IF(ISNA(VLOOKUP(A40726,'(1) Project Reference Item List'!$B$2:$B$499,1,FALSE)),\"\",\"Y\")","v":""}]
[null,null,null,null,null,null,null,null,null,null,{"$f":"IF(ISNA(VLOOKUP(A40787,'(1) Project Reference Item List'!$B$2:$B$499,1,FALSE)),\"\",\"Y\")","v":""}]
[null,null,null,null,null,null,null,null,null,null,{"$f":"IF(ISNA(VLOOKUP(A40852,'(1) Project Reference Item List'!$B$2:$B$499,1,FALSE)),\"\",\"Y\")","v":""}]
[null,null,null,null,null,null,null,null,null,null,{"$f":"IF(ISNA(VLOOKUP(A40867,'(1) Project Reference Item List'!$B$2:$B$499,1,FALSE)),\"\",\"Y\")","v":""}]
[null,null,null,null,null,null,null,null,null,null,{"$f":"IF(ISNA(VLOOKUP(A40928,'(1) Project Reference Item List'!$B$2:$B$499,1,FALSE)),\"\",\"Y\")","v":""}]
[null,null,null,null,null,null,null,null,null,null,{"$f":"IF(ISNA(VLOOKUP(A40993,'(1) Project Reference Item List'!$B$2:$B$499,1,FALSE)),\"\",\"Y\")","v":""}]
[null,null,null,null,null,null,null,null,null,null,{"$f":"IF(ISNA(VLOOKUP(A41008,'(1) Project Reference Item List'!$B$2:$B$499,1,FALSE)),\"\",\"Y\")","v":""}]
[null,null,null,null,null,null,null,null,null,null,{"$f":"IF(ISNA(VLOOKUP(A41069,'(1) Project Reference Item List'!$B$2:$B$499,1,FALSE)),\"\",\"Y\")","v":""}]
[null,null,null,null,null,null,null,null,null,null,{"$f":"IF(ISNA(VLOOKUP(A41134,'(1) Project Reference Item List'!$B$2:$B$499,1,FALSE)),\"\",\"Y\")","v":""}]
[null,null,null,null,null,null,null,null,null,null,{"$f":"IF(ISNA(VLOOKUP(A41195,'(1) Project Reference Item List'!$B$2:$B$499,1,FALSE)),\"\",\"Y\")","v":""}]
[null,null,null,null,null,null,null,null,null,null,{"$f":"IF(ISNA(VLOOKUP(A41210,'(1) Project Reference Item List'!$B$2:$B$499,1,FALSE)),\"\",\"Y\")","v":""}]
[null,null,null,null,null,null,null,null,null,null,{"$f":"IF(ISNA(VLOOKUP(A41275,'(1) Project Reference Item List'!$B$2:$B$499,1,FALSE)),\"\",\"Y\")","v":""}]
[null,null,null,null,null,null,null,null,null,null,{"$f":"IF(ISNA(VLOOKUP(A41336,'(1) Project Reference Item List'!$B$2:$B$499,1,FALSE)),\"\",\"Y\")","v":""}]
[null,null,null,null,null,null,null,null,null,null,{"$f":"IF(ISNA(VLOOKUP(A41401,'(1) Project Reference Item List'!$B$2:$B$499,1,FALSE)),\"\",\"Y\")","v":""}]
[null,null,null,null,null,null,null,null,null,null,{"$f":"IF(ISNA(VLOOKUP(A41416,'(1) Project Reference Item List'!$B$2:$B$499,1,FALSE)),\"\",\"Y\")","v":""}]
[null,null,null,null,null,null,null,null,null,null,{"$f":"IF(ISNA(VLOOKUP(A41477,'(1) Project Reference Item List'!$B$2:$B$499,1,FALSE)),\"\",\"Y\")","v":""}]
[null,null,null,null,null,null,null,null,null,null,{"$f":"IF(ISNA(VLOOKUP(A41542,'(1) Project Reference Item List'!$B$2:$B$499,1,FALSE)),\"\",\"Y\")","v":""}]
[null,null,null,null,null,null,null,null,null,null,{"$f":"IF(ISNA(VLOOKUP(A41603,'(1) Project Reference Item List'!$B$2:$B$499,1,FALSE)),\"\",\"Y\")","v":""}]
[null,null,null,null,null,null,null,null,null,null,{"$f":"IF(ISNA(VLOOKUP(A41618,'(1) Project Reference Item List'!$B$2:$B$499,1,FALSE)),\"\",\"Y\")","v":""}]
[null,null,null,null,null,null,null,null,null,null,{"$f":"IF(ISNA(VLOOKUP(A41683,'(1) Project Reference Item List'!$B$2:$B$499,1,FALSE)),\"\",\"Y\")","v":""}]
[null,null,null,null,null,null,null,null,null,null,{"$f":"IF(ISNA(VLOOKUP(A41744,'(1) Project Reference Item List'!$B$2:$B$499,1,FALSE)),\"\",\"Y\")","v":""}]
[null,null,null,null,null,null,null,null,null,null,{"$f":"IF(ISNA(VLOOKUP(A41759,'(1) Project Reference Item List'!$B$2:$B$499,1,FALSE)),\"\",\"Y\")","v":""}]
[null,null,null,null,null,null,null,null,null,null,{"$f":"IF(ISNA(VLOOKUP(A41820,'(1) Project Reference Item List'!$B$2:$B$499,1,FALSE)),\"\",\"Y\")","v":""}]
[null,null,null,null,null,null,null,null,null,null,{"$f":"IF(ISNA(VLOOKUP(A41885,'(1) Project Reference Item List'!$B$2:$B$499,1,FALSE)),\"\",\"Y\")","v":""}]
[null,null,null,null,null,null,null,null,null,null,{"$f":"IF(ISNA(VLOOKUP(A41950,'(1) Project Reference Item List'!$B$2:$B$499,1,FALSE)),\"\",\"Y\")","v":""}]
[null,null,null,null,null,null,null,null,null,null,{"$f":"IF(ISNA(VLOOKUP(A41961,'(1) Project Reference Item List'!$B$2:$B$499,1,FALSE)),\"\",\"Y\")","v":""}]
[null,null,null,null,null,null,null,null,null,null,{"$f":"IF(ISNA(VLOOKUP(A42026,'(1) Project Reference Item List'!$B$2:$B$499,1,FALSE)),\"\",\"Y\")","v":""}]
[null,null,null,null,null,null,null,null,null,null,{"$f":"IF(ISNA(VLOOKUP(A42091,'(1) Project Reference Item List'!$B$2:$B$499,1,FALSE)),\"\",\"Y\")","v":""}]
[null,null,null,null,null,null,null,null,null,null,{"$f":"IF(ISNA(VLOOKUP(A42152,'(1) Project Reference Item List'!$B$2:$B$499,1,FALSE)),\"\",\"Y\")","v":""}]
[null,null,null,null,null,null,null,null,null,null,{"$f":"IF(ISNA(VLOOKUP(A42167,'(1) Project Reference Item List'!$B$2:$B$499,1,FALSE)),\"\",\"Y\")","v":""}]
[null,null,null,null,null,null,null,null,null,null,{"$f":"IF(ISNA(VLOOKUP(A42228,'(1) Project Reference Item List'!$B$2:$B$499,1,FALSE)),\"\",\"Y\")","v":""}]
[null,null,null,null,null,null,null,null,null,null,{"$f":"IF(ISNA(VLOOKUP(A42293,'(1) Project Reference Item List'!$B$2:$B$499,1,FALSE)),\"\",\"Y\")","v":""}]
[null,null,null,null,null,null,null,null,null,null,{"$f":"IF(ISNA(VLOOKUP(A42308,'(1) Project Reference Item List'!$B$2:$B$499,1,FALSE)),\"\",\"Y\")","v":""}]
[null,null,null,null,null,null,null,null,null,null,{"$f":"IF(ISNA(VLOOKUP(A42369,'(1) Project Reference Item List'!$B$2:$B$499,1,FALSE)),\"\",\"Y\")","v":""}]
[null,null,null,null,null,null,null,null,null,null,{"$f":"IF(ISNA(VLOOKUP(A42434,'(1) Project Reference Item List'!$B$2:$B$499,1,FALSE)),\"\",\"Y\")","v":""}]
[null,null,null,null,null,null,null,null,null,null,{"$f":"IF(ISNA(VLOOKUP(A42495,'(1) Project Reference Item List'!$B$2:$B$499,1,FALSE)),\"\",\"Y\")","v":""}]
[null,null,null,null,null,null,null,null,null,null,{"$f":"IF(ISNA(VLOOKUP(A42510,'(1) Project Reference Item List'!$B$2:$B$499,1,FALSE)),\"\",\"Y\")","v":""}]
[null,null,null,null,null,null,null,null,null,null,{"$f":"IF(ISNA(VLOOKUP(A42575,'(1) Project Reference Item List'!$B$2:$B$499,1,FALSE)),\"\",\"Y\")","v":""}]
[null,null,null,null,null,null,null,null,null,null,{"$f":"IF(ISNA(VLOOKUP(A42636,'(1) Project Reference Item List'!$B$2:$B$499,1,FALSE)),\"\",\"Y\")","v":""}]
[null,null,null,null,null,null,null,null,null,null,{"$f":"IF(ISNA(VLOOKUP(A42701,'(1) Project Reference Item List'!$B$2:$B$499,1,FALSE)),\"\",\"Y\")","v":""}]
[null,null,null,null,null,null,null,null,null,null,{"$f":"IF(ISNA(VLOOKUP(A42716,'(1) Project Reference Item List'!$B$2:$B$499,1,FALSE)),\"\",\"Y\")","v":""}]
[null,null,null,null,null,null,null,null,null,null,{"$f":"IF(ISNA(VLOOKUP(A42777,'(1) Project Reference Item List'!$B$2:$B$499,1,FALSE)),\"\",\"Y\")","v":""}]
[null,null,null,null,null,null,null,null,null,null,{"$f":"IF(ISNA(VLOOKUP(A42842,'(1) Project Reference Item List'!$B$2:$B$499,1,FALSE)),\"\",\"Y\")","v":""}]
[null,null,null,null,null,null,null,null,null,null,{"$f":"IF(ISNA(VLOOKUP(A42903,'(1) Project Reference Item List'!$B$2:$B$499,1,FALSE)),\"\",\"Y\")","v":""}]
[null,null,null,null,null,null,null,null,null,null,{"$f":"IF(ISNA(VLOOKUP(A42918,'(1) Project Reference Item List'!$B$2:$B$499,1,FALSE)),\"\",\"Y\")","v":""}]
[null,null,null,null,null,null,null,null,null,null,{"$f":"IF(ISNA(VLOOKUP(A42983,'(1) Project Reference Item List'!$B$2:$B$499,1,FALSE)),\"\",\"Y\")","v":""}]
[null,null,null,null,null,null,null,null,null,null,{"$f":"IF(ISNA(VLOOKUP(A43044,'(1) Project Reference Item List'!$B$2:$B$499,1,FALSE)),\"\",\"Y\")","v":""}]
[null,null,null,null,null,null,null,null,null,null,{"$f":"IF(ISNA(VLOOKUP(A43059,'(1) Project Reference Item List'!$B$2:$B$499,1,FALSE)),\"\",\"Y\")","v":""}]
[null,null,null,null,null,null,null,null,null,null,{"$f":"IF(ISNA(VLOOKUP(A43124,'(1) Project Reference Item List'!$B$2:$B$499,1,FALSE)),\"\",\"Y\")","v":""}]
[null,null,null,null,null,null,null,null,null,null,{"$f":"IF(ISNA(VLOOKUP(A43185,'(1) Project Reference Item List'!$B$2:$B$499,1,FALSE)),\"\",\"Y\")","v":""}]
[null,null,null,null,null,null,null,null,null,null,{"$f":"IF(ISNA(VLOOKUP(A43250,'(1) Project Reference Item List'!$B$2:$B$499,1,FALSE)),\"\",\"Y\")","v":""}]
[null,null,null,null,null,null,null,null,null,null,{"$f":"IF(ISNA(VLOOKUP(A43261,'(1) Project Reference Item List'!$B$2:$B$499,1,FALSE)),\"\",\"Y\")","v":""}]
[null,null,null,null,null,null,null,null,null,null,{"$f":"IF(ISNA(VLOOKUP(A43326,'(1) Project Reference Item List'!$B$2:$B$499,1,FALSE)),\"\",\"Y\")","v":""}]
[null,null,null,null,null,null,null,null,null,null,{"$f":"IF(ISNA(VLOOKUP(A43391,'(1) Project Reference Item List'!$B$2:$B$499,1,FALSE)),\"\",\"Y\")","v":""}]
[null,null,null,null,null,null,null,null,null,null,{"$f":"IF(ISNA(VLOOKUP(A43452,'(1) Project Reference Item List'!$B$2:$B$499,1,FALSE)),\"\",\"Y\")","v":""}]
[null,null,null,null,null,null,null,null,null,null,{"$f":"IF(ISNA(VLOOKUP(A43467,'(1) Project Reference Item List'!$B$2:$B$499,1,FALSE)),\"\",\"Y\")","v":""}]
[null,null,null,null,null,null,null,null,null,null,{"$f":"IF(ISNA(VLOOKUP(A43528,'(1) Project Reference Item List'!$B$2:$B$499,1,FALSE)),\"\",\"Y\")","v":""}]
[null,null,null,null,null,null,null,null,null,null,{"$f":"IF(ISNA(VLOOKUP(A43593,'(1) Project Reference Item List'!$B$2:$B$499,1,FALSE)),\"\",\"Y\")","v":""}]
[null,null,null,null,null,null,null,null,null,null,{"$f":"IF(ISNA(VLOOKUP(A43608,'(1) Project Reference Item List'!$B$2:$B$499,1,FALSE)),\"\",\"Y\")","v":""}]
[null,null,null,null,null,null,null,null,null,null,{"$f":"IF(ISNA(VLOOKUP(A43669,'(1) Project Reference Item List'!$B$2:$B$499,1,FALSE)),\"\",\"Y\")","v":""}]
[null,null,null,null,null,null,null,null,null,null,{"$f":"IF(ISNA(VLOOKUP(A43734,'(1) Project Reference Item List'!$B$2:$B$499,1,FALSE)),\"\",\"Y\")","v":""}]
[null,null,null,null,null,null,null,null,null,null,{"$f":"IF(ISNA(VLOOKUP(A43799,'(1) Project Reference Item List'!$B$2:$B$499,1,FALSE)),\"\",\"Y\")","v":""}]
[null,null,null,null,null,null,null,null,null,null,{"$f":"IF(ISNA(VLOOKUP(A43810,'(1) Project Reference Item List'!$B$2:$B$499,1,FALSE)),\"\",\"Y\")","v":""}]
[null,null,null,null,null,null,null,null,null,null,{"$f":"IF(ISNA(VLOOKUP(A43875,'(1) Project Reference Item List'!$B$2:$B$499,1,FALSE)),\"\",\"Y\")","v":""}]
[null,null,null,null,null,null,null,null,null,null,{"$f":"IF(ISNA(VLOOKUP(A43936,'(1) Project Reference Item List'!$B$2:$B$499,1,FALSE)),\"\",\"Y\")","v":""}]
[null,null,null,null,null,null,null,null,null,null,{"$f":"IF(ISNA(VLOOKUP(A44001,'(1) Project Reference Item List'!$B$2:$B$499,1,FALSE)),\"\",\"Y\")","v":""}]
[null,null,null,null,null,null,null,null,null,null,{"$f":"IF(ISNA(VLOOKUP(A44016,'(1) Project Reference Item List'!$B$2:$B$499,1,FALSE)),\"\",\"Y\")","v":""}]
[null,null,null,null,null,null,null,null,null,null,{"$f":"IF(ISNA(VLOOKUP(A44077,'(1) Project Reference Item List'!$B$2:$B$499,1,FALSE)),\"\",\"Y\")","v":""}]
[null,null,null,null,null,null,null,null,null,null,{"$f":"IF(ISNA(VLOOKUP(A44142,'(1) Project Reference Item List'!$B$2:$B$499,1,FALSE)),\"\",\"Y\")","v":""}]
[null,null,null,null,null,null,null,null,null,null,{"$f":"IF(ISNA(VLOOKUP(A44157,'(1) Project Reference Item List'!$B$2:$B$499,1,FALSE)),\"\",\"Y\")","v":""}]
[null,null,null,null,null,null,null,null,null,null,{"$f":"IF(ISNA(VLOOKUP(A44218,'(1) Project Reference Item List'!$B$2:$B$499,1,FALSE)),\"\",\"Y\")","v":""}]
[null,null,null,null,null,null,null,null,null,null,{"$f":"IF(ISNA(VLOOKUP(A44283,'(1) Project Reference Item List'!$B$2:$B$499,1,FALSE)),\"\",\"Y\")","v":""}]
[null,null,null,null,null,null,null,null,null,null,{"$f":"IF(ISNA(VLOOKUP(A44344,'(1) Project Reference Item List'!$B$2:$B$499,1,FALSE)),\"\",\"Y\")","v":""}]
[null,null,null,null,null,null,null,null,null,null,{"$f":"IF(ISNA(VLOOKUP(A44359,'(1) Project Reference Item List'!$B$2:$B$499,1,FALSE)),\"\",\"Y\")","v":""}]
[null,null,null,null,null,null,null,null,null,null,{"$f":"IF(ISNA(VLOOKUP(A44424,'(1) Project Reference Item List'!$B$2:$B$499,1,FALSE)),\"\",\"Y\")","v":""}]
[null,null,null,null,null,null,null,null,null,null,{"$f":"IF(ISNA(VLOOKUP(A44485,'(1) Project Reference Item List'!$B$2:$B$499,1,FALSE)),\"\",\"Y\")","v":""}]
[null,null,null,null,null,null,null,null,null,null,{"$f":"IF(ISNA(VLOOKUP(A44550,'(1) Project Reference Item List'!$B$2:$B$499,1,FALSE)),\"\",\"Y\")","v":""}]
[null,null,null,null,null,null,null,null,null,null,{"$f":"IF(ISNA(VLOOKUP(A44561,'(1) Project Reference Item List'!$B$2:$B$499,1,FALSE)),\"\",\"Y\")","v":""}]
[null,null,null,null,null,null,null,null,null,null,{"$f":"IF(ISNA(VLOOKUP(A44626,'(1) Project Reference Item List'!$B$2:$B$499,1,FALSE)),\"\",\"Y\")","v":""}]
[null,null,null,null,null,null,null,null,null,null,{"$f":"IF(ISNA(VLOOKUP(A44691,'(1) Project Reference Item List'!$B$2:$B$499,1,FALSE)),\"\",\"Y\")","v":""}]
[null,null,null,null,null,null,null,null,null,null,{"$f":"IF(ISNA(VLOOKUP(A44752,'(1) Project Reference Item List'!$B$2:$B$499,1,FALSE)),\"\",\"Y\")","v":""}]
[null,null,null,null,null,null,null,null,null,null,{"$f":"IF(ISNA(VLOOKUP(A44767,'(1) Project Reference Item List'!$B$2:$B$499,1,FALSE)),\"\",\"Y\")","v":""}]
[null,null,null,null,null,null,null,null,null,null,{"$f":"IF(ISNA(VLOOKUP(A44832,'(1) Project Reference Item List'!$B$2:$B$499,1,FALSE)),\"\",\"Y\")","v":""}]
[null,null,null,null,null,null,null,null,null,null,{"$f":"IF(ISNA(VLOOKUP(A44893,'(1) Project Reference Item List'!$B$2:$B$499,1,FALSE)),\"\",\"Y\")","v":""}]
[null,null,null,null,null,null,null,null,null,null,{"$f":"IF(ISNA(VLOOKUP(A44908,'(1) Project Reference Item List'!$B$2:$B$499,1,FALSE)),\"\",\"Y\")","v":""}]
[null,null,null,null,null,null,null,null,null,null,{"$f":"IF(ISNA(VLOOKUP(A44969,'(1) Project Reference Item List'!$B$2:$B$499,1,FALSE)),\"\",\"Y\")","v":""}]
[null,null,null,null,null,null,null,null,null,null,{"$f":"IF(ISNA(VLOOKUP(A45034,'(1) Project Reference Item List'!$B$2:$B$499,1,FALSE)),\"\",\"Y\")","v":""}]
[null,null,null,null,null,null,null,null,null,null,{"$f":"IF(ISNA(VLOOKUP(A45099,'(1) Project Reference Item List'!$B$2:$B$499,1,FALSE)),\"\",\"Y\")","v":""}]
[null,null,null,null,null,null,null,null,null,null,{"$f":"IF(ISNA(VLOOKUP(A45110,'(1) Project Reference Item List'!$B$2:$B$499,1,FALSE)),\"\",\"Y\")","v":""}]
[null,null,null,null,null,null,null,null,null,null,{"$f":"IF(ISNA(VLOOKUP(A45175,'(1) Project Reference Item List'!$B$2:$B$499,1,FALSE)),\"\",\"Y\")","v":""}]
[null,null,null,null,null,null,null,null,null,null,{"$f":"IF(ISNA(VLOOKUP(A45236,'(1) Project Reference Item List'!$B$2:$B$499,1,FALSE)),\"\",\"Y\")","v":""}]
[null,null,null,null,null,null,null,null,null,null,{"$f":"IF(ISNA(VLOOKUP(A45301,'(1) Project Reference Item List'!$B$2:$B$499,1,FALSE)),\"\",\"Y\")","v":""}]
[null,null,null,null,null,null,null,null,null,null,{"$f":"IF(ISNA(VLOOKUP(A45316,'(1) Project Reference Item List'!$B$2:$B$499,1,FALSE)),\"\",\"Y\")","v":""}]
[null,null,null,null,null,null,null,null,null,null,{"$f":"IF(ISNA(VLOOKUP(A45377,'(1) Project Reference Item List'!$B$2:$B$499,1,FALSE)),\"\",\"Y\")","v":""}]
[null,null,null,null,null,null,null,null,null,null,{"$f":"IF(ISNA(VLOOKUP(A45442,'(1) Project Reference Item List'!$B$2:$B$499,1,FALSE)),\"\",\"Y\")","v":""}]
[null,null,null,null,null,null,null,null,null,null,{"$f":"IF(ISNA(VLOOKUP(A45457,'(1) Project Reference Item List'!$B$2:$B$499,1,FALSE)),\"\",\"Y\")","v":""}]
[null,null,null,null,null,null,null,null,null,null,{"$f":"IF(ISNA(VLOOKUP(A45518,'(1) Project Reference Item List'!$B$2:$B$499,1,FALSE)),\"\",\"Y\")","v":""}]
[null,null,null,null,null,null,null,null,null,null,{"$f":"IF(ISNA(VLOOKUP(A45583,'(1) Project Reference Item List'!$B$2:$B$499,1,FALSE)),\"\",\"Y\")","v":""}]
[null,null,null,null,null,null,null,null,null,null,{"$f":"IF(ISNA(VLOOKUP(A45644,'(1) Project Reference Item List'!$B$2:$B$499,1,FALSE)),\"\",\"Y\")","v":""}]
[null,null,null,null,null,null,null,null,null,null,{"$f":"IF(ISNA(VLOOKUP(A45659,'(1) Project Reference Item List'!$B$2:$B$499,1,FALSE)),\"\",\"Y\")","v":""}]
[null,null,null,null,null,null,null,null,null,null,{"$f":"IF(ISNA(VLOOKUP(A45724,'(1) Project Reference Item List'!$B$2:$B$499,1,FALSE)),\"\",\"Y\")","v":""}]
[null,null,null,null,null,null,null,null,null,null,{"$f":"IF(ISNA(VLOOKUP(A45785,'(1) Project Reference Item List'!$B$2:$B$499,1,FALSE)),\"\",\"Y\")","v":""}]
[null,null,null,null,null,null,null,null,null,null,{"$f":"IF(ISNA(VLOOKUP(A45850,'(1) Project Reference Item List'!$B$2:$B$499,1,FALSE)),\"\",\"Y\")","v":""}]
[null,null,null,null,null,null,null,null,null,null,{"$f":"IF(ISNA(VLOOKUP(A45865,'(1) Project Reference Item List'!$B$2:$B$499,1,FALSE)),\"\",\"Y\")","v":""}]
[null,null,null,null,null,null,null,null,null,null,{"$f":"IF(ISNA(VLOOKUP(A45926,'(1) Project Reference Item List'!$B$2:$B$499,1,FALSE)),\"\",\"Y\")","v":""}]
[null,null,null,null,null,null,null,null,null,null,{"$f":"IF(ISNA(VLOOKUP(A45991,'(1) Project Reference Item List'!$B$2:$B$499,1,FALSE)),\"\",\"Y\")","v":""}]
[null,null,null,null,null,null,null,null,null,null,{"$f":"IF(ISNA(VLOOKUP(A46052,'(1) Project Reference Item List'!$B$2:$B$499,1,FALSE)),\"\",\"Y\")","v":""}]
[null,null,null,null,null,null,null,null,null,null,{"$f":"IF(ISNA(VLOOKUP(A46067,'(1) Project Reference Item List'!$B$2:$B$499,1,FALSE)),\"\",\"Y\")","v":""}]
[null,null,null,null,null,null,null,null,null,null,{"$f":"IF(ISNA(VLOOKUP(A46132,'(1) Project Reference Item List'!$B$2:$B$499,1,FALSE)),\"\",\"Y\")","v":""}]
[null,null,null,null,null,null,null,null,null,null,{"$f":"IF(ISNA(VLOOKUP(A46193,'(1) Project Reference Item List'!$B$2:$B$499,1,FALSE)),\"\",\"Y\")","v":""}]
[null,null,null,null,null,null,null,null,null,null,{"$f":"IF(ISNA(VLOOKUP(A46208,'(1) Project Reference Item List'!$B$2:$B$499,1,FALSE)),\"\",\"Y\")","v":""}]
[null,null,null,null,null,null,null,null,null,null,{"$f":"IF(ISNA(VLOOKUP(A46269,'(1) Project Reference Item List'!$B$2:$B$499,1,FALSE)),\"\",\"Y\")","v":""}]
[null,null,null,null,null,null,null,null,null,null,{"$f":"IF(ISNA(VLOOKUP(A46334,'(1) Project Reference Item List'!$B$2:$B$499,1,FALSE)),\"\",\"Y\")","v":""}]
[null,null,null,null,null,null,null,null,null,null,{"$f":"IF(ISNA(VLOOKUP(A46399,'(1) Project Reference Item List'!$B$2:$B$499,1,FALSE)),\"\",\"Y\")","v":""}]
[null,null,null,null,null,null,null,null,null,null,{"$f":"IF(ISNA(VLOOKUP(A46410,'(1) Project Reference Item List'!$B$2:$B$499,1,FALSE)),\"\",\"Y\")","v":""}]
[null,null,null,null,null,null,null,null,null,null,{"$f":"IF(ISNA(VLOOKUP(A46475,'(1) Project Reference Item List'!$B$2:$B$499,1,FALSE)),\"\",\"Y\")","v":""}]
[null,null,null,null,null,null,null,null,null,null,{"$f":"IF(ISNA(VLOOKUP(A46540,'(1) Project Reference Item List'!$B$2:$B$499,1,FALSE)),\"\",\"Y\")","v":""}]
[null,null,null,null,null,null,null,null,null,null,{"$f":"IF(ISNA(VLOOKUP(A46601,'(1) Project Reference Item List'!$B$2:$B$499,1,FALSE)),\"\",\"Y\")","v":""}]
[null,null,null,null,null,null,null,null,null,null,{"$f":"IF(ISNA(VLOOKUP(A46616,'(1) Project Reference Item List'!$B$2:$B$499,1,FALSE)),\"\",\"Y\")","v":""}]
[null,null,null,null,null,null,null,null,null,null,{"$f":"IF(ISNA(VLOOKUP(A46677,'(1) Project Reference Item List'!$B$2:$B$499,1,FALSE)),\"\",\"Y\")","v":""}]
[null,null,null,null,null,null,null,null,null,null,{"$f":"IF(ISNA(VLOOKUP(A46742,'(1) Project Reference Item List'!$B$2:$B$499,1,FALSE)),\"\",\"Y\")","v":""}]
[null,null,null,null,null,null,null,null,null,null,{"$f":"IF(ISNA(VLOOKUP(A46757,'(1) Project Reference Item List'!$B$2:$B$499,1,FALSE)),\"\",\"Y\")","v":""}]
[null,null,null,null,null,null,null,null,null,null,{"$f":"IF(ISNA(VLOOKUP(A46818,'(1) Project Reference Item List'!$B$2:$B$499,1,FALSE)),\"\",\"Y\")","v":""}]
[null,null,null,null,null,null,null,null,null,null,{"$f":"IF(ISNA(VLOOKUP(A46883,'(1) Project Reference Item List'!$B$2:$B$499,1,FALSE)),\"\",\"Y\")","v":""}]
[null,null,null,null,null,null,null,null,null,null,{"$f":"IF(ISNA(VLOOKUP(A46944,'(1) Project Reference Item List'!$B$2:$B$499,1,FALSE)),\"\",\"Y\")","v":""}]
[null,null,null,null,null,null,null,null,null,null,{"$f":"IF(ISNA(VLOOKUP(A46959,'(1) Project Reference Item List'!$B$2:$B$499,1,FALSE)),\"\",\"Y\")","v":""}]
[null,null,null,null,null,null,null,null,null,null,{"$f":"IF(ISNA(VLOOKUP(A47024,'(1) Project Reference Item List'!$B$2:$B$499,1,FALSE)),\"\",\"Y\")","v":""}]
[null,null,null,null,null,null,null,null,null,null,{"$f":"IF(ISNA(VLOOKUP(A47085,'(1) Project Reference Item List'!$B$2:$B$499,1,FALSE)),\"\",\"Y\")","v":""}]
[null,null,null,null,null,null,null,null,null,null,{"$f":"IF(ISNA(VLOOKUP(A47150,'(1) Project Reference Item List'!$B$2:$B$499,1,FALSE)),\"\",\"Y\")","v":""}]
[null,null,null,null,null,null,null,null,null,null,{"$f":"IF(ISNA(VLOOKUP(A47165,'(1) Project Reference Item List'!$B$2:$B$499,1,FALSE)),\"\",\"Y\")","v":""}]
[null,null,null,null,null,null,null,null,null,null,{"$f":"IF(ISNA(VLOOKUP(A47226,'(1) Project Reference Item List'!$B$2:$B$499,1,FALSE)),\"\",\"Y\")","v":""}]
[null,null,null,null,null,null,null,null,null,null,{"$f":"IF(ISNA(VLOOKUP(A47291,'(1) Project Reference Item List'!$B$2:$B$499,1,FALSE)),\"\",\"Y\")","v":""}]
[null,null,null,null,null,null,null,null,null,null,{"$f":"IF(ISNA(VLOOKUP(A47352,'(1) Project Reference Item List'!$B$2:$B$499,1,FALSE)),\"\",\"Y\")","v":""}]
[null,null,null,null,null,null,null,null,null,null,{"$f":"IF(ISNA(VLOOKUP(A47367,'(1) Project Reference Item List'!$B$2:$B$499,1,FALSE)),\"\",\"Y\")","v":""}]
[null,null,null,null,null,null,null,null,null,null,{"$f":"IF(ISNA(VLOOKUP(A47432,'(1) Project Reference Item List'!$B$2:$B$499,1,FALSE)),\"\",\"Y\")","v":""}]
[null,null,null,null,null,null,null,null,null,null,{"$f":"IF(ISNA(VLOOKUP(A47500,'(1) Project Reference Item List'!$B$2:$B$499,1,FALSE)),\"\",\"Y\")","v":""}]
[null,null,null,null,null,null,null,null,null,null,{"$f":"IF(ISNA(VLOOKUP(A47509,'(1) Project Reference Item List'!$B$2:$B$499,1,FALSE)),\"\",\"Y\")","v":""}]
[null,null,null,null,null,null,null,null,null,null,{"$f":"IF(ISNA(VLOOKUP(A47574,'(1) Project Reference Item List'!$B$2:$B$499,1,FALSE)),\"\",\"Y\")","v":""}]
[null,null,null,null,null,null,null,null,null,null,{"$f":"IF(ISNA(VLOOKUP(A47635,'(1) Project Reference Item List'!$B$2:$B$499,1,FALSE)),\"\",\"Y\")","v":""}]
[null,null,null,null,null,null,null,null,null,null,{"$f":"IF(ISNA(VLOOKUP(A47700,'(1) Project Reference Item List'!$B$2:$B$499,1,FALSE)),\"\",\"Y\")","v":""}]
[null,null,null,null,null,null,null,null,null,null,{"$f":"IF(ISNA(VLOOKUP(A47711,'(1) Project Reference Item List'!$B$2:$B$499,1,FALSE)),\"\",\"Y\")","v":""}]
[null,null,null,null,null,null,null,null,null,null,{"$f":"IF(ISNA(VLOOKUP(A47776,'(1) Project Reference Item List'!$B$2:$B$499,1,FALSE)),\"\",\"Y\")","v":""}]
[]
[]
[]
[]
[]
[]
[]
[]
[]
[]
[]
[]
[]
[]
[]
[]
[]
[]
[]
[]
[]
[]
[]
[]
[]
[]
[]
[]
[]
[]
[]
[]
[]
[]
[]
[]
[]
[]
[]
[]
[]
[]
[]
[]
[]
[]
[]
[]
[]
[]
[]
[]
[]
[]
[]
[]
[]
[]
[]
[]
[]
[]
[]
[]
[]
[]
[]
[]
[]
[]
[]
[]
[]
[]
[]
[]
[]
[]
[]
[]
[]
[]
[]
[]
[]
[]
[]
[]
[]
[]
[]
[]
[]
[]
[]
[]
[]
[]
[]
[]
[]
[]
[]
[]
[]
[]
[]
[]
[]
[]
[]
[]
[]
[]
[]
[]
[]
[]
[]
[]
[]
[]
[]
[]
[]
[]
[]
[]
[]
[]
[]
[]
[]
[]
[]
[]
[]
[]
[]
[]
[]
[]
[]
[]
[]
[]
[]
[]
[]
[]
[]
[]
[]
[]
[]
[]
[]
[]
[]
[]
[]
[]
[]
[]
[]
[]
[]
[]
[]
[]
[]
[]
[]
[]
[]
[]
[]
[]
[]
[]
[]
[]
[]
[]
[]
[]
[]
[]
[]
[]
[]
[]
[]
[]
[]
[]
[]
[]
[]
[]
[]
[]
[]
[]
[]
[]
[]
[]
[]
[]
[]
[]
[]
[]
[]
[]
[]
[]
[]
[]
[]
[]
[]
[]
[]
[]
[]
[]
[]
[]
[]
[]
[]
[]
[]
[]
[]
[]
[]
[]
[]
[]
[]
[]
[]
[]
[]
[]
[]
[]
[]
[]
[]
[]
[]
[]
[]
[]
[]
[]
[]
[]
[]
[]
[]
[]
[]
[]
[]
[]
[]
[]
[]
[]
[]
[]
[]
[]
[]
[]
[]
[]
[]
[]
[]
[]
[]
[]
[]
[]
[]
[]
[]
[]
[]
[]
[]
[]
[]
[]
[]
[]
[]
[]
[]
[]
[]
[]
[]
[]
[]
[]
[]
[]
[]
[]
[]
[]
[]
[]
[]
[]
[]
[]
[]
[]
[]
[]
[]
[]
[]
[]
[]
[]
[]
[]
[]
[]
[]
[]
[]
[]
[]
[]
[]
[]
[]
[]
[]
[]
[]
[]
[]
[]
[]
[]
[]
[]
[]
[]
[]
[]
[]
[]
[]
[]
[]
[]
[]
[]
[]
[]
[]
[]
[]
[]
[]
[]
[]
[]
[]
[]
[]
[]
[]
[]
[]
[]
[]
[]
[]
[]
[]
[]
[]
[]
[]
[]
[]
[]
[]
[]
[]
[]
[]
[]
[]
[]
[]
[]
[]
[]
[]
[]
[]
[]
[]
[]
[]
[]
[]
[]
[]
[]
[]
[]
[]
[]
[]
[]
[]
[]
[]
[]
[]
[]
[]
[]
[]
[]
[]
[]
[]
[]
[]
[]
[]
[]
[]
[]
[]
[]
[]
[]
[]
[]
[]
[]
[]
[]
[]
[]
[]
[]
[]
[]
[]
[]
[]
[]
[]
[]
[]
[]
[]
[]
[]
[]
[]
[]
[]
[]
[]
[]
[]
[]
[]
[]
[]
[]
[]
[]
[]
[]
[]
[]
[]
[]
[]
[]
[]
[]
[]
[]
[]
[]
[]
[]
[]
[]
[]
[]
[]
[]
[]
[]
[]
[]
[]
[]
[]
[]
[]
[]
[]
[]
[]
[]
[]
[]
[]
[]
[]
[]
[]
[]
[]
[]
[]
[]
[]
[]
[]
[]
[]
[]
[]
[]
[]
[]
[]
[]
[]
[]
[]
[]
[]
[]
[]
[]
[]
[]
[]
[]
[]
[]
[]
[]
[]
[]
[]
[]
[]
[]
[]
[]
[]
[]
[]
[]
[]
[]
[]
[]
[]
[]
[]
[]
[]
[]
[]
[]
[]
[]
[]
[]
[]
[]
[]
[]
[]
[]
[]
[]
[]
[]
[]
[]
[]
[]
[]
[]
[]
[]
[]
[]
[]
[]
[]
[]
[]
[]
[]
[]
[]
[]
[]
[]
[]
[]
[]
[]
[]
[]
[]
[]
[]
[]
[]
[]
[]
[]
[]
[]
[]
[]
[]
[]
[]
[]
[]
[]
[]
[]
[]
[]
[]
[]
[]
[]
[]
[]
[]
[]
[]
[]
[]
[]
[]
[]
[]
[]
[]
[]
[]
[]
[]
[]
[]
[]
[]
[]
[]
[]
[]
[]
[]
[]
[]
[]
[]
[]
[]
[]
[]
[]
[]
[]
[]
[]
[]
[]
[]
[]
[]
[]
[]
[]
[]
[]
[]
[]
[]
[]
[]
[]
[]
[]
[]
[]
[]
[]
[]
[]
[]
[]
[]
[]
[]
[]
[]
[]
[]
[]
[]
[]
[]
[]
[]
[]
[]
[]
[]
[]
[]
[]
[]
[]
[]
[]
[]
[]
[]
[]
[]
[]
[]
[]
[]
[]
[]
[]
[]
[]
[]
[]
[]
[]
[]
[]
[]
[]
[]
[]
[]
[]
[]
[]
[]
[]
[]
[]
[]
[]
[]
[]
[]
[]
[]
[]
[]
[]
[]
[]
[]
[]
[]
[]
[]
[]
[]
[]
[]
[]
[]
[]
[]
[]
[]
[]
[]
[]
[]
[]
[]
[]
[]
[]
[]
[]
[]
[]
[]
[]
[]
[]
[]
[]
[]
[]
[]
[]
[]
[]
[]
[]
[]
[]
[]
[]
[]
[]
[]
[]
[]
[]
[]
[]
[]
[]
[]
[]
[]
[]
[]
[]
[]
[]
[]
[]
[]
[]
[]
[]
[]
[]
[]
[]
[]
[]
[]
[]
[]
[]
[]
[]
[]
[]
[]
[]
[]
[]
[]
[]
[]
[]
[]
[]
[]
[]
[]
[]
[]
[]
[]
[]
[]
[]
[]
[]
[]
[]
[]
[]
[]
[]
[]
[]
[]
[]
[]
[]
[]
[]
[]
[]
[]
[]
[]
[]
[]
[]
[]
[]
[]
[]
[]
[]
[]
[]
[]
[]
[]
[]
[]
[]
[]
[]
[]
[]
[]
[]
[]
[]
[]
[]
[]
[]
[]
[]
[]
[]
[]
[]
[]
[]
[]
[]
[]
[]
[]
[]
[]
[]
[]
[]
[]
[]
[]
[]
[]
[]
[]
[]
[]
[]
[]
[]
[]
[]
[]
[]
[]
[]
[]
[]
[]
[]
[]
[]
[]
[]
[]
[]
[]
[]
[]
[]
[]
[]
[]
[]
[]
[]
[]
[]
[]
[]
[]
[]
[]
[]
[]
[]
[]
[]
[]
[]
[]
[]
[]
[]
[]
[]
[]
[]
[]
[]
[]
[]
[]
[]
[]
[]
[]
[]
[]
[]
[]
[]
[]
[]
[]
[]
[]
[]
[]
[]
[]
[]
[]
[]
[]
[]
[]
[]
[]
[]
[]
[]
[]
[]
[]
[]
[]
[]
[]
[]
[]
[]
[]
[]
[]
[]
[]
[]
[]
[]
[]
[]
[]
[]
[]
[]
[]
[]
[]
[]
[]
[]
[]
[]
[]
[]
[]
[]
[]
[]
[]
[]
[]
[]
[]
[]
[]
[]
[]
[]
[]
[]
[]
[]
[]
[]
[]
[]
[]
[]
[]
[]
[]
[]
[]
[]
[]
[]
[]
[]
[]
[]
[]
[]
[]
[]
[]
[]
[]
[]
[]
[]
[]
[]
[]
[]
[]
[]
[]
[]
[]
[]
[]
[]
[]
[]
[]
[]
[]
[]
[]
[]
[]
[]
[]
[]
[]
[]
[]
[]
[]
[]
[]
[]
[]
[]
[]
[]
[]
[]
[]
[]
[]
[]
[]
[]
[]
[]
[]
[]
[]
[]
[]
[]
[]
[]
[]
[]
[]
[]
[]
[]
[]
[]
[]
[]
[]
[]
[]
[]
[]
[]
[]
[]
[]
[]
[]
[]
[]
[]
[]
[]
[]
[]
[]
[]
[]
[]
[]
[]
[]
[]
[]
[]
[]
[]
[]
[]
[]
[]
[]
[]
[]
[]
[]
[]
[]
[]
[]
[]
[]
[]
[]
[]
[]
[]
[]
[]
[]
[]
[]
[]
[]
[]
[]
[]
[]
[]
[]
[]
[]
[]
[]
[]
[]
[]
[]
[]
[]
[]
[]
[]
[]
[]
[]
[]
[]
[]
[]
[]
[]
[]
[]
[]
[]
[]
[]
[]
[]
[]
[]
[]
[]
[]
[]
[]
[]
[]
[]
[]
[]
[]
[]
[]
[]
[]
[]
[]
[]
[]
[]
[]
[]
[]
[]
[]
[]
[]
[]
[]
[]
[]
[]
[]
[]
[]
[]
[]
[]
[]
[]
[]
[]
[]
[]
[]
[]
[]
[]
[]
[]
[]
[]
[]
[]
[]
[]
[]
[]
[]
[]
[]
[]
[]
[]
[]
[]
[]
[]
[]
[]
[]
[]
[]
[]
[]
[]
[]
[]
[]
[]
[]
[]
[]
[]
[]
[]
[]
[]
[]
[]
[]
[]
[]
[]
[]
[]
[]
[]
[]
[]
[]
[]
[]
[]
[]
[]
[]
[]
[]
[]
[]
[]
[]
[]
[]
[]
[]
[]
[]
[]
[]
[]
[]
[]
[]
[]
[]
[]
[]
[]
[]
[]
[]
[]
[]
[]
[]
[]
[]
[]
[]
[]
[]
[]
[]
[]
[]
[]
[]
[]
[]
[]
[]
[]
[]
[]
[]
[]
[]
[]
[]
[]
[]
[]
[]
[]
[]
[]
[]
[]
[]
[]
[]
[]
[]
[]
[]
[]
[]
[]
[]
[]
[]
[]
[]
[]
[]
[]
[]
[]
[]
[]
[]
[]
[]
[]
[]
[]
[]
[]
[]
[]
[]
[]
[]
[]
[]
[]
[]
[]
[]
[]
[]
[]
[]
[]
[]
[]
[]
[]
[]
[]
[]
[]
[]
[]
[]
[]
[]
[]
[]
[]
[]
[]
[]
[]
[]
[]
[]
[]
[]
[]
[]
[]
[]
[]
[]
[]
[]
[]
[]
[]
[]
[]
[]
[]
[]
[]
[]
[]
[]
[]
[]
[]
[]
[]
[]
[]
[]
[]
[]
[]
[]
[]
[]
[]
[]
[]
[]
[]
[]
[]
[]
[]
[null,null,null,null,null,null,null,null,null,null,{"$f":"IF(ISNA(VLOOKUP(A102511,'(1) Project Reference Item List'!$B$2:$B$499,1,FALSE)),\"\",\"Y\")","v":""}]